{"text_format":"1","workbook":"xlsx","n_sheets":157,"sheets":["Récapitulatif","AIT BRAHIM Abdellaziz","ALAZARD Philippe","AZRIA Aaron","BABOLEIN Clément","BARBE Logan","BARBE Philippe","BARKUT Volkan","BARTHON Aurélie","BEGHIN Benjamin","BEGHIN Nicolas","BEGUIN Jean-Luc","BELLENS Antoine","BENLAMLIH Abdelilah","BERRIER François","BETTEFORT Clémence","BETTEFORT Mickael","BETTEFORT Véronique","BLONDEL Jean","BLOUIN Nicolas","BOLLINNE Simon","BOUIGES Armelle","BOULINGUEZ Yves","BOURGOGNE Claude","BOUTON Gérard","BOZON Robert","BUTTI Bertrand","BUTTI EmIlie","CABUZEL Denis","CARON  Didier","CARON Didier","CARTIERE André","CASIER Philippe","CAVITTE Jean-Pierre","CHAIGNE Gilles","CHARLES Dominique","CHENAL Gérard","CHOUX André","COFFRE Frédéric","COLAS Gerard","CORRE Maxime","COUPLET Sébastien","COUPLET Valentin","COUSIN Francis","CREDOT Gérald","CUNIN Mickael","CYFFERS Jean Bernard","DAMONNEVILLE Blandine","DECHAMPS Enguerrand","DELAFOSSE Gilles","DELFOSSE Fabien","DELRUE Céline","DEPLECHIN Roland","DEREUDDRE Dominique","DESCLAIR Guy","DEVOS Jackie","DIEU Jean-Charles","DIOT Alain","DUBOIS Jean-Bernard","DUC Stéphane","DUCHATEAU Jean-Pierre","DUCROCQ Joël","DUFRESNOY Michel","DUHAMEL Eddy","DUHAMEL Marcellin","DUMEIGE Similien","DUMEIGE Stéphane","DURAND Jérémy","DURTETTE Daniel","DUTAILLY Michel","ESPALIEU Jean-François","FLAHAUT Ghislain","FRANCOIS  Bernard","FRANCOIS Bernard","GAMBIER Francis","GEOFFROY Florent","GERARD Mickael","GERONIMI Thierry","GRANGER Pascal","GROSS Xavier","GUERIN Astrid","GUERIN Isabelle","HAZELAERE François","HECQ Anthony","HERSELIN Jean-Claude","HERTOUX Didier","HOCHART James","HORNAIN Denis","JOLY Kenan","KERKHOF Hervé","KUZMA Régis","LALOT Gérard","LAMARQUE Yves","LANCRY  Bruno","LANCRY Bruno","LE FRIEC Daniel","LE GOHEBEL Jacques","LEBECQ Jean-Pierre","LEBORGNE Léa","LECROART Serge","LEFEBVRE Gérard","LEFEVRE Alexandre","LEFORT Pierre","LEVECQUE Jean-Bernard","LIMOSINO Jacques","LORTHIOIR Jean-Luc","MACAREZ Guy","MALET Eric","MANTEN Paul","MARTEL Bruno","MARTEL Michel","MARTIN Denis","MASSARD Patrick","MAUGER Jean-Paul","MINET Lionel","MIQUEE Florine","MONFLIER Francis","MONTADOR Christophe","MONTADOR Ludovic","MURIOT Jean-Pierre","NAHIRNYJ Alexi","NOYER Pascal","PAILLARD Bertrand","PARENT Jean-René","PARISIS Francis","PELLETIER Steeve","POINTIN Régis","POLIN Thibault","PORQUIER Gérard","RAFFY Alain","RAMET Jacques","RENAULT Marius","ROUTHIER David","ROZE Dominique","ROZE Roger","SAISON Bertrand","SAUVAGE Maxime","SCHERER Didier","SIMON Philippe","STEINMANN Sébastien","SZWARC Johann","SZWARC Patrick","TALEC Pierre","THUILLIER Jean-François","TILLIETTE Michel","TIZON Alain","TRIPLET Gilbert","TRIPLET Eddie","VACAVANT Michel","VANDEPUTTE Laurent","VANEME Sophie","VASSEUR Francis","VEREECQUE Bernard","VEREECQUE Esteban","WALGRAEF Pascal","WASYLYSZYN Jean-Pierre","ZANOTTI Michel"],"not_rendered":{"charts":0,"images":0,"macros":1,"external_links":0,"defined_names":887,"comments":0,"pivot_tables":0},"unopened":[],"bounds":{"document_bytes":16777216,"sheet_cells":100000,"rows_first":2000,"rows_last":500,"rows_between":2000,"halvings":0,"cell_chars":16384,"cell_head_chars":4096},"cells_cut":0,"cells_raw":0,"read":"whole","date_system":"1900"}

{"sheet":"Récapitulatif","index":0,"n_rows":97,"n_cols":22,"rows_kept":97,"cut":false,"hidden":false,"merged":[[0,8,1,20],[5,8,6,20],[2,8,3,20]]}
["Mois de référence pour chgt saison",8,null,null,null,null,null,null,"5 QUILLES"]
["Saison 1","2021-2022"]
["Saison 2","2022-2023",null,null,null,null,null,null,"Statistiques  R1 Ligue des Hauts de France"]
["Nb Match mini sur 2 saisons",10]
[null,"Critères pour  descente","Critères pour montée"]
["%age plancher matchs gagnés",0,0.64990000000000003,"%age plafond matchs gagnés",null,null,null,null,{"$f":"SaisonDeb & \" / \" & SaisonFin","v":"2021-2022 / 2022-2023"}]
["%age plancher sets gagnés",0,0.59989999999999999,"%age plafond sets gagnés"]
["Moyenne générale plancher",0,5,"Moyenne générale plafond"]
[]
[null,{"$f":"SaisonDeb","v":"2021-2022"},null,null,null,null,null,null,{"$f":"SaisonFin","v":"2022-2023"},null,null,null,null,null,null,"Total 2 saisons"]
[null,"Matchs",null,null,"Sets",null,null,"Moy.","Matchs",null,null,"Sets",null,null,"Moy.","Matchs",null,null,"Sets",null,null,"Moy."]
["Joueur","G","P","%age G","G","P","%age G","Gén.","G","P","%age G","G","P","%age G","Gén.","G","P","%age G","G","P","%age G","Gén."]
["AIT BRAHIM Abdellaziz",0,4,0,0,4,0,0.640625,0,0,null,0,0,null,null,0,4,0,0,4,0,0.640625]
["BABOLEIN Clément",4,8,0.33333333333333331,9,17,0.34615384615384615,0.85177304964539002,0,0,null,0,0,null,null,4,8,0.33333333333333331,9,17,0.34615384615384615,0.85177304964539002]
["BARBE Logan",0,2,0,0,2,0,0.51249999999999996,0,0,null,0,0,null,null,0,2,0,0,2,0,0.51249999999999996]
["BARBE Philippe",8,5,0.61538461538461542,13,10,0.56521739130434778,1.0917573872472783,0,0,null,0,0,null,null,8,5,0.61538461538461542,13,10,0.56521739130434778,1.0917573872472783]
["BARKUT Volkan",3,5,0.375,3,5,0.375,0.96438356164383565,0,0,null,0,0,null,null,3,5,0.375,3,5,0.375,0.96438356164383565]
["BARTHON Aurélie",2,4,0.33333333333333331,2,4,0.33333333333333331,0.67152103559870546,0,2,0,0,2,0,0.6166666666666667,2,6,0.25,2,6,0.25,0.65617715617715622]
["BENLAMLIH Abdelilah",0,0,null,0,0,null,null,0,2,0,0,2,0,0.58499999999999996,0,2,0,0,2,0,0.58499999999999996]
["BERRIER François",0,4,0,0,4,0,0.72499999999999998,1,3,0.25,1,3,0.25,0.78172588832487311,1,7,0.125,1,7,0.125,0.75314861460957183]
["BETTEFORT Clémence",3,3,0.5,7,7,0.5,0.91677175283732659,1,3,0.25,2,5,0.2857142857142857,0.87737843551797046,4,6,0.4,9,12,0.42857142857142855,0.90205371248025279]
["BETTEFORT Mickael",0,0,null,0,0,null,null,7,4,0.63636363636363635,13,8,0.61904761904761907,1.0168634064080944,7,4,0.63636363636363635,13,8,0.61904761904761907,1.0168634064080944]
["BETTEFORT Véronique",2,4,0.33333333333333331,5,9,0.35714285714285715,0.86111111111111116,6,2,0.75,8,3,0.72727272727272729,1.0288220551378446,8,6,0.5714285714285714,13,12,0.52,0.94528301886792454]
["BLONDEL Jean",0,13,0,0,13,0,0.56923076923076921,0,0,null,0,0,null,null,0,13,0,0,13,0,0.56923076923076921]
["BOUIGES Armelle",0,7,0,0,7,0,0.52738095238095239,0,0,null,0,0,null,null,0,7,0,0,7,0,0.52738095238095239]
["BOUTON Gérard",3,6,0.33333333333333331,3,6,0.33333333333333331,0.80851063829787229,4,7,0.36363636363636365,4,7,0.36363636363636365,1.0199306759098787,7,13,0.35,7,13,0.35,0.92001828153564902]
["BOZON Robert",12,4,0.75,15,5,0.75,1.2606951871657754,1,2,0.33333333333333331,1,2,0.33333333333333331,0.96439169139465875,13,6,0.68421052631578949,16,7,0.69565217391304346,1.2062193126022913]
["BUTTI EmIlie",6,10,0.375,15,23,0.39473684210526316,0.8705715635333019,3,8,0.27272727272727271,12,23,0.34285714285714286,0.94968908988128886,9,18,0.33333333333333331,27,46,0.36986301369863012,0.90658775090066912]
["CABUZEL Denis",0,0,null,0,0,null,null,3,4,0.42857142857142855,5,5,0.5,1.2210884353741496,3,4,0.42857142857142855,5,5,0.5,1.2210884353741496]
["CARON Didier",0,0,null,0,0,null,null,3,4,0.42857142857142855,4,7,0.36363636363636365,0.80300000000000005,3,4,0.42857142857142855,4,7,0.36363636363636365,0.80300000000000005]
["CARTIERE André",0,0,null,0,0,null,null,3,11,0.21428571428571427,10,23,0.30303030303030304,0.78559369724254358,3,11,0.21428571428571427,10,23,0.30303030303030304,0.78559369724254358]
["CASIER Philippe",1,11,8.3333333333333329E-2,5,22,0.18518518518518517,0.68691878487290758,0,0,null,0,0,null,null,1,11,8.3333333333333329E-2,5,22,0.18518518518518517,0.68691878487290758]
["CAVITTE Jean-Pierre",0,0,null,0,0,null,null,2,9,0.18181818181818182,2,9,0.18181818181818182,0.71175373134328357,2,9,0.18181818181818182,2,9,0.18181818181818182,0.71175373134328357]
["CHARLES Dominique",2,2,0.5,2,2,0.5,1.0820895522388059,0,0,null,0,0,null,null,2,2,0.5,2,2,0.5,1.0820895522388059]
["CHENAL Gérard",0,2,0,0,2,0,0.70416666666666672,3,8,0.27272727272727271,3,8,0.27272727272727271,0.89716599190283397,3,10,0.23076923076923078,3,10,0.23076923076923078,0.86576271186440679]
["COUSIN Francis",6,4,0.6,14,11,0.56000000000000005,1.1233933161953729,1,1,0.5,3,4,0.42857142857142855,0.92592592592592593,7,5,0.58333333333333337,17,15,0.53125,1.0750809061488673]
["CREDOT Gérald",0,0,null,0,0,null,null,0,2,0,0,2,0,0.75,0,2,0,0,2,0,0.75]
["CUNIN Mickael",0,0,null,0,0,null,null,7,5,0.58333333333333337,8,7,0.53333333333333333,1.0296296296296297,7,5,0.58333333333333337,8,7,0.53333333333333333,1.0296296296296297]
["CYFFERS Jean Bernard",2,6,0.25,5,14,0.26315789473684209,0.81372549019607843,0,0,null,0,0,null,null,2,6,0.25,5,14,0.26315789473684209,0.81372549019607843]
["DELAFOSSE Gilles",1,1,0.5,1,1,0.5,1.3131313131313131,3,4,0.42857142857142855,5,7,0.41666666666666669,1.0026595744680851,4,5,0.44444444444444442,6,8,0.42857142857142855,1.0387779083431257]
["DESCLAIR Guy",5,7,0.41666666666666669,5,9,0.35714285714285715,1.0501274426508072,9,5,0.6428571428571429,9,5,0.6428571428571429,1.0628491620111731,14,12,0.53846153846153844,14,14,0.5,1.0571100038328862]
["DIOT Alain",0,0,null,0,0,null,null,3,2,0.6,3,2,0.6,1.0544464609800364,3,2,0.6,3,2,0.6,1.0544464609800364]
["DUC Stéphane",9,8,0.52941176470588236,10,10,0.5,1.0052980132450331,9,9,0.5,11,11,0.5,1.0239346176298891,18,17,0.51428571428571423,21,21,0.5,1.0152032268073223]
["DUCHATEAU Jean-Pierre",0,0,null,0,0,null,null,0,3,0,0,3,0,0.75555555555555554,0,3,0,0,3,0,0.75555555555555554]
["DUCROCQ Joël",4,1,0.8,9,4,0.69230769230769229,1.2923076923076924,3,4,0.42857142857142855,9,8,0.52941176470588236,0.91785323110624317,7,5,0.58333333333333337,18,12,0.6,1.0640000000000001]
["DUHAMEL Marcellin",3,4,0.42857142857142855,8,10,0.44444444444444442,0.89145052833813643,1,1,0.5,1,1,0.5,1.0163043478260869,4,5,0.44444444444444442,9,11,0.45,0.91020408163265309]
["DUTAILLY Michel",4,4,0.5,4,4,0.5,1.0013513513513514,0,0,null,0,0,null,null,4,4,0.5,4,4,0.5,1.0013513513513514]
["ESPALIEU Jean-François",0,0,null,0,0,null,null,0,2,0,0,2,0,0.8,0,2,0,0,2,0,0.8]
["FLAHAUT Ghislain",2,9,0.18181818181818182,9,18,0.33333333333333331,0.84885204081632648,0,0,null,0,0,null,null,2,9,0.18181818181818182,9,18,0.33333333333333331,0.84885204081632648]
["FRANCOIS Bernard",0,0,null,0,0,null,null,4,7,0.36363636363636365,17,21,0.44736842105263158,0.92,4,7,0.36363636363636365,17,21,0.44736842105263158,0.92]
["GERARD Mickael",0,0,null,0,0,null,null,1,1,0.5,1,1,0.5,0.86440677966101698,1,1,0.5,1,1,0.5,0.86440677966101698]
["GERONIMI Thierry",0,0,null,0,0,null,null,2,1,0.66666666666666663,2,1,0.66666666666666663,0.98,2,1,0.66666666666666663,2,1,0.66666666666666663,0.98]
["GRANGER Pascal",0,0,null,0,0,null,null,13,6,0.68421052631578949,15,8,0.65217391304347827,1.2314141978759083,13,6,0.68421052631578949,15,8,0.65217391304347827,1.2314141978759083]
["GUERIN Astrid",8,5,0.61538461538461542,18,12,0.6,1.2620056497175141,0,0,null,0,0,null,null,8,5,0.61538461538461542,18,12,0.6,1.2620056497175141]
["GUERIN Isabelle",1,5,0.16666666666666666,4,11,0.26666666666666666,0.79251336898395719,0,0,null,0,0,null,null,1,5,0.16666666666666666,4,11,0.26666666666666666,0.79251336898395719]
["HAZELAERE François",1,3,0.25,1,3,0.25,1.0900000000000001,0,0,null,0,0,null,null,1,3,0.25,1,3,0.25,1.0900000000000001]
["HERTOUX Didier",10,4,0.7142857142857143,12,8,0.6,0.99437500000000001,15,7,0.68181818181818177,22,13,0.62857142857142856,1.099095394736842,25,11,0.69444444444444442,34,21,0.61818181818181817,1.0575396825396826]
["HOCHART James",9,8,0.52941176470588236,11,10,0.52380952380952384,1.0283251231527093,14,6,0.7,21,11,0.65625,1.120844327176781,23,14,0.6216216216216216,32,21,0.60377358490566035,1.0781472009093493]
["KERKHOF Hervé",11,5,0.6875,14,8,0.63636363636363635,1.16290212183436,2,1,0.66666666666666663,2,1,0.66666666666666663,1.4433497536945812,13,6,0.68421052631578949,16,9,0.64,1.1971153846153846]
["KUZMA Régis",0,0,null,0,0,null,null,2,4,0.33333333333333331,7,8,0.46666666666666667,0.96015936254980083,2,4,0.33333333333333331,7,8,0.46666666666666667,0.96015936254980083]
["LAMARQUE Yves",6,6,0.5,7,8,0.46666666666666667,1.0652528548123981,6,11,0.35294117647058826,7,13,0.35,0.93152117093570308,12,17,0.41379310344827586,14,21,0.4,0.9837527875119465]
["LANCRY  Bruno",0,0,null,0,0,null,null,14,2,0.875,29,9,0.76315789473684215,1.402572347266881,14,2,0.875,29,9,0.76315789473684215,1.402572347266881]
["LANCRY Bruno",0,0,null,0,0,null,null,4,0,1,8,1,0.88888888888888884,1.6246056782334384,4,0,1,8,1,0.88888888888888884,1.6246056782334384]
["LE GOHEBEL Jacques",1,10,9.0909090909090912E-2,1,10,9.0909090909090912E-2,0.7975746268656716,8,10,0.44444444444444442,10,13,0.43478260869565216,0.95265259555048487,9,20,0.31034482758620691,11,23,0.3235294117647059,0.89380530973451322]
["LEBORGNE Léa",0,0,null,0,0,null,null,1,3,0.25,3,5,0.375,1.0080971659919029,1,3,0.25,3,5,0.375,1.0080971659919029]
["LECROART Serge",4,5,0.44444444444444442,4,5,0.44444444444444442,0.95443349753694584,10,2,0.83333333333333337,10,2,0.83333333333333337,1.1752577319587629,14,7,0.66666666666666663,14,7,0.66666666666666663,1.074635241301908]
["LEFEVRE Alexandre",0,0,null,0,0,null,null,10,1,0.91,25,9,0.74,1.35,10,1,0.91,25,9,0.74,1.35]
["LEVECQUE Jean-Bernard",0,0,null,0,0,null,null,1,3,0.25,1,3,0.25,0.79733333333333334,1,3,0.25,1,3,0.25,0.79733333333333334]
["LIMOSINO Jacques",1,1,0.5,2,2,0.5,0.7410714285714286,0,2,0,0,4,0,0.71250000000000002,1,3,0.25,2,6,0.25,0.72629310344827591]
["LORTHIOIR Jean-Luc",12,11,0.52173913043478259,18,15,0.54545454545454541,1.0230547550432276,0,0,null,0,0,null,null,12,11,0.52173913043478259,18,15,0.54545454545454541,1.0230547550432276]
["MACAREZ Guy",2,3,0.4,2,3,0.4,0.85779816513761464,3,7,0.3,3,7,0.3,0.78727841501564133,5,10,0.33333333333333331,5,10,0.33333333333333331,0.80931899641577065]
["MANTEN Paul",2,3,0.4,2,3,0.4,1.0233100233100234,0,2,0,0,2,0,0.89500000000000002,2,5,0.2857142857142857,2,5,0.2857142857142857,0.98251192368839424]
["MARTIN Denis",0,2,0,0,2,0,0.73333333333333328,0,0,null,0,0,null,null,0,2,0,0,2,0,0.73333333333333328]
["MASSARD Patrick",2,4,0.33333333333333331,2,4,0.33333333333333331,0.93481717011128773,4,5,0.44444444444444442,4,5,0.44444444444444442,0.89577187807276304,6,9,0.4,6,9,0.4,0.9106925880923451]
["MAUGER Jean-Paul",3,1,0.75,3,1,0.75,1.4213649851632046,1,2,0.33333333333333331,1,2,0.33333333333333331,0.99358974358974361,4,3,0.5714285714285714,4,3,0.5714285714285714,1.2157164869029276]
["MINET Lionel",0,0,null,0,0,null,null,10,6,0.625,21,20,0.51219512195121952,1.027355623100304,10,6,0.625,21,20,0.51219512195121952,1.027355623100304]
["MONFLIER Francis",4,3,0.5714285714285714,4,3,0.5714285714285714,0.97394136807817588,0,0,null,0,0,null,null,4,3,0.5714285714285714,4,3,0.5714285714285714,0.97394136807817588]
["MURIOT Jean-Pierre",0,2,0,0,2,0,0.53749999999999998,5,2,0.7142857142857143,5,2,0.7142857142857143,1.0880758807588076,5,4,0.55555555555555558,5,4,0.55555555555555558,0.95296523517382414]
["NAHIRNYJ Alexi",10,5,0.66666666666666663,14,7,0.66666666666666663,1.2207702888583218,16,6,0.72727272727272729,20,9,0.68965517241379315,1.1764705882352942,26,11,0.70270270270270274,34,16,0.68,1.1938885884261763]
["NOYER Pascal",6,5,0.54545454545454541,6,5,0.54545454545454541,1.0689655172413792,5,5,0.5,5,5,0.5,0.97111111111111115,11,10,0.52380952380952384,11,10,0.52380952380952384,1.0215401184706516]
["PAILLARD Bertrand",0,0,null,0,0,null,null,9,4,0.69230769230769229,12,7,0.63157894736842102,1.0981996726677579,9,4,0.69230769230769229,12,7,0.63157894736842102,1.0981996726677579]
["PARENT Jean-René",3,5,0.375,3,5,0.375,0.81233243967828417,5,8,0.38461538461538464,8,10,0.44444444444444442,1.0548054011119936,8,13,0.38095238095238093,11,15,0.42307692307692307,0.96458852867830425]
["PELLETIER Steeve",0,0,null,0,0,null,null,1,8,0.1111111111111111,1,8,0.1111111111111111,0.60408921933085502,1,8,0.1111111111111111,1,8,0.1111111111111111,0.60408921933085502]
["PORQUIER Gérard",0,0,null,0,0,null,null,0,2,0,0,2,0,0.68333333333333335,0,2,0,0,2,0,0.68333333333333335]
["RAFFY Alain",0,0,null,0,0,null,null,0,2,0,0,2,0,0.70833333333333337,0,2,0,0,2,0,0.70833333333333337]
["RAMET Jacques",2,8,0.2,9,15,0.375,0.88446824789594491,0,2,0,0,4,0,0.57499999999999996,2,10,0.16666666666666666,9,19,0.32142857142857145,0.83645765998707178]
["ROUTHIER David",3,2,0.6,9,7,0.5625,1.0094451003541913,0,0,null,0,0,null,null,3,2,0.6,9,7,0.5625,1.0094451003541913]
["ROZE Dominique",3,0,1,6,0,1,1.1242937853107344,2,2,0.5,6,6,0.5,0.86403508771929827,5,2,0.7142857142857143,12,6,0.66666666666666663,0.95279383429672448]
["ROZE Roger",0,1,0,0,2,0,0.55833333333333335,0,0,null,0,0,null,null,0,1,0,0,2,0,0.55833333333333335]
["SCHERER Didier",0,0,null,0,0,null,null,5,8,0.38461538461538464,14,21,0.4,0.87447033898305082,5,8,0.38461538461538464,14,21,0.4,0.87447033898305082]
["SZWARC Johann",3,8,0.27272727272727271,3,8,0.27272727272727271,0.81377303588748784,9,5,0.6428571428571429,10,7,0.58823529411764708,1.1722408026755853,12,13,0.48,13,15,0.4642857142857143,1.0062864840592725]
["SZWARC Patrick",2,2,0.5,2,2,0.5,1.338235294117647,0,0,null,0,0,null,null,2,2,0.5,2,2,0.5,1.338235294117647]
["TILLIETTE Michel",0,0,null,0,0,null,null,5,8,0.38461538461538464,17,18,0.48571428571428571,0.97027481772293889,5,8,0.38461538461538464,17,18,0.48571428571428571,0.97027481772293889]
["TIZON Alain",4,0,1,8,0,1,1.4414414414414414,0,0,null,0,0,null,null,4,0,1,8,0,1,1.4414414414414414]
["TRIPLET Eddie",0,6,0,1,12,7.6923076923076927E-2,0.64432989690721654,0,0,null,0,0,null,null,0,6,0,1,12,7.6923076923076927E-2,0.64432989690721654]
["WALGRAEF Pascal",3,2,0.6,3,2,0.6,0.96659242761692654,0,0,null,0,0,null,null,3,2,0.6,3,2,0.6,0.96659242761692654]
["ZANOTTI Michel",0,0,null,0,0,null,null,10,11,0.47619047619047616,12,13,0.48,0.98912097476066141,10,11,0.47619047619047616,12,13,0.48,0.98912097476066141]

{"sheet":"AIT BRAHIM Abdellaziz","index":1,"n_rows":20,"n_cols":22,"rows_kept":20,"cut":false,"hidden":false,"merged":[]}
["AIT BRAHIM Abdellaziz",null,null,null,null,null,null,null,null,null,null,null,null,null,null,{"$f":"SaisonDeb","v":"2021-2022"},null,{"$f":"SaisonFin","v":"2022-2023"},null,"Toutes saisons"]
[{"$error":"#N/A"},null,null,null,null,null,null,null,null,null,null,null,null,null,null,"Nombre","%age","Nombre","%age","Nombre","%age"]
[{"$error":"#N/A"},null,null,null,null,null,null,null,null,null,null,null,null,"Matchs","Gagnés",{"$f":"SUM(P$15:P$116)","v":0},{"$f":"IF(P$3+P$4>0,P3/(P$3+P$4),\"\")","v":0},{"$f":"SUM(R$15:R$116)","v":0},{"$f":"IF(R$3+R$4>0,R3/(R$3+R$4),\"\")","v":""},{"$f":"COUNTIF($C$15:$C$116,\"G\")","v":0},{"$f":"IF(T$3+T$4>0,T3/(T$3+T$4),\"\")","v":0}]
[{"$error":"#N/A"},null,null,null,null,null,null,null,null,null,null,null,null,null,"Perdus",{"$f":"COUNTIF($K$15:$M$116,SaisonDeb)-P3","v":4},{"$f":"IF(P$3+P$4>0,P4/(P$3+P$4),\"\")","v":1},{"$f":"COUNTIF($K$15:$K$116,SaisonFin)-R3","v":0},{"$f":"IF(R$3+R$4>0,R4/(R$3+R$4),\"\")","v":""},{"$f":"COUNTIF($C$15:$C$116,\"P\")","v":4},{"$f":"IF(T$3+T$4>0,T4/(T$3+T$4),\"\")","v":1}]
[{"$error":"#N/A"},null,null,null,null,null,null,null,null,null,null,null,null,null,"Total / Moy.",{"$f":"SUM(P3:P4)","v":4},{"$f":"IF(SUMIF($K$15:$K$116,SaisonDeb,$G$15:$G$116)>0,SUMIF($K$15:$K$116,SaisonDeb,$F$15:$F$116)/SUMIF($K$15:$K$116,SaisonDeb,$G$15:$G$116),\"\")","v":0.640625},{"$f":"SUM(R3:R4)","v":0},{"$f":"IF(SUMIF($K$15:$K$116,SaisonFin,$G$15:$G$116)>0,SUMIF($K$15:$K$116,SaisonFin,$F$15:$F$116)/SUMIF($K$15:$K$116,SaisonFin,$G$15:$G$116),\"\")","v":""},{"$f":"SUM(T3:T4)","v":4},{"$f":"IF(SUM($G$15:$G$116)>0,SUM($F$15:$F$116)/SUM($G$15:$G$116),\"\")","v":0.640625},{"$f":"IF(SUMIF($K$15:$K$20,SaisonDeb,$G$15:$G$20)+SUMIF($K$15:$K$20,SaisonFin,$G$15:$G$20)>0,(SUMIF($K$15:$K$20,SaisonDeb,$F$15:$F$20)+SUMIF($K$15:$K$20,SaisonFin,$F$15:$F$20))/(SUMIF($K$15:$K$20,SaisonDeb,$G$15:$G$20)+SUMIF($K$15:$K$20,SaisonFin,$G$15:$G$20)),\"\")","v":0.640625}]
[null,null,null,null,null,null,null,null,null,null,null,null,null,"Sets","Gagnés",{"$f":"SUMIF($K$15:$K$116,SaisonDeb,$D$15:$D$116)","v":0},{"$f":"IF(P$6+P$7>0,P6/(P$6+P$7),\"\")","v":0},{"$f":"SUMIF($K$15:$K$116,SaisonFin,$D$15:$D$116)","v":0},{"$f":"IF(R$6+R$7>0,R6/(R$6+R$7),\"\")","v":""},{"$f":"SUM($D$15:$D$116)","v":0},{"$f":"IF(T$6+T$7>0,T6/(T$6+T$7),\"\")","v":0}]
[null,null,null,null,null,null,null,null,null,null,null,null,null,null,"Perdus",{"$f":"SUMIF($K$15:$K$116,SaisonDeb,$E$15:$E$116)","v":4},{"$f":"IF(P$6+P$7>0,P7/(P$6+P$7),\"\")","v":1},{"$f":"SUMIF($K$15:$K$116,SaisonFin,$E$15:$E$116)","v":0},{"$f":"IF(R$6+R$7>0,R7/(R$6+R$7),\"\")","v":""},{"$f":"SUM($E$15:$E$116)","v":4},{"$f":"IF(T$6+T$7>0,T7/(T$6+T$7),\"\")","v":1}]
["Récapitulatif joueurs",null,null,null,null,null,null,null,null,null,null,null,null,null,"Total",{"$f":"SUM(P6:P7)","v":4},null,{"$f":"SUM(R6:R7)","v":0},null,{"$f":"SUM(T6:T7)","v":4}]
[]
[]
[]
[]
[]
[]
["Joueur","Adversaire","G/P","Sets gagnés","Sets perdus","pts marqués","pts subis","Date","Compétition","Phase","Saison"]
["AIT BRAHIM Abdellaziz","JOLY Kenan","P",0,1,79,80,"2021-10-16","T1 5Q R1 CD80 - MOREUIL","Qualifications",{"$f":"IF(H16<>\"\",IF(MONTH(H16)>MoisRef,YEAR(H16)&\"-\"&YEAR(H16)+1,YEAR(H16)-1&\"-\"&YEAR(H16)),\"\")","v":"2021-2022"},null,null,null,null,{"$f":"IF($K16=P$1,COUNTIF($C16,\"G\"),0)","v":0},null,{"$f":"IF($K16=R$1,COUNTIF($C16,\"G\"),0)","v":0}]
["AIT BRAHIM Abdellaziz","DUHAMEL Marcellin","P",0,1,54,80,"2021-10-16","T1 5Q R1 CD80 - MOREUIL","Qualifications",{"$f":"IF(H17<>\"\",IF(MONTH(H17)>MoisRef,YEAR(H17)&\"-\"&YEAR(H17)+1,YEAR(H17)-1&\"-\"&YEAR(H17)),\"\")","v":"2021-2022"},null,null,null,null,{"$f":"IF($K17=P$1,COUNTIF($C17,\"G\"),0)","v":0},null,{"$f":"IF($K17=R$1,COUNTIF($C17,\"G\"),0)","v":0}]
["AIT BRAHIM Abdellaziz","ROUTHIER David","P",0,1,36,80,"2021-12-18","T2 5Q R1 CD80 - MOREUIL","Qualifications",{"$f":"IF(H18<>\"\",IF(MONTH(H18)>MoisRef,YEAR(H18)&\"-\"&YEAR(H18)+1,YEAR(H18)-1&\"-\"&YEAR(H18)),\"\")","v":"2021-2022"},null,null,null,null,{"$f":"IF($K18=P$1,COUNTIF($C18,\"G\"),0)","v":0},null,{"$f":"IF($K18=R$1,COUNTIF($C18,\"G\"),0)","v":0}]
["AIT BRAHIM Abdellaziz","JOLY Kenan","P",0,1,36,80,"2021-12-18","T2 5Q R1 CD80 - MOREUIL","Qualifications",{"$f":"IF(H19<>\"\",IF(MONTH(H19)>MoisRef,YEAR(H19)&\"-\"&YEAR(H19)+1,YEAR(H19)-1&\"-\"&YEAR(H19)),\"\")","v":"2021-2022"},null,null,null,null,{"$f":"IF($K19=P$1,COUNTIF($C19,\"G\"),0)","v":0},null,{"$f":"IF($K19=R$1,COUNTIF($C19,\"G\"),0)","v":0}]
["Fin des données",null,null,null,null,null,null,null,null,null,{"$f":"IF(H20<>\"\",IF(MONTH(H20)>MoisRef,YEAR(H20)&\"-\"&YEAR(H20)+1,YEAR(H20)-1&\"-\"&YEAR(H20)),\"\")","v":""},null,null,null,null,{"$f":"IF($K20=P$1,COUNTIF($C20,\"G\"),0)","v":0},null,{"$f":"IF($K20=R$1,COUNTIF($C20,\"G\"),0)","v":0}]

{"sheet":"ALAZARD Philippe","index":2,"n_rows":41,"n_cols":22,"rows_kept":41,"cut":false,"hidden":false,"merged":[]}
["ALAZARD Philippe",null,null,null,null,null,null,null,null,null,null,null,null,null,null,{"$f":"SaisonDeb","v":"2021-2022"},null,{"$f":"SaisonFin","v":"2022-2023"},null,"Toutes saisons"]
[{"$error":"#N/A"},null,null,null,null,null,null,null,null,null,null,null,null,null,null,"Nombre","%age","Nombre","%age","Nombre","%age"]
[{"$error":"#N/A"},null,null,null,null,null,null,null,null,null,null,null,null,"Matchs","Gagnés",{"$f":"SUM(P$15:P$137)","v":0},{"$f":"IF(P$3+P$4>0,P3/(P$3+P$4),\"\")","v":""},{"$f":"SUM(R$15:R$137)","v":0},{"$f":"IF(R$3+R$4>0,R3/(R$3+R$4),\"\")","v":""},{"$f":"COUNTIF($C$15:$C$137,\"G\")","v":18},{"$f":"IF(T$3+T$4>0,T3/(T$3+T$4),\"\")","v":0.72}]
[{"$error":"#N/A"},null,null,null,null,null,null,null,null,null,null,null,null,null,"Perdus",{"$f":"COUNTIF($K$15:$M$137,SaisonDeb)-P3","v":0},{"$f":"IF(P$3+P$4>0,P4/(P$3+P$4),\"\")","v":""},{"$f":"COUNTIF($K$15:$K$137,SaisonFin)-R3","v":0},{"$f":"IF(R$3+R$4>0,R4/(R$3+R$4),\"\")","v":""},{"$f":"COUNTIF($C$15:$C$137,\"P\")","v":7},{"$f":"IF(T$3+T$4>0,T4/(T$3+T$4),\"\")","v":0.28000000000000003}]
[{"$error":"#N/A"},null,null,null,null,null,null,null,null,null,null,null,null,null,"Total / Moy.",{"$f":"SUM(P3:P4)","v":0},{"$f":"IF(SUMIF($K$15:$K$137,SaisonDeb,$G$15:$G$137)>0,SUMIF($K$15:$K$137,SaisonDeb,$F$15:$F$137)/SUMIF($K$15:$K$137,SaisonDeb,$G$15:$G$137),\"\")","v":""},{"$f":"SUM(R3:R4)","v":0},{"$f":"IF(SUMIF($K$15:$K$137,SaisonFin,$G$15:$G$137)>0,SUMIF($K$15:$K$137,SaisonFin,$F$15:$F$137)/SUMIF($K$15:$K$137,SaisonFin,$G$15:$G$137),\"\")","v":""},{"$f":"SUM(T3:T4)","v":25},{"$f":"IF(SUM($G$15:$G$137)>0,SUM($F$15:$F$137)/SUM($G$15:$G$137),\"\")","v":1.3976076555023924},{"$f":"IF(SUMIF($K$15:$K$41,SaisonDeb,$G$15:$G$41)+SUMIF($K$15:$K$41,SaisonFin,$G$15:$G$41)>0,(SUMIF($K$15:$K$41,SaisonDeb,$F$15:$F$41)+SUMIF($K$15:$K$41,SaisonFin,$F$15:$F$41))/(SUMIF($K$15:$K$41,SaisonDeb,$G$15:$G$41)+SUMIF($K$15:$K$41,SaisonFin,$G$15:$G$41)),\"\")","v":""}]
[null,null,null,null,null,null,null,null,null,null,null,null,null,"Sets","Gagnés",{"$f":"SUMIF($K$15:$K$137,SaisonDeb,$D$15:$D$137)","v":0},{"$f":"IF(P$6+P$7>0,P6/(P$6+P$7),\"\")","v":""},{"$f":"SUMIF($K$15:$K$137,SaisonFin,$D$15:$D$137)","v":0},{"$f":"IF(R$6+R$7>0,R6/(R$6+R$7),\"\")","v":""},{"$f":"SUM($D$15:$D$137)","v":33},{"$f":"IF(T$6+T$7>0,T6/(T$6+T$7),\"\")","v":0.67346938775510201}]
[null,null,null,null,null,null,null,null,null,null,null,null,null,null,"Perdus",{"$f":"SUMIF($K$15:$K$137,SaisonDeb,$E$15:$E$137)","v":0},{"$f":"IF(P$6+P$7>0,P7/(P$6+P$7),\"\")","v":""},{"$f":"SUMIF($K$15:$K$137,SaisonFin,$E$15:$E$137)","v":0},{"$f":"IF(R$6+R$7>0,R7/(R$6+R$7),\"\")","v":""},{"$f":"SUM($E$15:$E$137)","v":16},{"$f":"IF(T$6+T$7>0,T7/(T$6+T$7),\"\")","v":0.32653061224489793}]
["Récapitulatif joueurs",null,null,null,null,null,null,null,null,null,null,null,null,null,"Total",{"$f":"SUM(P6:P7)","v":0},null,{"$f":"SUM(R6:R7)","v":0},null,{"$f":"SUM(T6:T7)","v":49}]
[]
[]
[]
[]
[]
[]
["Joueur","Adversaire","G/P","Sets gagnés","Sets perdus","pts marqués","pts subis","Date","Compétition","Phase","Saison"]
["ALAZARD Philippe","BOUIGES Armelle","G",2,0,120,52,"2018-11-24","5 Q - T 3 OISE 2018-19 - R 1 - TOURNOI PRINCIPAL  - MERU","Qualifications",{"$f":"IF(H16<>\"\",IF(MONTH(H16)>MoisRef,YEAR(H16)&\"-\"&YEAR(H16)+1,YEAR(H16)-1&\"-\"&YEAR(H16)),\"\")","v":"2018-2019"},null,null,null,null,{"$f":"IF($K16=P$1,COUNTIF($C16,\"G\"),0)","v":0},null,{"$f":"IF($K16=R$1,COUNTIF($C16,\"G\"),0)","v":0}]
["ALAZARD Philippe","BOZON Robert","G",2,1,167,162,"2018-11-24","5 Q - T 3 OISE 2018-19 - R 1 - TOURNOI PRINCIPAL  - MERU","1/4 Finale","2018-2019",null,null,null,null,0,null,0]
["ALAZARD Philippe","LALOT Gérard","P",0,2,74,120,"2018-11-24","5 Q - T 3 OISE 2018-19 - R 1 - TOURNOI PRINCIPAL  - MERU","1/2 Finale","2018-2019",null,null,null,null,0,null,0]
["ALAZARD Philippe","VANDEPUTTE Laurent","G",2,0,120,82,"2018-11-24","5 Q - T 3 OISE 2018-19 - R 1 - TOURNOI PRINCIPAL  - MERU","Qualifications","2018-2019",null,null,null,null,0,null,0]
["ALAZARD Philippe","LALOT Gérard","G",2,0,120,68,"2019-01-19","5 Q - T 4 OISE 2018-19 - R 1 - TOURNOI PRINCIPAL  - CHAMBLY","1/2 Finale","2018-2019",null,null,null,null,0,null,0]
["ALAZARD Philippe","LAMARQUE Yves","G",2,0,120,31,"2019-01-19","5 Q - T 4 OISE 2018-19 - R 1 - TOURNOI PRINCIPAL  - CHAMBLY","Qualifications","2018-2019",null,null,null,null,0,null,0]
["ALAZARD Philippe","STEINMANN Sébastien","P",1,2,121,141,"2019-01-19","5 Q - T 4 OISE 2018-19 - R 1 - TOURNOI PRINCIPAL  - CHAMBLY","Qualifications","2018-2019",null,null,null,null,0,null,0]
["ALAZARD Philippe","STEINMANN Sébastien","P",0,2,82,120,"2019-01-19","5 Q - T 4 OISE 2018-19 - R 1 - TOURNOI PRINCIPAL  - CHAMBLY","Finale","2018-2019",null,null,null,null,0,null,0]
["ALAZARD Philippe","BOURGOGNE Claude","P",0,2,85,120,"2019-10-19","CD60  R1 - T1 - Tour Principal - BEAUVAIS","Finale","2019-2020",null,null,null,null,0,null,0]
["ALAZARD Philippe","DESCLAIR Guy","G",2,1,173,102,"2019-10-19","CD60  R1 - T1 - Tour Principal - BEAUVAIS","Qualifications","2019-2020",null,null,null,null,0,null,0]
["ALAZARD Philippe","HERTOUX Didier","G",2,1,171,147,"2019-10-19","CD60  R1 - T1 - Tour Principal - BEAUVAIS","Qualifications","2019-2020",null,null,null,null,0,null,0]
["ALAZARD Philippe","HERTOUX Didier","G",2,0,120,79,"2019-10-19","CD60  R1 - T1 - Tour Principal - BEAUVAIS","1/4 Finale","2019-2020",null,null,null,null,0,null,0]
["ALAZARD Philippe","MAUGER Jean-Paul","G",2,0,120,79,"2019-10-19","CD60  R1 - T1 - Tour Principal - BEAUVAIS","1/2 Finale","2019-2020",null,null,null,null,0,null,0]
["ALAZARD Philippe","BARTHON Aurélie","G",1,0,100,12,"2020-01-11","CD60  R1 - T3 - Tour Principal - CREPY","Qualifications","2019-2020",null,null,null,null,0,null,0]
["ALAZARD Philippe","BOUIGES Armelle","G",1,0,100,36,"2020-01-11","CD60  R1 - T3 - Tour Principal - CREPY","Qualifications","2019-2020",null,null,null,null,0,null,0]
["ALAZARD Philippe","LE FRIEC Daniel","P",0,1,81,100,"2020-01-11","CD60  R1 - T3 - Tour Principal - CREPY","1/4 Finale","2019-2020",null,null,null,null,0,null,0]
["ALAZARD Philippe","BOUIGES Armelle","G",1,0,100,34,"2020-02-15","CD60  R1 - T 4 - Tour Principal - SENLIS","Qualifications","2019-2020",null,null,null,null,0,null,0]
["ALAZARD Philippe","CHENAL Gérard","P",0,1,86,100,"2020-02-15","CD60  R1 - T 4 - Tour Principal - SENLIS","Qualifications","2019-2020",null,null,null,null,0,null,0]
["ALAZARD Philippe","CHENAL Gérard","G",1,0,100,63,"2020-02-15","CD60  R1 - T 4 - Tour Principal - SENLIS","1/4 Finale","2019-2020",null,null,null,null,0,null,0]
["ALAZARD Philippe","LE FRIEC Daniel","P",0,1,78,100,"2020-02-15","CD60  R1 - T 4 - Tour Principal - SENLIS","1/2 Finale","2019-2020",null,null,null,null,0,null,0]
["ALAZARD Philippe","BARTHON Aurélie","G",2,0,120,28,"2019-11-23","CD60  R1 - T2 - Tour Principal - MERU","Qualifications","2019-2020",null,null,null,null,0,null,0]
["ALAZARD Philippe","BOZON Robert","G",2,0,120,24,"2019-11-23","CD60  R1 - T2 - Tour Principal - MERU","Qualifications","2019-2020",null,null,null,null,0,null,0]
["ALAZARD Philippe","DESCLAIR Guy","G",2,1,151,138,"2019-11-23","CD60  R1 - T2 - Tour Principal - MERU","Finale","2019-2020",null,null,null,null,0,null,0]
["ALAZARD Philippe","LAMARQUE Yves","G",2,1,172,116,"2019-11-23","CD60  R1 - T2 - Tour Principal - MERU","1/2 Finale","2019-2020",null,null,null,null,0,null,0]
["ALAZARD Philippe","MURIOT Jean-Pierre","G",2,0,120,36,"2019-11-23","CD60  R1 - T2 - Tour Principal - MERU","1/4 Finale","2019-2020",null,null,null,null,0,null,0]
["Fin des données",null,null,null,null,null,null,null,null,null,"",null,null,null,null,{"$f":"IF($K41=P$1,COUNTIF($C41,\"G\"),0)","v":0},null,{"$f":"IF($K41=R$1,COUNTIF($C41,\"G\"),0)","v":0}]

{"sheet":"AZRIA Aaron","index":3,"n_rows":22,"n_cols":22,"rows_kept":22,"cut":false,"hidden":false,"merged":[]}
["AZRIA Aaron",null,null,null,null,null,null,null,null,null,null,null,null,null,null,{"$f":"SaisonDeb","v":"2021-2022"},null,{"$f":"SaisonFin","v":"2022-2023"},null,"Toutes saisons"]
[{"$error":"#N/A"},null,null,null,null,null,null,null,null,null,null,null,null,null,null,"Nombre","%age","Nombre","%age","Nombre","%age"]
[{"$error":"#N/A"},null,null,null,null,null,null,null,null,null,null,null,null,"Matchs","Gagnés",{"$f":"SUM(P$15:P$118)","v":0},{"$f":"IF(P$3+P$4>0,P3/(P$3+P$4),\"\")","v":""},{"$f":"SUM(R$15:R$118)","v":0},{"$f":"IF(R$3+R$4>0,R3/(R$3+R$4),\"\")","v":""},{"$f":"COUNTIF($C$15:$C$118,\"G\")","v":0},{"$f":"IF(T$3+T$4>0,T3/(T$3+T$4),\"\")","v":0}]
[{"$error":"#N/A"},null,null,null,null,null,null,null,null,null,null,null,null,null,"Perdus",{"$f":"COUNTIF($K$15:$M$118,SaisonDeb)-P3","v":0},{"$f":"IF(P$3+P$4>0,P4/(P$3+P$4),\"\")","v":""},{"$f":"COUNTIF($K$15:$K$118,SaisonFin)-R3","v":0},{"$f":"IF(R$3+R$4>0,R4/(R$3+R$4),\"\")","v":""},{"$f":"COUNTIF($C$15:$C$118,\"P\")","v":6},{"$f":"IF(T$3+T$4>0,T4/(T$3+T$4),\"\")","v":1}]
[{"$error":"#N/A"},null,null,null,null,null,null,null,null,null,null,null,null,null,"Total / Moy.",{"$f":"SUM(P3:P4)","v":0},{"$f":"IF(SUMIF($K$15:$K$118,SaisonDeb,$G$15:$G$118)>0,SUMIF($K$15:$K$118,SaisonDeb,$F$15:$F$118)/SUMIF($K$15:$K$118,SaisonDeb,$G$15:$G$118),\"\")","v":""},{"$f":"SUM(R3:R4)","v":0},{"$f":"IF(SUMIF($K$15:$K$118,SaisonFin,$G$15:$G$118)>0,SUMIF($K$15:$K$118,SaisonFin,$F$15:$F$118)/SUMIF($K$15:$K$118,SaisonFin,$G$15:$G$118),\"\")","v":""},{"$f":"SUM(T3:T4)","v":6},{"$f":"IF(SUM($G$15:$G$118)>0,SUM($F$15:$F$118)/SUM($G$15:$G$118),\"\")","v":0.67223650385604117},{"$f":"IF(SUMIF($K$15:$K$22,SaisonDeb,$G$15:$G$22)+SUMIF($K$15:$K$22,SaisonFin,$G$15:$G$22)>0,(SUMIF($K$15:$K$22,SaisonDeb,$F$15:$F$22)+SUMIF($K$15:$K$22,SaisonFin,$F$15:$F$22))/(SUMIF($K$15:$K$22,SaisonDeb,$G$15:$G$22)+SUMIF($K$15:$K$22,SaisonFin,$G$15:$G$22)),\"\")","v":""}]
[null,null,null,null,null,null,null,null,null,null,null,null,null,"Sets","Gagnés",{"$f":"SUMIF($K$15:$K$118,SaisonDeb,$D$15:$D$118)","v":0},{"$f":"IF(P$6+P$7>0,P6/(P$6+P$7),\"\")","v":""},{"$f":"SUMIF($K$15:$K$118,SaisonFin,$D$15:$D$118)","v":0},{"$f":"IF(R$6+R$7>0,R6/(R$6+R$7),\"\")","v":""},{"$f":"SUM($D$15:$D$118)","v":1},{"$f":"IF(T$6+T$7>0,T6/(T$6+T$7),\"\")","v":7.6923076923076927E-2}]
[null,null,null,null,null,null,null,null,null,null,null,null,null,null,"Perdus",{"$f":"SUMIF($K$15:$K$118,SaisonDeb,$E$15:$E$118)","v":0},{"$f":"IF(P$6+P$7>0,P7/(P$6+P$7),\"\")","v":""},{"$f":"SUMIF($K$15:$K$118,SaisonFin,$E$15:$E$118)","v":0},{"$f":"IF(R$6+R$7>0,R7/(R$6+R$7),\"\")","v":""},{"$f":"SUM($E$15:$E$118)","v":12},{"$f":"IF(T$6+T$7>0,T7/(T$6+T$7),\"\")","v":0.92307692307692313}]
["Récapitulatif joueurs",null,null,null,null,null,null,null,null,null,null,null,null,null,"Total",{"$f":"SUM(P6:P7)","v":0},null,{"$f":"SUM(R6:R7)","v":0},null,{"$f":"SUM(T6:T7)","v":13}]
[]
[]
[]
[]
[]
[]
["Joueur","Adversaire","G/P","Sets gagnés","Sets perdus","pts marqués","pts subis","Date","Compétition","Phase","Saison"]
["AZRIA Aaron","NAHIRNYJ Alexi","P",1,2,143,178,"2019-03-30","FINALE OISE JUNIORS - CHAMBLY","Poule unique",{"$f":"IF(H16<>\"\",IF(MONTH(H16)>MoisRef,YEAR(H16)&\"-\"&YEAR(H16)+1,YEAR(H16)-1&\"-\"&YEAR(H16)),\"\")","v":"2018-2019"},null,null,null,null,{"$f":"IF($K16=P$1,COUNTIF($C16,\"G\"),0)","v":0},null,{"$f":"IF($K16=R$1,COUNTIF($C16,\"G\"),0)","v":0}]
["AZRIA Aaron","POLIN Thibault","P",0,2,63,120,"2019-03-30","FINALE OISE JUNIORS - CHAMBLY","Poule unique","2018-2019",null,null,null,null,0,null,0]
["AZRIA Aaron","TALEC Pierre","P",0,2,83,120,"2018-10-27","5 Q - T 2 OISE 2018-19 - R 1 - TOURNOI PRINCIPAL  - VILLERS","Qualifications","2018-2019",null,null,null,null,0,null,0]
["AZRIA Aaron","VANDEPUTTE Laurent","P",0,2,88,120,"2018-10-27","5 Q - T 2 OISE 2018-19 - R 1 - TOURNOI PRINCIPAL  - VILLERS","Qualifications","2018-2019",null,null,null,null,0,null,0]
["AZRIA Aaron","CHENAL Gérard","P",0,2,79,120,"2018-11-24","5 Q - T 3 OISE 2018-19 - R 1 - TOURNOI PRINCIPAL  - MERU","Qualifications","2018-2019",null,null,null,null,0,null,0]
["AZRIA Aaron","LALOT Gérard","P",0,2,67,120,"2018-11-24","5 Q - T 3 OISE 2018-19 - R 1 - TOURNOI PRINCIPAL  - MERU","Qualifications","2018-2019",null,null,null,null,0,null,0]
["Fin des données",null,null,null,null,null,null,null,null,null,"",null,null,null,null,0,null,0]

{"sheet":"BABOLEIN Clément","index":4,"n_rows":32,"n_cols":22,"rows_kept":32,"cut":false,"hidden":false,"merged":[]}
["BABOLEIN Clément",null,null,null,null,null,null,null,null,null,null,null,null,null,null,{"$f":"SaisonDeb","v":"2021-2022"},null,{"$f":"SaisonFin","v":"2022-2023"},null,"Toutes saisons"]
[{"$error":"#N/A"},null,null,null,null,null,null,null,null,null,null,null,null,null,null,"Nombre","%age","Nombre","%age","Nombre","%age"]
[{"$error":"#N/A"},null,null,null,null,null,null,null,null,null,null,null,null,"Matchs","Gagnés",{"$f":"SUM(P$15:P$128)","v":4},{"$f":"IF(P$3+P$4>0,P3/(P$3+P$4),\"\")","v":0.33333333333333331},{"$f":"SUM(R$15:R$128)","v":0},{"$f":"IF(R$3+R$4>0,R3/(R$3+R$4),\"\")","v":""},{"$f":"COUNTIF($C$15:$C$128,\"G\")","v":5},{"$f":"IF(T$3+T$4>0,T3/(T$3+T$4),\"\")","v":0.3125}]
[{"$error":"#N/A"},null,null,null,null,null,null,null,null,null,null,null,null,null,"Perdus",{"$f":"COUNTIF($K$15:$M$128,SaisonDeb)-P3","v":8},{"$f":"IF(P$3+P$4>0,P4/(P$3+P$4),\"\")","v":0.66666666666666663},{"$f":"COUNTIF($K$15:$K$128,SaisonFin)-R3","v":0},{"$f":"IF(R$3+R$4>0,R4/(R$3+R$4),\"\")","v":""},{"$f":"COUNTIF($C$15:$C$128,\"P\")","v":11},{"$f":"IF(T$3+T$4>0,T4/(T$3+T$4),\"\")","v":0.6875}]
[{"$error":"#N/A"},null,null,null,null,null,null,null,null,null,null,null,null,null,"Total / Moy.",{"$f":"SUM(P3:P4)","v":12},{"$f":"IF(SUMIF($K$15:$K$128,SaisonDeb,$G$15:$G$128)>0,SUMIF($K$15:$K$128,SaisonDeb,$F$15:$F$128)/SUMIF($K$15:$K$128,SaisonDeb,$G$15:$G$128),\"\")","v":0.85177304964539002},{"$f":"SUM(R3:R4)","v":0},{"$f":"IF(SUMIF($K$15:$K$128,SaisonFin,$G$15:$G$128)>0,SUMIF($K$15:$K$128,SaisonFin,$F$15:$F$128)/SUMIF($K$15:$K$128,SaisonFin,$G$15:$G$128),\"\")","v":""},{"$f":"SUM(T3:T4)","v":16},{"$f":"IF(SUM($G$15:$G$128)>0,SUM($F$15:$F$128)/SUM($G$15:$G$128),\"\")","v":0.88500264970853204},{"$f":"IF(SUMIF($K$15:$K$32,SaisonDeb,$G$15:$G$32)+SUMIF($K$15:$K$32,SaisonFin,$G$15:$G$32)>0,(SUMIF($K$15:$K$32,SaisonDeb,$F$15:$F$32)+SUMIF($K$15:$K$32,SaisonFin,$F$15:$F$32))/(SUMIF($K$15:$K$32,SaisonDeb,$G$15:$G$32)+SUMIF($K$15:$K$32,SaisonFin,$G$15:$G$32)),\"\")","v":0.85177304964539002}]
[null,null,null,null,null,null,null,null,null,null,null,null,null,"Sets","Gagnés",{"$f":"SUMIF($K$15:$K$128,SaisonDeb,$D$15:$D$128)","v":9},{"$f":"IF(P$6+P$7>0,P6/(P$6+P$7),\"\")","v":0.34615384615384615},{"$f":"SUMIF($K$15:$K$128,SaisonFin,$D$15:$D$128)","v":0},{"$f":"IF(R$6+R$7>0,R6/(R$6+R$7),\"\")","v":""},{"$f":"SUM($D$15:$D$128)","v":12},{"$f":"IF(T$6+T$7>0,T6/(T$6+T$7),\"\")","v":0.34285714285714286}]
[null,null,null,null,null,null,null,null,null,null,null,null,null,null,"Perdus",{"$f":"SUMIF($K$15:$K$128,SaisonDeb,$E$15:$E$128)","v":17},{"$f":"IF(P$6+P$7>0,P7/(P$6+P$7),\"\")","v":0.65384615384615385},{"$f":"SUMIF($K$15:$K$128,SaisonFin,$E$15:$E$128)","v":0},{"$f":"IF(R$6+R$7>0,R7/(R$6+R$7),\"\")","v":""},{"$f":"SUM($E$15:$E$128)","v":23},{"$f":"IF(T$6+T$7>0,T7/(T$6+T$7),\"\")","v":0.65714285714285714}]
["Récapitulatif joueurs",null,null,null,null,null,null,null,null,null,null,null,null,null,"Total",{"$f":"SUM(P6:P7)","v":26},null,{"$f":"SUM(R6:R7)","v":0},null,{"$f":"SUM(T6:T7)","v":35}]
[]
[]
[]
[]
[]
[]
["Joueur","Adversaire","G/P","Sets gagnés","Sets perdus","pts marqués","pts subis","Date","Compétition","Phase","Saison"]
["BABOLEIN Clément","BUTTI Bertrand","P",1,2,158,161,"2019-10-19","T1 CD02 R1 - Billard Club de Soissons","Qualifications",{"$f":"IF(H16<>\"\",IF(MONTH(H16)>MoisRef,YEAR(H16)&\"-\"&YEAR(H16)+1,YEAR(H16)-1&\"-\"&YEAR(H16)),\"\")","v":"2019-2020"},null,null,null,null,{"$f":"IF($K16=P$1,COUNTIF($C16,\"G\"),0)","v":0},null,{"$f":"IF($K16=R$1,COUNTIF($C16,\"G\"),0)","v":0}]
["BABOLEIN Clément","CASIER Philippe","G",2,0,120,76,"2019-10-19","T1 CD02 R1 - Billard Club de Soissons","Qualifications","2019-2020",null,null,null,null,{"$f":"IF($K17=P$1,COUNTIF($C17,\"G\"),0)","v":0},null,{"$f":"IF($K17=R$1,COUNTIF($C17,\"G\"),0)","v":0}]
["BABOLEIN Clément","BUTTI Bertrand","P",0,2,92,120,"2019-12-07","T2 CD02 R1 - Saint-Quentin","Qualifications","2019-2020",null,null,null,null,{"$f":"IF($K18=P$1,COUNTIF($C18,\"G\"),0)","v":0},null,{"$f":"IF($K18=R$1,COUNTIF($C18,\"G\"),0)","v":0}]
["BABOLEIN Clément","SIMON Philippe","P",0,2,99,120,"2019-12-07","T2 CD02 R1 - Saint-Quentin","Qualifications","2019-2020",null,null,null,null,{"$f":"IF($K19=P$1,COUNTIF($C19,\"G\"),0)","v":0},null,{"$f":"IF($K19=R$1,COUNTIF($C19,\"G\"),0)","v":0}]
["BABOLEIN Clément","CASIER Philippe","G",2,0,120,79,"2021-11-27","T2 CD02 R1 - Billard Club de Soissons","Qualifications","2021-2022",null,null,null,null,{"$f":"IF($K20=P$1,COUNTIF($C20,\"G\"),0)","v":1},null,{"$f":"IF($K20=R$1,COUNTIF($C20,\"G\"),0)","v":0}]
["BABOLEIN Clément","DURAND Jéremy","P",0,2,77,120,"2021-11-27","T2 CD02 R1 - Billard Club de Soissons","Qualifications","2021-2022",null,null,null,null,0,null,0]
["BABOLEIN Clément","BUTTI EmIlie","P",0,2,80,120,"2021-10-16","T1 CD02 R1 - Billard Club de Saint-Quentin","Qualifications","2021-2022",null,null,null,null,0,null,0]
["BABOLEIN Clément","COUSIN Francis","P",0,2,58,120,"2021-10-16","T1 CD02 R1 - Billard Club de Saint-Quentin","Qualifications","2021-2022",null,null,null,null,0,null,0]
["BABOLEIN Clément","SIMON Philippe","G",2,0,120,58,"2021-10-16","T1 CD02 R1 - Billard Club de Saint-Quentin","Qualifications","2021-2022",null,null,null,null,1,null,0]
["BABOLEIN Clément","BUTTI Bertrand","G",2,0,120,91,"2022-01-29","T3 CD02 TOUTE CATEGORIE - Saint-Quentin","Qualifications","2021-2022",null,null,null,null,1,null,0]
["BABOLEIN Clément","BUTTI EmIlie","P",0,2,111,120,"2022-01-29","T3 CD02 TOUTE CATEGORIE - Saint-Quentin","Qualifications","2021-2022",null,null,null,null,0,null,0]
["BABOLEIN Clément","ROZE Dominique","P",0,2,82,120,"2022-01-29","T3 CD02 TOUTE CATEGORIE - Saint-Quentin","Qualifications","2021-2022",null,null,null,null,0,null,0]
["BABOLEIN Clément","DURAND Jéremy","P",1,2,155,165,"2022-02-26","T4 CD02 R1 - Billard Club de Saint-Quentin","Qualifications","2021-2022",null,null,null,null,0,null,0]
["BABOLEIN Clément","COUSIN Francis","G",2,1,153,177,"2022-04-24","Finale CD02- Billard Club de Saint-Quentin","1/4 Finale","2021-2022",null,null,null,null,1,null,0]
["BABOLEIN Clément","SIMON Philippe","P",0,2,62,120,"2022-04-24","Finale CD02- Billard Club de Saint-Quentin","1/4 Finale","2021-2022",null,null,null,null,0,null,0]
["BABOLEIN Clément","DURAND Jeremy","P",0,2,63,120,"2022-04-24","Finale CD02- Billard Club de Saint-Quentin","1/2 Finale","2021-2022",null,null,null,null,0,null,0]
["Fin des données",null,null,null,null,null,null,null,null,null,"",null,null,null,null,{"$f":"IF($K32=P$1,COUNTIF($C32,\"G\"),0)","v":0},null,{"$f":"IF($K32=R$1,COUNTIF($C32,\"G\"),0)","v":0}]

{"sheet":"BARBE Logan","index":5,"n_rows":18,"n_cols":22,"rows_kept":18,"cut":false,"hidden":false,"merged":[]}
["BARBE Logan",null,null,null,null,null,null,null,null,null,null,null,null,null,null,{"$f":"SaisonDeb","v":"2021-2022"},null,{"$f":"SaisonFin","v":"2022-2023"},null,"Toutes saisons"]
[{"$error":"#N/A"},null,null,null,null,null,null,null,null,null,null,null,null,null,null,"Nombre","%age","Nombre","%age","Nombre","%age"]
[{"$error":"#N/A"},null,null,null,null,null,null,null,null,null,null,null,null,"Matchs","Gagnés",{"$f":"SUM(P$15:P$114)","v":0},{"$f":"IF(P$3+P$4>0,P3/(P$3+P$4),\"\")","v":0},{"$f":"SUM(R$15:R$114)","v":0},{"$f":"IF(R$3+R$4>0,R3/(R$3+R$4),\"\")","v":""},{"$f":"COUNTIF($C$15:$C$114,\"G\")","v":0},{"$f":"IF(T$3+T$4>0,T3/(T$3+T$4),\"\")","v":0}]
[{"$error":"#N/A"},null,null,null,null,null,null,null,null,null,null,null,null,null,"Perdus",{"$f":"COUNTIF($K$15:$M$114,SaisonDeb)-P3","v":2},{"$f":"IF(P$3+P$4>0,P4/(P$3+P$4),\"\")","v":1},{"$f":"COUNTIF($K$15:$K$114,SaisonFin)-R3","v":0},{"$f":"IF(R$3+R$4>0,R4/(R$3+R$4),\"\")","v":""},{"$f":"COUNTIF($C$15:$C$114,\"P\")","v":2},{"$f":"IF(T$3+T$4>0,T4/(T$3+T$4),\"\")","v":1}]
[{"$error":"#N/A"},null,null,null,null,null,null,null,null,null,null,null,null,null,"Total / Moy.",{"$f":"SUM(P3:P4)","v":2},{"$f":"IF(SUMIF($K$15:$K$114,SaisonDeb,$G$15:$G$114)>0,SUMIF($K$15:$K$114,SaisonDeb,$F$15:$F$114)/SUMIF($K$15:$K$114,SaisonDeb,$G$15:$G$114),\"\")","v":0.51249999999999996},{"$f":"SUM(R3:R4)","v":0},{"$f":"IF(SUMIF($K$15:$K$114,SaisonFin,$G$15:$G$114)>0,SUMIF($K$15:$K$114,SaisonFin,$F$15:$F$114)/SUMIF($K$15:$K$114,SaisonFin,$G$15:$G$114),\"\")","v":""},{"$f":"SUM(T3:T4)","v":2},{"$f":"IF(SUM($G$15:$G$114)>0,SUM($F$15:$F$114)/SUM($G$15:$G$114),\"\")","v":0.51249999999999996},{"$f":"IF(SUMIF($K$15:$K$18,SaisonDeb,$G$15:$G$18)+SUMIF($K$15:$K$18,SaisonFin,$G$15:$G$18)>0,(SUMIF($K$15:$K$18,SaisonDeb,$F$15:$F$18)+SUMIF($K$15:$K$18,SaisonFin,$F$15:$F$18))/(SUMIF($K$15:$K$18,SaisonDeb,$G$15:$G$18)+SUMIF($K$15:$K$18,SaisonFin,$G$15:$G$18)),\"\")","v":0.51249999999999996}]
[null,null,null,null,null,null,null,null,null,null,null,null,null,"Sets","Gagnés",{"$f":"SUMIF($K$15:$K$114,SaisonDeb,$D$15:$D$114)","v":0},{"$f":"IF(P$6+P$7>0,P6/(P$6+P$7),\"\")","v":0},{"$f":"SUMIF($K$15:$K$114,SaisonFin,$D$15:$D$114)","v":0},{"$f":"IF(R$6+R$7>0,R6/(R$6+R$7),\"\")","v":""},{"$f":"SUM($D$15:$D$114)","v":0},{"$f":"IF(T$6+T$7>0,T6/(T$6+T$7),\"\")","v":0}]
[null,null,null,null,null,null,null,null,null,null,null,null,null,null,"Perdus",{"$f":"SUMIF($K$15:$K$114,SaisonDeb,$E$15:$E$114)","v":2},{"$f":"IF(P$6+P$7>0,P7/(P$6+P$7),\"\")","v":1},{"$f":"SUMIF($K$15:$K$114,SaisonFin,$E$15:$E$114)","v":0},{"$f":"IF(R$6+R$7>0,R7/(R$6+R$7),\"\")","v":""},{"$f":"SUM($E$15:$E$114)","v":2},{"$f":"IF(T$6+T$7>0,T7/(T$6+T$7),\"\")","v":1}]
["Récapitulatif joueurs",null,null,null,null,null,null,null,null,null,null,null,null,null,"Total",{"$f":"SUM(P6:P7)","v":2},null,{"$f":"SUM(R6:R7)","v":0},null,{"$f":"SUM(T6:T7)","v":2}]
[]
[]
[]
[]
[]
[]
["Joueur","Adversaire","G/P","Sets gagnés","Sets perdus","pts marqués","pts subis","Date","Compétition","Phase","Saison"]
["BARBE Logan","BARTHON Aurélie","P",0,1,85,120,"2021-12-18","T 2 OISE - Qualifications R 1 - Tour principal - CREPY","Qualifications",{"$f":"IF(H16<>\"\",IF(MONTH(H16)>MoisRef,YEAR(H16)&\"-\"&YEAR(H16)+1,YEAR(H16)-1&\"-\"&YEAR(H16)),\"\")","v":"2021-2022"},null,null,null,null,{"$f":"IF($K16=P$1,COUNTIF($C16,\"G\"),0)","v":0},null,{"$f":"IF($K16=R$1,COUNTIF($C16,\"G\"),0)","v":0}]
["BARBE Logan","NAHIRNYJ Alexi","P",0,1,38,120,"2021-12-18","T 2 OISE - Qualifications R 1 - Tour principal - CREPY","Qualifications",{"$f":"IF(H17<>\"\",IF(MONTH(H17)>MoisRef,YEAR(H17)&\"-\"&YEAR(H17)+1,YEAR(H17)-1&\"-\"&YEAR(H17)),\"\")","v":"2021-2022"},null,null,null,null,{"$f":"IF($K17=P$1,COUNTIF($C17,\"G\"),0)","v":0},null,{"$f":"IF($K17=R$1,COUNTIF($C17,\"G\"),0)","v":0}]
["Fin des données",null,null,null,null,null,null,null,null,null,{"$f":"IF(H18<>\"\",IF(MONTH(H18)>MoisRef,YEAR(H18)&\"-\"&YEAR(H18)+1,YEAR(H18)-1&\"-\"&YEAR(H18)),\"\")","v":""},null,null,null,null,{"$f":"IF($K18=P$1,COUNTIF($C18,\"G\"),0)","v":0},null,{"$f":"IF($K18=R$1,COUNTIF($C18,\"G\"),0)","v":0}]

{"sheet":"BARBE Philippe","index":6,"n_rows":29,"n_cols":22,"rows_kept":29,"cut":false,"hidden":false,"merged":[]}
["BARBE Philippe",null,null,null,null,null,null,null,null,null,null,null,null,null,null,{"$f":"SaisonDeb","v":"2021-2022"},null,{"$f":"SaisonFin","v":"2022-2023"},null,"Toutes saisons"]
[{"$error":"#N/A"},null,null,null,null,null,null,null,null,null,null,null,null,null,null,"Nombre","%age","Nombre","%age","Nombre","%age"]
[{"$error":"#N/A"},null,null,null,null,null,null,null,null,null,null,null,null,"Matchs","Gagnés",{"$f":"SUM(P$15:P$125)","v":8},{"$f":"IF(P$3+P$4>0,P3/(P$3+P$4),\"\")","v":0.61538461538461542},{"$f":"SUM(R$15:R$125)","v":0},{"$f":"IF(R$3+R$4>0,R3/(R$3+R$4),\"\")","v":""},{"$f":"COUNTIF($C$15:$C$125,\"G\")","v":8},{"$f":"IF(T$3+T$4>0,T3/(T$3+T$4),\"\")","v":0.61538461538461542}]
[{"$error":"#N/A"},null,null,null,null,null,null,null,null,null,null,null,null,null,"Perdus",{"$f":"COUNTIF($K$15:$M$125,SaisonDeb)-P3","v":5},{"$f":"IF(P$3+P$4>0,P4/(P$3+P$4),\"\")","v":0.38461538461538464},{"$f":"COUNTIF($K$15:$K$125,SaisonFin)-R3","v":0},{"$f":"IF(R$3+R$4>0,R4/(R$3+R$4),\"\")","v":""},{"$f":"COUNTIF($C$15:$C$125,\"P\")","v":5},{"$f":"IF(T$3+T$4>0,T4/(T$3+T$4),\"\")","v":0.38461538461538464}]
[{"$error":"#N/A"},null,null,null,null,null,null,null,null,null,null,null,null,null,"Total / Moy.",{"$f":"SUM(P3:P4)","v":13},{"$f":"IF(SUMIF($K$15:$K$125,SaisonDeb,$G$15:$G$125)>0,SUMIF($K$15:$K$125,SaisonDeb,$F$15:$F$125)/SUMIF($K$15:$K$125,SaisonDeb,$G$15:$G$125),\"\")","v":1.0917573872472783},{"$f":"SUM(R3:R4)","v":0},{"$f":"IF(SUMIF($K$15:$K$125,SaisonFin,$G$15:$G$125)>0,SUMIF($K$15:$K$125,SaisonFin,$F$15:$F$125)/SUMIF($K$15:$K$125,SaisonFin,$G$15:$G$125),\"\")","v":""},{"$f":"SUM(T3:T4)","v":13},{"$f":"IF(SUM($G$15:$G$125)>0,SUM($F$15:$F$125)/SUM($G$15:$G$125),\"\")","v":1.0917573872472783},{"$f":"IF(SUMIF($K$15:$K$29,SaisonDeb,$G$15:$G$29)+SUMIF($K$15:$K$29,SaisonFin,$G$15:$G$29)>0,(SUMIF($K$15:$K$29,SaisonDeb,$F$15:$F$29)+SUMIF($K$15:$K$29,SaisonFin,$F$15:$F$29))/(SUMIF($K$15:$K$29,SaisonDeb,$G$15:$G$29)+SUMIF($K$15:$K$29,SaisonFin,$G$15:$G$29)),\"\")","v":1.0917573872472783}]
[null,null,null,null,null,null,null,null,null,null,null,null,null,"Sets","Gagnés",{"$f":"SUMIF($K$15:$K$125,SaisonDeb,$D$15:$D$125)","v":13},{"$f":"IF(P$6+P$7>0,P6/(P$6+P$7),\"\")","v":0.56521739130434778},{"$f":"SUMIF($K$15:$K$125,SaisonFin,$D$15:$D$125)","v":0},{"$f":"IF(R$6+R$7>0,R6/(R$6+R$7),\"\")","v":""},{"$f":"SUM($D$15:$D$125)","v":13},{"$f":"IF(T$6+T$7>0,T6/(T$6+T$7),\"\")","v":0.56521739130434778}]
[null,null,null,null,null,null,null,null,null,null,null,null,null,null,"Perdus",{"$f":"SUMIF($K$15:$K$125,SaisonDeb,$E$15:$E$125)","v":10},{"$f":"IF(P$6+P$7>0,P7/(P$6+P$7),\"\")","v":0.43478260869565216},{"$f":"SUMIF($K$15:$K$125,SaisonFin,$E$15:$E$125)","v":0},{"$f":"IF(R$6+R$7>0,R7/(R$6+R$7),\"\")","v":""},{"$f":"SUM($E$15:$E$125)","v":10},{"$f":"IF(T$6+T$7>0,T7/(T$6+T$7),\"\")","v":0.43478260869565216}]
["Récapitulatif joueurs",null,null,null,null,null,null,null,null,null,null,null,null,null,"Total",{"$f":"SUM(P6:P7)","v":23},null,{"$f":"SUM(R6:R7)","v":0},null,{"$f":"SUM(T6:T7)","v":23}]
[]
[]
[]
[]
[]
[]
["Joueur","Adversaire","G/P","Sets gagnés","Sets perdus","pts marqués","pts subis","Date","Compétition","Phase","Saison"]
["BARBE Philippe","BOUIGES Armelle","G",1,0,120,43,"2021-10-02","T 1 OISE - Qualifications R 1 - Tour principal - MERU","Qualifications",{"$f":"IF(H16<>\"\",IF(MONTH(H16)>MoisRef,YEAR(H16)&\"-\"&YEAR(H16)+1,YEAR(H16)-1&\"-\"&YEAR(H16)),\"\")","v":"2021-2022"},null,null,null,null,{"$f":"IF($K16=P$1,COUNTIF($C16,\"G\"),0)","v":1},null,{"$f":"IF($K16=R$1,COUNTIF($C16,\"G\"),0)","v":0}]
["BARBE Philippe","BOZON Robert","G",1,0,120,73,"2021-10-02","T 1 OISE - Qualifications R 1 - Tour principal - MERU","Finale","2021-2022",null,null,null,null,1,null,0]
["BARBE Philippe","CHARLES Dominique","G",1,0,120,88,"2021-10-02","T 1 OISE - Qualifications R 1 - Tour principal - MERU","1/2 Finale","2021-2022",null,null,null,null,1,null,0]
["BARBE Philippe","BOUIGES Armelle","G",1,0,120,51,"2022-04-16","T 4 OISE - Qualifications R 1 - Tour Principal - BEAUVAIS","Qualifications","2021-2022",null,null,null,null,1,null,0]
["BARBE Philippe","BOZON Robert","P",0,1,58,120,"2022-04-16","T 4 OISE - Qualifications R 1 - Tour Principal - BEAUVAIS","1/4 Finale","2021-2022",null,null,null,null,0,null,0]
["BARBE Philippe","NAHIRNYJ Alexi","P",0,1,89,120,"2022-04-16","T 4 OISE - Qualifications R 1 - Tour Principal - BEAUVAIS","Qualifications","2021-2022",null,null,null,null,0,null,0]
["BARBE Philippe","DESCLAIR Guy","G",2,0,120,90,"2022-05-14","FINALE OISE R 1 - SAISON 21-22 - SENLIS","Qualifications","2021-2022",null,null,null,null,1,null,0]
["BARBE Philippe","HERTOUX Didier","P",1,2,126,152,"2022-05-14","FINALE OISE R 1 - SAISON 21-22 - SENLIS","1/2 Finale","2021-2022",null,null,null,null,0,null,0]
["BARBE Philippe","NAHIRNYJ Alexi","G",2,1,138,110,"2022-05-14","FINALE OISE R 1 - SAISON 21-22 - SENLIS","Qualifications","2021-2022",null,null,null,null,1,null,0]
["BARBE Philippe","DURAND Jeremy","G",2,0,120,73,"2022-05-22","Finale Ligue 5Q R1 - ST QUENTIN","Finale Ligue","2021-2022",null,null,null,null,1,null,0]
["BARBE Philippe","JOLY Kenan","G",2,1,165,126,"2022-05-22","Finale Ligue 5Q R1 - ST QUENTIN","Finale Ligue","2021-2022",null,null,null,null,1,null,0]
["BARBE Philippe","LEBECQ Jean-Pierre","P",0,2,87,120,"2022-05-22","Finale Ligue 5Q R1 - ST QUENTIN","Finale Ligue","2021-2022",null,null,null,null,0,null,0]
["BARBE Philippe","LORTHIOIR Jean-Luc","P",0,2,21,120,"2022-05-22","Finale Ligue 5Q R1 - ST QUENTIN","Finale Ligue","2021-2022",null,null,null,null,0,null,0]
["Fin des données",null,null,null,null,null,null,null,null,null,"",null,null,null,null,{"$f":"IF($K29=P$1,COUNTIF($C29,\"G\"),0)","v":0},null,{"$f":"IF($K29=R$1,COUNTIF($C29,\"G\"),0)","v":0}]

{"sheet":"BARKUT Volkan","index":7,"n_rows":24,"n_cols":22,"rows_kept":24,"cut":false,"hidden":false,"merged":[]}
["BARKUT Volkan",null,null,null,null,null,null,null,null,null,null,null,null,null,null,{"$f":"SaisonDeb","v":"2021-2022"},null,{"$f":"SaisonFin","v":"2022-2023"},null,"Toutes saisons"]
[{"$error":"#N/A"},null,null,null,null,null,null,null,null,null,null,null,null,null,null,"Nombre","%age","Nombre","%age","Nombre","%age"]
[{"$error":"#N/A"},null,null,null,null,null,null,null,null,null,null,null,null,"Matchs","Gagnés",{"$f":"SUM(P$15:P$120)","v":3},{"$f":"IF(P$3+P$4>0,P3/(P$3+P$4),\"\")","v":0.375},{"$f":"SUM(R$15:R$120)","v":0},{"$f":"IF(R$3+R$4>0,R3/(R$3+R$4),\"\")","v":""},{"$f":"COUNTIF($C$15:$C$120,\"G\")","v":3},{"$f":"IF(T$3+T$4>0,T3/(T$3+T$4),\"\")","v":0.375}]
[{"$error":"#N/A"},null,null,null,null,null,null,null,null,null,null,null,null,null,"Perdus",{"$f":"COUNTIF($K$15:$M$120,SaisonDeb)-P3","v":5},{"$f":"IF(P$3+P$4>0,P4/(P$3+P$4),\"\")","v":0.625},{"$f":"COUNTIF($K$15:$K$120,SaisonFin)-R3","v":0},{"$f":"IF(R$3+R$4>0,R4/(R$3+R$4),\"\")","v":""},{"$f":"COUNTIF($C$15:$C$120,\"P\")","v":5},{"$f":"IF(T$3+T$4>0,T4/(T$3+T$4),\"\")","v":0.625}]
[{"$error":"#N/A"},null,null,null,null,null,null,null,null,null,null,null,null,null,"Total / Moy.",{"$f":"SUM(P3:P4)","v":8},{"$f":"IF(SUMIF($K$15:$K$120,SaisonDeb,$G$15:$G$120)>0,SUMIF($K$15:$K$120,SaisonDeb,$F$15:$F$120)/SUMIF($K$15:$K$120,SaisonDeb,$G$15:$G$120),\"\")","v":0.96438356164383565},{"$f":"SUM(R3:R4)","v":0},{"$f":"IF(SUMIF($K$15:$K$120,SaisonFin,$G$15:$G$120)>0,SUMIF($K$15:$K$120,SaisonFin,$F$15:$F$120)/SUMIF($K$15:$K$120,SaisonFin,$G$15:$G$120),\"\")","v":""},{"$f":"SUM(T3:T4)","v":8},{"$f":"IF(SUM($G$15:$G$120)>0,SUM($F$15:$F$120)/SUM($G$15:$G$120),\"\")","v":0.96438356164383565},{"$f":"IF(SUMIF($K$15:$K$24,SaisonDeb,$G$15:$G$24)+SUMIF($K$15:$K$24,SaisonFin,$G$15:$G$24)>0,(SUMIF($K$15:$K$24,SaisonDeb,$F$15:$F$24)+SUMIF($K$15:$K$24,SaisonFin,$F$15:$F$24))/(SUMIF($K$15:$K$24,SaisonDeb,$G$15:$G$24)+SUMIF($K$15:$K$24,SaisonFin,$G$15:$G$24)),\"\")","v":0.96438356164383565}]
[null,null,null,null,null,null,null,null,null,null,null,null,null,"Sets","Gagnés",{"$f":"SUMIF($K$15:$K$120,SaisonDeb,$D$15:$D$120)","v":3},{"$f":"IF(P$6+P$7>0,P6/(P$6+P$7),\"\")","v":0.375},{"$f":"SUMIF($K$15:$K$120,SaisonFin,$D$15:$D$120)","v":0},{"$f":"IF(R$6+R$7>0,R6/(R$6+R$7),\"\")","v":""},{"$f":"SUM($D$15:$D$120)","v":3},{"$f":"IF(T$6+T$7>0,T6/(T$6+T$7),\"\")","v":0.375}]
[null,null,null,null,null,null,null,null,null,null,null,null,null,null,"Perdus",{"$f":"SUMIF($K$15:$K$120,SaisonDeb,$E$15:$E$120)","v":5},{"$f":"IF(P$6+P$7>0,P7/(P$6+P$7),\"\")","v":0.625},{"$f":"SUMIF($K$15:$K$120,SaisonFin,$E$15:$E$120)","v":0},{"$f":"IF(R$6+R$7>0,R7/(R$6+R$7),\"\")","v":""},{"$f":"SUM($E$15:$E$120)","v":5},{"$f":"IF(T$6+T$7>0,T7/(T$6+T$7),\"\")","v":0.625}]
["Récapitulatif joueurs",null,null,null,null,null,null,null,null,null,null,null,null,null,"Total",{"$f":"SUM(P6:P7)","v":8},null,{"$f":"SUM(R6:R7)","v":0},null,{"$f":"SUM(T6:T7)","v":8}]
[]
[]
[]
[]
[]
[]
["Joueur","Adversaire","G/P","Sets gagnés","Sets perdus","pts marqués","pts subis","Date","Compétition","Phase","Saison"]
["BARKUT Volkan","HOCHART James","P",0,1,85,100,"2021-10-16","T1 5Q R1 - VILLENEUVE D'ASCQ","Qualifications",{"$f":"IF(H16<>\"\",IF(MONTH(H16)>MoisRef,YEAR(H16)&\"-\"&YEAR(H16)+1,YEAR(H16)-1&\"-\"&YEAR(H16)),\"\")","v":"2021-2022"},null,null,null,null,{"$f":"IF($K16=P$1,COUNTIF($C16,\"G\"),0)","v":0},null,{"$f":"IF($K16=R$1,COUNTIF($C16,\"G\"),0)","v":0}]
["BARKUT Volkan","LECROART Serge","P",0,1,69,100,"2021-10-16","T1 5Q R1 - VILLENEUVE D'ASCQ","Qualifications","2021-2022",null,null,null,null,0,null,0]
["BARKUT Volkan","BLONDEL Jean","G",1,0,100,48,"2021-10-16","T1 5Q R1 - VILLENEUVE D'ASCQ - CONSOLANTE","Qualifications","2021-2022",null,null,null,null,1,null,0]
["BARKUT Volkan","SZWARC Johann","P",0,1,95,100,"2021-10-16","T1 5Q R1 - VILLENEUVE D'ASCQ - CONSOLANTE","Qualifications","2021-2022",null,null,null,null,0,null,0]
["BARKUT Volkan","BEGHIN Nicolas","P",0,1,59,100,"2021-12-18","T2 5Q R1 - GRAVELINES - CONVOCATON 8h30","Qualifications","2021-2022",null,null,null,null,0,null,0]
["BARKUT Volkan","LORTHIOIR Jean-Luc","G",1,0,100,84,"2021-12-18","T2 5Q R1 - GRAVELINES - CONVOCATON 8h30","Qualifications","2021-2022",null,null,null,null,1,null,0]
["BARKUT Volkan","BLONDEL Jean","G",1,0,100,98,"2021-12-18","T2 5Q R1 - GRAVELINES - consolante","Qualifications","2021-2022",null,null,null,null,1,null,0]
["BARKUT Volkan","HOCHART James","P",0,1,96,100,"2021-12-18","T2 5Q R1 - GRAVELINES - consolante","Qualifications","2021-2022",null,null,null,null,0,null,0]
["Fin des données",null,null,null,null,null,null,null,null,null,"",null,null,null,null,{"$f":"IF($K24=P$1,COUNTIF($C24,\"G\"),0)","v":0},null,{"$f":"IF($K24=R$1,COUNTIF($C24,\"G\"),0)","v":0}]

{"sheet":"BARTHON Aurélie","index":8,"n_rows":39,"n_cols":22,"rows_kept":39,"cut":false,"hidden":false,"merged":[]}
["BARTHON Aurélie",null,null,null,null,null,null,null,null,null,null,null,null,null,null,{"$f":"SaisonDeb","v":"2021-2022"},null,{"$f":"SaisonFin","v":"2022-2023"},null,"Toutes saisons"]
[{"$error":"#N/A"},null,null,null,null,null,null,null,null,null,null,null,null,null,null,"Nombre","%age","Nombre","%age","Nombre","%age"]
[{"$error":"#N/A"},null,null,null,null,null,null,null,null,null,null,null,null,"Matchs","Gagnés",{"$f":"SUM(P$15:P$135)","v":2},{"$f":"IF(P$3+P$4>0,P3/(P$3+P$4),\"\")","v":0.33333333333333331},{"$f":"SUM(R$15:R$135)","v":0},{"$f":"IF(R$3+R$4>0,R3/(R$3+R$4),\"\")","v":0},{"$f":"COUNTIF($C$15:$C$135,\"G\")","v":6},{"$f":"IF(T$3+T$4>0,T3/(T$3+T$4),\"\")","v":0.2608695652173913}]
[{"$error":"#N/A"},null,null,null,null,null,null,null,null,null,null,null,null,null,"Perdus",{"$f":"COUNTIF($K$15:$M$135,SaisonDeb)-P3","v":4},{"$f":"IF(P$3+P$4>0,P4/(P$3+P$4),\"\")","v":0.66666666666666663},{"$f":"COUNTIF($K$15:$K$135,SaisonFin)-R3","v":2},{"$f":"IF(R$3+R$4>0,R4/(R$3+R$4),\"\")","v":1},{"$f":"COUNTIF($C$15:$C$135,\"P\")","v":17},{"$f":"IF(T$3+T$4>0,T4/(T$3+T$4),\"\")","v":0.73913043478260865}]
[{"$error":"#N/A"},null,null,null,null,null,null,null,null,null,null,null,null,null,"Total / Moy.",{"$f":"SUM(P3:P4)","v":6},{"$f":"IF(SUMIF($K$15:$K$135,SaisonDeb,$G$15:$G$135)>0,SUMIF($K$15:$K$135,SaisonDeb,$F$15:$F$135)/SUMIF($K$15:$K$135,SaisonDeb,$G$15:$G$135),\"\")","v":0.67152103559870546},{"$f":"SUM(R3:R4)","v":2},{"$f":"IF(SUMIF($K$15:$K$135,SaisonFin,$G$15:$G$135)>0,SUMIF($K$15:$K$135,SaisonFin,$F$15:$F$135)/SUMIF($K$15:$K$135,SaisonFin,$G$15:$G$135),\"\")","v":0.6166666666666667},{"$f":"SUM(T3:T4)","v":23},{"$f":"IF(SUM($G$15:$G$135)>0,SUM($F$15:$F$135)/SUM($G$15:$G$135),\"\")","v":0.6844834463502194},{"$f":"IF(SUMIF($K$15:$K$39,SaisonDeb,$G$15:$G$39)+SUMIF($K$15:$K$39,SaisonFin,$G$15:$G$39)>0,(SUMIF($K$15:$K$39,SaisonDeb,$F$15:$F$39)+SUMIF($K$15:$K$39,SaisonFin,$F$15:$F$39))/(SUMIF($K$15:$K$39,SaisonDeb,$G$15:$G$39)+SUMIF($K$15:$K$39,SaisonFin,$G$15:$G$39)),\"\")","v":0.65617715617715622}]
[null,null,null,null,null,null,null,null,null,null,null,null,null,"Sets","Gagnés",{"$f":"SUMIF($K$15:$K$135,SaisonDeb,$D$15:$D$135)","v":2},{"$f":"IF(P$6+P$7>0,P6/(P$6+P$7),\"\")","v":0.33333333333333331},{"$f":"SUMIF($K$15:$K$135,SaisonFin,$D$15:$D$135)","v":0},{"$f":"IF(R$6+R$7>0,R6/(R$6+R$7),\"\")","v":0},{"$f":"SUM($D$15:$D$135)","v":9},{"$f":"IF(T$6+T$7>0,T6/(T$6+T$7),\"\")","v":0.26470588235294118}]
[null,null,null,null,null,null,null,null,null,null,null,null,null,null,"Perdus",{"$f":"SUMIF($K$15:$K$135,SaisonDeb,$E$15:$E$135)","v":4},{"$f":"IF(P$6+P$7>0,P7/(P$6+P$7),\"\")","v":0.66666666666666663},{"$f":"SUMIF($K$15:$K$135,SaisonFin,$E$15:$E$135)","v":2},{"$f":"IF(R$6+R$7>0,R7/(R$6+R$7),\"\")","v":1},{"$f":"SUM($E$15:$E$135)","v":25},{"$f":"IF(T$6+T$7>0,T7/(T$6+T$7),\"\")","v":0.73529411764705888}]
["Récapitulatif joueurs",null,null,null,null,null,null,null,null,null,null,null,null,null,"Total",{"$f":"SUM(P6:P7)","v":6},null,{"$f":"SUM(R6:R7)","v":2},null,{"$f":"SUM(T6:T7)","v":34}]
[]
[]
[]
[]
[]
[]
["Joueur","Adversaire","G/P","Sets gagnés","Sets perdus","pts marqués","pts subis","Date","Compétition","Phase","Saison"]
["BARTHON Aurélie","BOUIGES Armelle","G",2,0,120,86,"2018-05-13","FINALE OISE FEMININES - SENLIS","Qualifications",{"$f":"IF(H16<>\"\",IF(MONTH(H16)>MoisRef,YEAR(H16)&\"-\"&YEAR(H16)+1,YEAR(H16)-1&\"-\"&YEAR(H16)),\"\")","v":"2017-2018"},null,null,null,null,{"$f":"IF($K16=P$1,COUNTIF($C16,\"G\"),0)","v":0},null,{"$f":"IF($K16=R$1,COUNTIF($C16,\"G\"),0)","v":0}]
["BARTHON Aurélie","VANEME Sophie","P",0,2,107,120,"2018-05-13","FINALE OISE FEMININES - SENLIS","Qualifications","2017-2018",null,null,null,null,0,null,0]
["BARTHON Aurélie","BOUIGES Armelle","G",1,0,100,57,"2017-09-30","T 1 OISE - Consolante - CREPY","Qualifications","2017-2018",null,null,null,null,0,null,0]
["BARTHON Aurélie","TALEC Pierre","P",0,1,97,100,"2017-09-30","T 1 OISE - Consolante - CREPY","Qualifications","2017-2018",null,null,null,null,0,null,0]
["BARTHON Aurélie","BOUIGES Armelle","G",2,1,162,154,"2017-09-30","T 1 OISE - CREPY","Qualifications","2017-2018",null,null,null,null,0,null,0]
["BARTHON Aurélie","LAMARQUE Yves","P",0,2,85,120,"2017-09-30","T 1 OISE - CREPY","Qualifications","2017-2018",null,null,null,null,0,null,0]
["BARTHON Aurélie","MARTIN Denis","P",0,2,20,120,"2017-09-30","T 1 OISE - CREPY","Qualifications","2017-2018",null,null,null,null,0,null,0]
["BARTHON Aurélie","DUCHATEAU Jean-Pierre","P",1,2,131,175,"2019-10-19","CD60  R1 - T1 - Tour Principal - BEAUVAIS","Qualifications","2019-2020",null,null,null,null,0,null,0]
["BARTHON Aurélie","MAUGER Jean-Paul","P",0,2,38,120,"2019-10-19","CD60  R1 - T1 - Tour Principal - BEAUVAIS","Qualifications","2019-2020",null,null,null,null,0,null,0]
["BARTHON Aurélie","ALAZARD Philippe","P",0,1,12,100,"2020-01-11","CD60  R1 - T3 - Tour Principal - CREPY","Qualifications","2019-2020",null,null,null,null,0,null,0]
["BARTHON Aurélie","BOUIGES Armelle","G",1,0,100,57,"2020-01-11","CD60  R1 - T3 - Tour Principal - CREPY","Qualifications","2019-2020",null,null,null,null,0,null,0]
["BARTHON Aurélie","LAMARQUE Yves","P",0,1,47,100,"2020-02-15","CD60  R1 - T 4 - Tour Principal - SENLIS","Qualifications","2019-2020",null,null,null,null,0,null,0]
["BARTHON Aurélie","LE FRIEC Daniel","P",0,1,54,100,"2020-02-15","CD60  R1 - T 4 - Tour Principal - SENLIS","Qualifications","2019-2020",null,null,null,null,0,null,0]
["BARTHON Aurélie","ALAZARD Philippe","P",0,2,28,120,"2019-11-23","CD60  R1 - T2 - Tour Principal - MERU","Qualifications","2019-2020",null,null,null,null,0,null,0]
["BARTHON Aurélie","BOZON Robert","P",0,2,52,120,"2019-11-23","CD60  R1 - T2 - Tour Principal - MERU","Qualifications","2019-2020",null,null,null,null,0,null,0]
["BARTHON Aurélie","BARBE Philippe","P",0,1,40,120,"2021-10-02","T 1 OISE - Qualifications R 1 - Tour principal - MERU","Qualifications","2021-2022",null,null,null,null,0,null,0]
["BARTHON Aurélie","BARBE Philippe","P",0,1,50,120,"2021-10-02","T 1 OISE - Qualifications R 1 - Tour principal - MERU","1/4 Finale","2021-2022",null,null,null,null,0,null,0]
["BARTHON Aurélie","BOUIGES Armelle","G",1,0,120,53,"2021-10-02","T 1 OISE - Qualifications R 1 - Tour principal - MERU","Qualifications","2021-2022",null,null,null,null,1,null,0]
["BARTHON Aurélie","BARBE Logan","G",1,0,120,85,"2021-12-18","T 2 OISE - Qualifications R 1 - Tour principal - CREPY","Qualifications","2021-2022",null,null,null,null,1,null,0]
["BARTHON Aurélie","NAHIRNYJ Alexi","P",0,1,57,120,"2021-12-18","T 2 OISE - Qualifications R 1 - Tour principal - CREPY","Qualifications","2021-2022",null,null,null,null,0,null,0]
["BARTHON Aurélie","NAHIRNYJ Alexi","P",0,1,28,120,"2021-12-18","T 2 OISE - Qualifications R 1 - Tour principal - CREPY","1/4 Finale","2021-2022",null,null,null,null,0,null,0]
["BARTHON Aurélie","CHENAL Gérard","P",0,1,106,120,"2022-12-03","T 2 OISE - Qualifications R 1 - Tour Principal - SENLIS","Qualifications","2022-2023",null,null,null,null,0,null,0]
["BARTHON Aurélie","GRANGER Pascal","P",0,1,42,120,"2022-12-03","T 2 OISE - Qualifications R 1 - Tour Principal - SENLIS","Qualifications","2022-2023",null,null,null,null,0,null,0]
["Fin des données",null,null,null,null,null,null,null,null,null,"",null,null,null,null,{"$f":"IF($K39=P$1,COUNTIF($C39,\"G\"),0)","v":0},null,{"$f":"IF($K39=R$1,COUNTIF($C39,\"G\"),0)","v":0}]

{"sheet":"BEGHIN Benjamin","index":9,"n_rows":61,"n_cols":22,"rows_kept":61,"cut":false,"hidden":false,"merged":[]}
["BEGHIN Benjamin",null,null,null,null,null,null,null,null,null,null,null,null,null,null,{"$f":"SaisonDeb","v":"2021-2022"},null,{"$f":"SaisonFin","v":"2022-2023"},null,"Toutes saisons"]
[{"$error":"#N/A"},null,null,null,null,null,null,null,null,null,null,null,null,null,null,"Nombre","%age","Nombre","%age","Nombre","%age"]
[{"$error":"#N/A"},null,null,null,null,null,null,null,null,null,null,null,null,"Matchs","Gagnés",{"$f":"SUM(P$15:P$157)","v":17},{"$f":"IF(P$3+P$4>0,P3/(P$3+P$4),\"\")","v":0.77272727272727271},{"$f":"SUM(R$15:R$157)","v":0},{"$f":"IF(R$3+R$4>0,R3/(R$3+R$4),\"\")","v":""},{"$f":"COUNTIF($C$15:$C$157,\"G\")","v":30},{"$f":"IF(T$3+T$4>0,T3/(T$3+T$4),\"\")","v":0.66666666666666663}]
[{"$error":"#N/A"},null,null,null,null,null,null,null,null,null,null,null,null,null,"Perdus",{"$f":"COUNTIF($K$15:$M$157,SaisonDeb)-P3","v":5},{"$f":"IF(P$3+P$4>0,P4/(P$3+P$4),\"\")","v":0.22727272727272727},{"$f":"COUNTIF($K$15:$K$157,SaisonFin)-R3","v":0},{"$f":"IF(R$3+R$4>0,R4/(R$3+R$4),\"\")","v":""},{"$f":"COUNTIF($C$15:$C$157,\"P\")","v":15},{"$f":"IF(T$3+T$4>0,T4/(T$3+T$4),\"\")","v":0.33333333333333331}]
[{"$error":"#N/A"},null,null,null,null,null,null,null,null,null,null,null,null,null,"Total / Moy.",{"$f":"SUM(P3:P4)","v":22},{"$f":"IF(SUMIF($K$15:$K$157,SaisonDeb,$G$15:$G$157)>0,SUMIF($K$15:$K$157,SaisonDeb,$F$15:$F$157)/SUMIF($K$15:$K$157,SaisonDeb,$G$15:$G$157),\"\")","v":1.1759211209133369},{"$f":"SUM(R3:R4)","v":0},{"$f":"IF(SUMIF($K$15:$K$157,SaisonFin,$G$15:$G$157)>0,SUMIF($K$15:$K$157,SaisonFin,$F$15:$F$157)/SUMIF($K$15:$K$157,SaisonFin,$G$15:$G$157),\"\")","v":""},{"$f":"SUM(T3:T4)","v":45},{"$f":"IF(SUM($G$15:$G$157)>0,SUM($F$15:$F$157)/SUM($G$15:$G$157),\"\")","v":1.1559810671256454},{"$f":"IF(SUMIF($K$15:$K$61,SaisonDeb,$G$15:$G$61)+SUMIF($K$15:$K$61,SaisonFin,$G$15:$G$61)>0,(SUMIF($K$15:$K$61,SaisonDeb,$F$15:$F$61)+SUMIF($K$15:$K$61,SaisonFin,$F$15:$F$61))/(SUMIF($K$15:$K$61,SaisonDeb,$G$15:$G$61)+SUMIF($K$15:$K$61,SaisonFin,$G$15:$G$61)),\"\")","v":1.1759211209133369}]
[null,null,null,null,null,null,null,null,null,null,null,null,null,"Sets","Gagnés",{"$f":"SUMIF($K$15:$K$157,SaisonDeb,$D$15:$D$157)","v":21},{"$f":"IF(P$6+P$7>0,P6/(P$6+P$7),\"\")","v":0.72413793103448276},{"$f":"SUMIF($K$15:$K$157,SaisonFin,$D$15:$D$157)","v":0},{"$f":"IF(R$6+R$7>0,R6/(R$6+R$7),\"\")","v":""},{"$f":"SUM($D$15:$D$157)","v":50},{"$f":"IF(T$6+T$7>0,T6/(T$6+T$7),\"\")","v":0.6097560975609756}]
[null,null,null,null,null,null,null,null,null,null,null,null,null,null,"Perdus",{"$f":"SUMIF($K$15:$K$157,SaisonDeb,$E$15:$E$157)","v":8},{"$f":"IF(P$6+P$7>0,P7/(P$6+P$7),\"\")","v":0.27586206896551724},{"$f":"SUMIF($K$15:$K$157,SaisonFin,$E$15:$E$157)","v":0},{"$f":"IF(R$6+R$7>0,R7/(R$6+R$7),\"\")","v":""},{"$f":"SUM($E$15:$E$157)","v":32},{"$f":"IF(T$6+T$7>0,T7/(T$6+T$7),\"\")","v":0.3902439024390244}]
["Récapitulatif joueurs",null,null,null,null,null,null,null,null,null,null,null,null,null,"Total",{"$f":"SUM(P6:P7)","v":29},null,{"$f":"SUM(R6:R7)","v":0},null,{"$f":"SUM(T6:T7)","v":82}]
[]
[]
[]
[]
[]
[]
["Joueur","Adversaire","G/P","Sets gagnés","Sets perdus","pts marqués","pts subis","Date","Compétition","Phase","Saison"]
["BEGHIN Benjamin","DELATTRE Gregory","G",2,0,120,72,"2016-01-14","T1 Qualifications CD59 R1 - DUNKERQUE","Qualifications",{"$f":"IF(H16<>\"\",IF(MONTH(H16)>MoisRef,YEAR(H16)&\"-\"&YEAR(H16)+1,YEAR(H16)-1&\"-\"&YEAR(H16)),\"\")","v":"2015-2016"},null,null,null,null,{"$f":"IF($K16=P$1,COUNTIF($C16,\"G\"),0)","v":0},null,{"$f":"IF($K16=R$1,COUNTIF($C16,\"G\"),0)","v":0}]
["BEGHIN Benjamin","DELATTRE Gregory","P",1,2,137,168,"2016-01-14","T1 Qualifications CD59 R1 - DUNKERQUE","1/2 Finale","2015-2016",null,null,null,null,0,null,0]
["BEGHIN Benjamin","NOYER Pascal","G",2,0,120,61,"2016-01-14","T1 Qualifications CD59 R1 - DUNKERQUE","1/4 Finale","2015-2016",null,null,null,null,0,null,0]
["BEGHIN Benjamin","PAILLARD Bertrand","P",1,2,155,164,"2016-01-14","T1 Qualifications CD59 R1 - DUNKERQUE","Qualifications","2015-2016",null,null,null,null,0,null,0]
["BEGHIN Benjamin","ESTERMANS Bernard","P",1,2,147,177,"2017-02-25","T2 Qualifications CD59 R1 - VILLENEUVE D'ASCQ","Qualifications","2016-2017",null,null,null,null,0,null,0]
["BEGHIN Benjamin","ESTERMANS Bernard","G",2,0,120,77,"2017-02-25","T2 Qualifications CD59 R1 - VILLENEUVE D'ASCQ","Qualifications","2016-2017",null,null,null,null,0,null,0]
["BEGHIN Benjamin","VEREECQUE Bernard","P",0,2,97,120,"2017-02-25","T2 Qualifications CD59 R1 - VILLENEUVE D'ASCQ","1/2 Finale","2016-2017",null,null,null,null,0,null,0]
["BEGHIN Benjamin","DUTAILLY Michel","G",1,0,100,58,"2017-03-11","T3  CD59 R1 - CONSOLANTE - ST POL SUR MER","1/2 Finale","2016-2017",null,null,null,null,0,null,0]
["BEGHIN Benjamin","TOP Alexis","G",1,0,100,37,"2017-03-11","T3  CD59 R1 - CONSOLANTE - ST POL SUR MER","Finale","2016-2017",null,null,null,null,0,null,0]
["BEGHIN Benjamin","BEGHIN Nicolas","P",1,2,140,159,"2017-03-11","T3 Qualifications CD59 R1 - ST POL SUR MER","Qualifications","2016-2017",null,null,null,null,0,null,0]
["BEGHIN Benjamin","SZWARC Patrick","P",0,2,111,120,"2017-03-11","T3 Qualifications CD59 R1 - ST POL SUR MER","Qualifications","2016-2017",null,null,null,null,0,null,0]
["BEGHIN Benjamin","BEGHIN Nicolas","G",3,0,180,126,"2017-03-19","FINALE CD59 R1 - ST POL SUR MER","Qualifications","2016-2017",null,null,null,null,0,null,0]
["BEGHIN Benjamin","ESTERMANS Bernard","P",1,3,207,233,"2017-03-19","FINALE CD59 R1 - ST POL SUR MER","1/2 Finale","2016-2017",null,null,null,null,0,null,0]
["BEGHIN Benjamin","MONFLIER Francis","G",3,2,277,228,"2017-03-19","FINALE CD59 R1 - ST POL SUR MER","Qualifications","2016-2017",null,null,null,null,0,null,0]
["BEGHIN Benjamin","DEREUDDRE Dominique","G",1,0,100,51,"2017-09-30","T1 Qualifications R1 CD59 - GRAVELINES","Qualifications","2017-2018",null,null,null,null,0,null,0]
["BEGHIN Benjamin","NOYER Pascal","G",1,0,100,73,"2017-09-30","T1 Qualifications R1 CD59 - GRAVELINES","Qualifications","2017-2018",null,null,null,null,0,null,0]
["BEGHIN Benjamin","VEREECQUE Bernard","G",1,0,100,81,"2017-09-30","T1 Qualifications R1 CD59 - GRAVELINES","Qualifications","2017-2018",null,null,null,null,0,null,0]
["BEGHIN Benjamin","WASYLYSZYN Jean-Pierre","G",1,0,100,52,"2017-09-30","T1 Qualifications R1 CD59 - GRAVELINES","Qualifications","2017-2018",null,null,null,null,0,null,0]
["BEGHIN Benjamin","DUTAILLY Michel","P",1,2,172,173,"2017-09-30","T1 Qualifications R1 CD59 - GRAVELINES","Qualifications","2017-2018",null,null,null,null,0,null,0]
["BEGHIN Benjamin","DUTAILLY Michel","P",0,2,85,120,"2017-09-30","T1 Qualifications R1 CD59 - GRAVELINES","Qualifications","2017-2018",null,null,null,null,0,null,0]
["BEGHIN Benjamin","MANTEN Paul","G",2,1,161,145,"2018-01-20","T2 Qualifications R1 CD59 - ST POL SUR MER","Qualifications","2017-2018",null,null,null,null,0,null,0]
["BEGHIN Benjamin","MANTEN Paul","P",1,2,158,172,"2018-01-20","T2 Qualifications R1 CD59 - ST POL SUR MER","1/4 Finale","2017-2018",null,null,null,null,0,null,0]
["BEGHIN Benjamin","VEREECQUE Bernard","G",2,0,120,54,"2018-01-20","T2 Qualifications R1 CD59 - ST POL SUR MER","Qualifications","2017-2018",null,null,null,null,0,null,0]
["BEGHIN Benjamin","SZWARC Johann","G",1,0,100,53,"2021-10-16","T1 5Q R1 - VILLENEUVE D'ASCQ","Qualifications","2021-2022",null,null,null,null,1,null,0]
["BEGHIN Benjamin","SZWARC Johann","G",1,0,100,79,"2021-10-16","T1 5Q R1 - VILLENEUVE D'ASCQ","Qualifications","2021-2022",null,null,null,null,1,null,0]
["BEGHIN Benjamin","SZWARC Patrick","P",0,1,52,100,"2021-10-16","T1 5Q R1 - VILLENEUVE D'ASCQ","1/4 Finale","2021-2022",null,null,null,null,0,null,0]
["BEGHIN Benjamin","BEGHIN Nicolas","G",1,0,100,95,"2021-12-18","T2 5Q R1 - GRAVELINES - CONVOCATON 8h30","1/2 Finale","2021-2022",null,null,null,null,1,null,0]
["BEGHIN Benjamin","KERKHOF Hervé","P",0,1,53,100,"2021-12-18","T2 5Q R1 - GRAVELINES - CONVOCATON 8h30","Finale","2021-2022",null,null,null,null,0,null,0]
["BEGHIN Benjamin","LORTHIOIR Jean-Luc","G",1,0,100,98,"2021-12-18","T2 5Q R1 - GRAVELINES - CONVOCATON 8h30","1/4 Finale","2021-2022",null,null,null,null,1,null,0]
["BEGHIN Benjamin","MANTEN Paul","P",0,1,92,100,"2021-12-18","T2 5Q R1 - GRAVELINES - CONVOCATON 8h30","Qualifications","2021-2022",null,null,null,null,0,null,0]
["BEGHIN Benjamin","MANTEN Paul","G",1,0,100,85,"2021-12-18","T2 5Q R1 - GRAVELINES - CONVOCATON 8h30","Qualifications","2021-2022",null,null,null,null,1,null,0]
["BEGHIN Benjamin","BELLENS Antoine","P",0,1,93,100,"2022-02-26","T3 5Q R1 - GRAVELINES ","Finale","2021-2022",null,null,null,null,0,null,0]
["BEGHIN Benjamin","KERKHOF Hervé","G",1,0,100,51,"2022-02-26","T3 5Q R1 - GRAVELINES ","1/2 Finale","2021-2022",null,null,null,null,1,null,0]
["BEGHIN Benjamin","LE GOHEBEL Jacques","G",1,0,100,98,"2022-02-26","T3 5Q R1 - GRAVELINES ","Qualifications","2021-2022",null,null,null,null,1,null,0]
["BEGHIN Benjamin","LORTHIOIR Jean-Luc","G",1,0,100,82,"2022-02-26","T3 5Q R1 - GRAVELINES ","1/4 Finale","2021-2022",null,null,null,null,1,null,0]
["BEGHIN Benjamin","MANTEN Paul","G",1,0,100,60,"2022-02-26","T3 5Q R1 - GRAVELINES ","Qualifications","2021-2022",null,null,null,null,1,null,0]
["BEGHIN Benjamin","BELLENS Antoine","G",1,0,100,86,"2022-04-02","T4 5Q R1 - ANNOEULLIN","1/2 Finale","2021-2022",null,null,null,null,1,null,0]
["BEGHIN Benjamin","BERRIER François","G",1,0,100,50,"2022-04-02","T4 5Q R1 - ANNOEULLIN","Qualifications","2021-2022",null,null,null,null,1,null,0]
["BEGHIN Benjamin","LORTHIOIR Jean-Luc","P",0,1,63,100,"2022-04-02","T4 5Q R1 - ANNOEULLIN","Finale","2021-2022",null,null,null,null,0,null,0]
["BEGHIN Benjamin","NOYER Pascal","G",1,0,100,62,"2022-04-02","T4 5Q R1 - ANNOEULLIN","Qualifications","2021-2022",null,null,null,null,1,null,0]
["BEGHIN Benjamin","SZWARC Johann","G",1,0,100,45,"2022-04-02","T4 5Q R1 - ANNOEULLIN","1/4 Finale","2021-2022",null,null,null,null,1,null,0]
["BEGHIN Benjamin","HOCHART James","G",2,1,165,119,"2022-05-08","Finale CD59 5Q R1 - VILLENEUVE D'ASCQ","Qualifications","2021-2022",null,null,null,null,1,null,0]
["BEGHIN Benjamin","KERKHOF Hervé","G",2,1,178,167,"2022-05-08","Finale CD59 5Q R1 - VILLENEUVE D'ASCQ","1/2 Finale","2021-2022",null,null,null,null,1,null,0]
["BEGHIN Benjamin","LORTHIOIR Jean-Luc","G",2,0,120,63,"2022-05-08","Finale CD59 5Q R1 - VILLENEUVE D'ASCQ","Qualifications","2021-2022",null,null,null,null,1,null,0]
["BEGHIN Benjamin","LORTHIOIR Jean-Luc","G",2,1,150,134,"2022-05-08","Finale CD59 5Q R1 - VILLENEUVE D'ASCQ","Finale","2021-2022",null,null,null,null,1,null,0]
["Fin des données",null,null,null,null,null,null,null,null,null,"",null,null,null,null,{"$f":"IF($K61=P$1,COUNTIF($C61,\"G\"),0)","v":0},null,{"$f":"IF($K61=R$1,COUNTIF($C61,\"G\"),0)","v":0}]

{"sheet":"BEGHIN Nicolas","index":10,"n_rows":89,"n_cols":22,"rows_kept":89,"cut":false,"hidden":false,"merged":[]}
["BEGHIN Nicolas",null,null,null,null,null,null,null,null,null,null,null,null,null,null,{"$f":"SaisonDeb","v":"2021-2022"},null,{"$f":"SaisonFin","v":"2022-2023"},null,"Toutes saisons"]
[{"$error":"#N/A"},null,null,null,null,null,null,null,null,null,null,null,null,null,null,"Nombre","%age","Nombre","%age","Nombre","%age"]
[{"$error":"#N/A"},null,null,null,null,null,null,null,null,null,null,null,null,"Matchs","Gagnés",{"$f":"SUM(P$15:P$185)","v":13},{"$f":"IF(P$3+P$4>0,P3/(P$3+P$4),\"\")","v":0.68421052631578949},{"$f":"SUM(R$15:R$185)","v":0},{"$f":"IF(R$3+R$4>0,R3/(R$3+R$4),\"\")","v":""},{"$f":"COUNTIF($C$15:$C$185,\"G\")","v":41},{"$f":"IF(T$3+T$4>0,T3/(T$3+T$4),\"\")","v":0.56164383561643838}]
[{"$error":"#N/A"},null,null,null,null,null,null,null,null,null,null,null,null,null,"Perdus",{"$f":"COUNTIF($K$15:$M$185,SaisonDeb)-P3","v":6},{"$f":"IF(P$3+P$4>0,P4/(P$3+P$4),\"\")","v":0.31578947368421051},{"$f":"COUNTIF($K$15:$K$185,SaisonFin)-R3","v":0},{"$f":"IF(R$3+R$4>0,R4/(R$3+R$4),\"\")","v":""},{"$f":"COUNTIF($C$15:$C$185,\"P\")","v":32},{"$f":"IF(T$3+T$4>0,T4/(T$3+T$4),\"\")","v":0.43835616438356162}]
[{"$error":"#N/A"},null,null,null,null,null,null,null,null,null,null,null,null,null,"Total / Moy.",{"$f":"SUM(P3:P4)","v":19},{"$f":"IF(SUMIF($K$15:$K$185,SaisonDeb,$G$15:$G$185)>0,SUMIF($K$15:$K$185,SaisonDeb,$F$15:$F$185)/SUMIF($K$15:$K$185,SaisonDeb,$G$15:$G$185),\"\")","v":1.1697511167836629},{"$f":"SUM(R3:R4)","v":0},{"$f":"IF(SUMIF($K$15:$K$185,SaisonFin,$G$15:$G$185)>0,SUMIF($K$15:$K$185,SaisonFin,$F$15:$F$185)/SUMIF($K$15:$K$185,SaisonFin,$G$15:$G$185),\"\")","v":""},{"$f":"SUM(T3:T4)","v":73},{"$f":"IF(SUM($G$15:$G$185)>0,SUM($F$15:$F$185)/SUM($G$15:$G$185),\"\")","v":1.0594132029339853},{"$f":"IF(SUMIF($K$15:$K$89,SaisonDeb,$G$15:$G$89)+SUMIF($K$15:$K$89,SaisonFin,$G$15:$G$89)>0,(SUMIF($K$15:$K$89,SaisonDeb,$F$15:$F$89)+SUMIF($K$15:$K$89,SaisonFin,$F$15:$F$89))/(SUMIF($K$15:$K$89,SaisonDeb,$G$15:$G$89)+SUMIF($K$15:$K$89,SaisonFin,$G$15:$G$89)),\"\")","v":1.1697511167836629}]
[null,null,null,null,null,null,null,null,null,null,null,null,null,"Sets","Gagnés",{"$f":"SUMIF($K$15:$K$185,SaisonDeb,$D$15:$D$185)","v":15},{"$f":"IF(P$6+P$7>0,P6/(P$6+P$7),\"\")","v":0.65217391304347827},{"$f":"SUMIF($K$15:$K$185,SaisonFin,$D$15:$D$185)","v":0},{"$f":"IF(R$6+R$7>0,R6/(R$6+R$7),\"\")","v":""},{"$f":"SUM($D$15:$D$185)","v":83},{"$f":"IF(T$6+T$7>0,T6/(T$6+T$7),\"\")","v":0.54248366013071891}]
[null,null,null,null,null,null,null,null,null,null,null,null,null,null,"Perdus",{"$f":"SUMIF($K$15:$K$185,SaisonDeb,$E$15:$E$185)","v":8},{"$f":"IF(P$6+P$7>0,P7/(P$6+P$7),\"\")","v":0.34782608695652173},{"$f":"SUMIF($K$15:$K$185,SaisonFin,$E$15:$E$185)","v":0},{"$f":"IF(R$6+R$7>0,R7/(R$6+R$7),\"\")","v":""},{"$f":"SUM($E$15:$E$185)","v":70},{"$f":"IF(T$6+T$7>0,T7/(T$6+T$7),\"\")","v":0.45751633986928103}]
["Récapitulatif joueurs",null,null,null,null,null,null,null,null,null,null,null,null,null,"Total",{"$f":"SUM(P6:P7)","v":23},null,{"$f":"SUM(R6:R7)","v":0},null,{"$f":"SUM(T6:T7)","v":153}]
[]
[]
[]
[]
[]
[]
["Joueur","Adversaire","G/P","Sets gagnés","Sets perdus","pts marqués","pts subis","Date","Compétition","Phase","Saison"]
["BEGHIN Nicolas","ESTERMANS Bernard","P",0,2,82,120,"2016-01-14","T1 Qualifications CD59 R1 - DUNKERQUE","Qualifications",{"$f":"IF(H16<>\"\",IF(MONTH(H16)>MoisRef,YEAR(H16)&\"-\"&YEAR(H16)+1,YEAR(H16)-1&\"-\"&YEAR(H16)),\"\")","v":"2015-2016"},null,null,null,null,{"$f":"IF($K16=P$1,COUNTIF($C16,\"G\"),0)","v":0},null,{"$f":"IF($K16=R$1,COUNTIF($C16,\"G\"),0)","v":0}]
["BEGHIN Nicolas","MONFLIER Francis","P",0,2,70,120,"2016-01-14","T1 Qualifications CD59 R1 - DUNKERQUE","1/4 Finale","2015-2016",null,null,null,null,0,null,0]
["BEGHIN Nicolas","PARISIS Francis","G",2,0,120,79,"2016-01-14","T1 Qualifications CD59 R1 - DUNKERQUE","Qualifications","2015-2016",null,null,null,null,0,null,0]
["BEGHIN Nicolas","DUTAILLY Michel","G",2,0,120,77,"2017-02-25","T2 Qualifications CD59 R1 - VILLENEUVE D'ASCQ","Qualifications","2016-2017",null,null,null,null,0,null,0]
["BEGHIN Nicolas","MONFLIER Francis","P",0,2,74,120,"2017-02-25","T2 Qualifications CD59 R1 - VILLENEUVE D'ASCQ","Qualifications","2016-2017",null,null,null,null,0,null,0]
["BEGHIN Nicolas","MONFLIER Francis","P",1,2,162,131,"2017-02-25","T2 Qualifications CD59 R1 - VILLENEUVE D'ASCQ","1/2 Finale","2016-2017",null,null,null,null,0,null,0]
["BEGHIN Nicolas","BEGHIN Benjamin","G",2,1,159,140,"2017-03-11","T3 Qualifications CD59 R1 - ST POL SUR MER","Qualifications","2016-2017",null,null,null,null,0,null,0]
["BEGHIN Nicolas","ESTERMANS Bernard","P",0,2,52,120,"2017-03-11","T3 Qualifications CD59 R1 - ST POL SUR MER","1/2 Finale","2016-2017",null,null,null,null,0,null,0]
["BEGHIN Nicolas","PAILLARD Bertrand","G",2,1,162,156,"2017-03-11","T3 Qualifications CD59 R1 - ST POL SUR MER","1/4 Finale","2016-2017",null,null,null,null,0,null,0]
["BEGHIN Nicolas","SZWARC Patrick","P",1,2,166,173,"2017-03-11","T3 Qualifications CD59 R1 - ST POL SUR MER","Qualifications","2016-2017",null,null,null,null,0,null,0]
["BEGHIN Nicolas","BEGHIN Benjamin","P",0,3,126,180,"2017-03-19","FINALE CD59 R1 - ST POL SUR MER","Qualifications","2016-2017",null,null,null,null,0,null,0]
["BEGHIN Nicolas","ESTERMANS Bernard","P",2,3,238,272,"2017-03-19","FINALE CD59 R1 - ST POL SUR MER","Finale","2016-2017",null,null,null,null,0,null,0]
["BEGHIN Nicolas","MONFLIER Francis","G",3,1,219,208,"2017-03-19","FINALE CD59 R1 - ST POL SUR MER","Qualifications","2016-2017",null,null,null,null,0,null,0]
["BEGHIN Nicolas","PAILLARD Bertrand","G",3,0,180,129,"2017-03-19","FINALE CD59 R1 - ST POL SUR MER","1/2 Finale","2016-2017",null,null,null,null,0,null,0]
["BEGHIN Nicolas","ESTERMANS Bernard","G",3,2,231,211,"2018-04-15","Finale R1 CD59 - VILLENEUVE D'ASCQ","Qualifications","2017-2018",null,null,null,null,0,null,0]
["BEGHIN Nicolas","MANTEN Paul","P",1,3,177,227,"2018-04-15","Finale R1 CD59 - VILLENEUVE D'ASCQ","1/2 Finale","2017-2018",null,null,null,null,0,null,0]
["BEGHIN Nicolas","PARISIS Francis","G",3,1,221,177,"2018-04-15","Finale R1 CD59 - VILLENEUVE D'ASCQ","Qualifications","2017-2018",null,null,null,null,0,null,0]
["BEGHIN Nicolas","DEREUDDRE Dominique","G",2,0,120,85,"2017-09-30","T1 Qualifications R1 CD59 - GRAVELINES","Qualifications","2017-2018",null,null,null,null,0,null,0]
["BEGHIN Nicolas","LEFORT Pierre","G",2,1,174,151,"2017-09-30","T1 Qualifications R1 CD59 - GRAVELINES","1/4 Finale","2017-2018",null,null,null,null,0,null,0]
["BEGHIN Nicolas","MANTEN Paul","P",0,2,87,120,"2017-09-30","T1 Qualifications R1 CD59 - GRAVELINES","Finale","2017-2018",null,null,null,null,0,null,0]
["BEGHIN Nicolas","SZWARC Patrick","G",2,1,172,124,"2017-09-30","T1 Qualifications R1 CD59 - GRAVELINES","Qualifications","2017-2018",null,null,null,null,0,null,0]
["BEGHIN Nicolas","SZWARC Patrick","G",2,0,120,110,"2017-09-30","T1 Qualifications R1 CD59 - GRAVELINES","1/2 Finale","2017-2018",null,null,null,null,0,null,0]
["BEGHIN Nicolas","ESTERMANS Bernard","G",2,0,120,113,"2018-01-20","T2 Qualifications R1 CD59 - ST POL SUR MER","Finale","2017-2018",null,null,null,null,0,null,0]
["BEGHIN Nicolas","MANTEN Paul","G",2,0,120,107,"2018-01-20","T2 Qualifications R1 CD59 - ST POL SUR MER","1/2 Finale","2017-2018",null,null,null,null,0,null,0]
["BEGHIN Nicolas","PARISIS Francis","P",1,2,150,124,"2018-01-20","T2 Qualifications R1 CD59 - ST POL SUR MER","Qualifications","2017-2018",null,null,null,null,0,null,0]
["BEGHIN Nicolas","PARISIS Francis","G",2,0,120,49,"2018-01-20","T2 Qualifications R1 CD59 - ST POL SUR MER","1/4 Finale","2017-2018",null,null,null,null,0,null,0]
["BEGHIN Nicolas","WASYLYSZYN Jean-Pierre","G",2,0,120,75,"2018-01-20","T2 Qualifications R1 CD59 - ST POL SUR MER","Qualifications","2017-2018",null,null,null,null,0,null,0]
["BEGHIN Nicolas","LECROART Serge","P",0,2,116,120,"2018-02-04","T3 Qualifications R1 CD59 - GRAVELINES","Qualifications","2017-2018",null,null,null,null,0,null,0]
["BEGHIN Nicolas","LECROART Serge","P",1,2,146,166,"2018-02-04","T3 Qualifications R1 CD59 - GRAVELINES","1/2 Finale","2017-2018",null,null,null,null,0,null,0]
["BEGHIN Nicolas","WASYLYSZYN Jean-Pierre","G",2,0,120,71,"2018-02-04","T3 Qualifications R1 CD59 - GRAVELINES","Qualifications","2017-2018",null,null,null,null,0,null,0]
["BEGHIN Nicolas","DEREUDDRE Dominique","G",2,0,120,65,"2018-03-10","T4 Qualifications R1 CD59 - VILLENEUVE D'ASCQ","Qualifications","2017-2018",null,null,null,null,0,null,0]
["BEGHIN Nicolas","LECROART Serge","G",2,1,168,138,"2018-03-10","T4 Qualifications R1 CD59 - VILLENEUVE D'ASCQ","Qualifications","2017-2018",null,null,null,null,0,null,0]
["BEGHIN Nicolas","MANTEN Paul","P",0,2,60,120,"2018-03-10","T4 Qualifications R1 CD59 - VILLENEUVE D'ASCQ","1/2 Finale","2017-2018",null,null,null,null,0,null,0]
["BEGHIN Nicolas","CAUX Frédéric","G",2,0,120,85,"2018-10-20","T1 5Q R1 CD59 - DUNKERQUE","1/2 Finale","2018-2019",null,null,null,null,0,null,0]
["BEGHIN Nicolas","LORTHIOIR Jean-Luc","G",2,0,120,97,"2018-10-20","T1 5Q R1 CD59 - DUNKERQUE","Qualifications","2018-2019",null,null,null,null,0,null,0]
["BEGHIN Nicolas","PAILLARD Bertrand","P",1,2,131,167,"2018-10-20","T1 5Q R1 CD59 - DUNKERQUE","Qualifications","2018-2019",null,null,null,null,0,null,0]
["BEGHIN Nicolas","PAILLARD Bertrand","P",1,2,128,166,"2018-10-20","T1 5Q R1 CD59 - DUNKERQUE","Finale","2018-2019",null,null,null,null,0,null,0]
["BEGHIN Nicolas","LECROART Serge","G",2,0,120,71,"2018-11-24","T2 5Q R1 CD59  - DOUAI","1/2 Finale","2018-2019",null,null,null,null,0,null,0]
["BEGHIN Nicolas","MONFLIER Francis","P",0,2,66,120,"2018-11-24","T2 5Q R1 CD59  - DOUAI","Finale","2018-2019",null,null,null,null,0,null,0]
["BEGHIN Nicolas","HOCHART James","G",2,1,162,171,"2019-01-19","T4 5Q R1 CD59  - VILLENEUVE D'ASCQ","Qualifications","2018-2019",null,null,null,null,0,null,0]
["BEGHIN Nicolas","MONFLIER Francis","P",0,2,47,120,"2019-01-19","T4 5Q R1 CD59  - VILLENEUVE D'ASCQ","Qualifications","2018-2019",null,null,null,null,0,null,0]
["BEGHIN Nicolas","HOCHART James","G",1,0,100,88,"2019-01-19","T4 5Q R1 CD59  - VILLENEUVE D'ASCQ - CONSOLANTE -","Qualifications","2018-2019",null,null,null,null,0,null,0]
["BEGHIN Nicolas","PAILLARD Bertrand","P",0,1,78,100,"2019-01-19","T4 5Q R1 CD59  - VILLENEUVE D'ASCQ - CONSOLANTE -","Qualifications","2018-2019",null,null,null,null,0,null,0]
["BEGHIN Nicolas","ESTERMANS Bernard","P",0,2,79,120,"2019-03-02","Finale CD59 R1 - GRAVELINES","Qualifications","2018-2019",null,null,null,null,0,null,0]
["BEGHIN Nicolas","PAILLARD Bertrand","P",1,2,172,176,"2019-03-02","Finale CD59 R1 - GRAVELINES","Qualifications","2018-2019",null,null,null,null,0,null,0]
["BEGHIN Nicolas","DUTAILLY Michel","P",0,1,76,100,"2019-11-24","T2 5Q R1 CD59  - GRAVELINES - CONSOLANTE","Qualifications","2019-2020",null,null,null,null,0,null,0]
["BEGHIN Nicolas","DUTAILLY Michel","P",0,1,91,100,"2019-11-24","T2 5Q R1 CD59  - GRAVELINES - CONSOLANTE","1/2 Finale","2019-2020",null,null,null,null,0,null,0]
["BEGHIN Nicolas","HOCHART James","G",1,0,100,17,"2019-11-24","T2 5Q R1 CD59  - GRAVELINES - CONSOLANTE","Qualifications","2019-2020",null,null,null,null,0,null,0]
["BEGHIN Nicolas","VEREECQUE Bernard","G",1,0,100,53,"2019-11-24","T2 5Q R1 CD59  - GRAVELINES - CONSOLANTE","Qualifications","2019-2020",null,null,null,null,0,null,0]
["BEGHIN Nicolas","HORNAIN Denis","P",1,2,156,138,"2019-11-24","T2 5Q R1 CD59 - GRAVELINES ","Qualifications","2019-2020",null,null,null,null,0,null,0]
["BEGHIN Nicolas","KERKHOF Hervé","P",0,2,105,120,"2019-11-24","T2 5Q R1 CD59 - GRAVELINES ","Qualifications","2019-2020",null,null,null,null,0,null,0]
["BEGHIN Nicolas","MANTEN Paul","G",2,0,120,71,"2020-01-04","T3 5Q R1 CD59 - GRAVELINES - Convocation 8h30 -","Qualifications","2019-2020",null,null,null,null,0,null,0]
["BEGHIN Nicolas","MANTEN Paul","P",0,2,50,120,"2020-01-04","T3 5Q R1 CD59 - GRAVELINES - Convocation 8h30 -","1/4 Finale","2019-2020",null,null,null,null,0,null,0]
["BEGHIN Nicolas","VEREECQUE Bernard","G",2,0,120,35,"2020-01-04","T3 5Q R1 CD59 - GRAVELINES - Convocation 8h30 -","Qualifications","2019-2020",null,null,null,null,0,null,0]
["BEGHIN Nicolas","BELLENS Antoine","G",1,0,100,94,"2021-10-16","T1 5Q R1 - VILLENEUVE D'ASCQ","Finale","2021-2022",null,null,null,null,1,null,0]
["BEGHIN Nicolas","BLONDEL Jean","G",1,0,100,55,"2021-10-16","T1 5Q R1 - VILLENEUVE D'ASCQ","Qualifications","2021-2022",null,null,null,null,1,null,0]
["BEGHIN Nicolas","HOCHART James","G",1,0,100,71,"2021-10-16","T1 5Q R1 - VILLENEUVE D'ASCQ","1/2 Finale","2021-2022",null,null,null,null,1,null,0]
["BEGHIN Nicolas","LECROART Serge","G",1,0,100,57,"2021-10-16","T1 5Q R1 - VILLENEUVE D'ASCQ","1/4 Finale","2021-2022",null,null,null,null,1,null,0]
["BEGHIN Nicolas","SZWARC Patrick","G",1,0,100,68,"2021-10-16","T1 5Q R1 - VILLENEUVE D'ASCQ","Qualifications","2021-2022",null,null,null,null,1,null,0]
["BEGHIN Nicolas","BARKUT Volkan","G",1,0,100,59,"2021-12-18","T2 5Q R1 - GRAVELINES - CONVOCATON 8h30","Qualifications","2021-2022",null,null,null,null,1,null,0]
["BEGHIN Nicolas","BEGHIN Benjamin","P",0,1,95,100,"2021-12-18","T2 5Q R1 - GRAVELINES - CONVOCATON 8h30","1/2 Finale","2021-2022",null,null,null,null,0,null,0]
["BEGHIN Nicolas","BELLENS Antoine","G",1,0,100,80,"2021-12-18","T2 5Q R1 - GRAVELINES - CONVOCATON 8h30","1/4 Finale","2021-2022",null,null,null,null,1,null,0]
["BEGHIN Nicolas","LORTHIOIR Jean-Luc","P",0,1,58,100,"2021-12-18","T2 5Q R1 - GRAVELINES - CONVOCATON 8h30","Qualifications","2021-2022",null,null,null,null,0,null,0]
["BEGHIN Nicolas","DUTAILLY Michel","G",1,0,100,78,"2022-02-26","T3 5Q R1 - GRAVELINES - CONSOLANTE","Qualifications","2021-2022",null,null,null,null,1,null,0]
["BEGHIN Nicolas","SZWARC Johann","G",1,0,100,54,"2022-02-26","T3 5Q R1 - GRAVELINES - CONSOLANTE","Qualifications","2021-2022",null,null,null,null,{"$f":"IF($K80=P$1,COUNTIF($C80,\"G\"),0)","v":1},null,{"$f":"IF($K80=R$1,COUNTIF($C80,\"G\"),0)","v":0}]
["BEGHIN Nicolas","DUTAILLY Michel","G",1,0,100,90,"2022-02-26","T3 5Q R1 - GRAVELINES ","Qualifications","2021-2022",null,null,null,null,1,null,0]
["BEGHIN Nicolas","MONFLIER Francis","P",0,1,89,100,"2022-02-26","T3 5Q R1 - GRAVELINES ","Qualifications","2021-2022",null,null,null,null,0,null,0]
["BEGHIN Nicolas","LECROART Serge","G",1,0,100,74,"2022-04-02","T4 5Q R1 - ANNOEULLIN","Qualifications","2021-2022",null,null,null,null,1,null,0]
["BEGHIN Nicolas","LORTHIOIR Jean-Luc","P",0,1,87,100,"2022-04-02","T4 5Q R1 - ANNOEULLIN","1/4 Finale","2021-2022",null,null,null,null,0,null,0]
["BEGHIN Nicolas","PARENT Jean-René","G",1,0,100,44,"2022-04-02","T4 5Q R1 - ANNOEULLIN","Qualifications","2021-2022",null,null,null,null,1,null,0]
["BEGHIN Nicolas","DUC Stéphane","G",2,0,120,57,"2022-05-08","Finale CD59 5Q R1 - VILLENEUVE D'ASCQ","Qualifications","2021-2022",null,null,null,null,1,null,0]
["BEGHIN Nicolas","KERKHOF Hervé","P",1,2,134,166,"2022-05-08","Finale CD59 5Q R1 - VILLENEUVE D'ASCQ","Qualifications","2021-2022",null,null,null,null,0,null,0]
["BEGHIN Nicolas","LORTHIOIR Jean-Luc","P",0,2,50,120,"2022-05-08","Finale CD59 5Q R1 - VILLENEUVE D'ASCQ","1/2 Finale","2021-2022",null,null,null,null,0,null,0]
["Fin des données",null,null,null,null,null,null,null,null,null,"",null,null,null,null,{"$f":"IF($K89=P$1,COUNTIF($C89,\"G\"),0)","v":0},null,{"$f":"IF($K89=R$1,COUNTIF($C89,\"G\"),0)","v":0}]

{"sheet":"BEGUIN Jean-Luc","index":11,"n_rows":35,"n_cols":22,"rows_kept":35,"cut":false,"hidden":false,"merged":[]}
["BEGUIN Jean-Luc",null,null,null,null,null,null,null,null,null,null,null,null,null,null,{"$f":"SaisonDeb","v":"2021-2022"},null,{"$f":"SaisonFin","v":"2022-2023"},null,"Toutes saisons"]
[{"$error":"#N/A"},null,null,null,null,null,null,null,null,null,null,null,null,null,null,"Nombre","%age","Nombre","%age","Nombre","%age"]
[{"$error":"#N/A"},null,null,null,null,null,null,null,null,null,null,null,null,"Matchs","Gagnés",{"$f":"SUM(P$15:P$131)","v":0},{"$f":"IF(P$3+P$4>0,P3/(P$3+P$4),\"\")","v":""},{"$f":"SUM(R$15:R$131)","v":0},{"$f":"IF(R$3+R$4>0,R3/(R$3+R$4),\"\")","v":""},{"$f":"COUNTIF($C$15:$C$131,\"G\")","v":7},{"$f":"IF(T$3+T$4>0,T3/(T$3+T$4),\"\")","v":0.36842105263157893}]
[{"$error":"#N/A"},null,null,null,null,null,null,null,null,null,null,null,null,null,"Perdus",{"$f":"COUNTIF($K$15:$M$131,SaisonDeb)-P3","v":0},{"$f":"IF(P$3+P$4>0,P4/(P$3+P$4),\"\")","v":""},{"$f":"COUNTIF($K$15:$K$131,SaisonFin)-R3","v":0},{"$f":"IF(R$3+R$4>0,R4/(R$3+R$4),\"\")","v":""},{"$f":"COUNTIF($C$15:$C$131,\"P\")","v":12},{"$f":"IF(T$3+T$4>0,T4/(T$3+T$4),\"\")","v":0.63157894736842102}]
[{"$error":"#N/A"},null,null,null,null,null,null,null,null,null,null,null,null,null,"Total / Moy.",{"$f":"SUM(P3:P4)","v":0},{"$f":"IF(SUMIF($K$15:$K$131,SaisonDeb,$G$15:$G$131)>0,SUMIF($K$15:$K$131,SaisonDeb,$F$15:$F$131)/SUMIF($K$15:$K$131,SaisonDeb,$G$15:$G$131),\"\")","v":""},{"$f":"SUM(R3:R4)","v":0},{"$f":"IF(SUMIF($K$15:$K$131,SaisonFin,$G$15:$G$131)>0,SUMIF($K$15:$K$131,SaisonFin,$F$15:$F$131)/SUMIF($K$15:$K$131,SaisonFin,$G$15:$G$131),\"\")","v":""},{"$f":"SUM(T3:T4)","v":19},{"$f":"IF(SUM($G$15:$G$131)>0,SUM($F$15:$F$131)/SUM($G$15:$G$131),\"\")","v":0.91708754208754206},{"$f":"IF(SUMIF($K$15:$K$35,SaisonDeb,$G$15:$G$35)+SUMIF($K$15:$K$35,SaisonFin,$G$15:$G$35)>0,(SUMIF($K$15:$K$35,SaisonDeb,$F$15:$F$35)+SUMIF($K$15:$K$35,SaisonFin,$F$15:$F$35))/(SUMIF($K$15:$K$35,SaisonDeb,$G$15:$G$35)+SUMIF($K$15:$K$35,SaisonFin,$G$15:$G$35)),\"\")","v":""}]
[null,null,null,null,null,null,null,null,null,null,null,null,null,"Sets","Gagnés",{"$f":"SUMIF($K$15:$K$131,SaisonDeb,$D$15:$D$131)","v":0},{"$f":"IF(P$6+P$7>0,P6/(P$6+P$7),\"\")","v":""},{"$f":"SUMIF($K$15:$K$131,SaisonFin,$D$15:$D$131)","v":0},{"$f":"IF(R$6+R$7>0,R6/(R$6+R$7),\"\")","v":""},{"$f":"SUM($D$15:$D$131)","v":18},{"$f":"IF(T$6+T$7>0,T6/(T$6+T$7),\"\")","v":0.40909090909090912}]
[null,null,null,null,null,null,null,null,null,null,null,null,null,null,"Perdus",{"$f":"SUMIF($K$15:$K$131,SaisonDeb,$E$15:$E$131)","v":0},{"$f":"IF(P$6+P$7>0,P7/(P$6+P$7),\"\")","v":""},{"$f":"SUMIF($K$15:$K$131,SaisonFin,$E$15:$E$131)","v":0},{"$f":"IF(R$6+R$7>0,R7/(R$6+R$7),\"\")","v":""},{"$f":"SUM($E$15:$E$131)","v":26},{"$f":"IF(T$6+T$7>0,T7/(T$6+T$7),\"\")","v":0.59090909090909094}]
["Récapitulatif joueurs",null,null,null,null,null,null,null,null,null,null,null,null,null,"Total",{"$f":"SUM(P6:P7)","v":0},null,{"$f":"SUM(R6:R7)","v":0},null,{"$f":"SUM(T6:T7)","v":44}]
[]
[]
[]
[]
[]
[]
["Joueur","Adversaire","G/P","Sets gagnés","Sets perdus","pts marqués","pts subis","Date","Compétition","Phase","Saison"]
["BEGUIN Jean-Luc","SZWARC Patrick","P",1,2,136,179,"2018-10-20","T1 5Q R2 CD59 - ST POL SUR MER","Qualifications",{"$f":"IF(H16<>\"\",IF(MONTH(H16)>MoisRef,YEAR(H16)&\"-\"&YEAR(H16)+1,YEAR(H16)-1&\"-\"&YEAR(H16)),\"\")","v":"2018-2019"},null,null,null,null,{"$f":"IF($K16=P$1,COUNTIF($C16,\"G\"),0)","v":0},null,{"$f":"IF($K16=R$1,COUNTIF($C16,\"G\"),0)","v":0}]
["BEGUIN Jean-Luc","WASYLYSZYN Jean-Pierre","G",2,1,175,133,"2018-10-20","T1 5Q R2 CD59 - ST POL SUR MER","Qualifications","2018-2019",null,null,null,null,0,null,0]
["BEGUIN Jean-Luc","DEREUDDRE Dominique","P",0,1,83,100,"2018-10-20","T1 5Q R2 CD59 - CONSOLANTE - ST POL SUR MER","Qualifications","2018-2019",null,null,null,null,0,null,0]
["BEGUIN Jean-Luc","SZWARC Johann","P",0,1,68,100,"2018-10-20","T1 5Q R2 CD59 - CONSOLANTE - ST POL SUR MER","Qualifications","2018-2019",null,null,null,null,0,null,0]
["BEGUIN Jean-Luc","DUTAILLY Michel","P",0,2,41,120,"2018-11-24","T2 5Q R2 CD59 - GRAVELINES","Qualifications","2018-2019",null,null,null,null,0,null,0]
["BEGUIN Jean-Luc","NOYER Pascal","G",2,1,147,109,"2018-11-24","T2 5Q R2 CD59 - GRAVELINES","Qualifications","2018-2019",null,null,null,null,0,null,0]
["BEGUIN Jean-Luc","SZWARC Johann","P",0,1,97,100,"2018-11-24","T2 5Q R2 CD59 - CONSOLANTE - GRAVELINES","Qualifications","2018-2019",null,null,null,null,0,null,0]
["BEGUIN Jean-Luc","DEREUDDRE Dominique","P",1,2,149,152,"2019-01-19","T4 5Q R2 CD59 - ST POL SUR MER","Qualifications","2018-2019",null,null,null,null,0,null,0]
["BEGUIN Jean-Luc","DUTAILLY Michel","P",1,2,149,153,"2019-01-19","T4 5Q R2 CD59 - ST POL SUR MER","Qualifications","2018-2019",null,null,null,null,0,null,0]
["BEGUIN Jean-Luc","VEREECQUE Bernard","P",0,2,67,120,"2019-01-19","T4 5Q R2 CD59 - ST POL SUR MER","Qualifications","2018-2019",null,null,null,null,0,null,0]
["BEGUIN Jean-Luc","DEREUDDRE Dominique","G",2,1,161,107,"2019-03-02","Finale CD59 R2 - GRAVELINES","Qualifications","2018-2019",null,null,null,null,0,null,0]
["BEGUIN Jean-Luc","SZWARC Johann","G",2,1,175,162,"2019-03-02","Finale CD59 R2 - GRAVELINES","Qualifications","2018-2019",null,null,null,null,0,null,0]
["BEGUIN Jean-Luc","SZWARC Patrick","P",0,2,86,120,"2019-03-02","Finale CD59 R2 - GRAVELINES","1/2 Finale","2018-2019",null,null,null,null,0,null,0]
["BEGUIN Jean-Luc","HORNAIN Denis","P",1,2,134,178,"2019-10-26","T1 5Q R1 CD59 - VILLENEUVE D'ASCQ","Qualifications","2019-2020",null,null,null,null,0,null,0]
["BEGUIN Jean-Luc","HORNAIN Denis","P",0,2,42,120,"2019-10-26","T1 5Q R1 CD59 - VILLENEUVE D'ASCQ","1/4 Finale","2019-2020",null,null,null,null,0,null,0]
["BEGUIN Jean-Luc","SZWARC Johann","G",2,1,176,151,"2019-10-26","T1 5Q R1 CD59 - VILLENEUVE D'ASCQ","Qualifications","2019-2020",null,null,null,null,0,null,0]
["BEGUIN Jean-Luc","HOCHART James","G",2,0,120,65,"2019-11-24","T2 5Q R1 CD59 - GRAVELINES ","Qualifications","2019-2020",null,null,null,null,0,null,0]
["BEGUIN Jean-Luc","HORNAIN Denis","P",0,2,53,120,"2019-11-24","T2 5Q R1 CD59 - GRAVELINES ","1/4 Finale","2019-2020",null,null,null,null,0,null,0]
["BEGUIN Jean-Luc","VEREECQUE Esteban","G",2,0,120,87,"2019-11-24","T2 5Q R1 CD59 - GRAVELINES ","Qualifications","2019-2020",null,null,null,null,0,null,0]
["Fin des données",null,null,null,null,null,null,null,null,null,"",null,null,null,null,{"$f":"IF($K35=P$1,COUNTIF($C35,\"G\"),0)","v":0},null,{"$f":"IF($K35=R$1,COUNTIF($C35,\"G\"),0)","v":0}]

{"sheet":"BELLENS Antoine","index":12,"n_rows":33,"n_cols":22,"rows_kept":33,"cut":false,"hidden":false,"merged":[]}
["BELLENS Antoine",null,null,null,null,null,null,null,null,null,null,null,null,null,null,{"$f":"SaisonDeb","v":"2021-2022"},null,{"$f":"SaisonFin","v":"2022-2023"},null,"Toutes saisons"]
[{"$error":"#N/A"},null,null,null,null,null,null,null,null,null,null,null,null,null,null,"Nombre","%age","Nombre","%age","Nombre","%age"]
[{"$error":"#N/A"},null,null,null,null,null,null,null,null,null,null,null,null,"Matchs","Gagnés",{"$f":"SUM(P$15:P$129)","v":14},{"$f":"IF(P$3+P$4>0,P3/(P$3+P$4),\"\")","v":0.82352941176470584},{"$f":"SUM(R$15:R$129)","v":0},{"$f":"IF(R$3+R$4>0,R3/(R$3+R$4),\"\")","v":""},{"$f":"COUNTIF($C$15:$C$129,\"G\")","v":14},{"$f":"IF(T$3+T$4>0,T3/(T$3+T$4),\"\")","v":0.82352941176470584}]
[{"$error":"#N/A"},null,null,null,null,null,null,null,null,null,null,null,null,null,"Perdus",{"$f":"COUNTIF($K$15:$M$129,SaisonDeb)-P3","v":3},{"$f":"IF(P$3+P$4>0,P4/(P$3+P$4),\"\")","v":0.17647058823529413},{"$f":"COUNTIF($K$15:$K$129,SaisonFin)-R3","v":0},{"$f":"IF(R$3+R$4>0,R4/(R$3+R$4),\"\")","v":""},{"$f":"COUNTIF($C$15:$C$129,\"P\")","v":3},{"$f":"IF(T$3+T$4>0,T4/(T$3+T$4),\"\")","v":0.17647058823529413}]
[{"$error":"#N/A"},null,null,null,null,null,null,null,null,null,null,null,null,null,"Total / Moy.",{"$f":"SUM(P3:P4)","v":17},{"$f":"IF(SUMIF($K$15:$K$129,SaisonDeb,$G$15:$G$129)>0,SUMIF($K$15:$K$129,SaisonDeb,$F$15:$F$129)/SUMIF($K$15:$K$129,SaisonDeb,$G$15:$G$129),\"\")","v":1.2671755725190839},{"$f":"SUM(R3:R4)","v":0},{"$f":"IF(SUMIF($K$15:$K$129,SaisonFin,$G$15:$G$129)>0,SUMIF($K$15:$K$129,SaisonFin,$F$15:$F$129)/SUMIF($K$15:$K$129,SaisonFin,$G$15:$G$129),\"\")","v":""},{"$f":"SUM(T3:T4)","v":17},{"$f":"IF(SUM($G$15:$G$129)>0,SUM($F$15:$F$129)/SUM($G$15:$G$129),\"\")","v":1.2671755725190839},{"$f":"IF(SUMIF($K$15:$K$33,SaisonDeb,$G$15:$G$33)+SUMIF($K$15:$K$33,SaisonFin,$G$15:$G$33)>0,(SUMIF($K$15:$K$33,SaisonDeb,$F$15:$F$33)+SUMIF($K$15:$K$33,SaisonFin,$F$15:$F$33))/(SUMIF($K$15:$K$33,SaisonDeb,$G$15:$G$33)+SUMIF($K$15:$K$33,SaisonFin,$G$15:$G$33)),\"\")","v":1.2671755725190839}]
[null,null,null,null,null,null,null,null,null,null,null,null,null,"Sets","Gagnés",{"$f":"SUMIF($K$15:$K$129,SaisonDeb,$D$15:$D$129)","v":14},{"$f":"IF(P$6+P$7>0,P6/(P$6+P$7),\"\")","v":0.82352941176470584},{"$f":"SUMIF($K$15:$K$129,SaisonFin,$D$15:$D$129)","v":0},{"$f":"IF(R$6+R$7>0,R6/(R$6+R$7),\"\")","v":""},{"$f":"SUM($D$15:$D$129)","v":14},{"$f":"IF(T$6+T$7>0,T6/(T$6+T$7),\"\")","v":0.82352941176470584}]
[null,null,null,null,null,null,null,null,null,null,null,null,null,null,"Perdus",{"$f":"SUMIF($K$15:$K$129,SaisonDeb,$E$15:$E$129)","v":3},{"$f":"IF(P$6+P$7>0,P7/(P$6+P$7),\"\")","v":0.17647058823529413},{"$f":"SUMIF($K$15:$K$129,SaisonFin,$E$15:$E$129)","v":0},{"$f":"IF(R$6+R$7>0,R7/(R$6+R$7),\"\")","v":""},{"$f":"SUM($E$15:$E$129)","v":3},{"$f":"IF(T$6+T$7>0,T7/(T$6+T$7),\"\")","v":0.17647058823529413}]
["Récapitulatif joueurs",null,null,null,null,null,null,null,null,null,null,null,null,null,"Total",{"$f":"SUM(P6:P7)","v":17},null,{"$f":"SUM(R6:R7)","v":0},null,{"$f":"SUM(T6:T7)","v":17}]
[]
[]
[]
[]
[]
[]
["Joueur","Adversaire","G/P","Sets gagnés","Sets perdus","pts marqués","pts subis","Date","Compétition","Phase","Saison"]
["BELLENS Antoine","BEGHIN Nicolas","P",0,1,94,100,"2021-10-16","T1 5Q R1 - VILLENEUVE D'ASCQ","Finale",{"$f":"IF(H16<>\"\",IF(MONTH(H16)>MoisRef,YEAR(H16)&\"-\"&YEAR(H16)+1,YEAR(H16)-1&\"-\"&YEAR(H16)),\"\")","v":"2021-2022"},null,null,null,null,{"$f":"IF($K16=P$1,COUNTIF($C16,\"G\"),0)","v":0},null,{"$f":"IF($K16=R$1,COUNTIF($C16,\"G\"),0)","v":0}]
["BELLENS Antoine","HAZELAERE François","G",1,0,100,40,"2021-10-16","T1 5Q R1 - VILLENEUVE D'ASCQ","Qualifications","2021-2022",null,null,null,null,1,null,0]
["BELLENS Antoine","LE GOHEBEL Jacques","G",1,0,100,83,"2021-10-16","T1 5Q R1 - VILLENEUVE D'ASCQ","1/4 Finale","2021-2022",null,null,null,null,1,null,0]
["BELLENS Antoine","LORTHIOIR Jean-Luc","G",1,0,100,92,"2021-10-16","T1 5Q R1 - VILLENEUVE D'ASCQ","Qualifications","2021-2022",null,null,null,null,1,null,0]
["BELLENS Antoine","SZWARC Patrick","G",1,0,100,96,"2021-10-16","T1 5Q R1 - VILLENEUVE D'ASCQ","1/2 Finale","2021-2022",null,null,null,null,1,null,0]
["BELLENS Antoine","BEGHIN Nicolas","P",0,1,80,100,"2021-12-18","T2 5Q R1 - GRAVELINES - CONVOCATON 8h30","1/4 Finale","2021-2022",null,null,null,null,0,null,0]
["BELLENS Antoine","BLONDEL Jean","G",1,0,100,44,"2021-12-18","T2 5Q R1 - GRAVELINES - CONVOCATON 8h30","Qualifications","2021-2022",null,null,null,null,1,null,0]
["BELLENS Antoine","DUC Stéphane","G",1,0,100,54,"2021-12-18","T2 5Q R1 - GRAVELINES - CONVOCATON 8h30","Qualifications","2021-2022",null,null,null,null,1,null,0]
["BELLENS Antoine","BEGHIN Benjamin","G",1,0,100,93,"2022-02-26","T3 5Q R1 - GRAVELINES ","Finale","2021-2022",null,null,null,null,1,null,0]
["BELLENS Antoine","MONFLIER Francis","G",1,0,100,51,"2022-02-26","T3 5Q R1 - GRAVELINES ","1/2 Finale","2021-2022",null,null,null,null,1,null,0]
["BELLENS Antoine","NOYER Pascal","G",1,0,100,90,"2022-02-26","T3 5Q R1 - GRAVELINES ","Qualifications","2021-2022",null,null,null,null,1,null,0]
["BELLENS Antoine","NOYER Pascal","G",1,0,100,90,"2022-02-26","T3 5Q R1 - GRAVELINES ","1/4 Finale","2021-2022",null,null,null,null,1,null,0]
["BELLENS Antoine","SZWARC Johann","G",1,0,100,92,"2022-02-26","T3 5Q R1 - GRAVELINES ","Qualifications","2021-2022",null,null,null,null,1,null,0]
["BELLENS Antoine","BEGHIN Benjamin","P",0,1,86,100,"2022-04-02","T4 5Q R1 - ANNOEULLIN","1/2 Finale","2021-2022",null,null,null,null,0,null,0]
["BELLENS Antoine","BLONDEL Jean","G",1,0,100,47,"2022-04-02","T4 5Q R1 - ANNOEULLIN","Qualifications","2021-2022",null,null,null,null,1,null,0]
["BELLENS Antoine","DUC Stéphane","G",1,0,100,54,"2022-04-02","T4 5Q R1 - ANNOEULLIN","1/4 Finale","2021-2022",null,null,null,null,1,null,0]
["BELLENS Antoine","SZWARC Johann","G",1,0,100,84,"2022-04-02","T4 5Q R1 - ANNOEULLIN","Qualifications","2021-2022",null,null,null,null,1,null,0]
["Fin des données",null,null,null,null,null,null,null,null,null,"",null,null,null,null,{"$f":"IF($K33=P$1,COUNTIF($C33,\"G\"),0)","v":0},null,{"$f":"IF($K33=R$1,COUNTIF($C33,\"G\"),0)","v":0}]

{"sheet":"BENLAMLIH Abdelilah","index":13,"n_rows":18,"n_cols":22,"rows_kept":18,"cut":false,"hidden":false,"merged":[]}
["BENLAMLIH Abdelilah",null,null,null,null,null,null,null,null,null,null,null,null,null,null,{"$f":"SaisonDeb","v":"2021-2022"},null,{"$f":"SaisonFin","v":"2022-2023"},null,"Toutes saisons"]
[{"$error":"#N/A"},null,null,null,null,null,null,null,null,null,null,null,null,null,null,"Nombre","%age","Nombre","%age","Nombre","%age"]
[{"$error":"#N/A"},null,null,null,null,null,null,null,null,null,null,null,null,"Matchs","Gagnés",{"$f":"SUM(P$15:P$114)","v":0},{"$f":"IF(P$3+P$4>0,P3/(P$3+P$4),\"\")","v":""},{"$f":"SUM(R$15:R$114)","v":0},{"$f":"IF(R$3+R$4>0,R3/(R$3+R$4),\"\")","v":0},{"$f":"COUNTIF($C$15:$C$114,\"G\")","v":0},{"$f":"IF(T$3+T$4>0,T3/(T$3+T$4),\"\")","v":0}]
[{"$error":"#N/A"},null,null,null,null,null,null,null,null,null,null,null,null,null,"Perdus",{"$f":"COUNTIF($K$15:$M$114,SaisonDeb)-P3","v":0},{"$f":"IF(P$3+P$4>0,P4/(P$3+P$4),\"\")","v":""},{"$f":"COUNTIF($K$15:$K$114,SaisonFin)-R3","v":2},{"$f":"IF(R$3+R$4>0,R4/(R$3+R$4),\"\")","v":1},{"$f":"COUNTIF($C$15:$C$114,\"P\")","v":2},{"$f":"IF(T$3+T$4>0,T4/(T$3+T$4),\"\")","v":1}]
[{"$error":"#N/A"},null,null,null,null,null,null,null,null,null,null,null,null,null,"Total / Moy.",{"$f":"SUM(P3:P4)","v":0},{"$f":"IF(SUMIF($K$15:$K$114,SaisonDeb,$G$15:$G$114)>0,SUMIF($K$15:$K$114,SaisonDeb,$F$15:$F$114)/SUMIF($K$15:$K$114,SaisonDeb,$G$15:$G$114),\"\")","v":""},{"$f":"SUM(R3:R4)","v":2},{"$f":"IF(SUMIF($K$15:$K$114,SaisonFin,$G$15:$G$114)>0,SUMIF($K$15:$K$114,SaisonFin,$F$15:$F$114)/SUMIF($K$15:$K$114,SaisonFin,$G$15:$G$114),\"\")","v":0.58499999999999996},{"$f":"SUM(T3:T4)","v":2},{"$f":"IF(SUM($G$15:$G$114)>0,SUM($F$15:$F$114)/SUM($G$15:$G$114),\"\")","v":0.58499999999999996},{"$f":"IF(SUMIF($K$15:$K$18,SaisonDeb,$G$15:$G$18)+SUMIF($K$15:$K$18,SaisonFin,$G$15:$G$18)>0,(SUMIF($K$15:$K$18,SaisonDeb,$F$15:$F$18)+SUMIF($K$15:$K$18,SaisonFin,$F$15:$F$18))/(SUMIF($K$15:$K$18,SaisonDeb,$G$15:$G$18)+SUMIF($K$15:$K$18,SaisonFin,$G$15:$G$18)),\"\")","v":0.58499999999999996}]
[null,null,null,null,null,null,null,null,null,null,null,null,null,"Sets","Gagnés",{"$f":"SUMIF($K$15:$K$114,SaisonDeb,$D$15:$D$114)","v":0},{"$f":"IF(P$6+P$7>0,P6/(P$6+P$7),\"\")","v":""},{"$f":"SUMIF($K$15:$K$114,SaisonFin,$D$15:$D$114)","v":0},{"$f":"IF(R$6+R$7>0,R6/(R$6+R$7),\"\")","v":0},{"$f":"SUM($D$15:$D$114)","v":0},{"$f":"IF(T$6+T$7>0,T6/(T$6+T$7),\"\")","v":0}]
[null,null,null,null,null,null,null,null,null,null,null,null,null,null,"Perdus",{"$f":"SUMIF($K$15:$K$114,SaisonDeb,$E$15:$E$114)","v":0},{"$f":"IF(P$6+P$7>0,P7/(P$6+P$7),\"\")","v":""},{"$f":"SUMIF($K$15:$K$114,SaisonFin,$E$15:$E$114)","v":2},{"$f":"IF(R$6+R$7>0,R7/(R$6+R$7),\"\")","v":1},{"$f":"SUM($E$15:$E$114)","v":2},{"$f":"IF(T$6+T$7>0,T7/(T$6+T$7),\"\")","v":1}]
["Récapitulatif joueurs",null,null,null,null,null,null,null,null,null,null,null,null,null,"Total",{"$f":"SUM(P6:P7)","v":0},null,{"$f":"SUM(R6:R7)","v":2},null,{"$f":"SUM(T6:T7)","v":2}]
[]
[]
[]
[]
[]
[]
["Joueur","Adversaire","G/P","Sets gagnés","Sets perdus","pts marqués","pts subis","Date","Compétition","Phase","Saison"]
["BENLAMLIH Abdelilah","BETTEFORT Mickael","P",0,1,75,100,"2022-10-01","T1 CD80 - R1 - abbeville","Qualifications",{"$f":"IF(H16<>\"\",IF(MONTH(H16)>MoisRef,YEAR(H16)&\"-\"&YEAR(H16)+1,YEAR(H16)-1&\"-\"&YEAR(H16)),\"\")","v":"2022-2023"},null,null,null,null,{"$f":"IF($K16=P$1,COUNTIF($C16,\"G\"),0)","v":0},null,{"$f":"IF($K16=R$1,COUNTIF($C16,\"G\"),0)","v":0}]
["BENLAMLIH Abdelilah","CABUZEL Denis","P",0,1,42,100,"2022-10-01","T1 CD80 - R1 - abbeville","Qualifications",{"$f":"IF(H17<>\"\",IF(MONTH(H17)>MoisRef,YEAR(H17)&\"-\"&YEAR(H17)+1,YEAR(H17)-1&\"-\"&YEAR(H17)),\"\")","v":"2022-2023"},null,null,null,null,{"$f":"IF($K17=P$1,COUNTIF($C17,\"G\"),0)","v":0},null,{"$f":"IF($K17=R$1,COUNTIF($C17,\"G\"),0)","v":0}]
["Fin des données",null,null,null,null,null,null,null,null,null,{"$f":"IF(H18<>\"\",IF(MONTH(H18)>MoisRef,YEAR(H18)&\"-\"&YEAR(H18)+1,YEAR(H18)-1&\"-\"&YEAR(H18)),\"\")","v":""},null,null,null,null,{"$f":"IF($K18=P$1,COUNTIF($C18,\"G\"),0)","v":0},null,{"$f":"IF($K18=R$1,COUNTIF($C18,\"G\"),0)","v":0}]

{"sheet":"BERRIER François","index":14,"n_rows":24,"n_cols":22,"rows_kept":24,"cut":false,"hidden":false,"merged":[]}
["BERRIER François",null,null,null,null,null,null,null,null,null,null,null,null,null,null,{"$f":"SaisonDeb","v":"2021-2022"},null,{"$f":"SaisonFin","v":"2022-2023"},null,"Toutes saisons"]
[{"$error":"#N/A"},null,null,null,null,null,null,null,null,null,null,null,null,null,null,"Nombre","%age","Nombre","%age","Nombre","%age"]
[{"$error":"#N/A"},null,null,null,null,null,null,null,null,null,null,null,null,"Matchs","Gagnés",{"$f":"SUM(P$15:P$120)","v":0},{"$f":"IF(P$3+P$4>0,P3/(P$3+P$4),\"\")","v":0},{"$f":"SUM(R$15:R$120)","v":1},{"$f":"IF(R$3+R$4>0,R3/(R$3+R$4),\"\")","v":0.25},{"$f":"COUNTIF($C$15:$C$120,\"G\")","v":1},{"$f":"IF(T$3+T$4>0,T3/(T$3+T$4),\"\")","v":0.125}]
[{"$error":"#N/A"},null,null,null,null,null,null,null,null,null,null,null,null,null,"Perdus",{"$f":"COUNTIF($K$15:$M$120,SaisonDeb)-P3","v":4},{"$f":"IF(P$3+P$4>0,P4/(P$3+P$4),\"\")","v":1},{"$f":"COUNTIF($K$15:$K$120,SaisonFin)-R3","v":3},{"$f":"IF(R$3+R$4>0,R4/(R$3+R$4),\"\")","v":0.75},{"$f":"COUNTIF($C$15:$C$120,\"P\")","v":7},{"$f":"IF(T$3+T$4>0,T4/(T$3+T$4),\"\")","v":0.875}]
[{"$error":"#N/A"},null,null,null,null,null,null,null,null,null,null,null,null,null,"Total / Moy.",{"$f":"SUM(P3:P4)","v":4},{"$f":"IF(SUMIF($K$15:$K$120,SaisonDeb,$G$15:$G$120)>0,SUMIF($K$15:$K$120,SaisonDeb,$F$15:$F$120)/SUMIF($K$15:$K$120,SaisonDeb,$G$15:$G$120),\"\")","v":0.72499999999999998},{"$f":"SUM(R3:R4)","v":4},{"$f":"IF(SUMIF($K$15:$K$120,SaisonFin,$G$15:$G$120)>0,SUMIF($K$15:$K$120,SaisonFin,$F$15:$F$120)/SUMIF($K$15:$K$120,SaisonFin,$G$15:$G$120),\"\")","v":0.78172588832487311},{"$f":"SUM(T3:T4)","v":8},{"$f":"IF(SUM($G$15:$G$120)>0,SUM($F$15:$F$120)/SUM($G$15:$G$120),\"\")","v":0.75314861460957183},{"$f":"IF(SUMIF($K$15:$K$24,SaisonDeb,$G$15:$G$24)+SUMIF($K$15:$K$24,SaisonFin,$G$15:$G$24)>0,(SUMIF($K$15:$K$24,SaisonDeb,$F$15:$F$24)+SUMIF($K$15:$K$24,SaisonFin,$F$15:$F$24))/(SUMIF($K$15:$K$24,SaisonDeb,$G$15:$G$24)+SUMIF($K$15:$K$24,SaisonFin,$G$15:$G$24)),\"\")","v":0.75314861460957183}]
[null,null,null,null,null,null,null,null,null,null,null,null,null,"Sets","Gagnés",{"$f":"SUMIF($K$15:$K$120,SaisonDeb,$D$15:$D$120)","v":0},{"$f":"IF(P$6+P$7>0,P6/(P$6+P$7),\"\")","v":0},{"$f":"SUMIF($K$15:$K$120,SaisonFin,$D$15:$D$120)","v":1},{"$f":"IF(R$6+R$7>0,R6/(R$6+R$7),\"\")","v":0.25},{"$f":"SUM($D$15:$D$120)","v":1},{"$f":"IF(T$6+T$7>0,T6/(T$6+T$7),\"\")","v":0.125}]
[null,null,null,null,null,null,null,null,null,null,null,null,null,null,"Perdus",{"$f":"SUMIF($K$15:$K$120,SaisonDeb,$E$15:$E$120)","v":4},{"$f":"IF(P$6+P$7>0,P7/(P$6+P$7),\"\")","v":1},{"$f":"SUMIF($K$15:$K$120,SaisonFin,$E$15:$E$120)","v":3},{"$f":"IF(R$6+R$7>0,R7/(R$6+R$7),\"\")","v":0.75},{"$f":"SUM($E$15:$E$120)","v":7},{"$f":"IF(T$6+T$7>0,T7/(T$6+T$7),\"\")","v":0.875}]
["Récapitulatif joueurs",null,null,null,null,null,null,null,null,null,null,null,null,null,"Total",{"$f":"SUM(P6:P7)","v":4},null,{"$f":"SUM(R6:R7)","v":4},null,{"$f":"SUM(T6:T7)","v":8}]
[]
[]
[]
[]
[]
[]
["Joueur","Adversaire","G/P","Sets gagnés","Sets perdus","pts marqués","pts subis","Date","Compétition","Phase","Saison"]
["BERRIER François","HOCHART James","P",0,1,69,100,"2022-04-02","T4 5Q R1 - ANNOEULLIN - CONSOLANTE","Qualifications",{"$f":"IF(H16<>\"\",IF(MONTH(H16)>MoisRef,YEAR(H16)&\"-\"&YEAR(H16)+1,YEAR(H16)-1&\"-\"&YEAR(H16)),\"\")","v":"2021-2022"},null,null,null,null,{"$f":"IF($K16=P$1,COUNTIF($C16,\"G\"),0)","v":0},null,{"$f":"IF($K16=R$1,COUNTIF($C16,\"G\"),0)","v":0}]
["BERRIER François","PARENT Jean-René","P",0,1,73,100,"2022-04-02","T4 5Q R1 - ANNOEULLIN - CONSOLANTE","Qualifications","2021-2022",null,null,null,null,0,null,0]
["BERRIER François","BEGHIN Benjamin","P",0,1,50,100,"2022-04-02","T4 5Q R1 - ANNOEULLIN","Qualifications","2021-2022",null,null,null,null,0,null,0]
["BERRIER François","NOYER Pascal","P",0,1,98,100,"2022-04-02","T4 5Q R1 - ANNOEULLIN","Qualifications","2021-2022",null,null,null,null,0,null,0]
["BERRIER François","DUC Stéphane","P",0,1,81,100,"2022-10-30","T2 5Q R1 - GRAVELINES","Qualifications","2022-2023",null,null,null,null,0,null,0]
["BERRIER François","LECROART Serge","P",0,1,45,100,"2022-10-30","T2 5Q R1 - GRAVELINES","Qualifications","2022-2023",null,null,null,null,0,null,0]
["BERRIER François","CAVITTE Jean-Pierre","P",0,1,82,100,"2022-10-30","T2 5Q R1 - GRAVELINES - CONSOLANTE","Qualifications","2022-2023",null,null,null,null,0,null,0]
["BERRIER François","PARENT Jean-René","G",1,0,100,94,"2022-10-30","T2 5Q R1 - GRAVELINES - CONSOLANTE","Qualifications","2022-2023",null,null,null,null,0,null,1]
["Fin des données",null,null,null,null,null,null,null,null,null,"",null,null,null,null,0,null,0]

{"sheet":"BETTEFORT Clémence","index":15,"n_rows":28,"n_cols":22,"rows_kept":28,"cut":false,"hidden":false,"merged":[]}
["BETTEFORT Clémence",null,null,null,null,null,null,null,null,null,null,null,null,null,null,{"$f":"SaisonDeb","v":"2021-2022"},null,{"$f":"SaisonFin","v":"2022-2023"},null,"Toutes saisons"]
[{"$error":"#N/A"},null,null,null,null,null,null,null,null,null,null,null,null,null,null,"Nombre","%age","Nombre","%age","Nombre","%age"]
[{"$error":"#N/A"},null,null,null,null,null,null,null,null,null,null,null,null,"Matchs","Gagnés",{"$f":"SUM(P$15:P$124)","v":3},{"$f":"IF(P$3+P$4>0,P3/(P$3+P$4),\"\")","v":0.5},{"$f":"SUM(R$15:R$124)","v":1},{"$f":"IF(R$3+R$4>0,R3/(R$3+R$4),\"\")","v":0.25},{"$f":"COUNTIF($C$15:$C$124,\"G\")","v":4},{"$f":"IF(T$3+T$4>0,T3/(T$3+T$4),\"\")","v":0.33333333333333331}]
[{"$error":"#N/A"},null,null,null,null,null,null,null,null,null,null,null,null,null,"Perdus",{"$f":"COUNTIF($K$15:$M$124,SaisonDeb)-P3","v":3},{"$f":"IF(P$3+P$4>0,P4/(P$3+P$4),\"\")","v":0.5},{"$f":"COUNTIF($K$15:$K$124,SaisonFin)-R3","v":3},{"$f":"IF(R$3+R$4>0,R4/(R$3+R$4),\"\")","v":0.75},{"$f":"COUNTIF($C$15:$C$124,\"P\")","v":8},{"$f":"IF(T$3+T$4>0,T4/(T$3+T$4),\"\")","v":0.66666666666666663}]
[{"$error":"#N/A"},null,null,null,null,null,null,null,null,null,null,null,null,null,"Total / Moy.",{"$f":"SUM(P3:P4)","v":6},{"$f":"IF(SUMIF($K$15:$K$124,SaisonDeb,$G$15:$G$124)>0,SUMIF($K$15:$K$124,SaisonDeb,$F$15:$F$124)/SUMIF($K$15:$K$124,SaisonDeb,$G$15:$G$124),\"\")","v":0.91677175283732659},{"$f":"SUM(R3:R4)","v":4},{"$f":"IF(SUMIF($K$15:$K$124,SaisonFin,$G$15:$G$124)>0,SUMIF($K$15:$K$124,SaisonFin,$F$15:$F$124)/SUMIF($K$15:$K$124,SaisonFin,$G$15:$G$124),\"\")","v":0.87737843551797046},{"$f":"SUM(T3:T4)","v":12},{"$f":"IF(SUM($G$15:$G$124)>0,SUM($F$15:$F$124)/SUM($G$15:$G$124),\"\")","v":0.87118193891102258},{"$f":"IF(SUMIF($K$15:$K$28,SaisonDeb,$G$15:$G$28)+SUMIF($K$15:$K$28,SaisonFin,$G$15:$G$28)>0,(SUMIF($K$15:$K$28,SaisonDeb,$F$15:$F$28)+SUMIF($K$15:$K$28,SaisonFin,$F$15:$F$28))/(SUMIF($K$15:$K$28,SaisonDeb,$G$15:$G$28)+SUMIF($K$15:$K$28,SaisonFin,$G$15:$G$28)),\"\")","v":0.90205371248025279}]
[null,null,null,null,null,null,null,null,null,null,null,null,null,"Sets","Gagnés",{"$f":"SUMIF($K$15:$K$124,SaisonDeb,$D$15:$D$124)","v":7},{"$f":"IF(P$6+P$7>0,P6/(P$6+P$7),\"\")","v":0.5},{"$f":"SUMIF($K$15:$K$124,SaisonFin,$D$15:$D$124)","v":2},{"$f":"IF(R$6+R$7>0,R6/(R$6+R$7),\"\")","v":0.2857142857142857},{"$f":"SUM($D$15:$D$124)","v":9},{"$f":"IF(T$6+T$7>0,T6/(T$6+T$7),\"\")","v":0.36}]
[null,null,null,null,null,null,null,null,null,null,null,null,null,null,"Perdus",{"$f":"SUMIF($K$15:$K$124,SaisonDeb,$E$15:$E$124)","v":7},{"$f":"IF(P$6+P$7>0,P7/(P$6+P$7),\"\")","v":0.5},{"$f":"SUMIF($K$15:$K$124,SaisonFin,$E$15:$E$124)","v":5},{"$f":"IF(R$6+R$7>0,R7/(R$6+R$7),\"\")","v":0.7142857142857143},{"$f":"SUM($E$15:$E$124)","v":16},{"$f":"IF(T$6+T$7>0,T7/(T$6+T$7),\"\")","v":0.64}]
["Récapitulatif joueurs",null,null,null,null,null,null,null,null,null,null,null,null,null,"Total",{"$f":"SUM(P6:P7)","v":14},null,{"$f":"SUM(R6:R7)","v":7},null,{"$f":"SUM(T6:T7)","v":25}]
[]
[]
[]
[]
[]
[]
["Joueur","Adversaire","G/P","Sets gagnés","Sets perdus","pts marqués","pts subis","Date","Compétition","Phase","Saison"]
["BETTEFORT Clémence","DIEU Jean-Charles","P",0,2,69,120,"2019-01-05","T3 R1 CD80 - MOREUIL","Qualifications",{"$f":"IF(H16<>\"\",IF(MONTH(H16)>MoisRef,YEAR(H16)&\"-\"&YEAR(H16)+1,YEAR(H16)-1&\"-\"&YEAR(H16)),\"\")","v":"2018-2019"},null,null,null,null,{"$f":"IF($K16=P$1,COUNTIF($C16,\"G\"),0)","v":0},null,{"$f":"IF($K16=R$1,COUNTIF($C16,\"G\"),0)","v":0}]
["BETTEFORT Clémence","POINTIN Régis","P",0,2,101,120,"2019-01-05","T3 R1 CD80 - MOREUIL","Qualifications","2018-2019",null,null,null,null,{"$f":"IF($K17=P$1,COUNTIF($C17,\"G\"),0)","v":0},null,{"$f":"IF($K17=R$1,COUNTIF($C17,\"G\"),0)","v":0}]
["BETTEFORT Clémence","BETTEFORT Véronique","G",1,0,80,64,"2022-02-12","5 Quilles Dames T2 - MOREUIL","Qualifications","2021-2022",null,null,null,null,{"$f":"IF($K18=P$1,COUNTIF($C18,\"G\"),0)","v":1},null,{"$f":"IF($K18=R$1,COUNTIF($C18,\"G\"),0)","v":0}]
["BETTEFORT Clémence","GUERIN Astrid","P",0,1,31,80,"2022-02-12","5 Quilles Dames T2 - MOREUIL","Qualifications","2021-2022",null,null,null,null,0,null,0]
["BETTEFORT Clémence","GUERIN Isabelle","P",0,1,70,80,"2022-02-12","5 Quilles Dames T2 - MOREUIL","Qualifications","2021-2022",null,null,null,null,0,null,0]
["BETTEFORT Clémence","BETTEFORT Véronique","G",3,1,207,190,"2022-05-21","5 Quilles Dames FINALE - MOREUIL","Finale Dames","2021-2022",null,null,null,null,1,null,0]
["BETTEFORT Clémence","GUERIN Astrid","P",0,3,102,180,"2022-05-21","5 Quilles Dames FINALE - MOREUIL","Finale Dames","2021-2022",null,null,null,null,0,null,0]
["BETTEFORT Clémence","GUERIN Isabelle","G",3,1,237,199,"2022-05-21","5 Quilles Dames FINALE - MOREUIL","Finale Dames","2021-2022",null,null,null,null,1,null,0]
["BETTEFORT Clémence","BETTEFORT Véronique","P",0,2,93,120,45010,"finale de somme  - friville","Qualifications","2022-2023",null,null,null,null,0,null,0]
["BETTEFORT Clémence","LEBORGNE Léa","P",1,2,135,168,45010,"finale de somme  - friville","Qualifications","2022-2023",null,null,null,null,0,null,0]
["BETTEFORT Clémence","BETTEFORT Véronique","P",0,1,87,100,"2022-12-04","T1 CD80 - R1 dames - friville","Qualifications","2022-2023",null,null,null,null,0,null,0]
["BETTEFORT Clémence","LEBORGNE Léa","G",1,0,100,85,"2022-12-04","T1 CD80 - R1 dames - friville","Qualifications","2022-2023",null,null,null,null,0,null,1]
["Fin des données",null,null,null,null,null,null,null,null,null,"",null,null,null,null,{"$f":"IF($K28=P$1,COUNTIF($C28,\"G\"),0)","v":0},null,{"$f":"IF($K28=R$1,COUNTIF($C28,\"G\"),0)","v":0}]

{"sheet":"BETTEFORT Mickael","index":16,"n_rows":50,"n_cols":22,"rows_kept":50,"cut":false,"hidden":false,"merged":[]}
["BETTEFORT Mickael",null,null,null,null,null,null,null,null,null,null,null,null,null,null,{"$f":"SaisonDeb","v":"2021-2022"},null,{"$f":"SaisonFin","v":"2022-2023"},null,"Toutes saisons"]
[{"$error":"#N/A"},null,null,null,null,null,null,null,null,null,null,null,null,null,null,"Nombre","%age","Nombre","%age","Nombre","%age"]
[{"$error":"#N/A"},null,null,null,null,null,null,null,null,null,null,null,null,"Matchs","Gagnés",{"$f":"SUM(P$15:P$146)","v":0},{"$f":"IF(P$3+P$4>0,P3/(P$3+P$4),\"\")","v":""},{"$f":"SUM(R$15:R$146)","v":7},{"$f":"IF(R$3+R$4>0,R3/(R$3+R$4),\"\")","v":0.63636363636363635},{"$f":"COUNTIF($C$15:$C$146,\"G\")","v":16},{"$f":"IF(T$3+T$4>0,T3/(T$3+T$4),\"\")","v":0.47058823529411764}]
[{"$error":"#N/A"},null,null,null,null,null,null,null,null,null,null,null,null,null,"Perdus",{"$f":"COUNTIF($K$15:$M$146,SaisonDeb)-P3","v":0},{"$f":"IF(P$3+P$4>0,P4/(P$3+P$4),\"\")","v":""},{"$f":"COUNTIF($K$15:$K$146,SaisonFin)-R3","v":4},{"$f":"IF(R$3+R$4>0,R4/(R$3+R$4),\"\")","v":0.36363636363636365},{"$f":"COUNTIF($C$15:$C$146,\"P\")","v":18},{"$f":"IF(T$3+T$4>0,T4/(T$3+T$4),\"\")","v":0.52941176470588236}]
[{"$error":"#N/A"},null,null,null,null,null,null,null,null,null,null,null,null,null,"Total / Moy.",{"$f":"SUM(P3:P4)","v":0},{"$f":"IF(SUMIF($K$15:$K$146,SaisonDeb,$G$15:$G$146)>0,SUMIF($K$15:$K$146,SaisonDeb,$F$15:$F$146)/SUMIF($K$15:$K$146,SaisonDeb,$G$15:$G$146),\"\")","v":""},{"$f":"SUM(R3:R4)","v":11},{"$f":"IF(SUMIF($K$15:$K$146,SaisonFin,$G$15:$G$146)>0,SUMIF($K$15:$K$146,SaisonFin,$F$15:$F$146)/SUMIF($K$15:$K$146,SaisonFin,$G$15:$G$146),\"\")","v":1.0168634064080944},{"$f":"SUM(T3:T4)","v":34},{"$f":"IF(SUM($G$15:$G$146)>0,SUM($F$15:$F$146)/SUM($G$15:$G$146),\"\")","v":0.97860390478737636},{"$f":"IF(SUMIF($K$15:$K$50,SaisonDeb,$G$15:$G$50)+SUMIF($K$15:$K$50,SaisonFin,$G$15:$G$50)>0,(SUMIF($K$15:$K$50,SaisonDeb,$F$15:$F$50)+SUMIF($K$15:$K$50,SaisonFin,$F$15:$F$50))/(SUMIF($K$15:$K$50,SaisonDeb,$G$15:$G$50)+SUMIF($K$15:$K$50,SaisonFin,$G$15:$G$50)),\"\")","v":1.0168634064080944}]
[null,null,null,null,null,null,null,null,null,null,null,null,null,"Sets","Gagnés",{"$f":"SUMIF($K$15:$K$146,SaisonDeb,$D$15:$D$146)","v":0},{"$f":"IF(P$6+P$7>0,P6/(P$6+P$7),\"\")","v":""},{"$f":"SUMIF($K$15:$K$146,SaisonFin,$D$15:$D$146)","v":13},{"$f":"IF(R$6+R$7>0,R6/(R$6+R$7),\"\")","v":0.61904761904761907},{"$f":"SUM($D$15:$D$146)","v":29},{"$f":"IF(T$6+T$7>0,T6/(T$6+T$7),\"\")","v":0.46774193548387094}]
[null,null,null,null,null,null,null,null,null,null,null,null,null,null,"Perdus",{"$f":"SUMIF($K$15:$K$146,SaisonDeb,$E$15:$E$146)","v":0},{"$f":"IF(P$6+P$7>0,P7/(P$6+P$7),\"\")","v":""},{"$f":"SUMIF($K$15:$K$146,SaisonFin,$E$15:$E$146)","v":8},{"$f":"IF(R$6+R$7>0,R7/(R$6+R$7),\"\")","v":0.38095238095238093},{"$f":"SUM($E$15:$E$146)","v":33},{"$f":"IF(T$6+T$7>0,T7/(T$6+T$7),\"\")","v":0.532258064516129}]
["Récapitulatif joueurs",null,null,null,null,null,null,null,null,null,null,null,null,null,"Total",{"$f":"SUM(P6:P7)","v":0},null,{"$f":"SUM(R6:R7)","v":21},null,{"$f":"SUM(T6:T7)","v":62}]
[]
[]
[]
[]
[]
[]
["Joueur","Adversaire","G/P","Sets gagnés","Sets perdus","pts marqués","pts subis","Date","Compétition","Phase","Saison"]
["BETTEFORT Mickael","VASSEUR Gaëtan","P",0,1,72,100,"2016-11-26","5Q  R1 CD80 - T1 ","Qualifications",{"$f":"IF(H16<>\"\",IF(MONTH(H16)>MoisRef,YEAR(H16)&\"-\"&YEAR(H16)+1,YEAR(H16)-1&\"-\"&YEAR(H16)),\"\")","v":"2016-2017"},null,null,null,null,{"$f":"IF($K16=P$1,COUNTIF($C16,\"G\"),0)","v":0},null,{"$f":"IF($K16=R$1,COUNTIF($C16,\"G\"),0)","v":0}]
["BETTEFORT Mickael","DELAFOSSE Gilles","P",0,1,70,100,"2016-11-26","5Q  R1 CD80 - T1 ","Qualifications","2016-2017",null,null,null,null,0,null,0]
["BETTEFORT Mickael","CUVILLIER François","G",1,0,100,81,"2016-11-26","5Q  R1 CD80 - T1 ","Qualifications","2016-2017",null,null,null,null,0,null,0]
["BETTEFORT Mickael","WANQUETIN Sylvain","G",1,0,100,64,"2016-11-26","5Q  R1 CD80 - T1 ","Qualifications","2016-2017",null,null,null,null,0,null,0]
["BETTEFORT Mickael","RENAULT Marius","G",1,0,100,54,"2017-01-21","5Q  R1 CD80 - T2 - ABBEVILLE","Qualifications","2016-2017",null,null,null,null,0,null,0]
["BETTEFORT Mickael","HERSELIN  Jean-Claude","G",1,0,100,96,"2017-01-21","5Q  R1 CD80 - T2 - ABBEVILLE","Qualifications","2016-2017",null,null,null,null,0,null,0]
["BETTEFORT Mickael","DUBOIS Jean-Bernard","G",1,0,100,65,"2017-01-21","5Q  R1 CD80 - T2 - ABBEVILLE","Qualifications","2016-2017",null,null,null,null,0,null,0]
["BETTEFORT Mickael","VASSEUR Gaëtan","P",0,1,54,100,"2017-01-21","5Q  R1 CD80 - T2 - ABBEVILLE","Qualifications","2016-2017",null,null,null,null,0,null,0]
["BETTEFORT Mickael","VASSEUR Gaëtan","P",0,1,79,100,"2017-02-25","5Q  R1 CD80 - T3 - MOREUIL","Qualifications","2016-2017",null,null,null,null,0,null,0]
["BETTEFORT Mickael","MALET Eric","P",0,1,84,100,"2017-02-25","5Q  R1 CD80 - T3 - MOREUIL","Qualifications","2016-2017",null,null,null,null,0,null,0]
["BETTEFORT Mickael","WARIN Yannick","G",1,0,100,91,"2017-02-25","5Q  R1 CD80 - T3 - MOREUIL","Qualifications","2016-2017",null,null,null,null,0,null,0]
["BETTEFORT Mickael","HERSELIN Jean-claude","G",1,0,100,91,"2017-02-25","5Q  R1 CD80 - T3 - MOREUIL","Qualifications","2016-2017",null,null,null,null,0,null,0]
["BETTEFORT Mickael","VASSEUR Gaëtan","P",0,3,143,180,"2017-03-18","5Q R1 - Finale CD80 - PONT DE METZ","Poule unique","2016-2017",null,null,null,null,0,null,0]
["BETTEFORT Mickael","CABUZEL Denis","P",0,3,144,180,"2017-03-18","5Q R1 - Finale CD80 - PONT DE METZ","Poule unique","2016-2017",null,null,null,null,0,null,0]
["BETTEFORT Mickael","MALET Eric","G",3,0,180,107,"2017-03-18","5Q R1 - Finale CD80 - PONT DE METZ","Poule unique","2016-2017",null,null,null,null,0,null,0]
["BETTEFORT Mickael","DUHAMEL Eddy","P",1,2,147,171,"2018-10-20","T1 R1 CD80 - MOREUIL","Qualifications","2018-2019",null,null,null,null,0,null,0]
["BETTEFORT Mickael","DUHAMEL Eddy","P",0,2,95,120,"2018-10-20","T1 R1 CD80 - MOREUIL","1/4 Finale","2018-2019",null,null,null,null,0,null,0]
["BETTEFORT Mickael","GUERIN Astrid","G",2,0,120,32,"2018-10-20","T1 R1 CD80 - MOREUIL","Qualifications","2018-2019",null,null,null,null,0,null,0]
["BETTEFORT Mickael","CHAIGNE Gilles","P",1,2,128,145,"2018-11-24","T2 R1 CD80 - ","Qualifications","2018-2019",null,null,null,null,0,null,0]
["BETTEFORT Mickael","CHAIGNE Gilles","P",1,2,146,173,"2018-11-24","T2 R1 CD80 - ","Qualifications","2018-2019",null,null,null,null,0,null,0]
["BETTEFORT Mickael","CHAIGNE Gilles","P",0,2,54,120,"2018-11-24","T2 R1 CD80 - ","1/8 Finale","2018-2019",null,null,null,null,0,null,0]
["BETTEFORT Mickael","CHAIGNE Gilles","P",0,2,88,120,"2019-01-05","T3 R1 CD80 - MOREUIL","Qualifications","2018-2019",null,null,null,null,0,null,0]
["BETTEFORT Mickael","JOLY Kenan","P",1,2,149,163,"2019-01-05","T3 R1 CD80 - MOREUIL","Qualifications","2018-2019",null,null,null,null,0,null,0]
["BETTEFORT Mickael","CABUZEL Denis","G",2,0,120,108,"2023-03-25","finale de somme  - friville","Qualifications","2022-2023",null,null,null,null,0,null,1]
["BETTEFORT Mickael","CARON Didier","G",2,0,120,56,"2023-03-25","finale de somme  - friville","Qualifications","2022-2023",null,null,null,null,0,null,1]
["BETTEFORT Mickael","DELAFOSSE Gilles","G",2,1,153,128,"2023-03-25","finale de somme  - friville","Qualifications","2022-2023",null,null,null,null,0,null,1]
["BETTEFORT Mickael","BENLAMLIH Abdelilah","G",1,0,100,75,"2022-10-01","T1 CD80 - R1 - abbeville","Qualifications","2022-2023",null,null,null,null,0,null,1]
["BETTEFORT Mickael","CABUZEL Denis","G",1,0,100,92,"2022-10-01","T1 CD80 - R1 - abbeville","Qualifications","2022-2023",null,null,null,null,0,null,1]
["BETTEFORT Mickael","DELAFOSSE Gilles","P",0,1,86,100,"2023-01-12","T2 CD80 - R1 - pont de metz","Qualifications","2022-2023",null,null,null,null,0,null,0]
["BETTEFORT Mickael","DELAFOSSE Gilles","G",1,0,100,92,"2023-01-12","T2 CD80 - R1 - pont de metz","Qualifications","2022-2023",null,null,null,null,0,null,1]
["BETTEFORT Mickael","HERTOUX Didier","P",1,2,130,153,"2023-05-14","Finale Ligue 5Q R1 - DENAIN","Poule unique","2022-2023",null,null,null,null,0,null,0]
["BETTEFORT Mickael","HOCHART James","P",1,2,135,158,"2023-05-14","Finale Ligue 5Q R1 - DENAIN","Poule unique","2022-2023",null,null,null,null,0,null,0]
["BETTEFORT Mickael","LANCRY Bruno","P",0,2,42,120,"2023-05-14","Finale Ligue 5Q R1 - DENAIN","Poule unique","2022-2023",null,null,null,null,0,null,0]
["BETTEFORT Mickael","SCHERER Didier","G",2,0,120,104,"2023-05-14","Finale Ligue 5Q R1 - DENAIN","Poule unique","2022-2023",null,null,null,null,0,null,1]
["Fin des données",null,null,null,null,null,null,null,null,null,"",null,null,null,null,{"$f":"IF($K50=P$1,COUNTIF($C50,\"G\"),0)","v":0},null,{"$f":"IF($K50=R$1,COUNTIF($C50,\"G\"),0)","v":0}]

{"sheet":"BETTEFORT Véronique","index":17,"n_rows":32,"n_cols":22,"rows_kept":32,"cut":false,"hidden":false,"merged":[]}
["BETTEFORT Véronique",null,null,null,null,null,null,null,null,null,null,null,null,null,null,{"$f":"SaisonDeb","v":"2021-2022"},null,{"$f":"SaisonFin","v":"2022-2023"},null,"Toutes saisons"]
[{"$error":"#N/A"},null,null,null,null,null,null,null,null,null,null,null,null,null,null,"Nombre","%age","Nombre","%age","Nombre","%age"]
[{"$error":"#N/A"},null,null,null,null,null,null,null,null,null,null,null,null,"Matchs","Gagnés",{"$f":"SUM(P$15:P$128)","v":2},{"$f":"IF(P$3+P$4>0,P3/(P$3+P$4),\"\")","v":0.33333333333333331},{"$f":"SUM(R$15:R$128)","v":6},{"$f":"IF(R$3+R$4>0,R3/(R$3+R$4),\"\")","v":0.75},{"$f":"COUNTIF($C$15:$C$128,\"G\")","v":8},{"$f":"IF(T$3+T$4>0,T3/(T$3+T$4),\"\")","v":0.5}]
[{"$error":"#N/A"},null,null,null,null,null,null,null,null,null,null,null,null,null,"Perdus",{"$f":"COUNTIF($K$15:$M$128,SaisonDeb)-P3","v":4},{"$f":"IF(P$3+P$4>0,P4/(P$3+P$4),\"\")","v":0.66666666666666663},{"$f":"COUNTIF($K$15:$K$128,SaisonFin)-R3","v":2},{"$f":"IF(R$3+R$4>0,R4/(R$3+R$4),\"\")","v":0.25},{"$f":"COUNTIF($C$15:$C$128,\"P\")","v":8},{"$f":"IF(T$3+T$4>0,T4/(T$3+T$4),\"\")","v":0.5}]
[{"$error":"#N/A"},null,null,null,null,null,null,null,null,null,null,null,null,null,"Total / Moy.",{"$f":"SUM(P3:P4)","v":6},{"$f":"IF(SUMIF($K$15:$K$128,SaisonDeb,$G$15:$G$128)>0,SUMIF($K$15:$K$128,SaisonDeb,$F$15:$F$128)/SUMIF($K$15:$K$128,SaisonDeb,$G$15:$G$128),\"\")","v":0.86111111111111116},{"$f":"SUM(R3:R4)","v":8},{"$f":"IF(SUMIF($K$15:$K$128,SaisonFin,$G$15:$G$128)>0,SUMIF($K$15:$K$128,SaisonFin,$F$15:$F$128)/SUMIF($K$15:$K$128,SaisonFin,$G$15:$G$128),\"\")","v":1.0288220551378446},{"$f":"SUM(T3:T4)","v":16},{"$f":"IF(SUM($G$15:$G$128)>0,SUM($F$15:$F$128)/SUM($G$15:$G$128),\"\")","v":0.88142076502732236},{"$f":"IF(SUMIF($K$15:$K$32,SaisonDeb,$G$15:$G$32)+SUMIF($K$15:$K$32,SaisonFin,$G$15:$G$32)>0,(SUMIF($K$15:$K$32,SaisonDeb,$F$15:$F$32)+SUMIF($K$15:$K$32,SaisonFin,$F$15:$F$32))/(SUMIF($K$15:$K$32,SaisonDeb,$G$15:$G$32)+SUMIF($K$15:$K$32,SaisonFin,$G$15:$G$32)),\"\")","v":0.94528301886792454}]
[null,null,null,null,null,null,null,null,null,null,null,null,null,"Sets","Gagnés",{"$f":"SUMIF($K$15:$K$128,SaisonDeb,$D$15:$D$128)","v":5},{"$f":"IF(P$6+P$7>0,P6/(P$6+P$7),\"\")","v":0.35714285714285715},{"$f":"SUMIF($K$15:$K$128,SaisonFin,$D$15:$D$128)","v":8},{"$f":"IF(R$6+R$7>0,R6/(R$6+R$7),\"\")","v":0.72727272727272729},{"$f":"SUM($D$15:$D$128)","v":13},{"$f":"IF(T$6+T$7>0,T6/(T$6+T$7),\"\")","v":0.44827586206896552}]
[null,null,null,null,null,null,null,null,null,null,null,null,null,null,"Perdus",{"$f":"SUMIF($K$15:$K$128,SaisonDeb,$E$15:$E$128)","v":9},{"$f":"IF(P$6+P$7>0,P7/(P$6+P$7),\"\")","v":0.6428571428571429},{"$f":"SUMIF($K$15:$K$128,SaisonFin,$E$15:$E$128)","v":3},{"$f":"IF(R$6+R$7>0,R7/(R$6+R$7),\"\")","v":0.27272727272727271},{"$f":"SUM($E$15:$E$128)","v":16},{"$f":"IF(T$6+T$7>0,T7/(T$6+T$7),\"\")","v":0.55172413793103448}]
["Récapitulatif joueurs",null,null,null,null,null,null,null,null,null,null,null,null,null,"Total",{"$f":"SUM(P6:P7)","v":14},null,{"$f":"SUM(R6:R7)","v":11},null,{"$f":"SUM(T6:T7)","v":29}]
[]
[]
[]
[]
[]
[]
["Joueur","Adversaire","G/P","Sets gagnés","Sets perdus","pts marqués","pts subis","Date","Compétition","Phase","Saison"]
["BETTEFORT Véronique","DUMEIGE Similien","P",0,2,31,120,"2019-01-05","T3 R1 CD80 - MOREUIL","Qualifications",{"$f":"IF(H16<>\"\",IF(MONTH(H16)>MoisRef,YEAR(H16)&\"-\"&YEAR(H16)+1,YEAR(H16)-1&\"-\"&YEAR(H16)),\"\")","v":"2018-2019"},null,null,null,null,{"$f":"IF($K16=P$1,COUNTIF($C16,\"G\"),0)","v":0},null,{"$f":"IF($K16=R$1,COUNTIF($C16,\"G\"),0)","v":0}]
["BETTEFORT Véronique","DUMEIGE Stéphane","P",0,2,79,120,"2019-01-05","T3 R1 CD80 - MOREUIL","Qualifications","2018-2019",null,null,null,null,{"$f":"IF($K17=P$1,COUNTIF($C17,\"G\"),0)","v":0},null,{"$f":"IF($K17=R$1,COUNTIF($C17,\"G\"),0)","v":0}]
["BETTEFORT Véronique","BETTEFORT Clémence","P",0,1,64,80,"2022-02-12","5 Quilles Dames T2 - MOREUIL","Qualifications","2021-2022",null,null,null,null,{"$f":"IF($K18=P$1,COUNTIF($C18,\"G\"),0)","v":0},null,{"$f":"IF($K18=R$1,COUNTIF($C18,\"G\"),0)","v":0}]
["BETTEFORT Véronique","GUERIN Astrid","P",0,1,27,80,"2022-02-12","5 Quilles Dames T2 - MOREUIL","Qualifications","2021-2022",null,null,null,null,0,null,0]
["BETTEFORT Véronique","GUERIN Isabelle","G",1,0,80,16,"2022-02-12","5 Quilles Dames T2 - MOREUIL","Qualifications","2021-2022",null,null,null,null,1,null,0]
["BETTEFORT Véronique","BETTEFORT Clémence","P",1,3,190,207,"2022-05-21","5 Quilles Dames FINALE - MOREUIL","Finale Dames","2021-2022",null,null,null,null,0,null,0]
["BETTEFORT Véronique","GUERIN Astrid","P",0,3,82,180,"2022-05-21","5 Quilles Dames FINALE - MOREUIL","Finale Dames","2021-2022",null,null,null,null,0,null,0]
["BETTEFORT Véronique","GUERIN Isabelle","G",3,1,239,229,"2022-05-21","5 Quilles Dames FINALE - MOREUIL","Finale Dames","2021-2022",null,null,null,null,1,null,0]
["BETTEFORT Véronique","BETTEFORT Clémence","G",2,0,120,93,45010,"finale de somme  - friville","Qualifications","2022-2023",null,null,null,null,0,null,1]
["BETTEFORT Véronique","LEBORGNE Léa","G",2,1,159,170,45010,"finale de somme  - friville","Qualifications","2022-2023",null,null,null,null,0,null,1]
["BETTEFORT Véronique","DUHAMEL Marcellin","P",0,1,84,100,"2022-10-01","T1 CD80 - R1 - abbeville","Qualifications","2022-2023",null,null,null,null,0,null,0]
["BETTEFORT Véronique","DUHAMEL Marcellin","G",1,0,100,87,"2022-10-01","T1 CD80 - R1 - abbeville","Qualifications","2022-2023",null,null,null,null,0,null,1]
["BETTEFORT Véronique","CABUZEL Denis","G",1,0,100,86,"2023-01-12","T2 CD80 - R1 - pont de metz","Qualifications","2022-2023",null,null,null,null,0,null,1]
["BETTEFORT Véronique","CARON  Didier","P",0,1,58,100,"2023-01-12","T2 CD80 - R1 - pont de metz","Qualifications","2022-2023",null,null,null,null,0,null,0]
["BETTEFORT Véronique","BETTEFORT Clémence","G",1,0,100,87,"2022-12-04","T1 CD80 - R1 dames - friville","Qualifications","2022-2023",null,null,null,null,0,null,1]
["BETTEFORT Véronique","LEBORGNE Léa","G",1,0,100,75,"2022-12-04","T1 CD80 - R1 dames - friville","Qualifications","2022-2023",null,null,null,null,0,null,1]
["Fin des données",null,null,null,null,null,null,null,null,null,"",null,null,null,null,{"$f":"IF($K32=P$1,COUNTIF($C32,\"G\"),0)","v":0},null,{"$f":"IF($K32=R$1,COUNTIF($C32,\"G\"),0)","v":0}]

{"sheet":"BLONDEL Jean","index":18,"n_rows":29,"n_cols":22,"rows_kept":29,"cut":false,"hidden":false,"merged":[]}
["BLONDEL Jean",null,null,null,null,null,null,null,null,null,null,null,null,null,null,{"$f":"SaisonDeb","v":"2021-2022"},null,{"$f":"SaisonFin","v":"2022-2023"},null,"Toutes saisons"]
[{"$error":"#N/A"},null,null,null,null,null,null,null,null,null,null,null,null,null,null,"Nombre","%age","Nombre","%age","Nombre","%age"]
[{"$error":"#N/A"},null,null,null,null,null,null,null,null,null,null,null,null,"Matchs","Gagnés",{"$f":"SUM(P$15:P$125)","v":0},{"$f":"IF(P$3+P$4>0,P3/(P$3+P$4),\"\")","v":0},{"$f":"SUM(R$15:R$125)","v":0},{"$f":"IF(R$3+R$4>0,R3/(R$3+R$4),\"\")","v":""},{"$f":"COUNTIF($C$15:$C$125,\"G\")","v":0},{"$f":"IF(T$3+T$4>0,T3/(T$3+T$4),\"\")","v":0}]
[{"$error":"#N/A"},null,null,null,null,null,null,null,null,null,null,null,null,null,"Perdus",{"$f":"COUNTIF($K$15:$M$125,SaisonDeb)-P3","v":13},{"$f":"IF(P$3+P$4>0,P4/(P$3+P$4),\"\")","v":1},{"$f":"COUNTIF($K$15:$K$125,SaisonFin)-R3","v":0},{"$f":"IF(R$3+R$4>0,R4/(R$3+R$4),\"\")","v":""},{"$f":"COUNTIF($C$15:$C$125,\"P\")","v":13},{"$f":"IF(T$3+T$4>0,T4/(T$3+T$4),\"\")","v":1}]
[{"$error":"#N/A"},null,null,null,null,null,null,null,null,null,null,null,null,null,"Total / Moy.",{"$f":"SUM(P3:P4)","v":13},{"$f":"IF(SUMIF($K$15:$K$125,SaisonDeb,$G$15:$G$125)>0,SUMIF($K$15:$K$125,SaisonDeb,$F$15:$F$125)/SUMIF($K$15:$K$125,SaisonDeb,$G$15:$G$125),\"\")","v":0.56923076923076921},{"$f":"SUM(R3:R4)","v":0},{"$f":"IF(SUMIF($K$15:$K$125,SaisonFin,$G$15:$G$125)>0,SUMIF($K$15:$K$125,SaisonFin,$F$15:$F$125)/SUMIF($K$15:$K$125,SaisonFin,$G$15:$G$125),\"\")","v":""},{"$f":"SUM(T3:T4)","v":13},{"$f":"IF(SUM($G$15:$G$125)>0,SUM($F$15:$F$125)/SUM($G$15:$G$125),\"\")","v":0.56923076923076921},{"$f":"IF(SUMIF($K$15:$K$29,SaisonDeb,$G$15:$G$29)+SUMIF($K$15:$K$29,SaisonFin,$G$15:$G$29)>0,(SUMIF($K$15:$K$29,SaisonDeb,$F$15:$F$29)+SUMIF($K$15:$K$29,SaisonFin,$F$15:$F$29))/(SUMIF($K$15:$K$29,SaisonDeb,$G$15:$G$29)+SUMIF($K$15:$K$29,SaisonFin,$G$15:$G$29)),\"\")","v":0.56923076923076921}]
[null,null,null,null,null,null,null,null,null,null,null,null,null,"Sets","Gagnés",{"$f":"SUMIF($K$15:$K$125,SaisonDeb,$D$15:$D$125)","v":0},{"$f":"IF(P$6+P$7>0,P6/(P$6+P$7),\"\")","v":0},{"$f":"SUMIF($K$15:$K$125,SaisonFin,$D$15:$D$125)","v":0},{"$f":"IF(R$6+R$7>0,R6/(R$6+R$7),\"\")","v":""},{"$f":"SUM($D$15:$D$125)","v":0},{"$f":"IF(T$6+T$7>0,T6/(T$6+T$7),\"\")","v":0}]
[null,null,null,null,null,null,null,null,null,null,null,null,null,null,"Perdus",{"$f":"SUMIF($K$15:$K$125,SaisonDeb,$E$15:$E$125)","v":13},{"$f":"IF(P$6+P$7>0,P7/(P$6+P$7),\"\")","v":1},{"$f":"SUMIF($K$15:$K$125,SaisonFin,$E$15:$E$125)","v":0},{"$f":"IF(R$6+R$7>0,R7/(R$6+R$7),\"\")","v":""},{"$f":"SUM($E$15:$E$125)","v":13},{"$f":"IF(T$6+T$7>0,T7/(T$6+T$7),\"\")","v":1}]
["Récapitulatif joueurs",null,null,null,null,null,null,null,null,null,null,null,null,null,"Total",{"$f":"SUM(P6:P7)","v":13},null,{"$f":"SUM(R6:R7)","v":0},null,{"$f":"SUM(T6:T7)","v":13}]
[]
[]
[]
[]
[]
[]
["Joueur","Adversaire","G/P","Sets gagnés","Sets perdus","pts marqués","pts subis","Date","Compétition","Phase","Saison"]
["BLONDEL Jean","BEGHIN Nicolas","P",0,1,55,100,"2021-10-16","T1 5Q R1 - VILLENEUVE D'ASCQ","Qualifications",{"$f":"IF(H16<>\"\",IF(MONTH(H16)>MoisRef,YEAR(H16)&\"-\"&YEAR(H16)+1,YEAR(H16)-1&\"-\"&YEAR(H16)),\"\")","v":"2021-2022"},null,null,null,null,{"$f":"IF($K16=P$1,COUNTIF($C16,\"G\"),0)","v":0},null,{"$f":"IF($K16=R$1,COUNTIF($C16,\"G\"),0)","v":0}]
["BLONDEL Jean","SZWARC Patrick","P",0,1,20,100,"2021-10-16","T1 5Q R1 - VILLENEUVE D'ASCQ","Qualifications","2021-2022",null,null,null,null,0,null,0]
["BLONDEL Jean","BARKUT Volkan","P",0,1,48,100,"2021-10-16","T1 5Q R1 - VILLENEUVE D'ASCQ - CONSOLANTE","Qualifications","2021-2022",null,null,null,null,0,null,0]
["BLONDEL Jean","SZWARC Johann","P",0,1,60,100,"2021-10-16","T1 5Q R1 - VILLENEUVE D'ASCQ - CONSOLANTE","Qualifications","2021-2022",null,null,null,null,0,null,0]
["BLONDEL Jean","BELLENS Antoine","P",0,1,44,100,"2021-12-18","T2 5Q R1 - GRAVELINES - CONVOCATON 8h30","Qualifications","2021-2022",null,null,null,null,0,null,0]
["BLONDEL Jean","DUC Stéphane","P",0,1,36,100,"2021-12-18","T2 5Q R1 - GRAVELINES - CONVOCATON 8h30","Qualifications","2021-2022",null,null,null,null,0,null,0]
["BLONDEL Jean","BARKUT Volkan","P",0,1,98,100,"2021-12-18","T2 5Q R1 - GRAVELINES - consolante","Qualifications","2021-2022",null,null,null,null,0,null,0]
["BLONDEL Jean","HOCHART James","P",0,1,49,100,"2021-12-18","T2 5Q R1 - GRAVELINES - consolante","Qualifications","2021-2022",null,null,null,null,0,null,0]
["BLONDEL Jean","MACAREZ Guy","P",0,1,50,100,"2022-04-02","T4 5Q R1 - ANNOEULLIN - CONSOLANTE","Qualifications","2021-2022",null,null,null,null,0,null,0]
["BLONDEL Jean","NOYER Pascal","P",0,1,85,100,"2022-04-02","T4 5Q R1 - ANNOEULLIN - CONSOLANTE","Qualifications","2021-2022",null,null,null,null,0,null,0]
["BLONDEL Jean","WALGRAEF Pascal","P",0,1,72,100,"2022-04-02","T4 5Q R1 - ANNOEULLIN - CONSOLANTE","Qualifications","2021-2022",null,null,null,null,0,null,0]
["BLONDEL Jean","BELLENS Antoine","P",0,1,47,100,"2022-04-02","T4 5Q R1 - ANNOEULLIN","Qualifications","2021-2022",null,null,null,null,0,null,0]
["BLONDEL Jean","SZWARC Johann","P",0,1,76,100,"2022-04-02","T4 5Q R1 - ANNOEULLIN","Qualifications","2021-2022",null,null,null,null,0,null,0]
["Fin des données",null,null,null,null,null,null,null,null,null,"",null,null,null,null,{"$f":"IF($K29=P$1,COUNTIF($C29,\"G\"),0)","v":0},null,{"$f":"IF($K29=R$1,COUNTIF($C29,\"G\"),0)","v":0}]

{"sheet":"BLOUIN Nicolas","index":19,"n_rows":18,"n_cols":22,"rows_kept":18,"cut":false,"hidden":false,"merged":[]}
["BLOUIN Nicolas",null,null,null,null,null,null,null,null,null,null,null,null,null,null,{"$f":"SaisonDeb","v":"2021-2022"},null,{"$f":"SaisonFin","v":"2022-2023"},null,"Toutes saisons"]
[{"$error":"#N/A"},null,null,null,null,null,null,null,null,null,null,null,null,null,null,"Nombre","%age","Nombre","%age","Nombre","%age"]
[{"$error":"#N/A"},null,null,null,null,null,null,null,null,null,null,null,null,"Matchs","Gagnés",{"$f":"SUM(P$15:P$114)","v":0},{"$f":"IF(P$3+P$4>0,P3/(P$3+P$4),\"\")","v":""},{"$f":"SUM(R$15:R$114)","v":0},{"$f":"IF(R$3+R$4>0,R3/(R$3+R$4),\"\")","v":""},{"$f":"COUNTIF($C$15:$C$114,\"G\")","v":0},{"$f":"IF(T$3+T$4>0,T3/(T$3+T$4),\"\")","v":0}]
[{"$error":"#N/A"},null,null,null,null,null,null,null,null,null,null,null,null,null,"Perdus",{"$f":"COUNTIF($K$15:$M$114,SaisonDeb)-P3","v":0},{"$f":"IF(P$3+P$4>0,P4/(P$3+P$4),\"\")","v":""},{"$f":"COUNTIF($K$15:$K$114,SaisonFin)-R3","v":0},{"$f":"IF(R$3+R$4>0,R4/(R$3+R$4),\"\")","v":""},{"$f":"COUNTIF($C$15:$C$114,\"P\")","v":2},{"$f":"IF(T$3+T$4>0,T4/(T$3+T$4),\"\")","v":1}]
[{"$error":"#N/A"},null,null,null,null,null,null,null,null,null,null,null,null,null,"Total / Moy.",{"$f":"SUM(P3:P4)","v":0},{"$f":"IF(SUMIF($K$15:$K$114,SaisonDeb,$G$15:$G$114)>0,SUMIF($K$15:$K$114,SaisonDeb,$F$15:$F$114)/SUMIF($K$15:$K$114,SaisonDeb,$G$15:$G$114),\"\")","v":""},{"$f":"SUM(R3:R4)","v":0},{"$f":"IF(SUMIF($K$15:$K$114,SaisonFin,$G$15:$G$114)>0,SUMIF($K$15:$K$114,SaisonFin,$F$15:$F$114)/SUMIF($K$15:$K$114,SaisonFin,$G$15:$G$114),\"\")","v":""},{"$f":"SUM(T3:T4)","v":2},{"$f":"IF(SUM($G$15:$G$114)>0,SUM($F$15:$F$114)/SUM($G$15:$G$114),\"\")","v":0.59298245614035083},{"$f":"IF(SUMIF($K$15:$K$18,SaisonDeb,$G$15:$G$18)+SUMIF($K$15:$K$18,SaisonFin,$G$15:$G$18)>0,(SUMIF($K$15:$K$18,SaisonDeb,$F$15:$F$18)+SUMIF($K$15:$K$18,SaisonFin,$F$15:$F$18))/(SUMIF($K$15:$K$18,SaisonDeb,$G$15:$G$18)+SUMIF($K$15:$K$18,SaisonFin,$G$15:$G$18)),\"\")","v":""}]
[null,null,null,null,null,null,null,null,null,null,null,null,null,"Sets","Gagnés",{"$f":"SUMIF($K$15:$K$114,SaisonDeb,$D$15:$D$114)","v":0},{"$f":"IF(P$6+P$7>0,P6/(P$6+P$7),\"\")","v":""},{"$f":"SUMIF($K$15:$K$114,SaisonFin,$D$15:$D$114)","v":0},{"$f":"IF(R$6+R$7>0,R6/(R$6+R$7),\"\")","v":""},{"$f":"SUM($D$15:$D$114)","v":1},{"$f":"IF(T$6+T$7>0,T6/(T$6+T$7),\"\")","v":0.2}]
[null,null,null,null,null,null,null,null,null,null,null,null,null,null,"Perdus",{"$f":"SUMIF($K$15:$K$114,SaisonDeb,$E$15:$E$114)","v":0},{"$f":"IF(P$6+P$7>0,P7/(P$6+P$7),\"\")","v":""},{"$f":"SUMIF($K$15:$K$114,SaisonFin,$E$15:$E$114)","v":0},{"$f":"IF(R$6+R$7>0,R7/(R$6+R$7),\"\")","v":""},{"$f":"SUM($E$15:$E$114)","v":4},{"$f":"IF(T$6+T$7>0,T7/(T$6+T$7),\"\")","v":0.8}]
["Récapitulatif joueurs",null,null,null,null,null,null,null,null,null,null,null,null,null,"Total",{"$f":"SUM(P6:P7)","v":0},null,{"$f":"SUM(R6:R7)","v":0},null,{"$f":"SUM(T6:T7)","v":5}]
[]
[]
[]
[]
[]
[]
["Joueur","Adversaire","G/P","Sets gagnés","Sets perdus","pts marqués","pts subis","Date","Compétition","Phase","Saison"]
["BLOUIN Nicolas","NAHIRNYJ Alexi","P",1,2,136,165,"2018-05-23","FINALE OISE JUNIORS - CHAMBLY","Qualifications",{"$f":"IF(H16<>\"\",IF(MONTH(H16)>MoisRef,YEAR(H16)&\"-\"&YEAR(H16)+1,YEAR(H16)-1&\"-\"&YEAR(H16)),\"\")","v":"2017-2018"},null,null,null,null,{"$f":"IF($K16=P$1,COUNTIF($C16,\"G\"),0)","v":0},null,{"$f":"IF($K16=R$1,COUNTIF($C16,\"G\"),0)","v":0}]
["BLOUIN Nicolas","POLIN Thibault","P",0,2,33,120,"2018-05-23","FINALE OISE JUNIORS - CHAMBLY","Qualifications",{"$f":"IF(H17<>\"\",IF(MONTH(H17)>MoisRef,YEAR(H17)&\"-\"&YEAR(H17)+1,YEAR(H17)-1&\"-\"&YEAR(H17)),\"\")","v":"2017-2018"},null,null,null,null,{"$f":"IF($K17=P$1,COUNTIF($C17,\"G\"),0)","v":0},null,{"$f":"IF($K17=R$1,COUNTIF($C17,\"G\"),0)","v":0}]
["Fin des données",null,null,null,null,null,null,null,null,null,{"$f":"IF(H18<>\"\",IF(MONTH(H18)>MoisRef,YEAR(H18)&\"-\"&YEAR(H18)+1,YEAR(H18)-1&\"-\"&YEAR(H18)),\"\")","v":""},null,null,null,null,{"$f":"IF($K18=P$1,COUNTIF($C18,\"G\"),0)","v":0},null,{"$f":"IF($K18=R$1,COUNTIF($C18,\"G\"),0)","v":0}]

{"sheet":"BOLLINNE Simon","index":20,"n_rows":24,"n_cols":22,"rows_kept":24,"cut":false,"hidden":false,"merged":[]}
["BOLLINNE Simon",null,null,null,null,null,null,null,null,null,null,null,null,null,null,{"$f":"SaisonDeb","v":"2021-2022"},null,{"$f":"SaisonFin","v":"2022-2023"},null,"Toutes saisons"]
[{"$error":"#N/A"},null,null,null,null,null,null,null,null,null,null,null,null,null,null,"Nombre","%age","Nombre","%age","Nombre","%age"]
[{"$error":"#N/A"},null,null,null,null,null,null,null,null,null,null,null,null,"Matchs","Gagnés",{"$f":"SUM(P$15:P$120)","v":0},{"$f":"IF(P$3+P$4>0,P3/(P$3+P$4),\"\")","v":""},{"$f":"SUM(R$15:R$120)","v":0},{"$f":"IF(R$3+R$4>0,R3/(R$3+R$4),\"\")","v":""},{"$f":"COUNTIF($C$15:$C$120,\"G\")","v":3},{"$f":"IF(T$3+T$4>0,T3/(T$3+T$4),\"\")","v":0.375}]
[{"$error":"#N/A"},null,null,null,null,null,null,null,null,null,null,null,null,null,"Perdus",{"$f":"COUNTIF($K$15:$M$120,SaisonDeb)-P3","v":0},{"$f":"IF(P$3+P$4>0,P4/(P$3+P$4),\"\")","v":""},{"$f":"COUNTIF($K$15:$K$120,SaisonFin)-R3","v":0},{"$f":"IF(R$3+R$4>0,R4/(R$3+R$4),\"\")","v":""},{"$f":"COUNTIF($C$15:$C$120,\"P\")","v":5},{"$f":"IF(T$3+T$4>0,T4/(T$3+T$4),\"\")","v":0.625}]
[{"$error":"#N/A"},null,null,null,null,null,null,null,null,null,null,null,null,null,"Total / Moy.",{"$f":"SUM(P3:P4)","v":0},{"$f":"IF(SUMIF($K$15:$K$120,SaisonDeb,$G$15:$G$120)>0,SUMIF($K$15:$K$120,SaisonDeb,$F$15:$F$120)/SUMIF($K$15:$K$120,SaisonDeb,$G$15:$G$120),\"\")","v":""},{"$f":"SUM(R3:R4)","v":0},{"$f":"IF(SUMIF($K$15:$K$120,SaisonFin,$G$15:$G$120)>0,SUMIF($K$15:$K$120,SaisonFin,$F$15:$F$120)/SUMIF($K$15:$K$120,SaisonFin,$G$15:$G$120),\"\")","v":""},{"$f":"SUM(T3:T4)","v":8},{"$f":"IF(SUM($G$15:$G$120)>0,SUM($F$15:$F$120)/SUM($G$15:$G$120),\"\")","v":0.87104247104247101},{"$f":"IF(SUMIF($K$15:$K$24,SaisonDeb,$G$15:$G$24)+SUMIF($K$15:$K$24,SaisonFin,$G$15:$G$24)>0,(SUMIF($K$15:$K$24,SaisonDeb,$F$15:$F$24)+SUMIF($K$15:$K$24,SaisonFin,$F$15:$F$24))/(SUMIF($K$15:$K$24,SaisonDeb,$G$15:$G$24)+SUMIF($K$15:$K$24,SaisonFin,$G$15:$G$24)),\"\")","v":""}]
[null,null,null,null,null,null,null,null,null,null,null,null,null,"Sets","Gagnés",{"$f":"SUMIF($K$15:$K$120,SaisonDeb,$D$15:$D$120)","v":0},{"$f":"IF(P$6+P$7>0,P6/(P$6+P$7),\"\")","v":""},{"$f":"SUMIF($K$15:$K$120,SaisonFin,$D$15:$D$120)","v":0},{"$f":"IF(R$6+R$7>0,R6/(R$6+R$7),\"\")","v":""},{"$f":"SUM($D$15:$D$120)","v":11},{"$f":"IF(T$6+T$7>0,T6/(T$6+T$7),\"\")","v":0.44}]
[null,null,null,null,null,null,null,null,null,null,null,null,null,null,"Perdus",{"$f":"SUMIF($K$15:$K$120,SaisonDeb,$E$15:$E$120)","v":0},{"$f":"IF(P$6+P$7>0,P7/(P$6+P$7),\"\")","v":""},{"$f":"SUMIF($K$15:$K$120,SaisonFin,$E$15:$E$120)","v":0},{"$f":"IF(R$6+R$7>0,R7/(R$6+R$7),\"\")","v":""},{"$f":"SUM($E$15:$E$120)","v":14},{"$f":"IF(T$6+T$7>0,T7/(T$6+T$7),\"\")","v":0.56000000000000005}]
["Récapitulatif joueurs",null,null,null,null,null,null,null,null,null,null,null,null,null,"Total",{"$f":"SUM(P6:P7)","v":0},null,{"$f":"SUM(R6:R7)","v":0},null,{"$f":"SUM(T6:T7)","v":25}]
[]
[]
[]
[]
[]
[]
["Joueur","Adversaire","G/P","Sets gagnés","Sets perdus","pts marqués","pts subis","Date","Compétition","Phase","Saison"]
["BOLLINNE Simon","BUTTI Bertrand","G",2,1,137,142,"2017-11-18","qualification AISNE R1 - St Q uentin","Qualifications",{"$f":"IF(H16<>\"\",IF(MONTH(H16)>MoisRef,YEAR(H16)&\"-\"&YEAR(H16)+1,YEAR(H16)-1&\"-\"&YEAR(H16)),\"\")","v":"2017-2018"},null,null,null,null,{"$f":"IF($K16=P$1,COUNTIF($C16,\"G\"),0)","v":0},null,{"$f":"IF($K16=R$1,COUNTIF($C16,\"G\"),0)","v":0}]
["BOLLINNE Simon","COLAS Gerard","P",1,2,110,172,"2017-11-18","qualification AISNE R1 - St Q uentin","Qualifications","2017-2018",null,null,null,null,0,null,0]
["BOLLINNE Simon","CORRE Maxime","G",2,1,161,130,"2018-01-27","Qualifications AISNE R1 - guignicourt","Qualifications","2017-2018",null,null,null,null,0,null,0]
["BOLLINNE Simon","COUSIN Francis","P",1,2,126,153,"2018-01-27","Qualifications AISNE R1 - guignicourt","Qualifications","2017-2018",null,null,null,null,0,null,0]
["BOLLINNE Simon","BUTTI Bertrand","P",0,3,119,180,"2018-03-03","FINALE AISNE  R1 - guignicourt","Qualifications","2017-2018",null,null,null,null,0,null,0]
["BOLLINNE Simon","COLAS Gerard","P",2,3,207,261,"2018-03-03","FINALE AISNE  R1 - guignicourt","Qualifications","2017-2018",null,null,null,null,0,null,0]
["BOLLINNE Simon","DECHAMPS Enguerrand","G",2,0,120,94,"2017-12-16","Qualifications AISNE R1 - SOISSONS","Qualifications","2017-2018",null,null,null,null,0,null,0]
["BOLLINNE Simon","MIQUEE Florine","P",1,2,148,163,"2017-12-16","Qualifications AISNE R1 - SOISSONS","Qualifications","2017-2018",null,null,null,null,0,null,0]
["Fin des données",null,null,null,null,null,null,null,null,null,"",null,null,null,null,{"$f":"IF($K24=P$1,COUNTIF($C24,\"G\"),0)","v":0},null,{"$f":"IF($K24=R$1,COUNTIF($C24,\"G\"),0)","v":0}]

{"sheet":"BOUIGES Armelle","index":21,"n_rows":70,"n_cols":22,"rows_kept":70,"cut":false,"hidden":false,"merged":[]}
["BOUIGES Armelle",null,null,null,null,null,null,null,null,null,null,null,null,null,null,{"$f":"SaisonDeb","v":"2021-2022"},null,{"$f":"SaisonFin","v":"2022-2023"},null,"Toutes saisons"]
[{"$error":"#N/A"},null,null,null,null,null,null,null,null,null,null,null,null,null,null,"Nombre","%age","Nombre","%age","Nombre","%age"]
[{"$error":"#N/A"},null,null,null,null,null,null,null,null,null,null,null,null,"Matchs","Gagnés",{"$f":"SUM(P$15:P$166)","v":0},{"$f":"IF(P$3+P$4>0,P3/(P$3+P$4),\"\")","v":0},{"$f":"SUM(R$15:R$166)","v":0},{"$f":"IF(R$3+R$4>0,R3/(R$3+R$4),\"\")","v":""},{"$f":"COUNTIF($C$15:$C$166,\"G\")","v":3},{"$f":"IF(T$3+T$4>0,T3/(T$3+T$4),\"\")","v":5.5555555555555552E-2}]
[{"$error":"#N/A"},null,null,null,null,null,null,null,null,null,null,null,null,null,"Perdus",{"$f":"COUNTIF($K$15:$M$166,SaisonDeb)-P3","v":7},{"$f":"IF(P$3+P$4>0,P4/(P$3+P$4),\"\")","v":1},{"$f":"COUNTIF($K$15:$K$166,SaisonFin)-R3","v":0},{"$f":"IF(R$3+R$4>0,R4/(R$3+R$4),\"\")","v":""},{"$f":"COUNTIF($C$15:$C$166,\"P\")","v":51},{"$f":"IF(T$3+T$4>0,T4/(T$3+T$4),\"\")","v":0.94444444444444442}]
[{"$error":"#N/A"},null,null,null,null,null,null,null,null,null,null,null,null,null,"Total / Moy.",{"$f":"SUM(P3:P4)","v":7},{"$f":"IF(SUMIF($K$15:$K$166,SaisonDeb,$G$15:$G$166)>0,SUMIF($K$15:$K$166,SaisonDeb,$F$15:$F$166)/SUMIF($K$15:$K$166,SaisonDeb,$G$15:$G$166),\"\")","v":0.52738095238095239},{"$f":"SUM(R3:R4)","v":0},{"$f":"IF(SUMIF($K$15:$K$166,SaisonFin,$G$15:$G$166)>0,SUMIF($K$15:$K$166,SaisonFin,$F$15:$F$166)/SUMIF($K$15:$K$166,SaisonFin,$G$15:$G$166),\"\")","v":""},{"$f":"SUM(T3:T4)","v":54},{"$f":"IF(SUM($G$15:$G$166)>0,SUM($F$15:$F$166)/SUM($G$15:$G$166),\"\")","v":0.58549457177322073},{"$f":"IF(SUMIF($K$15:$K$70,SaisonDeb,$G$15:$G$70)+SUMIF($K$15:$K$70,SaisonFin,$G$15:$G$70)>0,(SUMIF($K$15:$K$70,SaisonDeb,$F$15:$F$70)+SUMIF($K$15:$K$70,SaisonFin,$F$15:$F$70))/(SUMIF($K$15:$K$70,SaisonDeb,$G$15:$G$70)+SUMIF($K$15:$K$70,SaisonFin,$G$15:$G$70)),\"\")","v":0.52738095238095239}]
[null,null,null,null,null,null,null,null,null,null,null,null,null,"Sets","Gagnés",{"$f":"SUMIF($K$15:$K$166,SaisonDeb,$D$15:$D$166)","v":0},{"$f":"IF(P$6+P$7>0,P6/(P$6+P$7),\"\")","v":0},{"$f":"SUMIF($K$15:$K$166,SaisonFin,$D$15:$D$166)","v":0},{"$f":"IF(R$6+R$7>0,R6/(R$6+R$7),\"\")","v":""},{"$f":"SUM($D$15:$D$166)","v":12},{"$f":"IF(T$6+T$7>0,T6/(T$6+T$7),\"\")","v":0.12631578947368421}]
[null,null,null,null,null,null,null,null,null,null,null,null,null,null,"Perdus",{"$f":"SUMIF($K$15:$K$166,SaisonDeb,$E$15:$E$166)","v":7},{"$f":"IF(P$6+P$7>0,P7/(P$6+P$7),\"\")","v":1},{"$f":"SUMIF($K$15:$K$166,SaisonFin,$E$15:$E$166)","v":0},{"$f":"IF(R$6+R$7>0,R7/(R$6+R$7),\"\")","v":""},{"$f":"SUM($E$15:$E$166)","v":83},{"$f":"IF(T$6+T$7>0,T7/(T$6+T$7),\"\")","v":0.87368421052631584}]
["Récapitulatif joueurs",null,null,null,null,null,null,null,null,null,null,null,null,null,"Total",{"$f":"SUM(P6:P7)","v":7},null,{"$f":"SUM(R6:R7)","v":0},null,{"$f":"SUM(T6:T7)","v":95}]
[]
[]
[]
[]
[]
[]
["Joueur","Adversaire","G/P","Sets gagnés","Sets perdus","pts marqués","pts subis","Date","Compétition","Phase","Saison"]
["BOUIGES Armelle","MURIOT Jean-Pierre","P",0,1,37,100,"2016-10-22","5Q  CD60 R1 - T 1 -CREPY","Tour 3",{"$f":"IF(H16<>\"\",IF(MONTH(H16)>MoisRef,YEAR(H16)&\"-\"&YEAR(H16)+1,YEAR(H16)-1&\"-\"&YEAR(H16)),\"\")","v":"2016-2017"},null,null,null,null,{"$f":"IF($K16=P$1,COUNTIF($C16,\"G\"),0)","v":0},null,{"$f":"IF($K16=R$1,COUNTIF($C16,\"G\"),0)","v":0}]
["BOUIGES Armelle","BOUIGES Armelle","P",0,1,55,100,"2016-10-22","5Q  CD60 R1 - T 1 -CREPY","Tour 4","2016-2017",null,null,null,null,0,null,0]
["BOUIGES Armelle","MURIOT Jean-Pierre","P",0,1,86,100,"2016-11-26","5Q  CD60 R1 - T 2 - SENLIS","Tour 2","2016-2017",null,null,null,null,0,null,0]
["BOUIGES Armelle","MURIOT Jean-Pierre","P",0,1,53,100,"2016-11-26","5Q  CD60 R1 - T 2 - SENLIS","Tour 3","2016-2017",null,null,null,null,0,null,0]
["BOUIGES Armelle","STEINMANN Sébastien","P",0,1,67,100,"2017-02-25","5Q  CD60 R1 - T 2 - SENLIS","Tour 2","2016-2017",null,null,null,null,0,null,0]
["BOUIGES Armelle","DIOT Alain","P",0,1,43,100,"2017-02-25","5Q  CD60 R1 - T 2 - SENLIS","Tour 3","2016-2017",null,null,null,null,0,null,0]
["BOUIGES Armelle","DUCHATEAU Jean-Pierre","P",0,1,19,100,"2017-02-25","5Q  CD60 R1 - T 2 - SENLIS","Tour 4","2016-2017",null,null,null,null,0,null,0]
["BOUIGES Armelle","LEGER Emmanuel","P",0,1,82,100,"2017-01-21","5Q  CD60 R1 - T 3 - MERU","Tour 3","2016-2017",null,null,null,null,0,null,0]
["BOUIGES Armelle","DIOT Alain","P",0,1,26,100,"2017-01-21","5Q  CD60 R1 - T 3 - MERU","Tour 4","2016-2017",null,null,null,null,0,null,0]
["BOUIGES Armelle","FAURE Stéphane","P",0,3,29,180,"2018-02-17","FINALE OISE - CREPY","Qualifications","2017-2018",null,null,null,null,0,null,0]
["BOUIGES Armelle","LALOT Gérard","P",0,3,69,180,"2018-02-17","FINALE OISE - CREPY","Qualifications","2017-2018",null,null,null,null,0,null,0]
["BOUIGES Armelle","MARTIN Denis","P",1,3,155,239,"2018-02-17","FINALE OISE - CREPY","Qualifications","2017-2018",null,null,null,null,0,null,0]
["BOUIGES Armelle","BARTHON Aurélie","P",0,2,86,120,"2018-05-13","FINALE OISE FEMININES - SENLIS","Qualifications","2017-2018",null,null,null,null,0,null,0]
["BOUIGES Armelle","VANEME Sophie","P",0,2,100,120,"2018-05-13","FINALE OISE FEMININES - SENLIS","Qualifications","2017-2018",null,null,null,null,0,null,0]
["BOUIGES Armelle","BARTHON Aurélie","P",0,1,57,100,"2017-09-30","T 1 OISE - Consolante - CREPY","Qualifications","2017-2018",null,null,null,null,0,null,0]
["BOUIGES Armelle","TALEC Pierre","P",0,1,35,100,"2017-09-30","T 1 OISE - Consolante - CREPY","Qualifications","2017-2018",null,null,null,null,0,null,0]
["BOUIGES Armelle","BARTHON Aurélie","P",1,2,154,162,"2017-09-30","T 1 OISE - CREPY","Qualifications","2017-2018",null,null,null,null,0,null,0]
["BOUIGES Armelle","LAMARQUE Yves","P",0,2,76,120,"2017-09-30","T 1 OISE - CREPY","Qualifications","2017-2018",null,null,null,null,0,null,0]
["BOUIGES Armelle","MARTIN Denis","P",0,2,28,120,"2017-09-30","T 1 OISE - CREPY","Qualifications","2017-2018",null,null,null,null,0,null,0]
["BOUIGES Armelle","FAURE Stéphane","P",0,2,79,120,"2017-10-21","T 2 OISE - SENLIS","Qualifications","2017-2018",null,null,null,null,0,null,0]
["BOUIGES Armelle","TALEC Pierre","P",1,2,145,178,"2017-10-21","T 2 OISE - SENLIS","Qualifications","2017-2018",null,null,null,null,0,null,0]
["BOUIGES Armelle","LAMARQUE Yves","G",1,0,100,34,43029,"T 2 OISE Consolante - SENLIS","Qualifications","2017-2018",null,null,null,null,0,null,0]
["BOUIGES Armelle","MURIOT Jean-Pierre","P",0,1,94,100,43029,"T 2 OISE Consolante - SENLIS","Qualifications","2017-2018",null,null,null,null,0,null,0]
["BOUIGES Armelle","FAURE Stéphane","P",0,2,60,120,"2017-11-25","T 3 OISE - MERU","Qualifications","2017-2018",null,null,null,null,0,null,0]
["BOUIGES Armelle","FAURE Stéphane","P",1,2,114,156,"2017-11-25","T 3 OISE - MERU","1/2 Finale","2017-2018",null,null,null,null,0,null,0]
["BOUIGES Armelle","LAMARQUE Yves","G",2,1,157,162,"2017-11-25","T 3 OISE - MERU","Qualifications","2017-2018",null,null,null,null,0,null,0]
["BOUIGES Armelle","LEFEBVRE Gérard","P",0,2,52,120,"2018-01-06","T 4 OISE - VILLERS","Qualifications","2017-2018",null,null,null,null,0,null,0]
["BOUIGES Armelle","MARTIN Denis","P",0,2,70,120,"2018-01-06","T 4 OISE - VILLERS","Qualifications","2017-2018",null,null,null,null,0,null,0]
["BOUIGES Armelle","MARTIN Denis","P",1,2,103,166,"2018-01-06","T 4 OISE - VILLERS","1/4 Finale","2017-2018",null,null,null,null,0,null,0]
["BOUIGES Armelle","VANEME Sophie","G",2,0,120,105,"2018-01-06","T 4 OISE - VILLERS","Qualifications","2017-2018",null,null,null,null,0,null,0]
["BOUIGES Armelle","DESCLAIR Guy","P",0,2,55,120,"2018-09-29","5 Q - T 1 OISE 2018-19 - R 1 - TOURNOI PRINCIPAL  - CREPY","Qualifications","2018-2019",null,null,null,null,0,null,0]
["BOUIGES Armelle","DESCLAIR Guy","P",0,2,68,120,"2018-09-29","5 Q - T 1 OISE 2018-19 - R 1 - TOURNOI PRINCIPAL  - CREPY","Qualifications","2018-2019",null,null,null,null,0,null,0]
["BOUIGES Armelle","DESCLAIR Guy","P",0,2,60,120,"2018-09-29","5 Q - T 1 OISE 2018-19 - R 1 - TOURNOI PRINCIPAL  - CREPY","1/4 Finale","2018-2019",null,null,null,null,0,null,0]
["BOUIGES Armelle","GROSS Xavier","P",0,2,55,120,"2018-10-27","5 Q - T 2 OISE 2018-19 - R 1 - TOURNOI PRINCIPAL  - VILLERS","Qualifications","2018-2019",null,null,null,null,0,null,0]
["BOUIGES Armelle","LALOT Gérard","P",0,2,29,120,"2018-10-27","5 Q - T 2 OISE 2018-19 - R 1 - TOURNOI PRINCIPAL  - VILLERS","Qualifications","2018-2019",null,null,null,null,0,null,0]
["BOUIGES Armelle","ALAZARD Philippe","P",0,2,52,120,"2018-11-24","5 Q - T 3 OISE 2018-19 - R 1 - TOURNOI PRINCIPAL  - MERU","Qualifications","2018-2019",null,null,null,null,0,null,0]
["BOUIGES Armelle","VANDEPUTTE Laurent","P",1,2,124,173,"2018-11-24","5 Q - T 3 OISE 2018-19 - R 1 - TOURNOI PRINCIPAL  - MERU","Qualifications","2018-2019",null,null,null,null,0,null,0]
["BOUIGES Armelle","LALOT Gérard","P",1,2,126,177,"2019-01-19","5 Q - T 4 OISE 2018-19 - R 1 - TOURNOI PRINCIPAL  - CHAMBLY","Qualifications","2018-2019",null,null,null,null,0,null,0]
["BOUIGES Armelle","TALEC Pierre","P",0,2,110,120,"2019-01-19","5 Q - T 4 OISE 2018-19 - R 1 - TOURNOI PRINCIPAL  - CHAMBLY","Qualifications","2018-2019",null,null,null,null,0,null,0]
["BOUIGES Armelle","BOURGOGNE Claude","P",0,2,51,120,"2019-10-19","CD60  R1 - T1 - Tour Principal - BEAUVAIS","Qualifications","2019-2020",null,null,null,null,0,null,0]
["BOUIGES Armelle","VASSEUR Francis","P",0,2,64,120,"2019-10-19","CD60  R1 - T1 - Tour Principal - BEAUVAIS","Qualifications","2019-2020",null,null,null,null,0,null,0]
["BOUIGES Armelle","ALAZARD Philippe","P",0,1,36,100,"2020-01-11","CD60  R1 - T3 - Tour Principal - CREPY","Qualifications","2019-2020",null,null,null,null,0,null,0]
["BOUIGES Armelle","BARTHON Aurélie","P",0,1,57,100,"2020-01-11","CD60  R1 - T3 - Tour Principal - CREPY","Qualifications","2019-2020",null,null,null,null,0,null,0]
["BOUIGES Armelle","ALAZARD Philippe","P",0,1,34,100,"2020-02-15","CD60  R1 - T 4 - Tour Principal - SENLIS","Qualifications","2019-2020",null,null,null,null,0,null,0]
["BOUIGES Armelle","CHENAL Gérard","P",0,1,43,100,"2020-02-15","CD60  R1 - T 4 - Tour Principal - SENLIS","Qualifications","2019-2020",null,null,null,null,0,null,0]
["BOUIGES Armelle","BOURGOGNE Claude","P",0,2,44,120,"2019-11-23","CD60  R1 - T2 - Tour Principal - MERU","Qualifications","2019-2020",null,null,null,null,0,null,0]
["BOUIGES Armelle","MURIOT Jean-Pierre","P",0,2,81,120,"2019-11-23","CD60  R1 - T2 - Tour Principal - MERU","Qualifications","2019-2020",null,null,null,null,0,null,0]
["BOUIGES Armelle","BARBE Philippe","P",0,1,43,120,"2021-10-02","T 1 OISE - Qualifications R 1 - Tour principal - MERU","Qualifications","2021-2022",null,null,null,null,0,null,0]
["BOUIGES Armelle","BARTHON Aurélie","P",0,1,53,120,"2021-10-02","T 1 OISE - Qualifications R 1 - Tour principal - MERU","Qualifications","2021-2022",null,null,null,null,0,null,0]
["BOUIGES Armelle","BOZON Robert","P",0,1,55,120,"2021-12-18","T 2 OISE - Qualifications R 1 - Tour principal - CREPY","Qualifications","2021-2022",null,null,null,null,0,null,0]
["BOUIGES Armelle","HERTOUX Didier","P",0,1,81,120,"2021-12-18","T 2 OISE - Qualifications R 1 - Tour principal - CREPY","Qualifications","2021-2022",null,null,null,null,0,null,0]
["BOUIGES Armelle","BARBE Philippe","P",0,1,51,120,"2022-04-16","T 4 OISE - Qualifications R 1 - Tour Principal - BEAUVAIS","Qualifications","2021-2022",null,null,null,null,0,null,0]
["BOUIGES Armelle","LAMARQUE Yves","P",0,1,52,120,"2022-04-16","T 4 OISE - Qualifications R 1 - Tour Principal - BEAUVAIS","1/4 Finale","2021-2022",null,null,null,null,0,null,0]
["BOUIGES Armelle","NAHIRNYJ Alexi","P",0,1,108,120,"2022-04-16","T 4 OISE - Qualifications R 1 - Tour Principal - BEAUVAIS","Qualifications","2021-2022",null,null,null,null,0,null,0]
["Fin des données",null,null,null,null,null,null,null,null,null,"",null,null,null,null,{"$f":"IF($K70=P$1,COUNTIF($C70,\"G\"),0)","v":0},null,{"$f":"IF($K70=R$1,COUNTIF($C70,\"G\"),0)","v":0}]

{"sheet":"BOULINGUEZ Yves","index":22,"n_rows":39,"n_cols":22,"rows_kept":39,"cut":false,"hidden":false,"merged":[]}
["BOULINGUEZ Yves",null,null,null,null,null,null,null,null,null,null,null,null,null,null,{"$f":"SaisonDeb","v":"2021-2022"},null,{"$f":"SaisonFin","v":"2022-2023"},null,"Toutes saisons"]
[{"$error":"#N/A"},null,null,null,null,null,null,null,null,null,null,null,null,null,null,"Nombre","%age","Nombre","%age","Nombre","%age"]
[{"$error":"#N/A"},null,null,null,null,null,null,null,null,null,null,null,null,"Matchs","Gagnés",{"$f":"SUM(P$15:P$135)","v":0},{"$f":"IF(P$3+P$4>0,P3/(P$3+P$4),\"\")","v":""},{"$f":"SUM(R$15:R$135)","v":0},{"$f":"IF(R$3+R$4>0,R3/(R$3+R$4),\"\")","v":""},{"$f":"COUNTIF($C$15:$C$135,\"G\")","v":6},{"$f":"IF(T$3+T$4>0,T3/(T$3+T$4),\"\")","v":0.2608695652173913}]
[{"$error":"#N/A"},null,null,null,null,null,null,null,null,null,null,null,null,null,"Perdus",{"$f":"COUNTIF($K$15:$M$135,SaisonDeb)-P3","v":0},{"$f":"IF(P$3+P$4>0,P4/(P$3+P$4),\"\")","v":""},{"$f":"COUNTIF($K$15:$K$135,SaisonFin)-R3","v":0},{"$f":"IF(R$3+R$4>0,R4/(R$3+R$4),\"\")","v":""},{"$f":"COUNTIF($C$15:$C$135,\"P\")","v":17},{"$f":"IF(T$3+T$4>0,T4/(T$3+T$4),\"\")","v":0.73913043478260865}]
[{"$error":"#N/A"},null,null,null,null,null,null,null,null,null,null,null,null,null,"Total / Moy.",{"$f":"SUM(P3:P4)","v":0},{"$f":"IF(SUMIF($K$15:$K$135,SaisonDeb,$G$15:$G$135)>0,SUMIF($K$15:$K$135,SaisonDeb,$F$15:$F$135)/SUMIF($K$15:$K$135,SaisonDeb,$G$15:$G$135),\"\")","v":""},{"$f":"SUM(R3:R4)","v":0},{"$f":"IF(SUMIF($K$15:$K$135,SaisonFin,$G$15:$G$135)>0,SUMIF($K$15:$K$135,SaisonFin,$F$15:$F$135)/SUMIF($K$15:$K$135,SaisonFin,$G$15:$G$135),\"\")","v":""},{"$f":"SUM(T3:T4)","v":23},{"$f":"IF(SUM($G$15:$G$135)>0,SUM($F$15:$F$135)/SUM($G$15:$G$135),\"\")","v":0.83870967741935487},{"$f":"IF(SUMIF($K$15:$K$39,SaisonDeb,$G$15:$G$39)+SUMIF($K$15:$K$39,SaisonFin,$G$15:$G$39)>0,(SUMIF($K$15:$K$39,SaisonDeb,$F$15:$F$39)+SUMIF($K$15:$K$39,SaisonFin,$F$15:$F$39))/(SUMIF($K$15:$K$39,SaisonDeb,$G$15:$G$39)+SUMIF($K$15:$K$39,SaisonFin,$G$15:$G$39)),\"\")","v":""}]
[null,null,null,null,null,null,null,null,null,null,null,null,null,"Sets","Gagnés",{"$f":"SUMIF($K$15:$K$135,SaisonDeb,$D$15:$D$135)","v":0},{"$f":"IF(P$6+P$7>0,P6/(P$6+P$7),\"\")","v":""},{"$f":"SUMIF($K$15:$K$135,SaisonFin,$D$15:$D$135)","v":0},{"$f":"IF(R$6+R$7>0,R6/(R$6+R$7),\"\")","v":""},{"$f":"SUM($D$15:$D$135)","v":18},{"$f":"IF(T$6+T$7>0,T6/(T$6+T$7),\"\")","v":0.32142857142857145}]
[null,null,null,null,null,null,null,null,null,null,null,null,null,null,"Perdus",{"$f":"SUMIF($K$15:$K$135,SaisonDeb,$E$15:$E$135)","v":0},{"$f":"IF(P$6+P$7>0,P7/(P$6+P$7),\"\")","v":""},{"$f":"SUMIF($K$15:$K$135,SaisonFin,$E$15:$E$135)","v":0},{"$f":"IF(R$6+R$7>0,R7/(R$6+R$7),\"\")","v":""},{"$f":"SUM($E$15:$E$135)","v":38},{"$f":"IF(T$6+T$7>0,T7/(T$6+T$7),\"\")","v":0.6785714285714286}]
["Récapitulatif joueurs",null,null,null,null,null,null,null,null,null,null,null,null,null,"Total",{"$f":"SUM(P6:P7)","v":0},null,{"$f":"SUM(R6:R7)","v":0},null,{"$f":"SUM(T6:T7)","v":56}]
[]
[]
[]
[]
[]
[]
["Joueur","Adversaire","G/P","Sets gagnés","Sets perdus","pts marqués","pts subis","Date","Compétition","Phase","Saison"]
["BOULINGUEZ Yves","DA SILVA José","P",0,2,103,120,"2016-11-19","5Q  R1 CD02 - T1 - SOISSONS","Qualifications",{"$f":"IF(H16<>\"\",IF(MONTH(H16)>MoisRef,YEAR(H16)&\"-\"&YEAR(H16)+1,YEAR(H16)-1&\"-\"&YEAR(H16)),\"\")","v":"2016-2017"},null,null,null,null,{"$f":"IF($K16=P$1,COUNTIF($C16,\"G\"),0)","v":0},null,{"$f":"IF($K16=R$1,COUNTIF($C16,\"G\"),0)","v":0}]
["BOULINGUEZ Yves","FRISON Michel","P",0,2,55,120,"2016-11-19","5Q  R1 CD02 - T1 - SOISSONS","Qualifications","2016-2017",null,null,null,null,0,null,0]
["BOULINGUEZ Yves","BUTTI EmIlie","G",2,1,164,142,"2017-01-21","5Q  R1 CD02 - T3 - st quentin","Qualifications","2016-2017",null,null,null,null,0,null,0]
["BOULINGUEZ Yves","CHOUX André","P",1,2,127,155,"2017-01-21","5Q  R1 CD02 - T3 - st quentin","Qualifications","2016-2017",null,null,null,null,0,null,0]
["BOULINGUEZ Yves","CORRE Maxime","P",1,2,162,158,"2017-11-18","qualification AISNE R1 - St Q uentin","Qualifications","2017-2018",null,null,null,null,0,null,0]
["BOULINGUEZ Yves","DURTETTE Daniel","G",2,1,168,172,"2017-11-18","qualification AISNE R1 - St Q uentin","Qualifications","2017-2018",null,null,null,null,0,null,0]
["BOULINGUEZ Yves","COLAS Gerard","P",0,2,65,120,"2018-01-27","Qualifications AISNE R1 - guignicourt","Qualifications","2017-2018",null,null,null,null,0,null,0]
["BOULINGUEZ Yves","COLAS Gerard","P",0,2,94,120,"2018-01-27","Qualifications AISNE R1 - guignicourt","Qualifications","2017-2018",null,null,null,null,0,null,0]
["BOULINGUEZ Yves","BUTTI Bertrand","G",2,1,166,162,"2017-12-16","Qualifications AISNE R1 - SOISSONS","Qualifications","2017-2018",null,null,null,null,0,null,0]
["BOULINGUEZ Yves","COUSIN Francis","G",2,1,165,160,"2017-12-16","Qualifications AISNE R1 - SOISSONS","Qualifications","2017-2018",null,null,null,null,0,null,0]
["BOULINGUEZ Yves","BUTTI Bertrand","P",0,2,87,120,"2018-11-10","T1 CD02 - R1 - SOISSONS","Qualifications","2018-2019",null,null,null,null,0,null,0]
["BOULINGUEZ Yves","COUSIN Francis","P",1,2,126,167,"2018-11-10","T1 CD02 - R1 - SOISSONS","Qualifications","2018-2019",null,null,null,null,0,null,0]
["BOULINGUEZ Yves","DELFOSSE Fabien","P",0,2,70,120,"2018-11-10","T1 CD02 - R1 - SOISSONS","Qualifications","2018-2019",null,null,null,null,0,null,0]
["BOULINGUEZ Yves","BUTTI Bertrand","P",1,2,148,168,"2018-12-15","T2 CD02 - R1 - ST QUENTIN","Qualifications","2018-2019",null,null,null,null,0,null,0]
["BOULINGUEZ Yves","COUSIN Francis","P",0,2,55,120,"2018-12-15","T2 CD02 - R1 - ST QUENTIN","Qualifications","2018-2019",null,null,null,null,0,null,0]
["BOULINGUEZ Yves","DELFOSSE Fabien","P",0,2,86,120,"2018-12-15","T2 CD02 - R1 - ST QUENTIN","Qualifications","2018-2019",null,null,null,null,0,null,0]
["BOULINGUEZ Yves","BUTTI Bertrand","P",1,2,112,159,"2019-01-19","T3 CD02 - R1 - LA FERE","Qualifications","2018-2019",null,null,null,null,0,null,0]
["BOULINGUEZ Yves","COUSIN Francis","P",0,2,110,120,"2019-01-19","T3 CD02 - R1 - LA FERE","Qualifications","2018-2019",null,null,null,null,0,null,0]
["BOULINGUEZ Yves","DELFOSSE Fabien","P",1,2,134,163,"2019-01-19","T3 CD02 - R1 - LA FERE","Qualifications","2018-2019",null,null,null,null,0,null,0]
["BOULINGUEZ Yves","COUSIN Francis","G",2,0,120,88,"2019-10-19","T1 CD02 R1 - Billard Club de Soissons","Qualifications","2019-2020",null,null,null,null,0,null,0]
["BOULINGUEZ Yves","SIMON Philippe","P",0,2,79,120,"2019-10-19","T1 CD02 R1 - Billard Club de Soissons","Qualifications","2019-2020",null,null,null,null,0,null,0]
["BOULINGUEZ Yves","CASIER Philippe","G",2,0,120,86,"2019-12-07","T2 CD02 R1 - Saint-Quentin","Qualifications","2019-2020",null,null,null,null,0,null,0]
["BOULINGUEZ Yves","COUSIN Francis","P",0,2,84,120,"2019-12-07","T2 CD02 R1 - Saint-Quentin","Qualifications","2019-2020",null,null,null,null,0,null,0]
["Fin des données",null,null,null,null,null,null,null,null,null,"",null,null,null,null,0,null,0]

{"sheet":"BOURGOGNE Claude","index":23,"n_rows":32,"n_cols":22,"rows_kept":32,"cut":false,"hidden":false,"merged":[]}
["BOURGOGNE Claude",null,null,null,null,null,null,null,null,null,null,null,null,null,null,{"$f":"SaisonDeb","v":"2021-2022"},null,{"$f":"SaisonFin","v":"2022-2023"},null,"Toutes saisons"]
[{"$error":"#N/A"},null,null,null,null,null,null,null,null,null,null,null,null,null,null,"Nombre","%age","Nombre","%age","Nombre","%age"]
[{"$error":"#N/A"},null,null,null,null,null,null,null,null,null,null,null,null,"Matchs","Gagnés",{"$f":"SUM(P$15:P$128)","v":0},{"$f":"IF(P$3+P$4>0,P3/(P$3+P$4),\"\")","v":""},{"$f":"SUM(R$15:R$128)","v":0},{"$f":"IF(R$3+R$4>0,R3/(R$3+R$4),\"\")","v":""},{"$f":"COUNTIF($C$15:$C$128,\"G\")","v":12},{"$f":"IF(T$3+T$4>0,T3/(T$3+T$4),\"\")","v":0.75}]
[{"$error":"#N/A"},null,null,null,null,null,null,null,null,null,null,null,null,null,"Perdus",{"$f":"COUNTIF($K$15:$M$128,SaisonDeb)-P3","v":0},{"$f":"IF(P$3+P$4>0,P4/(P$3+P$4),\"\")","v":""},{"$f":"COUNTIF($K$15:$K$128,SaisonFin)-R3","v":0},{"$f":"IF(R$3+R$4>0,R4/(R$3+R$4),\"\")","v":""},{"$f":"COUNTIF($C$15:$C$128,\"P\")","v":4},{"$f":"IF(T$3+T$4>0,T4/(T$3+T$4),\"\")","v":0.25}]
[{"$error":"#N/A"},null,null,null,null,null,null,null,null,null,null,null,null,null,"Total / Moy.",{"$f":"SUM(P3:P4)","v":0},{"$f":"IF(SUMIF($K$15:$K$128,SaisonDeb,$G$15:$G$128)>0,SUMIF($K$15:$K$128,SaisonDeb,$F$15:$F$128)/SUMIF($K$15:$K$128,SaisonDeb,$G$15:$G$128),\"\")","v":""},{"$f":"SUM(R3:R4)","v":0},{"$f":"IF(SUMIF($K$15:$K$128,SaisonFin,$G$15:$G$128)>0,SUMIF($K$15:$K$128,SaisonFin,$F$15:$F$128)/SUMIF($K$15:$K$128,SaisonFin,$G$15:$G$128),\"\")","v":""},{"$f":"SUM(T3:T4)","v":16},{"$f":"IF(SUM($G$15:$G$128)>0,SUM($F$15:$F$128)/SUM($G$15:$G$128),\"\")","v":1.357630979498861},{"$f":"IF(SUMIF($K$15:$K$32,SaisonDeb,$G$15:$G$32)+SUMIF($K$15:$K$32,SaisonFin,$G$15:$G$32)>0,(SUMIF($K$15:$K$32,SaisonDeb,$F$15:$F$32)+SUMIF($K$15:$K$32,SaisonFin,$F$15:$F$32))/(SUMIF($K$15:$K$32,SaisonDeb,$G$15:$G$32)+SUMIF($K$15:$K$32,SaisonFin,$G$15:$G$32)),\"\")","v":""}]
[null,null,null,null,null,null,null,null,null,null,null,null,null,"Sets","Gagnés",{"$f":"SUMIF($K$15:$K$128,SaisonDeb,$D$15:$D$128)","v":0},{"$f":"IF(P$6+P$7>0,P6/(P$6+P$7),\"\")","v":""},{"$f":"SUMIF($K$15:$K$128,SaisonFin,$D$15:$D$128)","v":0},{"$f":"IF(R$6+R$7>0,R6/(R$6+R$7),\"\")","v":""},{"$f":"SUM($D$15:$D$128)","v":20},{"$f":"IF(T$6+T$7>0,T6/(T$6+T$7),\"\")","v":0.7142857142857143}]
[null,null,null,null,null,null,null,null,null,null,null,null,null,null,"Perdus",{"$f":"SUMIF($K$15:$K$128,SaisonDeb,$E$15:$E$128)","v":0},{"$f":"IF(P$6+P$7>0,P7/(P$6+P$7),\"\")","v":""},{"$f":"SUMIF($K$15:$K$128,SaisonFin,$E$15:$E$128)","v":0},{"$f":"IF(R$6+R$7>0,R7/(R$6+R$7),\"\")","v":""},{"$f":"SUM($E$15:$E$128)","v":8},{"$f":"IF(T$6+T$7>0,T7/(T$6+T$7),\"\")","v":0.2857142857142857}]
["Récapitulatif joueurs",null,null,null,null,null,null,null,null,null,null,null,null,null,"Total",{"$f":"SUM(P6:P7)","v":0},null,{"$f":"SUM(R6:R7)","v":0},null,{"$f":"SUM(T6:T7)","v":28}]
[]
[]
[]
[]
[]
[]
["Joueur","Adversaire","G/P","Sets gagnés","Sets perdus","pts marqués","pts subis","Date","Compétition","Phase","Saison"]
["BOURGOGNE Claude","ALAZARD Philippe","G",2,0,120,85,"2019-10-19","CD60  R1 - T1 - Tour Principal - BEAUVAIS","Finale",{"$f":"IF(H16<>\"\",IF(MONTH(H16)>MoisRef,YEAR(H16)&\"-\"&YEAR(H16)+1,YEAR(H16)-1&\"-\"&YEAR(H16)),\"\")","v":"2019-2020"},null,null,null,null,{"$f":"IF($K16=P$1,COUNTIF($C16,\"G\"),0)","v":0},null,{"$f":"IF($K16=R$1,COUNTIF($C16,\"G\"),0)","v":0}]
["BOURGOGNE Claude","BOUIGES Armelle","G",2,0,120,51,"2019-10-19","CD60  R1 - T1 - Tour Principal - BEAUVAIS","Qualifications","2019-2020",null,null,null,null,0,null,0]
["BOURGOGNE Claude","LALOT Gérard","G",2,1,170,158,"2019-10-19","CD60  R1 - T1 - Tour Principal - BEAUVAIS","1/4 Finale","2019-2020",null,null,null,null,0,null,0]
["BOURGOGNE Claude","VASSEUR Francis","G",2,0,120,61,"2019-10-19","CD60  R1 - T1 - Tour Principal - BEAUVAIS","Qualifications","2019-2020",null,null,null,null,0,null,0]
["BOURGOGNE Claude","VASSEUR Francis","G",2,1,175,136,"2019-10-19","CD60  R1 - T1 - Tour Principal - BEAUVAIS","1/2 Finale","2019-2020",null,null,null,null,0,null,0]
["BOURGOGNE Claude","DESCLAIR Guy","G",1,0,100,29,"2020-01-11","CD60  R1 - T3 - Tour Principal - CREPY","1/4 Finale","2019-2020",null,null,null,null,0,null,0]
["BOURGOGNE Claude","GEOFFROY Florent","P",0,1,76,100,"2020-01-11","CD60  R1 - T3 - Tour Principal - CREPY","Qualifications","2019-2020",null,null,null,null,0,null,0]
["BOURGOGNE Claude","LALOT Gérard","P",0,1,54,100,"2020-01-11","CD60  R1 - T3 - Tour Principal - CREPY","1/2 Finale","2019-2020",null,null,null,null,0,null,0]
["BOURGOGNE Claude","NAHIRNYJ Alexi","G",1,0,100,28,"2020-01-11","CD60  R1 - T3 - Tour Principal - CREPY","Qualifications","2019-2020",null,null,null,null,0,null,0]
["BOURGOGNE Claude","COUPLET Sébastien","G",1,0,100,39,"2020-02-15","CD60  R1 - T 4 - Tour Principal - SENLIS","Qualifications","2019-2020",null,null,null,null,0,null,0]
["BOURGOGNE Claude","HERTOUX Didier","G",1,0,100,64,"2020-02-15","CD60  R1 - T 4 - Tour Principal - SENLIS","Qualifications","2019-2020",null,null,null,null,0,null,0]
["BOURGOGNE Claude","LAMARQUE Yves","P",0,1,93,100,"2020-02-15","CD60  R1 - T 4 - Tour Principal - SENLIS","1/4 Finale","2019-2020",null,null,null,null,0,null,0]
["BOURGOGNE Claude","BOUIGES Armelle","G",2,0,120,44,"2019-11-23","CD60  R1 - T2 - Tour Principal - MERU","Qualifications","2019-2020",null,null,null,null,0,null,0]
["BOURGOGNE Claude","DESCLAIR Guy","P",0,2,67,120,"2019-11-23","CD60  R1 - T2 - Tour Principal - MERU","1/2 Finale","2019-2020",null,null,null,null,0,null,0]
["BOURGOGNE Claude","MURIOT Jean-Pierre","G",2,0,120,75,"2019-11-23","CD60  R1 - T2 - Tour Principal - MERU","Qualifications","2019-2020",null,null,null,null,0,null,0]
["BOURGOGNE Claude","NAHIRNYJ Alexi","G",2,1,153,127,"2019-11-23","CD60  R1 - T2 - Tour Principal - MERU","1/4 Finale","2019-2020",null,null,null,null,0,null,0]
["Fin des données",null,null,null,null,null,null,null,null,null,"",null,null,null,null,{"$f":"IF($K32=P$1,COUNTIF($C32,\"G\"),0)","v":0},null,{"$f":"IF($K32=R$1,COUNTIF($C32,\"G\"),0)","v":0}]

{"sheet":"BOUTON Gérard","index":24,"n_rows":36,"n_cols":22,"rows_kept":36,"cut":false,"hidden":false,"merged":[]}
["BOUTON Gérard",null,null,null,null,null,null,null,null,null,null,null,null,null,null,{"$f":"SaisonDeb","v":"2021-2022"},null,{"$f":"SaisonFin","v":"2022-2023"},null,"Toutes saisons"]
[{"$error":"#N/A"},null,null,null,null,null,null,null,null,null,null,null,null,null,null,"Nombre","%age","Nombre","%age","Nombre","%age"]
[{"$error":"#N/A"},null,null,null,null,null,null,null,null,null,null,null,null,"Matchs","Gagnés",{"$f":"SUM(P$15:P$132)","v":3},{"$f":"IF(P$3+P$4>0,P3/(P$3+P$4),\"\")","v":0.33333333333333331},{"$f":"SUM(R$15:R$132)","v":4},{"$f":"IF(R$3+R$4>0,R3/(R$3+R$4),\"\")","v":0.36363636363636365},{"$f":"COUNTIF($C$15:$C$132,\"G\")","v":7},{"$f":"IF(T$3+T$4>0,T3/(T$3+T$4),\"\")","v":0.35}]
[{"$error":"#N/A"},null,null,null,null,null,null,null,null,null,null,null,null,null,"Perdus",{"$f":"COUNTIF($K$15:$M$132,SaisonDeb)-P3","v":6},{"$f":"IF(P$3+P$4>0,P4/(P$3+P$4),\"\")","v":0.66666666666666663},{"$f":"COUNTIF($K$15:$K$132,SaisonFin)-R3","v":7},{"$f":"IF(R$3+R$4>0,R4/(R$3+R$4),\"\")","v":0.63636363636363635},{"$f":"COUNTIF($C$15:$C$132,\"P\")","v":13},{"$f":"IF(T$3+T$4>0,T4/(T$3+T$4),\"\")","v":0.65}]
[{"$error":"#N/A"},null,null,null,null,null,null,null,null,null,null,null,null,null,"Total / Moy.",{"$f":"SUM(P3:P4)","v":9},{"$f":"IF(SUMIF($K$15:$K$132,SaisonDeb,$G$15:$G$132)>0,SUMIF($K$15:$K$132,SaisonDeb,$F$15:$F$132)/SUMIF($K$15:$K$132,SaisonDeb,$G$15:$G$132),\"\")","v":0.80851063829787229},{"$f":"SUM(R3:R4)","v":11},{"$f":"IF(SUMIF($K$15:$K$132,SaisonFin,$G$15:$G$132)>0,SUMIF($K$15:$K$132,SaisonFin,$F$15:$F$132)/SUMIF($K$15:$K$132,SaisonFin,$G$15:$G$132),\"\")","v":1.0199306759098787},{"$f":"SUM(T3:T4)","v":20},{"$f":"IF(SUM($G$15:$G$132)>0,SUM($F$15:$F$132)/SUM($G$15:$G$132),\"\")","v":0.92001828153564902},{"$f":"IF(SUMIF($K$15:$K$36,SaisonDeb,$G$15:$G$36)+SUMIF($K$15:$K$36,SaisonFin,$G$15:$G$36)>0,(SUMIF($K$15:$K$36,SaisonDeb,$F$15:$F$36)+SUMIF($K$15:$K$36,SaisonFin,$F$15:$F$36))/(SUMIF($K$15:$K$36,SaisonDeb,$G$15:$G$36)+SUMIF($K$15:$K$36,SaisonFin,$G$15:$G$36)),\"\")","v":0.92001828153564902}]
[null,null,null,null,null,null,null,null,null,null,null,null,null,"Sets","Gagnés",{"$f":"SUMIF($K$15:$K$132,SaisonDeb,$D$15:$D$132)","v":3},{"$f":"IF(P$6+P$7>0,P6/(P$6+P$7),\"\")","v":0.33333333333333331},{"$f":"SUMIF($K$15:$K$132,SaisonFin,$D$15:$D$132)","v":4},{"$f":"IF(R$6+R$7>0,R6/(R$6+R$7),\"\")","v":0.36363636363636365},{"$f":"SUM($D$15:$D$132)","v":7},{"$f":"IF(T$6+T$7>0,T6/(T$6+T$7),\"\")","v":0.35}]
[null,null,null,null,null,null,null,null,null,null,null,null,null,null,"Perdus",{"$f":"SUMIF($K$15:$K$132,SaisonDeb,$E$15:$E$132)","v":6},{"$f":"IF(P$6+P$7>0,P7/(P$6+P$7),\"\")","v":0.66666666666666663},{"$f":"SUMIF($K$15:$K$132,SaisonFin,$E$15:$E$132)","v":7},{"$f":"IF(R$6+R$7>0,R7/(R$6+R$7),\"\")","v":0.63636363636363635},{"$f":"SUM($E$15:$E$132)","v":13},{"$f":"IF(T$6+T$7>0,T7/(T$6+T$7),\"\")","v":0.65}]
["Récapitulatif joueurs",null,null,null,null,null,null,null,null,null,null,null,null,null,"Total",{"$f":"SUM(P6:P7)","v":9},null,{"$f":"SUM(R6:R7)","v":11},null,{"$f":"SUM(T6:T7)","v":20}]
[]
[]
[]
[]
[]
[]
["Joueur","Adversaire","G/P","Sets gagnés","Sets perdus","pts marqués","pts subis","Date","Compétition","Phase","Saison"]
["BOUTON Gérard","CHARLES Dominique","P",0,1,80,120,"2021-10-02","T 1 OISE - Qualifications R 1 - Tour principal - MERU","1/4 Finale",{"$f":"IF(H16<>\"\",IF(MONTH(H16)>MoisRef,YEAR(H16)&\"-\"&YEAR(H16)+1,YEAR(H16)-1&\"-\"&YEAR(H16)),\"\")","v":"2021-2022"},null,null,null,null,{"$f":"IF($K16=P$1,COUNTIF($C16,\"G\"),0)","v":0},null,{"$f":"IF($K16=R$1,COUNTIF($C16,\"G\"),0)","v":0}]
["BOUTON Gérard","DESCLAIR Guy","G",1,0,120,117,"2021-10-02","T 1 OISE - Qualifications R 1 - Tour principal - MERU","Qualifications","2021-2022",null,null,null,null,1,null,0]
["BOUTON Gérard","LAMARQUE Yves","G",1,0,120,115,"2021-10-02","T 1 OISE - Qualifications R 1 - Tour principal - MERU","Qualifications","2021-2022",null,null,null,null,1,null,0]
["BOUTON Gérard","DESCLAIR Guy","P",0,1,45,120,"2021-12-18","T 2 OISE - Qualifications R 1 - Tour principal - CREPY","Qualifications","2021-2022",null,null,null,null,0,null,0]
["BOUTON Gérard","DESCLAIR Guy","P",0,1,75,120,"2021-12-18","T 2 OISE - Qualifications R 1 - Tour principal - CREPY","1/4 Finale","2021-2022",null,null,null,null,0,null,0]
["BOUTON Gérard","MURIOT Jean-Pierre","G",1,0,120,82,"2021-12-18","T 2 OISE - Qualifications R 1 - Tour principal - CREPY","Qualifications","2021-2022",null,null,null,null,1,null,0]
["BOUTON Gérard","BOZON Robert","P",0,1,71,120,"2022-04-16","T 4 OISE - Qualifications R 1 - Tour Principal - BEAUVAIS","Qualifications","2021-2022",null,null,null,null,0,null,0]
["BOUTON Gérard","HERTOUX Didier","P",0,1,101,120,"2022-04-16","T 4 OISE - Qualifications R 1 - Tour Principal - BEAUVAIS","Qualifications","2021-2022",null,null,null,null,0,null,0]
["BOUTON Gérard","NAHIRNYJ Alexi","P",0,1,104,120,"2022-04-16","T 4 OISE - Qualifications R 1 - Tour Principal - BEAUVAIS","1/4 Finale","2021-2022",null,null,null,null,0,null,0]
["BOUTON Gérard","CHENAL Gérard","G",1,0,120,80,"2022-12-03","T 2 OISE - Qualifications R 1 - Tour Principal - SENLIS","1/4 Finale","2022-2023",null,null,null,null,0,null,1]
["BOUTON Gérard","HERTOUX Didier","P",0,1,117,120,"2022-12-03","T 2 OISE - Qualifications R 1 - Tour Principal - SENLIS","Qualifications","2022-2023",null,null,null,null,0,null,0]
["BOUTON Gérard","PELLETIER Steeve","G",1,0,120,26,"2022-12-03","T 2 OISE - Qualifications R 1 - Tour Principal - SENLIS","Qualifications","2022-2023",null,null,null,null,0,null,1]
["BOUTON Gérard","ZANOTTI Michel","P",0,1,89,120,"2022-12-03","T 2 OISE - Qualifications R 1 - Tour Principal - SENLIS","1/2 Finale","2022-2023",null,null,null,null,0,null,0]
["BOUTON Gérard","CUNIN Mickael","P",0,1,102,120,"2023-02-18","T 3 OISE - Qualifications R 1 - Tour Principal - BEAUVAIS","Qualifications","2022-2023",null,null,null,null,0,null,0]
["BOUTON Gérard","GERONIMI Thierry","P",0,1,116,120,"2023-02-18","T 3 OISE - Qualifications R 1 - Tour Principal - BEAUVAIS","Qualifications","2022-2023",null,null,null,null,0,null,0]
["BOUTON Gérard","CHENAL Gérard","G",1,0,120,103,"2023-03-18","T 4 OISE - Qualifications R 1 - Tour Principal - CREPY","Qualifications","2022-2023",null,null,null,null,0,null,1]
["BOUTON Gérard","CUNIN Mickael","P",0,1,100,120,"2023-03-18","T 4 OISE - Qualifications R 1 - Tour Principal - CREPY","1/4 Finale","2022-2023",null,null,null,null,0,null,0]
["BOUTON Gérard","NAHIRNYJ Alexi","P",0,1,78,120,"2023-03-18","T 4 OISE - Qualifications R 1 - Tour Principal - CREPY","Qualifications","2022-2023",null,null,null,null,0,null,0]
["BOUTON Gérard","DIOT Alain","G",1,0,120,105,"2022-10-29","T 1 OISE - Qualifications R 1 - Tour Principal - MERU","Qualifications","2022-2023",null,null,null,null,0,null,1]
["BOUTON Gérard","DIOT Alain","P",0,1,95,120,"2022-10-29","T 1 OISE - Qualifications R 1 - Tour Principal - MERU","Qualifications","2022-2023",null,null,null,null,0,null,0]
["Fin des données",null,null,null,null,null,null,null,null,null,"",null,null,null,null,{"$f":"IF($K36=P$1,COUNTIF($C36,\"G\"),0)","v":0},null,{"$f":"IF($K36=R$1,COUNTIF($C36,\"G\"),0)","v":0}]

{"sheet":"BOZON Robert","index":25,"n_rows":44,"n_cols":22,"rows_kept":44,"cut":false,"hidden":false,"merged":[]}
["BOZON Robert",null,null,null,null,null,null,null,null,null,null,null,null,null,null,{"$f":"SaisonDeb","v":"2021-2022"},null,{"$f":"SaisonFin","v":"2022-2023"},null,"Toutes saisons"]
[{"$error":"#N/A"},null,null,null,null,null,null,null,null,null,null,null,null,null,null,"Nombre","%age","Nombre","%age","Nombre","%age"]
[{"$error":"#N/A"},null,null,null,null,null,null,null,null,null,null,null,null,"Matchs","Gagnés",{"$f":"SUM(P$15:P$140)","v":12},{"$f":"IF(P$3+P$4>0,P3/(P$3+P$4),\"\")","v":0.75},{"$f":"SUM(R$15:R$140)","v":1},{"$f":"IF(R$3+R$4>0,R3/(R$3+R$4),\"\")","v":0.33333333333333331},{"$f":"COUNTIF($C$15:$C$140,\"G\")","v":15},{"$f":"IF(T$3+T$4>0,T3/(T$3+T$4),\"\")","v":0.5357142857142857}]
[{"$error":"#N/A"},null,null,null,null,null,null,null,null,null,null,null,null,null,"Perdus",{"$f":"COUNTIF($K$15:$M$140,SaisonDeb)-P3","v":4},{"$f":"IF(P$3+P$4>0,P4/(P$3+P$4),\"\")","v":0.25},{"$f":"COUNTIF($K$15:$K$140,SaisonFin)-R3","v":2},{"$f":"IF(R$3+R$4>0,R4/(R$3+R$4),\"\")","v":0.66666666666666663},{"$f":"COUNTIF($C$15:$C$140,\"P\")","v":13},{"$f":"IF(T$3+T$4>0,T4/(T$3+T$4),\"\")","v":0.4642857142857143}]
[{"$error":"#N/A"},null,null,null,null,null,null,null,null,null,null,null,null,null,"Total / Moy.",{"$f":"SUM(P3:P4)","v":16},{"$f":"IF(SUMIF($K$15:$K$140,SaisonDeb,$G$15:$G$140)>0,SUMIF($K$15:$K$140,SaisonDeb,$F$15:$F$140)/SUMIF($K$15:$K$140,SaisonDeb,$G$15:$G$140),\"\")","v":1.2606951871657754},{"$f":"SUM(R3:R4)","v":3},{"$f":"IF(SUMIF($K$15:$K$140,SaisonFin,$G$15:$G$140)>0,SUMIF($K$15:$K$140,SaisonFin,$F$15:$F$140)/SUMIF($K$15:$K$140,SaisonFin,$G$15:$G$140),\"\")","v":0.96439169139465875},{"$f":"SUM(T3:T4)","v":28},{"$f":"IF(SUM($G$15:$G$140)>0,SUM($F$15:$F$140)/SUM($G$15:$G$140),\"\")","v":1.0784175203108441},{"$f":"IF(SUMIF($K$15:$K$44,SaisonDeb,$G$15:$G$44)+SUMIF($K$15:$K$44,SaisonFin,$G$15:$G$44)>0,(SUMIF($K$15:$K$44,SaisonDeb,$F$15:$F$44)+SUMIF($K$15:$K$44,SaisonFin,$F$15:$F$44))/(SUMIF($K$15:$K$44,SaisonDeb,$G$15:$G$44)+SUMIF($K$15:$K$44,SaisonFin,$G$15:$G$44)),\"\")","v":1.2062193126022913}]
[null,null,null,null,null,null,null,null,null,null,null,null,null,"Sets","Gagnés",{"$f":"SUMIF($K$15:$K$140,SaisonDeb,$D$15:$D$140)","v":15},{"$f":"IF(P$6+P$7>0,P6/(P$6+P$7),\"\")","v":0.75},{"$f":"SUMIF($K$15:$K$140,SaisonFin,$D$15:$D$140)","v":1},{"$f":"IF(R$6+R$7>0,R6/(R$6+R$7),\"\")","v":0.33333333333333331},{"$f":"SUM($D$15:$D$140)","v":22},{"$f":"IF(T$6+T$7>0,T6/(T$6+T$7),\"\")","v":0.5641025641025641}]
[null,null,null,null,null,null,null,null,null,null,null,null,null,null,"Perdus",{"$f":"SUMIF($K$15:$K$140,SaisonDeb,$E$15:$E$140)","v":5},{"$f":"IF(P$6+P$7>0,P7/(P$6+P$7),\"\")","v":0.25},{"$f":"SUMIF($K$15:$K$140,SaisonFin,$E$15:$E$140)","v":2},{"$f":"IF(R$6+R$7>0,R7/(R$6+R$7),\"\")","v":0.66666666666666663},{"$f":"SUM($E$15:$E$140)","v":17},{"$f":"IF(T$6+T$7>0,T7/(T$6+T$7),\"\")","v":0.4358974358974359}]
["Récapitulatif joueurs",null,null,null,null,null,null,null,null,null,null,null,null,null,"Total",{"$f":"SUM(P6:P7)","v":20},null,{"$f":"SUM(R6:R7)","v":3},null,{"$f":"SUM(T6:T7)","v":39}]
[]
[]
[]
[]
[]
[]
["Joueur","Adversaire","G/P","Sets gagnés","Sets perdus","pts marqués","pts subis","Date","Compétition","Phase","Saison"]
["BOZON Robert","ALAZARD Philippe","P",1,2,162,167,"2018-11-24","5 Q - T 3 OISE 2018-19 - R 1 - TOURNOI PRINCIPAL  - MERU","1/4 Finale",{"$f":"IF(H16<>\"\",IF(MONTH(H16)>MoisRef,YEAR(H16)&\"-\"&YEAR(H16)+1,YEAR(H16)-1&\"-\"&YEAR(H16)),\"\")","v":"2018-2019"},null,null,null,null,{"$f":"IF($K16=P$1,COUNTIF($C16,\"G\"),0)","v":0},null,{"$f":"IF($K16=R$1,COUNTIF($C16,\"G\"),0)","v":0}]
["BOZON Robert","DESCLAIR Guy","P",1,2,142,160,"2018-11-24","5 Q - T 3 OISE 2018-19 - R 1 - TOURNOI PRINCIPAL  - MERU","Qualifications","2018-2019",null,null,null,null,0,null,0]
["BOZON Robert","TALEC Pierre","G",2,0,120,99,"2018-11-24","5 Q - T 3 OISE 2018-19 - R 1 - TOURNOI PRINCIPAL  - MERU","Qualifications","2018-2019",null,null,null,null,0,null,0]
["BOZON Robert","COUPLET Valentin","P",0,1,53,100,"2020-01-11","CD60  R1 - T3 - Tour Principal - CREPY","Qualifications","2019-2020",null,null,null,null,0,null,0]
["BOZON Robert","LAMARQUE Yves","P",0,1,73,100,"2020-01-11","CD60  R1 - T3 - Tour Principal - CREPY","Qualifications","2019-2020",null,null,null,null,0,null,0]
["BOZON Robert","DUCHATEAU Jean-Pierre","P",0,1,71,100,"2020-02-15","CD60  R1 - T 4 - Tour Principal - SENLIS","Qualifications","2019-2020",null,null,null,null,0,null,0]
["BOZON Robert","LALOT Gérard","P",0,1,77,100,"2020-02-15","CD60  R1 - T 4 - Tour Principal - SENLIS","Qualifications","2019-2020",null,null,null,null,0,null,0]
["BOZON Robert","ALAZARD Philippe","P",0,2,24,120,"2019-11-23","CD60  R1 - T2 - Tour Principal - MERU","Qualifications","2019-2020",null,null,null,null,0,null,0]
["BOZON Robert","BARTHON Aurélie","G",2,0,120,52,"2019-11-23","CD60  R1 - T2 - Tour Principal - MERU","Qualifications","2019-2020",null,null,null,null,0,null,0]
["BOZON Robert","BARBE Philippe","P",0,1,73,120,"2021-10-02","T 1 OISE - Qualifications R 1 - Tour principal - MERU","Finale","2021-2022",null,null,null,null,0,null,0]
["BOZON Robert","LAMARQUE Yves","G",1,0,120,103,"2021-10-02","T 1 OISE - Qualifications R 1 - Tour principal - MERU","1/4 Finale","2021-2022",null,null,null,null,1,null,0]
["BOZON Robert","MARTIN Denis","G",1,0,120,82,"2021-10-02","T 1 OISE - Qualifications R 1 - Tour principal - MERU","Qualifications","2021-2022",null,null,null,null,1,null,0]
["BOZON Robert","MAUGER Jean-Paul","G",1,0,120,119,"2021-10-02","T 1 OISE - Qualifications R 1 - Tour principal - MERU","1/2 Finale","2021-2022",null,null,null,null,1,null,0]
["BOZON Robert","NAHIRNYJ Alexi","G",1,0,120,107,"2021-10-02","T 1 OISE - Qualifications R 1 - Tour principal - MERU","Qualifications","2021-2022",null,null,null,null,1,null,0]
["BOZON Robert","BOUIGES Armelle","G",1,0,120,55,"2021-12-18","T 2 OISE - Qualifications R 1 - Tour principal - CREPY","Qualifications","2021-2022",null,null,null,null,1,null,0]
["BOZON Robert","HERTOUX Didier","G",1,0,120,79,"2021-12-18","T 2 OISE - Qualifications R 1 - Tour principal - CREPY","Qualifications","2021-2022",null,null,null,null,1,null,0]
["BOZON Robert","HERTOUX Didier","P",0,1,115,120,"2021-12-18","T 2 OISE - Qualifications R 1 - Tour principal - CREPY","1/4 Finale","2021-2022",null,null,null,null,0,null,0]
["BOZON Robert","MASSARD Patrick","P",0,1,89,120,"2022-12-29","T 3 OISE - Qualifications R 1 - Tour principal - SENLIS","Qualifications","2022-2023",null,null,null,null,0,null,0]
["BOZON Robert","NAHIRNYJ Alexi","P",0,1,116,120,"2022-12-29","T 3 OISE - Qualifications R 1 - Tour principal - SENLIS","1/2 Finale","2022-2023",null,null,null,null,0,null,0]
["BOZON Robert","ZANOTTI Michel","G",1,0,120,97,"2022-12-29","T 3 OISE - Qualifications R 1 - Tour principal - SENLIS","Qualifications","2022-2023",null,null,null,null,0,null,1]
["BOZON Robert","BARBE Philippe","G",1,0,120,58,"2022-04-16","T 4 OISE - Qualifications R 1 - Tour Principal - BEAUVAIS","1/4 Finale","2021-2022",null,null,null,null,1,null,0]
["BOZON Robert","BOUTON Gérard","G",1,0,120,71,"2022-04-16","T 4 OISE - Qualifications R 1 - Tour Principal - BEAUVAIS","Qualifications","2021-2022",null,null,null,null,1,null,0]
["BOZON Robert","HERTOUX Didier","P",0,1,115,120,"2022-04-16","T 4 OISE - Qualifications R 1 - Tour Principal - BEAUVAIS","Qualifications","2021-2022",null,null,null,null,0,null,0]
["BOZON Robert","HERTOUX Didier","G",1,0,120,72,"2022-04-16","T 4 OISE - Qualifications R 1 - Tour Principal - BEAUVAIS","Finale","2021-2022",null,null,null,null,1,null,0]
["BOZON Robert","LAMARQUE Yves","G",1,0,120,99,"2022-04-16","T 4 OISE - Qualifications R 1 - Tour Principal - BEAUVAIS","1/2 Finale","2021-2022",null,null,null,null,1,null,0]
["BOZON Robert","HERTOUX Didier","G",2,0,120,75,"2022-05-14","FINALE OISE R 1 - SAISON 21-22 - SENLIS","Qualifications","2021-2022",null,null,null,null,1,null,0]
["BOZON Robert","LAMARQUE Yves","G",2,0,120,49,"2022-05-14","FINALE OISE R 1 - SAISON 21-22 - SENLIS","Qualifications","2021-2022",null,null,null,null,1,null,0]
["BOZON Robert","NAHIRNYJ Alexi","P",1,2,143,167,"2022-05-14","FINALE OISE R 1 - SAISON 21-22 - SENLIS","1/2 Finale","2021-2022",null,null,null,null,0,null,0]
["Fin des données",null,null,null,null,null,null,null,null,null,"",null,null,null,null,0,null,0]

{"sheet":"BUTTI Bertrand","index":26,"n_rows":53,"n_cols":22,"rows_kept":53,"cut":false,"hidden":false,"merged":[]}
["BUTTI Bertrand",null,null,null,null,null,null,null,null,null,null,null,null,null,null,{"$f":"SaisonDeb","v":"2021-2022"},null,{"$f":"SaisonFin","v":"2022-2023"},null,"Toutes saisons"]
[{"$error":"#N/A"},null,null,null,null,null,null,null,null,null,null,null,null,null,null,"Nombre","%age","Nombre","%age","Nombre","%age"]
[{"$error":"#N/A"},null,null,null,null,null,null,null,null,null,null,null,null,"Matchs","Gagnés",{"$f":"SUM(P$15:P$149)","v":0},{"$f":"IF(P$3+P$4>0,P3/(P$3+P$4),\"\")","v":""},{"$f":"SUM(R$15:R$149)","v":0},{"$f":"IF(R$3+R$4>0,R3/(R$3+R$4),\"\")","v":""},{"$f":"COUNTIF($C$15:$C$149,\"G\")","v":21},{"$f":"IF(T$3+T$4>0,T3/(T$3+T$4),\"\")","v":0.56756756756756754}]
[{"$error":"#N/A"},null,null,null,null,null,null,null,null,null,null,null,null,null,"Perdus",{"$f":"COUNTIF($K$15:$M$149,SaisonDeb)-P3","v":0},{"$f":"IF(P$3+P$4>0,P4/(P$3+P$4),\"\")","v":""},{"$f":"COUNTIF($K$15:$K$149,SaisonFin)-R3","v":0},{"$f":"IF(R$3+R$4>0,R4/(R$3+R$4),\"\")","v":""},{"$f":"COUNTIF($C$15:$C$149,\"P\")","v":16},{"$f":"IF(T$3+T$4>0,T4/(T$3+T$4),\"\")","v":0.43243243243243246}]
[{"$error":"#N/A"},null,null,null,null,null,null,null,null,null,null,null,null,null,"Total / Moy.",{"$f":"SUM(P3:P4)","v":0},{"$f":"IF(SUMIF($K$15:$K$149,SaisonDeb,$G$15:$G$149)>0,SUMIF($K$15:$K$149,SaisonDeb,$F$15:$F$149)/SUMIF($K$15:$K$149,SaisonDeb,$G$15:$G$149),\"\")","v":""},{"$f":"SUM(R3:R4)","v":0},{"$f":"IF(SUMIF($K$15:$K$149,SaisonFin,$G$15:$G$149)>0,SUMIF($K$15:$K$149,SaisonFin,$F$15:$F$149)/SUMIF($K$15:$K$149,SaisonFin,$G$15:$G$149),\"\")","v":""},{"$f":"SUM(T3:T4)","v":37},{"$f":"IF(SUM($G$15:$G$149)>0,SUM($F$15:$F$149)/SUM($G$15:$G$149),\"\")","v":1.037827352085354},{"$f":"IF(SUMIF($K$15:$K$53,SaisonDeb,$G$15:$G$53)+SUMIF($K$15:$K$53,SaisonFin,$G$15:$G$53)>0,(SUMIF($K$15:$K$53,SaisonDeb,$F$15:$F$53)+SUMIF($K$15:$K$53,SaisonFin,$F$15:$F$53))/(SUMIF($K$15:$K$53,SaisonDeb,$G$15:$G$53)+SUMIF($K$15:$K$53,SaisonFin,$G$15:$G$53)),\"\")","v":""}]
[null,null,null,null,null,null,null,null,null,null,null,null,null,"Sets","Gagnés",{"$f":"SUMIF($K$15:$K$149,SaisonDeb,$D$15:$D$149)","v":0},{"$f":"IF(P$6+P$7>0,P6/(P$6+P$7),\"\")","v":""},{"$f":"SUMIF($K$15:$K$149,SaisonFin,$D$15:$D$149)","v":0},{"$f":"IF(R$6+R$7>0,R6/(R$6+R$7),\"\")","v":""},{"$f":"SUM($D$15:$D$149)","v":58},{"$f":"IF(T$6+T$7>0,T6/(T$6+T$7),\"\")","v":0.55238095238095242}]
[null,null,null,null,null,null,null,null,null,null,null,null,null,null,"Perdus",{"$f":"SUMIF($K$15:$K$149,SaisonDeb,$E$15:$E$149)","v":0},{"$f":"IF(P$6+P$7>0,P7/(P$6+P$7),\"\")","v":""},{"$f":"SUMIF($K$15:$K$149,SaisonFin,$E$15:$E$149)","v":0},{"$f":"IF(R$6+R$7>0,R7/(R$6+R$7),\"\")","v":""},{"$f":"SUM($E$15:$E$149)","v":47},{"$f":"IF(T$6+T$7>0,T7/(T$6+T$7),\"\")","v":0.44761904761904764}]
["Récapitulatif joueurs",null,null,null,null,null,null,null,null,null,null,null,null,null,"Total",{"$f":"SUM(P6:P7)","v":0},null,{"$f":"SUM(R6:R7)","v":0},null,{"$f":"SUM(T6:T7)","v":105}]
[]
[]
[]
[]
[]
[]
["Joueur","Adversaire","G/P","Sets gagnés","Sets perdus","pts marqués","pts subis","Date","Compétition","Phase","Saison"]
["BUTTI Bertrand","BUTTI EmIlie","P",1,2,167,170,"2016-11-19","5Q  R1 CD02 - T1 - SOISSONS","Qualifications",{"$f":"IF(H16<>\"\",IF(MONTH(H16)>MoisRef,YEAR(H16)&\"-\"&YEAR(H16)+1,YEAR(H16)-1&\"-\"&YEAR(H16)),\"\")","v":"2016-2017"},null,null,null,null,{"$f":"IF($K16=P$1,COUNTIF($C16,\"G\"),0)","v":0},null,{"$f":"IF($K16=R$1,COUNTIF($C16,\"G\"),0)","v":0}]
["BUTTI Bertrand","BUTTI EmIlie","P",0,2,78,120,"2016-11-19","5Q  R1 CD02 - T1 - SOISSONS","Qualifications","2016-2017",null,null,null,null,0,null,0]
["BUTTI Bertrand","MIQUEE Florine","P",1,2,113,172,"2017-01-21","5Q  R1 CD02 - T3 - st quentin","Qualifications","2016-2017",null,null,null,null,0,null,0]
["BUTTI Bertrand","MIQUEE Florine","P",1,2,147,161,"2017-01-21","5Q  R1 CD02 - T3 - st quentin","Qualifications","2016-2017",null,null,null,null,0,null,0]
["BUTTI Bertrand","DA SILVA José","G",2,0,120,80,"2016-12-17","5Q  R1 CD02 - T2 - LA FERRE","Qualifications","2016-2017",null,null,null,null,0,null,0]
["BUTTI Bertrand","FRISON Michel","G",2,1,138,146,"2016-12-17","5Q  R1 CD02 - T2 - LA FERRE","Qualifications","2016-2017",null,null,null,null,0,null,0]
["BUTTI Bertrand","CHOUX André","P",0,3,92,180,"2017-03-04","5Q  R1 CD02 -  FINALE CD - SOISSONS","Qualifications","2016-2017",null,null,null,null,0,null,0]
["BUTTI Bertrand","FRISON Michel","P",0,3,107,180,"2017-03-04","5Q  R1 CD02 -  FINALE CD - SOISSONS","Qualifications","2016-2017",null,null,null,null,0,null,0]
["BUTTI Bertrand","BOLLINNE Simon","P",1,2,142,137,"2017-11-18","qualification AISNE R1 - St Q uentin","Qualifications","2017-2018",null,null,null,null,0,null,0]
["BUTTI Bertrand","COLAS Gerard","G",2,0,120,92,"2017-11-18","qualification AISNE R1 - St Q uentin","Qualifications","2017-2018",null,null,null,null,0,null,0]
["BUTTI Bertrand","HECQ Anthony","G",2,1,148,135,"2018-01-27","Qualifications AISNE R1 - guignicourt","Qualifications","2017-2018",null,null,null,null,0,null,0]
["BUTTI Bertrand","HECQ Anthony","G",2,0,120,69,"2018-01-27","Qualifications AISNE R1 - guignicourt","Qualifications","2017-2018",null,null,null,null,0,null,0]
["BUTTI Bertrand","BOLLINNE Simon","G",3,0,180,119,"2018-03-03","FINALE AISNE  R1 - guignicourt","Qualifications","2017-2018",null,null,null,null,0,null,0]
["BUTTI Bertrand","COLAS Gerard","G",3,0,180,110,"2018-03-03","FINALE AISNE  R1 - guignicourt","Qualifications","2017-2018",null,null,null,null,0,null,0]
["BUTTI Bertrand","COLAS Gerard","G",3,1,202,205,"2018-03-03","FINALE AISNE  R1 - guignicourt","1/2 Finale","2017-2018",null,null,null,null,0,null,0]
["BUTTI Bertrand","MIQUEE Florine","G",3,1,227,169,"2018-03-03","FINALE AISNE  R1 - guignicourt","Finale","2017-2018",null,null,null,null,0,null,0]
["BUTTI Bertrand","CUVILLIER François","P",1,3,180,204,"2018-04-29","Finale LIGUE 5 QUILLES R1 - CREPY EN VALOIS","Qualifications","2017-2018",null,null,null,null,0,null,0]
["BUTTI Bertrand","FAURE Stéphane","P",0,3,91,180,"2018-04-29","Finale LIGUE 5 QUILLES R1 - CREPY EN VALOIS","Qualifications","2017-2018",null,null,null,null,0,null,0]
["BUTTI Bertrand","MANTEN Paul","P",1,3,181,228,"2018-04-29","Finale LIGUE 5 QUILLES R1 - CREPY EN VALOIS","Qualifications","2017-2018",null,null,null,null,0,null,0]
["BUTTI Bertrand","MARTEL Bruno","G",3,0,180,147,"2018-04-29","Finale LIGUE 5 QUILLES R1 - CREPY EN VALOIS","Qualifications","2017-2018",null,null,null,null,0,null,0]
["BUTTI Bertrand","BOULINGUEZ Yves","P",1,2,162,166,"2017-12-16","Qualifications AISNE R1 - SOISSONS","Qualifications","2017-2018",null,null,null,null,0,null,0]
["BUTTI Bertrand","COUSIN Francis","G",2,0,120,72,"2017-12-16","Qualifications AISNE R1 - SOISSONS","Qualifications","2017-2018",null,null,null,null,0,null,0]
["BUTTI Bertrand","BOULINGUEZ Yves","G",2,0,120,87,"2018-11-10","T1 CD02 - R1 - SOISSONS","Qualifications","2018-2019",null,null,null,null,0,null,0]
["BUTTI Bertrand","COUSIN Francis","G",2,0,120,84,"2018-11-10","T1 CD02 - R1 - SOISSONS","Qualifications","2018-2019",null,null,null,null,0,null,0]
["BUTTI Bertrand","DELFOSSE Fabien","P",0,2,97,120,"2018-11-10","T1 CD02 - R1 - SOISSONS","Qualifications","2018-2019",null,null,null,null,0,null,0]
["BUTTI Bertrand","BOULINGUEZ Yves","G",2,1,168,148,"2018-12-15","T2 CD02 - R1 - ST QUENTIN","Qualifications","2018-2019",null,null,null,null,0,null,0]
["BUTTI Bertrand","COUSIN Francis","P",1,2,159,125,"2018-12-15","T2 CD02 - R1 - ST QUENTIN","Qualifications","2018-2019",null,null,null,null,0,null,0]
["BUTTI Bertrand","DELFOSSE Fabien","P",0,2,103,120,"2018-12-15","T2 CD02 - R1 - ST QUENTIN","Qualifications","2018-2019",null,null,null,null,0,null,0]
["BUTTI Bertrand","BOULINGUEZ Yves","G",2,1,159,112,"2019-01-19","T3 CD02 - R1 - LA FERE","Qualifications","2018-2019",null,null,null,null,0,null,0]
["BUTTI Bertrand","COUSIN Francis","G",2,0,120,88,"2019-01-19","T3 CD02 - R1 - LA FERE","Qualifications","2018-2019",null,null,null,null,0,null,0]
["BUTTI Bertrand","DELFOSSE Fabien","P",1,2,158,159,"2019-01-19","T3 CD02 - R1 - LA FERE","Qualifications","2018-2019",null,null,null,null,0,null,0]
["BUTTI Bertrand","COUSIN Francis","G",3,1,222,174,"2019-02-24","Finale CD02 5Q R1 - ST QUENTIN","Poule unique","2018-2019",null,null,null,null,0,null,0]
["BUTTI Bertrand","DELFOSSE Fabien","P",1,3,163,218,"2019-02-24","Finale CD02 5Q R1 - ST QUENTIN","Poule unique","2018-2019",null,null,null,null,0,null,0]
["BUTTI Bertrand","BABOLEIN Clément","G",2,1,161,158,"2019-10-19","T1 CD02 R1 - Billard Club de Soissons","Qualifications","2019-2020",null,null,null,null,0,null,0]
["BUTTI Bertrand","CASIER Philippe","G",2,0,120,99,"2019-10-19","T1 CD02 R1 - Billard Club de Soissons","Qualifications","2019-2020",null,null,null,null,0,null,0]
["BUTTI Bertrand","BABOLEIN Clément","G",2,0,120,92,"2019-12-07","T2 CD02 R1 - Saint-Quentin","Qualifications","2019-2020",null,null,null,null,0,null,0]
["BUTTI Bertrand","SIMON Philippe","G",2,1,165,129,"2019-12-07","T2 CD02 R1 - Saint-Quentin","Qualifications","2019-2020",null,null,null,null,0,null,0]
["Fin des données",null,null,null,null,null,null,null,null,null,"",null,null,null,null,{"$f":"IF($K53=P$1,COUNTIF($C53,\"G\"),0)","v":0},null,{"$f":"IF($K53=R$1,COUNTIF($C53,\"G\"),0)","v":0}]

{"sheet":"BUTTI EmIlie","index":27,"n_rows":43,"n_cols":22,"rows_kept":43,"cut":false,"hidden":false,"merged":[]}
["BUTTI EmIlie",null,null,null,null,null,null,null,null,null,null,null,null,null,null,{"$f":"SaisonDeb","v":"2021-2022"},null,{"$f":"SaisonFin","v":"2022-2023"},null,"Toutes saisons"]
[{"$error":"#N/A"},null,null,null,null,null,null,null,null,null,null,null,null,null,null,"Nombre","%age","Nombre","%age","Nombre","%age"]
[{"$error":"#N/A"},null,null,null,null,null,null,null,null,null,null,null,null,"Matchs","Gagnés",{"$f":"SUM(P$15:P$139)","v":6},{"$f":"IF(P$3+P$4>0,P3/(P$3+P$4),\"\")","v":0.375},{"$f":"SUM(R$15:R$139)","v":3},{"$f":"IF(R$3+R$4>0,R3/(R$3+R$4),\"\")","v":0.27272727272727271},{"$f":"COUNTIF($C$15:$C$139,\"G\")","v":9},{"$f":"IF(T$3+T$4>0,T3/(T$3+T$4),\"\")","v":0.33333333333333331}]
[{"$error":"#N/A"},null,null,null,null,null,null,null,null,null,null,null,null,null,"Perdus",{"$f":"COUNTIF($K$15:$M$139,SaisonDeb)-P3","v":10},{"$f":"IF(P$3+P$4>0,P4/(P$3+P$4),\"\")","v":0.625},{"$f":"COUNTIF($K$15:$K$139,SaisonFin)-R3","v":8},{"$f":"IF(R$3+R$4>0,R4/(R$3+R$4),\"\")","v":0.72727272727272729},{"$f":"COUNTIF($C$15:$C$139,\"P\")","v":18},{"$f":"IF(T$3+T$4>0,T4/(T$3+T$4),\"\")","v":0.66666666666666663}]
[{"$error":"#N/A"},null,null,null,null,null,null,null,null,null,null,null,null,null,"Total / Moy.",{"$f":"SUM(P3:P4)","v":16},{"$f":"IF(SUMIF($K$15:$K$139,SaisonDeb,$G$15:$G$139)>0,SUMIF($K$15:$K$139,SaisonDeb,$F$15:$F$139)/SUMIF($K$15:$K$139,SaisonDeb,$G$15:$G$139),\"\")","v":0.8705715635333019},{"$f":"SUM(R3:R4)","v":11},{"$f":"IF(SUMIF($K$15:$K$139,SaisonFin,$G$15:$G$139)>0,SUMIF($K$15:$K$139,SaisonFin,$F$15:$F$139)/SUMIF($K$15:$K$139,SaisonFin,$G$15:$G$139),\"\")","v":0.94968908988128886},{"$f":"SUM(T3:T4)","v":27},{"$f":"IF(SUM($G$15:$G$139)>0,SUM($F$15:$F$139)/SUM($G$15:$G$139),\"\")","v":0.90658775090066912},{"$f":"IF(SUMIF($K$15:$K$43,SaisonDeb,$G$15:$G$43)+SUMIF($K$15:$K$43,SaisonFin,$G$15:$G$43)>0,(SUMIF($K$15:$K$43,SaisonDeb,$F$15:$F$43)+SUMIF($K$15:$K$43,SaisonFin,$F$15:$F$43))/(SUMIF($K$15:$K$43,SaisonDeb,$G$15:$G$43)+SUMIF($K$15:$K$43,SaisonFin,$G$15:$G$43)),\"\")","v":0.90658775090066912}]
[null,null,null,null,null,null,null,null,null,null,null,null,null,"Sets","Gagnés",{"$f":"SUMIF($K$15:$K$139,SaisonDeb,$D$15:$D$139)","v":15},{"$f":"IF(P$6+P$7>0,P6/(P$6+P$7),\"\")","v":0.39473684210526316},{"$f":"SUMIF($K$15:$K$139,SaisonFin,$D$15:$D$139)","v":12},{"$f":"IF(R$6+R$7>0,R6/(R$6+R$7),\"\")","v":0.34285714285714286},{"$f":"SUM($D$15:$D$139)","v":27},{"$f":"IF(T$6+T$7>0,T6/(T$6+T$7),\"\")","v":0.36986301369863012}]
[null,null,null,null,null,null,null,null,null,null,null,null,null,null,"Perdus",{"$f":"SUMIF($K$15:$K$139,SaisonDeb,$E$15:$E$139)","v":23},{"$f":"IF(P$6+P$7>0,P7/(P$6+P$7),\"\")","v":0.60526315789473684},{"$f":"SUMIF($K$15:$K$139,SaisonFin,$E$15:$E$139)","v":23},{"$f":"IF(R$6+R$7>0,R7/(R$6+R$7),\"\")","v":0.65714285714285714},{"$f":"SUM($E$15:$E$139)","v":46},{"$f":"IF(T$6+T$7>0,T7/(T$6+T$7),\"\")","v":0.63013698630136983}]
["Récapitulatif joueurs",null,null,null,null,null,null,null,null,null,null,null,null,null,"Total",{"$f":"SUM(P6:P7)","v":38},null,{"$f":"SUM(R6:R7)","v":35},null,{"$f":"SUM(T6:T7)","v":73}]
[]
[]
[]
[]
[]
[]
["Joueur","Adversaire","G/P","Sets gagnés","Sets perdus","pts marqués","pts subis","Date","Compétition","Phase","Saison"]
["BUTTI EmIlie","COUSIN Francis","P",0,2,94,120,"2021-11-27","T2 CD02 R1 - Billard Club de Soissons","Qualifications",{"$f":"IF(H16<>\"\",IF(MONTH(H16)>MoisRef,YEAR(H16)&\"-\"&YEAR(H16)+1,YEAR(H16)-1&\"-\"&YEAR(H16)),\"\")","v":"2021-2022"},null,null,null,null,{"$f":"IF($K16=P$1,COUNTIF($C16,\"G\"),0)","v":0},null,{"$f":"IF($K16=R$1,COUNTIF($C16,\"G\"),0)","v":0}]
["BUTTI EmIlie","SIMON Philippe","P",1,2,165,157,"2021-11-27","T2 CD02 R1 - Billard Club de Soissons","Qualifications","2021-2022",null,null,null,null,0,null,0]
["BUTTI EmIlie","BABOLEIN Clément","G",2,0,120,80,"2021-10-16","T1 CD02 R1 - Billard Club de Saint-Quentin","Qualifications","2021-2022",null,null,null,null,1,null,0]
["BUTTI EmIlie","COUSIN Francis","P",1,2,148,175,"2021-10-16","T1 CD02 R1 - Billard Club de Saint-Quentin","Qualifications","2021-2022",null,null,null,null,0,null,0]
["BUTTI EmIlie","SIMON Philippe","P",0,2,69,120,"2021-10-16","T1 CD02 R1 - Billard Club de Saint-Quentin","Qualifications","2021-2022",null,null,null,null,0,null,0]
["BUTTI EmIlie","BABOLEIN Clément","G",2,0,120,111,"2022-01-29","T3 CD02 TOUTE CATEGORIE - Saint-Quentin","Qualifications","2021-2022",null,null,null,null,1,null,0]
["BUTTI EmIlie","BUTTI Bertrand","G",2,0,120,113,"2022-01-29","T3 CD02 TOUTE CATEGORIE - Saint-Quentin","Qualifications","2021-2022",null,null,null,null,1,null,0]
["BUTTI EmIlie","ROZE Dominique","P",0,2,85,120,"2022-01-29","T3 CD02 TOUTE CATEGORIE - Saint-Quentin","Qualifications","2021-2022",null,null,null,null,0,null,0]
["BUTTI EmIlie","DURAND Jéremy","P",0,2,43,120,"2022-02-26","T4 CD02 R1 - Billard Club de Saint-Quentin","Qualifications","2021-2022",null,null,null,null,0,null,0]
["BUTTI EmIlie","BUTTI Bertrand","G",2,1,174,202,"2022-02-26","T5 CD02 R1 N1- Billard Club de Saint-Quentin","Qualifications","2021-2022",null,null,null,null,1,null,0]
["BUTTI EmIlie","CASIER Philippe","G",2,1,172,140,"2022-02-26","T5 CD02 R1 N1- Billard Club de Saint-Quentin","Qualifications","2021-2022",null,null,null,null,1,null,0]
["BUTTI EmIlie","SIMON Philippe","P",0,2,103,120,"2022-02-26","T5 CD02 R1 N1- Billard Club de Saint-Quentin","Qualifications","2021-2022",null,null,null,null,0,null,0]
["BUTTI EmIlie","DURAND Jéremy","G",2,1,138,137,"2022-02-26","T5 CD02 R1 N1- Billard Club de Saint-Quentin","Qualifications","2021-2022",null,null,null,null,1,null,0]
["BUTTI EmIlie","CASIER Philippe","P",0,2,90,120,"2022-04-24","Finale CD02- Billard Club de Saint-Quentin","1/4 Finale","2021-2022",null,null,null,null,0,null,0]
["BUTTI EmIlie","DURAND Jeremy","P",1,2,114,162,"2022-04-24","Finale CD02- Billard Club de Saint-Quentin","1/4 Finale","2021-2022",null,null,null,null,0,null,0]
["BUTTI EmIlie","SIMON Philippe","P",0,2,88,120,"2022-04-24","Finale CD02- Billard Club de Saint-Quentin","1/2 Finale","2021-2022",null,null,null,null,0,null,0]
["BUTTI EmIlie","COUSIN Francis","P",1,3,198,220,"2022-12-03","T1 CD02 R1 - saint quentin","Qualifications","2022-2023",null,null,null,null,0,null,0]
["BUTTI EmIlie","ROZE Dominique","P",0,3,157,180,"2022-12-03","T1 CD02 R1 - saint quentin","Qualifications","2022-2023",null,null,null,null,0,null,0]
["BUTTI EmIlie","KUZMA Régis","P",0,2,87,120,"2023-01-28","T2 CD02 R1   poule 2 - SAINT QUENTIN","Qualifications","2022-2023",null,null,null,null,0,null,0]
["BUTTI EmIlie","SCHERER Didier","P",1,2,157,129,"2023-01-28","T2 CD02 R1   poule 2 - SAINT QUENTIN","Qualifications","2022-2023",null,null,null,null,0,null,0]
["BUTTI EmIlie","FRANCOIS Bernard","P",0,2,82,120,"2023-03-25","T3 CD02 R1 - SAINT QUENTIN","Qualifications","2022-2023",null,null,null,null,0,null,0]
["BUTTI EmIlie","KUZMA Régis","G",2,1,167,122,"2023-03-25","T3 CD02 R1 - SAINT QUENTIN","Qualifications","2022-2023",null,null,null,null,0,null,1]
["BUTTI EmIlie","LEFEVRE  Alexandre","P",1,2,143,142,"2023-03-25","T3 CD02 R1 - SAINT QUENTIN","Qualifications","2022-2023",null,null,null,null,0,null,0]
["BUTTI EmIlie","SCHERER Didier","G",2,1,138,102,"2023-03-25","T3 CD02 R1 - SAINT QUENTIN","Qualifications","2022-2023",null,null,null,null,0,null,1]
["BUTTI EmIlie","FRANCOIS Bernard","P",2,3,251,265,"2023-04-22","FINALE CD02 R1 - SAINT QUENTIN","Qualifications","2022-2023",null,null,null,null,0,null,0]
["BUTTI EmIlie","LEFEVRE  Alexandre","P",0,3,81,180,"2023-04-22","FINALE CD02 R1 - SAINT QUENTIN","Qualifications","2022-2023",null,null,null,null,0,null,0]
["BUTTI EmIlie","SCHERER Didier","G",3,1,219,189,"2023-04-22","FINALE CD02 R1 - SAINT QUENTIN","Qualifications","2022-2023",null,null,null,null,0,null,1]
["Fin des données",null,null,null,null,null,null,null,null,null,"",null,null,null,null,{"$f":"IF($K43=P$1,COUNTIF($C43,\"G\"),0)","v":0},null,{"$f":"IF($K43=R$1,COUNTIF($C43,\"G\"),0)","v":0}]

{"sheet":"CABUZEL Denis","index":28,"n_rows":47,"n_cols":22,"rows_kept":47,"cut":false,"hidden":false,"merged":[]}
["CABUZEL Denis",null,null,null,null,null,null,null,null,null,null,null,null,null,null,{"$f":"SaisonDeb","v":"2021-2022"},null,{"$f":"SaisonFin","v":"2022-2023"},null,"Toutes saisons"]
[{"$error":"#N/A"},null,null,null,null,null,null,null,null,null,null,null,null,null,null,"Nombre","%age","Nombre","%age","Nombre","%age"]
[{"$error":"#N/A"},null,null,null,null,null,null,null,null,null,null,null,null,"Matchs","Gagnés",{"$f":"SUM(P$15:P$143)","v":0},{"$f":"IF(P$3+P$4>0,P3/(P$3+P$4),\"\")","v":""},{"$f":"SUM(R$15:R$143)","v":3},{"$f":"IF(R$3+R$4>0,R3/(R$3+R$4),\"\")","v":0.42857142857142855},{"$f":"COUNTIF($C$15:$C$143,\"G\")","v":18},{"$f":"IF(T$3+T$4>0,T3/(T$3+T$4),\"\")","v":0.58064516129032262}]
[{"$error":"#N/A"},null,null,null,null,null,null,null,null,null,null,null,null,null,"Perdus",{"$f":"COUNTIF($K$15:$M$143,SaisonDeb)-P3","v":0},{"$f":"IF(P$3+P$4>0,P4/(P$3+P$4),\"\")","v":""},{"$f":"COUNTIF($K$15:$K$143,SaisonFin)-R3","v":4},{"$f":"IF(R$3+R$4>0,R4/(R$3+R$4),\"\")","v":0.5714285714285714},{"$f":"COUNTIF($C$15:$C$143,\"P\")","v":13},{"$f":"IF(T$3+T$4>0,T4/(T$3+T$4),\"\")","v":0.41935483870967744}]
[{"$error":"#N/A"},null,null,null,null,null,null,null,null,null,null,null,null,null,"Total / Moy.",{"$f":"SUM(P3:P4)","v":0},{"$f":"IF(SUMIF($K$15:$K$143,SaisonDeb,$G$15:$G$143)>0,SUMIF($K$15:$K$143,SaisonDeb,$F$15:$F$143)/SUMIF($K$15:$K$143,SaisonDeb,$G$15:$G$143),\"\")","v":""},{"$f":"SUM(R3:R4)","v":7},{"$f":"IF(SUMIF($K$15:$K$143,SaisonFin,$G$15:$G$143)>0,SUMIF($K$15:$K$143,SaisonFin,$F$15:$F$143)/SUMIF($K$15:$K$143,SaisonFin,$G$15:$G$143),\"\")","v":1.2210884353741496},{"$f":"SUM(T3:T4)","v":31},{"$f":"IF(SUM($G$15:$G$143)>0,SUM($F$15:$F$143)/SUM($G$15:$G$143),\"\")","v":1.1368953525134367},{"$f":"IF(SUMIF($K$15:$K$47,SaisonDeb,$G$15:$G$47)+SUMIF($K$15:$K$47,SaisonFin,$G$15:$G$47)>0,(SUMIF($K$15:$K$47,SaisonDeb,$F$15:$F$47)+SUMIF($K$15:$K$47,SaisonFin,$F$15:$F$47))/(SUMIF($K$15:$K$47,SaisonDeb,$G$15:$G$47)+SUMIF($K$15:$K$47,SaisonFin,$G$15:$G$47)),\"\")","v":1.2210884353741496}]
[null,null,null,null,null,null,null,null,null,null,null,null,null,"Sets","Gagnés",{"$f":"SUMIF($K$15:$K$143,SaisonDeb,$D$15:$D$143)","v":0},{"$f":"IF(P$6+P$7>0,P6/(P$6+P$7),\"\")","v":""},{"$f":"SUMIF($K$15:$K$143,SaisonFin,$D$15:$D$143)","v":5},{"$f":"IF(R$6+R$7>0,R6/(R$6+R$7),\"\")","v":0.5},{"$f":"SUM($D$15:$D$143)","v":30},{"$f":"IF(T$6+T$7>0,T6/(T$6+T$7),\"\")","v":0.55555555555555558}]
[null,null,null,null,null,null,null,null,null,null,null,null,null,null,"Perdus",{"$f":"SUMIF($K$15:$K$143,SaisonDeb,$E$15:$E$143)","v":0},{"$f":"IF(P$6+P$7>0,P7/(P$6+P$7),\"\")","v":""},{"$f":"SUMIF($K$15:$K$143,SaisonFin,$E$15:$E$143)","v":5},{"$f":"IF(R$6+R$7>0,R7/(R$6+R$7),\"\")","v":0.5},{"$f":"SUM($E$15:$E$143)","v":24},{"$f":"IF(T$6+T$7>0,T7/(T$6+T$7),\"\")","v":0.44444444444444442}]
["Récapitulatif joueurs",null,null,null,null,null,null,null,null,null,null,null,null,null,"Total",{"$f":"SUM(P6:P7)","v":0},null,{"$f":"SUM(R6:R7)","v":10},null,{"$f":"SUM(T6:T7)","v":54}]
[]
[]
[]
[]
[]
[]
["Joueur","Adversaire","G/P","Sets gagnés","Sets perdus","pts marqués","pts subis","Date","Compétition","Phase","Saison"]
["CABUZEL Denis","MALET Eric","G",1,0,100,60,"2016-11-26","5Q  R1 CD80 - T1 ","Qualifications",{"$f":"IF(H16<>\"\",IF(MONTH(H16)>MoisRef,YEAR(H16)&\"-\"&YEAR(H16)+1,YEAR(H16)-1&\"-\"&YEAR(H16)),\"\")","v":"2016-2017"},null,null,null,null,{"$f":"IF($K16=P$1,COUNTIF($C16,\"G\"),0)","v":0},null,{"$f":"IF($K16=R$1,COUNTIF($C16,\"G\"),0)","v":0}]
["CABUZEL Denis","DELAFOSSE Gilles","G",1,0,100,91,"2016-11-26","5Q  R1 CD80 - T1 ","Qualifications","2016-2017",null,null,null,null,0,null,0]
["CABUZEL Denis","WARIN Yannick","P",0,1,87,100,"2016-11-26","5Q  R1 CD80 - T1 ","Qualifications","2016-2017",null,null,null,null,0,null,0]
["CABUZEL Denis","RENAULT Marius","G",1,0,100,78,"2016-11-26","5Q  R1 CD80 - T1 ","Qualifications","2016-2017",null,null,null,null,0,null,0]
["CABUZEL Denis","HERSELIN  Jean-Claude","G",1,0,100,85,"2017-01-21","5Q  R1 CD80 - T2 - ABBEVILLE","Qualifications","2016-2017",null,null,null,null,0,null,0]
["CABUZEL Denis","VASSEUR Gaëtan","P",0,1,92,100,"2017-01-21","5Q  R1 CD80 - T2 - ABBEVILLE","Qualifications","2016-2017",null,null,null,null,0,null,0]
["CABUZEL Denis","MALET Eric","G",1,0,100,90,"2017-01-21","5Q  R1 CD80 - T2 - ABBEVILLE","Qualifications","2016-2017",null,null,null,null,0,null,0]
["CABUZEL Denis","DUBOIS Jean-Bernard","G",1,0,100,43,"2017-01-21","5Q  R1 CD80 - T2 - ABBEVILLE","Qualifications","2016-2017",null,null,null,null,0,null,0]
["CABUZEL Denis","VASSEUR Gaëtan","P",0,1,97,100,"2017-02-25","5Q  R1 CD80 - T3 - MOREUIL","Qualifications","2016-2017",null,null,null,null,0,null,0]
["CABUZEL Denis","DELAFOSSE Gilles","G",1,0,100,61,"2017-02-25","5Q  R1 CD80 - T3 - MOREUIL","Qualifications","2016-2017",null,null,null,null,0,null,0]
["CABUZEL Denis","WARIN Yannick","G",1,0,100,65,"2017-02-25","5Q  R1 CD80 - T3 - MOREUIL","Qualifications","2016-2017",null,null,null,null,0,null,0]
["CABUZEL Denis","RENAULT Marius","G",1,0,100,86,"2017-02-25","5Q  R1 CD80 - T3 - MOREUIL","Qualifications","2016-2017",null,null,null,null,0,null,0]
["CABUZEL Denis","VASSEUR Gaëtan","P",1,3,215,221,"2017-03-18","5Q R1 - Finale CD80 - PONT DE METZ","Poule unique","2016-2017",null,null,null,null,0,null,0]
["CABUZEL Denis","MALET Eric","G",3,1,217,185,"2017-03-18","5Q R1 - Finale CD80 - PONT DE METZ","Poule unique","2016-2017",null,null,null,null,0,null,0]
["CABUZEL Denis","BETTEFORT Mickael","G",3,0,180,144,"2017-03-18","5Q R1 - Finale CD80 - PONT DE METZ","Poule unique","2016-2017",null,null,null,null,0,null,0]
["CABUZEL Denis","DIEU Jean-Charles","P",0,2,106,120,"2018-10-20","T1 R1 CD80 - MOREUIL","Qualifications","2018-2019",null,null,null,null,0,null,0]
["CABUZEL Denis","POINTIN Régis","P",0,2,80,120,"2018-10-20","T1 R1 CD80 - MOREUIL","Qualifications","2018-2019",null,null,null,null,0,null,0]
["CABUZEL Denis","DUFRESNOY Michel","G",2,1,172,143,"2018-11-24","T2 R1 CD80 - ","1/8 Finale","2018-2019",null,null,null,null,0,null,0]
["CABUZEL Denis","MALET Eric","P",0,2,98,120,"2018-11-24","T2 R1 CD80 - ","1/4 Finale","2018-2019",null,null,null,null,0,null,0]
["CABUZEL Denis","RENAULT Marius","P",0,2,108,120,"2018-11-24","T2 R1 CD80 - ","Qualifications","2018-2019",null,null,null,null,0,null,0]
["CABUZEL Denis","VACAVANT Michel","G",2,1,170,115,"2018-11-24","T2 R1 CD80 - ","Qualifications","2018-2019",null,null,null,null,0,null,0]
["CABUZEL Denis","CHAIGNE Gilles","P",1,2,116,149,"2019-01-05","T3 R1 CD80 - MOREUIL","1/4 Finale","2018-2019",null,null,null,null,0,null,0]
["CABUZEL Denis","DELRUE Céline","G",2,0,120,81,"2019-01-05","T3 R1 CD80 - MOREUIL","Qualifications","2018-2019",null,null,null,null,0,null,0]
["CABUZEL Denis","RENAULT Marius","G",2,0,120,98,"2019-01-05","T3 R1 CD80 - MOREUIL","Qualifications","2018-2019",null,null,null,null,0,null,0]
["CABUZEL Denis","BETTEFORT Mickael","P",0,2,108,120,"2023-03-25","finale de somme  - friville","Qualifications","2022-2023",null,null,null,null,0,null,0]
["CABUZEL Denis","CARON Didier","G",2,0,120,60,"2023-03-25","finale de somme  - friville","Qualifications","2022-2023",null,null,null,null,0,null,1]
["CABUZEL Denis","DELAFOSSE Gilles","G",2,0,120,66,"2023-03-25","finale de somme  - friville","Qualifications","2022-2023",null,null,null,null,0,null,1]
["CABUZEL Denis","BENLAMLIH Abdelilah","G",1,0,100,42,"2022-10-01","T1 CD80 - R1 - abbeville","Qualifications","2022-2023",null,null,null,null,0,null,1]
["CABUZEL Denis","BETTEFORT Mickael","P",0,1,92,100,"2022-10-01","T1 CD80 - R1 - abbeville","Qualifications","2022-2023",null,null,null,null,0,null,0]
["CABUZEL Denis","BETTEFORT Véronique","P",0,1,86,100,"2023-01-12","T2 CD80 - R1 - pont de metz","Qualifications","2022-2023",null,null,null,null,0,null,0]
["CABUZEL Denis","CARON  Didier","P",0,1,92,100,"2023-01-12","T2 CD80 - R1 - pont de metz","Qualifications","2022-2023",null,null,null,null,0,null,0]
["Fin des données",null,null,null,null,null,null,null,null,null,"",null,null,null,null,{"$f":"IF($K47=P$1,COUNTIF($C47,\"G\"),0)","v":0},null,{"$f":"IF($K47=R$1,COUNTIF($C47,\"G\"),0)","v":0}]

{"sheet":"CARON  Didier","index":29,"n_rows":20,"n_cols":22,"rows_kept":20,"cut":false,"hidden":false,"merged":[]}
["CARON  Didier",null,null,null,null,null,null,null,null,null,null,null,null,null,null,{"$f":"SaisonDeb","v":"2021-2022"},null,{"$f":"SaisonFin","v":"2022-2023"},null,"Toutes saisons"]
[{"$error":"#N/A"},null,null,null,null,null,null,null,null,null,null,null,null,null,null,"Nombre","%age","Nombre","%age","Nombre","%age"]
[{"$error":"#N/A"},null,null,null,null,null,null,null,null,null,null,null,null,"Matchs","Gagnés",{"$f":"SUM(P$15:P$116)","v":0},{"$f":"IF(P$3+P$4>0,P3/(P$3+P$4),\"\")","v":""},{"$f":"SUM(R$15:R$116)","v":3},{"$f":"IF(R$3+R$4>0,R3/(R$3+R$4),\"\")","v":""},{"$f":"COUNTIF($C$15:$C$116,\"G\")","v":0},{"$f":"IF(T$3+T$4>0,T3/(T$3+T$4),\"\")","v":""}]
[{"$error":"#N/A"},null,null,null,null,null,null,null,null,null,null,null,null,null,"Perdus",{"$f":"COUNTIF($K$15:$M$116,SaisonDeb)-P3","v":0},{"$f":"IF(P$3+P$4>0,P4/(P$3+P$4),\"\")","v":""},{"$f":"COUNTIF($K$15:$K$116,SaisonFin)-R3","v":-3},{"$f":"IF(R$3+R$4>0,R4/(R$3+R$4),\"\")","v":""},{"$f":"COUNTIF($C$15:$C$116,\"P\")","v":0},{"$f":"IF(T$3+T$4>0,T4/(T$3+T$4),\"\")","v":""}]
[{"$error":"#N/A"},null,null,null,null,null,null,null,null,null,null,null,null,null,"Total / Moy.",{"$f":"SUM(P3:P4)","v":0},{"$f":"IF(SUMIF($K$15:$K$116,SaisonDeb,$G$15:$G$116)>0,SUMIF($K$15:$K$116,SaisonDeb,$F$15:$F$116)/SUMIF($K$15:$K$116,SaisonDeb,$G$15:$G$116),\"\")","v":""},{"$f":"SUM(R3:R4)","v":0},{"$f":"IF(SUMIF($K$15:$K$116,SaisonFin,$G$15:$G$116)>0,SUMIF($K$15:$K$116,SaisonFin,$F$15:$F$116)/SUMIF($K$15:$K$116,SaisonFin,$G$15:$G$116),\"\")","v":""},{"$f":"SUM(T3:T4)","v":0},{"$f":"IF(SUM($G$15:$G$116)>0,SUM($F$15:$F$116)/SUM($G$15:$G$116),\"\")","v":""},{"$f":"IF(SUMIF($K$15:$K$20,SaisonDeb,$G$15:$G$20)+SUMIF($K$15:$K$20,SaisonFin,$G$15:$G$20)>0,(SUMIF($K$15:$K$20,SaisonDeb,$F$15:$F$20)+SUMIF($K$15:$K$20,SaisonFin,$F$15:$F$20))/(SUMIF($K$15:$K$20,SaisonDeb,$G$15:$G$20)+SUMIF($K$15:$K$20,SaisonFin,$G$15:$G$20)),\"\")","v":""}]
[null,null,null,null,null,null,null,null,null,null,null,null,null,"Sets","Gagnés",{"$f":"SUMIF($K$15:$K$116,SaisonDeb,$D$15:$D$116)","v":0},{"$f":"IF(P$6+P$7>0,P6/(P$6+P$7),\"\")","v":""},{"$f":"SUMIF($K$15:$K$116,SaisonFin,$D$15:$D$116)","v":0},{"$f":"IF(R$6+R$7>0,R6/(R$6+R$7),\"\")","v":""},{"$f":"SUM($D$15:$D$116)","v":0},{"$f":"IF(T$6+T$7>0,T6/(T$6+T$7),\"\")","v":""}]
[null,null,null,null,null,null,null,null,null,null,null,null,null,null,"Perdus",{"$f":"SUMIF($K$15:$K$116,SaisonDeb,$E$15:$E$116)","v":0},{"$f":"IF(P$6+P$7>0,P7/(P$6+P$7),\"\")","v":""},{"$f":"SUMIF($K$15:$K$116,SaisonFin,$E$15:$E$116)","v":0},{"$f":"IF(R$6+R$7>0,R7/(R$6+R$7),\"\")","v":""},{"$f":"SUM($E$15:$E$116)","v":0},{"$f":"IF(T$6+T$7>0,T7/(T$6+T$7),\"\")","v":""}]
["Récapitulatif joueurs",null,null,null,null,null,null,null,null,null,null,null,null,null,"Total",{"$f":"SUM(P6:P7)","v":0},null,{"$f":"SUM(R6:R7)","v":0},null,{"$f":"SUM(T6:T7)","v":0}]
[]
[]
[]
[]
[]
[]
["Joueur","Adversaire","G/P","Sets gagnés","Sets perdus","pts marqués","pts subis","Date","Compétition","Phase","Saison"]
[null,null,null,null,null,null,null,null,null,null,null,null,null,null,null,{"$f":"IF('CARON Didier'!$K19=P$1,COUNTIF('CARON Didier'!$C19,\"G\"),0)","v":0},null,{"$f":"IF('CARON Didier'!$K19=R$1,COUNTIF('CARON Didier'!$C19,\"G\"),0)","v":0}]
[null,null,null,null,null,null,null,null,null,null,null,null,null,null,null,{"$f":"IF('CARON Didier'!$K20=P$1,COUNTIF('CARON Didier'!$C20,\"G\"),0)","v":0},null,{"$f":"IF('CARON Didier'!$K20=R$1,COUNTIF('CARON Didier'!$C20,\"G\"),0)","v":1}]
[null,null,null,null,null,null,null,null,null,null,null,null,null,null,null,{"$f":"IF('CARON Didier'!$K21=P$1,COUNTIF('CARON Didier'!$C21,\"G\"),0)","v":0},null,{"$f":"IF('CARON Didier'!$K21=R$1,COUNTIF('CARON Didier'!$C21,\"G\"),0)","v":1}]
[null,null,null,null,null,null,null,null,null,null,null,null,null,null,null,{"$f":"IF('CARON Didier'!$K22=P$1,COUNTIF('CARON Didier'!$C22,\"G\"),0)","v":0},null,{"$f":"IF('CARON Didier'!$K22=R$1,COUNTIF('CARON Didier'!$C22,\"G\"),0)","v":1}]
["Fin des données",null,null,null,null,null,null,null,null,null,{"$f":"IF(H20<>\"\",IF(MONTH(H20)>MoisRef,YEAR(H20)&\"-\"&YEAR(H20)+1,YEAR(H20)-1&\"-\"&YEAR(H20)),\"\")","v":""},null,null,null,null,{"$f":"IF($K20=P$1,COUNTIF($C20,\"G\"),0)","v":0},null,{"$f":"IF($K20=R$1,COUNTIF($C20,\"G\"),0)","v":0}]

{"sheet":"CARON Didier","index":30,"n_rows":23,"n_cols":22,"rows_kept":23,"cut":false,"hidden":false,"merged":[]}
["CARON Didier",null,null,null,null,null,null,null,null,null,null,null,null,null,null,{"$f":"SaisonDeb","v":"2021-2022"},null,{"$f":"SaisonFin","v":"2022-2023"},null,"Toutes saisons"]
[{"$error":"#N/A"},null,null,null,null,null,null,null,null,null,null,null,null,null,null,"Nombre","%age","Nombre","%age","Nombre","%age"]
[{"$error":"#N/A"},null,null,null,null,null,null,null,null,null,null,null,null,"Matchs","Gagnés",{"$f":"SUM(P$15:P$115)","v":0},{"$f":"IF(P$3+P$4>0,P3/(P$3+P$4),\"\")","v":""},{"$f":"SUM(R$15:R$115)","v":3},{"$f":"IF(R$3+R$4>0,R3/(R$3+R$4),\"\")","v":0.42857142857142855},{"$f":"COUNTIF($C$15:$C$119,\"G\")","v":3},{"$f":"IF(T$3+T$4>0,T3/(T$3+T$4),\"\")","v":0.42857142857142855}]
[{"$error":"#N/A"},null,null,null,null,null,null,null,null,null,null,null,null,null,"Perdus",{"$f":"COUNTIF($K$15:$M$115,SaisonDeb)-P3","v":0},{"$f":"IF(P$3+P$4>0,P4/(P$3+P$4),\"\")","v":""},{"$f":"COUNTIF($K$15:$K$119,SaisonFin)-R3","v":4},{"$f":"IF(R$3+R$4>0,R4/(R$3+R$4),\"\")","v":0.5714285714285714},{"$f":"COUNTIF($C$15:$C$119,\"P\")","v":4},{"$f":"IF(T$3+T$4>0,T4/(T$3+T$4),\"\")","v":0.5714285714285714}]
[{"$error":"#N/A"},null,null,null,null,null,null,null,null,null,null,null,null,null,"Total / Moy.",{"$f":"SUM(P3:P4)","v":0},{"$f":"IF(SUMIF($K$15:$K$119,SaisonDeb,$G$15:$G$119)>0,SUMIF($K$15:$K$119,SaisonDeb,$F$15:$F$119)/SUMIF($K$15:$K$119,SaisonDeb,$G$15:$G$119),\"\")","v":""},{"$f":"SUM(R3:R4)","v":7},{"$f":"IF(SUMIF($K$15:$K$119,SaisonFin,$G$15:$G$119)>0,SUMIF($K$15:$K$119,SaisonFin,$F$15:$F$119)/SUMIF($K$15:$K$119,SaisonFin,$G$15:$G$119),\"\")","v":0.80343007915567277},{"$f":"SUM(T3:T4)","v":7},{"$f":"IF(SUM($G$15:$G$119)>0,SUM($F$15:$F$119)/SUM($G$15:$G$119),\"\")","v":0.80343007915567277},{"$f":"IF(SUMIF($K$15:$K$23,SaisonDeb,$G$15:$G$23)+SUMIF($K$15:$K$23,SaisonFin,$G$15:$G$23)>0,(SUMIF($K$15:$K$23,SaisonDeb,$F$15:$F$23)+SUMIF($K$15:$K$23,SaisonFin,$F$15:$F$23))/(SUMIF($K$15:$K$23,SaisonDeb,$G$15:$G$23)+SUMIF($K$15:$K$23,SaisonFin,$G$15:$G$23)),\"\")","v":0.80343007915567277}]
[null,null,null,null,null,null,null,null,null,null,null,null,null,"Sets","Gagnés",{"$f":"SUMIF($K$15:$K$119,SaisonDeb,$D$15:$D$119)","v":0},{"$f":"IF(P$6+P$7>0,P6/(P$6+P$7),\"\")","v":""},{"$f":"SUMIF($K$15:$K$119,SaisonFin,$D$15:$D$119)","v":4},{"$f":"IF(R$6+R$7>0,R6/(R$6+R$7),\"\")","v":0.36363636363636365},{"$f":"SUM($D$15:$D$119)","v":4},{"$f":"IF(T$6+T$7>0,T6/(T$6+T$7),\"\")","v":0.36363636363636365}]
[null,null,null,null,null,null,null,null,null,null,null,null,null,null,"Perdus",{"$f":"SUMIF($K$15:$K$119,SaisonDeb,$E$15:$E$119)","v":0},{"$f":"IF(P$6+P$7>0,P7/(P$6+P$7),\"\")","v":""},{"$f":"SUMIF($K$15:$K$119,SaisonFin,$E$15:$E$119)","v":7},{"$f":"IF(R$6+R$7>0,R7/(R$6+R$7),\"\")","v":0.63636363636363635},{"$f":"SUM($E$15:$E$119)","v":7},{"$f":"IF(T$6+T$7>0,T7/(T$6+T$7),\"\")","v":0.63636363636363635}]
["Récapitulatif joueurs",null,null,null,null,null,null,null,null,null,null,null,null,null,"Total",{"$f":"SUM(P6:P7)","v":0},null,{"$f":"SUM(R6:R7)","v":11},null,{"$f":"SUM(T6:T7)","v":11}]
[]
[]
[]
[]
[]
[]
["Joueur","Adversaire","G/P","Sets gagnés","Sets perdus","pts marqués","pts subis","Date","Compétition","Phase","Saison"]
["CARON Didier","BETTEFORT Mickael","P",0,2,56,120,"2023-03-25","finale de somme  - friville","Qualifications",{"$f":"IF(H16<>\"\",IF(MONTH(H16)>MoisRef,YEAR(H16)&\"-\"&YEAR(H16)+1,YEAR(H16)-1&\"-\"&YEAR(H16)),\"\")","v":"2022-2023"},null,null,null,null,{"$f":"IF($K16=P$1,COUNTIF($C16,\"G\"),0)","v":0},null,{"$f":"IF($K16=R$1,COUNTIF($C16,\"G\"),0)","v":0}]
["CARON Didier","CABUZEL Denis","P",0,2,60,120,"2023-03-25","finale de somme  - friville","Qualifications","2022-2023",null,null,null,null,{"$f":"IF($K17=P$1,COUNTIF($C17,\"G\"),0)","v":0},null,{"$f":"IF($K17=R$1,COUNTIF($C17,\"G\"),0)","v":0}]
["CARON Didier","DELAFOSSE Gilles","P",1,2,101,172,"2023-03-25","finale de somme  - friville","Qualifications","2022-2023",null,null,null,null,0,null,0]
["CARON Didier","DELAFOSSE Gilles","P",0,1,92,100,"2022-10-01","T1 CD80 - R1 - abbeville","Qualifications","2022-2023",null,null,null,null,0,null,0]
["CARON Didier","DELAFOSSE Gilles","G",1,0,100,96,"2022-10-01","T1 CD80 - R1 - abbeville","Qualifications","2022-2023",null,null,null,null,0,null,1]
["CARON Didier","BETTEFORT Véronique","G",1,0,100,58,"2023-01-12","T2 CD80 - R1 - pont de metz","Qualifications","2022-2023",null,null,null,null,0,null,1]
["CARON Didier","CABUZEL Denis","G",1,0,100,92,"2023-01-12","T2 CD80 - R1 - pont de metz","Qualifications","2022-2023",null,null,null,null,0,null,1]
["Fin des données",null,null,null,null,null,null,null,null,null,""]

{"sheet":"CARTIERE André","index":31,"n_rows":116,"n_cols":22,"rows_kept":116,"cut":false,"hidden":false,"merged":[]}
["CARTIERE André",null,null,null,null,null,null,null,null,null,null,null,null,null,null,{"$f":"SaisonDeb","v":"2021-2022"},null,{"$f":"SaisonFin","v":"2022-2023"},null,"Toutes saisons"]
["CUCQ",null,null,null,null,null,null,null,null,null,null,null,null,null,null,"Nombre","%age","Nombre","%age","Nombre","%age"]
["117749-V",null,null,null,null,null,null,null,null,null,null,null,null,"Matchs","Gagnés",{"$f":"SUM(P$15:P$116)","v":0},{"$f":"IF(P$3+P$4>0,P3/(P$3+P$4),\"\")","v":""},{"$f":"SUM(R$15:R$116)","v":3},{"$f":"IF(R$3+R$4>0,R3/(R$3+R$4),\"\")","v":0.21428571428571427},{"$f":"COUNTIF($C$15:$C$116,\"G\")","v":21},{"$f":"IF(T$3+T$4>0,T3/(T$3+T$4),\"\")","v":0.21}]
[null,null,null,null,null,null,null,null,null,null,null,null,null,null,"Perdus",{"$f":"COUNTIF($K$15:$K$116,SaisonDeb)-P3","v":0},{"$f":"IF(P$3+P$4>0,P4/(P$3+P$4),\"\")","v":""},{"$f":"COUNTIF($K$15:$K$116,SaisonFin)-R3","v":11},{"$f":"IF(R$3+R$4>0,R4/(R$3+R$4),\"\")","v":0.7857142857142857},{"$f":"COUNTIF($C$15:$C$116,\"P\")","v":79},{"$f":"IF(T$3+T$4>0,T4/(T$3+T$4),\"\")","v":0.79}]
[null,null,null,null,null,null,null,null,null,null,null,null,null,null,"Total / Moy.",{"$f":"SUM(P3:P4)","v":0},{"$f":"IF(SUMIF($K$15:$K$116,SaisonDeb,$G$15:$G$116)>0,SUMIF($K$15:$K$116,SaisonDeb,$F$15:$F$116)/SUMIF($K$15:$K$116,SaisonDeb,$G$15:$G$116),\"\")","v":""},{"$f":"SUM(R3:R4)","v":14},{"$f":"IF(SUMIF($K$15:$K$116,SaisonFin,$G$15:$G$116)>0,SUMIF($K$15:$K$116,SaisonFin,$F$15:$F$116)/SUMIF($K$15:$K$116,SaisonFin,$G$15:$G$116),\"\")","v":0.78559369724254358},{"$f":"SUM(T3:T4)","v":100},{"$f":"IF(SUM($G$15:$G$116)>0,SUM($F$15:$F$116)/SUM($G$15:$G$116),\"\")","v":0.81565768621236134},{"$f":"IF(SUMIF($K$15:$K$116,SaisonDeb,$G$15:$G$116)+SUMIF($K$15:$K$116,SaisonFin,$G$15:$G$116)>0,(SUMIF($K$15:$K$116,SaisonDeb,$F$15:$F$116)+SUMIF($K$15:$K$116,SaisonFin,$F$15:$F$116))/(SUMIF($K$15:$K$116,SaisonDeb,$G$15:$G$116)+SUMIF($K$15:$K$116,SaisonFin,$G$15:$G$116)),\"\")","v":0.78559369724254358}]
[null,null,null,null,null,null,null,null,null,null,null,null,null,"Sets","Gagnés",{"$f":"SUMIF($K$15:$K$116,SaisonDeb,$D$15:$D$116)","v":0},{"$f":"IF(P$6+P$7>0,P6/(P$6+P$7),\"\")","v":""},{"$f":"SUMIF($K$15:$K$116,SaisonFin,$D$15:$D$116)","v":10},{"$f":"IF(R$6+R$7>0,R6/(R$6+R$7),\"\")","v":0.30303030303030304},{"$f":"SUM($D$15:$D$116)","v":106},{"$f":"IF(T$6+T$7>0,T6/(T$6+T$7),\"\")","v":0.32121212121212123}]
[null,null,null,null,null,null,null,null,null,null,null,null,null,null,"Perdus",{"$f":"SUMIF($K$15:$K$116,SaisonDeb,$E$15:$E$116)","v":0},{"$f":"IF(P$6+P$7>0,P7/(P$6+P$7),\"\")","v":""},{"$f":"SUMIF($K$15:$K$116,SaisonFin,$E$15:$E$116)","v":23},{"$f":"IF(R$6+R$7>0,R7/(R$6+R$7),\"\")","v":0.69696969696969702},{"$f":"SUM($E$15:$E$116)","v":224},{"$f":"IF(T$6+T$7>0,T7/(T$6+T$7),\"\")","v":0.67878787878787883}]
["Récapitulatif joueurs",null,null,null,null,null,null,null,null,null,null,null,null,null,"Total",{"$f":"SUM(P6:P7)","v":0},null,{"$f":"SUM(R6:R7)","v":33},null,{"$f":"SUM(T6:T7)","v":330}]
[]
[]
[]
[]
[]
[]
["Joueur","Adversaire","G/P","Sets gagnés","Sets perdus","pts marqués","pts subis","Date","Compétition","Phase","Saison"]
["CARTIERE André","CLAIRET Jean-François","P",1,3,{"$f":"43+33+50+24","v":150},188,"2008-11-15","Qualifications R1 CD62 T1 COURRIERES","Poules",{"$f":"IF(H16<>\"\",IF(MONTH(H16)>MoisRef,YEAR(H16)&\"-\"&YEAR(H16)+1,YEAR(H16)-1&\"-\"&YEAR(H16)),\"\")","v":"2008-2009"},null,null,null,null,{"$f":"IF($K16=P$1,COUNTIF($C16,\"G\"),0)","v":0},null,{"$f":"IF($K16=R$1,COUNTIF($C16,\"G\"),0)","v":0}]
["CARTIERE André","MORANT Cindy","P",1,3,{"$f":"12+14+50+22","v":98},176,"2008-11-15","Qualifications R1 CD62 T1 COURRIERES","Poules","2008-2009",null,null,null,null,0,null,0]
["CARTIERE André","CAQUELOT Maurice","G",3,2,212,205,"2009-01-17","Qualifications R1 CD62 T2 LE TOUQUET","Poules","2008-2009",null,null,null,null,0,null,0]
["CARTIERE André","BOUBET Jean","P",2,3,203,229,"2009-01-17","Qualifications R1 CD62 T2 LE TOUQUET","Poules","2008-2009",null,null,null,null,0,null,0]
["CARTIERE André","CAQUELOT Maurice","P",0,3,73,150,"2009-01-17","Qualifications R1 CD62 T2 LE TOUQUET","1/2 finale","2008-2009",null,null,null,null,0,null,0]
["CARTIERE André","MARTEL Bruno","P",2,3,197,230,"2009-04-17","Qualifications R1 CD62 T3 CARVIN","Poules","2008-2009",null,null,null,null,0,null,0]
["CARTIERE André","CLAIRET Jean-François","P",1,3,{"$f":"50+24+37+23","v":134},192,"2009-04-17","Qualifications R1 CD62 T3 CARVIN","Poules","2008-2009",null,null,null,null,0,null,0]
["CARTIERE André","CAQUELOT Maurice","P",0,3,65,150,"2009-05-17","Finale CD62 R1 CUCQ","Poules","2008-2009",null,null,null,null,0,null,0]
["CARTIERE André","MARTEL Bruno","P",2,3,172,201,"2009-05-17","Finale CD62 R1 CUCQ","Poules","2008-2009",null,null,null,null,0,null,0]
["CARTIERE André","MARTEL Bruno","P",1,3,125,180,"2009-12-08","Qualifications R1 CD62 T1 CUCQ","Poules","2009-2010",null,null,null,null,0,null,0]
["CARTIERE André","DEPLECHIN Robert","P",1,3,145,193,"2009-12-08","Qualifications R1 CD62 T1 CUCQ","Poules","2009-2010",null,null,null,null,0,null,0]
["CARTIERE André","MEUROT Philippe","P",0,3,98,150,"2009-12-08","Qualifications R1 CD62 T1 CUCQ","Poules","2009-2010",null,null,null,null,0,null,0]
["CARTIERE André","DEPLECHIN Robert","P",0,3,76,150,"2010-01-24","Qualifications R1 CD62 T2 CUCQ","Poules","2009-2010",null,null,null,null,0,null,0]
["CARTIERE André","DEPLECHIN Robert","G",3,1,171,159,"2010-01-24","Qualifications R1 CD62 T2 CUCQ","Poules","2009-2010",null,null,null,null,0,null,0]
["CARTIERE André","DEPLECHIN Robert","P",0,3,86,150,"2010-02-07","Qualifications R1 CD62 T3 CUCQ","Poules","2009-2010",null,null,null,null,0,null,0]
["CARTIERE André","BOUBET Jean","P",0,3,122,150,"2010-02-07","Qualifications R1 CD62 T3 CUCQ","Poules","2009-2010",null,null,null,null,0,null,0]
["CARTIERE André","MARTEL Bruno","G",3,2,211,210,"2010-02-07","Qualifications R1 CD62 T3 CUCQ","Poules","2009-2010",null,null,null,null,0,null,0]
["CARTIERE André","DEPLECHIN Robert","P",0,3,124,150,"2010-03-06","Qualifications R1 CD62 T4 LE TOUQUET","Poules","2009-2010",null,null,null,null,0,null,0]
["CARTIERE André","MARTEL Bruno","P",0,3,101,150,"2010-03-06","Qualifications R1 CD62 T4 LE TOUQUET","Poules","2009-2010",null,null,null,null,0,null,0]
["CARTIERE André","BOUBET Jean","P",2,3,197,198,"2010-03-06","Qualifications R1 CD62 T4 LE TOUQUET","Poules","2009-2010",null,null,null,null,0,null,0]
["CARTIERE André","BLONDEEL Firmin","P",0,3,114,150,"2011-10-02","R1 CD62 T1 WIMILLE","Poules","2011-2012",null,null,null,null,0,null,0]
["CARTIERE André","DEPLECHIN Robert","P",1,3,116,166,"2011-10-02","R1 CD62 T1 WIMILLE","Poules","2011-2012",null,null,null,null,0,null,0]
["CARTIERE André","PIERRU Didier","P",1,3,138,186,"2012-01-07","R1 CD62 T2 LE TOUQUET","Poules","2011-2012",null,null,null,null,0,null,0]
["CARTIERE André","TRIPLET Freddy","G",3,0,150,138,"2012-01-07","R1 CD62 T2 LE TOUQUET","Poules","2011-2012",null,null,null,null,0,null,0]
["CARTIERE André","BLONDEEL Bruno","P",1,3,139,199,"2012-01-07","R1 CD62 T2 LE TOUQUET","1/2 Finale","2011-2012",null,null,null,null,0,null,0]
["CARTIERE André","PIERRU Didier","P",2,3,176,220,"2012-01-07","R1 CD62 T2 LE TOUQUET","3ème/4ème place","2011-2012",null,null,null,null,0,null,0]
["CARTIERE André","TRIPLET Gilbert","P",0,3,98,150,"2012-03-10","R1 CD62 T3 CUCQ","Poules","2011-2012",null,null,null,null,0,null,0]
["CARTIERE André","BLONDEEL Firmin","P",1,3,149,174,"2012-03-10","R1 CD62 T3 CUCQ","Poules","2011-2012",null,null,null,null,0,null,0]
["CARTIERE André","BLONDEEL Bruno","P",0,3,91,150,"2012-09-30","R1 CD62 T1 LE TOUQUET","Poules","2012-2013",null,null,null,null,0,null,0]
["CARTIERE André","MARTEL Michel","G",3,1,190,126,"2012-09-30","R1 CD62 T1 LE TOUQUET","Poules","2012-2013",null,null,null,null,0,null,0]
["CARTIERE André","BLONDEEL Firmin","P",2,3,201,225,"2012-11-10","R1 CD62 T2 CUCQ","Poules","2012-2013",null,null,null,null,0,null,0]
["CARTIERE André","TRIPLET Eddie","P",1,3,168,176,"2012-11-10","R1 CD62 T2 CUCQ","Poules","2012-2013",null,null,null,null,0,null,0]
["CARTIERE André","PIERRU Didier","P",1,3,157,188,"2013-01-06","R1 CD62 T3 CUCQ","Poules","2012-2013",null,null,null,null,0,null,0]
["CARTIERE André","DEPLECHIN Robert","P",0,3,110,150,"2013-01-06","R1 CD62 T3 CUCQ","Poules","2012-2013",null,null,null,null,0,null,0]
["CARTIERE André","TRIPLET Freddy","P",1,3,143,170,"2013-09-15","R1 CD62 T1 LE TOUQUET","Poules","2013-2014",null,null,null,null,0,null,0]
["CARTIERE André","MERLIN Christian","P",2,3,184,210,"2013-09-15","R1 CD62 T1 LE TOUQUET","Poules","2013-2014",null,null,null,null,0,null,0]
["CARTIERE André","TRIPLET Freddy","P",2,3,{"$f":"100+31+29+20","v":180},{"$f":"150+18+49","v":217},"2013-12-21","R1 CD62 T2 WIMILLE","Poules","2013-2014",null,null,null,null,0,null,0]
["CARTIERE André","TRIPLET Freddy","P",1,3,{"$f":"50+19+19+31","v":119},189,"2013-12-21","R1 CD62 T2 WIMILLE","Poules","2013-2014",null,null,null,null,0,null,0]
["CARTIERE André",{"$f":"A53","v":"CARTIERE André"},"P",2,3,152,194,"2014-10-26","R1 CD62 T1 CUCQ","Poules","2014-2015",null,null,null,null,0,null,0]
["CARTIERE André","TRIPLET Freddy","P",1,3,124,165,"2014-10-26","R1 CD62 T1 CUCQ","Poules","2014-2015",null,null,null,null,0,null,0]
["CARTIERE André","MONTADOR Christophe","P",2,3,194,242,"2014-11-30","R1 CD62 T2 WIMILLE","Poules","2014-2015",null,null,null,null,0,null,0]
["CARTIERE André","MONTADOR Christophe","G",3,0,150,126,"2014-11-30","R1 CD62 T2 WIMILLE","Poules","2014-2015",null,null,null,null,0,null,0]
["CARTIERE André","PIERRU Didier","P",1,3,159,171,"2014-11-30","R1 CD62 T2 WIMILLE","1/2 Finale","2014-2015",null,null,null,null,0,null,0]
["CARTIERE André","MARTEL Bruno","P",0,3,74,150,"2014-11-30","R1 CD62 T2 WIMILLE","3ème 4ème","2014-2015",null,null,null,null,0,null,0]
["CARTIERE André","BLONDEEL Bruno","P",1,3,122,193,"2014-12-28","R1 CD62 T3 CUCQ","Poules","2014-2015",null,null,null,null,0,null,0]
["CARTIERE André","BLONDEEL Bruno","G",3,2,193,205,"2014-12-28","R1 CD62 T3 CUCQ","Poules","2014-2015",null,null,null,null,0,null,0]
["CARTIERE André","BLONDEEL Bruno","P",0,3,84,150,"2016-01-17","T1 Qualifications CD62 R1 Maritime - CUCQ","Qualifications","2015-2016",null,null,null,null,0,null,0]
["CARTIERE André","VADUNTHUN Daniel","G",3,2,191,219,"2016-01-17","T1 Qualifications CD62 R1 Maritime - CUCQ","Qualifications","2015-2016",null,null,null,null,0,null,0]
["CARTIERE André","BLONDEEL Bruno","P",0,3,84,150,"2016-01-17","T1 Qualifications CD62 R1 Maritime - CUCQ","Qualifications","2015-2016",null,null,null,null,0,null,0]
["CARTIERE André","VADUNTHUN Daniel","G",3,2,191,219,"2016-01-17","T1 Qualifications CD62 R1 Maritime - CUCQ","Qualifications","2015-2016",null,null,null,null,0,null,0]
["CARTIERE André","BLONDEEL Bruno","P",1,3,107,163,"2016-03-13","T3 Qualifications CD62 R1 Maritime - Cucq","Qualifications","2015-2016",null,null,null,null,0,null,0]
["CARTIERE André","BLONDEEL Bruno","P",1,3,158,176,"2016-03-13","T3 Qualifications CD62 R1 Maritime - Cucq","1/4 Finale","2015-2016",null,null,null,null,0,null,0]
["CARTIERE André","TRIPLET Eddy","G",3,0,150,101,"2016-03-13","T3 Qualifications CD62 R1 Maritime - Cucq","Qualifications","2015-2016",null,null,null,null,0,null,0]
["CARTIERE André","LEBECQ Jean-Pierre","P",1,3,109,183,"2016-12-11","T1 Qualification CD62 R1 Maritime - CUCQ","Qualifications","2016-2017",null,null,null,null,0,null,0]
["CARTIERE André","TIZON Alain","P",2,3,216,225,"2016-12-11","T1 Qualification CD62 R1 Maritime - CUCQ","Qualifications","2016-2017",null,null,null,null,0,null,0]
["CARTIERE André","BOUBET Jean","P",0,3,95,150,"2017-01-08","T2 Qualification CD62 R1 Maritime - Wimille","Qualifications","2016-2017",null,null,null,null,0,null,0]
["CARTIERE André","TRIPLET Eddy","P",1,3,144,169,"2017-01-08","T2 Qualification CD62 R1 Maritime - Wimille","Qualifications","2016-2017",null,null,null,null,0,null,0]
["CARTIERE André","MARTEL Bruno","P",0,3,97,150,"2017-02-11","T3 Qualification CD62 R1 Maritime - CUCQ","Qualifications","2016-2017",null,null,null,null,0,null,0]
["CARTIERE André","TIZON Alain","G",3,2,214,198,"2017-02-11","T3 Qualification CD62 R1 Maritime - CUCQ","Qualifications","2016-2017",null,null,null,null,0,null,0]
["CARTIERE André","CAPLIEZ Bernard","P",0,2,102,120,"2017-12-10","T1 Qualification CD62 R1 - CUCQ","Qualifications","2017-2018",null,null,null,null,0,null,0]
["CARTIERE André","CAPLIEZ Bernard","P",1,2,151,179,"2017-12-10","T1 Qualification CD62 R1 - CUCQ","Qualifications","2017-2018",null,null,null,null,0,null,0]
["CARTIERE André","CAPLIEZ Bernard","P",0,2,102,120,"2018-01-06","T2 Qualification CD62 R1 - xxxx","Qualifications","2017-2018",null,null,null,null,0,null,0]
["CARTIERE André","CAPLIEZ Bernard","P",1,2,151,179,"2018-01-06","T2 Qualification CD62 R1 - xxxx","Qualifications","2017-2018",null,null,null,null,0,null,0]
["CARTIERE André","DEPLECHIN Roland","P",1,2,155,159,"2018-01-13","T2 Qualification CD62 R1 - WIMILLE","Qualifications","2017-2018",null,null,null,null,0,null,0]
["CARTIERE André","TIZON Alain","G",2,1,145,151,"2018-01-13","T2 Qualification CD62 R1 - WIMILLE","Qualifications","2017-2018",null,null,null,null,{"$f":"IF($K80=P$1,COUNTIF($C80,\"G\"),0)","v":0},null,{"$f":"IF($K80=R$1,COUNTIF($C80,\"G\"),0)","v":0}]
["CARTIERE André","MONTADOR Ludovic","P",0,2,106,120,"2018-02-24","T3 Qualification CD62 R1 - WIMILLE","Qualifications","2017-2018",null,null,null,null,0,null,0]
["CARTIERE André","MONTADOR Ludovic","P",0,2,89,120,"2018-02-24","T3 Qualification CD62 R1 - WIMILLE","Qualifications","2017-2018",null,null,null,null,0,null,0]
["CARTIERE André","MARTEL Bruno","P",0,2,81,120,"2018-03-18","T4 Qualification CD62 R1 - CUCQ","Qualifications","2017-2018",null,null,null,null,0,null,0]
["CARTIERE André","TIZON Alain","P",0,2,72,120,"2018-03-18","T4 Qualification CD62 R1 - CUCQ","Qualifications","2017-2018",null,null,null,null,0,null,0]
["CARTIERE André","MARTEL Bruno","P",0,2,96,120,"2019-01-13","T3 Qualification CD62 R1 - WIMILLE","Qualifications","2018-2019",null,null,null,null,0,null,0]
["CARTIERE André","SAISON Bertrand","P",0,2,86,120,"2019-01-13","T3 Qualification CD62 R1 - WIMILLE","Qualifications","2018-2019",null,null,null,null,0,null,0]
["CARTIERE André","MONTADOR Christophe","P",1,2,142,162,"2018-12-01","T2 Qualification CD62 R1 - WIMILLE","Finale","2018-2019",null,null,null,null,0,null,0]
["CARTIERE André","MONTADOR Ludovic","P",1,2,154,165,"2018-12-01","T2 Qualification CD62 R1 - WIMILLE","Qualifications","2018-2019",null,null,null,null,0,null,0]
["CARTIERE André","RAMET Jacques","G",2,0,120,62,"2018-12-01","T2 Qualification CD62 R1 - WIMILLE","1/2 Finale","2018-2019",null,null,null,null,0,null,0]
["CARTIERE André","TIZON Alain","G",2,0,120,108,"2018-12-01","T2 Qualification CD62 R1 - WIMILLE","Qualifications","2018-2019",null,null,null,null,0,null,0]
["CARTIERE André","FLAHAUT Ghislain","P",0,2,89,120,"2018-11-03","T1 Qualification CD62 R1 - CUCQ","Qualifications","2018-2019",null,null,null,null,0,null,0]
["CARTIERE André","MARTEL Bruno","P",0,2,74,120,"2018-11-03","T1 Qualification CD62 R1 - CUCQ","Qualifications","2018-2019",null,null,null,null,0,null,0]
["CARTIERE André","MONTADOR Christophe","G",2,1,164,152,"2019-01-27","T4 Qualification CD62 R1 - CUCQ","Qualifications","2018-2019",null,null,null,null,0,null,0]
["CARTIERE André","TIZON Alain","P",1,2,142,178,"2019-01-27","T4 Qualification CD62 R1 - CUCQ","Qualifications","2018-2019",null,null,null,null,0,null,0]
["CARTIERE André","TIZON Alain","P",0,2,49,120,"2020-01-12","T1 Qualifications CD 62 R1 - CUCQ","Qualifications","2019-2020",null,null,null,null,0,null,0]
["CARTIERE André","TIZON Alain","P",0,2,58,120,"2020-01-12","T1 Qualifications CD 62 R1 - CUCQ","Qualifications","2019-2020",null,null,null,null,0,null,0]
["CARTIERE André","GAMBIER Francis","G",2,0,120,85,"2020-02-02","T2 Qualifications CD62 R1 - WIMILLE","Qualifications","2019-2020",null,null,null,null,0,null,0]
["CARTIERE André","TIZON Alain","G",2,0,120,104,"2020-02-02","T2 Qualifications CD62 R1 - WIMILLE","Qualifications","2019-2020",null,null,null,null,0,null,0]
["CARTIERE André","TRIPLET  Gilbert","P",1,2,123,165,"2020-02-02","T2 Qualifications CD62 R1 - WIMILLE","1/2 Finale","2019-2020",null,null,null,null,0,null,0]
["CARTIERE André","TIZON Alain","P",0,2,95,120,"2020-02-15","T3 Qualifications CD62 R1 - WIMILLE","Qualifications","2019-2020",null,null,null,null,0,null,0]
["CARTIERE André","TIZON Alain","G",2,1,174,145,"2020-02-15","T3 Qualifications CD62 R1 - WIMILLE","Qualifications","2019-2020",null,null,null,null,0,null,0]
["CARTIERE André","LANCRY  Bruno","P",0,2,51,120,"2023-04-15","Finale CD62 R1 DIVION  - DIVION","Qualifications","2022-2023",null,null,null,null,0,null,0]
["CARTIERE André","MINET Lionel","P",1,2,111,170,"2023-04-15","Finale CD62 R1 DIVION  - DIVION","Qualifications","2022-2023",null,null,null,null,0,null,0]
["CARTIERE André","TILLIETTE Michel","P",0,2,84,120,"2023-04-15","Finale CD62 R1 DIVION  - DIVION","Qualifications","2022-2023",null,null,null,null,0,null,0]
["CARTIERE André","DUCROCQ  Joël","G",2,0,120,42,"2023-02-12","T3 CD62 5Q R1 - CUCQ","Qualifications","2022-2023",null,null,null,null,0,null,1]
["CARTIERE André","LANCRY  Bruno","G",2,0,120,92,"2023-02-12","T3 CD62 5Q R1 - CUCQ","Qualifications","2022-2023",null,null,null,null,0,null,1]
["CARTIERE André","MINET Lionel","P",0,2,63,120,"2023-02-12","T3 CD62 5Q R1 - CUCQ","Qualifications","2022-2023",null,null,null,null,0,null,0]
["CARTIERE André","TILLIETTE Michel","G",2,1,179,153,"2023-02-12","T3 CD62 5Q R1 - CUCQ","Qualifications","2022-2023",null,null,null,null,0,null,1]
["CARTIERE André","LANCRY  Bruno","P",0,2,54,120,"2023-02-25","T4 CD62 5Q R1 - DIVION","Qualifications","2022-2023",null,null,null,null,0,null,0]
["CARTIERE André","MINET Lionel","P",0,2,66,120,"2023-02-25","T4 CD62 5Q R1 - DIVION","Qualifications","2022-2023",null,null,null,null,0,null,0]
["CARTIERE André","TILLIETTE Michel","P",1,2,150,160,"2023-02-25","T4 CD62 5Q R1 - DIVION","Qualifications","2022-2023",null,null,null,null,0,null,0]
["CARTIERE André","LANCRY  Bruno","P",0,2,83,120,"2023-01-15","T2 CD62 5Q R1 - DIVION","Qualifications","2022-2023",null,null,null,null,0,null,0]
["CARTIERE André","MINET Lionel","P",1,2,120,148,"2023-01-15","T2 CD62 5Q R1 - DIVION","Qualifications","2022-2023",null,null,null,null,0,null,0]
["CARTIERE André","LANCRY  Bruno","P",0,2,76,120,"2022-11-05","T1 CD62 5Q R1 - WIMILLE","Qualifications","2022-2023",null,null,null,null,0,null,0]
["CARTIERE André","MINET Lionel","P",1,2,119,172,"2022-11-05","T1 CD62 5Q R1 - WIMILLE","Qualifications","2022-2023",null,null,null,null,0,null,0]
["Fin des données",null,null,null,null,null,null,null,null,null,"",null,null,null,null,0,null,0]

{"sheet":"CASIER Philippe","index":32,"n_rows":32,"n_cols":22,"rows_kept":32,"cut":false,"hidden":false,"merged":[]}
["CASIER Philippe",null,null,null,null,null,null,null,null,null,null,null,null,null,null,{"$f":"SaisonDeb","v":"2021-2022"},null,{"$f":"SaisonFin","v":"2022-2023"},null,"Toutes saisons"]
[{"$error":"#N/A"},null,null,null,null,null,null,null,null,null,null,null,null,null,null,"Nombre","%age","Nombre","%age","Nombre","%age"]
[{"$error":"#N/A"},null,null,null,null,null,null,null,null,null,null,null,null,"Matchs","Gagnés",{"$f":"SUM(P$15:P$128)","v":1},{"$f":"IF(P$3+P$4>0,P3/(P$3+P$4),\"\")","v":8.3333333333333329E-2},{"$f":"SUM(R$15:R$128)","v":0},{"$f":"IF(R$3+R$4>0,R3/(R$3+R$4),\"\")","v":""},{"$f":"COUNTIF($C$15:$C$128,\"G\")","v":1},{"$f":"IF(T$3+T$4>0,T3/(T$3+T$4),\"\")","v":6.25E-2}]
[{"$error":"#N/A"},null,null,null,null,null,null,null,null,null,null,null,null,null,"Perdus",{"$f":"COUNTIF($K$15:$M$128,SaisonDeb)-P3","v":11},{"$f":"IF(P$3+P$4>0,P4/(P$3+P$4),\"\")","v":0.91666666666666663},{"$f":"COUNTIF($K$15:$K$128,SaisonFin)-R3","v":0},{"$f":"IF(R$3+R$4>0,R4/(R$3+R$4),\"\")","v":""},{"$f":"COUNTIF($C$15:$C$128,\"P\")","v":15},{"$f":"IF(T$3+T$4>0,T4/(T$3+T$4),\"\")","v":0.9375}]
[{"$error":"#N/A"},null,null,null,null,null,null,null,null,null,null,null,null,null,"Total / Moy.",{"$f":"SUM(P3:P4)","v":12},{"$f":"IF(SUMIF($K$15:$K$128,SaisonDeb,$G$15:$G$128)>0,SUMIF($K$15:$K$128,SaisonDeb,$F$15:$F$128)/SUMIF($K$15:$K$128,SaisonDeb,$G$15:$G$128),\"\")","v":0.68691878487290758},{"$f":"SUM(R3:R4)","v":0},{"$f":"IF(SUMIF($K$15:$K$128,SaisonFin,$G$15:$G$128)>0,SUMIF($K$15:$K$128,SaisonFin,$F$15:$F$128)/SUMIF($K$15:$K$128,SaisonFin,$G$15:$G$128),\"\")","v":""},{"$f":"SUM(T3:T4)","v":16},{"$f":"IF(SUM($G$15:$G$128)>0,SUM($F$15:$F$128)/SUM($G$15:$G$128),\"\")","v":0.67845198279980889},{"$f":"IF(SUMIF($K$15:$K$32,SaisonDeb,$G$15:$G$32)+SUMIF($K$15:$K$32,SaisonFin,$G$15:$G$32)>0,(SUMIF($K$15:$K$32,SaisonDeb,$F$15:$F$32)+SUMIF($K$15:$K$32,SaisonFin,$F$15:$F$32))/(SUMIF($K$15:$K$32,SaisonDeb,$G$15:$G$32)+SUMIF($K$15:$K$32,SaisonFin,$G$15:$G$32)),\"\")","v":0.68691878487290758}]
[null,null,null,null,null,null,null,null,null,null,null,null,null,"Sets","Gagnés",{"$f":"SUMIF($K$15:$K$128,SaisonDeb,$D$15:$D$128)","v":5},{"$f":"IF(P$6+P$7>0,P6/(P$6+P$7),\"\")","v":0.18518518518518517},{"$f":"SUMIF($K$15:$K$128,SaisonFin,$D$15:$D$128)","v":0},{"$f":"IF(R$6+R$7>0,R6/(R$6+R$7),\"\")","v":""},{"$f":"SUM($D$15:$D$128)","v":5},{"$f":"IF(T$6+T$7>0,T6/(T$6+T$7),\"\")","v":0.14285714285714285}]
[null,null,null,null,null,null,null,null,null,null,null,null,null,null,"Perdus",{"$f":"SUMIF($K$15:$K$128,SaisonDeb,$E$15:$E$128)","v":22},{"$f":"IF(P$6+P$7>0,P7/(P$6+P$7),\"\")","v":0.81481481481481477},{"$f":"SUMIF($K$15:$K$128,SaisonFin,$E$15:$E$128)","v":0},{"$f":"IF(R$6+R$7>0,R7/(R$6+R$7),\"\")","v":""},{"$f":"SUM($E$15:$E$128)","v":30},{"$f":"IF(T$6+T$7>0,T7/(T$6+T$7),\"\")","v":0.8571428571428571}]
["Récapitulatif joueurs",null,null,null,null,null,null,null,null,null,null,null,null,null,"Total",{"$f":"SUM(P6:P7)","v":27},null,{"$f":"SUM(R6:R7)","v":0},null,{"$f":"SUM(T6:T7)","v":35}]
[]
[]
[]
[]
[]
[]
["Joueur","Adversaire","G/P","Sets gagnés","Sets perdus","pts marqués","pts subis","Date","Compétition","Phase","Saison"]
["CASIER Philippe","BABOLEIN Clément","P",0,2,76,120,"2019-10-19","T1 CD02 R1 - Billard Club de Soissons","Qualifications",{"$f":"IF(H16<>\"\",IF(MONTH(H16)>MoisRef,YEAR(H16)&\"-\"&YEAR(H16)+1,YEAR(H16)-1&\"-\"&YEAR(H16)),\"\")","v":"2019-2020"},null,null,null,null,{"$f":"IF($K16=P$1,COUNTIF($C16,\"G\"),0)","v":0},null,{"$f":"IF($K16=R$1,COUNTIF($C16,\"G\"),0)","v":0}]
["CASIER Philippe","BUTTI Bertrand","P",0,2,99,120,"2019-10-19","T1 CD02 R1 - Billard Club de Soissons","Qualifications","2019-2020",null,null,null,null,{"$f":"IF($K17=P$1,COUNTIF($C17,\"G\"),0)","v":0},null,{"$f":"IF($K17=R$1,COUNTIF($C17,\"G\"),0)","v":0}]
["CASIER Philippe","BOULINGUEZ Yves","P",0,2,86,120,"2019-12-07","T2 CD02 R1 - Saint-Quentin","Qualifications","2019-2020",null,null,null,null,{"$f":"IF($K18=P$1,COUNTIF($C18,\"G\"),0)","v":0},null,{"$f":"IF($K18=R$1,COUNTIF($C18,\"G\"),0)","v":0}]
["CASIER Philippe","COUSIN Francis","P",0,2,51,120,"2019-12-07","T2 CD02 R1 - Saint-Quentin","Qualifications","2019-2020",null,null,null,null,{"$f":"IF($K19=P$1,COUNTIF($C19,\"G\"),0)","v":0},null,{"$f":"IF($K19=R$1,COUNTIF($C19,\"G\"),0)","v":0}]
["CASIER Philippe","BABOLEIN Clément","P",0,2,79,120,"2021-11-27","T2 CD02 R1 - Billard Club de Soissons","Qualifications","2021-2022",null,null,null,null,{"$f":"IF($K20=P$1,COUNTIF($C20,\"G\"),0)","v":0},null,{"$f":"IF($K20=R$1,COUNTIF($C20,\"G\"),0)","v":0}]
["CASIER Philippe","DURAND Jéremy","P",0,2,72,120,"2021-11-27","T2 CD02 R1 - Billard Club de Soissons","Qualifications","2021-2022",null,null,null,null,0,null,0]
["CASIER Philippe","COUSIN Francis","P",1,2,149,174,"2022-01-29","T3 CD02 TOUTE CATEGORIE - Saint-Quentin","Qualifications","2021-2022",null,null,null,null,0,null,0]
["CASIER Philippe","DURAND Jéremy","P",0,2,40,120,"2022-01-29","T3 CD02 TOUTE CATEGORIE - Saint-Quentin","Qualifications","2021-2022",null,null,null,null,0,null,0]
["CASIER Philippe","SIMON Philippe","P",0,2,61,120,"2022-01-29","T3 CD02 TOUTE CATEGORIE - Saint-Quentin","Qualifications","2021-2022",null,null,null,null,0,null,0]
["CASIER Philippe","SIMON Philippe","P",0,2,64,120,"2022-02-26","T4 CD02 R1 - Billard Club de Saint-Quentin","Qualifications","2021-2022",null,null,null,null,0,null,0]
["CASIER Philippe","BUTTI Bertrand","P",1,2,169,217,"2022-02-26","T4 CD02 R1 N1- Billard Club de Saint-Quentin","Qualifications","2021-2022",null,null,null,null,0,null,0]
["CASIER Philippe","BUTTI EmIlie","P",1,2,140,172,"2022-02-26","T5 CD02 R1 N1- Billard Club de Saint-Quentin","Qualifications","2021-2022",null,null,null,null,0,null,0]
["CASIER Philippe","SIMON Philippe","P",0,2,86,120,"2022-02-26","T5 CD02 R1 N1- Billard Club de Saint-Quentin","Qualifications","2021-2022",null,null,null,null,0,null,0]
["CASIER Philippe","DURAND Jéremy","P",0,2,62,120,"2022-02-26","T5 CD02 R1 N1- Billard Club de Saint-Quentin","Qualifications","2021-2022",null,null,null,null,0,null,0]
["CASIER Philippe","BUTTI EmIlie","G",2,0,120,90,"2022-04-24","Finale CD02- Billard Club de Saint-Quentin","1/4 Finale","2021-2022",null,null,null,null,1,null,0]
["CASIER Philippe","DURAND Jeremy","P",0,2,66,120,"2022-04-24","Finale CD02- Billard Club de Saint-Quentin","1/4 Finale","2021-2022",null,null,null,null,0,null,0]
["Fin des données",null,null,null,null,null,null,null,null,null,"",null,null,null,null,{"$f":"IF($K32=P$1,COUNTIF($C32,\"G\"),0)","v":0},null,{"$f":"IF($K32=R$1,COUNTIF($C32,\"G\"),0)","v":0}]

{"sheet":"CAVITTE Jean-Pierre","index":33,"n_rows":27,"n_cols":22,"rows_kept":27,"cut":false,"hidden":false,"merged":[]}
["CAVITTE Jean-Pierre",null,null,null,null,null,null,null,null,null,null,null,null,null,null,{"$f":"SaisonDeb","v":"2021-2022"},null,{"$f":"SaisonFin","v":"2022-2023"},null,"Toutes saisons"]
[{"$error":"#N/A"},null,null,null,null,null,null,null,null,null,null,null,null,null,null,"Nombre","%age","Nombre","%age","Nombre","%age"]
[{"$error":"#N/A"},null,null,null,null,null,null,null,null,null,null,null,null,"Matchs","Gagnés",{"$f":"SUM(P$15:P$123)","v":0},{"$f":"IF(P$3+P$4>0,P3/(P$3+P$4),\"\")","v":""},{"$f":"SUM(R$15:R$123)","v":2},{"$f":"IF(R$3+R$4>0,R3/(R$3+R$4),\"\")","v":0.18181818181818182},{"$f":"COUNTIF($C$15:$C$123,\"G\")","v":2},{"$f":"IF(T$3+T$4>0,T3/(T$3+T$4),\"\")","v":0.18181818181818182}]
[{"$error":"#N/A"},null,null,null,null,null,null,null,null,null,null,null,null,null,"Perdus",{"$f":"COUNTIF($K$15:$M$123,SaisonDeb)-P3","v":0},{"$f":"IF(P$3+P$4>0,P4/(P$3+P$4),\"\")","v":""},{"$f":"COUNTIF($K$15:$K$123,SaisonFin)-R3","v":9},{"$f":"IF(R$3+R$4>0,R4/(R$3+R$4),\"\")","v":0.81818181818181823},{"$f":"COUNTIF($C$15:$C$123,\"P\")","v":9},{"$f":"IF(T$3+T$4>0,T4/(T$3+T$4),\"\")","v":0.81818181818181823}]
[{"$error":"#N/A"},null,null,null,null,null,null,null,null,null,null,null,null,null,"Total / Moy.",{"$f":"SUM(P3:P4)","v":0},{"$f":"IF(SUMIF($K$15:$K$123,SaisonDeb,$G$15:$G$123)>0,SUMIF($K$15:$K$123,SaisonDeb,$F$15:$F$123)/SUMIF($K$15:$K$123,SaisonDeb,$G$15:$G$123),\"\")","v":""},{"$f":"SUM(R3:R4)","v":11},{"$f":"IF(SUMIF($K$15:$K$123,SaisonFin,$G$15:$G$123)>0,SUMIF($K$15:$K$123,SaisonFin,$F$15:$F$123)/SUMIF($K$15:$K$123,SaisonFin,$G$15:$G$123),\"\")","v":0.71175373134328357},{"$f":"SUM(T3:T4)","v":11},{"$f":"IF(SUM($G$15:$G$123)>0,SUM($F$15:$F$123)/SUM($G$15:$G$123),\"\")","v":0.71175373134328357},{"$f":"IF(SUMIF($K$15:$K$27,SaisonDeb,$G$15:$G$27)+SUMIF($K$15:$K$27,SaisonFin,$G$15:$G$27)>0,(SUMIF($K$15:$K$27,SaisonDeb,$F$15:$F$27)+SUMIF($K$15:$K$27,SaisonFin,$F$15:$F$27))/(SUMIF($K$15:$K$27,SaisonDeb,$G$15:$G$27)+SUMIF($K$15:$K$27,SaisonFin,$G$15:$G$27)),\"\")","v":0.71175373134328357}]
[null,null,null,null,null,null,null,null,null,null,null,null,null,"Sets","Gagnés",{"$f":"SUMIF($K$15:$K$123,SaisonDeb,$D$15:$D$123)","v":0},{"$f":"IF(P$6+P$7>0,P6/(P$6+P$7),\"\")","v":""},{"$f":"SUMIF($K$15:$K$123,SaisonFin,$D$15:$D$123)","v":2},{"$f":"IF(R$6+R$7>0,R6/(R$6+R$7),\"\")","v":0.18181818181818182},{"$f":"SUM($D$15:$D$123)","v":2},{"$f":"IF(T$6+T$7>0,T6/(T$6+T$7),\"\")","v":0.18181818181818182}]
[null,null,null,null,null,null,null,null,null,null,null,null,null,null,"Perdus",{"$f":"SUMIF($K$15:$K$123,SaisonDeb,$E$15:$E$123)","v":0},{"$f":"IF(P$6+P$7>0,P7/(P$6+P$7),\"\")","v":""},{"$f":"SUMIF($K$15:$K$123,SaisonFin,$E$15:$E$123)","v":9},{"$f":"IF(R$6+R$7>0,R7/(R$6+R$7),\"\")","v":0.81818181818181823},{"$f":"SUM($E$15:$E$123)","v":9},{"$f":"IF(T$6+T$7>0,T7/(T$6+T$7),\"\")","v":0.81818181818181823}]
["Récapitulatif joueurs",null,null,null,null,null,null,null,null,null,null,null,null,null,"Total",{"$f":"SUM(P6:P7)","v":0},null,{"$f":"SUM(R6:R7)","v":11},null,{"$f":"SUM(T6:T7)","v":11}]
[]
[]
[]
[]
[]
[]
["Joueur","Adversaire","G/P","Sets gagnés","Sets perdus","pts marqués","pts subis","Date","Compétition","Phase","Saison"]
["CAVITTE Jean-Pierre","KERKHOF Hervé","P",0,1,43,100,"2022-10-30","T2 5Q R1 - GRAVELINES","Qualifications",{"$f":"IF(H16<>\"\",IF(MONTH(H16)>MoisRef,YEAR(H16)&\"-\"&YEAR(H16)+1,YEAR(H16)-1&\"-\"&YEAR(H16)),\"\")","v":"2022-2023"},null,null,null,null,{"$f":"IF($K16=P$1,COUNTIF($C16,\"G\"),0)","v":0},null,{"$f":"IF($K16=R$1,COUNTIF($C16,\"G\"),0)","v":0}]
["CAVITTE Jean-Pierre","PAILLARD Bertrand","P",0,1,67,100,"2022-10-30","T2 5Q R1 - GRAVELINES","Qualifications","2022-2023",null,null,null,null,0,null,0]
["CAVITTE Jean-Pierre","BERRIER François","G",1,0,100,82,"2022-10-30","T2 5Q R1 - GRAVELINES - CONSOLANTE","Qualifications","2022-2023",null,null,null,null,0,null,1]
["CAVITTE Jean-Pierre","PARENT Jean-René","P",0,1,70,100,"2022-10-30","T2 5Q R1 - GRAVELINES - CONSOLANTE","Qualifications","2022-2023",null,null,null,null,0,null,0]
["CAVITTE Jean-Pierre","LE GOHEBEL Jacques","P",0,1,65,100,"2023-02-04","T3 5Q R1 - GRAVELINES","Qualifications","2022-2023",null,null,null,null,0,null,0]
["CAVITTE Jean-Pierre","LECROART Serge","P",0,1,66,100,"2023-02-04","T3 5Q R1 - GRAVELINES","Qualifications","2022-2023",null,null,null,null,0,null,0]
["CAVITTE Jean-Pierre","LEVECQUE Jean-Bernard","G",1,0,100,90,"2023-02-04","T3 5Q R1 - GRAVELINES - CONSOLANTE","Qualifications","2022-2023",null,null,null,null,0,null,1]
["CAVITTE Jean-Pierre","DUC Stéphane","P",0,1,53,100,"2023-03-04","T4 5Q R1 - DOUAI","Qualifications","2022-2023",null,null,null,null,0,null,0]
["CAVITTE Jean-Pierre","MACAREZ Guy","P",0,1,95,100,"2023-03-04","T4 5Q R1 - DOUAI","Qualifications","2022-2023",null,null,null,null,0,null,0]
["CAVITTE Jean-Pierre","HOCHART James","P",0,1,36,100,"2023-03-04","T4 5Q R1 - CONSOLANTE - DOUAI","Qualifications","2022-2023",null,null,null,null,0,null,0]
["CAVITTE Jean-Pierre","MACAREZ Guy","P",0,1,68,100,"2023-03-04","T4 5Q R1 - CONSOLANTE - DOUAI","Qualifications","2022-2023",null,null,null,null,0,null,0]
["Fin des données",null,null,null,null,null,null,null,null,null,"",null,null,null,null,{"$f":"IF($K27=P$1,COUNTIF($C27,\"G\"),0)","v":0},null,{"$f":"IF($K27=R$1,COUNTIF($C27,\"G\"),0)","v":0}]

{"sheet":"CHAIGNE Gilles","index":34,"n_rows":36,"n_cols":22,"rows_kept":36,"cut":false,"hidden":false,"merged":[]}
["CHAIGNE Gilles",null,null,null,null,null,null,null,null,null,null,null,null,null,null,{"$f":"SaisonDeb","v":"2021-2022"},null,{"$f":"SaisonFin","v":"2022-2023"},null,"Toutes saisons"]
[{"$error":"#N/A"},null,null,null,null,null,null,null,null,null,null,null,null,null,null,"Nombre","%age","Nombre","%age","Nombre","%age"]
[{"$error":"#N/A"},null,null,null,null,null,null,null,null,null,null,null,null,"Matchs","Gagnés",{"$f":"SUM(P$15:P$132)","v":0},{"$f":"IF(P$3+P$4>0,P3/(P$3+P$4),\"\")","v":""},{"$f":"SUM(R$15:R$132)","v":0},{"$f":"IF(R$3+R$4>0,R3/(R$3+R$4),\"\")","v":""},{"$f":"COUNTIF($C$15:$C$132,\"G\")","v":13},{"$f":"IF(T$3+T$4>0,T3/(T$3+T$4),\"\")","v":0.65}]
[{"$error":"#N/A"},null,null,null,null,null,null,null,null,null,null,null,null,null,"Perdus",{"$f":"COUNTIF($K$15:$M$132,SaisonDeb)-P3","v":0},{"$f":"IF(P$3+P$4>0,P4/(P$3+P$4),\"\")","v":""},{"$f":"COUNTIF($K$15:$K$132,SaisonFin)-R3","v":0},{"$f":"IF(R$3+R$4>0,R4/(R$3+R$4),\"\")","v":""},{"$f":"COUNTIF($C$15:$C$132,\"P\")","v":7},{"$f":"IF(T$3+T$4>0,T4/(T$3+T$4),\"\")","v":0.35}]
[{"$error":"#N/A"},null,null,null,null,null,null,null,null,null,null,null,null,null,"Total / Moy.",{"$f":"SUM(P3:P4)","v":0},{"$f":"IF(SUMIF($K$15:$K$132,SaisonDeb,$G$15:$G$132)>0,SUMIF($K$15:$K$132,SaisonDeb,$F$15:$F$132)/SUMIF($K$15:$K$132,SaisonDeb,$G$15:$G$132),\"\")","v":""},{"$f":"SUM(R3:R4)","v":0},{"$f":"IF(SUMIF($K$15:$K$132,SaisonFin,$G$15:$G$132)>0,SUMIF($K$15:$K$132,SaisonFin,$F$15:$F$132)/SUMIF($K$15:$K$132,SaisonFin,$G$15:$G$132),\"\")","v":""},{"$f":"SUM(T3:T4)","v":20},{"$f":"IF(SUM($G$15:$G$132)>0,SUM($F$15:$F$132)/SUM($G$15:$G$132),\"\")","v":1.0991394148020655},{"$f":"IF(SUMIF($K$15:$K$36,SaisonDeb,$G$15:$G$36)+SUMIF($K$15:$K$36,SaisonFin,$G$15:$G$36)>0,(SUMIF($K$15:$K$36,SaisonDeb,$F$15:$F$36)+SUMIF($K$15:$K$36,SaisonFin,$F$15:$F$36))/(SUMIF($K$15:$K$36,SaisonDeb,$G$15:$G$36)+SUMIF($K$15:$K$36,SaisonFin,$G$15:$G$36)),\"\")","v":""}]
[null,null,null,null,null,null,null,null,null,null,null,null,null,"Sets","Gagnés",{"$f":"SUMIF($K$15:$K$132,SaisonDeb,$D$15:$D$132)","v":0},{"$f":"IF(P$6+P$7>0,P6/(P$6+P$7),\"\")","v":""},{"$f":"SUMIF($K$15:$K$132,SaisonFin,$D$15:$D$132)","v":0},{"$f":"IF(R$6+R$7>0,R6/(R$6+R$7),\"\")","v":""},{"$f":"SUM($D$15:$D$132)","v":35},{"$f":"IF(T$6+T$7>0,T6/(T$6+T$7),\"\")","v":0.56451612903225812}]
[null,null,null,null,null,null,null,null,null,null,null,null,null,null,"Perdus",{"$f":"SUMIF($K$15:$K$132,SaisonDeb,$E$15:$E$132)","v":0},{"$f":"IF(P$6+P$7>0,P7/(P$6+P$7),\"\")","v":""},{"$f":"SUMIF($K$15:$K$132,SaisonFin,$E$15:$E$132)","v":0},{"$f":"IF(R$6+R$7>0,R7/(R$6+R$7),\"\")","v":""},{"$f":"SUM($E$15:$E$132)","v":27},{"$f":"IF(T$6+T$7>0,T7/(T$6+T$7),\"\")","v":0.43548387096774194}]
["Récapitulatif joueurs",null,null,null,null,null,null,null,null,null,null,null,null,null,"Total",{"$f":"SUM(P6:P7)","v":0},null,{"$f":"SUM(R6:R7)","v":0},null,{"$f":"SUM(T6:T7)","v":62}]
[]
[]
[]
[]
[]
[]
["Joueur","Adversaire","G/P","Sets gagnés","Sets perdus","pts marqués","pts subis","Date","Compétition","Phase","Saison"]
["CHAIGNE Gilles","DUFRESNOY Michel","P",1,2,96,170,"2018-10-20","T1 R1 CD80 - MOREUIL","1/4 Finale",{"$f":"IF(H16<>\"\",IF(MONTH(H16)>MoisRef,YEAR(H16)&\"-\"&YEAR(H16)+1,YEAR(H16)-1&\"-\"&YEAR(H16)),\"\")","v":"2018-2019"},null,null,null,null,{"$f":"IF($K16=P$1,COUNTIF($C16,\"G\"),0)","v":0},null,{"$f":"IF($K16=R$1,COUNTIF($C16,\"G\"),0)","v":0}]
["CHAIGNE Gilles","DUMEIGE Similien","P",0,2,88,120,"2018-10-20","T1 R1 CD80 - MOREUIL","Qualifications","2018-2019",null,null,null,null,0,null,0]
["CHAIGNE Gilles","DUMEIGE Stéphane","G",2,0,120,82,"2018-10-20","T1 R1 CD80 - MOREUIL","Qualifications","2018-2019",null,null,null,null,0,null,0]
["CHAIGNE Gilles","BETTEFORT Mickaël","G",2,1,145,128,"2018-11-24","T2 R1 CD80 - ","Qualifications","2018-2019",null,null,null,null,0,null,0]
["CHAIGNE Gilles","BETTEFORT Mickaël","G",2,1,173,146,"2018-11-24","T2 R1 CD80 - ","Qualifications","2018-2019",null,null,null,null,0,null,0]
["CHAIGNE Gilles","BETTEFORT Mickaël","G",2,0,120,54,"2018-11-24","T2 R1 CD80 - ","1/8 Finale","2018-2019",null,null,null,null,0,null,0]
["CHAIGNE Gilles","DUHAMEL Eddy","P",1,2,153,177,"2018-11-24","T2 R1 CD80 - ","Finale","2018-2019",null,null,null,null,0,null,0]
["CHAIGNE Gilles","DUMEIGE Stéphane","G",2,0,120,73,"2018-11-24","T2 R1 CD80 - ","1/4 Finale","2018-2019",null,null,null,null,0,null,0]
["CHAIGNE Gilles","ROUTHIER David","G",2,0,120,54,"2018-11-24","T2 R1 CD80 - ","1/2 Finale","2018-2019",null,null,null,null,0,null,0]
["CHAIGNE Gilles","BETTEFORT Mickaël","G",2,0,120,88,"2019-01-05","T3 R1 CD80 - MOREUIL","Qualifications","2018-2019",null,null,null,null,0,null,0]
["CHAIGNE Gilles","CABUZEL Denis","G",2,1,149,116,"2019-01-05","T3 R1 CD80 - MOREUIL","1/4 Finale","2018-2019",null,null,null,null,0,null,0]
["CHAIGNE Gilles","DUMEIGE Stéphane","P",1,2,140,162,"2019-01-05","T3 R1 CD80 - MOREUIL","1/2 Finale","2018-2019",null,null,null,null,0,null,0]
["CHAIGNE Gilles","JOLY Kenan","G",2,1,163,136,"2019-01-05","T3 R1 CD80 - MOREUIL","Qualifications","2018-2019",null,null,null,null,0,null,0]
["CHAIGNE Gilles","DUFRESNOY Michel","G",3,1,238,180,"2019-02-23","Finale 5Q R1 CD80 - PONT DE METZ","Poule unique","2018-2019",null,null,null,null,0,null,0]
["CHAIGNE Gilles","DUHAMEL Eddy","P",1,3,204,197,"2019-02-23","Finale 5Q R1 CD80 - PONT DE METZ","Poule unique","2018-2019",null,null,null,null,0,null,0]
["CHAIGNE Gilles","DUMEIGE Stéphane","G",3,1,212,135,"2019-02-23","Finale 5Q R1 CD80 - PONT DE METZ","Poule unique","2018-2019",null,null,null,null,0,null,0]
["CHAIGNE Gilles","DELFOSSE Fabien","G",3,2,279,228,"2019-03-17","FINALE LIGUE R1 - WIMILLE","Poule unique","2018-2019",null,null,null,null,0,null,0]
["CHAIGNE Gilles","MONTADOR Ludovic","P",1,3,221,224,"2019-03-17","FINALE LIGUE R1 - WIMILLE","Poule unique","2018-2019",null,null,null,null,0,null,0]
["CHAIGNE Gilles","PAILLARD Bertrand","G",3,2,255,255,"2019-03-17","FINALE LIGUE R1 - WIMILLE","Poule unique","2018-2019",null,null,null,null,0,null,0]
["CHAIGNE Gilles","STEINMANN Sebastien","P",0,3,77,180,"2019-03-17","FINALE LIGUE R1 - WIMILLE","Poule unique","2018-2019",null,null,null,null,0,null,0]
["Fin des données",null,null,null,null,null,null,null,null,null,"",null,null,null,null,{"$f":"IF($K36=P$1,COUNTIF($C36,\"G\"),0)","v":0},null,{"$f":"IF($K36=R$1,COUNTIF($C36,\"G\"),0)","v":0}]

{"sheet":"CHARLES Dominique","index":35,"n_rows":20,"n_cols":22,"rows_kept":20,"cut":false,"hidden":false,"merged":[]}
["CHARLES Dominique",null,null,null,null,null,null,null,null,null,null,null,null,null,null,{"$f":"SaisonDeb","v":"2021-2022"},null,{"$f":"SaisonFin","v":"2022-2023"},null,"Toutes saisons"]
[{"$error":"#N/A"},null,null,null,null,null,null,null,null,null,null,null,null,null,null,"Nombre","%age","Nombre","%age","Nombre","%age"]
[{"$error":"#N/A"},null,null,null,null,null,null,null,null,null,null,null,null,"Matchs","Gagnés",{"$f":"SUM(P$15:P$116)","v":2},{"$f":"IF(P$3+P$4>0,P3/(P$3+P$4),\"\")","v":0.5},{"$f":"SUM(R$15:R$116)","v":0},{"$f":"IF(R$3+R$4>0,R3/(R$3+R$4),\"\")","v":""},{"$f":"COUNTIF($C$15:$C$116,\"G\")","v":2},{"$f":"IF(T$3+T$4>0,T3/(T$3+T$4),\"\")","v":0.5}]
[{"$error":"#N/A"},null,null,null,null,null,null,null,null,null,null,null,null,null,"Perdus",{"$f":"COUNTIF($K$15:$M$116,SaisonDeb)-P3","v":2},{"$f":"IF(P$3+P$4>0,P4/(P$3+P$4),\"\")","v":0.5},{"$f":"COUNTIF($K$15:$K$116,SaisonFin)-R3","v":0},{"$f":"IF(R$3+R$4>0,R4/(R$3+R$4),\"\")","v":""},{"$f":"COUNTIF($C$15:$C$116,\"P\")","v":2},{"$f":"IF(T$3+T$4>0,T4/(T$3+T$4),\"\")","v":0.5}]
[{"$error":"#N/A"},null,null,null,null,null,null,null,null,null,null,null,null,null,"Total / Moy.",{"$f":"SUM(P3:P4)","v":4},{"$f":"IF(SUMIF($K$15:$K$116,SaisonDeb,$G$15:$G$116)>0,SUMIF($K$15:$K$116,SaisonDeb,$F$15:$F$116)/SUMIF($K$15:$K$116,SaisonDeb,$G$15:$G$116),\"\")","v":1.0820895522388059},{"$f":"SUM(R3:R4)","v":0},{"$f":"IF(SUMIF($K$15:$K$116,SaisonFin,$G$15:$G$116)>0,SUMIF($K$15:$K$116,SaisonFin,$F$15:$F$116)/SUMIF($K$15:$K$116,SaisonFin,$G$15:$G$116),\"\")","v":""},{"$f":"SUM(T3:T4)","v":4},{"$f":"IF(SUM($G$15:$G$116)>0,SUM($F$15:$F$116)/SUM($G$15:$G$116),\"\")","v":1.0820895522388059},{"$f":"IF(SUMIF($K$15:$K$20,SaisonDeb,$G$15:$G$20)+SUMIF($K$15:$K$20,SaisonFin,$G$15:$G$20)>0,(SUMIF($K$15:$K$20,SaisonDeb,$F$15:$F$20)+SUMIF($K$15:$K$20,SaisonFin,$F$15:$F$20))/(SUMIF($K$15:$K$20,SaisonDeb,$G$15:$G$20)+SUMIF($K$15:$K$20,SaisonFin,$G$15:$G$20)),\"\")","v":1.0820895522388059}]
[null,null,null,null,null,null,null,null,null,null,null,null,null,"Sets","Gagnés",{"$f":"SUMIF($K$15:$K$116,SaisonDeb,$D$15:$D$116)","v":2},{"$f":"IF(P$6+P$7>0,P6/(P$6+P$7),\"\")","v":0.5},{"$f":"SUMIF($K$15:$K$116,SaisonFin,$D$15:$D$116)","v":0},{"$f":"IF(R$6+R$7>0,R6/(R$6+R$7),\"\")","v":""},{"$f":"SUM($D$15:$D$116)","v":2},{"$f":"IF(T$6+T$7>0,T6/(T$6+T$7),\"\")","v":0.5}]
[null,null,null,null,null,null,null,null,null,null,null,null,null,null,"Perdus",{"$f":"SUMIF($K$15:$K$116,SaisonDeb,$E$15:$E$116)","v":2},{"$f":"IF(P$6+P$7>0,P7/(P$6+P$7),\"\")","v":0.5},{"$f":"SUMIF($K$15:$K$116,SaisonFin,$E$15:$E$116)","v":0},{"$f":"IF(R$6+R$7>0,R7/(R$6+R$7),\"\")","v":""},{"$f":"SUM($E$15:$E$116)","v":2},{"$f":"IF(T$6+T$7>0,T7/(T$6+T$7),\"\")","v":0.5}]
["Récapitulatif joueurs",null,null,null,null,null,null,null,null,null,null,null,null,null,"Total",{"$f":"SUM(P6:P7)","v":4},null,{"$f":"SUM(R6:R7)","v":0},null,{"$f":"SUM(T6:T7)","v":4}]
[]
[]
[]
[]
[]
[]
["Joueur","Adversaire","G/P","Sets gagnés","Sets perdus","pts marqués","pts subis","Date","Compétition","Phase","Saison"]
["CHARLES Dominique","AZRIA Aaron","G",1,0,120,82,"2021-10-02","T 1 OISE - Qualifications R 1 - Tour principal - MERU","Qualifications",{"$f":"IF(H16<>\"\",IF(MONTH(H16)>MoisRef,YEAR(H16)&\"-\"&YEAR(H16)+1,YEAR(H16)-1&\"-\"&YEAR(H16)),\"\")","v":"2021-2022"},null,null,null,null,{"$f":"IF($K16=P$1,COUNTIF($C16,\"G\"),0)","v":1},null,{"$f":"IF($K16=R$1,COUNTIF($C16,\"G\"),0)","v":0}]
["CHARLES Dominique","BARBE Philippe","P",0,1,88,120,"2021-10-02","T 1 OISE - Qualifications R 1 - Tour principal - MERU","1/2 Finale",{"$f":"IF(H17<>\"\",IF(MONTH(H17)>MoisRef,YEAR(H17)&\"-\"&YEAR(H17)+1,YEAR(H17)-1&\"-\"&YEAR(H17)),\"\")","v":"2021-2022"},null,null,null,null,{"$f":"IF($K17=P$1,COUNTIF($C17,\"G\"),0)","v":0},null,{"$f":"IF($K17=R$1,COUNTIF($C17,\"G\"),0)","v":0}]
["CHARLES Dominique","BOUTON Gérard","G",1,0,120,80,"2021-10-02","T 1 OISE - Qualifications R 1 - Tour principal - MERU","1/4 Finale",{"$f":"IF(H18<>\"\",IF(MONTH(H18)>MoisRef,YEAR(H18)&\"-\"&YEAR(H18)+1,YEAR(H18)-1&\"-\"&YEAR(H18)),\"\")","v":"2021-2022"},null,null,null,null,{"$f":"IF($K18=P$1,COUNTIF($C18,\"G\"),0)","v":1},null,{"$f":"IF($K18=R$1,COUNTIF($C18,\"G\"),0)","v":0}]
["CHARLES Dominique","MAUGER Jean-Paul","P",0,1,107,120,"2021-10-02","T 1 OISE - Qualifications R 1 - Tour principal - MERU","Qualifications",{"$f":"IF(H19<>\"\",IF(MONTH(H19)>MoisRef,YEAR(H19)&\"-\"&YEAR(H19)+1,YEAR(H19)-1&\"-\"&YEAR(H19)),\"\")","v":"2021-2022"},null,null,null,null,{"$f":"IF($K19=P$1,COUNTIF($C19,\"G\"),0)","v":0},null,{"$f":"IF($K19=R$1,COUNTIF($C19,\"G\"),0)","v":0}]
["Fin des données",null,null,null,null,null,null,null,null,null,{"$f":"IF(H20<>\"\",IF(MONTH(H20)>MoisRef,YEAR(H20)&\"-\"&YEAR(H20)+1,YEAR(H20)-1&\"-\"&YEAR(H20)),\"\")","v":""},null,null,null,null,{"$f":"IF($K20=P$1,COUNTIF($C20,\"G\"),0)","v":0},null,{"$f":"IF($K20=R$1,COUNTIF($C20,\"G\"),0)","v":0}]

{"sheet":"CHENAL Gérard","index":36,"n_rows":44,"n_cols":22,"rows_kept":44,"cut":false,"hidden":false,"merged":[]}
["CHENAL Gérard",null,null,null,null,null,null,null,null,null,null,null,null,null,null,{"$f":"SaisonDeb","v":"2021-2022"},null,{"$f":"SaisonFin","v":"2022-2023"},null,"Toutes saisons"]
[{"$error":"#N/A"},null,null,null,null,null,null,null,null,null,null,null,null,null,null,"Nombre","%age","Nombre","%age","Nombre","%age"]
[{"$error":"#N/A"},null,null,null,null,null,null,null,null,null,null,null,null,"Matchs","Gagnés",{"$f":"SUM(P$15:P$140)","v":0},{"$f":"IF(P$3+P$4>0,P3/(P$3+P$4),\"\")","v":0},{"$f":"SUM(R$15:R$140)","v":3},{"$f":"IF(R$3+R$4>0,R3/(R$3+R$4),\"\")","v":0.27272727272727271},{"$f":"COUNTIF($C$15:$C$140,\"G\")","v":10},{"$f":"IF(T$3+T$4>0,T3/(T$3+T$4),\"\")","v":0.35714285714285715}]
[{"$error":"#N/A"},null,null,null,null,null,null,null,null,null,null,null,null,null,"Perdus",{"$f":"COUNTIF($K$15:$M$140,SaisonDeb)-P3","v":2},{"$f":"IF(P$3+P$4>0,P4/(P$3+P$4),\"\")","v":1},{"$f":"COUNTIF($K$15:$K$140,SaisonFin)-R3","v":8},{"$f":"IF(R$3+R$4>0,R4/(R$3+R$4),\"\")","v":0.72727272727272729},{"$f":"COUNTIF($C$15:$C$140,\"P\")","v":18},{"$f":"IF(T$3+T$4>0,T4/(T$3+T$4),\"\")","v":0.6428571428571429}]
[{"$error":"#N/A"},null,null,null,null,null,null,null,null,null,null,null,null,null,"Total / Moy.",{"$f":"SUM(P3:P4)","v":2},{"$f":"IF(SUMIF($K$15:$K$140,SaisonDeb,$G$15:$G$140)>0,SUMIF($K$15:$K$140,SaisonDeb,$F$15:$F$140)/SUMIF($K$15:$K$140,SaisonDeb,$G$15:$G$140),\"\")","v":0.70416666666666672},{"$f":"SUM(R3:R4)","v":11},{"$f":"IF(SUMIF($K$15:$K$140,SaisonFin,$G$15:$G$140)>0,SUMIF($K$15:$K$140,SaisonFin,$F$15:$F$140)/SUMIF($K$15:$K$140,SaisonFin,$G$15:$G$140),\"\")","v":0.89716599190283397},{"$f":"SUM(T3:T4)","v":28},{"$f":"IF(SUM($G$15:$G$140)>0,SUM($F$15:$F$140)/SUM($G$15:$G$140),\"\")","v":0.92462987886944814},{"$f":"IF(SUMIF($K$15:$K$44,SaisonDeb,$G$15:$G$44)+SUMIF($K$15:$K$44,SaisonFin,$G$15:$G$44)>0,(SUMIF($K$15:$K$44,SaisonDeb,$F$15:$F$44)+SUMIF($K$15:$K$44,SaisonFin,$F$15:$F$44))/(SUMIF($K$15:$K$44,SaisonDeb,$G$15:$G$44)+SUMIF($K$15:$K$44,SaisonFin,$G$15:$G$44)),\"\")","v":0.86576271186440679}]
[null,null,null,null,null,null,null,null,null,null,null,null,null,"Sets","Gagnés",{"$f":"SUMIF($K$15:$K$140,SaisonDeb,$D$15:$D$140)","v":0},{"$f":"IF(P$6+P$7>0,P6/(P$6+P$7),\"\")","v":0},{"$f":"SUMIF($K$15:$K$140,SaisonFin,$D$15:$D$140)","v":3},{"$f":"IF(R$6+R$7>0,R6/(R$6+R$7),\"\")","v":0.27272727272727271},{"$f":"SUM($D$15:$D$140)","v":15},{"$f":"IF(T$6+T$7>0,T6/(T$6+T$7),\"\")","v":0.41666666666666669}]
[null,null,null,null,null,null,null,null,null,null,null,null,null,null,"Perdus",{"$f":"SUMIF($K$15:$K$140,SaisonDeb,$E$15:$E$140)","v":2},{"$f":"IF(P$6+P$7>0,P7/(P$6+P$7),\"\")","v":1},{"$f":"SUMIF($K$15:$K$140,SaisonFin,$E$15:$E$140)","v":8},{"$f":"IF(R$6+R$7>0,R7/(R$6+R$7),\"\")","v":0.72727272727272729},{"$f":"SUM($E$15:$E$140)","v":21},{"$f":"IF(T$6+T$7>0,T7/(T$6+T$7),\"\")","v":0.58333333333333337}]
["Récapitulatif joueurs",null,null,null,null,null,null,null,null,null,null,null,null,null,"Total",{"$f":"SUM(P6:P7)","v":2},null,{"$f":"SUM(R6:R7)","v":11},null,{"$f":"SUM(T6:T7)","v":36}]
[]
[]
[]
[]
[]
[]
["Joueur","Adversaire","G/P","Sets gagnés","Sets perdus","pts marqués","pts subis","Date","Compétition","Phase","Saison"]
["CHENAL Gérard","MURIOT Jean-Pierre","G",1,0,100,97,"2016-10-22","5Q  CD60 R1 - T 1 -CREPY","Tour 4",{"$f":"IF(H16<>\"\",IF(MONTH(H16)>MoisRef,YEAR(H16)&\"-\"&YEAR(H16)+1,YEAR(H16)-1&\"-\"&YEAR(H16)),\"\")","v":"2016-2017"},null,null,null,null,{"$f":"IF($K16=P$1,COUNTIF($C16,\"G\"),0)","v":0},null,{"$f":"IF($K16=R$1,COUNTIF($C16,\"G\"),0)","v":0}]
["CHENAL Gérard","VANDEPUTTE Laurent","P",0,1,90,100,"2017-01-21","5Q  CD60 R1 - T 3 - MERU","Tour 3","2016-2017",null,null,null,null,0,null,0]
["CHENAL Gérard","LEGER Emmanuel","P",0,1,48,100,"2017-01-21","5Q  CD60 R1 - T 3 - MERU","Tour 4","2016-2017",null,null,null,null,0,null,0]
["CHENAL Gérard","AZRIA  Aaron","G",2,0,120,79,"2018-11-24","5 Q - T 3 OISE 2018-19 - R 1 - TOURNOI PRINCIPAL  - MERU","Qualifications","2018-2019",null,null,null,null,0,null,0]
["CHENAL Gérard","LALOT Gérard","P",1,2,144,175,"2018-11-24","5 Q - T 3 OISE 2018-19 - R 1 - TOURNOI PRINCIPAL  - MERU","Qualifications","2018-2019",null,null,null,null,0,null,0]
["CHENAL Gérard","LALOT Gérard","P",1,2,140,162,"2018-11-24","5 Q - T 3 OISE 2018-19 - R 1 - TOURNOI PRINCIPAL  - MERU","1/4 Finale","2018-2019",null,null,null,null,0,null,0]
["CHENAL Gérard","GEOFFROY Florent","P",0,1,83,100,"2020-01-11","CD60  R1 - T3 - Tour Principal - CREPY","1/4 Finale","2019-2020",null,null,null,null,0,null,0]
["CHENAL Gérard","LE FRIEC Daniel","P",0,1,72,100,"2020-01-11","CD60  R1 - T3 - Tour Principal - CREPY","Qualifications","2019-2020",null,null,null,null,0,null,0]
["CHENAL Gérard","LE FRIEC Daniel","G",1,0,100,70,"2020-01-11","CD60  R1 - T3 - Tour Principal - CREPY","Qualifications","2019-2020",null,null,null,null,0,null,0]
["CHENAL Gérard","ALAZARD Philippe","G",1,0,100,86,"2020-02-15","CD60  R1 - T 4 - Tour Principal - SENLIS","Qualifications","2019-2020",null,null,null,null,0,null,0]
["CHENAL Gérard","ALAZARD Philippe","P",0,1,63,100,"2020-02-15","CD60  R1 - T 4 - Tour Principal - SENLIS","1/4 Finale","2019-2020",null,null,null,null,0,null,0]
["CHENAL Gérard","BOUIGES Armelle","G",1,0,100,43,"2020-02-15","CD60  R1 - T 4 - Tour Principal - SENLIS","Qualifications","2019-2020",null,null,null,null,0,null,0]
["CHENAL Gérard","DESCLAIR Guy","G",2,0,120,94,"2019-11-23","CD60  R1 - T2 - Tour Principal - MERU","Qualifications","2019-2020",null,null,null,null,0,null,0]
["CHENAL Gérard","LAMARQUE Yves","P",0,2,71,120,"2019-11-23","CD60  R1 - T2 - Tour Principal - MERU","1/4 Finale","2019-2020",null,null,null,null,0,null,0]
["CHENAL Gérard","MAUGER Jean-Paul","G",2,0,120,71,"2019-11-23","CD60  R1 - T2 - Tour Principal - MERU","Qualifications","2019-2020",null,null,null,null,0,null,0]
["CHENAL Gérard","LAMARQUE Yves","P",0,1,67,120,"2021-12-18","T 2 OISE - Qualifications R 1 - Tour principal - CREPY","Qualifications","2021-2022",null,null,null,null,0,null,0]
["CHENAL Gérard","MASSARD Patrick","P",0,1,102,120,"2021-12-18","T 2 OISE - Qualifications R 1 - Tour principal - CREPY","Qualifications","2021-2022",null,null,null,null,0,null,0]
["CHENAL Gérard","BOUIGES Armelle","G",1,0,120,80,"2022-12-29","T 3 OISE - Qualifications R 1 - Tour principal - SENLIS","Qualifications","2022-2023",null,null,null,null,0,null,1]
["CHENAL Gérard","BOZON Robert","P",0,1,79,120,"2022-12-29","T 3 OISE - Qualifications R 1 - Tour principal - SENLIS","1/4 Finale","2022-2023",null,null,null,null,0,null,0]
["CHENAL Gérard","DESCLAIR Guy","P",0,1,107,120,"2022-12-29","T 3 OISE - Qualifications R 1 - Tour principal - SENLIS","Qualifications","2022-2023",null,null,null,null,0,null,0]
["CHENAL Gérard","BARTHON Aurélie","G",1,0,120,106,"2022-12-03","T 2 OISE - Qualifications R 1 - Tour Principal - SENLIS","Qualifications","2022-2023",null,null,null,null,0,null,1]
["CHENAL Gérard","BOUTON Gérard","P",0,1,80,120,"2022-12-03","T 2 OISE - Qualifications R 1 - Tour Principal - SENLIS","1/4 Finale","2022-2023",null,null,null,null,0,null,0]
["CHENAL Gérard","GRANGER Pascal","P",0,1,84,120,"2022-12-03","T 2 OISE - Qualifications R 1 - Tour Principal - SENLIS","Qualifications","2022-2023",null,null,null,null,0,null,0]
["CHENAL Gérard","BOUTON Gérard","P",0,1,103,120,"2023-03-18","T 4 OISE - Qualifications R 1 - Tour Principal - CREPY","Qualifications","2022-2023",null,null,null,null,0,null,0]
["CHENAL Gérard","NAHIRNYJ Alexi","P",0,1,63,120,"2023-03-18","T 4 OISE - Qualifications R 1 - Tour Principal - CREPY","Qualifications","2022-2023",null,null,null,null,0,null,0]
["CHENAL Gérard","DIOT Alain","P",0,1,114,120,"2022-10-29","T 1 OISE - Qualifications R 1 - Tour Principal - MERU","1/4 Finale","2022-2023",null,null,null,null,0,null,0]
["CHENAL Gérard","MASSARD Patrick","P",0,1,118,120,"2022-10-29","T 1 OISE - Qualifications R 1 - Tour Principal - MERU","Qualifications","2022-2023",null,null,null,null,0,null,0]
["CHENAL Gérard","MASSARD Patrick","G",1,0,120,89,"2022-10-29","T 1 OISE - Qualifications R 1 - Tour Principal - MERU","Qualifications","2022-2023",null,null,null,null,0,null,1]
["Fin des données",null,null,null,null,null,null,null,null,null,"",null,null,null,null,0,null,0]

{"sheet":"CHOUX André","index":37,"n_rows":25,"n_cols":22,"rows_kept":25,"cut":false,"hidden":false,"merged":[]}
["CHOUX André",null,null,null,null,null,null,null,null,null,null,null,null,null,null,{"$f":"SaisonDeb","v":"2021-2022"},null,{"$f":"SaisonFin","v":"2022-2023"},null,"Toutes saisons"]
[{"$error":"#N/A"},null,null,null,null,null,null,null,null,null,null,null,null,null,null,"Nombre","%age","Nombre","%age","Nombre","%age"]
[{"$error":"#N/A"},null,null,null,null,null,null,null,null,null,null,null,null,"Matchs","Gagnés",{"$f":"SUM(P$15:P$121)","v":0},{"$f":"IF(P$3+P$4>0,P3/(P$3+P$4),\"\")","v":""},{"$f":"SUM(R$15:R$121)","v":0},{"$f":"IF(R$3+R$4>0,R3/(R$3+R$4),\"\")","v":""},{"$f":"COUNTIF($C$15:$C$121,\"G\")","v":4},{"$f":"IF(T$3+T$4>0,T3/(T$3+T$4),\"\")","v":0.44444444444444442}]
[{"$error":"#N/A"},null,null,null,null,null,null,null,null,null,null,null,null,null,"Perdus",{"$f":"COUNTIF($K$15:$M$121,SaisonDeb)-P3","v":0},{"$f":"IF(P$3+P$4>0,P4/(P$3+P$4),\"\")","v":""},{"$f":"COUNTIF($K$15:$K$121,SaisonFin)-R3","v":0},{"$f":"IF(R$3+R$4>0,R4/(R$3+R$4),\"\")","v":""},{"$f":"COUNTIF($C$15:$C$121,\"P\")","v":5},{"$f":"IF(T$3+T$4>0,T4/(T$3+T$4),\"\")","v":0.55555555555555558}]
[{"$error":"#N/A"},null,null,null,null,null,null,null,null,null,null,null,null,null,"Total / Moy.",{"$f":"SUM(P3:P4)","v":0},{"$f":"IF(SUMIF($K$15:$K$121,SaisonDeb,$G$15:$G$121)>0,SUMIF($K$15:$K$121,SaisonDeb,$F$15:$F$121)/SUMIF($K$15:$K$121,SaisonDeb,$G$15:$G$121),\"\")","v":""},{"$f":"SUM(R3:R4)","v":0},{"$f":"IF(SUMIF($K$15:$K$121,SaisonFin,$G$15:$G$121)>0,SUMIF($K$15:$K$121,SaisonFin,$F$15:$F$121)/SUMIF($K$15:$K$121,SaisonFin,$G$15:$G$121),\"\")","v":""},{"$f":"SUM(T3:T4)","v":9},{"$f":"IF(SUM($G$15:$G$121)>0,SUM($F$15:$F$121)/SUM($G$15:$G$121),\"\")","v":1.0939226519337018},{"$f":"IF(SUMIF($K$15:$K$25,SaisonDeb,$G$15:$G$25)+SUMIF($K$15:$K$25,SaisonFin,$G$15:$G$25)>0,(SUMIF($K$15:$K$25,SaisonDeb,$F$15:$F$25)+SUMIF($K$15:$K$25,SaisonFin,$F$15:$F$25))/(SUMIF($K$15:$K$25,SaisonDeb,$G$15:$G$25)+SUMIF($K$15:$K$25,SaisonFin,$G$15:$G$25)),\"\")","v":""}]
[null,null,null,null,null,null,null,null,null,null,null,null,null,"Sets","Gagnés",{"$f":"SUMIF($K$15:$K$121,SaisonDeb,$D$15:$D$121)","v":0},{"$f":"IF(P$6+P$7>0,P6/(P$6+P$7),\"\")","v":""},{"$f":"SUMIF($K$15:$K$121,SaisonFin,$D$15:$D$121)","v":0},{"$f":"IF(R$6+R$7>0,R6/(R$6+R$7),\"\")","v":""},{"$f":"SUM($D$15:$D$121)","v":13},{"$f":"IF(T$6+T$7>0,T6/(T$6+T$7),\"\")","v":0.48148148148148145}]
[null,null,null,null,null,null,null,null,null,null,null,null,null,null,"Perdus",{"$f":"SUMIF($K$15:$K$121,SaisonDeb,$E$15:$E$121)","v":0},{"$f":"IF(P$6+P$7>0,P7/(P$6+P$7),\"\")","v":""},{"$f":"SUMIF($K$15:$K$121,SaisonFin,$E$15:$E$121)","v":0},{"$f":"IF(R$6+R$7>0,R7/(R$6+R$7),\"\")","v":""},{"$f":"SUM($E$15:$E$121)","v":14},{"$f":"IF(T$6+T$7>0,T7/(T$6+T$7),\"\")","v":0.51851851851851849}]
["Récapitulatif joueurs",null,null,null,null,null,null,null,null,null,null,null,null,null,"Total",{"$f":"SUM(P6:P7)","v":0},null,{"$f":"SUM(R6:R7)","v":0},null,{"$f":"SUM(T6:T7)","v":27}]
[]
[]
[]
[]
[]
[]
["Joueur","Adversaire","G/P","Sets gagnés","Sets perdus","pts marqués","pts subis","Date","Compétition","Phase","Saison"]
["CHOUX André","MIQUEE Florine","G",2,1,167,152,"2016-11-19","5Q  R1 CD02 - T1 - SOISSONS","Qualifications",{"$f":"IF(H16<>\"\",IF(MONTH(H16)>MoisRef,YEAR(H16)&\"-\"&YEAR(H16)+1,YEAR(H16)-1&\"-\"&YEAR(H16)),\"\")","v":"2016-2017"},null,null,null,null,{"$f":"IF($K16=P$1,COUNTIF($C16,\"G\"),0)","v":0},null,{"$f":"IF($K16=R$1,COUNTIF($C16,\"G\"),0)","v":0}]
["CHOUX André","MIQUEE Florine","P",0,2,105,120,"2016-11-19","5Q  R1 CD02 - T1 - SOISSONS","Qualifications","2016-2017",null,null,null,null,0,null,0]
["CHOUX André","BOULINGUEZ Yves","G",2,1,155,127,"2017-01-21","5Q  R1 CD02 - T3 - st quentin","Qualifications","2016-2017",null,null,null,null,0,null,0]
["CHOUX André","BUTTI EmIlie","G",2,0,120,89,"2017-01-21","5Q  R1 CD02 - T3 - st quentin","Qualifications","2016-2017",null,null,null,null,0,null,0]
["CHOUX André","BUTTI Bertrand","G",3,0,180,92,"2017-03-04","5Q  R1 CD02 -  FINALE CD - SOISSONS","Qualifications","2016-2017",null,null,null,null,0,null,0]
["CHOUX André","DA SILVA José","P",2,3,252,216,"2017-03-04","5Q  R1 CD02 -  FINALE CD - SOISSONS","1/2 Finale","2016-2017",null,null,null,null,0,null,0]
["CHOUX André","FRISON Michel","P",0,3,126,180,"2017-03-04","5Q  R1 CD02 -  FINALE CD - SOISSONS","Qualifications","2016-2017",null,null,null,null,0,null,0]
["CHOUX André","HECQ Anthony","P",1,2,138,139,"2017-12-16","Qualifications AISNE R1 - SOISSONS","Qualifications","2017-2018",null,null,null,null,0,null,0]
["CHOUX André","HECQ Anthony","P",1,2,143,152,"2017-12-16","Qualifications AISNE R1 - SOISSONS","Qualifications","2017-2018",null,null,null,null,0,null,0]
["Fin des données",null,null,null,null,null,null,null,null,null,"",null,null,null,null,{"$f":"IF($K25=P$1,COUNTIF($C25,\"G\"),0)","v":0},null,{"$f":"IF($K25=R$1,COUNTIF($C25,\"G\"),0)","v":0}]

{"sheet":"COFFRE Frédéric","index":38,"n_rows":31,"n_cols":22,"rows_kept":31,"cut":false,"hidden":false,"merged":[]}
["COFFRE Frédéric",null,null,null,null,null,null,null,null,null,null,null,null,null,null,{"$f":"SaisonDeb","v":"2021-2022"},null,{"$f":"SaisonFin","v":"2022-2023"},null,"Toutes saisons"]
[{"$error":"#N/A"},null,null,null,null,null,null,null,null,null,null,null,null,null,null,"Nombre","%age","Nombre","%age","Nombre","%age"]
[{"$error":"#N/A"},null,null,null,null,null,null,null,null,null,null,null,null,"Matchs","Gagnés",{"$f":"SUM(P$15:P$127)","v":0},{"$f":"IF(P$3+P$4>0,P3/(P$3+P$4),\"\")","v":""},{"$f":"SUM(R$15:R$127)","v":0},{"$f":"IF(R$3+R$4>0,R3/(R$3+R$4),\"\")","v":""},{"$f":"COUNTIF($C$15:$C$127,\"G\")","v":4},{"$f":"IF(T$3+T$4>0,T3/(T$3+T$4),\"\")","v":0.26666666666666666}]
[{"$error":"#N/A"},null,null,null,null,null,null,null,null,null,null,null,null,null,"Perdus",{"$f":"COUNTIF($K$15:$M$127,SaisonDeb)-P3","v":0},{"$f":"IF(P$3+P$4>0,P4/(P$3+P$4),\"\")","v":""},{"$f":"COUNTIF($K$15:$K$127,SaisonFin)-R3","v":0},{"$f":"IF(R$3+R$4>0,R4/(R$3+R$4),\"\")","v":""},{"$f":"COUNTIF($C$15:$C$127,\"P\")","v":11},{"$f":"IF(T$3+T$4>0,T4/(T$3+T$4),\"\")","v":0.73333333333333328}]
[{"$error":"#N/A"},null,null,null,null,null,null,null,null,null,null,null,null,null,"Total / Moy.",{"$f":"SUM(P3:P4)","v":0},{"$f":"IF(SUMIF($K$15:$K$127,SaisonDeb,$G$15:$G$127)>0,SUMIF($K$15:$K$127,SaisonDeb,$F$15:$F$127)/SUMIF($K$15:$K$127,SaisonDeb,$G$15:$G$127),\"\")","v":""},{"$f":"SUM(R3:R4)","v":0},{"$f":"IF(SUMIF($K$15:$K$127,SaisonFin,$G$15:$G$127)>0,SUMIF($K$15:$K$127,SaisonFin,$F$15:$F$127)/SUMIF($K$15:$K$127,SaisonFin,$G$15:$G$127),\"\")","v":""},{"$f":"SUM(T3:T4)","v":15},{"$f":"IF(SUM($G$15:$G$127)>0,SUM($F$15:$F$127)/SUM($G$15:$G$127),\"\")","v":0.78441437237517497},{"$f":"IF(SUMIF($K$15:$K$31,SaisonDeb,$G$15:$G$31)+SUMIF($K$15:$K$31,SaisonFin,$G$15:$G$31)>0,(SUMIF($K$15:$K$31,SaisonDeb,$F$15:$F$31)+SUMIF($K$15:$K$31,SaisonFin,$F$15:$F$31))/(SUMIF($K$15:$K$31,SaisonDeb,$G$15:$G$31)+SUMIF($K$15:$K$31,SaisonFin,$G$15:$G$31)),\"\")","v":""}]
[null,null,null,null,null,null,null,null,null,null,null,null,null,"Sets","Gagnés",{"$f":"SUMIF($K$15:$K$127,SaisonDeb,$D$15:$D$127)","v":0},{"$f":"IF(P$6+P$7>0,P6/(P$6+P$7),\"\")","v":""},{"$f":"SUMIF($K$15:$K$127,SaisonFin,$D$15:$D$127)","v":0},{"$f":"IF(R$6+R$7>0,R6/(R$6+R$7),\"\")","v":""},{"$f":"SUM($D$15:$D$127)","v":15},{"$f":"IF(T$6+T$7>0,T6/(T$6+T$7),\"\")","v":0.33333333333333331}]
[null,null,null,null,null,null,null,null,null,null,null,null,null,null,"Perdus",{"$f":"SUMIF($K$15:$K$127,SaisonDeb,$E$15:$E$127)","v":0},{"$f":"IF(P$6+P$7>0,P7/(P$6+P$7),\"\")","v":""},{"$f":"SUMIF($K$15:$K$127,SaisonFin,$E$15:$E$127)","v":0},{"$f":"IF(R$6+R$7>0,R7/(R$6+R$7),\"\")","v":""},{"$f":"SUM($E$15:$E$127)","v":30},{"$f":"IF(T$6+T$7>0,T7/(T$6+T$7),\"\")","v":0.66666666666666663}]
["Récapitulatif joueurs",null,null,null,null,null,null,null,null,null,null,null,null,null,"Total",{"$f":"SUM(P6:P7)","v":0},null,{"$f":"SUM(R6:R7)","v":0},null,{"$f":"SUM(T6:T7)","v":45}]
[]
[]
[]
[]
[]
[]
["Joueur","Adversaire","G/P","Sets gagnés","Sets perdus","pts marqués","pts subis","Date","Compétition","Phase","Saison"]
["COFFRE Frédéric","PIERRU Didier","P",1,3,102,196,"2016-01-17","T1 Qualifications CD62 R1 Maritime - CUCQ","Qualifications",{"$f":"IF(H16<>\"\",IF(MONTH(H16)>MoisRef,YEAR(H16)&\"-\"&YEAR(H16)+1,YEAR(H16)-1&\"-\"&YEAR(H16)),\"\")","v":"2015-2016"},null,null,null,null,{"$f":"IF($K16=P$1,COUNTIF($C16,\"G\"),0)","v":0},null,{"$f":"IF($K16=R$1,COUNTIF($C16,\"G\"),0)","v":0}]
["COFFRE Frédéric","PIERRU Didier","P",0,3,92,150,"2016-01-17","T1 Qualifications CD62 R1 Maritime - CUCQ","1/4 Finale","2015-2016",null,null,null,null,0,null,0]
["COFFRE Frédéric","RAMET Jacques","G",3,1,194,129,"2016-01-17","T1 Qualifications CD62 R1 Maritime - CUCQ","Qualifications","2015-2016",null,null,null,null,0,null,0]
["COFFRE Frédéric","PIERRU Didier","P",1,3,102,196,"2016-01-17","T1 Qualifications CD62 R1 Maritime - CUCQ","Qualifications","2015-2016",null,null,null,null,0,null,0]
["COFFRE Frédéric","PIERRU Didier","P",0,3,92,150,"2016-01-17","T1 Qualifications CD62 R1 Maritime - CUCQ","1/4 Finale","2015-2016",null,null,null,null,0,null,0]
["COFFRE Frédéric","RAMET Jacques","G",3,1,194,129,"2016-01-17","T1 Qualifications CD62 R1 Maritime - CUCQ","Qualifications","2015-2016",null,null,null,null,0,null,0]
["COFFRE Frédéric","MARTEL Bruno","P",0,3,58,150,"2016-03-13","T3 Qualifications CD62 R1 Maritime - Cucq","Qualifications","2015-2016",null,null,null,null,0,null,0]
["COFFRE Frédéric","TIZON Alain","P",1,3,173,186,"2016-03-13","T3 Qualifications CD62 R1 Maritime - Cucq","Qualifications","2015-2016",null,null,null,null,0,null,0]
["COFFRE Frédéric","MONTADOR Christophe","P",0,2,78,120,"2017-12-10","T1 Qualification CD62 R1 - CUCQ","Qualifications","2017-2018",null,null,null,null,0,null,0]
["COFFRE Frédéric","MONTADOR Ludovic","P",1,2,104,172,"2017-12-10","T1 Qualification CD62 R1 - CUCQ","Qualifications","2017-2018",null,null,null,null,0,null,0]
["COFFRE Frédéric","MONTADOR Christophe","P",0,2,78,120,"2018-01-06","T2 Qualification CD62 R1 - xxxx","Qualifications","2017-2018",null,null,null,null,0,null,0]
["COFFRE Frédéric","MONTADOR Ludovic","P",1,2,104,172,"2018-01-06","T2 Qualification CD62 R1 - xxxx","Qualifications","2017-2018",null,null,null,null,0,null,0]
["COFFRE Frédéric","DEPLECHIN Roland","P",0,2,70,120,"2018-01-13","T2 Qualification CD62 R1 - WIMILLE","1/2 Finale","2017-2018",null,null,null,null,0,null,0]
["COFFRE Frédéric","MARTEL Bruno","G",2,0,120,64,"2018-01-13","T2 Qualification CD62 R1 - WIMILLE","Qualifications","2017-2018",null,null,null,null,0,null,0]
["COFFRE Frédéric","MARTEL Michel","G",2,0,120,89,"2018-01-13","T2 Qualification CD62 R1 - WIMILLE","Qualifications","2017-2018",null,null,null,null,0,null,0]
["Fin des données",null,null,null,null,null,null,null,null,null,"",null,null,null,null,{"$f":"IF($K31=P$1,COUNTIF($C31,\"G\"),0)","v":0},null,{"$f":"IF($K31=R$1,COUNTIF($C31,\"G\"),0)","v":0}]

{"sheet":"COLAS Gerard","index":39,"n_rows":25,"n_cols":22,"rows_kept":25,"cut":false,"hidden":false,"merged":[]}
["COLAS Gerard",null,null,null,null,null,null,null,null,null,null,null,null,null,null,{"$f":"SaisonDeb","v":"2021-2022"},null,{"$f":"SaisonFin","v":"2022-2023"},null,"Toutes saisons"]
[{"$error":"#N/A"},null,null,null,null,null,null,null,null,null,null,null,null,null,null,"Nombre","%age","Nombre","%age","Nombre","%age"]
[{"$error":"#N/A"},null,null,null,null,null,null,null,null,null,null,null,null,"Matchs","Gagnés",{"$f":"SUM(P$15:P$121)","v":0},{"$f":"IF(P$3+P$4>0,P3/(P$3+P$4),\"\")","v":""},{"$f":"SUM(R$15:R$121)","v":0},{"$f":"IF(R$3+R$4>0,R3/(R$3+R$4),\"\")","v":""},{"$f":"COUNTIF($C$15:$C$121,\"G\")","v":6},{"$f":"IF(T$3+T$4>0,T3/(T$3+T$4),\"\")","v":0.66666666666666663}]
[{"$error":"#N/A"},null,null,null,null,null,null,null,null,null,null,null,null,null,"Perdus",{"$f":"COUNTIF($K$15:$M$121,SaisonDeb)-P3","v":0},{"$f":"IF(P$3+P$4>0,P4/(P$3+P$4),\"\")","v":""},{"$f":"COUNTIF($K$15:$K$121,SaisonFin)-R3","v":0},{"$f":"IF(R$3+R$4>0,R4/(R$3+R$4),\"\")","v":""},{"$f":"COUNTIF($C$15:$C$121,\"P\")","v":3},{"$f":"IF(T$3+T$4>0,T4/(T$3+T$4),\"\")","v":0.33333333333333331}]
[{"$error":"#N/A"},null,null,null,null,null,null,null,null,null,null,null,null,null,"Total / Moy.",{"$f":"SUM(P3:P4)","v":0},{"$f":"IF(SUMIF($K$15:$K$121,SaisonDeb,$G$15:$G$121)>0,SUMIF($K$15:$K$121,SaisonDeb,$F$15:$F$121)/SUMIF($K$15:$K$121,SaisonDeb,$G$15:$G$121),\"\")","v":""},{"$f":"SUM(R3:R4)","v":0},{"$f":"IF(SUMIF($K$15:$K$121,SaisonFin,$G$15:$G$121)>0,SUMIF($K$15:$K$121,SaisonFin,$F$15:$F$121)/SUMIF($K$15:$K$121,SaisonFin,$G$15:$G$121),\"\")","v":""},{"$f":"SUM(T3:T4)","v":9},{"$f":"IF(SUM($G$15:$G$121)>0,SUM($F$15:$F$121)/SUM($G$15:$G$121),\"\")","v":1.1153225806451612},{"$f":"IF(SUMIF($K$15:$K$25,SaisonDeb,$G$15:$G$25)+SUMIF($K$15:$K$25,SaisonFin,$G$15:$G$25)>0,(SUMIF($K$15:$K$25,SaisonDeb,$F$15:$F$25)+SUMIF($K$15:$K$25,SaisonFin,$F$15:$F$25))/(SUMIF($K$15:$K$25,SaisonDeb,$G$15:$G$25)+SUMIF($K$15:$K$25,SaisonFin,$G$15:$G$25)),\"\")","v":""}]
[null,null,null,null,null,null,null,null,null,null,null,null,null,"Sets","Gagnés",{"$f":"SUMIF($K$15:$K$121,SaisonDeb,$D$15:$D$121)","v":0},{"$f":"IF(P$6+P$7>0,P6/(P$6+P$7),\"\")","v":""},{"$f":"SUMIF($K$15:$K$121,SaisonFin,$D$15:$D$121)","v":0},{"$f":"IF(R$6+R$7>0,R6/(R$6+R$7),\"\")","v":""},{"$f":"SUM($D$15:$D$121)","v":14},{"$f":"IF(T$6+T$7>0,T6/(T$6+T$7),\"\")","v":0.51851851851851849}]
[null,null,null,null,null,null,null,null,null,null,null,null,null,null,"Perdus",{"$f":"SUMIF($K$15:$K$121,SaisonDeb,$E$15:$E$121)","v":0},{"$f":"IF(P$6+P$7>0,P7/(P$6+P$7),\"\")","v":""},{"$f":"SUMIF($K$15:$K$121,SaisonFin,$E$15:$E$121)","v":0},{"$f":"IF(R$6+R$7>0,R7/(R$6+R$7),\"\")","v":""},{"$f":"SUM($E$15:$E$121)","v":13},{"$f":"IF(T$6+T$7>0,T7/(T$6+T$7),\"\")","v":0.48148148148148145}]
["Récapitulatif joueurs",null,null,null,null,null,null,null,null,null,null,null,null,null,"Total",{"$f":"SUM(P6:P7)","v":0},null,{"$f":"SUM(R6:R7)","v":0},null,{"$f":"SUM(T6:T7)","v":27}]
[]
[]
[]
[]
[]
[]
["Joueur","Adversaire","G/P","Sets gagnés","Sets perdus","pts marqués","pts subis","Date","Compétition","Phase","Saison"]
["COLAS Gerard","BOLLINNE Simon","G",2,1,172,110,"2017-11-18","qualification AISNE R1 - St Q uentin","Qualifications",{"$f":"IF(H16<>\"\",IF(MONTH(H16)>MoisRef,YEAR(H16)&\"-\"&YEAR(H16)+1,YEAR(H16)-1&\"-\"&YEAR(H16)),\"\")","v":"2017-2018"},null,null,null,null,{"$f":"IF($K16=P$1,COUNTIF($C16,\"G\"),0)","v":0},null,{"$f":"IF($K16=R$1,COUNTIF($C16,\"G\"),0)","v":0}]
["COLAS Gerard","BUTTI Bertrand","P",0,2,92,120,"2017-11-18","qualification AISNE R1 - St Q uentin","Qualifications","2017-2018",null,null,null,null,0,null,0]
["COLAS Gerard","BOULINGUEZ Yves","G",2,0,120,65,"2018-01-27","Qualifications AISNE R1 - guignicourt","Qualifications","2017-2018",null,null,null,null,0,null,0]
["COLAS Gerard","BOULINGUEZ Yves","G",2,0,120,94,"2018-01-27","Qualifications AISNE R1 - guignicourt","Qualifications","2017-2018",null,null,null,null,0,null,0]
["COLAS Gerard","BOLLINNE Simon","G",3,2,261,207,"2018-03-03","FINALE AISNE  R1 - guignicourt","Qualifications","2017-2018",null,null,null,null,0,null,0]
["COLAS Gerard","BUTTI Bertrand","P",0,3,110,180,"2018-03-03","FINALE AISNE  R1 - guignicourt","Qualifications","2017-2018",null,null,null,null,0,null,0]
["COLAS Gerard","BUTTI Bertrand","P",1,3,205,202,"2018-03-03","FINALE AISNE  R1 - guignicourt","1/2 Finale","2017-2018",null,null,null,null,0,null,0]
["COLAS Gerard","CORRE Maxime","G",2,1,155,119,"2017-12-16","Qualifications AISNE R1 - SOISSONS","Qualifications","2017-2018",null,null,null,null,0,null,0]
["COLAS Gerard","DURTETTE Daniel","G",2,1,148,143,"2017-12-16","Qualifications AISNE R1 - SOISSONS","Qualifications","2017-2018",null,null,null,null,0,null,0]
["Fin des données",null,null,null,null,null,null,null,null,null,"",null,null,null,null,{"$f":"IF($K25=P$1,COUNTIF($C25,\"G\"),0)","v":0},null,{"$f":"IF($K25=R$1,COUNTIF($C25,\"G\"),0)","v":0}]

{"sheet":"CORRE Maxime","index":40,"n_rows":24,"n_cols":22,"rows_kept":24,"cut":false,"hidden":false,"merged":[]}
["CORRE Maxime",null,null,null,null,null,null,null,null,null,null,null,null,null,null,{"$f":"SaisonDeb","v":"2021-2022"},null,{"$f":"SaisonFin","v":"2022-2023"},null,"Toutes saisons"]
[{"$error":"#N/A"},null,null,null,null,null,null,null,null,null,null,null,null,null,null,"Nombre","%age","Nombre","%age","Nombre","%age"]
[{"$error":"#N/A"},null,null,null,null,null,null,null,null,null,null,null,null,"Matchs","Gagnés",{"$f":"SUM(P$15:P$120)","v":0},{"$f":"IF(P$3+P$4>0,P3/(P$3+P$4),\"\")","v":""},{"$f":"SUM(R$15:R$120)","v":0},{"$f":"IF(R$3+R$4>0,R3/(R$3+R$4),\"\")","v":""},{"$f":"COUNTIF($C$15:$C$120,\"G\")","v":4},{"$f":"IF(T$3+T$4>0,T3/(T$3+T$4),\"\")","v":0.5}]
[{"$error":"#N/A"},null,null,null,null,null,null,null,null,null,null,null,null,null,"Perdus",{"$f":"COUNTIF($K$15:$M$120,SaisonDeb)-P3","v":0},{"$f":"IF(P$3+P$4>0,P4/(P$3+P$4),\"\")","v":""},{"$f":"COUNTIF($K$15:$K$120,SaisonFin)-R3","v":0},{"$f":"IF(R$3+R$4>0,R4/(R$3+R$4),\"\")","v":""},{"$f":"COUNTIF($C$15:$C$120,\"P\")","v":4},{"$f":"IF(T$3+T$4>0,T4/(T$3+T$4),\"\")","v":0.5}]
[{"$error":"#N/A"},null,null,null,null,null,null,null,null,null,null,null,null,null,"Total / Moy.",{"$f":"SUM(P3:P4)","v":0},{"$f":"IF(SUMIF($K$15:$K$120,SaisonDeb,$G$15:$G$120)>0,SUMIF($K$15:$K$120,SaisonDeb,$F$15:$F$120)/SUMIF($K$15:$K$120,SaisonDeb,$G$15:$G$120),\"\")","v":""},{"$f":"SUM(R3:R4)","v":0},{"$f":"IF(SUMIF($K$15:$K$120,SaisonFin,$G$15:$G$120)>0,SUMIF($K$15:$K$120,SaisonFin,$F$15:$F$120)/SUMIF($K$15:$K$120,SaisonFin,$G$15:$G$120),\"\")","v":""},{"$f":"SUM(T3:T4)","v":8},{"$f":"IF(SUM($G$15:$G$120)>0,SUM($F$15:$F$120)/SUM($G$15:$G$120),\"\")","v":1.0127041742286751},{"$f":"IF(SUMIF($K$15:$K$24,SaisonDeb,$G$15:$G$24)+SUMIF($K$15:$K$24,SaisonFin,$G$15:$G$24)>0,(SUMIF($K$15:$K$24,SaisonDeb,$F$15:$F$24)+SUMIF($K$15:$K$24,SaisonFin,$F$15:$F$24))/(SUMIF($K$15:$K$24,SaisonDeb,$G$15:$G$24)+SUMIF($K$15:$K$24,SaisonFin,$G$15:$G$24)),\"\")","v":""}]
[null,null,null,null,null,null,null,null,null,null,null,null,null,"Sets","Gagnés",{"$f":"SUMIF($K$15:$K$120,SaisonDeb,$D$15:$D$120)","v":0},{"$f":"IF(P$6+P$7>0,P6/(P$6+P$7),\"\")","v":""},{"$f":"SUMIF($K$15:$K$120,SaisonFin,$D$15:$D$120)","v":0},{"$f":"IF(R$6+R$7>0,R6/(R$6+R$7),\"\")","v":""},{"$f":"SUM($D$15:$D$120)","v":11},{"$f":"IF(T$6+T$7>0,T6/(T$6+T$7),\"\")","v":0.5}]
[null,null,null,null,null,null,null,null,null,null,null,null,null,null,"Perdus",{"$f":"SUMIF($K$15:$K$120,SaisonDeb,$E$15:$E$120)","v":0},{"$f":"IF(P$6+P$7>0,P7/(P$6+P$7),\"\")","v":""},{"$f":"SUMIF($K$15:$K$120,SaisonFin,$E$15:$E$120)","v":0},{"$f":"IF(R$6+R$7>0,R7/(R$6+R$7),\"\")","v":""},{"$f":"SUM($E$15:$E$120)","v":11},{"$f":"IF(T$6+T$7>0,T7/(T$6+T$7),\"\")","v":0.5}]
["Récapitulatif joueurs",null,null,null,null,null,null,null,null,null,null,null,null,null,"Total",{"$f":"SUM(P6:P7)","v":0},null,{"$f":"SUM(R6:R7)","v":0},null,{"$f":"SUM(T6:T7)","v":22}]
[]
[]
[]
[]
[]
[]
["Joueur","Adversaire","G/P","Sets gagnés","Sets perdus","pts marqués","pts subis","Date","Compétition","Phase","Saison"]
["CORRE Maxime","BOULINGUEZ Yves","G",2,1,158,162,"2017-11-18","qualification AISNE R1 - St Q uentin","Qualifications",{"$f":"IF(H16<>\"\",IF(MONTH(H16)>MoisRef,YEAR(H16)&\"-\"&YEAR(H16)+1,YEAR(H16)-1&\"-\"&YEAR(H16)),\"\")","v":"2017-2018"},null,null,null,null,{"$f":"IF($K16=P$1,COUNTIF($C16,\"G\"),0)","v":0},null,{"$f":"IF($K16=R$1,COUNTIF($C16,\"G\"),0)","v":0}]
["CORRE Maxime","DURTETTE Daniel","G",2,0,120,78,"2017-11-18","qualification AISNE R1 - St Q uentin","Qualifications","2017-2018",null,null,null,null,0,null,0]
["CORRE Maxime","BOLLINNE Simon","P",1,2,130,161,"2018-01-27","Qualifications AISNE R1 - guignicourt","Qualifications","2017-2018",null,null,null,null,0,null,0]
["CORRE Maxime","COUSIN Francis","G",2,0,120,67,"2018-01-27","Qualifications AISNE R1 - guignicourt","Qualifications","2017-2018",null,null,null,null,0,null,0]
["CORRE Maxime","HECQ Anthony","P",1,3,190,224,"2018-03-03","FINALE AISNE  R1 - guignicourt","Qualifications","2017-2018",null,null,null,null,0,null,0]
["CORRE Maxime","MIQUEE Florine","P",0,3,159,180,"2018-03-03","FINALE AISNE  R1 - guignicourt","Qualifications","2017-2018",null,null,null,null,0,null,0]
["CORRE Maxime","COLAS Gerard","P",1,2,119,155,"2017-12-16","Qualifications AISNE R1 - SOISSONS","Qualifications","2017-2018",null,null,null,null,0,null,0]
["CORRE Maxime","DURTETTE Daniel","G",2,0,120,75,"2017-12-16","Qualifications AISNE R1 - SOISSONS","Qualifications","2017-2018",null,null,null,null,0,null,0]
["Fin des données",null,null,null,null,null,null,null,null,null,"",null,null,null,null,{"$f":"IF($K24=P$1,COUNTIF($C24,\"G\"),0)","v":0},null,{"$f":"IF($K24=R$1,COUNTIF($C24,\"G\"),0)","v":0}]

{"sheet":"COUPLET Sébastien","index":41,"n_rows":20,"n_cols":22,"rows_kept":20,"cut":false,"hidden":false,"merged":[]}
["COUPLET Sébastien",null,null,null,null,null,null,null,null,null,null,null,null,null,null,{"$f":"SaisonDeb","v":"2021-2022"},null,{"$f":"SaisonFin","v":"2022-2023"},null,"Toutes saisons"]
[{"$error":"#N/A"},null,null,null,null,null,null,null,null,null,null,null,null,null,null,"Nombre","%age","Nombre","%age","Nombre","%age"]
[{"$error":"#N/A"},null,null,null,null,null,null,null,null,null,null,null,null,"Matchs","Gagnés",{"$f":"SUM(P$15:P$116)","v":0},{"$f":"IF(P$3+P$4>0,P3/(P$3+P$4),\"\")","v":""},{"$f":"SUM(R$15:R$116)","v":0},{"$f":"IF(R$3+R$4>0,R3/(R$3+R$4),\"\")","v":""},{"$f":"COUNTIF($C$15:$C$116,\"G\")","v":0},{"$f":"IF(T$3+T$4>0,T3/(T$3+T$4),\"\")","v":0}]
[{"$error":"#N/A"},null,null,null,null,null,null,null,null,null,null,null,null,null,"Perdus",{"$f":"COUNTIF($K$15:$M$116,SaisonDeb)-P3","v":0},{"$f":"IF(P$3+P$4>0,P4/(P$3+P$4),\"\")","v":""},{"$f":"COUNTIF($K$15:$K$116,SaisonFin)-R3","v":0},{"$f":"IF(R$3+R$4>0,R4/(R$3+R$4),\"\")","v":""},{"$f":"COUNTIF($C$15:$C$116,\"P\")","v":4},{"$f":"IF(T$3+T$4>0,T4/(T$3+T$4),\"\")","v":1}]
[{"$error":"#N/A"},null,null,null,null,null,null,null,null,null,null,null,null,null,"Total / Moy.",{"$f":"SUM(P3:P4)","v":0},{"$f":"IF(SUMIF($K$15:$K$116,SaisonDeb,$G$15:$G$116)>0,SUMIF($K$15:$K$116,SaisonDeb,$F$15:$F$116)/SUMIF($K$15:$K$116,SaisonDeb,$G$15:$G$116),\"\")","v":""},{"$f":"SUM(R3:R4)","v":0},{"$f":"IF(SUMIF($K$15:$K$116,SaisonFin,$G$15:$G$116)>0,SUMIF($K$15:$K$116,SaisonFin,$F$15:$F$116)/SUMIF($K$15:$K$116,SaisonFin,$G$15:$G$116),\"\")","v":""},{"$f":"SUM(T3:T4)","v":4},{"$f":"IF(SUM($G$15:$G$116)>0,SUM($F$15:$F$116)/SUM($G$15:$G$116),\"\")","v":0.59750000000000003},{"$f":"IF(SUMIF($K$15:$K$20,SaisonDeb,$G$15:$G$20)+SUMIF($K$15:$K$20,SaisonFin,$G$15:$G$20)>0,(SUMIF($K$15:$K$20,SaisonDeb,$F$15:$F$20)+SUMIF($K$15:$K$20,SaisonFin,$F$15:$F$20))/(SUMIF($K$15:$K$20,SaisonDeb,$G$15:$G$20)+SUMIF($K$15:$K$20,SaisonFin,$G$15:$G$20)),\"\")","v":""}]
[null,null,null,null,null,null,null,null,null,null,null,null,null,"Sets","Gagnés",{"$f":"SUMIF($K$15:$K$116,SaisonDeb,$D$15:$D$116)","v":0},{"$f":"IF(P$6+P$7>0,P6/(P$6+P$7),\"\")","v":""},{"$f":"SUMIF($K$15:$K$116,SaisonFin,$D$15:$D$116)","v":0},{"$f":"IF(R$6+R$7>0,R6/(R$6+R$7),\"\")","v":""},{"$f":"SUM($D$15:$D$116)","v":0},{"$f":"IF(T$6+T$7>0,T6/(T$6+T$7),\"\")","v":0}]
[null,null,null,null,null,null,null,null,null,null,null,null,null,null,"Perdus",{"$f":"SUMIF($K$15:$K$116,SaisonDeb,$E$15:$E$116)","v":0},{"$f":"IF(P$6+P$7>0,P7/(P$6+P$7),\"\")","v":""},{"$f":"SUMIF($K$15:$K$116,SaisonFin,$E$15:$E$116)","v":0},{"$f":"IF(R$6+R$7>0,R7/(R$6+R$7),\"\")","v":""},{"$f":"SUM($E$15:$E$116)","v":4},{"$f":"IF(T$6+T$7>0,T7/(T$6+T$7),\"\")","v":1}]
["Récapitulatif joueurs",null,null,null,null,null,null,null,null,null,null,null,null,null,"Total",{"$f":"SUM(P6:P7)","v":0},null,{"$f":"SUM(R6:R7)","v":0},null,{"$f":"SUM(T6:T7)","v":4}]
[]
[]
[]
[]
[]
[]
["Joueur","Adversaire","G/P","Sets gagnés","Sets perdus","pts marqués","pts subis","Date","Compétition","Phase","Saison"]
["COUPLET Sébastien","DESCLAIR Guy","P",0,1,70,100,"2020-01-11","CD60  R1 - T3 - Tour Principal - CREPY","Qualifications",{"$f":"IF(H16<>\"\",IF(MONTH(H16)>MoisRef,YEAR(H16)&\"-\"&YEAR(H16)+1,YEAR(H16)-1&\"-\"&YEAR(H16)),\"\")","v":"2019-2020"},null,null,null,null,{"$f":"IF($K16=P$1,COUNTIF($C16,\"G\"),0)","v":0},null,{"$f":"IF($K16=R$1,COUNTIF($C16,\"G\"),0)","v":0}]
["COUPLET Sébastien","LALOT Gérard","P",0,1,38,100,"2020-01-11","CD60  R1 - T3 - Tour Principal - CREPY","Qualifications",{"$f":"IF(H17<>\"\",IF(MONTH(H17)>MoisRef,YEAR(H17)&\"-\"&YEAR(H17)+1,YEAR(H17)-1&\"-\"&YEAR(H17)),\"\")","v":"2019-2020"},null,null,null,null,{"$f":"IF($K17=P$1,COUNTIF($C17,\"G\"),0)","v":0},null,{"$f":"IF($K17=R$1,COUNTIF($C17,\"G\"),0)","v":0}]
["COUPLET Sébastien","BOURGOGNE Claude","P",0,1,39,100,"2020-02-15","CD60  R1 - T 4 - Tour Principal - SENLIS","Qualifications",{"$f":"IF(H18<>\"\",IF(MONTH(H18)>MoisRef,YEAR(H18)&\"-\"&YEAR(H18)+1,YEAR(H18)-1&\"-\"&YEAR(H18)),\"\")","v":"2019-2020"},null,null,null,null,{"$f":"IF($K18=P$1,COUNTIF($C18,\"G\"),0)","v":0},null,{"$f":"IF($K18=R$1,COUNTIF($C18,\"G\"),0)","v":0}]
["COUPLET Sébastien","HERTOUX Didier","P",0,1,92,100,"2020-02-15","CD60  R1 - T 4 - Tour Principal - SENLIS","Qualifications",{"$f":"IF(H19<>\"\",IF(MONTH(H19)>MoisRef,YEAR(H19)&\"-\"&YEAR(H19)+1,YEAR(H19)-1&\"-\"&YEAR(H19)),\"\")","v":"2019-2020"},null,null,null,null,{"$f":"IF($K19=P$1,COUNTIF($C19,\"G\"),0)","v":0},null,{"$f":"IF($K19=R$1,COUNTIF($C19,\"G\"),0)","v":0}]
["Fin des données",null,null,null,null,null,null,null,null,null,{"$f":"IF(H20<>\"\",IF(MONTH(H20)>MoisRef,YEAR(H20)&\"-\"&YEAR(H20)+1,YEAR(H20)-1&\"-\"&YEAR(H20)),\"\")","v":""},null,null,null,null,{"$f":"IF($K20=P$1,COUNTIF($C20,\"G\"),0)","v":0},null,{"$f":"IF($K20=R$1,COUNTIF($C20,\"G\"),0)","v":0}]

{"sheet":"COUPLET Valentin","index":42,"n_rows":21,"n_cols":22,"rows_kept":21,"cut":false,"hidden":false,"merged":[]}
["COUPLET Valentin",null,null,null,null,null,null,null,null,null,null,null,null,null,null,{"$f":"SaisonDeb","v":"2021-2022"},null,{"$f":"SaisonFin","v":"2022-2023"},null,"Toutes saisons"]
[{"$error":"#N/A"},null,null,null,null,null,null,null,null,null,null,null,null,null,null,"Nombre","%age","Nombre","%age","Nombre","%age"]
[{"$error":"#N/A"},null,null,null,null,null,null,null,null,null,null,null,null,"Matchs","Gagnés",{"$f":"SUM(P$15:P$117)","v":0},{"$f":"IF(P$3+P$4>0,P3/(P$3+P$4),\"\")","v":""},{"$f":"SUM(R$15:R$117)","v":0},{"$f":"IF(R$3+R$4>0,R3/(R$3+R$4),\"\")","v":""},{"$f":"COUNTIF($C$15:$C$117,\"G\")","v":3},{"$f":"IF(T$3+T$4>0,T3/(T$3+T$4),\"\")","v":0.6}]
[{"$error":"#N/A"},null,null,null,null,null,null,null,null,null,null,null,null,null,"Perdus",{"$f":"COUNTIF($K$15:$M$117,SaisonDeb)-P3","v":0},{"$f":"IF(P$3+P$4>0,P4/(P$3+P$4),\"\")","v":""},{"$f":"COUNTIF($K$15:$K$117,SaisonFin)-R3","v":0},{"$f":"IF(R$3+R$4>0,R4/(R$3+R$4),\"\")","v":""},{"$f":"COUNTIF($C$15:$C$117,\"P\")","v":2},{"$f":"IF(T$3+T$4>0,T4/(T$3+T$4),\"\")","v":0.4}]
[{"$error":"#N/A"},null,null,null,null,null,null,null,null,null,null,null,null,null,"Total / Moy.",{"$f":"SUM(P3:P4)","v":0},{"$f":"IF(SUMIF($K$15:$K$117,SaisonDeb,$G$15:$G$117)>0,SUMIF($K$15:$K$117,SaisonDeb,$F$15:$F$117)/SUMIF($K$15:$K$117,SaisonDeb,$G$15:$G$117),\"\")","v":""},{"$f":"SUM(R3:R4)","v":0},{"$f":"IF(SUMIF($K$15:$K$117,SaisonFin,$G$15:$G$117)>0,SUMIF($K$15:$K$117,SaisonFin,$F$15:$F$117)/SUMIF($K$15:$K$117,SaisonFin,$G$15:$G$117),\"\")","v":""},{"$f":"SUM(T3:T4)","v":5},{"$f":"IF(SUM($G$15:$G$117)>0,SUM($F$15:$F$117)/SUM($G$15:$G$117),\"\")","v":1.1163434903047091},{"$f":"IF(SUMIF($K$15:$K$21,SaisonDeb,$G$15:$G$21)+SUMIF($K$15:$K$21,SaisonFin,$G$15:$G$21)>0,(SUMIF($K$15:$K$21,SaisonDeb,$F$15:$F$21)+SUMIF($K$15:$K$21,SaisonFin,$F$15:$F$21))/(SUMIF($K$15:$K$21,SaisonDeb,$G$15:$G$21)+SUMIF($K$15:$K$21,SaisonFin,$G$15:$G$21)),\"\")","v":""}]
[null,null,null,null,null,null,null,null,null,null,null,null,null,"Sets","Gagnés",{"$f":"SUMIF($K$15:$K$117,SaisonDeb,$D$15:$D$117)","v":0},{"$f":"IF(P$6+P$7>0,P6/(P$6+P$7),\"\")","v":""},{"$f":"SUMIF($K$15:$K$117,SaisonFin,$D$15:$D$117)","v":0},{"$f":"IF(R$6+R$7>0,R6/(R$6+R$7),\"\")","v":""},{"$f":"SUM($D$15:$D$117)","v":3},{"$f":"IF(T$6+T$7>0,T6/(T$6+T$7),\"\")","v":0.6}]
[null,null,null,null,null,null,null,null,null,null,null,null,null,null,"Perdus",{"$f":"SUMIF($K$15:$K$117,SaisonDeb,$E$15:$E$117)","v":0},{"$f":"IF(P$6+P$7>0,P7/(P$6+P$7),\"\")","v":""},{"$f":"SUMIF($K$15:$K$117,SaisonFin,$E$15:$E$117)","v":0},{"$f":"IF(R$6+R$7>0,R7/(R$6+R$7),\"\")","v":""},{"$f":"SUM($E$15:$E$117)","v":2},{"$f":"IF(T$6+T$7>0,T7/(T$6+T$7),\"\")","v":0.4}]
["Récapitulatif joueurs",null,null,null,null,null,null,null,null,null,null,null,null,null,"Total",{"$f":"SUM(P6:P7)","v":0},null,{"$f":"SUM(R6:R7)","v":0},null,{"$f":"SUM(T6:T7)","v":5}]
[]
[]
[]
[]
[]
[]
["Joueur","Adversaire","G/P","Sets gagnés","Sets perdus","pts marqués","pts subis","Date","Compétition","Phase","Saison"]
["COUPLET Valentin","BOZON Robert","G",1,0,100,53,"2020-01-11","CD60  R1 - T3 - Tour Principal - CREPY","Qualifications",{"$f":"IF(H16<>\"\",IF(MONTH(H16)>MoisRef,YEAR(H16)&\"-\"&YEAR(H16)+1,YEAR(H16)-1&\"-\"&YEAR(H16)),\"\")","v":"2019-2020"},null,null,null,null,{"$f":"IF($K16=P$1,COUNTIF($C16,\"G\"),0)","v":0},null,{"$f":"IF($K16=R$1,COUNTIF($C16,\"G\"),0)","v":0}]
["COUPLET Valentin","LALOT Gérard","P",0,1,49,100,"2020-01-11","CD60  R1 - T3 - Tour Principal - CREPY","1/4 Finale","2019-2020",null,null,null,null,0,null,0]
["COUPLET Valentin","LAMARQUE Yves","G",1,0,100,44,"2020-01-11","CD60  R1 - T3 - Tour Principal - CREPY","Qualifications","2019-2020",null,null,null,null,0,null,0]
["COUPLET Valentin","DESCLAIR Guy","G",1,0,100,64,"2020-02-15","CD60  R1 - T 4 - Tour Principal - SENLIS","Qualifications","2019-2020",null,null,null,null,0,null,0]
["COUPLET Valentin","DESCLAIR Guy","P",0,1,54,100,"2020-02-15","CD60  R1 - T 4 - Tour Principal - SENLIS","Qualifications","2019-2020",null,null,null,null,0,null,0]
["Fin des données",null,null,null,null,null,null,null,null,null,"",null,null,null,null,0,null,0]

{"sheet":"COUSIN Francis","index":43,"n_rows":47,"n_cols":22,"rows_kept":47,"cut":false,"hidden":false,"merged":[]}
["COUSIN Francis",null,null,null,null,null,null,null,null,null,null,null,null,null,null,{"$f":"SaisonDeb","v":"2021-2022"},null,{"$f":"SaisonFin","v":"2022-2023"},null,"Toutes saisons"]
[{"$error":"#N/A"},null,null,null,null,null,null,null,null,null,null,null,null,null,null,"Nombre","%age","Nombre","%age","Nombre","%age"]
[{"$error":"#N/A"},null,null,null,null,null,null,null,null,null,null,null,null,"Matchs","Gagnés",{"$f":"SUM(P$15:P$143)","v":6},{"$f":"IF(P$3+P$4>0,P3/(P$3+P$4),\"\")","v":0.6},{"$f":"SUM(R$15:R$143)","v":1},{"$f":"IF(R$3+R$4>0,R3/(R$3+R$4),\"\")","v":0.5},{"$f":"COUNTIF($C$15:$C$143,\"G\")","v":14},{"$f":"IF(T$3+T$4>0,T3/(T$3+T$4),\"\")","v":0.45161290322580644}]
[{"$error":"#N/A"},null,null,null,null,null,null,null,null,null,null,null,null,null,"Perdus",{"$f":"COUNTIF($K$15:$M$143,SaisonDeb)-P3","v":4},{"$f":"IF(P$3+P$4>0,P4/(P$3+P$4),\"\")","v":0.4},{"$f":"COUNTIF($K$15:$K$143,SaisonFin)-R3","v":1},{"$f":"IF(R$3+R$4>0,R4/(R$3+R$4),\"\")","v":0.5},{"$f":"COUNTIF($C$15:$C$143,\"P\")","v":17},{"$f":"IF(T$3+T$4>0,T4/(T$3+T$4),\"\")","v":0.54838709677419351}]
[{"$error":"#N/A"},null,null,null,null,null,null,null,null,null,null,null,null,null,"Total / Moy.",{"$f":"SUM(P3:P4)","v":10},{"$f":"IF(SUMIF($K$15:$K$143,SaisonDeb,$G$15:$G$143)>0,SUMIF($K$15:$K$143,SaisonDeb,$F$15:$F$143)/SUMIF($K$15:$K$143,SaisonDeb,$G$15:$G$143),\"\")","v":1.1233933161953729},{"$f":"SUM(R3:R4)","v":2},{"$f":"IF(SUMIF($K$15:$K$143,SaisonFin,$G$15:$G$143)>0,SUMIF($K$15:$K$143,SaisonFin,$F$15:$F$143)/SUMIF($K$15:$K$143,SaisonFin,$G$15:$G$143),\"\")","v":0.92592592592592593},{"$f":"SUM(T3:T4)","v":31},{"$f":"IF(SUM($G$15:$G$143)>0,SUM($F$15:$F$143)/SUM($G$15:$G$143),\"\")","v":0.95491701758731728},{"$f":"IF(SUMIF($K$15:$K$47,SaisonDeb,$G$15:$G$47)+SUMIF($K$15:$K$47,SaisonFin,$G$15:$G$47)>0,(SUMIF($K$15:$K$47,SaisonDeb,$F$15:$F$47)+SUMIF($K$15:$K$47,SaisonFin,$F$15:$F$47))/(SUMIF($K$15:$K$47,SaisonDeb,$G$15:$G$47)+SUMIF($K$15:$K$47,SaisonFin,$G$15:$G$47)),\"\")","v":1.0750809061488673}]
[null,null,null,null,null,null,null,null,null,null,null,null,null,"Sets","Gagnés",{"$f":"SUMIF($K$15:$K$143,SaisonDeb,$D$15:$D$143)","v":14},{"$f":"IF(P$6+P$7>0,P6/(P$6+P$7),\"\")","v":0.56000000000000005},{"$f":"SUMIF($K$15:$K$143,SaisonFin,$D$15:$D$143)","v":3},{"$f":"IF(R$6+R$7>0,R6/(R$6+R$7),\"\")","v":0.42857142857142855},{"$f":"SUM($D$15:$D$143)","v":36},{"$f":"IF(T$6+T$7>0,T6/(T$6+T$7),\"\")","v":0.45}]
[null,null,null,null,null,null,null,null,null,null,null,null,null,null,"Perdus",{"$f":"SUMIF($K$15:$K$143,SaisonDeb,$E$15:$E$143)","v":11},{"$f":"IF(P$6+P$7>0,P7/(P$6+P$7),\"\")","v":0.44},{"$f":"SUMIF($K$15:$K$143,SaisonFin,$E$15:$E$143)","v":4},{"$f":"IF(R$6+R$7>0,R7/(R$6+R$7),\"\")","v":0.5714285714285714},{"$f":"SUM($E$15:$E$143)","v":44},{"$f":"IF(T$6+T$7>0,T7/(T$6+T$7),\"\")","v":0.55000000000000004}]
["Récapitulatif joueurs",null,null,null,null,null,null,null,null,null,null,null,null,null,"Total",{"$f":"SUM(P6:P7)","v":25},null,{"$f":"SUM(R6:R7)","v":7},null,{"$f":"SUM(T6:T7)","v":80}]
[]
[]
[]
[]
[]
[]
["Joueur","Adversaire","G/P","Sets gagnés","Sets perdus","pts marqués","pts subis","Date","Compétition","Phase","Saison"]
["COUSIN Francis","BOLLINNE Simon","G",2,1,153,126,"2018-01-27","Qualifications AISNE R1 - guignicourt","Qualifications",{"$f":"IF(H16<>\"\",IF(MONTH(H16)>MoisRef,YEAR(H16)&\"-\"&YEAR(H16)+1,YEAR(H16)-1&\"-\"&YEAR(H16)),\"\")","v":"2017-2018"},null,null,null,null,{"$f":"IF($K16=P$1,COUNTIF($C16,\"G\"),0)","v":0},null,{"$f":"IF($K16=R$1,COUNTIF($C16,\"G\"),0)","v":0}]
["COUSIN Francis","CORRE Maxime","P",0,2,67,120,"2018-01-27","Qualifications AISNE R1 - guignicourt","Qualifications","2017-2018",null,null,null,null,{"$f":"IF($K17=P$1,COUNTIF($C17,\"G\"),0)","v":0},null,{"$f":"IF($K17=R$1,COUNTIF($C17,\"G\"),0)","v":0}]
["COUSIN Francis","BOULINGUEZ Yves","P",1,2,160,165,"2017-12-16","Qualifications AISNE R1 - SOISSONS","Qualifications","2017-2018",null,null,null,null,{"$f":"IF($K18=P$1,COUNTIF($C18,\"G\"),0)","v":0},null,{"$f":"IF($K18=R$1,COUNTIF($C18,\"G\"),0)","v":0}]
["COUSIN Francis","BUTTI Bertrand","P",0,2,72,120,"2017-12-16","Qualifications AISNE R1 - SOISSONS","Qualifications","2017-2018",null,null,null,null,{"$f":"IF($K19=P$1,COUNTIF($C19,\"G\"),0)","v":0},null,{"$f":"IF($K19=R$1,COUNTIF($C19,\"G\"),0)","v":0}]
["COUSIN Francis","BOULINGUEZ Yves","G",2,1,167,126,"2018-11-10","T1 CD02 - R1 - SOISSONS","Qualifications","2018-2019",null,null,null,null,{"$f":"IF($K20=P$1,COUNTIF($C20,\"G\"),0)","v":0},null,{"$f":"IF($K20=R$1,COUNTIF($C20,\"G\"),0)","v":0}]
["COUSIN Francis","BUTTI Bertrand","P",0,2,84,120,"2018-11-10","T1 CD02 - R1 - SOISSONS","Qualifications","2018-2019",null,null,null,null,0,null,0]
["COUSIN Francis","DELFOSSE Fabien","P",0,2,61,120,"2018-11-10","T1 CD02 - R1 - SOISSONS","Qualifications","2018-2019",null,null,null,null,0,null,0]
["COUSIN Francis","BOULINGUEZ Yves","G",2,0,120,55,"2018-12-15","T2 CD02 - R1 - ST QUENTIN","Qualifications","2018-2019",null,null,null,null,0,null,0]
["COUSIN Francis","BUTTI Bertrand","G",2,1,125,159,"2018-12-15","T2 CD02 - R1 - ST QUENTIN","Qualifications","2018-2019",null,null,null,null,0,null,0]
["COUSIN Francis","DELFOSSE Fabien","P",1,2,163,172,"2018-12-15","T2 CD02 - R1 - ST QUENTIN","Qualifications","2018-2019",null,null,null,null,0,null,0]
["COUSIN Francis","BOULINGUEZ Yves","G",2,0,120,110,"2019-01-19","T3 CD02 - R1 - LA FERE","Qualifications","2018-2019",null,null,null,null,0,null,0]
["COUSIN Francis","BUTTI Bertrand","P",0,2,88,120,"2019-01-19","T3 CD02 - R1 - LA FERE","Qualifications","2018-2019",null,null,null,null,0,null,0]
["COUSIN Francis","DELFOSSE Fabien","P",1,2,131,178,"2019-01-19","T3 CD02 - R1 - LA FERE","Qualifications","2018-2019",null,null,null,null,0,null,0]
["COUSIN Francis","BUTTI Bertrand","P",1,3,174,222,"2019-02-24","Finale CD02 5Q R1 - ST QUENTIN","Poule unique","2018-2019",null,null,null,null,0,null,0]
["COUSIN Francis","DELFOSSE Fabien","P",0,3,54,180,"2019-02-24","Finale CD02 5Q R1 - ST QUENTIN","Poule unique","2018-2019",null,null,null,null,0,null,0]
["COUSIN Francis","BOULINGUEZ Yves","P",0,2,88,120,"2019-10-19","T1 CD02 R1 - Billard Club de Soissons","Qualifications","2019-2020",null,null,null,null,0,null,0]
["COUSIN Francis","SIMON Philippe","P",1,2,127,144,"2019-10-19","T1 CD02 R1 - Billard Club de Soissons","Qualifications","2019-2020",null,null,null,null,0,null,0]
["COUSIN Francis","BOULINGUEZ Yves","G",2,0,120,84,"2019-12-07","T2 CD02 R1 - Saint-Quentin","Qualifications","2019-2020",null,null,null,null,0,null,0]
["COUSIN Francis","CASIER Philippe","G",2,0,120,51,"2019-12-07","T2 CD02 R1 - Saint-Quentin","Qualifications","2019-2020",null,null,null,null,0,null,0]
["COUSIN Francis","BUTTI EmIlie","G",2,0,120,94,"2021-11-27","T2 CD02 R1 - Billard Club de Soissons","Qualifications","2021-2022",null,null,null,null,1,null,0]
["COUSIN Francis","SIMON Philippe","P",0,2,81,120,"2021-11-27","T2 CD02 R1 - Billard Club de Soissons","Qualifications","2021-2022",null,null,null,null,0,null,0]
["COUSIN Francis","BABOLEIN Clément","G",2,0,120,58,"2021-10-16","T1 CD02 R1 - Billard Club de Saint-Quentin","Qualifications","2021-2022",null,null,null,null,1,null,0]
["COUSIN Francis","BUTTI EmIlie","G",2,1,175,148,"2021-10-16","T1 CD02 R1 - Billard Club de Saint-Quentin","Qualifications","2021-2022",null,null,null,null,1,null,0]
["COUSIN Francis","SIMON Philippe","G",2,1,145,147,"2021-10-16","T1 CD02 R1 - Billard Club de Saint-Quentin","Qualifications","2021-2022",null,null,null,null,1,null,0]
["COUSIN Francis","CASIER Philippe","G",2,1,174,149,"2022-01-29","T3 CD02 TOUTE CATEGORIE - Saint-Quentin","Qualifications","2021-2022",null,null,null,null,1,null,0]
["COUSIN Francis","DURAND Jéremy","P",0,2,64,120,"2022-01-29","T3 CD02 TOUTE CATEGORIE - Saint-Quentin","Qualifications","2021-2022",null,null,null,null,0,null,0]
["COUSIN Francis","SIMON Philippe","G",2,0,120,37,"2022-01-29","T3 CD02 TOUTE CATEGORIE - Saint-Quentin","Qualifications","2021-2022",null,null,null,null,1,null,0]
["COUSIN Francis","BABOLEIN Clément","P",1,2,177,153,"2022-04-24","Finale CD02- Billard Club de Saint-Quentin","1/4 Finale","2021-2022",null,null,null,null,0,null,0]
["COUSIN Francis","SIMON Philippe","P",1,2,135,141,"2022-04-24","Finale CD02- Billard Club de Saint-Quentin","1/4 Finale","2021-2022",null,null,null,null,0,null,0]
["COUSIN Francis","BUTTI EmIlie","G",3,1,220,198,"2022-12-03","T1 CD02 R1 - saint quentin","Qualifications","2022-2023",null,null,null,null,0,null,1]
["COUSIN Francis","LEFEVRE Alexandre","P",0,3,130,180,"2022-12-03","T1 CD02 R1 - saint quentin","Qualifications","2022-2023",null,null,null,null,0,null,0]
["Fin des données",null,null,null,null,null,null,null,null,null,"",null,null,null,null,{"$f":"IF($K47=P$1,COUNTIF($C47,\"G\"),0)","v":0},null,{"$f":"IF($K47=R$1,COUNTIF($C47,\"G\"),0)","v":0}]

{"sheet":"CREDOT Gérald","index":44,"n_rows":18,"n_cols":22,"rows_kept":18,"cut":false,"hidden":false,"merged":[]}
["CREDOT Gérald",null,null,null,null,null,null,null,null,null,null,null,null,null,null,{"$f":"SaisonDeb","v":"2021-2022"},null,{"$f":"SaisonFin","v":"2022-2023"},null,"Toutes saisons"]
[{"$error":"#N/A"},null,null,null,null,null,null,null,null,null,null,null,null,null,null,"Nombre","%age","Nombre","%age","Nombre","%age"]
[{"$error":"#N/A"},null,null,null,null,null,null,null,null,null,null,null,null,"Matchs","Gagnés",{"$f":"SUM(P$15:P$114)","v":0},{"$f":"IF(P$3+P$4>0,P3/(P$3+P$4),\"\")","v":""},{"$f":"SUM(R$15:R$114)","v":0},{"$f":"IF(R$3+R$4>0,R3/(R$3+R$4),\"\")","v":0},{"$f":"COUNTIF($C$15:$C$114,\"G\")","v":0},{"$f":"IF(T$3+T$4>0,T3/(T$3+T$4),\"\")","v":0}]
[{"$error":"#N/A"},null,null,null,null,null,null,null,null,null,null,null,null,null,"Perdus",{"$f":"COUNTIF($K$15:$M$114,SaisonDeb)-P3","v":0},{"$f":"IF(P$3+P$4>0,P4/(P$3+P$4),\"\")","v":""},{"$f":"COUNTIF($K$15:$K$114,SaisonFin)-R3","v":2},{"$f":"IF(R$3+R$4>0,R4/(R$3+R$4),\"\")","v":1},{"$f":"COUNTIF($C$15:$C$114,\"P\")","v":2},{"$f":"IF(T$3+T$4>0,T4/(T$3+T$4),\"\")","v":1}]
[{"$error":"#N/A"},null,null,null,null,null,null,null,null,null,null,null,null,null,"Total / Moy.",{"$f":"SUM(P3:P4)","v":0},{"$f":"IF(SUMIF($K$15:$K$114,SaisonDeb,$G$15:$G$114)>0,SUMIF($K$15:$K$114,SaisonDeb,$F$15:$F$114)/SUMIF($K$15:$K$114,SaisonDeb,$G$15:$G$114),\"\")","v":""},{"$f":"SUM(R3:R4)","v":2},{"$f":"IF(SUMIF($K$15:$K$114,SaisonFin,$G$15:$G$114)>0,SUMIF($K$15:$K$114,SaisonFin,$F$15:$F$114)/SUMIF($K$15:$K$114,SaisonFin,$G$15:$G$114),\"\")","v":0.75},{"$f":"SUM(T3:T4)","v":2},{"$f":"IF(SUM($G$15:$G$114)>0,SUM($F$15:$F$114)/SUM($G$15:$G$114),\"\")","v":0.75},{"$f":"IF(SUMIF($K$15:$K$18,SaisonDeb,$G$15:$G$18)+SUMIF($K$15:$K$18,SaisonFin,$G$15:$G$18)>0,(SUMIF($K$15:$K$18,SaisonDeb,$F$15:$F$18)+SUMIF($K$15:$K$18,SaisonFin,$F$15:$F$18))/(SUMIF($K$15:$K$18,SaisonDeb,$G$15:$G$18)+SUMIF($K$15:$K$18,SaisonFin,$G$15:$G$18)),\"\")","v":0.75}]
[null,null,null,null,null,null,null,null,null,null,null,null,null,"Sets","Gagnés",{"$f":"SUMIF($K$15:$K$114,SaisonDeb,$D$15:$D$114)","v":0},{"$f":"IF(P$6+P$7>0,P6/(P$6+P$7),\"\")","v":""},{"$f":"SUMIF($K$15:$K$114,SaisonFin,$D$15:$D$114)","v":0},{"$f":"IF(R$6+R$7>0,R6/(R$6+R$7),\"\")","v":0},{"$f":"SUM($D$15:$D$114)","v":0},{"$f":"IF(T$6+T$7>0,T6/(T$6+T$7),\"\")","v":0}]
[null,null,null,null,null,null,null,null,null,null,null,null,null,null,"Perdus",{"$f":"SUMIF($K$15:$K$114,SaisonDeb,$E$15:$E$114)","v":0},{"$f":"IF(P$6+P$7>0,P7/(P$6+P$7),\"\")","v":""},{"$f":"SUMIF($K$15:$K$114,SaisonFin,$E$15:$E$114)","v":2},{"$f":"IF(R$6+R$7>0,R7/(R$6+R$7),\"\")","v":1},{"$f":"SUM($E$15:$E$114)","v":2},{"$f":"IF(T$6+T$7>0,T7/(T$6+T$7),\"\")","v":1}]
["Récapitulatif joueurs",null,null,null,null,null,null,null,null,null,null,null,null,null,"Total",{"$f":"SUM(P6:P7)","v":0},null,{"$f":"SUM(R6:R7)","v":2},null,{"$f":"SUM(T6:T7)","v":2}]
[]
[]
[]
[]
[]
[]
["Joueur","Adversaire","G/P","Sets gagnés","Sets perdus","pts marqués","pts subis","Date","Compétition","Phase","Saison"]
["CREDOT Gérald","GRANGER Pascal","P",0,1,70,120,"2022-10-29","T 1 OISE - Qualifications R 1 - Tour Principal - MERU","Qualifications",{"$f":"IF(H16<>\"\",IF(MONTH(H16)>MoisRef,YEAR(H16)&\"-\"&YEAR(H16)+1,YEAR(H16)-1&\"-\"&YEAR(H16)),\"\")","v":"2022-2023"},null,null,null,null,{"$f":"IF($K16=P$1,COUNTIF($C16,\"G\"),0)","v":0},null,{"$f":"IF($K16=R$1,COUNTIF($C16,\"G\"),0)","v":0}]
["CREDOT Gérald","NAHIRNYJ Alexi","P",0,1,110,120,"2022-10-29","T 1 OISE - Qualifications R 1 - Tour Principal - MERU","Qualifications",{"$f":"IF(H17<>\"\",IF(MONTH(H17)>MoisRef,YEAR(H17)&\"-\"&YEAR(H17)+1,YEAR(H17)-1&\"-\"&YEAR(H17)),\"\")","v":"2022-2023"},null,null,null,null,{"$f":"IF($K17=P$1,COUNTIF($C17,\"G\"),0)","v":0},null,{"$f":"IF($K17=R$1,COUNTIF($C17,\"G\"),0)","v":0}]
["Fin des données",null,null,null,null,null,null,null,null,null,{"$f":"IF(H18<>\"\",IF(MONTH(H18)>MoisRef,YEAR(H18)&\"-\"&YEAR(H18)+1,YEAR(H18)-1&\"-\"&YEAR(H18)),\"\")","v":""},null,null,null,null,{"$f":"IF($K18=P$1,COUNTIF($C18,\"G\"),0)","v":0},null,{"$f":"IF($K18=R$1,COUNTIF($C18,\"G\"),0)","v":0}]

{"sheet":"CUNIN Mickael","index":45,"n_rows":28,"n_cols":22,"rows_kept":28,"cut":false,"hidden":false,"merged":[]}
["CUNIN Mickael",null,null,null,null,null,null,null,null,null,null,null,null,null,null,{"$f":"SaisonDeb","v":"2021-2022"},null,{"$f":"SaisonFin","v":"2022-2023"},null,"Toutes saisons"]
[{"$error":"#N/A"},null,null,null,null,null,null,null,null,null,null,null,null,null,null,"Nombre","%age","Nombre","%age","Nombre","%age"]
[{"$error":"#N/A"},null,null,null,null,null,null,null,null,null,null,null,null,"Matchs","Gagnés",{"$f":"SUM(P$15:P$124)","v":0},{"$f":"IF(P$3+P$4>0,P3/(P$3+P$4),\"\")","v":""},{"$f":"SUM(R$15:R$124)","v":7},{"$f":"IF(R$3+R$4>0,R3/(R$3+R$4),\"\")","v":0.58333333333333337},{"$f":"COUNTIF($C$15:$C$124,\"G\")","v":7},{"$f":"IF(T$3+T$4>0,T3/(T$3+T$4),\"\")","v":0.58333333333333337}]
[{"$error":"#N/A"},null,null,null,null,null,null,null,null,null,null,null,null,null,"Perdus",{"$f":"COUNTIF($K$15:$M$124,SaisonDeb)-P3","v":0},{"$f":"IF(P$3+P$4>0,P4/(P$3+P$4),\"\")","v":""},{"$f":"COUNTIF($K$15:$K$124,SaisonFin)-R3","v":5},{"$f":"IF(R$3+R$4>0,R4/(R$3+R$4),\"\")","v":0.41666666666666669},{"$f":"COUNTIF($C$15:$C$124,\"P\")","v":5},{"$f":"IF(T$3+T$4>0,T4/(T$3+T$4),\"\")","v":0.41666666666666669}]
[{"$error":"#N/A"},null,null,null,null,null,null,null,null,null,null,null,null,null,"Total / Moy.",{"$f":"SUM(P3:P4)","v":0},{"$f":"IF(SUMIF($K$15:$K$124,SaisonDeb,$G$15:$G$124)>0,SUMIF($K$15:$K$124,SaisonDeb,$F$15:$F$124)/SUMIF($K$15:$K$124,SaisonDeb,$G$15:$G$124),\"\")","v":""},{"$f":"SUM(R3:R4)","v":12},{"$f":"IF(SUMIF($K$15:$K$124,SaisonFin,$G$15:$G$124)>0,SUMIF($K$15:$K$124,SaisonFin,$F$15:$F$124)/SUMIF($K$15:$K$124,SaisonFin,$G$15:$G$124),\"\")","v":1.0296296296296297},{"$f":"SUM(T3:T4)","v":12},{"$f":"IF(SUM($G$15:$G$124)>0,SUM($F$15:$F$124)/SUM($G$15:$G$124),\"\")","v":1.0296296296296297},{"$f":"IF(SUMIF($K$15:$K$28,SaisonDeb,$G$15:$G$28)+SUMIF($K$15:$K$28,SaisonFin,$G$15:$G$28)>0,(SUMIF($K$15:$K$28,SaisonDeb,$F$15:$F$28)+SUMIF($K$15:$K$28,SaisonFin,$F$15:$F$28))/(SUMIF($K$15:$K$28,SaisonDeb,$G$15:$G$28)+SUMIF($K$15:$K$28,SaisonFin,$G$15:$G$28)),\"\")","v":1.0296296296296297}]
[null,null,null,null,null,null,null,null,null,null,null,null,null,"Sets","Gagnés",{"$f":"SUMIF($K$15:$K$124,SaisonDeb,$D$15:$D$124)","v":0},{"$f":"IF(P$6+P$7>0,P6/(P$6+P$7),\"\")","v":""},{"$f":"SUMIF($K$15:$K$124,SaisonFin,$D$15:$D$124)","v":8},{"$f":"IF(R$6+R$7>0,R6/(R$6+R$7),\"\")","v":0.53333333333333333},{"$f":"SUM($D$15:$D$124)","v":8},{"$f":"IF(T$6+T$7>0,T6/(T$6+T$7),\"\")","v":0.53333333333333333}]
[null,null,null,null,null,null,null,null,null,null,null,null,null,null,"Perdus",{"$f":"SUMIF($K$15:$K$124,SaisonDeb,$E$15:$E$124)","v":0},{"$f":"IF(P$6+P$7>0,P7/(P$6+P$7),\"\")","v":""},{"$f":"SUMIF($K$15:$K$124,SaisonFin,$E$15:$E$124)","v":7},{"$f":"IF(R$6+R$7>0,R7/(R$6+R$7),\"\")","v":0.46666666666666667},{"$f":"SUM($E$15:$E$124)","v":7},{"$f":"IF(T$6+T$7>0,T7/(T$6+T$7),\"\")","v":0.46666666666666667}]
["Récapitulatif joueurs",null,null,null,null,null,null,null,null,null,null,null,null,null,"Total",{"$f":"SUM(P6:P7)","v":0},null,{"$f":"SUM(R6:R7)","v":15},null,{"$f":"SUM(T6:T7)","v":15}]
[]
[]
[]
[]
[]
[]
["Joueur","Adversaire","G/P","Sets gagnés","Sets perdus","pts marqués","pts subis","Date","Compétition","Phase","Saison"]
["CUNIN Mickael","HERTOUX Didier","P",0,2,96,120,"2023-04-15","FINALE OISE  - R 1 - BEAUVAIS","Qualifications",{"$f":"IF(H16<>\"\",IF(MONTH(H16)>MoisRef,YEAR(H16)&\"-\"&YEAR(H16)+1,YEAR(H16)-1&\"-\"&YEAR(H16)),\"\")","v":"2022-2023"},null,null,null,null,{"$f":"IF($K16=P$1,COUNTIF($C16,\"G\"),0)","v":0},null,{"$f":"IF($K16=R$1,COUNTIF($C16,\"G\"),0)","v":0}]
["CUNIN Mickael","NAHIRNYJ Alexi","P",1,2,163,172,"2023-04-15","FINALE OISE  - R 1 - BEAUVAIS","Qualifications","2022-2023",null,null,null,null,0,null,0]
["CUNIN Mickael","HERTOUX Didier","P",0,1,118,120,"2022-12-03","T 2 OISE - Qualifications R 1 - Tour Principal - SENLIS","1/4 Finale","2022-2023",null,null,null,null,0,null,0]
["CUNIN Mickael","LAMARQUE Yves","G",1,0,120,115,"2022-12-03","T 2 OISE - Qualifications R 1 - Tour Principal - SENLIS","Qualifications","2022-2023",null,null,null,null,0,null,1]
["CUNIN Mickael","ZANOTTI Michel","P",0,1,109,120,"2022-12-03","T 2 OISE - Qualifications R 1 - Tour Principal - SENLIS","Qualifications","2022-2023",null,null,null,null,0,null,0]
["CUNIN Mickael","BOUTON Gérard","G",1,0,120,102,"2023-02-18","T 3 OISE - Qualifications R 1 - Tour Principal - BEAUVAIS","Qualifications","2022-2023",null,null,null,null,0,null,1]
["CUNIN Mickael","GERONIMI Thierry","P",0,1,64,120,"2023-02-18","T 3 OISE - Qualifications R 1 - Tour Principal - BEAUVAIS","Qualifications","2022-2023",null,null,null,null,0,null,0]
["CUNIN Mickael","BOUTON Gérard","G",1,0,120,100,"2023-03-18","T 4 OISE - Qualifications R 1 - Tour Principal - CREPY","1/4 Finale","2022-2023",null,null,null,null,0,null,1]
["CUNIN Mickael","GRANGER Pascal","G",1,0,120,115,"2023-03-18","T 4 OISE - Qualifications R 1 - Tour Principal - CREPY","Qualifications","2022-2023",null,null,null,null,0,null,1]
["CUNIN Mickael","MURIOT Jean-Pierre","G",1,0,120,119,"2023-03-18","T 4 OISE - Qualifications R 1 - Tour Principal - CREPY","1/2 Finale","2022-2023",null,null,null,null,0,null,1]
["CUNIN Mickael","NAHIRNYJ Alexi","G",1,0,120,85,"2023-03-18","T 4 OISE - Qualifications R 1 - Tour Principal - CREPY","Finale","2022-2023",null,null,null,null,0,null,1]
["CUNIN Mickael","PELLETIER Steeve","G",1,0,120,62,"2023-03-18","T 4 OISE - Qualifications R 1 - Tour Principal - CREPY","Qualifications","2022-2023",null,null,null,null,0,null,1]
["Fin des données",null,null,null,null,null,null,null,null,null,"",null,null,null,null,{"$f":"IF($K28=P$1,COUNTIF($C28,\"G\"),0)","v":0},null,{"$f":"IF($K28=R$1,COUNTIF($C28,\"G\"),0)","v":0}]

{"sheet":"CYFFERS Jean Bernard","index":46,"n_rows":30,"n_cols":22,"rows_kept":30,"cut":false,"hidden":false,"merged":[]}
["CYFFERS Jean Bernard",null,null,null,null,null,null,null,null,null,null,null,null,null,null,{"$f":"SaisonDeb","v":"2021-2022"},null,{"$f":"SaisonFin","v":"2022-2023"},null,"Toutes saisons"]
[{"$error":"#N/A"},null,null,null,null,null,null,null,null,null,null,null,null,null,null,"Nombre","%age","Nombre","%age","Nombre","%age"]
[{"$error":"#N/A"},null,null,null,null,null,null,null,null,null,null,null,null,"Matchs","Gagnés",{"$f":"SUM(P$15:P$126)","v":2},{"$f":"IF(P$3+P$4>0,P3/(P$3+P$4),\"\")","v":0.25},{"$f":"SUM(R$15:R$126)","v":0},{"$f":"IF(R$3+R$4>0,R3/(R$3+R$4),\"\")","v":""},{"$f":"COUNTIF($C$15:$C$126,\"G\")","v":5},{"$f":"IF(T$3+T$4>0,T3/(T$3+T$4),\"\")","v":0.35714285714285715}]
[{"$error":"#N/A"},null,null,null,null,null,null,null,null,null,null,null,null,null,"Perdus",{"$f":"COUNTIF($K$15:$M$126,SaisonDeb)-P3","v":6},{"$f":"IF(P$3+P$4>0,P4/(P$3+P$4),\"\")","v":0.75},{"$f":"COUNTIF($K$15:$K$126,SaisonFin)-R3","v":0},{"$f":"IF(R$3+R$4>0,R4/(R$3+R$4),\"\")","v":""},{"$f":"COUNTIF($C$15:$C$126,\"P\")","v":9},{"$f":"IF(T$3+T$4>0,T4/(T$3+T$4),\"\")","v":0.6428571428571429}]
[{"$error":"#N/A"},null,null,null,null,null,null,null,null,null,null,null,null,null,"Total / Moy.",{"$f":"SUM(P3:P4)","v":8},{"$f":"IF(SUMIF($K$15:$K$126,SaisonDeb,$G$15:$G$126)>0,SUMIF($K$15:$K$126,SaisonDeb,$F$15:$F$126)/SUMIF($K$15:$K$126,SaisonDeb,$G$15:$G$126),\"\")","v":0.81372549019607843},{"$f":"SUM(R3:R4)","v":0},{"$f":"IF(SUMIF($K$15:$K$126,SaisonFin,$G$15:$G$126)>0,SUMIF($K$15:$K$126,SaisonFin,$F$15:$F$126)/SUMIF($K$15:$K$126,SaisonFin,$G$15:$G$126),\"\")","v":""},{"$f":"SUM(T3:T4)","v":14},{"$f":"IF(SUM($G$15:$G$126)>0,SUM($F$15:$F$126)/SUM($G$15:$G$126),\"\")","v":0.93691588785046731},{"$f":"IF(SUMIF($K$15:$K$30,SaisonDeb,$G$15:$G$30)+SUMIF($K$15:$K$30,SaisonFin,$G$15:$G$30)>0,(SUMIF($K$15:$K$30,SaisonDeb,$F$15:$F$30)+SUMIF($K$15:$K$30,SaisonFin,$F$15:$F$30))/(SUMIF($K$15:$K$30,SaisonDeb,$G$15:$G$30)+SUMIF($K$15:$K$30,SaisonFin,$G$15:$G$30)),\"\")","v":0.81372549019607843}]
[null,null,null,null,null,null,null,null,null,null,null,null,null,"Sets","Gagnés",{"$f":"SUMIF($K$15:$K$126,SaisonDeb,$D$15:$D$126)","v":5},{"$f":"IF(P$6+P$7>0,P6/(P$6+P$7),\"\")","v":0.26315789473684209},{"$f":"SUMIF($K$15:$K$126,SaisonFin,$D$15:$D$126)","v":0},{"$f":"IF(R$6+R$7>0,R6/(R$6+R$7),\"\")","v":""},{"$f":"SUM($D$15:$D$126)","v":13},{"$f":"IF(T$6+T$7>0,T6/(T$6+T$7),\"\")","v":0.38235294117647056}]
[null,null,null,null,null,null,null,null,null,null,null,null,null,null,"Perdus",{"$f":"SUMIF($K$15:$K$126,SaisonDeb,$E$15:$E$126)","v":14},{"$f":"IF(P$6+P$7>0,P7/(P$6+P$7),\"\")","v":0.73684210526315785},{"$f":"SUMIF($K$15:$K$126,SaisonFin,$E$15:$E$126)","v":0},{"$f":"IF(R$6+R$7>0,R7/(R$6+R$7),\"\")","v":""},{"$f":"SUM($E$15:$E$126)","v":21},{"$f":"IF(T$6+T$7>0,T7/(T$6+T$7),\"\")","v":0.61764705882352944}]
["Récapitulatif joueurs",null,null,null,null,null,null,null,null,null,null,null,null,null,"Total",{"$f":"SUM(P6:P7)","v":19},null,{"$f":"SUM(R6:R7)","v":0},null,{"$f":"SUM(T6:T7)","v":34}]
[]
[]
[]
[]
[]
[]
["Joueur","Adversaire","G/P","Sets gagnés","Sets perdus","pts marqués","pts subis","Date","Compétition","Phase","Saison"]
["CYFFERS Jean Bernard","FLAHAUT Ghislain","G",2,0,120,72,"2020-02-02","T2 Qualifications CD62 R1 - WIMILLE","Qualifications",{"$f":"IF(H16<>\"\",IF(MONTH(H16)>MoisRef,YEAR(H16)&\"-\"&YEAR(H16)+1,YEAR(H16)-1&\"-\"&YEAR(H16)),\"\")","v":"2019-2020"},null,null,null,null,{"$f":"IF($K16=P$1,COUNTIF($C16,\"G\"),0)","v":0},null,{"$f":"IF($K16=R$1,COUNTIF($C16,\"G\"),0)","v":0}]
["CYFFERS Jean Bernard","MONTADOR Christophe","P",1,2,132,158,"2020-02-02","T2 Qualifications CD62 R1 - WIMILLE","1/2 Finale","2019-2020",null,null,null,null,0,null,0]
["CYFFERS Jean Bernard","RAMET Jacques","G",2,1,160,128,"2020-02-02","T2 Qualifications CD62 R1 - WIMILLE","Qualifications","2019-2020",null,null,null,null,0,null,0]
["CYFFERS Jean Bernard","DUCROCQ  Joël","P",0,2,101,120,"2020-02-15","T3 Qualifications CD62 R1 - WIMILLE","Qualifications","2019-2020",null,null,null,null,0,null,0]
["CYFFERS Jean Bernard","MONTADOR Christophe","P",1,2,141,134,"2020-02-15","T3 Qualifications CD62 R1 - WIMILLE","1/2 Finale","2019-2020",null,null,null,null,0,null,0]
["CYFFERS Jean Bernard","TRIPLET  Gilbert","G",2,0,120,80,"2020-02-15","T3 Qualifications CD62 R1 - WIMILLE","Qualifications","2019-2020",null,null,null,null,0,null,0]
["CYFFERS Jean Bernard","TIZON Alain","P",0,2,85,120,"2021-10-24","T1 CD62 5Q R1 - CUCQ","Qualifications","2021-2022",null,null,null,null,0,null,0]
["CYFFERS Jean Bernard","TRIPLET Eddie","G",2,1,176,110,"2021-10-24","T1 CD62 5Q R1 - CUCQ","Qualifications","2021-2022",null,null,null,null,1,null,0]
["CYFFERS Jean Bernard","FLAHAUT Ghislain","G",2,1,178,148,"2021-12-18","T3 CD62 5Q R1 - CUCQ","Qualifications","2021-2022",null,null,null,null,1,null,0]
["CYFFERS Jean Bernard","LEBECQ Jean Pierre","P",0,2,47,120,"2021-12-18","T3 CD62 5Q R1 - CUCQ","Qualifications","2021-2022",null,null,null,null,0,null,0]
["CYFFERS Jean Bernard","MONTADOR Christophe","P",0,2,79,120,"2021-12-18","T3 CD62 5Q R1 - CUCQ","1/2 Finale","2021-2022",null,null,null,null,0,null,0]
["CYFFERS Jean Bernard","LEBECQ Jean Pierre","P",0,2,87,120,"2022-01-29","T4 CD62 5Q R1 - CUCQ","Qualifications","2021-2022",null,null,null,null,0,null,0]
["CYFFERS Jean Bernard","LEBECQ Jean Pierre","P",1,2,127,162,"2022-01-29","T4 CD62 5Q R1 - CUCQ","Qualifications","2021-2022",null,null,null,null,0,null,0]
["CYFFERS Jean Bernard","LEBECQ Jean Pierre","P",0,2,51,120,"2022-01-29","T4 CD62 5Q R1 - CUCQ","1/2 Finale","2021-2022",null,null,null,null,0,null,0]
["Fin des données",null,null,null,null,null,null,null,null,null,"",null,null,null,null,{"$f":"IF($K30=P$1,COUNTIF($C30,\"G\"),0)","v":0},null,{"$f":"IF($K30=R$1,COUNTIF($C30,\"G\"),0)","v":0}]

{"sheet":"DAMONNEVILLE Blandine","index":47,"n_rows":42,"n_cols":22,"rows_kept":42,"cut":false,"hidden":false,"merged":[]}
["DAMONNEVILLE Blandine",null,null,null,null,null,null,null,null,null,null,null,null,null,null,{"$f":"SaisonDeb","v":"2021-2022"},null,{"$f":"SaisonFin","v":"2022-2023"},null,"Toutes saisons"]
[{"$error":"#N/A"},null,null,null,null,null,null,null,null,null,null,null,null,null,null,"Nombre","%age","Nombre","%age","Nombre","%age"]
[{"$error":"#N/A"},null,null,null,null,null,null,null,null,null,null,null,null,"Matchs","Gagnés",{"$f":"SUM(P$15:P$138)","v":0},{"$f":"IF(P$3+P$4>0,P3/(P$3+P$4),\"\")","v":""},{"$f":"SUM(R$15:R$138)","v":0},{"$f":"IF(R$3+R$4>0,R3/(R$3+R$4),\"\")","v":""},{"$f":"COUNTIF($C$15:$C$138,\"G\")","v":6},{"$f":"IF(T$3+T$4>0,T3/(T$3+T$4),\"\")","v":0.23076923076923078}]
[{"$error":"#N/A"},null,null,null,null,null,null,null,null,null,null,null,null,null,"Perdus",{"$f":"COUNTIF($K$15:$M$138,SaisonDeb)-P3","v":0},{"$f":"IF(P$3+P$4>0,P4/(P$3+P$4),\"\")","v":""},{"$f":"COUNTIF($K$15:$K$138,SaisonFin)-R3","v":0},{"$f":"IF(R$3+R$4>0,R4/(R$3+R$4),\"\")","v":""},{"$f":"COUNTIF($C$15:$C$138,\"P\")","v":20},{"$f":"IF(T$3+T$4>0,T4/(T$3+T$4),\"\")","v":0.76923076923076927}]
[{"$error":"#N/A"},null,null,null,null,null,null,null,null,null,null,null,null,null,"Total / Moy.",{"$f":"SUM(P3:P4)","v":0},{"$f":"IF(SUMIF($K$15:$K$138,SaisonDeb,$G$15:$G$138)>0,SUMIF($K$15:$K$138,SaisonDeb,$F$15:$F$138)/SUMIF($K$15:$K$138,SaisonDeb,$G$15:$G$138),\"\")","v":""},{"$f":"SUM(R3:R4)","v":0},{"$f":"IF(SUMIF($K$15:$K$138,SaisonFin,$G$15:$G$138)>0,SUMIF($K$15:$K$138,SaisonFin,$F$15:$F$138)/SUMIF($K$15:$K$138,SaisonFin,$G$15:$G$138),\"\")","v":""},{"$f":"SUM(T3:T4)","v":26},{"$f":"IF(SUM($G$15:$G$138)>0,SUM($F$15:$F$138)/SUM($G$15:$G$138),\"\")","v":0.71709764569664225},{"$f":"IF(SUMIF($K$15:$K$42,SaisonDeb,$G$15:$G$42)+SUMIF($K$15:$K$42,SaisonFin,$G$15:$G$42)>0,(SUMIF($K$15:$K$42,SaisonDeb,$F$15:$F$42)+SUMIF($K$15:$K$42,SaisonFin,$F$15:$F$42))/(SUMIF($K$15:$K$42,SaisonDeb,$G$15:$G$42)+SUMIF($K$15:$K$42,SaisonFin,$G$15:$G$42)),\"\")","v":""}]
[null,null,null,null,null,null,null,null,null,null,null,null,null,"Sets","Gagnés",{"$f":"SUMIF($K$15:$K$138,SaisonDeb,$D$15:$D$138)","v":0},{"$f":"IF(P$6+P$7>0,P6/(P$6+P$7),\"\")","v":""},{"$f":"SUMIF($K$15:$K$138,SaisonFin,$D$15:$D$138)","v":0},{"$f":"IF(R$6+R$7>0,R6/(R$6+R$7),\"\")","v":""},{"$f":"SUM($D$15:$D$138)","v":10},{"$f":"IF(T$6+T$7>0,T6/(T$6+T$7),\"\")","v":0.2857142857142857}]
[null,null,null,null,null,null,null,null,null,null,null,null,null,null,"Perdus",{"$f":"SUMIF($K$15:$K$138,SaisonDeb,$E$15:$E$138)","v":0},{"$f":"IF(P$6+P$7>0,P7/(P$6+P$7),\"\")","v":""},{"$f":"SUMIF($K$15:$K$138,SaisonFin,$E$15:$E$138)","v":0},{"$f":"IF(R$6+R$7>0,R7/(R$6+R$7),\"\")","v":""},{"$f":"SUM($E$15:$E$138)","v":25},{"$f":"IF(T$6+T$7>0,T7/(T$6+T$7),\"\")","v":0.7142857142857143}]
["Récapitulatif joueurs",null,null,null,null,null,null,null,null,null,null,null,null,null,"Total",{"$f":"SUM(P6:P7)","v":0},null,{"$f":"SUM(R6:R7)","v":0},null,{"$f":"SUM(T6:T7)","v":35}]
[]
[]
[]
[]
[]
[]
["Joueur","Adversaire","G/P","Sets gagnés","Sets perdus","pts marqués","pts subis","Date","Compétition","Phase","Saison"]
["DAMONNEVILLE Blandine","WANQUETIN Sylvain","P",0,1,69,100,"2016-11-26","5Q  R1 CD80 - T1 ","Qualifications",{"$f":"IF(H16<>\"\",IF(MONTH(H16)>MoisRef,YEAR(H16)&\"-\"&YEAR(H16)+1,YEAR(H16)-1&\"-\"&YEAR(H16)),\"\")","v":"2016-2017"},null,null,null,null,{"$f":"IF($K16=P$1,COUNTIF($C16,\"G\"),0)","v":0},null,{"$f":"IF($K16=R$1,COUNTIF($C16,\"G\"),0)","v":0}]
["DAMONNEVILLE Blandine","CUVILLIER François","P",0,1,62,100,"2016-11-26","5Q  R1 CD80 - T1 ","Qualifications","2016-2017",null,null,null,null,0,null,0]
["DAMONNEVILLE Blandine","HERSELIN Jean-Claude","P",0,1,47,100,"2016-11-26","5Q  R1 CD80 - T1 ","Qualifications","2016-2017",null,null,null,null,0,null,0]
["DAMONNEVILLE Blandine","VASSEUR Gaëtan","P",0,1,42,100,"2016-11-26","5Q  R1 CD80 - T1 ","Qualifications","2016-2017",null,null,null,null,0,null,0]
["DAMONNEVILLE Blandine","WARIN Yannick","P",0,1,42,100,"2017-02-25","5Q  R1 CD80 - T3 - MOREUIL","Qualifications","2016-2017",null,null,null,null,0,null,0]
["DAMONNEVILLE Blandine","MALET Eric","P",0,1,49,100,"2017-02-25","5Q  R1 CD80 - T3 - MOREUIL","Qualifications","2016-2017",null,null,null,null,0,null,0]
["DAMONNEVILLE Blandine","VASSEUR Gaëtan","P",0,1,34,100,"2017-02-25","5Q  R1 CD80 - T3 - MOREUIL","Qualifications","2016-2017",null,null,null,null,0,null,0]
["DAMONNEVILLE Blandine","HERSELIN Jean-claude","P",0,1,58,100,"2017-02-25","5Q  R1 CD80 - T3 - MOREUIL","Qualifications","2016-2017",null,null,null,null,0,null,0]
["DAMONNEVILLE Blandine","GUERIN Isabelle","G",2,0,120,55,"2017-03-18","5Q R1 - Finale Dames CD80 - MOREUIL","Poule unique","2016-2017",null,null,null,null,0,null,0]
["DAMONNEVILLE Blandine","MALET Eric","P",0,1,58,100,"2017-01-21","5Q  R1 CD80 - T2 - ABBEVILLE","Qualifications",{"$f":"IF(H25<>\"\",IF(MONTH(H25)>MoisRef,YEAR(H25)&\"-\"&YEAR(H25)+1,YEAR(H25)-1&\"-\"&YEAR(H25)),\"\")","v":"2016-2017"},null,null,null,null,0,null,0]
["DAMONNEVILLE Blandine","DUBOIS Jean-Bernard","P",0,1,74,100,"2017-01-21","5Q  R1 CD80 - T2 - ABBEVILLE","Qualifications",{"$f":"IF(H26<>\"\",IF(MONTH(H26)>MoisRef,YEAR(H26)&\"-\"&YEAR(H26)+1,YEAR(H26)-1&\"-\"&YEAR(H26)),\"\")","v":"2016-2017"},null,null,null,null,0,null,0]
["DAMONNEVILLE Blandine","VASSEUR Gaëtan","P",0,1,86,100,"2017-01-21","5Q  R1 CD80 - T2 - ABBEVILLE","Qualifications",{"$f":"IF(H27<>\"\",IF(MONTH(H27)>MoisRef,YEAR(H27)&\"-\"&YEAR(H27)+1,YEAR(H27)-1&\"-\"&YEAR(H27)),\"\")","v":"2016-2017"},null,null,null,null,0,null,0]
["DAMONNEVILLE Blandine","HERSELIN  Jean-Claude","P",0,1,72,100,"2017-01-21","5Q  R1 CD80 - T2 - ABBEVILLE","Qualifications",{"$f":"IF(H28<>\"\",IF(MONTH(H28)>MoisRef,YEAR(H28)&\"-\"&YEAR(H28)+1,YEAR(H28)-1&\"-\"&YEAR(H28)),\"\")","v":"2016-2017"},null,null,null,null,0,null,0]
["DAMONNEVILLE Blandine","DELRUE Céline","G",1,0,100,86,"2017-11-25","CONSOLANTE 5 QUILLES R1 CD80 - ABBEVILLE","Qualifications","2017-2018",null,null,null,null,0,null,0]
["DAMONNEVILLE Blandine","HENRY Tony","P",0,1,50,100,"2017-11-25","CONSOLANTE 5 QUILLES R1 CD80 - ABBEVILLE","Qualifications","2017-2018",null,null,null,null,0,null,0]
["DAMONNEVILLE Blandine","DUBOIS Jean-Bernard","P",0,2,80,120,"2017-11-25","T1 5 QUILLES R1 CD80 - ABBEVILLE","Qualifications","2017-2018",null,null,null,null,0,null,0]
["DAMONNEVILLE Blandine","DUHAMEL Eddy","P",0,2,67,120,"2017-11-25","T1 5 QUILLES R1 CD80 - ABBEVILLE","Qualifications","2017-2018",null,null,null,null,0,null,0]
["DAMONNEVILLE Blandine","DELRUE Céline","G",1,0,80,52,"2018-01-06","T2 5 QUILLES R1 CD80 - CONSOLANTE - ABBEVILLE","Qualifications","2017-2018",null,null,null,null,0,null,0]
["DAMONNEVILLE Blandine","DUHAMEL Marcellin","P",0,1,61,80,"2018-01-06","T2 5 QUILLES R1 CD80 - CONSOLANTE - ABBEVILLE","Qualifications","2017-2018",null,null,null,null,0,null,0]
["DAMONNEVILLE Blandine","DUMEIGE Similien","P",0,1,65,80,"2018-01-06","T2 5 QUILLES R1 CD80 - CONSOLANTE - ABBEVILLE","Qualifications","2017-2018",null,null,null,null,0,null,0]
["DAMONNEVILLE Blandine","DUMEIGE Similien","G",2,1,142,176,"2018-01-06","T2 5 QUILLES R1 CD80 - ABBEVILLE","Qualifications","2017-2018",null,null,null,null,0,null,0]
["DAMONNEVILLE Blandine","HENRY Tony","P",0,2,42,120,"2018-01-06","T2 5 QUILLES R1 CD80 - ABBEVILLE","Qualifications","2017-2018",null,null,null,null,0,null,0]
["DAMONNEVILLE Blandine","DIEU Jean-Charles","P",0,1,74,80,"2018-02-17","T3 5 QUILLES R1 CD80 - CONSOLANTE - MOREUIL","Qualifications","2017-2018",null,null,null,null,0,null,0]
["DAMONNEVILLE Blandine","DUBOIS Jean-Bernard","G",1,0,80,51,"2018-02-17","T3 5 QUILLES R1 CD80 - CONSOLANTE - MOREUIL","Qualifications","2017-2018",null,null,null,null,0,null,0]
["DAMONNEVILLE Blandine","GUERIN Isabelle","G",2,0,120,102,"2018-02-17","T3 5 QUILLES R1 CD80 - MOREUIL","Qualifications","2017-2018",null,null,null,null,0,null,0]
["DAMONNEVILLE Blandine","WARIN Yannick","P",1,2,84,169,"2018-02-17","T3 5 QUILLES R1 CD80 - MOREUIL","Qualifications","2017-2018",null,null,null,null,0,null,0]
["Fin des données",null,null,null,null,null,null,null,null,null,"",null,null,null,null,{"$f":"IF($K42=P$1,COUNTIF($C42,\"G\"),0)","v":0},null,{"$f":"IF($K42=R$1,COUNTIF($C42,\"G\"),0)","v":0}]

{"sheet":"DECHAMPS Enguerrand","index":48,"n_rows":22,"n_cols":22,"rows_kept":22,"cut":false,"hidden":false,"merged":[]}
["DECHAMPS Enguerrand",null,null,null,null,null,null,null,null,null,null,null,null,null,null,{"$f":"SaisonDeb","v":"2021-2022"},null,{"$f":"SaisonFin","v":"2022-2023"},null,"Toutes saisons"]
[{"$error":"#N/A"},null,null,null,null,null,null,null,null,null,null,null,null,null,null,"Nombre","%age","Nombre","%age","Nombre","%age"]
[{"$error":"#N/A"},null,null,null,null,null,null,null,null,null,null,null,null,"Matchs","Gagnés",{"$f":"SUM(P$15:P$118)","v":0},{"$f":"IF(P$3+P$4>0,P3/(P$3+P$4),\"\")","v":""},{"$f":"SUM(R$15:R$118)","v":0},{"$f":"IF(R$3+R$4>0,R3/(R$3+R$4),\"\")","v":""},{"$f":"COUNTIF($C$15:$C$118,\"G\")","v":1},{"$f":"IF(T$3+T$4>0,T3/(T$3+T$4),\"\")","v":0.16666666666666666}]
[{"$error":"#N/A"},null,null,null,null,null,null,null,null,null,null,null,null,null,"Perdus",{"$f":"COUNTIF($K$15:$M$118,SaisonDeb)-P3","v":0},{"$f":"IF(P$3+P$4>0,P4/(P$3+P$4),\"\")","v":""},{"$f":"COUNTIF($K$15:$K$118,SaisonFin)-R3","v":0},{"$f":"IF(R$3+R$4>0,R4/(R$3+R$4),\"\")","v":""},{"$f":"COUNTIF($C$15:$C$118,\"P\")","v":5},{"$f":"IF(T$3+T$4>0,T4/(T$3+T$4),\"\")","v":0.83333333333333337}]
[{"$error":"#N/A"},null,null,null,null,null,null,null,null,null,null,null,null,null,"Total / Moy.",{"$f":"SUM(P3:P4)","v":0},{"$f":"IF(SUMIF($K$15:$K$118,SaisonDeb,$G$15:$G$118)>0,SUMIF($K$15:$K$118,SaisonDeb,$F$15:$F$118)/SUMIF($K$15:$K$118,SaisonDeb,$G$15:$G$118),\"\")","v":""},{"$f":"SUM(R3:R4)","v":0},{"$f":"IF(SUMIF($K$15:$K$118,SaisonFin,$G$15:$G$118)>0,SUMIF($K$15:$K$118,SaisonFin,$F$15:$F$118)/SUMIF($K$15:$K$118,SaisonFin,$G$15:$G$118),\"\")","v":""},{"$f":"SUM(T3:T4)","v":6},{"$f":"IF(SUM($G$15:$G$118)>0,SUM($F$15:$F$118)/SUM($G$15:$G$118),\"\")","v":0.79519595448798985},{"$f":"IF(SUMIF($K$15:$K$22,SaisonDeb,$G$15:$G$22)+SUMIF($K$15:$K$22,SaisonFin,$G$15:$G$22)>0,(SUMIF($K$15:$K$22,SaisonDeb,$F$15:$F$22)+SUMIF($K$15:$K$22,SaisonFin,$F$15:$F$22))/(SUMIF($K$15:$K$22,SaisonDeb,$G$15:$G$22)+SUMIF($K$15:$K$22,SaisonFin,$G$15:$G$22)),\"\")","v":""}]
[null,null,null,null,null,null,null,null,null,null,null,null,null,"Sets","Gagnés",{"$f":"SUMIF($K$15:$K$118,SaisonDeb,$D$15:$D$118)","v":0},{"$f":"IF(P$6+P$7>0,P6/(P$6+P$7),\"\")","v":""},{"$f":"SUMIF($K$15:$K$118,SaisonFin,$D$15:$D$118)","v":0},{"$f":"IF(R$6+R$7>0,R6/(R$6+R$7),\"\")","v":""},{"$f":"SUM($D$15:$D$118)","v":4},{"$f":"IF(T$6+T$7>0,T6/(T$6+T$7),\"\")","v":0.2857142857142857}]
[null,null,null,null,null,null,null,null,null,null,null,null,null,null,"Perdus",{"$f":"SUMIF($K$15:$K$118,SaisonDeb,$E$15:$E$118)","v":0},{"$f":"IF(P$6+P$7>0,P7/(P$6+P$7),\"\")","v":""},{"$f":"SUMIF($K$15:$K$118,SaisonFin,$E$15:$E$118)","v":0},{"$f":"IF(R$6+R$7>0,R7/(R$6+R$7),\"\")","v":""},{"$f":"SUM($E$15:$E$118)","v":10},{"$f":"IF(T$6+T$7>0,T7/(T$6+T$7),\"\")","v":0.7142857142857143}]
["Récapitulatif joueurs",null,null,null,null,null,null,null,null,null,null,null,null,null,"Total",{"$f":"SUM(P6:P7)","v":0},null,{"$f":"SUM(R6:R7)","v":0},null,{"$f":"SUM(T6:T7)","v":14}]
[]
[]
[]
[]
[]
[]
["Joueur","Adversaire","G/P","Sets gagnés","Sets perdus","pts marqués","pts subis","Date","Compétition","Phase","Saison"]
["DECHAMPS Enguerrand","HECQ Anthony","P",0,2,89,120,"2017-11-18","qualification AISNE R1 - St Q uentin","Qualifications",{"$f":"IF(H16<>\"\",IF(MONTH(H16)>MoisRef,YEAR(H16)&\"-\"&YEAR(H16)+1,YEAR(H16)-1&\"-\"&YEAR(H16)),\"\")","v":"2017-2018"},null,null,null,null,{"$f":"IF($K16=P$1,COUNTIF($C16,\"G\"),0)","v":0},null,{"$f":"IF($K16=R$1,COUNTIF($C16,\"G\"),0)","v":0}]
["DECHAMPS Enguerrand","MIQUEE Florine","P",1,2,133,168,"2017-11-18","qualification AISNE R1 - St Q uentin","Qualifications","2017-2018",null,null,null,null,0,null,0]
["DECHAMPS Enguerrand","DURTETTE Daniel","G",2,0,120,97,"2018-01-27","Qualifications AISNE R1 - guignicourt","Qualifications","2017-2018",null,null,null,null,0,null,0]
["DECHAMPS Enguerrand","MIQUEE Florine","P",0,2,54,120,"2018-01-27","Qualifications AISNE R1 - guignicourt","Qualifications","2017-2018",null,null,null,null,0,null,0]
["DECHAMPS Enguerrand","BOLLINNE Simon","P",0,2,94,120,"2017-12-16","Qualifications AISNE R1 - SOISSONS","Qualifications","2017-2018",null,null,null,null,0,null,0]
["DECHAMPS Enguerrand","MIQUEE Florine","P",1,2,139,166,"2017-12-16","Qualifications AISNE R1 - SOISSONS","Qualifications","2017-2018",null,null,null,null,0,null,0]
["Fin des données",null,null,null,null,null,null,null,null,null,"",null,null,null,null,0,null,0]

{"sheet":"DELAFOSSE Gilles","index":49,"n_rows":25,"n_cols":22,"rows_kept":25,"cut":false,"hidden":false,"merged":[]}
["DELAFOSSE Gilles",null,null,null,null,null,null,null,null,null,null,null,null,null,null,{"$f":"SaisonDeb","v":"2021-2022"},null,{"$f":"SaisonFin","v":"2022-2023"},null,"Toutes saisons"]
[{"$error":"#N/A"},null,null,null,null,null,null,null,null,null,null,null,null,null,null,"Nombre","%age","Nombre","%age","Nombre","%age"]
[{"$error":"#N/A"},null,null,null,null,null,null,null,null,null,null,null,null,"Matchs","Gagnés",{"$f":"SUM(P$15:P$121)","v":1},{"$f":"IF(P$3+P$4>0,P3/(P$3+P$4),\"\")","v":0.5},{"$f":"SUM(R$15:R$121)","v":3},{"$f":"IF(R$3+R$4>0,R3/(R$3+R$4),\"\")","v":0.42857142857142855},{"$f":"COUNTIF($C$15:$C$121,\"G\")","v":4},{"$f":"IF(T$3+T$4>0,T3/(T$3+T$4),\"\")","v":0.44444444444444442}]
[{"$error":"#N/A"},null,null,null,null,null,null,null,null,null,null,null,null,null,"Perdus",{"$f":"COUNTIF($K$15:$M$121,SaisonDeb)-P3","v":1},{"$f":"IF(P$3+P$4>0,P4/(P$3+P$4),\"\")","v":0.5},{"$f":"COUNTIF($K$15:$K$121,SaisonFin)-R3","v":4},{"$f":"IF(R$3+R$4>0,R4/(R$3+R$4),\"\")","v":0.5714285714285714},{"$f":"COUNTIF($C$15:$C$121,\"P\")","v":5},{"$f":"IF(T$3+T$4>0,T4/(T$3+T$4),\"\")","v":0.55555555555555558}]
[{"$error":"#N/A"},null,null,null,null,null,null,null,null,null,null,null,null,null,"Total / Moy.",{"$f":"SUM(P3:P4)","v":2},{"$f":"IF(SUMIF($K$15:$K$121,SaisonDeb,$G$15:$G$121)>0,SUMIF($K$15:$K$121,SaisonDeb,$F$15:$F$121)/SUMIF($K$15:$K$121,SaisonDeb,$G$15:$G$121),\"\")","v":1.3131313131313131},{"$f":"SUM(R3:R4)","v":7},{"$f":"IF(SUMIF($K$15:$K$121,SaisonFin,$G$15:$G$121)>0,SUMIF($K$15:$K$121,SaisonFin,$F$15:$F$121)/SUMIF($K$15:$K$121,SaisonFin,$G$15:$G$121),\"\")","v":1.0026595744680851},{"$f":"SUM(T3:T4)","v":9},{"$f":"IF(SUM($G$15:$G$121)>0,SUM($F$15:$F$121)/SUM($G$15:$G$121),\"\")","v":1.0387779083431257},{"$f":"IF(SUMIF($K$15:$K$25,SaisonDeb,$G$15:$G$25)+SUMIF($K$15:$K$25,SaisonFin,$G$15:$G$25)>0,(SUMIF($K$15:$K$25,SaisonDeb,$F$15:$F$25)+SUMIF($K$15:$K$25,SaisonFin,$F$15:$F$25))/(SUMIF($K$15:$K$25,SaisonDeb,$G$15:$G$25)+SUMIF($K$15:$K$25,SaisonFin,$G$15:$G$25)),\"\")","v":1.0387779083431257}]
[null,null,null,null,null,null,null,null,null,null,null,null,null,"Sets","Gagnés",{"$f":"SUMIF($K$15:$K$121,SaisonDeb,$D$15:$D$121)","v":1},{"$f":"IF(P$6+P$7>0,P6/(P$6+P$7),\"\")","v":0.5},{"$f":"SUMIF($K$15:$K$121,SaisonFin,$D$15:$D$121)","v":5},{"$f":"IF(R$6+R$7>0,R6/(R$6+R$7),\"\")","v":0.41666666666666669},{"$f":"SUM($D$15:$D$121)","v":6},{"$f":"IF(T$6+T$7>0,T6/(T$6+T$7),\"\")","v":0.42857142857142855}]
[null,null,null,null,null,null,null,null,null,null,null,null,null,null,"Perdus",{"$f":"SUMIF($K$15:$K$121,SaisonDeb,$E$15:$E$121)","v":1},{"$f":"IF(P$6+P$7>0,P7/(P$6+P$7),\"\")","v":0.5},{"$f":"SUMIF($K$15:$K$121,SaisonFin,$E$15:$E$121)","v":7},{"$f":"IF(R$6+R$7>0,R7/(R$6+R$7),\"\")","v":0.58333333333333337},{"$f":"SUM($E$15:$E$121)","v":8},{"$f":"IF(T$6+T$7>0,T7/(T$6+T$7),\"\")","v":0.5714285714285714}]
["Récapitulatif joueurs",null,null,null,null,null,null,null,null,null,null,null,null,null,"Total",{"$f":"SUM(P6:P7)","v":2},null,{"$f":"SUM(R6:R7)","v":12},null,{"$f":"SUM(T6:T7)","v":14}]
[]
[]
[]
[]
[]
[]
["Joueur","Adversaire","G/P","Sets gagnés","Sets perdus","pts marqués","pts subis","Date","Compétition","Phase","Saison"]
["DELAFOSSE Gilles","GUERIN Astrid","P",0,1,50,80,"2021-10-16","T1 5Q R1 CD80 - MOREUIL","Qualifications",{"$f":"IF(H16<>\"\",IF(MONTH(H16)>MoisRef,YEAR(H16)&\"-\"&YEAR(H16)+1,YEAR(H16)-1&\"-\"&YEAR(H16)),\"\")","v":"2021-2022"},null,null,null,null,{"$f":"IF($K16=P$1,COUNTIF($C16,\"G\"),0)","v":0},null,{"$f":"IF($K16=R$1,COUNTIF($C16,\"G\"),0)","v":0}]
["DELAFOSSE Gilles","DUHAMEL Marcellin","G",1,0,80,19,"2021-10-16","T1 5Q R1 CD80 - MOREUIL","Qualifications","2021-2022",null,null,null,null,{"$f":"IF($K17=P$1,COUNTIF($C17,\"G\"),0)","v":1},null,{"$f":"IF($K17=R$1,COUNTIF($C17,\"G\"),0)","v":0}]
["DELAFOSSE Gilles","BETTEFORT Mickael","P",1,2,128,153,"2023-03-25","finale de somme  - friville","Qualifications","2022-2023",null,null,null,null,{"$f":"IF($K18=P$1,COUNTIF($C18,\"G\"),0)","v":0},null,{"$f":"IF($K18=R$1,COUNTIF($C18,\"G\"),0)","v":0}]
["DELAFOSSE Gilles","CABUZEL Denis","P",0,2,66,120,"2023-03-25","finale de somme  - friville","Qualifications","2022-2023",null,null,null,null,0,null,0]
["DELAFOSSE Gilles","CARON Didier","G",2,1,172,101,"2023-03-25","finale de somme  - friville","Qualifications","2022-2023",null,null,null,null,0,null,1]
["DELAFOSSE Gilles","CARON  Didier","G",1,0,100,92,"2022-10-01","T1 CD80 - R1 - abbeville","Qualifications","2022-2023",null,null,null,null,0,null,1]
["DELAFOSSE Gilles","CARON  Didier","P",0,1,96,100,"2022-10-01","T1 CD80 - R1 - abbeville","Qualifications","2022-2023",null,null,null,null,0,null,0]
["DELAFOSSE Gilles","BETTEFORT Mickael","G",1,0,100,86,"2023-01-12","T2 CD80 - R1 - pont de metz","Qualifications","2022-2023",null,null,null,null,0,null,1]
["DELAFOSSE Gilles","BETTEFORT Mickael","P",0,1,92,100,"2023-01-12","T2 CD80 - R1 - pont de metz","Qualifications","2022-2023",null,null,null,null,0,null,0]
["Fin des données",null,null,null,null,null,null,null,null,null,"",null,null,null,null,{"$f":"IF($K25=P$1,COUNTIF($C25,\"G\"),0)","v":0},null,{"$f":"IF($K25=R$1,COUNTIF($C25,\"G\"),0)","v":0}]

{"sheet":"DELFOSSE Fabien","index":50,"n_rows":31,"n_cols":22,"rows_kept":31,"cut":false,"hidden":false,"merged":[]}
["DELFOSSE Fabien",null,null,null,null,null,null,null,null,null,null,null,null,null,null,{"$f":"SaisonDeb","v":"2021-2022"},null,{"$f":"SaisonFin","v":"2022-2023"},null,"Toutes saisons"]
[{"$error":"#N/A"},null,null,null,null,null,null,null,null,null,null,null,null,null,null,"Nombre","%age","Nombre","%age","Nombre","%age"]
[{"$error":"#N/A"},null,null,null,null,null,null,null,null,null,null,null,null,"Matchs","Gagnés",{"$f":"SUM(P$15:P$127)","v":0},{"$f":"IF(P$3+P$4>0,P3/(P$3+P$4),\"\")","v":""},{"$f":"SUM(R$15:R$127)","v":0},{"$f":"IF(R$3+R$4>0,R3/(R$3+R$4),\"\")","v":""},{"$f":"COUNTIF($C$15:$C$127,\"G\")","v":13},{"$f":"IF(T$3+T$4>0,T3/(T$3+T$4),\"\")","v":0.8666666666666667}]
[{"$error":"#N/A"},null,null,null,null,null,null,null,null,null,null,null,null,null,"Perdus",{"$f":"COUNTIF($K$15:$M$127,SaisonDeb)-P3","v":0},{"$f":"IF(P$3+P$4>0,P4/(P$3+P$4),\"\")","v":""},{"$f":"COUNTIF($K$15:$K$127,SaisonFin)-R3","v":0},{"$f":"IF(R$3+R$4>0,R4/(R$3+R$4),\"\")","v":""},{"$f":"COUNTIF($C$15:$C$127,\"P\")","v":2},{"$f":"IF(T$3+T$4>0,T4/(T$3+T$4),\"\")","v":0.13333333333333333}]
[{"$error":"#N/A"},null,null,null,null,null,null,null,null,null,null,null,null,null,"Total / Moy.",{"$f":"SUM(P3:P4)","v":0},{"$f":"IF(SUMIF($K$15:$K$127,SaisonDeb,$G$15:$G$127)>0,SUMIF($K$15:$K$127,SaisonDeb,$F$15:$F$127)/SUMIF($K$15:$K$127,SaisonDeb,$G$15:$G$127),\"\")","v":""},{"$f":"SUM(R3:R4)","v":0},{"$f":"IF(SUMIF($K$15:$K$127,SaisonFin,$G$15:$G$127)>0,SUMIF($K$15:$K$127,SaisonFin,$F$15:$F$127)/SUMIF($K$15:$K$127,SaisonFin,$G$15:$G$127),\"\")","v":""},{"$f":"SUM(T3:T4)","v":15},{"$f":"IF(SUM($G$15:$G$127)>0,SUM($F$15:$F$127)/SUM($G$15:$G$127),\"\")","v":1.2019363762102351},{"$f":"IF(SUMIF($K$15:$K$31,SaisonDeb,$G$15:$G$31)+SUMIF($K$15:$K$31,SaisonFin,$G$15:$G$31)>0,(SUMIF($K$15:$K$31,SaisonDeb,$F$15:$F$31)+SUMIF($K$15:$K$31,SaisonFin,$F$15:$F$31))/(SUMIF($K$15:$K$31,SaisonDeb,$G$15:$G$31)+SUMIF($K$15:$K$31,SaisonFin,$G$15:$G$31)),\"\")","v":""}]
[null,null,null,null,null,null,null,null,null,null,null,null,null,"Sets","Gagnés",{"$f":"SUMIF($K$15:$K$127,SaisonDeb,$D$15:$D$127)","v":0},{"$f":"IF(P$6+P$7>0,P6/(P$6+P$7),\"\")","v":""},{"$f":"SUMIF($K$15:$K$127,SaisonFin,$D$15:$D$127)","v":0},{"$f":"IF(R$6+R$7>0,R6/(R$6+R$7),\"\")","v":""},{"$f":"SUM($D$15:$D$127)","v":34},{"$f":"IF(T$6+T$7>0,T6/(T$6+T$7),\"\")","v":0.72340425531914898}]
[null,null,null,null,null,null,null,null,null,null,null,null,null,null,"Perdus",{"$f":"SUMIF($K$15:$K$127,SaisonDeb,$E$15:$E$127)","v":0},{"$f":"IF(P$6+P$7>0,P7/(P$6+P$7),\"\")","v":""},{"$f":"SUMIF($K$15:$K$127,SaisonFin,$E$15:$E$127)","v":0},{"$f":"IF(R$6+R$7>0,R7/(R$6+R$7),\"\")","v":""},{"$f":"SUM($E$15:$E$127)","v":13},{"$f":"IF(T$6+T$7>0,T7/(T$6+T$7),\"\")","v":0.27659574468085107}]
["Récapitulatif joueurs",null,null,null,null,null,null,null,null,null,null,null,null,null,"Total",{"$f":"SUM(P6:P7)","v":0},null,{"$f":"SUM(R6:R7)","v":0},null,{"$f":"SUM(T6:T7)","v":47}]
[]
[]
[]
[]
[]
[]
["Joueur","Adversaire","G/P","Sets gagnés","Sets perdus","pts marqués","pts subis","Date","Compétition","Phase","Saison"]
["DELFOSSE Fabien","BOULINGUEZ Yves","G",2,0,120,70,"2018-11-10","T1 CD02 - R1 - SOISSONS","Qualifications",{"$f":"IF(H16<>\"\",IF(MONTH(H16)>MoisRef,YEAR(H16)&\"-\"&YEAR(H16)+1,YEAR(H16)-1&\"-\"&YEAR(H16)),\"\")","v":"2018-2019"},null,null,null,null,{"$f":"IF($K16=P$1,COUNTIF($C16,\"G\"),0)","v":0},null,{"$f":"IF($K16=R$1,COUNTIF($C16,\"G\"),0)","v":0}]
["DELFOSSE Fabien","BUTTI Bertrand","G",2,0,120,97,"2018-11-10","T1 CD02 - R1 - SOISSONS","Qualifications","2018-2019",null,null,null,null,0,null,0]
["DELFOSSE Fabien","COUSIN Francis","G",2,0,120,61,"2018-11-10","T1 CD02 - R1 - SOISSONS","Qualifications","2018-2019",null,null,null,null,0,null,0]
["DELFOSSE Fabien","BOULINGUEZ Yves","G",2,0,120,86,"2018-12-15","T2 CD02 - R1 - ST QUENTIN","Qualifications","2018-2019",null,null,null,null,0,null,0]
["DELFOSSE Fabien","BUTTI Bertrand","G",2,0,120,103,"2018-12-15","T2 CD02 - R1 - ST QUENTIN","Qualifications","2018-2019",null,null,null,null,0,null,0]
["DELFOSSE Fabien","COUSIN Francis","G",2,1,172,163,"2018-12-15","T2 CD02 - R1 - ST QUENTIN","Qualifications","2018-2019",null,null,null,null,0,null,0]
["DELFOSSE Fabien","BOULINGUEZ Yves","G",2,1,163,134,"2019-01-19","T3 CD02 - R1 - LA FERE","Qualifications","2018-2019",null,null,null,null,0,null,0]
["DELFOSSE Fabien","BUTTI Bertrand","G",2,1,159,158,"2019-01-19","T3 CD02 - R1 - LA FERE","Qualifications","2018-2019",null,null,null,null,0,null,0]
["DELFOSSE Fabien","COUSIN Francis","G",2,1,178,131,"2019-01-19","T3 CD02 - R1 - LA FERE","Qualifications","2018-2019",null,null,null,null,0,null,0]
["DELFOSSE Fabien","BUTTI Bertrand","G",3,1,218,163,"2019-02-24","Finale CD02 5Q R1 - ST QUENTIN","Poule unique","2018-2019",null,null,null,null,0,null,0]
["DELFOSSE Fabien","COUSIN Francis","G",3,0,180,54,"2019-02-24","Finale CD02 5Q R1 - ST QUENTIN","Poule unique","2018-2019",null,null,null,null,0,null,0]
["DELFOSSE Fabien","CHAIGNES Gilles","P",2,3,228,279,"2019-03-17","FINALE LIGUE R1 - WIMILLE","Poule unique","2018-2019",null,null,null,null,0,null,0]
["DELFOSSE Fabien","MONTADOR Ludovic","G",3,2,279,248,"2019-03-17","FINALE LIGUE R1 - WIMILLE","Poule unique","2018-2019",null,null,null,null,0,null,0]
["DELFOSSE Fabien","PAILLARD Bertrand","P",2,3,250,278,"2019-03-17","FINALE LIGUE R1 - WIMILLE","Poule unique","2018-2019",null,null,null,null,0,null,0]
["DELFOSSE Fabien","STEINMANN Sebastien","G",3,0,180,144,"2019-03-17","FINALE LIGUE R1 - WIMILLE","Poule unique","2018-2019",null,null,null,null,0,null,0]
["Fin des données",null,null,null,null,null,null,null,null,null,"",null,null,null,null,{"$f":"IF($K31=P$1,COUNTIF($C31,\"G\"),0)","v":0},null,{"$f":"IF($K31=R$1,COUNTIF($C31,\"G\"),0)","v":0}]

{"sheet":"DELRUE Céline","index":51,"n_rows":30,"n_cols":22,"rows_kept":30,"cut":false,"hidden":false,"merged":[]}
["DELRUE Céline",null,null,null,null,null,null,null,null,null,null,null,null,null,null,{"$f":"SaisonDeb","v":"2021-2022"},null,{"$f":"SaisonFin","v":"2022-2023"},null,"Toutes saisons"]
[{"$error":"#N/A"},null,null,null,null,null,null,null,null,null,null,null,null,null,null,"Nombre","%age","Nombre","%age","Nombre","%age"]
[{"$error":"#N/A"},null,null,null,null,null,null,null,null,null,null,null,null,"Matchs","Gagnés",{"$f":"SUM(P$15:P$126)","v":0},{"$f":"IF(P$3+P$4>0,P3/(P$3+P$4),\"\")","v":""},{"$f":"SUM(R$15:R$126)","v":0},{"$f":"IF(R$3+R$4>0,R3/(R$3+R$4),\"\")","v":""},{"$f":"COUNTIF($C$15:$C$126,\"G\")","v":1},{"$f":"IF(T$3+T$4>0,T3/(T$3+T$4),\"\")","v":7.1428571428571425E-2}]
[{"$error":"#N/A"},null,null,null,null,null,null,null,null,null,null,null,null,null,"Perdus",{"$f":"COUNTIF($K$15:$M$126,SaisonDeb)-P3","v":0},{"$f":"IF(P$3+P$4>0,P4/(P$3+P$4),\"\")","v":""},{"$f":"COUNTIF($K$15:$K$126,SaisonFin)-R3","v":0},{"$f":"IF(R$3+R$4>0,R4/(R$3+R$4),\"\")","v":""},{"$f":"COUNTIF($C$15:$C$126,\"P\")","v":13},{"$f":"IF(T$3+T$4>0,T4/(T$3+T$4),\"\")","v":0.9285714285714286}]
[{"$error":"#N/A"},null,null,null,null,null,null,null,null,null,null,null,null,null,"Total / Moy.",{"$f":"SUM(P3:P4)","v":0},{"$f":"IF(SUMIF($K$15:$K$126,SaisonDeb,$G$15:$G$126)>0,SUMIF($K$15:$K$126,SaisonDeb,$F$15:$F$126)/SUMIF($K$15:$K$126,SaisonDeb,$G$15:$G$126),\"\")","v":""},{"$f":"SUM(R3:R4)","v":0},{"$f":"IF(SUMIF($K$15:$K$126,SaisonFin,$G$15:$G$126)>0,SUMIF($K$15:$K$126,SaisonFin,$F$15:$F$126)/SUMIF($K$15:$K$126,SaisonFin,$G$15:$G$126),\"\")","v":""},{"$f":"SUM(T3:T4)","v":14},{"$f":"IF(SUM($G$15:$G$126)>0,SUM($F$15:$F$126)/SUM($G$15:$G$126),\"\")","v":0.70024271844660191},{"$f":"IF(SUMIF($K$15:$K$30,SaisonDeb,$G$15:$G$30)+SUMIF($K$15:$K$30,SaisonFin,$G$15:$G$30)>0,(SUMIF($K$15:$K$30,SaisonDeb,$F$15:$F$30)+SUMIF($K$15:$K$30,SaisonFin,$F$15:$F$30))/(SUMIF($K$15:$K$30,SaisonDeb,$G$15:$G$30)+SUMIF($K$15:$K$30,SaisonFin,$G$15:$G$30)),\"\")","v":""}]
[null,null,null,null,null,null,null,null,null,null,null,null,null,"Sets","Gagnés",{"$f":"SUMIF($K$15:$K$126,SaisonDeb,$D$15:$D$126)","v":0},{"$f":"IF(P$6+P$7>0,P6/(P$6+P$7),\"\")","v":""},{"$f":"SUMIF($K$15:$K$126,SaisonFin,$D$15:$D$126)","v":0},{"$f":"IF(R$6+R$7>0,R6/(R$6+R$7),\"\")","v":""},{"$f":"SUM($D$15:$D$126)","v":4},{"$f":"IF(T$6+T$7>0,T6/(T$6+T$7),\"\")","v":0.15384615384615385}]
[null,null,null,null,null,null,null,null,null,null,null,null,null,null,"Perdus",{"$f":"SUMIF($K$15:$K$126,SaisonDeb,$E$15:$E$126)","v":0},{"$f":"IF(P$6+P$7>0,P7/(P$6+P$7),\"\")","v":""},{"$f":"SUMIF($K$15:$K$126,SaisonFin,$E$15:$E$126)","v":0},{"$f":"IF(R$6+R$7>0,R7/(R$6+R$7),\"\")","v":""},{"$f":"SUM($E$15:$E$126)","v":22},{"$f":"IF(T$6+T$7>0,T7/(T$6+T$7),\"\")","v":0.84615384615384615}]
["Récapitulatif joueurs",null,null,null,null,null,null,null,null,null,null,null,null,null,"Total",{"$f":"SUM(P6:P7)","v":0},null,{"$f":"SUM(R6:R7)","v":0},null,{"$f":"SUM(T6:T7)","v":26}]
[]
[]
[]
[]
[]
[]
["Joueur","Adversaire","G/P","Sets gagnés","Sets perdus","pts marqués","pts subis","Date","Compétition","Phase","Saison"]
["DELRUE Céline","DAMONNEVILLE Blandine","P",0,1,86,100,"2017-11-25","CONSOLANTE 5 QUILLES R1 CD80 - ABBEVILLE","Qualifications",{"$f":"IF(H16<>\"\",IF(MONTH(H16)>MoisRef,YEAR(H16)&\"-\"&YEAR(H16)+1,YEAR(H16)-1&\"-\"&YEAR(H16)),\"\")","v":"2017-2018"},null,null,null,null,{"$f":"IF($K16=P$1,COUNTIF($C16,\"G\"),0)","v":0},null,{"$f":"IF($K16=R$1,COUNTIF($C16,\"G\"),0)","v":0}]
["DELRUE Céline","HENRY Tony","P",0,1,65,100,"2017-11-25","CONSOLANTE 5 QUILLES R1 CD80 - ABBEVILLE","Qualifications","2017-2018",null,null,null,null,0,null,0]
["DELRUE Céline","MALET Eric","P",0,2,43,120,"2017-11-25","T1 5 QUILLES R1 CD80 - ABBEVILLE","Qualifications","2017-2018",null,null,null,null,0,null,0]
["DELRUE Céline","RENAULT Marius","P",0,2,32,120,"2017-11-25","T1 5 QUILLES R1 CD80 - ABBEVILLE","Qualifications","2017-2018",null,null,null,null,0,null,0]
["DELRUE Céline","DAMONNEVILLE Blandine","P",0,1,52,80,"2018-01-06","T2 5 QUILLES R1 CD80 - CONSOLANTE - ABBEVILLE","Qualifications","2017-2018",null,null,null,null,0,null,0]
["DELRUE Céline","DUHAMEL Marcellin","P",0,1,72,80,"2018-01-06","T2 5 QUILLES R1 CD80 - CONSOLANTE - ABBEVILLE","Qualifications","2017-2018",null,null,null,null,0,null,0]
["DELRUE Céline","DUMEIGE Similien","P",0,1,65,80,"2018-01-06","T2 5 QUILLES R1 CD80 - CONSOLANTE - ABBEVILLE","Qualifications","2017-2018",null,null,null,null,0,null,0]
["DELRUE Céline","DUHAMEL Eddy","P",0,2,76,120,"2018-01-06","T2 5 QUILLES R1 CD80 - ABBEVILLE","Qualifications","2017-2018",null,null,null,null,0,null,0]
["DELRUE Céline","RENAULT Marius","P",1,2,126,168,"2018-01-06","T2 5 QUILLES R1 CD80 - ABBEVILLE","Qualifications","2017-2018",null,null,null,null,0,null,0]
["DELRUE Céline","DUHAMEL Eddy","P",0,2,92,120,"2018-11-24","T2 R1 CD80 - ","Qualifications","2018-2019",null,null,null,null,0,null,0]
["DELRUE Céline","DUMEIGE Stéphane","P",0,2,79,120,"2018-11-24","T2 R1 CD80 - ","1/8 Finale","2018-2019",null,null,null,null,0,null,0]
["DELRUE Céline","HERSELIN Jean-Claude","G",2,1,134,144,"2018-11-24","T2 R1 CD80 - ","Qualifications","2018-2019",null,null,null,null,0,null,0]
["DELRUE Céline","CABUZEL Denis","P",0,2,81,120,"2019-01-05","T3 R1 CD80 - MOREUIL","Qualifications","2018-2019",null,null,null,null,0,null,0]
["DELRUE Céline","RENAULT Marius","P",1,2,151,176,"2019-01-05","T3 R1 CD80 - MOREUIL","Qualifications","2018-2019",null,null,null,null,0,null,0]
["Fin des données",null,null,null,null,null,null,null,null,null,"",null,null,null,null,{"$f":"IF($K30=P$1,COUNTIF($C30,\"G\"),0)","v":0},null,{"$f":"IF($K30=R$1,COUNTIF($C30,\"G\"),0)","v":0}]

{"sheet":"DEPLECHIN Roland","index":52,"n_rows":66,"n_cols":22,"rows_kept":66,"cut":false,"hidden":false,"merged":[]}
["DEPLECHIN Roland",null,null,null,null,null,null,null,null,null,null,null,null,null,null,{"$f":"SaisonDeb","v":"2021-2022"},null,{"$f":"SaisonFin","v":"2022-2023"},null,"Toutes saisons"]
[{"$error":"#N/A"},null,null,null,null,null,null,null,null,null,null,null,null,null,null,"Nombre","%age","Nombre","%age","Nombre","%age"]
[{"$error":"#N/A"},null,null,null,null,null,null,null,null,null,null,null,null,"Matchs","Gagnés",{"$f":"SUM(P$15:P$162)","v":0},{"$f":"IF(P$3+P$4>0,P3/(P$3+P$4),\"\")","v":""},{"$f":"SUM(R$15:R$162)","v":0},{"$f":"IF(R$3+R$4>0,R3/(R$3+R$4),\"\")","v":""},{"$f":"COUNTIF($C$15:$C$162,\"G\")","v":26},{"$f":"IF(T$3+T$4>0,T3/(T$3+T$4),\"\")","v":0.52}]
[{"$error":"#N/A"},null,null,null,null,null,null,null,null,null,null,null,null,null,"Perdus",{"$f":"COUNTIF($K$15:$M$162,SaisonDeb)-P3","v":0},{"$f":"IF(P$3+P$4>0,P4/(P$3+P$4),\"\")","v":""},{"$f":"COUNTIF($K$15:$K$162,SaisonFin)-R3","v":0},{"$f":"IF(R$3+R$4>0,R4/(R$3+R$4),\"\")","v":""},{"$f":"COUNTIF($C$15:$C$162,\"P\")","v":24},{"$f":"IF(T$3+T$4>0,T4/(T$3+T$4),\"\")","v":0.48}]
[{"$error":"#N/A"},null,null,null,null,null,null,null,null,null,null,null,null,null,"Total / Moy.",{"$f":"SUM(P3:P4)","v":0},{"$f":"IF(SUMIF($K$15:$K$162,SaisonDeb,$G$15:$G$162)>0,SUMIF($K$15:$K$162,SaisonDeb,$F$15:$F$162)/SUMIF($K$15:$K$162,SaisonDeb,$G$15:$G$162),\"\")","v":""},{"$f":"SUM(R3:R4)","v":0},{"$f":"IF(SUMIF($K$15:$K$162,SaisonFin,$G$15:$G$162)>0,SUMIF($K$15:$K$162,SaisonFin,$F$15:$F$162)/SUMIF($K$15:$K$162,SaisonFin,$G$15:$G$162),\"\")","v":""},{"$f":"SUM(T3:T4)","v":50},{"$f":"IF(SUM($G$15:$G$162)>0,SUM($F$15:$F$162)/SUM($G$15:$G$162),\"\")","v":0.99535023248837562},{"$f":"IF(SUMIF($K$15:$K$66,SaisonDeb,$G$15:$G$66)+SUMIF($K$15:$K$66,SaisonFin,$G$15:$G$66)>0,(SUMIF($K$15:$K$66,SaisonDeb,$F$15:$F$66)+SUMIF($K$15:$K$66,SaisonFin,$F$15:$F$66))/(SUMIF($K$15:$K$66,SaisonDeb,$G$15:$G$66)+SUMIF($K$15:$K$66,SaisonFin,$G$15:$G$66)),\"\")","v":""}]
[null,null,null,null,null,null,null,null,null,null,null,null,null,"Sets","Gagnés",{"$f":"SUMIF($K$15:$K$162,SaisonDeb,$D$15:$D$162)","v":0},{"$f":"IF(P$6+P$7>0,P6/(P$6+P$7),\"\")","v":""},{"$f":"SUMIF($K$15:$K$162,SaisonFin,$D$15:$D$162)","v":0},{"$f":"IF(R$6+R$7>0,R6/(R$6+R$7),\"\")","v":""},{"$f":"SUM($D$15:$D$162)","v":67},{"$f":"IF(T$6+T$7>0,T6/(T$6+T$7),\"\")","v":0.46853146853146854}]
[null,null,null,null,null,null,null,null,null,null,null,null,null,null,"Perdus",{"$f":"SUMIF($K$15:$K$162,SaisonDeb,$E$15:$E$162)","v":0},{"$f":"IF(P$6+P$7>0,P7/(P$6+P$7),\"\")","v":""},{"$f":"SUMIF($K$15:$K$162,SaisonFin,$E$15:$E$162)","v":0},{"$f":"IF(R$6+R$7>0,R7/(R$6+R$7),\"\")","v":""},{"$f":"SUM($E$15:$E$162)","v":76},{"$f":"IF(T$6+T$7>0,T7/(T$6+T$7),\"\")","v":0.53146853146853146}]
["Récapitulatif joueurs",null,null,null,null,null,null,null,null,null,null,null,null,null,"Total",{"$f":"SUM(P6:P7)","v":0},null,{"$f":"SUM(R6:R7)","v":0},null,{"$f":"SUM(T6:T7)","v":143}]
[]
[]
[]
[]
[]
[]
["Joueur","Adversaire","G/P","Sets gagnés","Sets perdus","pts marqués","pts subis","Date","Compétition","Phase","Saison"]
["DEPLECHIN Roland","MEUROT Bernard","P",2,3,206,216,"2016-01-17","T1 Qualifications CD62 R1 Maritime - CUCQ","Qualifications",{"$f":"IF(H16<>\"\",IF(MONTH(H16)>MoisRef,YEAR(H16)&\"-\"&YEAR(H16)+1,YEAR(H16)-1&\"-\"&YEAR(H16)),\"\")","v":"2015-2016"},null,null,null,null,{"$f":"IF($K16=P$1,COUNTIF($C16,\"G\"),0)","v":0},null,{"$f":"IF($K16=R$1,COUNTIF($C16,\"G\"),0)","v":0}]
["DEPLECHIN Roland","TRIPLET Gilbert","P",0,3,108,150,"2016-01-17","T1 Qualifications CD62 R1 Maritime - CUCQ","Qualifications","2015-2016",null,null,null,null,0,null,0]
["DEPLECHIN Roland","MEUROT Bernard","P",2,3,206,216,"2016-01-17","T1 Qualifications CD62 R1 Maritime - CUCQ","Qualifications","2015-2016",null,null,null,null,0,null,0]
["DEPLECHIN Roland","TRIPLET Gilbert","P",0,3,108,150,"2016-01-17","T1 Qualifications CD62 R1 Maritime - CUCQ","Qualifications","2015-2016",null,null,null,null,0,null,0]
["DEPLECHIN Roland","MEUROT Bernard","P",0,3,83,150,"2016-03-13","T3 Qualifications CD62 R1 Maritime - Cucq","Qualifications","2015-2016",null,null,null,null,0,null,0]
["DEPLECHIN Roland","TRIPLET Gilbert","P",0,3,85,150,"2016-03-13","T3 Qualifications CD62 R1 Maritime - Cucq","Qualifications","2015-2016",null,null,null,null,0,null,0]
["DEPLECHIN Roland","BLONDEEL Bruno","P",0,3,116,150,"2016-12-11","T1 Qualification CD62 R1 Maritime - CUCQ","Qualifications","2016-2017",null,null,null,null,0,null,0]
["DEPLECHIN Roland","MONTADOR Christophe","P",0,3,85,150,"2016-12-11","T1 Qualification CD62 R1 Maritime - CUCQ","Qualifications","2016-2017",null,null,null,null,0,null,0]
["DEPLECHIN Roland","BLONDEEL Bruno","P",0,3,114,150,"2017-01-08","T2 Qualification CD62 R1 Maritime - Wimille","Qualifications","2016-2017",null,null,null,null,0,null,0]
["DEPLECHIN Roland","BOUBET Jean","P",0,3,116,150,"2017-01-08","T2 Qualification CD62 R1 Maritime - Wimille","1/2 Finale","2016-2017",null,null,null,null,0,null,0]
["DEPLECHIN Roland","RAMET Jacques","G",3,0,150,93,"2017-01-08","T2 Qualification CD62 R1 Maritime - Wimille","Qualifications","2016-2017",null,null,null,null,0,null,0]
["DEPLECHIN Roland","BOUBET Jean","P",1,3,129,193,"2017-02-11","T3 Qualification CD62 R1 Maritime - CUCQ","1/2 Finale","2016-2017",null,null,null,null,0,null,0]
["DEPLECHIN Roland","MERLIN Christian","G",3,1,169,133,"2017-02-11","T3 Qualification CD62 R1 Maritime - CUCQ","Qualifications","2016-2017",null,null,null,null,0,null,0]
["DEPLECHIN Roland","MONTADOR Christophe","G",3,0,150,112,"2017-02-11","T3 Qualification CD62 R1 Maritime - CUCQ","Qualifications","2016-2017",null,null,null,null,0,null,0]
["DEPLECHIN Roland","LEBECQ Jean-Pierre","P",2,3,189,204,"2017-02-11","Barrage CD62 R1 Maritime - Cucq","Poule unique","2016-2017",null,null,null,null,0,null,0]
["DEPLECHIN Roland","MARTEL Bruno","G",3,1,160,174,"2017-02-11","Barrage CD62 R1 Maritime - Cucq","Poule unique","2016-2017",null,null,null,null,0,null,0]
["DEPLECHIN Roland","MONTADOR Christophe","P",0,3,108,150,"2017-02-11","Barrage CD62 R1 Maritime - Cucq","Poule unique","2016-2017",null,null,null,null,0,null,0]
["DEPLECHIN Roland","CAPLIEZ Bernard","G",2,0,120,98,"2017-12-10","T1 Qualification CD62 R1 - CUCQ","1/2 Finale","2017-2018",null,null,null,null,0,null,0]
["DEPLECHIN Roland","MARTEL Bruno","P",0,2,81,120,"2017-12-10","T1 Qualification CD62 R1 - CUCQ","Finale","2017-2018",null,null,null,null,0,null,0]
["DEPLECHIN Roland","MARTEL Michel","G",2,0,120,51,"2017-12-10","T1 Qualification CD62 R1 - CUCQ","Qualifications","2017-2018",null,null,null,null,0,null,0]
["DEPLECHIN Roland","MARTEL Michel","G",2,0,120,56,"2017-12-10","T1 Qualification CD62 R1 - CUCQ","Qualifications","2017-2018",null,null,null,null,0,null,0]
["DEPLECHIN Roland","CAPLIEZ Bernard","G",2,0,120,98,"2018-01-06","T2 Qualification CD62 R1 - xxxx","1/2 Finale","2017-2018",null,null,null,null,0,null,0]
["DEPLECHIN Roland","MARTEL Bruno","P",0,2,81,120,"2018-01-06","T2 Qualification CD62 R1 - xxxx","Finale","2017-2018",null,null,null,null,0,null,0]
["DEPLECHIN Roland","MARTEL Michel","G",2,0,120,51,"2018-01-06","T2 Qualification CD62 R1 - xxxx","Qualifications","2017-2018",null,null,null,null,0,null,0]
["DEPLECHIN Roland","MARTEL Michel","G",2,0,120,56,"2018-01-06","T2 Qualification CD62 R1 - xxxx","Qualifications","2017-2018",null,null,null,null,0,null,0]
["DEPLECHIN Roland","CAPLIEZ Bernard","G",2,0,120,58,"2018-01-13","T2 Qualification CD62 R1 - WIMILLE","Finale","2017-2018",null,null,null,null,0,null,0]
["DEPLECHIN Roland","CARTIERE André","G",2,1,159,155,"2018-01-13","T2 Qualification CD62 R1 - WIMILLE","Qualifications","2017-2018",null,null,null,null,0,null,0]
["DEPLECHIN Roland","COFFRE Frédéric","G",2,0,120,70,"2018-01-13","T2 Qualification CD62 R1 - WIMILLE","1/2 Finale","2017-2018",null,null,null,null,0,null,0]
["DEPLECHIN Roland","TIZON Alain","G",2,1,172,145,"2018-01-13","T2 Qualification CD62 R1 - WIMILLE","Qualifications","2017-2018",null,null,null,null,0,null,0]
["DEPLECHIN Roland","FLAHAUT Ghislain","G",2,0,120,107,"2018-02-24","T3 Qualification CD62 R1 - WIMILLE","Qualifications","2017-2018",null,null,null,null,0,null,0]
["DEPLECHIN Roland","MARTEL Bruno","P",0,2,78,120,"2018-02-24","T3 Qualification CD62 R1 - WIMILLE","Finale","2017-2018",null,null,null,null,0,null,0]
["DEPLECHIN Roland","MONTADOR Christophe","G",2,0,120,103,"2018-02-24","T3 Qualification CD62 R1 - WIMILLE","Qualifications","2017-2018",null,null,null,null,0,null,0]
["DEPLECHIN Roland","MONTADOR Ludovic","G",2,1,167,146,"2018-02-24","T3 Qualification CD62 R1 - WIMILLE","1/2 Finale","2017-2018",null,null,null,null,0,null,0]
["DEPLECHIN Roland","FLAHAUT Ghislain","G",2,1,172,147,"2018-03-18","T4 Qualification CD62 R1 - CUCQ","Qualifications","2017-2018",null,null,null,null,0,null,0]
["DEPLECHIN Roland","MARTEL Bruno","P",0,2,103,120,"2018-03-18","T4 Qualification CD62 R1 - CUCQ","Finale","2017-2018",null,null,null,null,0,null,0]
["DEPLECHIN Roland","MARTEL Michel","G",2,1,174,111,"2018-03-18","T4 Qualification CD62 R1 - CUCQ","Qualifications","2017-2018",null,null,null,null,0,null,0]
["DEPLECHIN Roland","TIZON Alain","G",2,1,177,139,"2018-03-18","T4 Qualification CD62 R1 - CUCQ","1/2 Finale","2017-2018",null,null,null,null,0,null,0]
["DEPLECHIN Roland","MONTADOR Ludovic","P",1,2,111,177,"2019-01-13","T3 Qualification CD62 R1 - WIMILLE","Qualifications","2018-2019",null,null,null,null,0,null,0]
["DEPLECHIN Roland","TIZON Alain","G",2,0,120,104,"2019-01-13","T3 Qualification CD62 R1 - WIMILLE","Qualifications","2018-2019",null,null,null,null,0,null,0]
["DEPLECHIN Roland","MONTADOR Christophe","G",2,1,168,134,"2018-12-01","T2 Qualification CD62 R1 - WIMILLE","Qualifications","2018-2019",null,null,null,null,0,null,0]
["DEPLECHIN Roland","MONTADOR Christophe","P",0,2,72,120,"2018-12-01","T2 Qualification CD62 R1 - WIMILLE","Qualifications","2018-2019",null,null,null,null,0,null,0]
["DEPLECHIN Roland","MONTADOR Christophe","G",2,1,153,154,"2018-11-03","T1 Qualification CD62 R1 - CUCQ","Qualifications","2018-2019",null,null,null,null,0,null,0]
["DEPLECHIN Roland","MONTADOR Ludovic","P",0,2,43,120,"2018-11-03","T1 Qualification CD62 R1 - CUCQ","1/2 Finale","2018-2019",null,null,null,null,0,null,0]
["DEPLECHIN Roland","RAMET Jacques","G",2,0,120,41,"2018-11-03","T1 Qualification CD62 R1 - CUCQ","Qualifications","2018-2019",null,null,null,null,0,null,0]
["DEPLECHIN Roland","MARTEL Bruno","P",0,3,139,180,"2019-02-24","Finale CD62 R1 - Wimille","Poule unique","2018-2019",null,null,null,null,0,null,0]
["DEPLECHIN Roland","MONTADOR Christophe","G",3,2,281,222,"2019-02-24","Finale CD62 R1 - Wimille","Poule unique","2018-2019",null,null,null,null,0,null,0]
["DEPLECHIN Roland","MONTADOR Ludovic","P",0,3,128,180,"2019-02-24","Finale CD62 R1 - Wimille","Poule unique","2018-2019",null,null,null,null,0,null,0]
["DEPLECHIN Roland","MARTEL Bruno","G",2,1,177,141,"2019-01-27","T4 Qualification CD62 R1 - CUCQ","Qualifications","2018-2019",null,null,null,null,0,null,0]
["DEPLECHIN Roland","MARTEL Bruno","P",1,2,150,168,"2019-01-27","T4 Qualification CD62 R1 - CUCQ","Qualifications","2018-2019",null,null,null,null,0,null,0]
["DEPLECHIN Roland","MONTADOR Christophe","P",1,2,128,164,"2019-01-27","T4 Qualification CD62 R1 - CUCQ","1/2 Finale","2018-2019",null,null,null,null,0,null,0]
["Fin des données",null,null,null,null,null,null,null,null,null,"",null,null,null,null,{"$f":"IF($K66=P$1,COUNTIF($C66,\"G\"),0)","v":0},null,{"$f":"IF($K66=R$1,COUNTIF($C66,\"G\"),0)","v":0}]

{"sheet":"DEREUDDRE Dominique","index":53,"n_rows":73,"n_cols":22,"rows_kept":73,"cut":false,"hidden":false,"merged":[]}
["DEREUDDRE Dominique",null,null,null,null,null,null,null,null,null,null,null,null,null,null,{"$f":"SaisonDeb","v":"2021-2022"},null,{"$f":"SaisonFin","v":"2022-2023"},null,"Toutes saisons"]
[{"$error":"#N/A"},null,null,null,null,null,null,null,null,null,null,null,null,null,null,"Nombre","%age","Nombre","%age","Nombre","%age"]
[{"$error":"#N/A"},null,null,null,null,null,null,null,null,null,null,null,null,"Matchs","Gagnés",{"$f":"SUM(P$15:P$169)","v":0},{"$f":"IF(P$3+P$4>0,P3/(P$3+P$4),\"\")","v":""},{"$f":"SUM(R$15:R$169)","v":0},{"$f":"IF(R$3+R$4>0,R3/(R$3+R$4),\"\")","v":""},{"$f":"COUNTIF($C$15:$C$169,\"G\")","v":25},{"$f":"IF(T$3+T$4>0,T3/(T$3+T$4),\"\")","v":0.43859649122807015}]
[{"$error":"#N/A"},null,null,null,null,null,null,null,null,null,null,null,null,null,"Perdus",{"$f":"COUNTIF($K$15:$M$169,SaisonDeb)-P3","v":0},{"$f":"IF(P$3+P$4>0,P4/(P$3+P$4),\"\")","v":""},{"$f":"COUNTIF($K$15:$K$169,SaisonFin)-R3","v":0},{"$f":"IF(R$3+R$4>0,R4/(R$3+R$4),\"\")","v":""},{"$f":"COUNTIF($C$15:$C$169,\"P\")","v":32},{"$f":"IF(T$3+T$4>0,T4/(T$3+T$4),\"\")","v":0.56140350877192979}]
[{"$error":"#N/A"},null,null,null,null,null,null,null,null,null,null,null,null,null,"Total / Moy.",{"$f":"SUM(P3:P4)","v":0},{"$f":"IF(SUMIF($K$15:$K$169,SaisonDeb,$G$15:$G$169)>0,SUMIF($K$15:$K$169,SaisonDeb,$F$15:$F$169)/SUMIF($K$15:$K$169,SaisonDeb,$G$15:$G$169),\"\")","v":""},{"$f":"SUM(R3:R4)","v":0},{"$f":"IF(SUMIF($K$15:$K$169,SaisonFin,$G$15:$G$169)>0,SUMIF($K$15:$K$169,SaisonFin,$F$15:$F$169)/SUMIF($K$15:$K$169,SaisonFin,$G$15:$G$169),\"\")","v":""},{"$f":"SUM(T3:T4)","v":57},{"$f":"IF(SUM($G$15:$G$169)>0,SUM($F$15:$F$169)/SUM($G$15:$G$169),\"\")","v":0.96117590669436015},{"$f":"IF(SUMIF($K$15:$K$73,SaisonDeb,$G$15:$G$73)+SUMIF($K$15:$K$73,SaisonFin,$G$15:$G$73)>0,(SUMIF($K$15:$K$73,SaisonDeb,$F$15:$F$73)+SUMIF($K$15:$K$73,SaisonFin,$F$15:$F$73))/(SUMIF($K$15:$K$73,SaisonDeb,$G$15:$G$73)+SUMIF($K$15:$K$73,SaisonFin,$G$15:$G$73)),\"\")","v":""}]
[null,null,null,null,null,null,null,null,null,null,null,null,null,"Sets","Gagnés",{"$f":"SUMIF($K$15:$K$169,SaisonDeb,$D$15:$D$169)","v":0},{"$f":"IF(P$6+P$7>0,P6/(P$6+P$7),\"\")","v":""},{"$f":"SUMIF($K$15:$K$169,SaisonFin,$D$15:$D$169)","v":0},{"$f":"IF(R$6+R$7>0,R6/(R$6+R$7),\"\")","v":""},{"$f":"SUM($D$15:$D$169)","v":47},{"$f":"IF(T$6+T$7>0,T6/(T$6+T$7),\"\")","v":0.43119266055045874}]
[null,null,null,null,null,null,null,null,null,null,null,null,null,null,"Perdus",{"$f":"SUMIF($K$15:$K$169,SaisonDeb,$E$15:$E$169)","v":0},{"$f":"IF(P$6+P$7>0,P7/(P$6+P$7),\"\")","v":""},{"$f":"SUMIF($K$15:$K$169,SaisonFin,$E$15:$E$169)","v":0},{"$f":"IF(R$6+R$7>0,R7/(R$6+R$7),\"\")","v":""},{"$f":"SUM($E$15:$E$169)","v":62},{"$f":"IF(T$6+T$7>0,T7/(T$6+T$7),\"\")","v":0.56880733944954132}]
["Récapitulatif joueurs",null,null,null,null,null,null,null,null,null,null,null,null,null,"Total",{"$f":"SUM(P6:P7)","v":0},null,{"$f":"SUM(R6:R7)","v":0},null,{"$f":"SUM(T6:T7)","v":109}]
[]
[]
[]
[]
[]
[]
["Joueur","Adversaire","G/P","Sets gagnés","Sets perdus","pts marqués","pts subis","Date","Compétition","Phase","Saison"]
["DEREUDDRE Dominique","BEGHIN Benjamin","P",0,1,51,100,"2017-09-30","T1 Qualifications R1 CD59 - GRAVELINES","Qualifications",{"$f":"IF(H16<>\"\",IF(MONTH(H16)>MoisRef,YEAR(H16)&\"-\"&YEAR(H16)+1,YEAR(H16)-1&\"-\"&YEAR(H16)),\"\")","v":"2017-2018"},null,null,null,null,{"$f":"IF($K16=P$1,COUNTIF($C16,\"G\"),0)","v":0},null,{"$f":"IF($K16=R$1,COUNTIF($C16,\"G\"),0)","v":0}]
["DEREUDDRE Dominique","NOYER Pascal","P",0,1,60,100,"2017-09-30","T1 Qualifications R1 CD59 - GRAVELINES","Qualifications","2017-2018",null,null,null,null,0,null,0]
["DEREUDDRE Dominique","VEREECQUE Bernard","P",0,1,61,100,"2017-09-30","T1 Qualifications R1 CD59 - GRAVELINES","Qualifications","2017-2018",null,null,null,null,0,null,0]
["DEREUDDRE Dominique","WASYLYSZYN Jean-Pierre","P",0,1,90,100,"2017-09-30","T1 Qualifications R1 CD59 - GRAVELINES","Qualifications","2017-2018",null,null,null,null,0,null,0]
["DEREUDDRE Dominique","BEGHIN Nicolas","P",0,2,85,120,"2017-09-30","T1 Qualifications R1 CD59 - GRAVELINES","Qualifications","2017-2018",null,null,null,null,0,null,0]
["DEREUDDRE Dominique","SZWARC Patrick","P",0,2,32,120,"2017-09-30","T1 Qualifications R1 CD59 - GRAVELINES","Qualifications","2017-2018",null,null,null,null,0,null,0]
["DEREUDDRE Dominique","DUTAILLY Michel","P",0,2,58,120,"2018-01-20","T2 Qualifications R1 CD59 - ST POL SUR MER","Qualifications","2017-2018",null,null,null,null,0,null,0]
["DEREUDDRE Dominique","LECROART Serge","P",1,2,133,167,"2018-01-20","T2 Qualifications R1 CD59 - ST POL SUR MER","Qualifications","2017-2018",null,null,null,null,0,null,0]
["DEREUDDRE Dominique","DUTAILLY Michel","G",1,0,100,66,"2018-03-10","T4 Qualifications R1 CD59 - CONSOLANTE - VILLENEUVE D'ASCQ","Qualifications","2017-2018",null,null,null,null,0,null,0]
["DEREUDDRE Dominique","NOYER Pascal","P",0,1,85,100,"2018-03-10","T4 Qualifications R1 CD59 - CONSOLANTE - VILLENEUVE D'ASCQ","Qualifications","2017-2018",null,null,null,null,0,null,0]
["DEREUDDRE Dominique","PARISIS Francis","G",1,0,100,57,"2018-03-10","T4 Qualifications R1 CD59 - CONSOLANTE - VILLENEUVE D'ASCQ","Qualifications","2017-2018",null,null,null,null,0,null,0]
["DEREUDDRE Dominique","VEREECQUE Bernard","G",1,0,100,78,"2018-03-10","T4 Qualifications R1 CD59 - CONSOLANTE - VILLENEUVE D'ASCQ","Qualifications","2017-2018",null,null,null,null,0,null,0]
["DEREUDDRE Dominique","VEREECQUE Bernard","P",0,0,0,0,"2018-03-10","T4 Qualifications R1 CD59 - CONSOLANTE - VILLENEUVE D'ASCQ","1/2 Finale","2017-2018",null,null,null,null,0,null,0]
["DEREUDDRE Dominique","BEGHIN Nicolas","P",0,2,65,120,"2018-03-10","T4 Qualifications R1 CD59 - VILLENEUVE D'ASCQ","Qualifications","2017-2018",null,null,null,null,0,null,0]
["DEREUDDRE Dominique","LECROART Serge","P",0,2,81,120,"2018-03-10","T4 Qualifications R1 CD59 - VILLENEUVE D'ASCQ","Qualifications","2017-2018",null,null,null,null,0,null,0]
["DEREUDDRE Dominique","NOYER Pascal","P",1,2,168,142,"2018-10-20","T1 5Q R2 CD59 - ST POL SUR MER","Qualifications","2018-2019",null,null,null,null,0,null,0]
["DEREUDDRE Dominique","SZWARC Johann","G",2,0,120,47,"2018-10-20","T1 5Q R2 CD59 - ST POL SUR MER","Qualifications","2018-2019",null,null,null,null,0,null,0]
["DEREUDDRE Dominique","BEGUIN Jean-Luc","G",1,0,100,83,"2018-10-20","T1 5Q R2 CD59 - CONSOLANTE - ST POL SUR MER","Qualifications","2018-2019",null,null,null,null,0,null,0]
["DEREUDDRE Dominique","SZWARC Johann","G",1,0,100,68,"2018-10-20","T1 5Q R2 CD59 - CONSOLANTE - ST POL SUR MER","Qualifications","2018-2019",null,null,null,null,0,null,0]
["DEREUDDRE Dominique","DUTAILLY Michel","G",2,1,173,160,"2018-11-24","T2 5Q R2 CD59 - GRAVELINES","1/2 Finale","2018-2019",null,null,null,null,0,null,0]
["DEREUDDRE Dominique","NOYER Pascal","P",1,2,152,149,"2018-11-24","T2 5Q R2 CD59 - GRAVELINES","Finale","2018-2019",null,null,null,null,0,null,0]
["DEREUDDRE Dominique","SZWARC Johann","G",2,0,120,69,"2018-11-24","T2 5Q R2 CD59 - GRAVELINES","Qualifications","2018-2019",null,null,null,null,0,null,0]
["DEREUDDRE Dominique","VEREECQUE Bernard","G",2,1,160,138,"2018-11-24","T2 5Q R2 CD59 - GRAVELINES","Qualifications","2018-2019",null,null,null,null,0,null,0]
["DEREUDDRE Dominique","BEGUIN Jean-Luc","G",2,1,152,149,"2019-01-19","T4 5Q R2 CD59 - ST POL SUR MER","Qualifications","2018-2019",null,null,null,null,0,null,0]
["DEREUDDRE Dominique","DUTAILLY Michel","G",2,0,120,61,"2019-01-19","T4 5Q R2 CD59 - ST POL SUR MER","Qualifications","2018-2019",null,null,null,null,0,null,0]
["DEREUDDRE Dominique","VEREECQUE Bernard","G",2,0,120,54,"2019-01-19","T4 5Q R2 CD59 - ST POL SUR MER","Qualifications","2018-2019",null,null,null,null,0,null,0]
["DEREUDDRE Dominique","BEGUIN Jean-Luc","P",1,2,107,161,"2019-03-02","Finale CD59 R2 - GRAVELINES","Qualifications","2018-2019",null,null,null,null,0,null,0]
["DEREUDDRE Dominique","NOYER Pascal","G",2,1,159,160,"2019-03-02","Finale CD59 R2 - GRAVELINES","1/2 Finale","2018-2019",null,null,null,null,0,null,0]
["DEREUDDRE Dominique","SZWARC Johann","G",2,0,120,58,"2019-03-02","Finale CD59 R2 - GRAVELINES","Qualifications","2018-2019",null,null,null,null,0,null,0]
["DEREUDDRE Dominique","SZWARC Patrick","P",0,2,91,120,"2019-03-02","Finale CD59 R2 - GRAVELINES","Finale","2018-2019",null,null,null,null,0,null,0]
["DEREUDDRE Dominique","DUTAILLY Michel","G",1,0,100,85,"2018-12-16","T3 5Q R1 CD59  - DUNKERQUE - CONSOLANTE","Qualifications","2018-2019",null,null,null,null,0,null,0]
["DEREUDDRE Dominique","ESTERMANS Bernard","P",0,1,83,100,"2018-12-16","T3 5Q R1 CD59  - DUNKERQUE - CONSOLANTE","Qualifications","2018-2019",null,null,null,null,0,null,0]
["DEREUDDRE Dominique","KERKHOF Hervé","P",0,1,61,100,"2018-12-16","T3 5Q R1 CD59  - DUNKERQUE - CONSOLANTE","Qualifications","2018-2019",null,null,null,null,0,null,0]
["DEREUDDRE Dominique","LORTHIOIR Jean-Luc","P",0,1,51,100,"2018-12-16","T3 5Q R1 CD59  - DUNKERQUE - CONSOLANTE","Qualifications","2018-2019",null,null,null,null,0,null,0]
["DEREUDDRE Dominique","LECROART Serge","P",0,2,78,120,"2018-12-16","T3 5Q R1 CD59  - DUNKERQUE","Qualifications","2018-2019",null,null,null,null,0,null,0]
["DEREUDDRE Dominique","MONFLIER Francis","P",1,2,117,177,"2018-12-16","T3 5Q R1 CD59  - DUNKERQUE","Qualifications","2018-2019",null,null,null,null,0,null,0]
["DEREUDDRE Dominique","CAUX Frédéric","G",2,1,174,142,"2019-10-26","T1 5Q R1 CD59 - VILLENEUVE D'ASCQ","1/4 Finale","2019-2020",null,null,null,null,0,null,0]
["DEREUDDRE Dominique","HOCHART James","P",1,2,155,172,"2019-10-26","T1 5Q R1 CD59 - VILLENEUVE D'ASCQ","Qualifications","2019-2020",null,null,null,null,0,null,0]
["DEREUDDRE Dominique","HOCHART James","P",0,2,90,120,"2019-10-26","T1 5Q R1 CD59 - VILLENEUVE D'ASCQ","Qualifications","2019-2020",null,null,null,null,0,null,0]
["DEREUDDRE Dominique","HORNAIN Denis","P",0,2,49,120,"2019-10-26","T1 5Q R1 CD59 - VILLENEUVE D'ASCQ","Finale","2019-2020",null,null,null,null,0,null,0]
["DEREUDDRE Dominique","VEREECQUE Bernard","G",2,1,179,109,"2019-10-26","T1 5Q R1 CD59 - VILLENEUVE D'ASCQ","1/2 Finale","2019-2020",null,null,null,null,0,null,0]
["DEREUDDRE Dominique","NOYER Pascal","G",1,0,100,77,"2019-11-24","T2 5Q R1 CD59  - GRAVELINES - CONSOLANTE","Qualifications","2019-2020",null,null,null,null,0,null,0]
["DEREUDDRE Dominique","NOYER Pascal","P",0,1,85,100,"2019-11-24","T2 5Q R1 CD59  - GRAVELINES - CONSOLANTE","1/2 Finale","2019-2020",null,null,null,null,0,null,0]
["DEREUDDRE Dominique","SZWARC Johann","G",1,0,100,25,"2019-11-24","T2 5Q R1 CD59  - GRAVELINES - CONSOLANTE","Qualifications","2019-2020",null,null,null,null,0,null,0]
["DEREUDDRE Dominique","VEREECQUE Esteban","G",1,0,100,36,"2019-11-24","T2 5Q R1 CD59  - GRAVELINES - CONSOLANTE","Qualifications","2019-2020",null,null,null,null,0,null,0]
["DEREUDDRE Dominique","WASYLYSZYN Jean-Pierre","G",1,0,100,70,"2019-11-24","T2 5Q R1 CD59  - GRAVELINES - CONSOLANTE","Qualifications","2019-2020",null,null,null,null,0,null,0]
["DEREUDDRE Dominique","MANTEN Paul","G",2,1,153,118,"2019-11-24","T2 5Q R1 CD59 - GRAVELINES ","Qualifications","2019-2020",null,null,null,null,0,null,0]
["DEREUDDRE Dominique","MONFLIER Francis","P",0,2,78,120,"2019-11-24","T2 5Q R1 CD59 - GRAVELINES ","Qualifications","2019-2020",null,null,null,null,0,null,0]
["DEREUDDRE Dominique","DEVOS Jackie","P",1,2,133,174,"2020-01-04","T3 5Q R1 CD59 - GRAVELINES - Convocation 8h30 -","Qualifications","2019-2020",null,null,null,null,0,null,0]
["DEREUDDRE Dominique","KERKHOF Hervé","G",2,1,153,136,"2020-01-04","T3 5Q R1 CD59 - GRAVELINES - Convocation 8h30 -","Qualifications","2019-2020",null,null,null,null,0,null,0]
["DEREUDDRE Dominique","LECROART Serge","G",1,0,100,98,"2020-02-22","T4 5Q R1 CD59 - ANNOEULLIN - CONSOLANTE","1/2 Finale","2019-2020",null,null,null,null,0,null,0]
["DEREUDDRE Dominique","SZWARC Johann","G",1,0,100,98,"2020-02-22","T4 5Q R1 CD59 - ANNOEULLIN - CONSOLANTE","Qualifications","2019-2020",null,null,null,null,0,null,0]
["DEREUDDRE Dominique","SZWARC Patrick","P",0,1,87,100,"2020-02-22","T4 5Q R1 CD59 - ANNOEULLIN - CONSOLANTE","Qualifications","2019-2020",null,null,null,null,0,null,0]
["DEREUDDRE Dominique","VEREECQUE Bernard","P",1,2,170,148,"2020-02-22","T4 5Q R1 CD59 - ANNOEULLIN","Qualifications","2019-2020",null,null,null,null,0,null,0]
["DEREUDDRE Dominique","VEREECQUE Bernard","P",0,2,59,120,"2020-02-22","T4 5Q R1 CD59 - ANNOEULLIN","Qualifications","2019-2020",null,null,null,null,0,null,0]
["DEREUDDRE Dominique","DEVOS Jackie","P",1,3,170,227,"2020-03-08","Finale 5Q R1 CD59 - GRANDE SYNTHE","Qualifications","2019-2020",null,null,null,null,0,null,0]
["DEREUDDRE Dominique","LORTHIOIR Jean-Luc","P",0,3,128,180,"2020-03-08","Finale 5Q R1 CD59 - GRANDE SYNTHE","Qualifications","2019-2020",null,null,null,null,0,null,0]
["Fin des données",null,null,null,null,null,null,null,null,null,"",null,null,null,null,{"$f":"IF($K73=P$1,COUNTIF($C73,\"G\"),0)","v":0},null,{"$f":"IF($K73=R$1,COUNTIF($C73,\"G\"),0)","v":0}]

{"sheet":"DESCLAIR Guy","index":54,"n_rows":78,"n_cols":22,"rows_kept":78,"cut":false,"hidden":false,"merged":[]}
["DESCLAIR Guy",null,null,null,null,null,null,null,null,null,null,null,null,null,null,{"$f":"SaisonDeb","v":"2021-2022"},null,{"$f":"SaisonFin","v":"2022-2023"},null,"Toutes saisons"]
[{"$error":"#N/A"},null,null,null,null,null,null,null,null,null,null,null,null,null,null,"Nombre","%age","Nombre","%age","Nombre","%age"]
[{"$error":"#N/A"},null,null,null,null,null,null,null,null,null,null,null,null,"Matchs","Gagnés",{"$f":"SUM(P$15:P$174)","v":5},{"$f":"IF(P$3+P$4>0,P3/(P$3+P$4),\"\")","v":0.41666666666666669},{"$f":"SUM(R$15:R$174)","v":9},{"$f":"IF(R$3+R$4>0,R3/(R$3+R$4),\"\")","v":0.6428571428571429},{"$f":"COUNTIF($C$15:$C$174,\"G\")","v":34},{"$f":"IF(T$3+T$4>0,T3/(T$3+T$4),\"\")","v":0.54838709677419351}]
[{"$error":"#N/A"},null,null,null,null,null,null,null,null,null,null,null,null,null,"Perdus",{"$f":"COUNTIF($K$15:$M$174,SaisonDeb)-P3","v":7},{"$f":"IF(P$3+P$4>0,P4/(P$3+P$4),\"\")","v":0.58333333333333337},{"$f":"COUNTIF($K$15:$K$174,SaisonFin)-R3","v":5},{"$f":"IF(R$3+R$4>0,R4/(R$3+R$4),\"\")","v":0.35714285714285715},{"$f":"COUNTIF($C$15:$C$174,\"P\")","v":28},{"$f":"IF(T$3+T$4>0,T4/(T$3+T$4),\"\")","v":0.45161290322580644}]
[{"$error":"#N/A"},null,null,null,null,null,null,null,null,null,null,null,null,null,"Total / Moy.",{"$f":"SUM(P3:P4)","v":12},{"$f":"IF(SUMIF($K$15:$K$174,SaisonDeb,$G$15:$G$174)>0,SUMIF($K$15:$K$174,SaisonDeb,$F$15:$F$174)/SUMIF($K$15:$K$174,SaisonDeb,$G$15:$G$174),\"\")","v":1.0501274426508072},{"$f":"SUM(R3:R4)","v":14},{"$f":"IF(SUMIF($K$15:$K$174,SaisonFin,$G$15:$G$174)>0,SUMIF($K$15:$K$174,SaisonFin,$F$15:$F$174)/SUMIF($K$15:$K$174,SaisonFin,$G$15:$G$174),\"\")","v":1.0628491620111731},{"$f":"SUM(T3:T4)","v":62},{"$f":"IF(SUM($G$15:$G$174)>0,SUM($F$15:$F$174)/SUM($G$15:$G$174),\"\")","v":1.0819277108433736},{"$f":"IF(SUMIF($K$15:$K$78,SaisonDeb,$G$15:$G$78)+SUMIF($K$15:$K$78,SaisonFin,$G$15:$G$78)>0,(SUMIF($K$15:$K$78,SaisonDeb,$F$15:$F$78)+SUMIF($K$15:$K$78,SaisonFin,$F$15:$F$78))/(SUMIF($K$15:$K$78,SaisonDeb,$G$15:$G$78)+SUMIF($K$15:$K$78,SaisonFin,$G$15:$G$78)),\"\")","v":1.0571100038328862}]
[null,null,null,null,null,null,null,null,null,null,null,null,null,"Sets","Gagnés",{"$f":"SUMIF($K$15:$K$174,SaisonDeb,$D$15:$D$174)","v":5},{"$f":"IF(P$6+P$7>0,P6/(P$6+P$7),\"\")","v":0.35714285714285715},{"$f":"SUMIF($K$15:$K$174,SaisonFin,$D$15:$D$174)","v":9},{"$f":"IF(R$6+R$7>0,R6/(R$6+R$7),\"\")","v":0.6428571428571429},{"$f":"SUM($D$15:$D$174)","v":60},{"$f":"IF(T$6+T$7>0,T6/(T$6+T$7),\"\")","v":0.55045871559633031}]
[null,null,null,null,null,null,null,null,null,null,null,null,null,null,"Perdus",{"$f":"SUMIF($K$15:$K$174,SaisonDeb,$E$15:$E$174)","v":9},{"$f":"IF(P$6+P$7>0,P7/(P$6+P$7),\"\")","v":0.6428571428571429},{"$f":"SUMIF($K$15:$K$174,SaisonFin,$E$15:$E$174)","v":5},{"$f":"IF(R$6+R$7>0,R7/(R$6+R$7),\"\")","v":0.35714285714285715},{"$f":"SUM($E$15:$E$174)","v":49},{"$f":"IF(T$6+T$7>0,T7/(T$6+T$7),\"\")","v":0.44954128440366975}]
["Récapitulatif joueurs",null,null,null,null,null,null,null,null,null,null,null,null,null,"Total",{"$f":"SUM(P6:P7)","v":14},null,{"$f":"SUM(R6:R7)","v":14},null,{"$f":"SUM(T6:T7)","v":109}]
[]
[]
[]
[]
[]
[]
["Joueur","Adversaire","G/P","Sets gagnés","Sets perdus","pts marqués","pts subis","Date","Compétition","Phase","Saison"]
["DESCLAIR Guy","LALOT Gérard","P",1,2,148,170,"2017-10-21","T 2 OISE - SENLIS","Qualifications",{"$f":"IF(H16<>\"\",IF(MONTH(H16)>MoisRef,YEAR(H16)&\"-\"&YEAR(H16)+1,YEAR(H16)-1&\"-\"&YEAR(H16)),\"\")","v":"2017-2018"},null,null,null,null,{"$f":"IF($K16=P$1,COUNTIF($C16,\"G\"),0)","v":0},null,{"$f":"IF($K16=R$1,COUNTIF($C16,\"G\"),0)","v":0}]
["DESCLAIR Guy","LALOT Gérard","P",1,2,119,153,"2017-10-21","T 2 OISE - SENLIS","1/2 Finale","2017-2018",null,null,null,null,0,null,0]
["DESCLAIR Guy","LAMARQUE Yves","G",2,0,120,59,"2017-10-21","T 2 OISE - SENLIS","Qualifications","2017-2018",null,null,null,null,0,null,0]
["DESCLAIR Guy","MURIOT Jean-Pierre","G",2,1,169,125,"2017-10-21","T 2 OISE - SENLIS","Qualifications","2017-2018",null,null,null,null,0,null,0]
["DESCLAIR Guy","FAURE Stéphane","G",2,1,149,147,"2018-01-06","T 4 OISE - VILLERS","Qualifications","2017-2018",null,null,null,null,0,null,0]
["DESCLAIR Guy","LAMARQUE Yves","G",2,0,120,104,"2018-01-06","T 4 OISE - VILLERS","Qualifications","2017-2018",null,null,null,null,0,null,0]
["DESCLAIR Guy","LEFEBVRE Gérard","G",2,0,120,69,"2018-01-06","T 4 OISE - VILLERS","1/4 Finale","2017-2018",null,null,null,null,0,null,0]
["DESCLAIR Guy","MURIOT Jean-Pierre","P",1,2,160,148,"2018-01-06","T 4 OISE - VILLERS","1/2 Finale","2017-2018",null,null,null,null,0,null,0]
["DESCLAIR Guy","BOUIGES Armelle","G",2,0,120,55,"2018-09-29","5 Q - T 1 OISE 2018-19 - R 1 - TOURNOI PRINCIPAL  - CREPY","Qualifications","2018-2019",null,null,null,null,0,null,0]
["DESCLAIR Guy","BOUIGES Armelle","G",2,0,120,68,"2018-09-29","5 Q - T 1 OISE 2018-19 - R 1 - TOURNOI PRINCIPAL  - CREPY","Qualifications","2018-2019",null,null,null,null,0,null,0]
["DESCLAIR Guy","BOUIGES Armelle","G",2,0,120,60,"2018-09-29","5 Q - T 1 OISE 2018-19 - R 1 - TOURNOI PRINCIPAL  - CREPY","1/4 Finale","2018-2019",null,null,null,null,0,null,0]
["DESCLAIR Guy","LALOT Gérard","P",0,2,64,120,"2018-09-29","5 Q - T 1 OISE 2018-19 - R 1 - TOURNOI PRINCIPAL  - CREPY","1/2 Finale","2018-2019",null,null,null,null,0,null,0]
["DESCLAIR Guy","GROSS Xavier","P",1,2,171,139,"2018-10-27","5 Q - T 2 OISE 2018-19 - R 1 - TOURNOI PRINCIPAL  - VILLERS","1/4 Finale","2018-2019",null,null,null,null,0,null,0]
["DESCLAIR Guy","LAMARQUE Yves","G",2,0,120,66,"2018-10-27","5 Q - T 2 OISE 2018-19 - R 1 - TOURNOI PRINCIPAL  - VILLERS","Qualifications","2018-2019",null,null,null,null,0,null,0]
["DESCLAIR Guy","LAMARQUE Yves","G",2,0,120,78,"2018-10-27","5 Q - T 2 OISE 2018-19 - R 1 - TOURNOI PRINCIPAL  - VILLERS","Qualifications","2018-2019",null,null,null,null,0,null,0]
["DESCLAIR Guy","BOZON Robert","G",2,1,160,142,"2018-11-24","5 Q - T 3 OISE 2018-19 - R 1 - TOURNOI PRINCIPAL  - MERU","Qualifications","2018-2019",null,null,null,null,0,null,0]
["DESCLAIR Guy","LAMARQUE Yves","P",0,2,93,120,"2018-11-24","5 Q - T 3 OISE 2018-19 - R 1 - TOURNOI PRINCIPAL  - MERU","1/4 Finale","2018-2019",null,null,null,null,0,null,0]
["DESCLAIR Guy","TALEC Pierre","G",2,1,177,132,"2018-11-24","5 Q - T 3 OISE 2018-19 - R 1 - TOURNOI PRINCIPAL  - MERU","Qualifications","2018-2019",null,null,null,null,0,null,0]
["DESCLAIR Guy","MURIOT Jean-Pierre","G",2,0,120,94,"2019-01-19","5 Q - T 4 OISE 2018-19 - R 1 - TOURNOI PRINCIPAL  - CHAMBLY","Qualifications","2018-2019",null,null,null,null,0,null,0]
["DESCLAIR Guy","VANDEPUTTE Laurent","P",1,2,155,156,"2019-01-19","5 Q - T 4 OISE 2018-19 - R 1 - TOURNOI PRINCIPAL  - CHAMBLY","Qualifications","2018-2019",null,null,null,null,0,null,0]
["DESCLAIR Guy","LALOT Gérard","G",2,1,177,136,"2019-02-23","FINALE OISE 2018-19 - R 1 - SENLIS","Poule unique","2018-2019",null,null,null,null,0,null,0]
["DESCLAIR Guy","STEINMANN Sébastien","P",0,2,102,120,"2019-02-23","FINALE OISE 2018-19 - R 1 - SENLIS","Poule unique","2018-2019",null,null,null,null,0,null,0]
["DESCLAIR Guy","VANDEPUTTE Laurent","P",1,2,147,177,"2019-02-23","FINALE OISE 2018-19 - R 1 - SENLIS","Poule unique","2018-2019",null,null,null,null,0,null,0]
["DESCLAIR Guy","ALAZARD Philippe","P",1,2,102,173,"2019-10-19","CD60  R1 - T1 - Tour Principal - BEAUVAIS","Qualifications","2019-2020",null,null,null,null,0,null,0]
["DESCLAIR Guy","HERTOUX Didier","P",1,2,154,158,"2019-10-19","CD60  R1 - T1 - Tour Principal - BEAUVAIS","Qualifications","2019-2020",null,null,null,null,0,null,0]
["DESCLAIR Guy","BOURGOGNE Claude","P",0,1,29,100,"2020-01-11","CD60  R1 - T3 - Tour Principal - CREPY","1/4 Finale","2019-2020",null,null,null,null,0,null,0]
["DESCLAIR Guy","COUPLET Sébastien","G",1,0,100,70,"2020-01-11","CD60  R1 - T3 - Tour Principal - CREPY","Qualifications","2019-2020",null,null,null,null,0,null,0]
["DESCLAIR Guy","LALOT Gérard","G",1,0,100,81,"2020-01-11","CD60  R1 - T3 - Tour Principal - CREPY","Qualifications","2019-2020",null,null,null,null,0,null,0]
["DESCLAIR Guy","COUPLET Valentin","P",0,1,64,100,"2020-02-15","CD60  R1 - T 4 - Tour Principal - SENLIS","Qualifications","2019-2020",null,null,null,null,0,null,0]
["DESCLAIR Guy","COUPLET Valentin","G",1,0,100,54,"2020-02-15","CD60  R1 - T 4 - Tour Principal - SENLIS","Qualifications","2019-2020",null,null,null,null,0,null,0]
["DESCLAIR Guy","LE FRIEC Daniel","P",0,1,80,100,"2020-02-15","CD60  R1 - T 4 - Tour Principal - SENLIS","1/4 Finale","2019-2020",null,null,null,null,0,null,0]
["DESCLAIR Guy","ALAZARD Philippe","P",1,2,138,151,"2019-11-23","CD60  R1 - T2 - Tour Principal - MERU","Finale","2019-2020",null,null,null,null,0,null,0]
["DESCLAIR Guy","BOURGOGNE Claude","G",2,0,120,67,"2019-11-23","CD60  R1 - T2 - Tour Principal - MERU","1/2 Finale","2019-2020",null,null,null,null,0,null,0]
["DESCLAIR Guy","CHENAL Gérard","P",0,2,94,120,"2019-11-23","CD60  R1 - T2 - Tour Principal - MERU","Qualifications","2019-2020",null,null,null,null,0,null,0]
["DESCLAIR Guy","LE FRIEC Daniel","G",2,1,154,147,"2019-11-23","CD60  R1 - T2 - Tour Principal - MERU","1/4 Finale","2019-2020",null,null,null,null,0,null,0]
["DESCLAIR Guy","MAUGER Jean-Paul","G",2,0,120,72,"2019-11-23","CD60  R1 - T2 - Tour Principal - MERU","Qualifications","2019-2020",null,null,null,null,0,null,0]
["DESCLAIR Guy","BOUTON Gérard","P",0,1,117,120,"2021-10-02","T 1 OISE - Qualifications R 1 - Tour principal - MERU","Qualifications","2021-2022",null,null,null,null,0,null,0]
["DESCLAIR Guy","LAMARQUE Yves","P",0,1,100,120,"2021-10-02","T 1 OISE - Qualifications R 1 - Tour principal - MERU","Qualifications","2021-2022",null,null,null,null,0,null,0]
["DESCLAIR Guy","BOUTON Gérard","G",1,0,120,45,"2021-12-18","T 2 OISE - Qualifications R 1 - Tour principal - CREPY","Qualifications","2021-2022",null,null,null,null,1,null,0]
["DESCLAIR Guy","BOUTON Gérard","G",1,0,120,75,"2021-12-18","T 2 OISE - Qualifications R 1 - Tour principal - CREPY","1/4 Finale","2021-2022",null,null,null,null,1,null,0]
["DESCLAIR Guy","HERTOUX Didier","P",0,1,71,120,"2021-12-18","T 2 OISE - Qualifications R 1 - Tour principal - CREPY","Finale","2021-2022",null,null,null,null,0,null,0]
["DESCLAIR Guy","MASSARD Patrick","G",1,0,120,89,"2021-12-18","T 2 OISE - Qualifications R 1 - Tour principal - CREPY","1/2 Finale","2021-2022",null,null,null,null,1,null,0]
["DESCLAIR Guy","MURIOT Jean-Pierre","G",1,0,120,47,"2021-12-18","T 2 OISE - Qualifications R 1 - Tour principal - CREPY","Qualifications","2021-2022",null,null,null,null,1,null,0]
["DESCLAIR Guy","BOUIGES Armelle","G",1,0,120,53,"2022-12-29","T 3 OISE - Qualifications R 1 - Tour principal - SENLIS","Qualifications","2022-2023",null,null,null,null,0,null,1]
["DESCLAIR Guy","CHENAL Gérard","G",1,0,120,107,"2022-12-29","T 3 OISE - Qualifications R 1 - Tour principal - SENLIS","Qualifications","2022-2023",null,null,null,null,0,null,1]
["DESCLAIR Guy","LAMARQUE Yves","G",1,0,120,97,"2022-12-29","T 3 OISE - Qualifications R 1 - Tour principal - SENLIS","1/2 Finale","2022-2023",null,null,null,null,0,null,1]
["DESCLAIR Guy","NAHIRNYJ Alexi","G",1,0,120,96,"2022-12-29","T 3 OISE - Qualifications R 1 - Tour principal - SENLIS","Finale","2022-2023",null,null,null,null,0,null,1]
["DESCLAIR Guy","ZANOTTI Michel","G",1,0,120,95,"2022-12-29","T 3 OISE - Qualifications R 1 - Tour principal - SENLIS","1/4 Finale","2022-2023",null,null,null,null,0,null,1]
["DESCLAIR Guy","HERTOUX Didier","P",0,1,107,120,"2022-04-16","T 4 OISE - Qualifications R 1 - Tour Principal - BEAUVAIS","1/4 Finale","2021-2022",null,null,null,null,0,null,0]
["DESCLAIR Guy","LAMARQUE Yves","P",0,1,75,120,"2022-04-16","T 4 OISE - Qualifications R 1 - Tour Principal - BEAUVAIS","Qualifications","2021-2022",null,null,null,null,0,null,0]
["DESCLAIR Guy","MASSARD Patrick","G",1,0,120,81,"2022-04-16","T 4 OISE - Qualifications R 1 - Tour Principal - BEAUVAIS","Qualifications","2021-2022",null,null,null,null,1,null,0]
["DESCLAIR Guy","BARBE Philippe","P",0,2,90,120,"2022-05-14","FINALE OISE R 1 - SAISON 21-22 - SENLIS","Qualifications","2021-2022",null,null,null,null,0,null,0]
["DESCLAIR Guy","NAHIRNYJ Alexi","P",0,2,76,120,"2022-05-14","FINALE OISE R 1 - SAISON 21-22 - SENLIS","Qualifications","2021-2022",null,null,null,null,0,null,0]
["DESCLAIR Guy","GRANGER Pascal","G",1,0,120,109,"2023-02-18","T 3 OISE - Qualifications R 1 - Tour Principal - BEAUVAIS","Qualifications","2022-2023",null,null,null,null,0,null,1]
["DESCLAIR Guy","GRANGER Pascal","P",0,1,102,120,"2023-02-18","T 3 OISE - Qualifications R 1 - Tour Principal - BEAUVAIS","Qualifications","2022-2023",null,null,null,null,0,null,0]
["DESCLAIR Guy","HERTOUX Didier","P",0,1,89,120,"2023-02-18","T 3 OISE - Qualifications R 1 - Tour Principal - BEAUVAIS","1/4 Finale","2022-2023",null,null,null,null,0,null,0]
["DESCLAIR Guy","GRANGER Pascal","P",0,1,49,120,"2023-03-18","T 4 OISE - Qualifications R 1 - Tour Principal - CREPY","1/4 Finale","2022-2023",null,null,null,null,0,null,0]
["DESCLAIR Guy","LAMARQUE Yves","P",0,1,115,120,"2023-03-18","T 4 OISE - Qualifications R 1 - Tour Principal - CREPY","Qualifications","2022-2023",null,null,null,null,0,null,0]
["DESCLAIR Guy","MASSARD Patrick","G",1,0,120,59,"2023-03-18","T 4 OISE - Qualifications R 1 - Tour Principal - CREPY","Qualifications","2022-2023",null,null,null,null,0,null,1]
["DESCLAIR Guy","HERTOUX Didier","P",0,1,87,120,"2022-10-29","T 1 OISE - Qualifications R 1 - Tour Principal - MERU","1/4 Finale","2022-2023",null,null,null,null,0,null,0]
["DESCLAIR Guy","MAUGER Jean-Paul","G",1,0,120,118,"2022-10-29","T 1 OISE - Qualifications R 1 - Tour Principal - MERU","Qualifications","2022-2023",null,null,null,null,0,null,1]
["DESCLAIR Guy","RAFFY Alain","G",1,0,120,98,"2022-10-29","T 1 OISE - Qualifications R 1 - Tour Principal - MERU","Qualifications","2022-2023",null,null,null,null,0,null,1]
["Fin des données",null,null,null,null,null,null,null,null,null,"",null,null,null,null,{"$f":"IF($K78=P$1,COUNTIF($C78,\"G\"),0)","v":0},null,{"$f":"IF($K78=R$1,COUNTIF($C78,\"G\"),0)","v":0}]

{"sheet":"DEVOS Jackie","index":55,"n_rows":33,"n_cols":22,"rows_kept":33,"cut":false,"hidden":false,"merged":[]}
["DEVOS Jackie",null,null,null,null,null,null,null,null,null,null,null,null,null,null,{"$f":"SaisonDeb","v":"2021-2022"},null,{"$f":"SaisonFin","v":"2022-2023"},null,"Toutes saisons"]
["GRAVELINES",null,null,null,null,null,null,null,null,null,null,null,null,null,null,"Nombre","%age","Nombre","%age","Nombre","%age"]
["121408-O",null,null,null,null,null,null,null,null,null,null,null,null,"Matchs","Gagnés",{"$f":"SUM(P$15:P$129)","v":0},{"$f":"IF(P$3+P$4>0,P3/(P$3+P$4),\"\")","v":""},{"$f":"SUM(R$15:R$129)","v":0},{"$f":"IF(R$3+R$4>0,R3/(R$3+R$4),\"\")","v":""},{"$f":"COUNTIF($C$15:$C$129,\"G\")","v":15},{"$f":"IF(T$3+T$4>0,T3/(T$3+T$4),\"\")","v":0.88235294117647056}]
[null,null,null,null,null,null,null,null,null,null,null,null,null,null,"Perdus",{"$f":"COUNTIF($K$15:$M$129,SaisonDeb)-P3","v":0},{"$f":"IF(P$3+P$4>0,P4/(P$3+P$4),\"\")","v":""},{"$f":"COUNTIF($K$15:$K$129,SaisonFin)-R3","v":0},{"$f":"IF(R$3+R$4>0,R4/(R$3+R$4),\"\")","v":""},{"$f":"COUNTIF($C$15:$C$129,\"P\")","v":2},{"$f":"IF(T$3+T$4>0,T4/(T$3+T$4),\"\")","v":0.11764705882352941}]
[null,null,null,null,null,null,null,null,null,null,null,null,null,null,"Total / Moy.",{"$f":"SUM(P3:P4)","v":0},{"$f":"IF(SUMIF($K$15:$K$129,SaisonDeb,$G$15:$G$129)>0,SUMIF($K$15:$K$129,SaisonDeb,$F$15:$F$129)/SUMIF($K$15:$K$129,SaisonDeb,$G$15:$G$129),\"\")","v":""},{"$f":"SUM(R3:R4)","v":0},{"$f":"IF(SUMIF($K$15:$K$129,SaisonFin,$G$15:$G$129)>0,SUMIF($K$15:$K$129,SaisonFin,$F$15:$F$129)/SUMIF($K$15:$K$129,SaisonFin,$G$15:$G$129),\"\")","v":""},{"$f":"SUM(T3:T4)","v":17},{"$f":"IF(SUM($G$15:$G$129)>0,SUM($F$15:$F$129)/SUM($G$15:$G$129),\"\")","v":1.4570290267501422},{"$f":"IF(SUMIF($K$15:$K$33,SaisonDeb,$G$15:$G$33)+SUMIF($K$15:$K$33,SaisonFin,$G$15:$G$33)>0,(SUMIF($K$15:$K$33,SaisonDeb,$F$15:$F$33)+SUMIF($K$15:$K$33,SaisonFin,$F$15:$F$33))/(SUMIF($K$15:$K$33,SaisonDeb,$G$15:$G$33)+SUMIF($K$15:$K$33,SaisonFin,$G$15:$G$33)),\"\")","v":""}]
[null,null,null,null,null,null,null,null,null,null,null,null,null,"Sets","Gagnés",{"$f":"SUMIF($K$15:$K$129,SaisonDeb,$D$15:$D$129)","v":0},{"$f":"IF(P$6+P$7>0,P6/(P$6+P$7),\"\")","v":""},{"$f":"SUMIF($K$15:$K$129,SaisonFin,$D$15:$D$129)","v":0},{"$f":"IF(R$6+R$7>0,R6/(R$6+R$7),\"\")","v":""},{"$f":"SUM($D$15:$D$129)","v":35},{"$f":"IF(T$6+T$7>0,T6/(T$6+T$7),\"\")","v":0.77777777777777779}]
[null,null,null,null,null,null,null,null,null,null,null,null,null,null,"Perdus",{"$f":"SUMIF($K$15:$K$129,SaisonDeb,$E$15:$E$129)","v":0},{"$f":"IF(P$6+P$7>0,P7/(P$6+P$7),\"\")","v":""},{"$f":"SUMIF($K$15:$K$129,SaisonFin,$E$15:$E$129)","v":0},{"$f":"IF(R$6+R$7>0,R7/(R$6+R$7),\"\")","v":""},{"$f":"SUM($E$15:$E$129)","v":10},{"$f":"IF(T$6+T$7>0,T7/(T$6+T$7),\"\")","v":0.22222222222222221}]
["Récapitulatif joueurs",null,null,null,null,null,null,null,null,null,null,null,null,null,"Total",{"$f":"SUM(P6:P7)","v":0},null,{"$f":"SUM(R6:R7)","v":0},null,{"$f":"SUM(T6:T7)","v":45}]
[]
[]
[]
[]
[]
[]
["Joueur","Adversaire","G/P","Sets gagnés","Sets perdus","pts marqués","pts subis","Date","Compétition","Phase","Saison"]
["DEVOS Jackie","CAUX Frédéric","P",0,2,98,120,"2019-11-24","T2 5Q R1 CD59 - GRAVELINES ","Qualifications",{"$f":"IF(H16<>\"\",IF(MONTH(H16)>MoisRef,YEAR(H16)&\"-\"&YEAR(H16)+1,YEAR(H16)-1&\"-\"&YEAR(H16)),\"\")","v":"2019-2020"},null,null,null,null,{"$f":"IF($K16=P$1,COUNTIF($C16,\"G\"),0)","v":0},null,{"$f":"IF($K16=R$1,COUNTIF($C16,\"G\"),0)","v":0}]
["DEVOS Jackie","SZWARC Patrick","P",1,2,140,173,"2019-11-24","T2 5Q R1 CD59 - GRAVELINES ","1/4 Finale","2019-2020",null,null,null,null,0,null,0]
["DEVOS Jackie","WASYLYSZYN Jean-Pierre","G",2,0,120,51,"2019-11-24","T2 5Q R1 CD59 - GRAVELINES ","Qualifications","2019-2020",null,null,null,null,0,null,0]
["DEVOS Jackie","DEREUDDRE Dominique","G",2,1,174,133,"2020-01-04","T3 5Q R1 CD59 - GRAVELINES - Convocation 8h30 -","Qualifications","2019-2020",null,null,null,null,0,null,0]
["DEVOS Jackie","KERKHOF Hervé","G",2,0,120,74,"2020-01-04","T3 5Q R1 CD59 - GRAVELINES - Convocation 8h30 -","Qualifications","2019-2020",null,null,null,null,0,null,0]
["DEVOS Jackie","MANTEN Paul","G",2,0,120,63,"2020-01-04","T3 5Q R1 CD59 - GRAVELINES - Convocation 8h30 -","1/2 Finale","2019-2020",null,null,null,null,0,null,0]
["DEVOS Jackie","MONFLIER Francis","G",2,0,120,75,"2020-01-04","T3 5Q R1 CD59 - GRAVELINES - Convocation 8h30 -","Finale","2019-2020",null,null,null,null,0,null,0]
["DEVOS Jackie","SAUVAGE Maxime","G",2,0,120,62,"2020-01-04","T3 5Q R1 CD59 - GRAVELINES - Convocation 8h30 -","1/4 Finale","2019-2020",null,null,null,null,0,null,0]
["DEVOS Jackie","HORNAIN Denis","G",2,0,120,53,"2020-02-22","T4 5Q R1 CD59 - ANNOEULLIN","Finale","2019-2020",null,null,null,null,0,null,0]
["DEVOS Jackie","LE GOHEBEL Jacques","G",2,0,120,28,"2020-02-22","T4 5Q R1 CD59 - ANNOEULLIN","Qualifications","2019-2020",null,null,null,null,0,null,0]
["DEVOS Jackie","LORTHIOIR Jean-Luc","G",2,1,179,171,"2020-02-22","T4 5Q R1 CD59 - ANNOEULLIN","1/2 Finale","2019-2020",null,null,null,null,0,null,0]
["DEVOS Jackie","MANTEN Paul","G",2,0,120,41,"2020-02-22","T4 5Q R1 CD59 - ANNOEULLIN","1/4 Finale","2019-2020",null,null,null,null,0,null,0]
["DEVOS Jackie","SZWARC Johann","G",2,0,120,55,"2020-02-22","T4 5Q R1 CD59 - ANNOEULLIN","Qualifications","2019-2020",null,null,null,null,0,null,0]
["DEVOS Jackie","DEREUDDRE Dominique","G",3,1,227,170,"2020-03-08","Finale 5Q R1 CD59 - GRANDE SYNTHE","Qualifications","2019-2020",null,null,null,null,0,null,0]
["DEVOS Jackie","LORTHIOIR Jean-Luc","G",3,1,224,138,"2020-03-08","Finale 5Q R1 CD59 - GRANDE SYNTHE","Qualifications","2019-2020",null,null,null,null,0,null,0]
["DEVOS Jackie","LORTHIOIR Jean-Luc","G",3,0,180,123,"2020-03-08","Finale 5Q R1 CD59 - GRANDE SYNTHE","Finale","2019-2020",null,null,null,null,0,null,0]
["DEVOS Jackie","MANTEN Paul","G",3,2,258,227,"2020-03-08","Finale 5Q R1 CD59 - GRANDE SYNTHE","1/2 Finale","2019-2020",null,null,null,null,0,null,0]
["Fin des données",null,null,null,null,null,null,null,null,null,"",null,null,null,null,{"$f":"IF($K33=P$1,COUNTIF($C33,\"G\"),0)","v":0},null,{"$f":"IF($K33=R$1,COUNTIF($C33,\"G\"),0)","v":0}]

{"sheet":"DIEU Jean-Charles","index":56,"n_rows":28,"n_cols":22,"rows_kept":28,"cut":false,"hidden":false,"merged":[]}
["DIEU Jean-Charles",null,null,null,null,null,null,null,null,null,null,null,null,null,null,{"$f":"SaisonDeb","v":"2021-2022"},null,{"$f":"SaisonFin","v":"2022-2023"},null,"Toutes saisons"]
[{"$error":"#N/A"},null,null,null,null,null,null,null,null,null,null,null,null,null,null,"Nombre","%age","Nombre","%age","Nombre","%age"]
[{"$error":"#N/A"},null,null,null,null,null,null,null,null,null,null,null,null,"Matchs","Gagnés",{"$f":"SUM(P$15:P$124)","v":0},{"$f":"IF(P$3+P$4>0,P3/(P$3+P$4),\"\")","v":""},{"$f":"SUM(R$15:R$124)","v":0},{"$f":"IF(R$3+R$4>0,R3/(R$3+R$4),\"\")","v":""},{"$f":"COUNTIF($C$15:$C$124,\"G\")","v":4},{"$f":"IF(T$3+T$4>0,T3/(T$3+T$4),\"\")","v":0.33333333333333331}]
[{"$error":"#N/A"},null,null,null,null,null,null,null,null,null,null,null,null,null,"Perdus",{"$f":"COUNTIF($K$15:$M$124,SaisonDeb)-P3","v":0},{"$f":"IF(P$3+P$4>0,P4/(P$3+P$4),\"\")","v":""},{"$f":"COUNTIF($K$15:$K$124,SaisonFin)-R3","v":0},{"$f":"IF(R$3+R$4>0,R4/(R$3+R$4),\"\")","v":""},{"$f":"COUNTIF($C$15:$C$124,\"P\")","v":8},{"$f":"IF(T$3+T$4>0,T4/(T$3+T$4),\"\")","v":0.66666666666666663}]
[{"$error":"#N/A"},null,null,null,null,null,null,null,null,null,null,null,null,null,"Total / Moy.",{"$f":"SUM(P3:P4)","v":0},{"$f":"IF(SUMIF($K$15:$K$124,SaisonDeb,$G$15:$G$124)>0,SUMIF($K$15:$K$124,SaisonDeb,$F$15:$F$124)/SUMIF($K$15:$K$124,SaisonDeb,$G$15:$G$124),\"\")","v":""},{"$f":"SUM(R3:R4)","v":0},{"$f":"IF(SUMIF($K$15:$K$124,SaisonFin,$G$15:$G$124)>0,SUMIF($K$15:$K$124,SaisonFin,$F$15:$F$124)/SUMIF($K$15:$K$124,SaisonFin,$G$15:$G$124),\"\")","v":""},{"$f":"SUM(T3:T4)","v":12},{"$f":"IF(SUM($G$15:$G$124)>0,SUM($F$15:$F$124)/SUM($G$15:$G$124),\"\")","v":0.94668587896253598},{"$f":"IF(SUMIF($K$15:$K$28,SaisonDeb,$G$15:$G$28)+SUMIF($K$15:$K$28,SaisonFin,$G$15:$G$28)>0,(SUMIF($K$15:$K$28,SaisonDeb,$F$15:$F$28)+SUMIF($K$15:$K$28,SaisonFin,$F$15:$F$28))/(SUMIF($K$15:$K$28,SaisonDeb,$G$15:$G$28)+SUMIF($K$15:$K$28,SaisonFin,$G$15:$G$28)),\"\")","v":""}]
[null,null,null,null,null,null,null,null,null,null,null,null,null,"Sets","Gagnés",{"$f":"SUMIF($K$15:$K$124,SaisonDeb,$D$15:$D$124)","v":0},{"$f":"IF(P$6+P$7>0,P6/(P$6+P$7),\"\")","v":""},{"$f":"SUMIF($K$15:$K$124,SaisonFin,$D$15:$D$124)","v":0},{"$f":"IF(R$6+R$7>0,R6/(R$6+R$7),\"\")","v":""},{"$f":"SUM($D$15:$D$124)","v":10},{"$f":"IF(T$6+T$7>0,T6/(T$6+T$7),\"\")","v":0.38461538461538464}]
[null,null,null,null,null,null,null,null,null,null,null,null,null,null,"Perdus",{"$f":"SUMIF($K$15:$K$124,SaisonDeb,$E$15:$E$124)","v":0},{"$f":"IF(P$6+P$7>0,P7/(P$6+P$7),\"\")","v":""},{"$f":"SUMIF($K$15:$K$124,SaisonFin,$E$15:$E$124)","v":0},{"$f":"IF(R$6+R$7>0,R7/(R$6+R$7),\"\")","v":""},{"$f":"SUM($E$15:$E$124)","v":16},{"$f":"IF(T$6+T$7>0,T7/(T$6+T$7),\"\")","v":0.61538461538461542}]
["Récapitulatif joueurs",null,null,null,null,null,null,null,null,null,null,null,null,null,"Total",{"$f":"SUM(P6:P7)","v":0},null,{"$f":"SUM(R6:R7)","v":0},null,{"$f":"SUM(T6:T7)","v":26}]
[]
[]
[]
[]
[]
[]
["Joueur","Adversaire","G/P","Sets gagnés","Sets perdus","pts marqués","pts subis","Date","Compétition","Phase","Saison"]
["DIEU Jean-Charles","DAMONNEVILLE Blandine","G",1,0,80,74,"2018-02-17","T3 5 QUILLES R1 CD80 - CONSOLANTE - MOREUIL","Qualifications",{"$f":"IF(H16<>\"\",IF(MONTH(H16)>MoisRef,YEAR(H16)&\"-\"&YEAR(H16)+1,YEAR(H16)-1&\"-\"&YEAR(H16)),\"\")","v":"2017-2018"},null,null,null,null,{"$f":"IF($K16=P$1,COUNTIF($C16,\"G\"),0)","v":0},null,{"$f":"IF($K16=R$1,COUNTIF($C16,\"G\"),0)","v":0}]
["DIEU Jean-Charles","DUBOIS Jean-Bernard","P",0,1,36,80,"2018-02-17","T3 5 QUILLES R1 CD80 - CONSOLANTE - MOREUIL","Qualifications","2017-2018",null,null,null,null,{"$f":"IF($K17=P$1,COUNTIF($C17,\"G\"),0)","v":0},null,{"$f":"IF($K17=R$1,COUNTIF($C17,\"G\"),0)","v":0}]
["DIEU Jean-Charles","DUFRESNOY Michel","P",0,2,67,120,"2018-02-17","T3 5 QUILLES R1 CD80 - MOREUIL","Qualifications","2017-2018",null,null,null,null,{"$f":"IF($K18=P$1,COUNTIF($C18,\"G\"),0)","v":0},null,{"$f":"IF($K18=R$1,COUNTIF($C18,\"G\"),0)","v":0}]
["DIEU Jean-Charles","DUHAMEL Eddy","P",1,2,165,163,"2018-02-17","T3 5 QUILLES R1 CD80 - MOREUIL","Qualifications","2017-2018",null,null,null,null,{"$f":"IF($K19=P$1,COUNTIF($C19,\"G\"),0)","v":0},null,{"$f":"IF($K19=R$1,COUNTIF($C19,\"G\"),0)","v":0}]
["DIEU Jean-Charles","CABUZEL Denis","G",2,0,120,106,"2018-10-20","T1 R1 CD80 - MOREUIL","Qualifications","2018-2019",null,null,null,null,{"$f":"IF($K20=P$1,COUNTIF($C20,\"G\"),0)","v":0},null,{"$f":"IF($K20=R$1,COUNTIF($C20,\"G\"),0)","v":0}]
["DIEU Jean-Charles","POINTIN Régis","P",1,2,130,147,"2018-10-20","T1 R1 CD80 - MOREUIL","Qualifications","2018-2019",null,null,null,null,0,null,0]
["DIEU Jean-Charles","RENAULT Marius","P",0,2,96,120,"2018-10-20","T1 R1 CD80 - MOREUIL","1/4 Finale","2018-2019",null,null,null,null,0,null,0]
["DIEU Jean-Charles","MALET Eric","G",2,1,164,132,"2018-11-24","T2 R1 CD80 - ","Qualifications","2018-2019",null,null,null,null,0,null,0]
["DIEU Jean-Charles","MALET Eric","P",1,2,175,137,"2018-11-24","T2 R1 CD80 - ","Qualifications","2018-2019",null,null,null,null,0,null,0]
["DIEU Jean-Charles","POINTIN Régis","P",0,2,75,120,"2018-11-24","T2 R1 CD80 - ","1/8 Finale","2018-2019",null,null,null,null,0,null,0]
["DIEU Jean-Charles","BETTEFORT Clémence","G",2,0,120,69,"2019-01-05","T3 R1 CD80 - MOREUIL","Qualifications","2018-2019",null,null,null,null,0,null,0]
["DIEU Jean-Charles","POINTIN Régis","P",0,2,86,120,"2019-01-05","T3 R1 CD80 - MOREUIL","Qualifications","2018-2019",null,null,null,null,0,null,0]
["Fin des données",null,null,null,null,null,null,null,null,null,"",null,null,null,null,{"$f":"IF($K28=P$1,COUNTIF($C28,\"G\"),0)","v":0},null,{"$f":"IF($K28=R$1,COUNTIF($C28,\"G\"),0)","v":0}]

{"sheet":"DIOT Alain","index":57,"n_rows":36,"n_cols":22,"rows_kept":36,"cut":false,"hidden":false,"merged":[]}
["DIOT Alain",null,null,null,null,null,null,null,null,null,null,null,null,null,null,{"$f":"SaisonDeb","v":"2021-2022"},null,{"$f":"SaisonFin","v":"2022-2023"},null,"Toutes saisons"]
[{"$error":"#N/A"},null,null,null,null,null,null,null,null,null,null,null,null,null,null,"Nombre","%age","Nombre","%age","Nombre","%age"]
[{"$error":"#N/A"},null,null,null,null,null,null,null,null,null,null,null,null,"Matchs","Gagnés",{"$f":"SUM(P$15:P$132)","v":0},{"$f":"IF(P$3+P$4>0,P3/(P$3+P$4),\"\")","v":""},{"$f":"SUM(R$15:R$132)","v":3},{"$f":"IF(R$3+R$4>0,R3/(R$3+R$4),\"\")","v":0.6},{"$f":"COUNTIF($C$15:$C$132,\"G\")","v":10},{"$f":"IF(T$3+T$4>0,T3/(T$3+T$4),\"\")","v":0.5}]
[{"$error":"#N/A"},null,null,null,null,null,null,null,null,null,null,null,null,null,"Perdus",{"$f":"COUNTIF($K$15:$M$132,SaisonDeb)-P3","v":0},{"$f":"IF(P$3+P$4>0,P4/(P$3+P$4),\"\")","v":""},{"$f":"COUNTIF($K$15:$K$132,SaisonFin)-R3","v":2},{"$f":"IF(R$3+R$4>0,R4/(R$3+R$4),\"\")","v":0.4},{"$f":"COUNTIF($C$15:$C$132,\"P\")","v":10},{"$f":"IF(T$3+T$4>0,T4/(T$3+T$4),\"\")","v":0.5}]
[{"$error":"#N/A"},null,null,null,null,null,null,null,null,null,null,null,null,null,"Total / Moy.",{"$f":"SUM(P3:P4)","v":0},{"$f":"IF(SUMIF($K$15:$K$132,SaisonDeb,$G$15:$G$132)>0,SUMIF($K$15:$K$132,SaisonDeb,$F$15:$F$132)/SUMIF($K$15:$K$132,SaisonDeb,$G$15:$G$132),\"\")","v":""},{"$f":"SUM(R3:R4)","v":5},{"$f":"IF(SUMIF($K$15:$K$132,SaisonFin,$G$15:$G$132)>0,SUMIF($K$15:$K$132,SaisonFin,$F$15:$F$132)/SUMIF($K$15:$K$132,SaisonFin,$G$15:$G$132),\"\")","v":1.0544464609800364},{"$f":"SUM(T3:T4)","v":20},{"$f":"IF(SUM($G$15:$G$132)>0,SUM($F$15:$F$132)/SUM($G$15:$G$132),\"\")","v":0.92594433399602383},{"$f":"IF(SUMIF($K$15:$K$36,SaisonDeb,$G$15:$G$36)+SUMIF($K$15:$K$36,SaisonFin,$G$15:$G$36)>0,(SUMIF($K$15:$K$36,SaisonDeb,$F$15:$F$36)+SUMIF($K$15:$K$36,SaisonFin,$F$15:$F$36))/(SUMIF($K$15:$K$36,SaisonDeb,$G$15:$G$36)+SUMIF($K$15:$K$36,SaisonFin,$G$15:$G$36)),\"\")","v":1.0544464609800364}]
[null,null,null,null,null,null,null,null,null,null,null,null,null,"Sets","Gagnés",{"$f":"SUMIF($K$15:$K$132,SaisonDeb,$D$15:$D$132)","v":0},{"$f":"IF(P$6+P$7>0,P6/(P$6+P$7),\"\")","v":""},{"$f":"SUMIF($K$15:$K$132,SaisonFin,$D$15:$D$132)","v":3},{"$f":"IF(R$6+R$7>0,R6/(R$6+R$7),\"\")","v":0.6},{"$f":"SUM($D$15:$D$132)","v":13},{"$f":"IF(T$6+T$7>0,T6/(T$6+T$7),\"\")","v":0.41935483870967744}]
[null,null,null,null,null,null,null,null,null,null,null,null,null,null,"Perdus",{"$f":"SUMIF($K$15:$K$132,SaisonDeb,$E$15:$E$132)","v":0},{"$f":"IF(P$6+P$7>0,P7/(P$6+P$7),\"\")","v":""},{"$f":"SUMIF($K$15:$K$132,SaisonFin,$E$15:$E$132)","v":2},{"$f":"IF(R$6+R$7>0,R7/(R$6+R$7),\"\")","v":0.4},{"$f":"SUM($E$15:$E$132)","v":18},{"$f":"IF(T$6+T$7>0,T7/(T$6+T$7),\"\")","v":0.58064516129032262}]
["Récapitulatif joueurs",null,null,null,null,null,null,null,null,null,null,null,null,null,"Total",{"$f":"SUM(P6:P7)","v":0},null,{"$f":"SUM(R6:R7)","v":5},null,{"$f":"SUM(T6:T7)","v":31}]
[]
[]
[]
[]
[]
[]
["Joueur","Adversaire","G/P","Sets gagnés","Sets perdus","pts marqués","pts subis","Date","Compétition","Phase","Saison"]
["DIOT Alain","BOUIGES Armelle","G",1,0,100,86,"2016-11-26","5Q  CD60 R1 - T 2 - SENLIS","Tour 2",{"$f":"IF(H16<>\"\",IF(MONTH(H16)>MoisRef,YEAR(H16)&\"-\"&YEAR(H16)+1,YEAR(H16)-1&\"-\"&YEAR(H16)),\"\")","v":"2016-2017"},null,null,null,null,{"$f":"IF($K16=P$1,COUNTIF($C16,\"G\"),0)","v":0},null,{"$f":"IF($K16=R$1,COUNTIF($C16,\"G\"),0)","v":0}]
["DIOT Alain","BOUIGES Armelle","G",1,0,100,43,"2017-02-25","5Q  CD60 R1 - T 2 - SENLIS","Tour 3","2016-2017",null,null,null,null,0,null,0]
["DIOT Alain","STEINMANN Sébastien","P",0,2,68,120,"2017-03-18","5Q  CD60 R1 - Finale R1","Poule unique","2016-2017",null,null,null,null,0,null,0]
["DIOT Alain","LALOT Gérard","P",0,2,48,120,"2017-03-18","5Q  CD60 R1 - Finale R1","Poule unique","2016-2017",null,null,null,null,0,null,0]
["DIOT Alain","DUCHATEAU Jean-Pierre","G",2,0,120,54,"2017-03-18","5Q  CD60 R1 - Finale R1","Poule unique","2016-2017",null,null,null,null,0,null,0]
["DIOT Alain","STEINMANN Sébastien","P",0,1,37,100,"2017-01-21","5Q  CD60 R1 - T 3 - MERU","Tour 2","2016-2017",null,null,null,null,0,null,0]
["DIOT Alain","LAMARQUE Yves","G",1,0,100,56,"2017-01-21","5Q  CD60 R1 - T 3 - MERU","Tour 3","2016-2017",null,null,null,null,0,null,0]
["DIOT Alain","BOUIGES Armelle","G",1,0,100,26,"2017-01-21","5Q  CD60 R1 - T 3 - MERU","Tour 4","2016-2017",null,null,null,null,0,null,0]
["DIOT Alain","STEINMANN Sébastien","P",0,2,53,120,"2018-09-29","5 Q - T 1 OISE 2018-19 - R 1 - TOURNOI PRINCIPAL  - CREPY","Qualifications","2018-2019",null,null,null,null,0,null,0]
["DIOT Alain","STEINMANN Sébastien","G",2,1,156,154,"2018-09-29","5 Q - T 1 OISE 2018-19 - R 1 - TOURNOI PRINCIPAL  - CREPY","1/4 Finale","2018-2019",null,null,null,null,0,null,0]
["DIOT Alain","VANDEPUTTE Laurent","P",0,2,86,120,"2018-09-29","5 Q - T 1 OISE 2018-19 - R 1 - TOURNOI PRINCIPAL  - CREPY","1/2 Finale","2018-2019",null,null,null,null,0,null,0]
["DIOT Alain","VANEME Sophie","G",2,0,120,102,"2018-09-29","5 Q - T 1 OISE 2018-19 - R 1 - TOURNOI PRINCIPAL  - CREPY","Qualifications","2018-2019",null,null,null,null,0,null,0]
["DIOT Alain","LALOT Gérard","P",0,2,89,120,"2018-10-27","5 Q - T 2 OISE 2018-19 - R 1 - TOURNOI PRINCIPAL  - VILLERS","1/4 Finale","2018-2019",null,null,null,null,0,null,0]
["DIOT Alain","STEINMANN Sébastien","P",0,2,53,120,"2018-10-27","5 Q - T 2 OISE 2018-19 - R 1 - TOURNOI PRINCIPAL  - VILLERS","Qualifications","2018-2019",null,null,null,null,0,null,0]
["DIOT Alain","STEINMANN Sébastien","P",0,2,52,120,"2018-10-27","5 Q - T 2 OISE 2018-19 - R 1 - TOURNOI PRINCIPAL  - VILLERS","Qualifications","2018-2019",null,null,null,null,0,null,0]
["DIOT Alain","BOUTON Gérard","P",0,1,105,120,"2022-10-29","T 1 OISE - Qualifications R 1 - Tour Principal - MERU","Qualifications","2022-2023",null,null,null,null,0,null,0]
["DIOT Alain","BOUTON Gérard","G",1,0,120,95,"2022-10-29","T 1 OISE - Qualifications R 1 - Tour Principal - MERU","Qualifications","2022-2023",null,null,null,null,0,null,1]
["DIOT Alain","CHENAL Gérard","G",1,0,120,114,"2022-10-29","T 1 OISE - Qualifications R 1 - Tour Principal - MERU","1/4 Finale","2022-2023",null,null,null,null,0,null,1]
["DIOT Alain","HERTOUX Didier","P",0,1,116,120,"2022-10-29","T 1 OISE - Qualifications R 1 - Tour Principal - MERU","Finale","2022-2023",null,null,null,null,0,null,0]
["DIOT Alain","ZANOTTI Michel","G",1,0,120,102,"2022-10-29","T 1 OISE - Qualifications R 1 - Tour Principal - MERU","1/2 Finale","2022-2023",null,null,null,null,0,null,1]
["Fin des données",null,null,null,null,null,null,null,null,null,"",null,null,null,null,{"$f":"IF($K36=P$1,COUNTIF($C36,\"G\"),0)","v":0},null,{"$f":"IF($K36=R$1,COUNTIF($C36,\"G\"),0)","v":0}]

{"sheet":"DUBOIS Jean-Bernard","index":58,"n_rows":33,"n_cols":22,"rows_kept":33,"cut":false,"hidden":false,"merged":[]}
["DUBOIS Jean-Bernard",null,null,null,null,null,null,null,null,null,null,null,null,null,null,{"$f":"SaisonDeb","v":"2021-2022"},null,{"$f":"SaisonFin","v":"2022-2023"},null,"Toutes saisons"]
[{"$error":"#N/A"},null,null,null,null,null,null,null,null,null,null,null,null,null,null,"Nombre","%age","Nombre","%age","Nombre","%age"]
[{"$error":"#N/A"},null,null,null,null,null,null,null,null,null,null,null,null,"Matchs","Gagnés",{"$f":"SUM(P$15:P$129)","v":0},{"$f":"IF(P$3+P$4>0,P3/(P$3+P$4),\"\")","v":""},{"$f":"SUM(R$15:R$129)","v":0},{"$f":"IF(R$3+R$4>0,R3/(R$3+R$4),\"\")","v":""},{"$f":"COUNTIF($C$15:$C$129,\"G\")","v":9},{"$f":"IF(T$3+T$4>0,T3/(T$3+T$4),\"\")","v":0.52941176470588236}]
[{"$error":"#N/A"},null,null,null,null,null,null,null,null,null,null,null,null,null,"Perdus",{"$f":"COUNTIF($K$15:$M$129,SaisonDeb)-P3","v":0},{"$f":"IF(P$3+P$4>0,P4/(P$3+P$4),\"\")","v":""},{"$f":"COUNTIF($K$15:$K$129,SaisonFin)-R3","v":0},{"$f":"IF(R$3+R$4>0,R4/(R$3+R$4),\"\")","v":""},{"$f":"COUNTIF($C$15:$C$129,\"P\")","v":8},{"$f":"IF(T$3+T$4>0,T4/(T$3+T$4),\"\")","v":0.47058823529411764}]
[{"$error":"#N/A"},null,null,null,null,null,null,null,null,null,null,null,null,null,"Total / Moy.",{"$f":"SUM(P3:P4)","v":0},{"$f":"IF(SUMIF($K$15:$K$129,SaisonDeb,$G$15:$G$129)>0,SUMIF($K$15:$K$129,SaisonDeb,$F$15:$F$129)/SUMIF($K$15:$K$129,SaisonDeb,$G$15:$G$129),\"\")","v":""},{"$f":"SUM(R3:R4)","v":0},{"$f":"IF(SUMIF($K$15:$K$129,SaisonFin,$G$15:$G$129)>0,SUMIF($K$15:$K$129,SaisonFin,$F$15:$F$129)/SUMIF($K$15:$K$129,SaisonFin,$G$15:$G$129),\"\")","v":""},{"$f":"SUM(T3:T4)","v":17},{"$f":"IF(SUM($G$15:$G$129)>0,SUM($F$15:$F$129)/SUM($G$15:$G$129),\"\")","v":0.99875311720698257},{"$f":"IF(SUMIF($K$15:$K$33,SaisonDeb,$G$15:$G$33)+SUMIF($K$15:$K$33,SaisonFin,$G$15:$G$33)>0,(SUMIF($K$15:$K$33,SaisonDeb,$F$15:$F$33)+SUMIF($K$15:$K$33,SaisonFin,$F$15:$F$33))/(SUMIF($K$15:$K$33,SaisonDeb,$G$15:$G$33)+SUMIF($K$15:$K$33,SaisonFin,$G$15:$G$33)),\"\")","v":""}]
[null,null,null,null,null,null,null,null,null,null,null,null,null,"Sets","Gagnés",{"$f":"SUMIF($K$15:$K$129,SaisonDeb,$D$15:$D$129)","v":0},{"$f":"IF(P$6+P$7>0,P6/(P$6+P$7),\"\")","v":""},{"$f":"SUMIF($K$15:$K$129,SaisonFin,$D$15:$D$129)","v":0},{"$f":"IF(R$6+R$7>0,R6/(R$6+R$7),\"\")","v":""},{"$f":"SUM($D$15:$D$129)","v":16},{"$f":"IF(T$6+T$7>0,T6/(T$6+T$7),\"\")","v":0.55172413793103448}]
[null,null,null,null,null,null,null,null,null,null,null,null,null,null,"Perdus",{"$f":"SUMIF($K$15:$K$129,SaisonDeb,$E$15:$E$129)","v":0},{"$f":"IF(P$6+P$7>0,P7/(P$6+P$7),\"\")","v":""},{"$f":"SUMIF($K$15:$K$129,SaisonFin,$E$15:$E$129)","v":0},{"$f":"IF(R$6+R$7>0,R7/(R$6+R$7),\"\")","v":""},{"$f":"SUM($E$15:$E$129)","v":13},{"$f":"IF(T$6+T$7>0,T7/(T$6+T$7),\"\")","v":0.44827586206896552}]
["Récapitulatif joueurs",null,null,null,null,null,null,null,null,null,null,null,null,null,"Total",{"$f":"SUM(P6:P7)","v":0},null,{"$f":"SUM(R6:R7)","v":0},null,{"$f":"SUM(T6:T7)","v":29}]
[]
[]
[]
[]
[]
[]
["Joueur","Adversaire","G/P","Sets gagnés","Sets perdus","pts marqués","pts subis","Date","Compétition","Phase","Saison"]
["DUBOIS Jean-Bernard","DELAFOSSE Gilles","P",0,1,68,100,"2017-01-21","5Q  R1 CD80 - T2 - ABBEVILLE","Qualifications",{"$f":"IF(H16<>\"\",IF(MONTH(H16)>MoisRef,YEAR(H16)&\"-\"&YEAR(H16)+1,YEAR(H16)-1&\"-\"&YEAR(H16)),\"\")","v":"2016-2017"},null,null,null,null,{"$f":"IF($K16=P$1,COUNTIF($C16,\"G\"),0)","v":0},null,{"$f":"IF($K16=R$1,COUNTIF($C16,\"G\"),0)","v":0}]
["DUBOIS Jean-Bernard","DAMMONEVILLE Blandine","G",1,0,100,74,"2017-01-21","5Q  R1 CD80 - T2 - ABBEVILLE","Qualifications","2016-2017",null,null,null,null,{"$f":"IF($K17=P$1,COUNTIF($C17,\"G\"),0)","v":0},null,{"$f":"IF($K17=R$1,COUNTIF($C17,\"G\"),0)","v":0}]
["DUBOIS Jean-Bernard","BETTEFORT Mickael","P",0,1,65,100,"2017-01-21","5Q  R1 CD80 - T2 - ABBEVILLE","Qualifications","2016-2017",null,null,null,null,{"$f":"IF($K18=P$1,COUNTIF($C18,\"G\"),0)","v":0},null,{"$f":"IF($K18=R$1,COUNTIF($C18,\"G\"),0)","v":0}]
["DUBOIS Jean-Bernard","CABUZEL Denis","P",0,1,43,100,"2017-01-21","5Q  R1 CD80 - T2 - ABBEVILLE","Qualifications","2016-2017",null,null,null,null,{"$f":"IF($K19=P$1,COUNTIF($C19,\"G\"),0)","v":0},null,{"$f":"IF($K19=R$1,COUNTIF($C19,\"G\"),0)","v":0}]
["DUBOIS Jean-Bernard","DAMONNEVILLE Blandine","G",2,0,120,80,"2017-11-25","T1 5 QUILLES R1 CD80 - ABBEVILLE","Qualifications","2017-2018",null,null,null,null,{"$f":"IF($K20=P$1,COUNTIF($C20,\"G\"),0)","v":0},null,{"$f":"IF($K20=R$1,COUNTIF($C20,\"G\"),0)","v":0}]
["DUBOIS Jean-Bernard","DUHAMEL Eddy","G",2,0,120,105,"2017-11-25","T1 5 QUILLES R1 CD80 - ABBEVILLE","Qualifications","2017-2018",null,null,null,null,0,null,0]
["DUBOIS Jean-Bernard","DUMEIGE Similien","P",0,2,84,120,"2017-11-25","T1 5 QUILLES R1 CD80 - ABBEVILLE","1/2 Finale","2017-2018",null,null,null,null,0,null,0]
["DUBOIS Jean-Bernard","RENAULT Marius","G",2,1,170,150,"2017-11-25","T1 5 QUILLES R1 CD80 - ABBEVILLE","1/4 Finale","2017-2018",null,null,null,null,0,null,0]
["DUBOIS Jean-Bernard","DUHAMEL Eddy","P",0,2,48,120,"2018-01-06","T2 5 QUILLES R1 CD80 - ABBEVILLE","1/2 Finale","2017-2018",null,null,null,null,0,null,0]
["DUBOIS Jean-Bernard","DUHAMEL Marcellin","G",2,0,120,67,"2018-01-06","T2 5 QUILLES R1 CD80 - ABBEVILLE","Qualifications","2017-2018",null,null,null,null,0,null,0]
["DUBOIS Jean-Bernard","HERSELIN Jean-Claude","G",2,0,120,90,"2018-01-06","T2 5 QUILLES R1 CD80 - ABBEVILLE","1/4 Finale","2017-2018",null,null,null,null,0,null,0]
["DUBOIS Jean-Bernard","ROUTHIER David","G",2,0,120,78,"2018-01-06","T2 5 QUILLES R1 CD80 - ABBEVILLE","Qualifications","2017-2018",null,null,null,null,0,null,0]
["DUBOIS Jean-Bernard","DAMONNEVILLE Blandine","P",0,1,51,80,"2018-02-17","T3 5 QUILLES R1 CD80 - CONSOLANTE - MOREUIL","Qualifications","2017-2018",null,null,null,null,0,null,0]
["DUBOIS Jean-Bernard","DIEU Jean-Charles","G",1,0,80,36,"2018-02-17","T3 5 QUILLES R1 CD80 - CONSOLANTE - MOREUIL","Qualifications","2017-2018",null,null,null,null,0,null,0]
["DUBOIS Jean-Bernard","DUHAMEL Marcellin","P",0,2,89,120,"2018-02-17","T3 5 QUILLES R1 CD80 - MOREUIL","Qualifications","2017-2018",null,null,null,null,0,null,0]
["DUBOIS Jean-Bernard","VACAVANT Michel","G",2,0,120,64,"2018-02-17","T3 5 QUILLES R1 CD80 - MOREUIL","Qualifications","2017-2018",null,null,null,null,0,null,0]
["DUBOIS Jean-Bernard","DUMEIGE Similien","P",0,2,84,120,"2017-11-25","T1 5 QUILLES R1 CD80 - ABBEVILLE","1/2 Finale","2017-2018",null,null,null,null,{"$f":"IF($K32=P$1,COUNTIF($C32,\"G\"),0)","v":0},null,{"$f":"IF($K32=R$1,COUNTIF($C32,\"G\"),0)","v":0}]
["Fin des données",null,null,null,null,null,null,null,null,null,"",null,null,null,null,{"$f":"IF($K33=P$1,COUNTIF($C33,\"G\"),0)","v":0},null,{"$f":"IF($K33=R$1,COUNTIF($C33,\"G\"),0)","v":0}]

{"sheet":"DUC Stéphane","index":59,"n_rows":51,"n_cols":22,"rows_kept":51,"cut":false,"hidden":false,"merged":[]}
["DUC Stéphane",null,null,null,null,null,null,null,null,null,null,null,null,null,null,{"$f":"SaisonDeb","v":"2021-2022"},null,{"$f":"SaisonFin","v":"2022-2023"},null,"Toutes saisons"]
[{"$error":"#N/A"},null,null,null,null,null,null,null,null,null,null,null,null,null,null,"Nombre","%age","Nombre","%age","Nombre","%age"]
[{"$error":"#N/A"},null,null,null,null,null,null,null,null,null,null,null,null,"Matchs","Gagnés",{"$f":"SUM(P$15:P$147)","v":9},{"$f":"IF(P$3+P$4>0,P3/(P$3+P$4),\"\")","v":0.52941176470588236},{"$f":"SUM(R$15:R$147)","v":9},{"$f":"IF(R$3+R$4>0,R3/(R$3+R$4),\"\")","v":0.5},{"$f":"COUNTIF($C$15:$C$147,\"G\")","v":18},{"$f":"IF(T$3+T$4>0,T3/(T$3+T$4),\"\")","v":0.51428571428571423}]
[{"$error":"#N/A"},null,null,null,null,null,null,null,null,null,null,null,null,null,"Perdus",{"$f":"COUNTIF($K$15:$M$147,SaisonDeb)-P3","v":8},{"$f":"IF(P$3+P$4>0,P4/(P$3+P$4),\"\")","v":0.47058823529411764},{"$f":"COUNTIF($K$15:$K$147,SaisonFin)-R3","v":9},{"$f":"IF(R$3+R$4>0,R4/(R$3+R$4),\"\")","v":0.5},{"$f":"COUNTIF($C$15:$C$147,\"P\")","v":17},{"$f":"IF(T$3+T$4>0,T4/(T$3+T$4),\"\")","v":0.48571428571428571}]
[{"$error":"#N/A"},null,null,null,null,null,null,null,null,null,null,null,null,null,"Total / Moy.",{"$f":"SUM(P3:P4)","v":17},{"$f":"IF(SUMIF($K$15:$K$147,SaisonDeb,$G$15:$G$147)>0,SUMIF($K$15:$K$147,SaisonDeb,$F$15:$F$147)/SUMIF($K$15:$K$147,SaisonDeb,$G$15:$G$147),\"\")","v":1.0052980132450331},{"$f":"SUM(R3:R4)","v":18},{"$f":"IF(SUMIF($K$15:$K$147,SaisonFin,$G$15:$G$147)>0,SUMIF($K$15:$K$147,SaisonFin,$F$15:$F$147)/SUMIF($K$15:$K$147,SaisonFin,$G$15:$G$147),\"\")","v":1.0239346176298891},{"$f":"SUM(T3:T4)","v":35},{"$f":"IF(SUM($G$15:$G$147)>0,SUM($F$15:$F$147)/SUM($G$15:$G$147),\"\")","v":1.0152032268073223},{"$f":"IF(SUMIF($K$15:$K$51,SaisonDeb,$G$15:$G$51)+SUMIF($K$15:$K$51,SaisonFin,$G$15:$G$51)>0,(SUMIF($K$15:$K$51,SaisonDeb,$F$15:$F$51)+SUMIF($K$15:$K$51,SaisonFin,$F$15:$F$51))/(SUMIF($K$15:$K$51,SaisonDeb,$G$15:$G$51)+SUMIF($K$15:$K$51,SaisonFin,$G$15:$G$51)),\"\")","v":1.0152032268073223}]
[null,null,null,null,null,null,null,null,null,null,null,null,null,"Sets","Gagnés",{"$f":"SUMIF($K$15:$K$147,SaisonDeb,$D$15:$D$147)","v":10},{"$f":"IF(P$6+P$7>0,P6/(P$6+P$7),\"\")","v":0.5},{"$f":"SUMIF($K$15:$K$147,SaisonFin,$D$15:$D$147)","v":11},{"$f":"IF(R$6+R$7>0,R6/(R$6+R$7),\"\")","v":0.5},{"$f":"SUM($D$15:$D$147)","v":21},{"$f":"IF(T$6+T$7>0,T6/(T$6+T$7),\"\")","v":0.5}]
[null,null,null,null,null,null,null,null,null,null,null,null,null,null,"Perdus",{"$f":"SUMIF($K$15:$K$147,SaisonDeb,$E$15:$E$147)","v":10},{"$f":"IF(P$6+P$7>0,P7/(P$6+P$7),\"\")","v":0.5},{"$f":"SUMIF($K$15:$K$147,SaisonFin,$E$15:$E$147)","v":11},{"$f":"IF(R$6+R$7>0,R7/(R$6+R$7),\"\")","v":0.5},{"$f":"SUM($E$15:$E$147)","v":21},{"$f":"IF(T$6+T$7>0,T7/(T$6+T$7),\"\")","v":0.5}]
["Récapitulatif joueurs",null,null,null,null,null,null,null,null,null,null,null,null,null,"Total",{"$f":"SUM(P6:P7)","v":20},null,{"$f":"SUM(R6:R7)","v":22},null,{"$f":"SUM(T6:T7)","v":42}]
[]
[]
[]
[]
[]
[]
["Joueur","Adversaire","G/P","Sets gagnés","Sets perdus","pts marqués","pts subis","Date","Compétition","Phase","Saison"]
["DUC Stéphane","LE GOHEBEL Jacques","P",0,1,72,100,"2021-10-16","T1 5Q R1 - VILLENEUVE D'ASCQ","Qualifications",{"$f":"IF(H16<>\"\",IF(MONTH(H16)>MoisRef,YEAR(H16)&\"-\"&YEAR(H16)+1,YEAR(H16)-1&\"-\"&YEAR(H16)),\"\")","v":"2021-2022"},null,null,null,null,{"$f":"IF($K16=P$1,COUNTIF($C16,\"G\"),0)","v":0},null,{"$f":"IF($K16=R$1,COUNTIF($C16,\"G\"),0)","v":0}]
["DUC Stéphane","NOYER Pascal","P",0,1,75,100,"2021-10-16","T1 5Q R1 - VILLENEUVE D'ASCQ","Qualifications","2021-2022",null,null,null,null,0,null,0]
["DUC Stéphane","HAZELAERE François","G",1,0,100,93,"2021-10-16","T1 5Q R1 - VILLENEUVE D'ASCQ - CONSOLANTE","Qualifications","2021-2022",null,null,null,null,1,null,0]
["DUC Stéphane","LORTHIOIR Jean-Luc","G",1,0,100,0,"2021-10-16","T1 5Q R1 - VILLENEUVE D'ASCQ - CONSOLANTE","Qualifications","2021-2022",null,null,null,null,1,null,0]
["DUC Stéphane","BELLENS Antoine","P",0,1,54,100,"2021-12-18","T2 5Q R1 - GRAVELINES - CONVOCATON 8h30","Qualifications","2021-2022",null,null,null,null,0,null,0]
["DUC Stéphane","BLONDEL Jean","G",1,0,100,36,"2021-12-18","T2 5Q R1 - GRAVELINES - CONVOCATON 8h30","Qualifications","2021-2022",null,null,null,null,1,null,0]
["DUC Stéphane","KERKHOF Hervé","P",0,1,87,100,"2021-12-18","T2 5Q R1 - GRAVELINES - CONVOCATON 8h30","1/2 Finale","2021-2022",null,null,null,null,0,null,0]
["DUC Stéphane","LECROART Serge","G",1,0,100,82,"2021-12-18","T2 5Q R1 - GRAVELINES - CONVOCATON 8h30","1/4 Finale","2021-2022",null,null,null,null,1,null,0]
["DUC Stéphane","LE GOHEBEL Jacques","G",1,0,100,96,"2022-02-26","T3 5Q R1 - GRAVELINES - CONSOLANTE","Qualifications","2021-2022",null,null,null,null,1,null,0]
["DUC Stéphane","PARENT Jean-René","G",1,0,100,82,"2022-02-26","T3 5Q R1 - GRAVELINES - CONSOLANTE","Qualifications","2021-2022",null,null,null,null,1,null,0]
["DUC Stéphane","HOCHART James","P",0,1,54,100,"2022-02-26","T3 5Q R1 - GRAVELINES ","Qualifications","2021-2022",null,null,null,null,0,null,0]
["DUC Stéphane","HOCHART James","G",1,0,100,92,"2022-02-26","T3 5Q R1 - GRAVELINES ","Qualifications","2021-2022",null,null,null,null,1,null,0]
["DUC Stéphane","BELLENS Antoine","P",0,1,54,100,"2022-04-02","T4 5Q R1 - ANNOEULLIN","1/4 Finale","2021-2022",null,null,null,null,0,null,0]
["DUC Stéphane","HOCHART James","G",1,0,100,60,"2022-04-02","T4 5Q R1 - ANNOEULLIN","Qualifications","2021-2022",null,null,null,null,1,null,0]
["DUC Stéphane","WALGRAEF Pascal","P",0,1,93,100,"2022-04-02","T4 5Q R1 - ANNOEULLIN","Qualifications","2021-2022",null,null,null,null,0,null,0]
["DUC Stéphane","BEGHIN Nicolas","P",0,2,57,120,"2022-05-08","Finale CD59 5Q R1 - VILLENEUVE D'ASCQ","Qualifications","2021-2022",null,null,null,null,0,null,0]
["DUC Stéphane","KERKHOF Hervé","G",2,1,172,149,"2022-05-08","Finale CD59 5Q R1 - VILLENEUVE D'ASCQ","Qualifications","2021-2022",null,null,null,null,1,null,0]
["DUC Stéphane","LE GOHEBEL Jacques","P",1,2,151,143,"2023-04-16","Finale CD59 5Q R1 - RONCHIN","Qualifications","2022-2023",null,null,null,null,0,null,0]
["DUC Stéphane","PARENT Jean-René","P",1,2,135,164,"2023-04-16","Finale CD59 5Q R1 - RONCHIN","Qualifications","2022-2023",null,null,null,null,0,null,0]
["DUC Stéphane","LE GOHEBEL Jacques","P",0,1,68,100,"2022-09-24","T1 5Q R1 - VILLENEUVE D'ASCQ - CONVOCATION 8h30","Qualifications","2022-2023",null,null,null,null,0,null,0]
["DUC Stéphane","NOYER Pascal","G",1,0,100,91,"2022-09-24","T1 5Q R1 - VILLENEUVE D'ASCQ - CONVOCATION 8h30","Qualifications","2022-2023",null,null,null,null,0,null,1]
["DUC Stéphane","NOYER Pascal","G",1,0,100,83,"2022-09-24","T1 5Q R1 - VILLENEUVE D'ASCQ - CONVOCATION 8h30","1/2 Finale","2022-2023",null,null,null,null,0,null,1]
["DUC Stéphane","SZWARC Johann","G",1,0,100,69,"2022-09-24","T1 5Q R1 - VILLENEUVE D'ASCQ - CONVOCATION 8h30","Qualifications","2022-2023",null,null,null,null,0,null,1]
["DUC Stéphane","SZWARC Johann","P",0,1,88,100,"2022-09-24","T1 5Q R1 - VILLENEUVE D'ASCQ - CONVOCATION 8h30","Finale","2022-2023",null,null,null,null,0,null,0]
["DUC Stéphane","BERRIER François","G",1,0,100,81,"2022-10-30","T2 5Q R1 - GRAVELINES","Qualifications","2022-2023",null,null,null,null,0,null,1]
["DUC Stéphane","HOCHART James","P",0,1,50,100,"2022-10-30","T2 5Q R1 - GRAVELINES","1/4 Finale","2022-2023",null,null,null,null,0,null,0]
["DUC Stéphane","LECROART Serge","P",0,1,93,100,"2022-10-30","T2 5Q R1 - GRAVELINES","Qualifications","2022-2023",null,null,null,null,0,null,0]
["DUC Stéphane","LECROART Serge","P",0,1,88,100,"2023-02-04","T3 5Q R1 - GRAVELINES","1/2 Finale","2022-2023",null,null,null,null,0,null,0]
["DUC Stéphane","MANTEN Paul","G",1,0,100,86,"2023-02-04","T3 5Q R1 - GRAVELINES","Qualifications","2022-2023",null,null,null,null,0,null,1]
["DUC Stéphane","NOYER Pascal","P",0,1,86,100,"2023-02-04","T3 5Q R1 - GRAVELINES","Qualifications","2022-2023",null,null,null,null,0,null,0]
["DUC Stéphane","SZWARC Johann","G",1,0,100,73,"2023-02-04","T3 5Q R1 - GRAVELINES","1/4 Finale","2022-2023",null,null,null,null,0,null,1]
["DUC Stéphane","CAVITTE Jean-Pierre","G",1,0,100,53,"2023-03-04","T4 5Q R1 - DOUAI","Qualifications","2022-2023",null,null,null,null,0,null,1]
["DUC Stéphane","LE GOHEBEL Jacques","G",1,0,100,88,"2023-03-04","T4 5Q R1 - DOUAI","1/2 Finale","2022-2023",null,null,null,null,0,null,1]
["DUC Stéphane","LECROART Serge","P",0,1,95,100,"2023-03-04","T4 5Q R1 - DOUAI","Finale","2022-2023",null,null,null,null,0,null,0]
["DUC Stéphane","MACAREZ Guy","G",1,0,100,82,"2023-03-04","T4 5Q R1 - DOUAI","Qualifications","2022-2023",null,null,null,null,0,null,1]
["Fin des données",null,null,null,null,null,null,null,null,null,"",null,null,null,null,{"$f":"IF($K51=P$1,COUNTIF($C51,\"G\"),0)","v":0},null,{"$f":"IF($K51=R$1,COUNTIF($C51,\"G\"),0)","v":0}]

{"sheet":"DUCHATEAU Jean-Pierre","index":60,"n_rows":26,"n_cols":22,"rows_kept":26,"cut":false,"hidden":false,"merged":[]}
["DUCHATEAU Jean-Pierre",null,null,null,null,null,null,null,null,null,null,null,null,null,null,{"$f":"SaisonDeb","v":"2021-2022"},null,{"$f":"SaisonFin","v":"2022-2023"},null,"Toutes saisons"]
[{"$error":"#N/A"},null,null,null,null,null,null,null,null,null,null,null,null,null,null,"Nombre","%age","Nombre","%age","Nombre","%age"]
[{"$error":"#N/A"},null,null,null,null,null,null,null,null,null,null,null,null,"Matchs","Gagnés",{"$f":"SUM(P$15:P$122)","v":0},{"$f":"IF(P$3+P$4>0,P3/(P$3+P$4),\"\")","v":""},{"$f":"SUM(R$15:R$122)","v":0},{"$f":"IF(R$3+R$4>0,R3/(R$3+R$4),\"\")","v":0},{"$f":"COUNTIF($C$15:$C$122,\"G\")","v":2},{"$f":"IF(T$3+T$4>0,T3/(T$3+T$4),\"\")","v":0.2}]
[{"$error":"#N/A"},null,null,null,null,null,null,null,null,null,null,null,null,null,"Perdus",{"$f":"COUNTIF($K$15:$M$122,SaisonDeb)-P3","v":0},{"$f":"IF(P$3+P$4>0,P4/(P$3+P$4),\"\")","v":""},{"$f":"COUNTIF($K$15:$K$122,SaisonFin)-R3","v":3},{"$f":"IF(R$3+R$4>0,R4/(R$3+R$4),\"\")","v":1},{"$f":"COUNTIF($C$15:$C$122,\"P\")","v":8},{"$f":"IF(T$3+T$4>0,T4/(T$3+T$4),\"\")","v":0.8}]
[{"$error":"#N/A"},null,null,null,null,null,null,null,null,null,null,null,null,null,"Total / Moy.",{"$f":"SUM(P3:P4)","v":0},{"$f":"IF(SUMIF($K$15:$K$122,SaisonDeb,$G$15:$G$122)>0,SUMIF($K$15:$K$122,SaisonDeb,$F$15:$F$122)/SUMIF($K$15:$K$122,SaisonDeb,$G$15:$G$122),\"\")","v":""},{"$f":"SUM(R3:R4)","v":3},{"$f":"IF(SUMIF($K$15:$K$122,SaisonFin,$G$15:$G$122)>0,SUMIF($K$15:$K$122,SaisonFin,$F$15:$F$122)/SUMIF($K$15:$K$122,SaisonFin,$G$15:$G$122),\"\")","v":0.75555555555555554},{"$f":"SUM(T3:T4)","v":10},{"$f":"IF(SUM($G$15:$G$122)>0,SUM($F$15:$F$122)/SUM($G$15:$G$122),\"\")","v":0.86805555555555558},{"$f":"IF(SUMIF($K$15:$K$26,SaisonDeb,$G$15:$G$26)+SUMIF($K$15:$K$26,SaisonFin,$G$15:$G$26)>0,(SUMIF($K$15:$K$26,SaisonDeb,$F$15:$F$26)+SUMIF($K$15:$K$26,SaisonFin,$F$15:$F$26))/(SUMIF($K$15:$K$26,SaisonDeb,$G$15:$G$26)+SUMIF($K$15:$K$26,SaisonFin,$G$15:$G$26)),\"\")","v":0.75555555555555554}]
[null,null,null,null,null,null,null,null,null,null,null,null,null,"Sets","Gagnés",{"$f":"SUMIF($K$15:$K$122,SaisonDeb,$D$15:$D$122)","v":0},{"$f":"IF(P$6+P$7>0,P6/(P$6+P$7),\"\")","v":""},{"$f":"SUMIF($K$15:$K$122,SaisonFin,$D$15:$D$122)","v":0},{"$f":"IF(R$6+R$7>0,R6/(R$6+R$7),\"\")","v":0},{"$f":"SUM($D$15:$D$122)","v":4},{"$f":"IF(T$6+T$7>0,T6/(T$6+T$7),\"\")","v":0.23529411764705882}]
[null,null,null,null,null,null,null,null,null,null,null,null,null,null,"Perdus",{"$f":"SUMIF($K$15:$K$122,SaisonDeb,$E$15:$E$122)","v":0},{"$f":"IF(P$6+P$7>0,P7/(P$6+P$7),\"\")","v":""},{"$f":"SUMIF($K$15:$K$122,SaisonFin,$E$15:$E$122)","v":3},{"$f":"IF(R$6+R$7>0,R7/(R$6+R$7),\"\")","v":1},{"$f":"SUM($E$15:$E$122)","v":13},{"$f":"IF(T$6+T$7>0,T7/(T$6+T$7),\"\")","v":0.76470588235294112}]
["Récapitulatif joueurs",null,null,null,null,null,null,null,null,null,null,null,null,null,"Total",{"$f":"SUM(P6:P7)","v":0},null,{"$f":"SUM(R6:R7)","v":3},null,{"$f":"SUM(T6:T7)","v":17}]
[]
[]
[]
[]
[]
[]
["Joueur","Adversaire","G/P","Sets gagnés","Sets perdus","pts marqués","pts subis","Date","Compétition","Phase","Saison"]
["DUCHATEAU Jean-Pierre","BARTHON Aurélie","G",2,1,175,131,"2019-10-19","CD60  R1 - T1 - Tour Principal - BEAUVAIS","Qualifications",{"$f":"IF(H16<>\"\",IF(MONTH(H16)>MoisRef,YEAR(H16)&\"-\"&YEAR(H16)+1,YEAR(H16)-1&\"-\"&YEAR(H16)),\"\")","v":"2019-2020"},null,null,null,null,{"$f":"IF($K16=P$1,COUNTIF($C16,\"G\"),0)","v":0},null,{"$f":"IF($K16=R$1,COUNTIF($C16,\"G\"),0)","v":0}]
["DUCHATEAU Jean-Pierre","MAUGER Jean-Paul","P",0,2,83,120,"2019-10-19","CD60  R1 - T1 - Tour Principal - BEAUVAIS","Qualifications","2019-2020",null,null,null,null,0,null,0]
["DUCHATEAU Jean-Pierre","MAUGER Jean-Paul","P",0,2,46,120,"2019-10-19","CD60  R1 - T1 - Tour Principal - BEAUVAIS","1/4 Finale","2019-2020",null,null,null,null,0,null,0]
["DUCHATEAU Jean-Pierre","BOZON Robert","G",1,0,100,71,"2020-02-15","CD60  R1 - T 4 - Tour Principal - SENLIS","Qualifications","2019-2020",null,null,null,null,0,null,0]
["DUCHATEAU Jean-Pierre","LALOT Gérard","P",0,1,60,100,"2020-02-15","CD60  R1 - T 4 - Tour Principal - SENLIS","Qualifications","2019-2020",null,null,null,null,0,null,0]
["DUCHATEAU Jean-Pierre","LAMARQUE Yves","P",1,2,159,130,"2019-11-23","CD60  R1 - T2 - Tour Principal - MERU","Qualifications","2019-2020",null,null,null,null,0,null,0]
["DUCHATEAU Jean-Pierre","NAHIRNYJ Alexi","P",0,2,105,120,"2019-11-23","CD60  R1 - T2 - Tour Principal - MERU","Qualifications","2019-2020",null,null,null,null,0,null,0]
["DUCHATEAU Jean-Pierre","LAMARQUE Yves","P",0,1,100,120,"2022-12-29","T 3 OISE - Qualifications R 1 - Tour principal - SENLIS","Qualifications","2022-2023",null,null,null,null,0,null,0]
["DUCHATEAU Jean-Pierre","NAHIRNYJ Alexi","P",0,1,78,120,"2022-12-29","T 3 OISE - Qualifications R 1 - Tour principal - SENLIS","Qualifications","2022-2023",null,null,null,null,0,null,0]
["DUCHATEAU Jean-Pierre","NAHIRNYJ Alexi","P",0,1,94,120,"2022-12-29","T 3 OISE - Qualifications R 1 - Tour principal - SENLIS","1/4 Finale","2022-2023",null,null,null,null,0,null,0]
["Fin des données",null,null,null,null,null,null,null,null,null,"",null,null,null,null,0,null,0]

{"sheet":"DUCROCQ Joël","index":61,"n_rows":35,"n_cols":22,"rows_kept":35,"cut":false,"hidden":false,"merged":[]}
["DUCROCQ Joël",null,null,null,null,null,null,null,null,null,null,null,null,null,null,{"$f":"SaisonDeb","v":"2021-2022"},null,{"$f":"SaisonFin","v":"2022-2023"},null,"Toutes saisons"]
[{"$error":"#N/A"},null,null,null,null,null,null,null,null,null,null,null,null,null,null,"Nombre","%age","Nombre","%age","Nombre","%age"]
[{"$error":"#N/A"},null,null,null,null,null,null,null,null,null,null,null,null,"Matchs","Gagnés",{"$f":"SUM(P$15:P$124)","v":4},{"$f":"IF(P$3+P$4>0,P3/(P$3+P$4),\"\")","v":0.8},{"$f":"SUM(R$15:R$124)","v":3},{"$f":"IF(R$3+R$4>0,R3/(R$3+R$4),\"\")","v":0.42857142857142855},{"$f":"COUNTIF($C$15:$C$131,\"G\")","v":8},{"$f":"IF(T$3+T$4>0,T3/(T$3+T$4),\"\")","v":0.42105263157894735}]
[{"$error":"#N/A"},null,null,null,null,null,null,null,null,null,null,null,null,null,"Perdus",{"$f":"COUNTIF($K$15:$M$124,SaisonDeb)-P3","v":1},{"$f":"IF(P$3+P$4>0,P4/(P$3+P$4),\"\")","v":0.2},{"$f":"COUNTIF($K$15:$K$131,SaisonFin)-R3","v":4},{"$f":"IF(R$3+R$4>0,R4/(R$3+R$4),\"\")","v":0.5714285714285714},{"$f":"COUNTIF($C$15:$C$131,\"P\")","v":11},{"$f":"IF(T$3+T$4>0,T4/(T$3+T$4),\"\")","v":0.57894736842105265}]
[{"$error":"#N/A"},null,null,null,null,null,null,null,null,null,null,null,null,null,"Total / Moy.",{"$f":"SUM(P3:P4)","v":5},{"$f":"IF(SUMIF($K$15:$K$131,SaisonDeb,$G$15:$G$131)>0,SUMIF($K$15:$K$131,SaisonDeb,$F$15:$F$131)/SUMIF($K$15:$K$131,SaisonDeb,$G$15:$G$131),\"\")","v":1.2923076923076924},{"$f":"SUM(R3:R4)","v":7},{"$f":"IF(SUMIF($K$15:$K$131,SaisonFin,$G$15:$G$131)>0,SUMIF($K$15:$K$131,SaisonFin,$F$15:$F$131)/SUMIF($K$15:$K$131,SaisonFin,$G$15:$G$131),\"\")","v":0.91785323110624317},{"$f":"SUM(T3:T4)","v":19},{"$f":"IF(SUM($G$15:$G$131)>0,SUM($F$15:$F$131)/SUM($G$15:$G$131),\"\")","v":0.96060730406237171},{"$f":"IF(SUMIF($K$15:$K$35,SaisonDeb,$G$15:$G$35)+SUMIF($K$15:$K$35,SaisonFin,$G$15:$G$35)>0,(SUMIF($K$15:$K$35,SaisonDeb,$F$15:$F$35)+SUMIF($K$15:$K$35,SaisonFin,$F$15:$F$35))/(SUMIF($K$15:$K$35,SaisonDeb,$G$15:$G$35)+SUMIF($K$15:$K$35,SaisonFin,$G$15:$G$35)),\"\")","v":1.0640854472630175}]
[null,null,null,null,null,null,null,null,null,null,null,null,null,"Sets","Gagnés",{"$f":"SUMIF($K$15:$K$131,SaisonDeb,$D$15:$D$131)","v":9},{"$f":"IF(P$6+P$7>0,P6/(P$6+P$7),\"\")","v":0.69230769230769229},{"$f":"SUMIF($K$15:$K$131,SaisonFin,$D$15:$D$131)","v":9},{"$f":"IF(R$6+R$7>0,R6/(R$6+R$7),\"\")","v":0.52941176470588236},{"$f":"SUM($D$15:$D$131)","v":23},{"$f":"IF(T$6+T$7>0,T6/(T$6+T$7),\"\")","v":0.48936170212765956}]
[null,null,null,null,null,null,null,null,null,null,null,null,null,null,"Perdus",{"$f":"SUMIF($K$15:$K$131,SaisonDeb,$E$15:$E$131)","v":4},{"$f":"IF(P$6+P$7>0,P7/(P$6+P$7),\"\")","v":0.30769230769230771},{"$f":"SUMIF($K$15:$K$131,SaisonFin,$E$15:$E$131)","v":8},{"$f":"IF(R$6+R$7>0,R7/(R$6+R$7),\"\")","v":0.47058823529411764},{"$f":"SUM($E$15:$E$131)","v":24},{"$f":"IF(T$6+T$7>0,T7/(T$6+T$7),\"\")","v":0.51063829787234039}]
["Récapitulatif joueurs",null,null,null,null,null,null,null,null,null,null,null,null,null,"Total",{"$f":"SUM(P6:P7)","v":13},null,{"$f":"SUM(R6:R7)","v":17},null,{"$f":"SUM(T6:T7)","v":47}]
[]
[]
[]
[]
[]
[]
["Joueur","Adversaire","G/P","Sets gagnés","Sets perdus","pts marqués","pts subis","Date","Compétition","Phase","Saison"]
["DUCROCQ Joël","GAMBIER Francis","P",0,2,84,120,"2020-01-12","T1 Qualifications CD 62 R1 - CUCQ","Qualifications",{"$f":"IF(H16<>\"\",IF(MONTH(H16)>MoisRef,YEAR(H16)&\"-\"&YEAR(H16)+1,YEAR(H16)-1&\"-\"&YEAR(H16)),\"\")","v":"2019-2020"},null,null,null,null,{"$f":"IF($K16=P$1,COUNTIF($C16,\"G\"),0)","v":0},null,{"$f":"IF($K16=R$1,COUNTIF($C16,\"G\"),0)","v":0}]
["DUCROCQ Joël","TRIPLET  Gilbert","P",0,2,70,120,"2020-01-12","T1 Qualifications CD 62 R1 - CUCQ","Qualifications","2019-2020",null,null,null,null,0,null,0]
["DUCROCQ Joël","MONTADOR Christophe","P",1,2,146,179,"2020-02-02","T2 Qualifications CD62 R1 - WIMILLE","Qualifications","2019-2020",null,null,null,null,0,null,0]
["DUCROCQ Joël","TRIPLET  Gilbert","P",0,2,84,120,"2020-02-02","T2 Qualifications CD62 R1 - WIMILLE","Qualifications","2019-2020",null,null,null,null,0,null,0]
["DUCROCQ Joël","CYFFERS Jean Bernard","G",2,0,120,101,"2020-02-15","T3 Qualifications CD62 R1 - WIMILLE","Qualifications","2019-2020",null,null,null,null,0,null,0]
["DUCROCQ Joël","TIZON Alain","P",1,2,134,174,"2020-02-15","T3 Qualifications CD62 R1 - WIMILLE","1/2 Finale","2019-2020",null,null,null,null,0,null,0]
["DUCROCQ Joël","TRIPLET  Gilbert","P",1,2,109,125,"2020-02-15","T3 Qualifications CD62 R1 - WIMILLE","Qualifications","2019-2020",null,null,null,null,0,null,0]
["DUCROCQ Joël","MONTADOR Christophe","P",1,2,173,175,"2021-10-24","T1 CD62 5Q R1 - CUCQ","1/2 Finale","2021-2022",null,null,null,null,0,null,0]
["DUCROCQ Joël","RAMET Jacques","G",2,1,178,121,"2021-10-24","T1 CD62 5Q R1 - CUCQ","Qualifications","2021-2022",null,null,null,null,1,null,0]
["DUCROCQ Joël","RAMET Jacques","G",2,1,165,137,"2021-10-24","T1 CD62 5Q R1 - CUCQ","Qualifications","2021-2022",null,null,null,null,1,null,0]
["DUCROCQ Joël","RAMET Jacques","G",2,0,120,80,"2021-11-27","T2 CD62 5Q R1 - WIMILLE","Qualifications","2021-2022",null,null,null,null,1,null,0]
["DUCROCQ Joël","RAMET Jacques","G",2,0,120,72,"2021-11-27","T2 CD62 5Q R1 - WIMILLE","Qualifications","2021-2022",null,null,null,null,1,null,0]
["DUCROCQ Joël","CARTIERE André","P",0,2,42,120,"2023-02-12","T3 CD62 5Q R1 - CUCQ","Qualifications",{"$f":"IF(H28<>\"\",IF(MONTH(H28)>MoisRef,YEAR(H28)&\"-\"&YEAR(H28)+1,YEAR(H28)-1&\"-\"&YEAR(H28)),\"\")","v":"2022-2023"},null,null,null,null,0,null,0]
["DUCROCQ Joël","LANCRY  Bruno","P",1,2,165,171,"2023-02-12","T3 CD62 5Q R1 - CUCQ","Qualifications","2022-2023",null,null,null,null,0,null,0]
["DUCROCQ Joël","MINET Lionel","G",2,0,120,108,"2023-02-12","T3 CD62 5Q R1 - CUCQ","Qualifications","2022-2023",null,null,null,null,0,null,1]
["DUCROCQ Joël","TILLIETTE Michel","P",1,2,114,176,"2023-02-12","T3 CD62 5Q R1 - CUCQ","Qualifications","2022-2023",null,null,null,null,0,null,0]
["DUCROCQ Joël","LIMOSINO Jacques","G",2,0,120,106,"2022-11-05","T1 CD62 5Q R1 - WIMILLE","Qualifications","2022-2023",null,null,null,null,0,null,1]
["DUCROCQ Joël","LIMOSINO Jacques","G",2,0,120,65,"2022-11-05","T1 CD62 5Q R1 - WIMILLE","Qualifications","2022-2023",null,null,null,null,0,null,1]
["DUCROCQ Joël","MINET Lionel","P",1,2,157,167,"2022-11-05","T1 CD62 5Q R1 - WIMILLE","1/2 Finale","2022-2023",null,null,null,null,0,null,0]
["Fin des données",null,null,null,null,null,null,null,null,null,""]

{"sheet":"DUFRESNOY Michel","index":62,"n_rows":37,"n_cols":22,"rows_kept":37,"cut":false,"hidden":false,"merged":[]}
["DUFRESNOY Michel",null,null,null,null,null,null,null,null,null,null,null,null,null,null,{"$f":"SaisonDeb","v":"2021-2022"},null,{"$f":"SaisonFin","v":"2022-2023"},null,"Toutes saisons"]
[{"$error":"#N/A"},null,null,null,null,null,null,null,null,null,null,null,null,null,null,"Nombre","%age","Nombre","%age","Nombre","%age"]
[{"$error":"#N/A"},null,null,null,null,null,null,null,null,null,null,null,null,"Matchs","Gagnés",{"$f":"SUM(P$15:P$133)","v":0},{"$f":"IF(P$3+P$4>0,P3/(P$3+P$4),\"\")","v":""},{"$f":"SUM(R$15:R$133)","v":0},{"$f":"IF(R$3+R$4>0,R3/(R$3+R$4),\"\")","v":""},{"$f":"COUNTIF($C$15:$C$133,\"G\")","v":12},{"$f":"IF(T$3+T$4>0,T3/(T$3+T$4),\"\")","v":0.5714285714285714}]
[{"$error":"#N/A"},null,null,null,null,null,null,null,null,null,null,null,null,null,"Perdus",{"$f":"COUNTIF($K$15:$M$133,SaisonDeb)-P3","v":0},{"$f":"IF(P$3+P$4>0,P4/(P$3+P$4),\"\")","v":""},{"$f":"COUNTIF($K$15:$K$133,SaisonFin)-R3","v":0},{"$f":"IF(R$3+R$4>0,R4/(R$3+R$4),\"\")","v":""},{"$f":"COUNTIF($C$15:$C$133,\"P\")","v":9},{"$f":"IF(T$3+T$4>0,T4/(T$3+T$4),\"\")","v":0.42857142857142855}]
[{"$error":"#N/A"},null,null,null,null,null,null,null,null,null,null,null,null,null,"Total / Moy.",{"$f":"SUM(P3:P4)","v":0},{"$f":"IF(SUMIF($K$15:$K$133,SaisonDeb,$G$15:$G$133)>0,SUMIF($K$15:$K$133,SaisonDeb,$F$15:$F$133)/SUMIF($K$15:$K$133,SaisonDeb,$G$15:$G$133),\"\")","v":""},{"$f":"SUM(R3:R4)","v":0},{"$f":"IF(SUMIF($K$15:$K$133,SaisonFin,$G$15:$G$133)>0,SUMIF($K$15:$K$133,SaisonFin,$F$15:$F$133)/SUMIF($K$15:$K$133,SaisonFin,$G$15:$G$133),\"\")","v":""},{"$f":"SUM(T3:T4)","v":21},{"$f":"IF(SUM($G$15:$G$133)>0,SUM($F$15:$F$133)/SUM($G$15:$G$133),\"\")","v":1.0081214689265536},{"$f":"IF(SUMIF($K$15:$K$37,SaisonDeb,$G$15:$G$37)+SUMIF($K$15:$K$37,SaisonFin,$G$15:$G$37)>0,(SUMIF($K$15:$K$37,SaisonDeb,$F$15:$F$37)+SUMIF($K$15:$K$37,SaisonFin,$F$15:$F$37))/(SUMIF($K$15:$K$37,SaisonDeb,$G$15:$G$37)+SUMIF($K$15:$K$37,SaisonFin,$G$15:$G$37)),\"\")","v":""}]
[null,null,null,null,null,null,null,null,null,null,null,null,null,"Sets","Gagnés",{"$f":"SUMIF($K$15:$K$133,SaisonDeb,$D$15:$D$133)","v":0},{"$f":"IF(P$6+P$7>0,P6/(P$6+P$7),\"\")","v":""},{"$f":"SUMIF($K$15:$K$133,SaisonFin,$D$15:$D$133)","v":0},{"$f":"IF(R$6+R$7>0,R6/(R$6+R$7),\"\")","v":""},{"$f":"SUM($D$15:$D$133)","v":30},{"$f":"IF(T$6+T$7>0,T6/(T$6+T$7),\"\")","v":0.52631578947368418}]
[null,null,null,null,null,null,null,null,null,null,null,null,null,null,"Perdus",{"$f":"SUMIF($K$15:$K$133,SaisonDeb,$E$15:$E$133)","v":0},{"$f":"IF(P$6+P$7>0,P7/(P$6+P$7),\"\")","v":""},{"$f":"SUMIF($K$15:$K$133,SaisonFin,$E$15:$E$133)","v":0},{"$f":"IF(R$6+R$7>0,R7/(R$6+R$7),\"\")","v":""},{"$f":"SUM($E$15:$E$133)","v":27},{"$f":"IF(T$6+T$7>0,T7/(T$6+T$7),\"\")","v":0.47368421052631576}]
["Récapitulatif joueurs",null,null,null,null,null,null,null,null,null,null,null,null,null,"Total",{"$f":"SUM(P6:P7)","v":0},null,{"$f":"SUM(R6:R7)","v":0},null,{"$f":"SUM(T6:T7)","v":57}]
[]
[]
[]
[]
[]
[]
["Joueur","Adversaire","G/P","Sets gagnés","Sets perdus","pts marqués","pts subis","Date","Compétition","Phase","Saison"]
["DUFRESNOY Michel","HENRY Tony","G",2,1,170,142,"2017-11-25","T1 5 QUILLES R1 CD80 - ABBEVILLE","Qualifications",{"$f":"IF(H16<>\"\",IF(MONTH(H16)>MoisRef,YEAR(H16)&\"-\"&YEAR(H16)+1,YEAR(H16)-1&\"-\"&YEAR(H16)),\"\")","v":"2017-2018"},null,null,null,null,{"$f":"IF($K16=P$1,COUNTIF($C16,\"G\"),0)","v":0},null,{"$f":"IF($K16=R$1,COUNTIF($C16,\"G\"),0)","v":0}]
["DUFRESNOY Michel","WARIN Yannick","P",0,2,54,120,"2017-11-25","T1 5 QUILLES R1 CD80 - ABBEVILLE","Qualifications","2017-2018",null,null,null,null,0,null,0]
["DUFRESNOY Michel","HERSELIN Jean-Claude","P",0,2,70,120,"2018-01-06","T2 5 QUILLES R1 CD80 - ABBEVILLE","Qualifications","2017-2018",null,null,null,null,0,null,0]
["DUFRESNOY Michel","WARIN Yannick","P",0,2,65,120,"2018-01-06","T2 5 QUILLES R1 CD80 - ABBEVILLE","Qualifications","2017-2018",null,null,null,null,0,null,0]
["DUFRESNOY Michel","CUVILLIER François","P",0,2,73,120,"2018-02-17","T3 5 QUILLES R1 CD80 - MOREUIL","1/4 Finale","2017-2018",null,null,null,null,0,null,0]
["DUFRESNOY Michel","DIEU Jean-Charles","G",2,0,120,67,"2018-02-17","T3 5 QUILLES R1 CD80 - MOREUIL","Qualifications","2017-2018",null,null,null,null,0,null,0]
["DUFRESNOY Michel","DUHAMEL Eddy","P",1,2,159,174,"2018-02-17","T3 5 QUILLES R1 CD80 - MOREUIL","Qualifications","2017-2018",null,null,null,null,0,null,0]
["DUFRESNOY Michel","CHAIGNE Gilles","G",2,1,170,96,"2018-10-20","T1 R1 CD80 - MOREUIL","1/4 Finale","2018-2019",null,null,null,null,0,null,0]
["DUFRESNOY Michel","DUHAMEL Eddy","G",2,1,158,147,"2018-10-20","T1 R1 CD80 - MOREUIL","Finale","2018-2019",null,null,null,null,0,null,0]
["DUFRESNOY Michel","DUHAMEL Marcellin","G",2,0,120,86,"2018-10-20","T1 R1 CD80 - MOREUIL","Qualifications","2018-2019",null,null,null,null,0,null,0]
["DUFRESNOY Michel","DUHAMEL Marcellin","G",2,0,120,65,"2018-10-20","T1 R1 CD80 - MOREUIL","Qualifications","2018-2019",null,null,null,null,0,null,0]
["DUFRESNOY Michel","DUMEIGE Similien","G",2,1,143,144,"2018-10-20","T1 R1 CD80 - MOREUIL","1/2 Finale","2018-2019",null,null,null,null,0,null,0]
["DUFRESNOY Michel","CABUZEL Denis","P",1,2,143,172,"2018-11-24","T2 R1 CD80 - ","1/8 Finale","2018-2019",null,null,null,null,0,null,0]
["DUFRESNOY Michel","GUERIN Astrid","G",2,1,159,128,"2018-11-24","T2 R1 CD80 - ","Qualifications","2018-2019",null,null,null,null,0,null,0]
["DUFRESNOY Michel","ROUTHIER David","G",2,1,156,154,"2018-11-24","T2 R1 CD80 - ","Qualifications","2018-2019",null,null,null,null,0,null,0]
["DUFRESNOY Michel","DUHAMEL Marcellin","G",2,0,120,94,"2019-01-05","T3 R1 CD80 - MOREUIL","Qualifications","2018-2019",null,null,null,null,0,null,0]
["DUFRESNOY Michel","DUMEIGE Similien","P",1,2,157,168,"2019-01-05","T3 R1 CD80 - MOREUIL","1/4 Finale","2018-2019",null,null,null,null,0,null,0]
["DUFRESNOY Michel","GUERIN Astrid","G",2,0,120,70,"2019-01-05","T3 R1 CD80 - MOREUIL","Qualifications","2018-2019",null,null,null,null,0,null,0]
["DUFRESNOY Michel","CHAIGNE Gilles","P",1,3,180,238,"2019-02-23","Finale 5Q R1 CD80 - PONT DE METZ","Poule unique","2018-2019",null,null,null,null,0,null,0]
["DUFRESNOY Michel","DUHAMEL Eddy","G",3,1,223,195,"2019-02-23","Finale 5Q R1 CD80 - PONT DE METZ","Poule unique","2018-2019",null,null,null,null,0,null,0]
["DUFRESNOY Michel","DUMEIGE Stéphane","P",1,3,175,212,"2019-02-23","Finale 5Q R1 CD80 - PONT DE METZ","Poule unique","2018-2019",null,null,null,null,0,null,0]
["Fin des données",null,null,null,null,null,null,null,null,null,"",null,null,null,null,{"$f":"IF($K37=P$1,COUNTIF($C37,\"G\"),0)","v":0},null,{"$f":"IF($K37=R$1,COUNTIF($C37,\"G\"),0)","v":0}]

{"sheet":"DUHAMEL Eddy","index":63,"n_rows":51,"n_cols":22,"rows_kept":51,"cut":false,"hidden":false,"merged":[]}
["DUHAMEL Eddy",null,null,null,null,null,null,null,null,null,null,null,null,null,null,{"$f":"SaisonDeb","v":"2021-2022"},null,{"$f":"SaisonFin","v":"2022-2023"},null,"Toutes saisons"]
[{"$error":"#N/A"},null,null,null,null,null,null,null,null,null,null,null,null,null,null,"Nombre","%age","Nombre","%age","Nombre","%age"]
[{"$error":"#N/A"},null,null,null,null,null,null,null,null,null,null,null,null,"Matchs","Gagnés",{"$f":"SUM(P$15:P$147)","v":0},{"$f":"IF(P$3+P$4>0,P3/(P$3+P$4),\"\")","v":""},{"$f":"SUM(R$15:R$147)","v":0},{"$f":"IF(R$3+R$4>0,R3/(R$3+R$4),\"\")","v":""},{"$f":"COUNTIF($C$15:$C$147,\"G\")","v":25},{"$f":"IF(T$3+T$4>0,T3/(T$3+T$4),\"\")","v":0.7142857142857143}]
[{"$error":"#N/A"},null,null,null,null,null,null,null,null,null,null,null,null,null,"Perdus",{"$f":"COUNTIF($K$15:$M$147,SaisonDeb)-P3","v":0},{"$f":"IF(P$3+P$4>0,P4/(P$3+P$4),\"\")","v":""},{"$f":"COUNTIF($K$15:$K$147,SaisonFin)-R3","v":0},{"$f":"IF(R$3+R$4>0,R4/(R$3+R$4),\"\")","v":""},{"$f":"COUNTIF($C$15:$C$147,\"P\")","v":10},{"$f":"IF(T$3+T$4>0,T4/(T$3+T$4),\"\")","v":0.2857142857142857}]
[{"$error":"#N/A"},null,null,null,null,null,null,null,null,null,null,null,null,null,"Total / Moy.",{"$f":"SUM(P3:P4)","v":0},{"$f":"IF(SUMIF($K$15:$K$147,SaisonDeb,$G$15:$G$147)>0,SUMIF($K$15:$K$147,SaisonDeb,$F$15:$F$147)/SUMIF($K$15:$K$147,SaisonDeb,$G$15:$G$147),\"\")","v":""},{"$f":"SUM(R3:R4)","v":0},{"$f":"IF(SUMIF($K$15:$K$147,SaisonFin,$G$15:$G$147)>0,SUMIF($K$15:$K$147,SaisonFin,$F$15:$F$147)/SUMIF($K$15:$K$147,SaisonFin,$G$15:$G$147),\"\")","v":""},{"$f":"SUM(T3:T4)","v":35},{"$f":"IF(SUM($G$15:$G$147)>0,SUM($F$15:$F$147)/SUM($G$15:$G$147),\"\")","v":1.1832715477293791},{"$f":"IF(SUMIF($K$15:$K$51,SaisonDeb,$G$15:$G$51)+SUMIF($K$15:$K$51,SaisonFin,$G$15:$G$51)>0,(SUMIF($K$15:$K$51,SaisonDeb,$F$15:$F$51)+SUMIF($K$15:$K$51,SaisonFin,$F$15:$F$51))/(SUMIF($K$15:$K$51,SaisonDeb,$G$15:$G$51)+SUMIF($K$15:$K$51,SaisonFin,$G$15:$G$51)),\"\")","v":""}]
[null,null,null,null,null,null,null,null,null,null,null,null,null,"Sets","Gagnés",{"$f":"SUMIF($K$15:$K$147,SaisonDeb,$D$15:$D$147)","v":0},{"$f":"IF(P$6+P$7>0,P6/(P$6+P$7),\"\")","v":""},{"$f":"SUMIF($K$15:$K$147,SaisonFin,$D$15:$D$147)","v":0},{"$f":"IF(R$6+R$7>0,R6/(R$6+R$7),\"\")","v":""},{"$f":"SUM($D$15:$D$147)","v":59},{"$f":"IF(T$6+T$7>0,T6/(T$6+T$7),\"\")","v":0.63440860215053763}]
[null,null,null,null,null,null,null,null,null,null,null,null,null,null,"Perdus",{"$f":"SUMIF($K$15:$K$147,SaisonDeb,$E$15:$E$147)","v":0},{"$f":"IF(P$6+P$7>0,P7/(P$6+P$7),\"\")","v":""},{"$f":"SUMIF($K$15:$K$147,SaisonFin,$E$15:$E$147)","v":0},{"$f":"IF(R$6+R$7>0,R7/(R$6+R$7),\"\")","v":""},{"$f":"SUM($E$15:$E$147)","v":34},{"$f":"IF(T$6+T$7>0,T7/(T$6+T$7),\"\")","v":0.36559139784946237}]
["Récapitulatif joueurs",null,null,null,null,null,null,null,null,null,null,null,null,null,"Total",{"$f":"SUM(P6:P7)","v":0},null,{"$f":"SUM(R6:R7)","v":0},null,{"$f":"SUM(T6:T7)","v":93}]
[]
[]
[]
[]
[]
[]
["Joueur","Adversaire","G/P","Sets gagnés","Sets perdus","pts marqués","pts subis","Date","Compétition","Phase","Saison"]
["DUHAMEL Eddy","CUVILLIER François","P",1,3,171,222,"2018-03-24","Finale R1 CD80 - ABCP","Qualifications",{"$f":"IF(H16<>\"\",IF(MONTH(H16)>MoisRef,YEAR(H16)&\"-\"&YEAR(H16)+1,YEAR(H16)-1&\"-\"&YEAR(H16)),\"\")","v":"2017-2018"},null,null,null,null,{"$f":"IF($K16=P$1,COUNTIF($C16,\"G\"),0)","v":0},null,{"$f":"IF($K16=R$1,COUNTIF($C16,\"G\"),0)","v":0}]
["DUHAMEL Eddy","DUMEIGE Similien","G",3,0,180,101,"2018-03-24","Finale R1 CD80 - ABCP","Qualifications","2017-2018",null,null,null,null,0,null,0]
["DUHAMEL Eddy","WARIN Yannick","G",3,2,279,274,"2018-03-24","Finale R1 CD80 - ABCP","Qualifications","2017-2018",null,null,null,null,0,null,0]
["DUHAMEL Eddy","CUVILLIER François","G",2,0,120,70,"2017-11-25","T1 5 QUILLES R1 CD80 - ABBEVILLE","1/4 Finale","2017-2018",null,null,null,null,0,null,0]
["DUHAMEL Eddy","DAMONNEVILLE Blandine","G",2,0,120,67,"2017-11-25","T1 5 QUILLES R1 CD80 - ABBEVILLE","Qualifications","2017-2018",null,null,null,null,0,null,0]
["DUHAMEL Eddy","DUBOIS Jean-Bernard","P",0,2,105,120,"2017-11-25","T1 5 QUILLES R1 CD80 - ABBEVILLE","Qualifications","2017-2018",null,null,null,null,0,null,0]
["DUHAMEL Eddy","WARIN Yannick","P",1,2,177,144,"2017-11-25","T1 5 QUILLES R1 CD80 - ABBEVILLE","1/2 Finale","2017-2018",null,null,null,null,0,null,0]
["DUHAMEL Eddy","DELRUE Céline","G",2,0,120,76,"2018-01-06","T2 5 QUILLES R1 CD80 - ABBEVILLE","Qualifications","2017-2018",null,null,null,null,0,null,0]
["DUHAMEL Eddy","DUBOIS Jean-Bernard","G",2,0,120,48,"2018-01-06","T2 5 QUILLES R1 CD80 - ABBEVILLE","1/2 Finale","2017-2018",null,null,null,null,0,null,0]
["DUHAMEL Eddy","RENAULT Marius","G",2,0,120,63,"2018-01-06","T2 5 QUILLES R1 CD80 - ABBEVILLE","Qualifications","2017-2018",null,null,null,null,0,null,0]
["DUHAMEL Eddy","ROUTHIER David","G",2,0,120,78,"2018-01-06","T2 5 QUILLES R1 CD80 - ABBEVILLE","1/4 Finale","2017-2018",null,null,null,null,0,null,0]
["DUHAMEL Eddy","WARIN Yannick","P",0,2,93,120,"2018-01-06","T2 5 QUILLES R1 CD80 - ABBEVILLE","Finale","2017-2018",null,null,null,null,0,null,0]
["DUHAMEL Eddy","DIEU Jean-Charles","G",2,1,163,165,"2018-02-17","T3 5 QUILLES R1 CD80 - MOREUIL","Qualifications","2017-2018",null,null,null,null,0,null,0]
["DUHAMEL Eddy","DUFRESNOY Michel","G",2,1,174,159,"2018-02-17","T3 5 QUILLES R1 CD80 - MOREUIL","Qualifications","2017-2018",null,null,null,null,0,null,0]
["DUHAMEL Eddy","DUMEIGE Similien","P",0,2,78,120,"2018-02-17","T3 5 QUILLES R1 CD80 - MOREUIL","1/4 Finale","2017-2018",null,null,null,null,0,null,0]
["DUHAMEL Eddy","WARIN Yannick","P",1,2,177,144,"2017-11-25","T1 5 QUILLES R1 CD80 - ABBEVILLE","1/2 Finale","2017-2018",null,null,null,null,{"$f":"IF($K31=P$1,COUNTIF($C31,\"G\"),0)","v":0},null,{"$f":"IF($K31=R$1,COUNTIF($C31,\"G\"),0)","v":0}]
["DUHAMEL Eddy","BETTEFORT Mickaël","G",2,1,171,147,"2018-10-20","T1 R1 CD80 - MOREUIL","Qualifications","2018-2019",null,null,null,null,{"$f":"IF($K32=P$1,COUNTIF($C32,\"G\"),0)","v":0},null,{"$f":"IF($K32=R$1,COUNTIF($C32,\"G\"),0)","v":0}]
["DUHAMEL Eddy","BETTEFORT Mickaël","G",2,0,120,95,"2018-10-20","T1 R1 CD80 - MOREUIL","1/4 Finale","2018-2019",null,null,null,null,0,null,0]
["DUHAMEL Eddy","DUFRESNOY Michel","P",1,2,147,158,"2018-10-20","T1 R1 CD80 - MOREUIL","Finale","2018-2019",null,null,null,null,0,null,0]
["DUHAMEL Eddy","GUERIN Astrid","G",2,0,120,72,"2018-10-20","T1 R1 CD80 - MOREUIL","Qualifications","2018-2019",null,null,null,null,0,null,0]
["DUHAMEL Eddy","RENAULT Marius","G",2,1,161,114,"2018-10-20","T1 R1 CD80 - MOREUIL","1/2 Finale","2018-2019",null,null,null,null,0,null,0]
["DUHAMEL Eddy","CHAIGNE Gilles","G",2,1,177,153,"2018-11-24","T2 R1 CD80 - ","Finale","2018-2019",null,null,null,null,0,null,0]
["DUHAMEL Eddy","DELRUE Céline","G",2,0,120,92,"2018-11-24","T2 R1 CD80 - ","Qualifications","2018-2019",null,null,null,null,0,null,0]
["DUHAMEL Eddy","HERSELIN Jean-Claude","P",1,2,174,155,"2018-11-24","T2 R1 CD80 - ","Qualifications","2018-2019",null,null,null,null,0,null,0]
["DUHAMEL Eddy","HERSELIN Jean-Claude","G",2,0,120,74,"2018-11-24","T2 R1 CD80 - ","1/8 Finale","2018-2019",null,null,null,null,0,null,0]
["DUHAMEL Eddy","MALET Eric","G",2,0,120,61,"2018-11-24","T2 R1 CD80 - ","1/2 Finale","2018-2019",null,null,null,null,0,null,0]
["DUHAMEL Eddy","RENAULT Marius","G",2,0,120,62,"2018-11-24","T2 R1 CD80 - ","1/4 Finale","2018-2019",null,null,null,null,0,null,0]
["DUHAMEL Eddy","DUMEIGE Similien","G",2,1,176,127,"2019-01-05","T3 R1 CD80 - MOREUIL","1/2 Finale","2018-2019",null,null,null,null,0,null,0]
["DUHAMEL Eddy","DUMEIGE Stéphane","G",2,1,168,164,"2019-01-05","T3 R1 CD80 - MOREUIL","Finale","2018-2019",null,null,null,null,0,null,0]
["DUHAMEL Eddy","HERSELIN Jean-Claude","G",2,0,120,57,"2019-01-05","T3 R1 CD80 - MOREUIL","Qualifications","2018-2019",null,null,null,null,0,null,0]
["DUHAMEL Eddy","POINTIN Régis","G",2,0,120,88,"2019-01-05","T3 R1 CD80 - MOREUIL","1/4 Finale","2018-2019",null,null,null,null,0,null,0]
["DUHAMEL Eddy","ROUTHIER David","G",2,1,154,119,"2019-01-05","T3 R1 CD80 - MOREUIL","Qualifications","2018-2019",null,null,null,null,0,null,0]
["DUHAMEL Eddy","CHAIGNE Gilles","G",3,1,197,204,"2019-02-23","Finale 5Q R1 CD80 - PONT DE METZ","Poule unique","2018-2019",null,null,null,null,0,null,0]
["DUHAMEL Eddy","DUFRESNOY Michel","P",1,3,195,223,"2019-02-23","Finale 5Q R1 CD80 - PONT DE METZ","Poule unique","2018-2019",null,null,null,null,0,null,0]
["DUHAMEL Eddy","DUMEIGE Stéphane","P",0,3,110,180,"2019-02-23","Finale 5Q R1 CD80 - PONT DE METZ","Poule unique","2018-2019",null,null,null,null,0,null,0]
["Fin des données",null,null,null,null,null,null,null,null,null,"",null,null,null,null,{"$f":"IF($K51=P$1,COUNTIF($C51,\"G\"),0)","v":0},null,{"$f":"IF($K51=R$1,COUNTIF($C51,\"G\"),0)","v":0}]

{"sheet":"DUHAMEL Marcellin","index":64,"n_rows":47,"n_cols":22,"rows_kept":47,"cut":false,"hidden":false,"merged":[]}
["DUHAMEL Marcellin",null,null,null,null,null,null,null,null,null,null,null,null,null,null,{"$f":"SaisonDeb","v":"2021-2022"},null,{"$f":"SaisonFin","v":"2022-2023"},null,"Toutes saisons"]
[{"$error":"#N/A"},null,null,null,null,null,null,null,null,null,null,null,null,null,null,"Nombre","%age","Nombre","%age","Nombre","%age"]
[{"$error":"#N/A"},null,null,null,null,null,null,null,null,null,null,null,null,"Matchs","Gagnés",{"$f":"SUM(P$15:P$143)","v":3},{"$f":"IF(P$3+P$4>0,P3/(P$3+P$4),\"\")","v":0.42857142857142855},{"$f":"SUM(R$15:R$143)","v":1},{"$f":"IF(R$3+R$4>0,R3/(R$3+R$4),\"\")","v":0.5},{"$f":"COUNTIF($C$15:$C$143,\"G\")","v":11},{"$f":"IF(T$3+T$4>0,T3/(T$3+T$4),\"\")","v":0.35483870967741937}]
[{"$error":"#N/A"},null,null,null,null,null,null,null,null,null,null,null,null,null,"Perdus",{"$f":"COUNTIF($K$15:$M$143,SaisonDeb)-P3","v":4},{"$f":"IF(P$3+P$4>0,P4/(P$3+P$4),\"\")","v":0.5714285714285714},{"$f":"COUNTIF($K$15:$K$143,SaisonFin)-R3","v":1},{"$f":"IF(R$3+R$4>0,R4/(R$3+R$4),\"\")","v":0.5},{"$f":"COUNTIF($C$15:$C$143,\"P\")","v":20},{"$f":"IF(T$3+T$4>0,T4/(T$3+T$4),\"\")","v":0.64516129032258063}]
[{"$error":"#N/A"},null,null,null,null,null,null,null,null,null,null,null,null,null,"Total / Moy.",{"$f":"SUM(P3:P4)","v":7},{"$f":"IF(SUMIF($K$15:$K$143,SaisonDeb,$G$15:$G$143)>0,SUMIF($K$15:$K$143,SaisonDeb,$F$15:$F$143)/SUMIF($K$15:$K$143,SaisonDeb,$G$15:$G$143),\"\")","v":0.89145052833813643},{"$f":"SUM(R3:R4)","v":2},{"$f":"IF(SUMIF($K$15:$K$143,SaisonFin,$G$15:$G$143)>0,SUMIF($K$15:$K$143,SaisonFin,$F$15:$F$143)/SUMIF($K$15:$K$143,SaisonFin,$G$15:$G$143),\"\")","v":1.0163043478260869},{"$f":"SUM(T3:T4)","v":31},{"$f":"IF(SUM($G$15:$G$143)>0,SUM($F$15:$F$143)/SUM($G$15:$G$143),\"\")","v":0.89487478159580669},{"$f":"IF(SUMIF($K$15:$K$47,SaisonDeb,$G$15:$G$47)+SUMIF($K$15:$K$47,SaisonFin,$G$15:$G$47)>0,(SUMIF($K$15:$K$47,SaisonDeb,$F$15:$F$47)+SUMIF($K$15:$K$47,SaisonFin,$F$15:$F$47))/(SUMIF($K$15:$K$47,SaisonDeb,$G$15:$G$47)+SUMIF($K$15:$K$47,SaisonFin,$G$15:$G$47)),\"\")","v":0.91020408163265309}]
[null,null,null,null,null,null,null,null,null,null,null,null,null,"Sets","Gagnés",{"$f":"SUMIF($K$15:$K$143,SaisonDeb,$D$15:$D$143)","v":8},{"$f":"IF(P$6+P$7>0,P6/(P$6+P$7),\"\")","v":0.44444444444444442},{"$f":"SUMIF($K$15:$K$143,SaisonFin,$D$15:$D$143)","v":1},{"$f":"IF(R$6+R$7>0,R6/(R$6+R$7),\"\")","v":0.5},{"$f":"SUM($D$15:$D$143)","v":20},{"$f":"IF(T$6+T$7>0,T6/(T$6+T$7),\"\")","v":0.34482758620689657}]
[null,null,null,null,null,null,null,null,null,null,null,null,null,null,"Perdus",{"$f":"SUMIF($K$15:$K$143,SaisonDeb,$E$15:$E$143)","v":10},{"$f":"IF(P$6+P$7>0,P7/(P$6+P$7),\"\")","v":0.55555555555555558},{"$f":"SUMIF($K$15:$K$143,SaisonFin,$E$15:$E$143)","v":1},{"$f":"IF(R$6+R$7>0,R7/(R$6+R$7),\"\")","v":0.5},{"$f":"SUM($E$15:$E$143)","v":38},{"$f":"IF(T$6+T$7>0,T7/(T$6+T$7),\"\")","v":0.65517241379310343}]
["Récapitulatif joueurs",null,null,null,null,null,null,null,null,null,null,null,null,null,"Total",{"$f":"SUM(P6:P7)","v":18},null,{"$f":"SUM(R6:R7)","v":2},null,{"$f":"SUM(T6:T7)","v":58}]
[]
[]
[]
[]
[]
[]
["Joueur","Adversaire","G/P","Sets gagnés","Sets perdus","pts marqués","pts subis","Date","Compétition","Phase","Saison"]
["DUHAMEL Marcellin","HERSELIN Jean-Claude","G",1,0,100,67,"2017-11-25","CONSOLANTE 5 QUILLES R1 CD80 - ABBEVILLE","Qualifications",{"$f":"IF(H16<>\"\",IF(MONTH(H16)>MoisRef,YEAR(H16)&\"-\"&YEAR(H16)+1,YEAR(H16)-1&\"-\"&YEAR(H16)),\"\")","v":"2017-2018"},null,null,null,null,{"$f":"IF($K16=P$1,COUNTIF($C16,\"G\"),0)","v":0},null,{"$f":"IF($K16=R$1,COUNTIF($C16,\"G\"),0)","v":0}]
["DUHAMEL Marcellin","ROUTHIER David","P",0,1,84,100,"2017-11-25","CONSOLANTE 5 QUILLES R1 CD80 - ABBEVILLE","Qualifications","2017-2018",null,null,null,null,0,null,0]
["DUHAMEL Marcellin","CUVILLIER François","P",0,2,44,120,"2017-11-25","T1 5 QUILLES R1 CD80 - ABBEVILLE","Qualifications","2017-2018",null,null,null,null,0,null,0]
["DUHAMEL Marcellin","ROUTHIER David","P",0,2,88,120,"2017-11-25","T1 5 QUILLES R1 CD80 - ABBEVILLE","Qualifications","2017-2018",null,null,null,null,0,null,0]
["DUHAMEL Marcellin","DAMONNEVILLE Blandine","G",1,0,80,61,"2018-01-06","T2 5 QUILLES R1 CD80 - CONSOLANTE - ABBEVILLE","Qualifications","2017-2018",null,null,null,null,0,null,0]
["DUHAMEL Marcellin","DELRUE Céline","G",1,0,80,72,"2018-01-06","T2 5 QUILLES R1 CD80 - CONSOLANTE - ABBEVILLE","Qualifications","2017-2018",null,null,null,null,0,null,0]
["DUHAMEL Marcellin","DUMEIGE Similien","P",0,1,69,80,"2018-01-06","T2 5 QUILLES R1 CD80 - CONSOLANTE - ABBEVILLE","Qualifications","2017-2018",null,null,null,null,0,null,0]
["DUHAMEL Marcellin","DUBOIS Jean-Bernard","P",0,2,67,120,"2018-01-06","T2 5 QUILLES R1 CD80 - ABBEVILLE","Qualifications","2017-2018",null,null,null,null,0,null,0]
["DUHAMEL Marcellin","ROUTHIER David","P",0,2,101,120,"2018-01-06","T2 5 QUILLES R1 CD80 - ABBEVILLE","Qualifications","2017-2018",null,null,null,null,0,null,0]
["DUHAMEL Marcellin","DUBOIS Jean-Bernard","G",2,0,120,89,"2018-02-17","T3 5 QUILLES R1 CD80 - MOREUIL","Qualifications","2017-2018",null,null,null,null,0,null,0]
["DUHAMEL Marcellin","HENRY Tony","P",0,2,91,120,"2018-02-17","T3 5 QUILLES R1 CD80 - MOREUIL","1/4 Finale","2017-2018",null,null,null,null,0,null,0]
["DUHAMEL Marcellin","VACAVANT Michel","P",1,2,141,158,"2018-02-17","T3 5 QUILLES R1 CD80 - MOREUIL","Qualifications","2017-2018",null,null,null,null,0,null,0]
["DUHAMEL Marcellin","DUFRESNOY Michel","P",0,2,86,120,"2018-10-20","T1 R1 CD80 - MOREUIL","Qualifications","2018-2019",null,null,null,null,0,null,0]
["DUHAMEL Marcellin","DUFRESNOY Michel","P",0,2,65,120,"2018-10-20","T1 R1 CD80 - MOREUIL","Qualifications","2018-2019",null,null,null,null,0,null,0]
["DUHAMEL Marcellin","DUMEIGE Stéphane","P",0,1,21,100,"2018-10-20","T1 R1 CD80 - MOREUIL - CONSOLANTE","Finale","2018-2019",null,null,null,null,0,null,0]
["DUHAMEL Marcellin","GUERIN Astrid","G",1,0,100,38,"2018-10-20","T1 R1 CD80 - MOREUIL - CONSOLANTE","Qualifications","2018-2019",null,null,null,null,0,null,0]
["DUHAMEL Marcellin","GUERIN Astrid","G",1,0,100,38,"2018-10-20","T1 R1 CD80 - MOREUIL - CONSOLANTE","1/2 Finale","2018-2019",null,null,null,null,0,null,0]
["DUHAMEL Marcellin","DUMEIGE Similien","P",0,2,76,120,"2018-11-24","T2 R1 CD80 - ","Qualifications","2018-2019",null,null,null,null,0,null,0]
["DUHAMEL Marcellin","JOLY Kenan","P",1,2,156,165,"2018-11-24","T2 R1 CD80 - ","Qualifications","2018-2019",null,null,null,null,0,null,0]
["DUHAMEL Marcellin","RENAULT Marius","P",0,2,75,120,"2018-11-24","T2 R1 CD80 - ","1/8 Finale","2018-2019",null,null,null,null,0,null,0]
["DUHAMEL Marcellin","DUFRESNOY Michel","P",0,2,94,120,"2019-01-05","T3 R1 CD80 - MOREUIL","Qualifications","2018-2019",null,null,null,null,0,null,0]
["DUHAMEL Marcellin","GUERIN Astrid","G",2,0,120,41,"2019-01-05","T3 R1 CD80 - MOREUIL","Qualifications","2018-2019",null,null,null,null,0,null,0]
["DUHAMEL Marcellin","AIT BRAHIM Abdellaziz","G",1,0,80,54,"2021-10-16","T1 5Q R1 CD80 - MOREUIL","Qualifications","2021-2022",null,null,null,null,1,null,0]
["DUHAMEL Marcellin","DELAFOSSE Gilles","P",0,1,19,80,"2021-10-16","T1 5Q R1 CD80 - MOREUIL","Qualifications","2021-2022",null,null,null,null,0,null,0]
["DUHAMEL Marcellin","GUERIN Astrid","P",0,1,63,80,"2021-12-18","T2 5Q R1 CD80 - MOREUIL","Qualifications","2021-2022",null,null,null,null,0,null,0]
["DUHAMEL Marcellin","JOLY Kenan","P",0,1,33,80,"2021-12-18","T2 5Q R1 CD80 - MOREUIL","Qualifications","2021-2022",null,null,null,null,0,null,0]
["DUHAMEL Marcellin","GUERIN Astrid","G",3,2,237,255,"2022-04-02","Finale 5Q R1 CD80 - abbeville","Finale CD80","2021-2022",null,null,null,null,1,null,0]
["DUHAMEL Marcellin","JOLY Kenan","P",1,3,226,234,"2022-04-02","Finale 5Q R1 CD80 - abbeville","Finale CD80","2021-2022",null,null,null,null,0,null,0]
["DUHAMEL Marcellin","ROUTHIER David","G",3,2,270,258,"2022-04-02","Finale 5Q R1 CD80 - abbeville","Finale CD80","2021-2022",null,null,null,null,1,null,0]
["DUHAMEL Marcellin","BETTEFORT Véronique","G",1,0,100,84,"2022-10-01","T1 CD80 - R1 - abbeville","Qualifications","2022-2023",null,null,null,null,0,null,1]
["DUHAMEL Marcellin","BETTEFORT Véronique","P",0,1,87,100,"2022-10-01","T1 CD80 - R1 - abbeville","Qualifications","2022-2023",null,null,null,null,0,null,0]
["Fin des données",null,null,null,null,null,null,null,null,null,"",null,null,null,null,{"$f":"IF($K47=P$1,COUNTIF($C47,\"G\"),0)","v":0},null,{"$f":"IF($K47=R$1,COUNTIF($C47,\"G\"),0)","v":0}]

{"sheet":"DUMEIGE Similien","index":65,"n_rows":45,"n_cols":22,"rows_kept":45,"cut":false,"hidden":false,"merged":[]}
["DUMEIGE Similien",null,null,null,null,null,null,null,null,null,null,null,null,null,null,{"$f":"SaisonDeb","v":"2021-2022"},null,{"$f":"SaisonFin","v":"2022-2023"},null,"Toutes saisons"]
[{"$error":"#N/A"},null,null,null,null,null,null,null,null,null,null,null,null,null,null,"Nombre","%age","Nombre","%age","Nombre","%age"]
[{"$error":"#N/A"},null,null,null,null,null,null,null,null,null,null,null,null,"Matchs","Gagnés",{"$f":"SUM(P$15:P$141)","v":0},{"$f":"IF(P$3+P$4>0,P3/(P$3+P$4),\"\")","v":""},{"$f":"SUM(R$15:R$141)","v":0},{"$f":"IF(R$3+R$4>0,R3/(R$3+R$4),\"\")","v":""},{"$f":"COUNTIF($C$15:$C$141,\"G\")","v":15},{"$f":"IF(T$3+T$4>0,T3/(T$3+T$4),\"\")","v":0.51724137931034486}]
[{"$error":"#N/A"},null,null,null,null,null,null,null,null,null,null,null,null,null,"Perdus",{"$f":"COUNTIF($K$15:$M$141,SaisonDeb)-P3","v":0},{"$f":"IF(P$3+P$4>0,P4/(P$3+P$4),\"\")","v":""},{"$f":"COUNTIF($K$15:$K$141,SaisonFin)-R3","v":0},{"$f":"IF(R$3+R$4>0,R4/(R$3+R$4),\"\")","v":""},{"$f":"COUNTIF($C$15:$C$141,\"P\")","v":14},{"$f":"IF(T$3+T$4>0,T4/(T$3+T$4),\"\")","v":0.48275862068965519}]
[{"$error":"#N/A"},null,null,null,null,null,null,null,null,null,null,null,null,null,"Total / Moy.",{"$f":"SUM(P3:P4)","v":0},{"$f":"IF(SUMIF($K$15:$K$141,SaisonDeb,$G$15:$G$141)>0,SUMIF($K$15:$K$141,SaisonDeb,$F$15:$F$141)/SUMIF($K$15:$K$141,SaisonDeb,$G$15:$G$141),\"\")","v":""},{"$f":"SUM(R3:R4)","v":0},{"$f":"IF(SUMIF($K$15:$K$141,SaisonFin,$G$15:$G$141)>0,SUMIF($K$15:$K$141,SaisonFin,$F$15:$F$141)/SUMIF($K$15:$K$141,SaisonFin,$G$15:$G$141),\"\")","v":""},{"$f":"SUM(T3:T4)","v":29},{"$f":"IF(SUM($G$15:$G$141)>0,SUM($F$15:$F$141)/SUM($G$15:$G$141),\"\")","v":1.0047766226468109},{"$f":"IF(SUMIF($K$15:$K$45,SaisonDeb,$G$15:$G$45)+SUMIF($K$15:$K$45,SaisonFin,$G$15:$G$45)>0,(SUMIF($K$15:$K$45,SaisonDeb,$F$15:$F$45)+SUMIF($K$15:$K$45,SaisonFin,$F$15:$F$45))/(SUMIF($K$15:$K$45,SaisonDeb,$G$15:$G$45)+SUMIF($K$15:$K$45,SaisonFin,$G$15:$G$45)),\"\")","v":""}]
[null,null,null,null,null,null,null,null,null,null,null,null,null,"Sets","Gagnés",{"$f":"SUMIF($K$15:$K$141,SaisonDeb,$D$15:$D$141)","v":0},{"$f":"IF(P$6+P$7>0,P6/(P$6+P$7),\"\")","v":""},{"$f":"SUMIF($K$15:$K$141,SaisonFin,$D$15:$D$141)","v":0},{"$f":"IF(R$6+R$7>0,R6/(R$6+R$7),\"\")","v":""},{"$f":"SUM($D$15:$D$141)","v":36},{"$f":"IF(T$6+T$7>0,T6/(T$6+T$7),\"\")","v":0.51428571428571423}]
[null,null,null,null,null,null,null,null,null,null,null,null,null,null,"Perdus",{"$f":"SUMIF($K$15:$K$141,SaisonDeb,$E$15:$E$141)","v":0},{"$f":"IF(P$6+P$7>0,P7/(P$6+P$7),\"\")","v":""},{"$f":"SUMIF($K$15:$K$141,SaisonFin,$E$15:$E$141)","v":0},{"$f":"IF(R$6+R$7>0,R7/(R$6+R$7),\"\")","v":""},{"$f":"SUM($E$15:$E$141)","v":34},{"$f":"IF(T$6+T$7>0,T7/(T$6+T$7),\"\")","v":0.48571428571428571}]
["Récapitulatif joueurs",null,null,null,null,null,null,null,null,null,null,null,null,null,"Total",{"$f":"SUM(P6:P7)","v":0},null,{"$f":"SUM(R6:R7)","v":0},null,{"$f":"SUM(T6:T7)","v":70}]
[]
[]
[]
[]
[]
[]
["Joueur","Adversaire","G/P","Sets gagnés","Sets perdus","pts marqués","pts subis","Date","Compétition","Phase","Saison"]
["DUMEIGE Similien","CUVILLIER François","P",2,3,222,295,"2018-03-24","Finale R1 CD80 - ABCP","Qualifications",{"$f":"IF(H16<>\"\",IF(MONTH(H16)>MoisRef,YEAR(H16)&\"-\"&YEAR(H16)+1,YEAR(H16)-1&\"-\"&YEAR(H16)),\"\")","v":"2017-2018"},null,null,null,null,{"$f":"IF($K16=P$1,COUNTIF($C16,\"G\"),0)","v":0},null,{"$f":"IF($K16=R$1,COUNTIF($C16,\"G\"),0)","v":0}]
["DUMEIGE Similien","DUHAMEL Eddy","P",0,3,101,180,"2018-03-24","Finale R1 CD80 - ABCP","Qualifications","2017-2018",null,null,null,null,0,null,0]
["DUMEIGE Similien","WARIN Yannick","P",0,3,74,180,"2018-03-24","Finale R1 CD80 - ABCP","Qualifications","2017-2018",null,null,null,null,0,null,0]
["DUMEIGE Similien","BETTEFORT Mickael","P",0,2,98,120,"2017-11-25","T1 5 QUILLES R1 CD80 - ABBEVILLE","Qualifications","2017-2018",null,null,null,null,0,null,0]
["DUMEIGE Similien","DUBOIS Jean-Bernard","G",2,0,120,84,"2017-11-25","T1 5 QUILLES R1 CD80 - ABBEVILLE","1/2 Finale","2017-2018",null,null,null,null,0,null,0]
["DUMEIGE Similien","HERSELIN Jean-Claude","G",2,0,120,51,"2017-11-25","T1 5 QUILLES R1 CD80 - ABBEVILLE","Qualifications","2017-2018",null,null,null,null,0,null,0]
["DUMEIGE Similien","MALET Eric","G",2,1,172,120,"2017-11-25","T1 5 QUILLES R1 CD80 - ABBEVILLE","1/4 Finale","2017-2018",null,null,null,null,0,null,0]
["DUMEIGE Similien","WARIN Yannick","P",0,2,97,120,"2017-11-25","T1 5 QUILLES R1 CD80 - ABBEVILLE","Finale","2017-2018",null,null,null,null,0,null,0]
["DUMEIGE Similien","DAMONNEVILLE Blandine","G",1,0,80,65,"2018-01-06","T2 5 QUILLES R1 CD80 - CONSOLANTE - ABBEVILLE","Qualifications","2017-2018",null,null,null,null,0,null,0]
["DUMEIGE Similien","DELRUE Céline","G",1,0,80,65,"2018-01-06","T2 5 QUILLES R1 CD80 - CONSOLANTE - ABBEVILLE","Qualifications","2017-2018",null,null,null,null,0,null,0]
["DUMEIGE Similien","DUHAMEL Marcellin","G",1,0,80,69,"2018-01-06","T2 5 QUILLES R1 CD80 - CONSOLANTE - ABBEVILLE","Qualifications","2017-2018",null,null,null,null,0,null,0]
["DUMEIGE Similien","DAMONNEVILLE Blandine","P",1,2,176,142,"2018-01-06","T2 5 QUILLES R1 CD80 - ABBEVILLE","Qualifications","2017-2018",null,null,null,null,0,null,0]
["DUMEIGE Similien","HENRY Tony","P",1,2,124,179,"2018-01-06","T2 5 QUILLES R1 CD80 - ABBEVILLE","Qualifications","2017-2018",null,null,null,null,0,null,0]
["DUMEIGE Similien","CUVILLIER François","P",1,2,132,156,"2018-02-17","T3 5 QUILLES R1 CD80 - MOREUIL","1/2 Finale","2017-2018",null,null,null,null,0,null,0]
["DUMEIGE Similien","DUHAMEL Eddy","G",2,0,120,78,"2018-02-17","T3 5 QUILLES R1 CD80 - MOREUIL","1/4 Finale","2017-2018",null,null,null,null,0,null,0]
["DUMEIGE Similien","DUMEIGE Stéphane","G",2,1,161,145,"2018-02-17","T3 5 QUILLES R1 CD80 - MOREUIL","Qualifications","2017-2018",null,null,null,null,0,null,0]
["DUMEIGE Similien","HERSELIN Jean-Claude","G",2,0,120,98,"2018-02-17","T3 5 QUILLES R1 CD80 - MOREUIL","Qualifications","2017-2018",null,null,null,null,0,null,0]
["DUMEIGE Similien","DUBOIS Jean-Bernard","G",2,0,120,84,"2017-11-25","T1 5 QUILLES R1 CD80 - ABBEVILLE","1/2 Finale","2017-2018",null,null,null,null,{"$f":"IF($K33=P$1,COUNTIF($C33,\"G\"),0)","v":0},null,{"$f":"IF($K33=R$1,COUNTIF($C33,\"G\"),0)","v":0}]
["DUMEIGE Similien","CHAIGNE Gilles","G",2,0,120,88,"2018-10-20","T1 R1 CD80 - MOREUIL","Qualifications","2018-2019",null,null,null,null,{"$f":"IF($K34=P$1,COUNTIF($C34,\"G\"),0)","v":0},null,{"$f":"IF($K34=R$1,COUNTIF($C34,\"G\"),0)","v":0}]
["DUMEIGE Similien","DUFRESNOY Michel","P",1,2,144,143,"2018-10-20","T1 R1 CD80 - MOREUIL","1/2 Finale","2018-2019",null,null,null,null,0,null,0]
["DUMEIGE Similien","DUMEIGE Stéphane","P",1,2,145,166,"2018-10-20","T1 R1 CD80 - MOREUIL","Qualifications","2018-2019",null,null,null,null,0,null,0]
["DUMEIGE Similien","POINTIN Régis","G",2,0,120,109,"2018-10-20","T1 R1 CD80 - MOREUIL","1/4 Finale","2018-2019",null,null,null,null,0,null,0]
["DUMEIGE Similien","DUHAMEL Marcellin","G",2,0,120,76,"2018-11-24","T2 R1 CD80 - ","Qualifications","2018-2019",null,null,null,null,0,null,0]
["DUMEIGE Similien","JOLY Kenan","P",1,2,165,142,"2018-11-24","T2 R1 CD80 - ","Qualifications","2018-2019",null,null,null,null,0,null,0]
["DUMEIGE Similien","ROUTHIER David","P",0,2,55,120,"2018-11-24","T2 R1 CD80 - ","1/8 Finale","2018-2019",null,null,null,null,0,null,0]
["DUMEIGE Similien","BETTEFORT Véronique","G",2,0,120,31,"2019-01-05","T3 R1 CD80 - MOREUIL","Qualifications","2018-2019",null,null,null,null,0,null,0]
["DUMEIGE Similien","DUFRESNOY Michel","G",2,1,168,157,"2019-01-05","T3 R1 CD80 - MOREUIL","1/4 Finale","2018-2019",null,null,null,null,0,null,0]
["DUMEIGE Similien","DUHAMEL Eddy","P",1,2,127,176,"2019-01-05","T3 R1 CD80 - MOREUIL","1/2 Finale","2018-2019",null,null,null,null,0,null,0]
["DUMEIGE Similien","DUMEIGE Stéphane","P",0,2,95,120,"2019-01-05","T3 R1 CD80 - MOREUIL","Qualifications","2018-2019",null,null,null,null,0,null,0]
["Fin des données",null,null,null,null,null,null,null,null,null,"",null,null,null,null,{"$f":"IF($K45=P$1,COUNTIF($C45,\"G\"),0)","v":0},null,{"$f":"IF($K45=R$1,COUNTIF($C45,\"G\"),0)","v":0}]

{"sheet":"DUMEIGE Stéphane","index":66,"n_rows":37,"n_cols":22,"rows_kept":37,"cut":false,"hidden":false,"merged":[]}
["DUMEIGE Stéphane",null,null,null,null,null,null,null,null,null,null,null,null,null,null,{"$f":"SaisonDeb","v":"2021-2022"},null,{"$f":"SaisonFin","v":"2022-2023"},null,"Toutes saisons"]
[{"$error":"#N/A"},null,null,null,null,null,null,null,null,null,null,null,null,null,null,"Nombre","%age","Nombre","%age","Nombre","%age"]
[{"$error":"#N/A"},null,null,null,null,null,null,null,null,null,null,null,null,"Matchs","Gagnés",{"$f":"SUM(P$15:P$133)","v":0},{"$f":"IF(P$3+P$4>0,P3/(P$3+P$4),\"\")","v":""},{"$f":"SUM(R$15:R$133)","v":0},{"$f":"IF(R$3+R$4>0,R3/(R$3+R$4),\"\")","v":""},{"$f":"COUNTIF($C$15:$C$133,\"G\")","v":15},{"$f":"IF(T$3+T$4>0,T3/(T$3+T$4),\"\")","v":0.7142857142857143}]
[{"$error":"#N/A"},null,null,null,null,null,null,null,null,null,null,null,null,null,"Perdus",{"$f":"COUNTIF($K$15:$M$133,SaisonDeb)-P3","v":0},{"$f":"IF(P$3+P$4>0,P4/(P$3+P$4),\"\")","v":""},{"$f":"COUNTIF($K$15:$K$133,SaisonFin)-R3","v":0},{"$f":"IF(R$3+R$4>0,R4/(R$3+R$4),\"\")","v":""},{"$f":"COUNTIF($C$15:$C$133,\"P\")","v":6},{"$f":"IF(T$3+T$4>0,T4/(T$3+T$4),\"\")","v":0.2857142857142857}]
[{"$error":"#N/A"},null,null,null,null,null,null,null,null,null,null,null,null,null,"Total / Moy.",{"$f":"SUM(P3:P4)","v":0},{"$f":"IF(SUMIF($K$15:$K$133,SaisonDeb,$G$15:$G$133)>0,SUMIF($K$15:$K$133,SaisonDeb,$F$15:$F$133)/SUMIF($K$15:$K$133,SaisonDeb,$G$15:$G$133),\"\")","v":""},{"$f":"SUM(R3:R4)","v":0},{"$f":"IF(SUMIF($K$15:$K$133,SaisonFin,$G$15:$G$133)>0,SUMIF($K$15:$K$133,SaisonFin,$F$15:$F$133)/SUMIF($K$15:$K$133,SaisonFin,$G$15:$G$133),\"\")","v":""},{"$f":"SUM(T3:T4)","v":21},{"$f":"IF(SUM($G$15:$G$133)>0,SUM($F$15:$F$133)/SUM($G$15:$G$133),\"\")","v":1.2164767747589833},{"$f":"IF(SUMIF($K$15:$K$37,SaisonDeb,$G$15:$G$37)+SUMIF($K$15:$K$37,SaisonFin,$G$15:$G$37)>0,(SUMIF($K$15:$K$37,SaisonDeb,$F$15:$F$37)+SUMIF($K$15:$K$37,SaisonFin,$F$15:$F$37))/(SUMIF($K$15:$K$37,SaisonDeb,$G$15:$G$37)+SUMIF($K$15:$K$37,SaisonFin,$G$15:$G$37)),\"\")","v":""}]
[null,null,null,null,null,null,null,null,null,null,null,null,null,"Sets","Gagnés",{"$f":"SUMIF($K$15:$K$133,SaisonDeb,$D$15:$D$133)","v":0},{"$f":"IF(P$6+P$7>0,P6/(P$6+P$7),\"\")","v":""},{"$f":"SUMIF($K$15:$K$133,SaisonFin,$D$15:$D$133)","v":0},{"$f":"IF(R$6+R$7>0,R6/(R$6+R$7),\"\")","v":""},{"$f":"SUM($D$15:$D$133)","v":33},{"$f":"IF(T$6+T$7>0,T6/(T$6+T$7),\"\")","v":0.66}]
[null,null,null,null,null,null,null,null,null,null,null,null,null,null,"Perdus",{"$f":"SUMIF($K$15:$K$133,SaisonDeb,$E$15:$E$133)","v":0},{"$f":"IF(P$6+P$7>0,P7/(P$6+P$7),\"\")","v":""},{"$f":"SUMIF($K$15:$K$133,SaisonFin,$E$15:$E$133)","v":0},{"$f":"IF(R$6+R$7>0,R7/(R$6+R$7),\"\")","v":""},{"$f":"SUM($E$15:$E$133)","v":17},{"$f":"IF(T$6+T$7>0,T7/(T$6+T$7),\"\")","v":0.34}]
["Récapitulatif joueurs",null,null,null,null,null,null,null,null,null,null,null,null,null,"Total",{"$f":"SUM(P6:P7)","v":0},null,{"$f":"SUM(R6:R7)","v":0},null,{"$f":"SUM(T6:T7)","v":50}]
[]
[]
[]
[]
[]
[]
["Joueur","Adversaire","G/P","Sets gagnés","Sets perdus","pts marqués","pts subis","Date","Compétition","Phase","Saison"]
["DUMEIGE Stéphane","DUMEIGE Similien","P",1,2,145,161,"2018-02-17","T3 5 QUILLES R1 CD80 - MOREUIL","Qualifications",{"$f":"IF(H16<>\"\",IF(MONTH(H16)>MoisRef,YEAR(H16)&\"-\"&YEAR(H16)+1,YEAR(H16)-1&\"-\"&YEAR(H16)),\"\")","v":"2017-2018"},null,null,null,null,{"$f":"IF($K16=P$1,COUNTIF($C16,\"G\"),0)","v":0},null,{"$f":"IF($K16=R$1,COUNTIF($C16,\"G\"),0)","v":0}]
["DUMEIGE Stéphane","HENRY Tony","P",1,2,149,167,"2018-02-17","T3 5 QUILLES R1 CD80 - MOREUIL","1/2 Finale","2017-2018",null,null,null,null,{"$f":"IF($K17=P$1,COUNTIF($C17,\"G\"),0)","v":0},null,{"$f":"IF($K17=R$1,COUNTIF($C17,\"G\"),0)","v":0}]
["DUMEIGE Stéphane","HERSELIN Jean-Claude","G",2,0,120,57,"2018-02-17","T3 5 QUILLES R1 CD80 - MOREUIL","Qualifications","2017-2018",null,null,null,null,{"$f":"IF($K18=P$1,COUNTIF($C18,\"G\"),0)","v":0},null,{"$f":"IF($K18=R$1,COUNTIF($C18,\"G\"),0)","v":0}]
["DUMEIGE Stéphane","WARIN Yannick","G",2,0,120,72,"2018-02-17","T3 5 QUILLES R1 CD80 - MOREUIL","1/4 Finale","2017-2018",null,null,null,null,{"$f":"IF($K19=P$1,COUNTIF($C19,\"G\"),0)","v":0},null,{"$f":"IF($K19=R$1,COUNTIF($C19,\"G\"),0)","v":0}]
["DUMEIGE Stéphane","CHAIGNE Gilles","P",0,2,82,120,"2018-10-20","T1 R1 CD80 - MOREUIL","Qualifications","2018-2019",null,null,null,null,{"$f":"IF($K20=P$1,COUNTIF($C20,\"G\"),0)","v":0},null,{"$f":"IF($K20=R$1,COUNTIF($C20,\"G\"),0)","v":0}]
["DUMEIGE Stéphane","DUMEIGE Similien","G",2,1,166,145,"2018-10-20","T1 R1 CD80 - MOREUIL","Qualifications","2018-2019",null,null,null,null,0,null,0]
["DUMEIGE Stéphane","DUHAMEL Marcellin","G",1,0,100,21,"2018-10-20","T1 R1 CD80 - MOREUIL - CONSOLANTE","Finale","2018-2019",null,null,null,null,0,null,0]
["DUMEIGE Stéphane","HERSELIN Jean-Claude","G",1,0,100,48,"2018-10-20","T1 R1 CD80 - MOREUIL - CONSOLANTE","Qualifications","2018-2019",null,null,null,null,0,null,0]
["DUMEIGE Stéphane","HERSELIN Jean-Claude","G",1,0,100,48,"2018-10-20","T1 R1 CD80 - MOREUIL - CONSOLANTE","1/2 Finale","2018-2019",null,null,null,null,0,null,0]
["DUMEIGE Stéphane","CHAIGNE Gilles","P",0,2,73,120,"2018-11-24","T2 R1 CD80 - ","1/4 Finale","2018-2019",null,null,null,null,0,null,0]
["DUMEIGE Stéphane","DELRUE Céline","G",2,0,120,79,"2018-11-24","T2 R1 CD80 - ","1/8 Finale","2018-2019",null,null,null,null,0,null,0]
["DUMEIGE Stéphane","POINTIN Régis","G",2,0,120,74,"2018-11-24","T2 R1 CD80 - ","Qualifications","2018-2019",null,null,null,null,0,null,0]
["DUMEIGE Stéphane","THUILLIER Jean-François","G",2,1,168,113,"2018-11-24","T2 R1 CD80 - ","Qualifications","2018-2019",null,null,null,null,0,null,0]
["DUMEIGE Stéphane","BETTEFORT Véronique","G",2,0,120,79,"2019-01-05","T3 R1 CD80 - MOREUIL","Qualifications","2018-2019",null,null,null,null,0,null,0]
["DUMEIGE Stéphane","CHAIGNE Gilles","G",2,1,162,140,"2019-01-05","T3 R1 CD80 - MOREUIL","1/2 Finale","2018-2019",null,null,null,null,0,null,0]
["DUMEIGE Stéphane","DUHAMEL Eddy","P",1,2,164,168,"2019-01-05","T3 R1 CD80 - MOREUIL","Finale","2018-2019",null,null,null,null,0,null,0]
["DUMEIGE Stéphane","DUMEIGE Similien","G",2,0,120,95,"2019-01-05","T3 R1 CD80 - MOREUIL","Qualifications","2018-2019",null,null,null,null,0,null,0]
["DUMEIGE Stéphane","ROUTHIER David","G",2,0,120,78,"2019-01-05","T3 R1 CD80 - MOREUIL","1/4 Finale","2018-2019",null,null,null,null,0,null,0]
["DUMEIGE Stéphane","CHAIGNE Gilles","P",1,3,135,212,"2019-02-23","Finale 5Q R1 CD80 - PONT DE METZ","Poule unique","2018-2019",null,null,null,null,0,null,0]
["DUMEIGE Stéphane","DUFRESNOY Michel","G",3,1,212,175,"2019-02-23","Finale 5Q R1 CD80 - PONT DE METZ","Poule unique","2018-2019",null,null,null,null,0,null,0]
["DUMEIGE Stéphane","DUHAMEL Eddy","G",3,0,180,110,"2019-02-23","Finale 5Q R1 CD80 - PONT DE METZ","Poule unique","2018-2019",null,null,null,null,0,null,0]
["Fin des données",null,null,null,null,null,null,null,null,null,"",null,null,null,null,{"$f":"IF($K37=P$1,COUNTIF($C37,\"G\"),0)","v":0},null,{"$f":"IF($K37=R$1,COUNTIF($C37,\"G\"),0)","v":0}]

{"sheet":"DURAND Jérémy","index":67,"n_rows":37,"n_cols":22,"rows_kept":37,"cut":false,"hidden":false,"merged":[]}
["DURAND Jérémy",null,null,null,null,null,null,null,null,null,null,null,null,null,null,{"$f":"SaisonDeb","v":"2021-2022"},null,{"$f":"SaisonFin","v":"2022-2023"},null,"Toutes saisons"]
[{"$error":"#N/A"},null,null,null,null,null,null,null,null,null,null,null,null,null,null,"Nombre","%age","Nombre","%age","Nombre","%age"]
[{"$error":"#N/A"},null,null,null,null,null,null,null,null,null,null,null,null,"Matchs","Gagnés",{"$f":"SUM(P$15:P$126)","v":17},{"$f":"IF(P$3+P$4>0,P3/(P$3+P$4),\"\")","v":0.80952380952380953},{"$f":"SUM(R$15:R$126)","v":0},{"$f":"IF(R$3+R$4>0,R3/(R$3+R$4),\"\")","v":""},{"$f":"COUNTIF($C$15:$C$133,\"G\")","v":17},{"$f":"IF(T$3+T$4>0,T3/(T$3+T$4),\"\")","v":0.80952380952380953}]
[{"$error":"#N/A"},null,null,null,null,null,null,null,null,null,null,null,null,null,"Perdus",{"$f":"COUNTIF($K$15:$M$126,SaisonDeb)-P3","v":4},{"$f":"IF(P$3+P$4>0,P4/(P$3+P$4),\"\")","v":0.19047619047619047},{"$f":"COUNTIF($K$15:$K$133,SaisonFin)-R3","v":0},{"$f":"IF(R$3+R$4>0,R4/(R$3+R$4),\"\")","v":""},{"$f":"COUNTIF($C$15:$C$133,\"P\")","v":4},{"$f":"IF(T$3+T$4>0,T4/(T$3+T$4),\"\")","v":0.19047619047619047}]
[{"$error":"#N/A"},null,null,null,null,null,null,null,null,null,null,null,null,null,"Total / Moy.",{"$f":"SUM(P3:P4)","v":21},{"$f":"IF(SUMIF($K$15:$K$133,SaisonDeb,$G$15:$G$133)>0,SUMIF($K$15:$K$133,SaisonDeb,$F$15:$F$133)/SUMIF($K$15:$K$133,SaisonDeb,$G$15:$G$133),\"\")","v":1.2958607714016934},{"$f":"SUM(R3:R4)","v":0},{"$f":"IF(SUMIF($K$15:$K$133,SaisonFin,$G$15:$G$133)>0,SUMIF($K$15:$K$133,SaisonFin,$F$15:$F$133)/SUMIF($K$15:$K$133,SaisonFin,$G$15:$G$133),\"\")","v":""},{"$f":"SUM(T3:T4)","v":21},{"$f":"IF(SUM($G$15:$G$133)>0,SUM($F$15:$F$133)/SUM($G$15:$G$133),\"\")","v":1.2958607714016934},{"$f":"IF(SUMIF($K$15:$K$37,SaisonDeb,$G$15:$G$37)+SUMIF($K$15:$K$37,SaisonFin,$G$15:$G$37)>0,(SUMIF($K$15:$K$37,SaisonDeb,$F$15:$F$37)+SUMIF($K$15:$K$37,SaisonFin,$F$15:$F$37))/(SUMIF($K$15:$K$37,SaisonDeb,$G$15:$G$37)+SUMIF($K$15:$K$37,SaisonFin,$G$15:$G$37)),\"\")","v":1.2958607714016934}]
[null,null,null,null,null,null,null,null,null,null,null,null,null,"Sets","Gagnés",{"$f":"SUMIF($K$15:$K$133,SaisonDeb,$D$15:$D$133)","v":37},{"$f":"IF(P$6+P$7>0,P6/(P$6+P$7),\"\")","v":0.74},{"$f":"SUMIF($K$15:$K$133,SaisonFin,$D$15:$D$133)","v":0},{"$f":"IF(R$6+R$7>0,R6/(R$6+R$7),\"\")","v":""},{"$f":"SUM($D$15:$D$133)","v":37},{"$f":"IF(T$6+T$7>0,T6/(T$6+T$7),\"\")","v":0.74}]
[null,null,null,null,null,null,null,null,null,null,null,null,null,null,"Perdus",{"$f":"SUMIF($K$15:$K$133,SaisonDeb,$E$15:$E$133)","v":13},{"$f":"IF(P$6+P$7>0,P7/(P$6+P$7),\"\")","v":0.26},{"$f":"SUMIF($K$15:$K$133,SaisonFin,$E$15:$E$133)","v":0},{"$f":"IF(R$6+R$7>0,R7/(R$6+R$7),\"\")","v":""},{"$f":"SUM($E$15:$E$133)","v":13},{"$f":"IF(T$6+T$7>0,T7/(T$6+T$7),\"\")","v":0.26}]
["Récapitulatif joueurs",null,null,null,null,null,null,null,null,null,null,null,null,null,"Total",{"$f":"SUM(P6:P7)","v":50},null,{"$f":"SUM(R6:R7)","v":0},null,{"$f":"SUM(T6:T7)","v":50}]
[]
[]
[]
[]
[]
[]
["Joueur","Adversaire","G/P","Sets gagnés","Sets perdus","pts marqués","pts subis","Date","Compétition","Phase","Saison"]
["DURAND Jérémy","BABOLEIN Clément","G",2,0,120,77,"2021-11-27","T2 CD02 R1 - Billard Club de Soissons","Qualifications",{"$f":"IF(H16<>\"\",IF(MONTH(H16)>MoisRef,YEAR(H16)&\"-\"&YEAR(H16)+1,YEAR(H16)-1&\"-\"&YEAR(H16)),\"\")","v":"2021-2022"},null,null,null,null,{"$f":"IF($K16=P$1,COUNTIF($C16,\"G\"),0)","v":1},null,{"$f":"IF($K16=R$1,COUNTIF($C16,\"G\"),0)","v":0}]
["DURAND Jérémy","CASIER Philippe","G",2,0,120,72,"2021-11-27","T2 CD02 R1 - Billard Club de Soissons","Qualifications","2021-2022",null,null,null,null,1,null,0]
["DURAND Jérémy","CASIER Philippe","G",2,0,120,40,"2022-01-29","T3 CD02 TOUTE CATEGORIE - Saint-Quentin","Qualifications","2021-2022",null,null,null,null,1,null,0]
["DURAND Jérémy","COUSIN Francis","G",2,0,120,64,"2022-01-29","T3 CD02 TOUTE CATEGORIE - Saint-Quentin","Qualifications","2021-2022",null,null,null,null,1,null,0]
["DURAND Jérémy","SIMON Philippe","G",2,1,178,159,"2022-01-29","T3 CD02 TOUTE CATEGORIE - Saint-Quentin","Qualifications","2021-2022",null,null,null,null,1,null,0]
["DURAND Jérémy","BUTTI EmIlie","G",2,0,120,43,"2022-02-26","T4 CD02 R1 - Billard Club de Saint-Quentin","Qualifications","2021-2022",null,null,null,null,1,null,0]
["DURAND Jérémy","BABOLEIN Clément","G",2,1,165,155,"2022-02-26","T4 CD02 R1 - Billard Club de Saint-Quentin","Qualifications","2021-2022",null,null,null,null,1,null,0]
["DURAND Jérémy","ROZE Roger","G",2,0,120,67,"2022-02-26","T4 CD02 R1 - Billard Club de Saint-Quentin","Qualifications","2021-2022",null,null,null,null,1,null,0]
["DURAND Jérémy","BUTTI Bertrand","G",2,0,120,98,"2022-02-26","T5 CD02 R1 N1- Billard Club de Saint-Quentin","Qualifications","2021-2022",null,null,null,null,1,null,0]
["DURAND Jérémy","BUTTI Bertrand","P",1,2,144,221,"2022-02-26","T5 CD02 R1 N1- Billard Club de Saint-Quentin","Qualifications","2021-2022",null,null,null,null,0,null,0]
["DURAND Jérémy","BUTTI EmIlie","P",1,2,137,138,"2022-02-26","T5 CD02 R1 N1- Billard Club de Saint-Quentin","Qualifications","2021-2022",null,null,null,null,0,null,0]
["DURAND Jérémy","SIMON Philippe","G",2,1,153,126,"2022-02-26","T5 CD02 R1 N1- Billard Club de Saint-Quentin","Qualifications","2021-2022",null,null,null,null,1,null,0]
["DURAND Jérémy","CASIER Philippe","G",2,0,120,62,"2022-02-26","T5 CD02 R1 N1- Billard Club de Saint-Quentin","Qualifications","2021-2022",null,null,null,null,1,null,0]
["DURAND Jérémy","SIMON Philippe","G",2,1,162,127,"2022-02-26","Finale CD02- Billard Club de Saint-Quentin","Finale","2021-2022",null,null,null,null,1,null,0]
["DURAND Jérémy","BUTTI EmIlie","G",2,1,162,114,"2022-04-24","Finale CD02- Billard Club de Saint-Quentin","1/4 Finale",{"$f":"IF(H30<>\"\",IF(MONTH(H30)>MoisRef,YEAR(H30)&\"-\"&YEAR(H30)+1,YEAR(H30)-1&\"-\"&YEAR(H30)),\"\")","v":"2021-2022"},null,null,null,null,1,null,0]
["DURAND Jérémy","CASIER Philippe","G",2,0,120,66,"2022-04-24","Finale CD02- Billard Club de Saint-Quentin","1/4 Finale","2021-2022",null,null,null,null,1,null,0]
["DURAND Jérémy","BABOLEIN Clément","G",2,0,120,63,"2022-04-24","Finale CD02- Billard Club de Saint-Quentin","1/2 Finale","2021-2022",null,null,null,null,1,null,0]
["DURAND Jérémy","BARBE Philippe","P",0,2,73,120,"2022-05-22","Finale Ligue 5Q R1 - ST QUENTIN","Finale Ligue","2021-2022",null,null,null,null,0,null,0]
["DURAND Jérémy","JOLY Kenan","G",2,0,120,81,"2022-05-22","Finale Ligue 5Q R1 - ST QUENTIN","Finale Ligue","2021-2022",null,null,null,null,1,null,0]
["DURAND Jérémy","LEBECQ Jean-Pierre","P",1,2,141,157,"2022-05-22","Finale Ligue 5Q R1 - ST QUENTIN","Finale Ligue","2021-2022",null,null,null,null,0,null,0]
["DURAND Jérémy","LORTHIOIR Jean-Luc","G",2,0,120,76,"2022-05-22","Finale Ligue 5Q R1 - ST QUENTIN","Finale Ligue","2021-2022",null,null,null,null,1,null,0]
["Fin des données",null,null,null,null,null,null,null,null,null,""]

{"sheet":"DURTETTE Daniel","index":68,"n_rows":22,"n_cols":22,"rows_kept":22,"cut":false,"hidden":false,"merged":[]}
["DURTETTE Daniel",null,null,null,null,null,null,null,null,null,null,null,null,null,null,{"$f":"SaisonDeb","v":"2021-2022"},null,{"$f":"SaisonFin","v":"2022-2023"},null,"Toutes saisons"]
[{"$error":"#N/A"},null,null,null,null,null,null,null,null,null,null,null,null,null,null,"Nombre","%age","Nombre","%age","Nombre","%age"]
[{"$error":"#N/A"},null,null,null,null,null,null,null,null,null,null,null,null,"Matchs","Gagnés",{"$f":"SUM(P$15:P$118)","v":0},{"$f":"IF(P$3+P$4>0,P3/(P$3+P$4),\"\")","v":""},{"$f":"SUM(R$15:R$118)","v":0},{"$f":"IF(R$3+R$4>0,R3/(R$3+R$4),\"\")","v":""},{"$f":"COUNTIF($C$15:$C$118,\"G\")","v":0},{"$f":"IF(T$3+T$4>0,T3/(T$3+T$4),\"\")","v":0}]
[{"$error":"#N/A"},null,null,null,null,null,null,null,null,null,null,null,null,null,"Perdus",{"$f":"COUNTIF($K$15:$M$118,SaisonDeb)-P3","v":0},{"$f":"IF(P$3+P$4>0,P4/(P$3+P$4),\"\")","v":""},{"$f":"COUNTIF($K$15:$K$118,SaisonFin)-R3","v":0},{"$f":"IF(R$3+R$4>0,R4/(R$3+R$4),\"\")","v":""},{"$f":"COUNTIF($C$15:$C$118,\"P\")","v":6},{"$f":"IF(T$3+T$4>0,T4/(T$3+T$4),\"\")","v":1}]
[{"$error":"#N/A"},null,null,null,null,null,null,null,null,null,null,null,null,null,"Total / Moy.",{"$f":"SUM(P3:P4)","v":0},{"$f":"IF(SUMIF($K$15:$K$118,SaisonDeb,$G$15:$G$118)>0,SUMIF($K$15:$K$118,SaisonDeb,$F$15:$F$118)/SUMIF($K$15:$K$118,SaisonDeb,$G$15:$G$118),\"\")","v":""},{"$f":"SUM(R3:R4)","v":0},{"$f":"IF(SUMIF($K$15:$K$118,SaisonFin,$G$15:$G$118)>0,SUMIF($K$15:$K$118,SaisonFin,$F$15:$F$118)/SUMIF($K$15:$K$118,SaisonFin,$G$15:$G$118),\"\")","v":""},{"$f":"SUM(T3:T4)","v":6},{"$f":"IF(SUM($G$15:$G$118)>0,SUM($F$15:$F$118)/SUM($G$15:$G$118),\"\")","v":0.79020100502512558},{"$f":"IF(SUMIF($K$15:$K$22,SaisonDeb,$G$15:$G$22)+SUMIF($K$15:$K$22,SaisonFin,$G$15:$G$22)>0,(SUMIF($K$15:$K$22,SaisonDeb,$F$15:$F$22)+SUMIF($K$15:$K$22,SaisonFin,$F$15:$F$22))/(SUMIF($K$15:$K$22,SaisonDeb,$G$15:$G$22)+SUMIF($K$15:$K$22,SaisonFin,$G$15:$G$22)),\"\")","v":""}]
[null,null,null,null,null,null,null,null,null,null,null,null,null,"Sets","Gagnés",{"$f":"SUMIF($K$15:$K$118,SaisonDeb,$D$15:$D$118)","v":0},{"$f":"IF(P$6+P$7>0,P6/(P$6+P$7),\"\")","v":""},{"$f":"SUMIF($K$15:$K$118,SaisonFin,$D$15:$D$118)","v":0},{"$f":"IF(R$6+R$7>0,R6/(R$6+R$7),\"\")","v":""},{"$f":"SUM($D$15:$D$118)","v":2},{"$f":"IF(T$6+T$7>0,T6/(T$6+T$7),\"\")","v":0.14285714285714285}]
[null,null,null,null,null,null,null,null,null,null,null,null,null,null,"Perdus",{"$f":"SUMIF($K$15:$K$118,SaisonDeb,$E$15:$E$118)","v":0},{"$f":"IF(P$6+P$7>0,P7/(P$6+P$7),\"\")","v":""},{"$f":"SUMIF($K$15:$K$118,SaisonFin,$E$15:$E$118)","v":0},{"$f":"IF(R$6+R$7>0,R7/(R$6+R$7),\"\")","v":""},{"$f":"SUM($E$15:$E$118)","v":12},{"$f":"IF(T$6+T$7>0,T7/(T$6+T$7),\"\")","v":0.8571428571428571}]
["Récapitulatif joueurs",null,null,null,null,null,null,null,null,null,null,null,null,null,"Total",{"$f":"SUM(P6:P7)","v":0},null,{"$f":"SUM(R6:R7)","v":0},null,{"$f":"SUM(T6:T7)","v":14}]
[]
[]
[]
[]
[]
[]
["Joueur","Adversaire","G/P","Sets gagnés","Sets perdus","pts marqués","pts subis","Date","Compétition","Phase","Saison"]
["DURTETTE Daniel","BOULINGUEZ Yves","P",1,2,172,168,"2017-11-18","qualification AISNE R1 - St Q uentin","Qualifications",{"$f":"IF(H16<>\"\",IF(MONTH(H16)>MoisRef,YEAR(H16)&\"-\"&YEAR(H16)+1,YEAR(H16)-1&\"-\"&YEAR(H16)),\"\")","v":"2017-2018"},null,null,null,null,{"$f":"IF($K16=P$1,COUNTIF($C16,\"G\"),0)","v":0},null,{"$f":"IF($K16=R$1,COUNTIF($C16,\"G\"),0)","v":0}]
["DURTETTE Daniel","CORRE Maxime","P",0,2,78,120,"2017-11-18","qualification AISNE R1 - St Q uentin","Qualifications","2017-2018",null,null,null,null,0,null,0]
["DURTETTE Daniel","COLAS Gerard","P",1,2,143,148,"2017-12-16","Qualifications AISNE R1 - SOISSONS","Qualifications","2017-2018",null,null,null,null,0,null,0]
["DURTETTE Daniel","CORRE Maxime","P",0,2,75,120,"2017-12-16","Qualifications AISNE R1 - SOISSONS","Qualifications","2017-2018",null,null,null,null,0,null,0]
["DURTETTE Daniel","DECHAMPS Enguerrand","P",0,2,97,120,"2018-01-27","Qualifications AISNE R1 - guignicourt","Qualifications","2017-2018",null,null,null,null,0,null,0]
["DURTETTE Daniel","MIQUEE Florine","P",0,2,64,120,"2018-01-27","Qualifications AISNE R1 - guignicourt","Qualifications","2017-2018",null,null,null,null,0,null,0]
["Fin des données",null,null,null,null,null,null,null,null,null,"",null,null,null,null,0,null,0]

{"sheet":"DUTAILLY Michel","index":69,"n_rows":81,"n_cols":22,"rows_kept":81,"cut":false,"hidden":false,"merged":[]}
["DUTAILLY Michel",null,null,null,null,null,null,null,null,null,null,null,null,null,null,{"$f":"SaisonDeb","v":"2021-2022"},null,{"$f":"SaisonFin","v":"2022-2023"},null,"Toutes saisons"]
[{"$error":"#N/A"},null,null,null,null,null,null,null,null,null,null,null,null,null,null,"Nombre","%age","Nombre","%age","Nombre","%age"]
[{"$error":"#N/A"},null,null,null,null,null,null,null,null,null,null,null,null,"Matchs","Gagnés",{"$f":"SUM(P$15:P$177)","v":4},{"$f":"IF(P$3+P$4>0,P3/(P$3+P$4),\"\")","v":0.5},{"$f":"SUM(R$15:R$177)","v":0},{"$f":"IF(R$3+R$4>0,R3/(R$3+R$4),\"\")","v":""},{"$f":"COUNTIF($C$15:$C$177,\"G\")","v":22},{"$f":"IF(T$3+T$4>0,T3/(T$3+T$4),\"\")","v":0.33846153846153848}]
[{"$error":"#N/A"},null,null,null,null,null,null,null,null,null,null,null,null,null,"Perdus",{"$f":"COUNTIF($K$15:$M$177,SaisonDeb)-P3","v":4},{"$f":"IF(P$3+P$4>0,P4/(P$3+P$4),\"\")","v":0.5},{"$f":"COUNTIF($K$15:$K$177,SaisonFin)-R3","v":0},{"$f":"IF(R$3+R$4>0,R4/(R$3+R$4),\"\")","v":""},{"$f":"COUNTIF($C$15:$C$177,\"P\")","v":43},{"$f":"IF(T$3+T$4>0,T4/(T$3+T$4),\"\")","v":0.66153846153846152}]
[{"$error":"#N/A"},null,null,null,null,null,null,null,null,null,null,null,null,null,"Total / Moy.",{"$f":"SUM(P3:P4)","v":8},{"$f":"IF(SUMIF($K$15:$K$177,SaisonDeb,$G$15:$G$177)>0,SUMIF($K$15:$K$177,SaisonDeb,$F$15:$F$177)/SUMIF($K$15:$K$177,SaisonDeb,$G$15:$G$177),\"\")","v":1.0013513513513514},{"$f":"SUM(R3:R4)","v":0},{"$f":"IF(SUMIF($K$15:$K$177,SaisonFin,$G$15:$G$177)>0,SUMIF($K$15:$K$177,SaisonFin,$F$15:$F$177)/SUMIF($K$15:$K$177,SaisonFin,$G$15:$G$177),\"\")","v":""},{"$f":"SUM(T3:T4)","v":65},{"$f":"IF(SUM($G$15:$G$177)>0,SUM($F$15:$F$177)/SUM($G$15:$G$177),\"\")","v":0.90552901023890786},{"$f":"IF(SUMIF($K$15:$K$81,SaisonDeb,$G$15:$G$81)+SUMIF($K$15:$K$81,SaisonFin,$G$15:$G$81)>0,(SUMIF($K$15:$K$81,SaisonDeb,$F$15:$F$81)+SUMIF($K$15:$K$81,SaisonFin,$F$15:$F$81))/(SUMIF($K$15:$K$81,SaisonDeb,$G$15:$G$81)+SUMIF($K$15:$K$81,SaisonFin,$G$15:$G$81)),\"\")","v":1.0013513513513514}]
[null,null,null,null,null,null,null,null,null,null,null,null,null,"Sets","Gagnés",{"$f":"SUMIF($K$15:$K$177,SaisonDeb,$D$15:$D$177)","v":4},{"$f":"IF(P$6+P$7>0,P6/(P$6+P$7),\"\")","v":0.5},{"$f":"SUMIF($K$15:$K$177,SaisonFin,$D$15:$D$177)","v":0},{"$f":"IF(R$6+R$7>0,R6/(R$6+R$7),\"\")","v":""},{"$f":"SUM($D$15:$D$177)","v":43},{"$f":"IF(T$6+T$7>0,T6/(T$6+T$7),\"\")","v":0.36440677966101692}]
[null,null,null,null,null,null,null,null,null,null,null,null,null,null,"Perdus",{"$f":"SUMIF($K$15:$K$177,SaisonDeb,$E$15:$E$177)","v":4},{"$f":"IF(P$6+P$7>0,P7/(P$6+P$7),\"\")","v":0.5},{"$f":"SUMIF($K$15:$K$177,SaisonFin,$E$15:$E$177)","v":0},{"$f":"IF(R$6+R$7>0,R7/(R$6+R$7),\"\")","v":""},{"$f":"SUM($E$15:$E$177)","v":75},{"$f":"IF(T$6+T$7>0,T7/(T$6+T$7),\"\")","v":0.63559322033898302}]
["Récapitulatif joueurs",null,null,null,null,null,null,null,null,null,null,null,null,null,"Total",{"$f":"SUM(P6:P7)","v":8},null,{"$f":"SUM(R6:R7)","v":0},null,{"$f":"SUM(T6:T7)","v":118}]
[]
[]
[]
[]
[]
[]
["Joueur","Adversaire","G/P","Sets gagnés","Sets perdus","pts marqués","pts subis","Date","Compétition","Phase","Saison"]
["DUTAILLY Michel","LUBREZ Pierre","P",1,2,161,173,"2016-01-09","T2 CD59 5 QUILLES R1 - DUNKERQUE","Qualifications",{"$f":"IF(H16<>\"\",IF(MONTH(H16)>MoisRef,YEAR(H16)&\"-\"&YEAR(H16)+1,YEAR(H16)-1&\"-\"&YEAR(H16)),\"\")","v":"2015-2016"},null,null,null,null,{"$f":"IF($K16=P$1,COUNTIF($C16,\"G\"),0)","v":0},null,{"$f":"IF($K16=R$1,COUNTIF($C16,\"G\"),0)","v":0}]
["DUTAILLY Michel","HERREBRECHT Emerick","G",2,0,120,78,"2016-01-09","T2 CD59 5 QUILLES R1 - DUNKERQUE","Qualifications","2015-2016",null,null,null,null,{"$f":"IF($K17=P$1,COUNTIF($C17,\"G\"),0)","v":0},null,{"$f":"IF($K17=R$1,COUNTIF($C17,\"G\"),0)","v":0}]
["DUTAILLY Michel","ST MAXENT Stéphane","P",1,2,157,178,"2016-01-09","T2 CD59 5 QUILLES R1 - DUNKERQUE","1/4 Finale","2015-2016",null,null,null,null,{"$f":"IF($K18=P$1,COUNTIF($C18,\"G\"),0)","v":0},null,{"$f":"IF($K18=R$1,COUNTIF($C18,\"G\"),0)","v":0}]
["DUTAILLY Michel","PARISIS Francis","G",1,0,100,86,"2016-01-14","T1 Qualifications CD59 R1 - CONSOLANTE - DUNKERQUE","Qualifications","2015-2016",null,null,null,null,{"$f":"IF($K19=P$1,COUNTIF($C19,\"G\"),0)","v":0},null,{"$f":"IF($K19=R$1,COUNTIF($C19,\"G\"),0)","v":0}]
["DUTAILLY Michel","MONFLIER Francis","P",0,2,76,120,"2016-01-14","T1 Qualifications CD59 R1 - DUNKERQUE","Qualifications","2015-2016",null,null,null,null,0,null,0]
["DUTAILLY Michel","NOYER Pascal","P",1,2,171,177,"2016-01-14","T1 Qualifications CD59 R1 - DUNKERQUE","Qualifications","2015-2016",null,null,null,null,0,null,0]
["DUTAILLY Michel","ESTERMANS Bernard","P",0,2,88,120,"2017-02-25","T2 CD59 R1 - CONSOLANTE - VILLENEUVE D'ASCQ","Qualifications","2016-2017",null,null,null,null,0,null,0]
["DUTAILLY Michel","PAILLARD Bertrand","P",1,2,131,160,"2017-02-25","T2 CD59 R1 - CONSOLANTE - VILLENEUVE D'ASCQ","Qualifications","2016-2017",null,null,null,null,0,null,0]
["DUTAILLY Michel","BEGHIN Nicolas","P",0,2,77,120,"2017-02-25","T2 Qualifications CD59 R1 - VILLENEUVE D'ASCQ","Qualifications","2016-2017",null,null,null,null,0,null,0]
["DUTAILLY Michel","MONFLIER Francis","P",0,2,83,120,"2017-02-25","T2 Qualifications CD59 R1 - VILLENEUVE D'ASCQ","Qualifications","2016-2017",null,null,null,null,0,null,0]
["DUTAILLY Michel","BEGHIN Benjamin","P",0,1,58,100,"2017-03-11","T3  CD59 R1 - CONSOLANTE - ST POL SUR MER","1/2 Finale","2016-2017",null,null,null,null,0,null,0]
["DUTAILLY Michel","MONFLIER Francis","P",0,2,37,120,"2017-03-11","T3 Qualifications CD59 R1 - ST POL SUR MER","Qualifications","2016-2017",null,null,null,null,0,null,0]
["DUTAILLY Michel","PAILLARD Bertrand","P",0,2,75,120,"2017-03-11","T3 Qualifications CD59 R1 - ST POL SUR MER","Qualifications","2016-2017",null,null,null,null,0,null,0]
["DUTAILLY Michel","LECROART Serge","P",1,3,207,229,"2018-04-15","Finale R1 CD59 - VILLENEUVE D'ASCQ","Qualifications","2017-2018",null,null,null,null,0,null,0]
["DUTAILLY Michel","MANTEN Paul","P",1,3,179,227,"2018-04-15","Finale R1 CD59 - VILLENEUVE D'ASCQ","Qualifications","2017-2018",null,null,null,null,0,null,0]
["DUTAILLY Michel","BEGHIN Benjamin","G",2,1,173,172,"2017-09-30","T1 Qualifications R1 CD59 - GRAVELINES","Qualifications","2017-2018",null,null,null,null,0,null,0]
["DUTAILLY Michel","BEGHIN Benjamin","G",2,0,120,85,"2017-09-30","T1 Qualifications R1 CD59 - GRAVELINES","Qualifications","2017-2018",null,null,null,null,0,null,0]
["DUTAILLY Michel","SZWARC Patrick","P",0,2,92,120,"2017-09-30","T1 Qualifications R1 CD59 - GRAVELINES","1/4 Finale","2017-2018",null,null,null,null,0,null,0]
["DUTAILLY Michel","DEREUDDRE Dominique","G",2,0,120,58,"2018-01-20","T2 Qualifications R1 CD59 - ST POL SUR MER","Qualifications","2017-2018",null,null,null,null,0,null,0]
["DUTAILLY Michel","ESTERMANS Bernard","P",0,2,89,120,"2018-01-20","T2 Qualifications R1 CD59 - ST POL SUR MER","1/4 Finale","2017-2018",null,null,null,null,0,null,0]
["DUTAILLY Michel","LECROART Serge","P",0,2,98,120,"2018-01-20","T2 Qualifications R1 CD59 - ST POL SUR MER","Qualifications","2017-2018",null,null,null,null,0,null,0]
["DUTAILLY Michel","ESTERMANS Bernard","P",1,2,148,158,"2018-02-04","T3 Qualifications R1 CD59 - GRAVELINES","Qualifications","2017-2018",null,null,null,null,0,null,0]
["DUTAILLY Michel","ESTERMANS Bernard","P",1,2,148,161,"2018-02-04","T3 Qualifications R1 CD59 - GRAVELINES","Qualifications","2017-2018",null,null,null,null,0,null,0]
["DUTAILLY Michel","DEREUDDRE Dominique","P",0,1,66,100,"2018-03-10","T4 Qualifications R1 CD59 - CONSOLANTE - VILLENEUVE D'ASCQ","Qualifications","2017-2018",null,null,null,null,0,null,0]
["DUTAILLY Michel","NOYER Pascal","G",1,0,100,97,"2018-03-10","T4 Qualifications R1 CD59 - CONSOLANTE - VILLENEUVE D'ASCQ","Qualifications","2017-2018",null,null,null,null,0,null,0]
["DUTAILLY Michel","NOYER Pascal","P",0,0,0,0,"2018-03-10","T4 Qualifications R1 CD59 - CONSOLANTE - VILLENEUVE D'ASCQ","1/2 Finale","2017-2018",null,null,null,null,0,null,0]
["DUTAILLY Michel","PARISIS Francis","P",0,0,0,0,"2018-03-10","T4 Qualifications R1 CD59 - CONSOLANTE - VILLENEUVE D'ASCQ","Qualifications","2017-2018",null,null,null,null,0,null,0]
["DUTAILLY Michel","VEREECQUE Bernard","P",0,1,73,100,"2018-03-10","T4 Qualifications R1 CD59 - CONSOLANTE - VILLENEUVE D'ASCQ","Qualifications","2017-2018",null,null,null,null,0,null,0]
["DUTAILLY Michel","ESTERMANS Bernard","P",0,2,70,120,"2018-03-10","T4 Qualifications R1 CD59 - VILLENEUVE D'ASCQ","Qualifications","2017-2018",null,null,null,null,0,null,0]
["DUTAILLY Michel","NOYER Pascal","G",2,0,120,44,"2018-03-10","T4 Qualifications R1 CD59 - VILLENEUVE D'ASCQ","Qualifications","2017-2018",null,null,null,null,0,null,0]
["DUTAILLY Michel","NOYER Pascal","P",1,2,165,156,"2018-10-20","T1 5Q R2 CD59 - ST POL SUR MER","1/2 Finale","2018-2019",null,null,null,null,0,null,0]
["DUTAILLY Michel","BEGUIN Jean-Luc","G",2,0,120,41,"2018-11-24","T2 5Q R2 CD59 - GRAVELINES","Qualifications","2018-2019",null,null,null,null,0,null,0]
["DUTAILLY Michel","DEREUDDRE Dominique","P",1,2,160,173,"2018-11-24","T2 5Q R2 CD59 - GRAVELINES","1/2 Finale","2018-2019",null,null,null,null,0,null,0]
["DUTAILLY Michel","NOYER Pascal","P",0,2,109,120,"2018-11-24","T2 5Q R2 CD59 - GRAVELINES","Qualifications","2018-2019",null,null,null,null,0,null,0]
["DUTAILLY Michel","BEGUIN Jean-Luc","G",2,1,153,149,"2019-01-19","T4 5Q R2 CD59 - ST POL SUR MER","Qualifications","2018-2019",null,null,null,null,0,null,0]
["DUTAILLY Michel","DEREUDDRE Dominique","P",0,2,61,120,"2019-01-19","T4 5Q R2 CD59 - ST POL SUR MER","Qualifications","2018-2019",null,null,null,null,0,null,0]
["DUTAILLY Michel","VEREECQUE Bernard","P",1,2,139,178,"2019-01-19","T4 5Q R2 CD59 - ST POL SUR MER","Qualifications","2018-2019",null,null,null,null,0,null,0]
["DUTAILLY Michel","NOYER Pascal","P",0,2,70,120,"2019-03-02","Finale CD59 R2 - GRAVELINES","Qualifications","2018-2019",null,null,null,null,0,null,0]
["DUTAILLY Michel","SZWARC Patrick","P",0,2,118,120,"2019-03-02","Finale CD59 R2 - GRAVELINES","Qualifications","2018-2019",null,null,null,null,0,null,0]
["DUTAILLY Michel","DEREUDDRE Dominique","P",0,1,85,100,"2018-12-16","T3 5Q R1 CD59  - DUNKERQUE - CONSOLANTE","Qualifications","2018-2019",null,null,null,null,0,null,0]
["DUTAILLY Michel","ESTERMANS Bernard","P",0,1,72,100,"2018-12-16","T3 5Q R1 CD59  - DUNKERQUE - CONSOLANTE","Qualifications","2018-2019",null,null,null,null,0,null,0]
["DUTAILLY Michel","KERKHOF Hervé","P",0,1,68,100,"2018-12-16","T3 5Q R1 CD59  - DUNKERQUE - CONSOLANTE","Qualifications","2018-2019",null,null,null,null,0,null,0]
["DUTAILLY Michel","LORTHIOIR Jean-Luc","P",0,1,75,100,"2018-12-16","T3 5Q R1 CD59  - DUNKERQUE - CONSOLANTE","Qualifications","2018-2019",null,null,null,null,0,null,0]
["DUTAILLY Michel","CAUX Frédéric","G",2,0,120,74,"2018-12-16","T3 5Q R1 CD59  - DUNKERQUE","Qualifications","2018-2019",null,null,null,null,0,null,0]
["DUTAILLY Michel","ESTERMANS Bernard","P",0,2,76,120,"2018-12-16","T3 5Q R1 CD59  - DUNKERQUE","Qualifications","2018-2019",null,null,null,null,0,null,0]
["DUTAILLY Michel","BEGHIN Nicolas","G",1,0,100,76,"2019-11-24","T2 5Q R1 CD59  - GRAVELINES - CONSOLANTE","Qualifications","2019-2020",null,null,null,null,0,null,0]
["DUTAILLY Michel","BEGHIN Nicolas","G",1,0,100,91,"2019-11-24","T2 5Q R1 CD59  - GRAVELINES - CONSOLANTE","1/2 Finale","2019-2020",null,null,null,null,0,null,0]
["DUTAILLY Michel","HOCHART James","P",0,1,66,100,"2019-11-24","T2 5Q R1 CD59  - GRAVELINES - CONSOLANTE","Qualifications","2019-2020",null,null,null,null,0,null,0]
["DUTAILLY Michel","VEREECQUE Bernard","G",1,0,100,66,"2019-11-24","T2 5Q R1 CD59  - GRAVELINES - CONSOLANTE","Qualifications","2019-2020",null,null,null,null,0,null,0]
["DUTAILLY Michel","LORTHIOIR Jean-Luc","P",0,2,56,120,"2019-11-24","T2 5Q R1 CD59 - GRAVELINES ","Qualifications","2019-2020",null,null,null,null,0,null,0]
["DUTAILLY Michel","NOYER Pascal","G",2,1,153,154,"2019-11-24","T2 5Q R1 CD59 - GRAVELINES ","Qualifications","2019-2020",null,null,null,null,0,null,0]
["DUTAILLY Michel","LECROART Serge","P",0,1,34,100,"2020-01-04","T3 5Q R1 CD59 - GRAVELINES - CONSOLANTE -","Qualifications","2019-2020",null,null,null,null,0,null,0]
["DUTAILLY Michel","SZWARC Patrick","G",1,0,100,79,"2020-01-04","T3 5Q R1 CD59 - GRAVELINES - CONSOLANTE -","Qualifications","2019-2020",null,null,null,null,0,null,0]
["DUTAILLY Michel","VEREECQUE Bernard","G",1,0,100,93,"2020-01-04","T3 5Q R1 CD59 - GRAVELINES - CONSOLANTE -","Qualifications","2019-2020",null,null,null,null,0,null,0]
["DUTAILLY Michel","VEREECQUE Esteban","G",1,0,100,72,"2020-01-04","T3 5Q R1 CD59 - GRAVELINES - CONSOLANTE -","Qualifications","2019-2020",null,null,null,null,0,null,0]
["DUTAILLY Michel","LECROART Serge","G",2,1,175,160,"2020-01-04","T3 5Q R1 CD59 - GRAVELINES - Convocation 8h30 -","Qualifications","2019-2020",null,null,null,null,0,null,0]
["DUTAILLY Michel","LORTHIOIR Jean-Luc","P",0,2,80,120,"2020-01-04","T3 5Q R1 CD59 - GRAVELINES - Convocation 8h30 -","Qualifications","2019-2020",null,null,null,null,0,null,0]
["DUTAILLY Michel","HOCHART James","G",1,0,100,99,"2021-12-18","T2 5Q R1 - GRAVELINES - CONVOCATON 8h30","Qualifications","2021-2022",null,null,null,null,1,null,0]
["DUTAILLY Michel","LECROART Serge","P",0,1,84,100,"2021-12-18","T2 5Q R1 - GRAVELINES - CONVOCATON 8h30","Qualifications","2021-2022",null,null,null,null,0,null,0]
["DUTAILLY Michel","LE GOHEBEL Jacques","G",1,0,100,82,"2021-12-18","T2 5Q R1 - GRAVELINES - consolante","Qualifications","2021-2022",null,null,null,null,1,null,0]
["DUTAILLY Michel","LE GOHEBEL Jacques","G",1,0,100,82,"2021-12-18","T2 5Q R1 - GRAVELINES - consolante","Qualifications","2021-2022",null,null,null,null,1,null,0]
["DUTAILLY Michel","BEGHIN Nicolas","P",0,1,78,100,"2022-02-26","T3 5Q R1 - GRAVELINES - CONSOLANTE","Qualifications","2021-2022",null,null,null,null,0,null,0]
["DUTAILLY Michel","SZWARC Johann","G",1,0,100,77,"2022-02-26","T3 5Q R1 - GRAVELINES - CONSOLANTE","Qualifications","2021-2022",null,null,null,null,1,null,0]
["DUTAILLY Michel","BEGHIN Nicolas","P",0,1,90,100,"2022-02-26","T3 5Q R1 - GRAVELINES ","Qualifications","2021-2022",null,null,null,null,0,null,0]
["DUTAILLY Michel","MONFLIER Francis","P",0,1,89,100,"2022-02-26","T3 5Q R1 - GRAVELINES ","Qualifications","2021-2022",null,null,null,null,0,null,0]
["Fin des données",null,null,null,null,null,null,null,null,null,"",null,null,null,null,{"$f":"IF($K81=P$1,COUNTIF($C81,\"G\"),0)","v":0},null,{"$f":"IF($K81=R$1,COUNTIF($C81,\"G\"),0)","v":0}]

{"sheet":"ESPALIEU Jean-François","index":70,"n_rows":18,"n_cols":22,"rows_kept":18,"cut":false,"hidden":false,"merged":[]}
["ESPALIEU Jean-François",null,null,null,null,null,null,null,null,null,null,null,null,null,null,{"$f":"SaisonDeb","v":"2021-2022"},null,{"$f":"SaisonFin","v":"2022-2023"},null,"Toutes saisons"]
[{"$error":"#N/A"},null,null,null,null,null,null,null,null,null,null,null,null,null,null,"Nombre","%age","Nombre","%age","Nombre","%age"]
[{"$error":"#N/A"},null,null,null,null,null,null,null,null,null,null,null,null,"Matchs","Gagnés",{"$f":"SUM(P$15:P$114)","v":0},{"$f":"IF(P$3+P$4>0,P3/(P$3+P$4),\"\")","v":""},{"$f":"SUM(R$15:R$114)","v":0},{"$f":"IF(R$3+R$4>0,R3/(R$3+R$4),\"\")","v":0},{"$f":"COUNTIF($C$15:$C$114,\"G\")","v":0},{"$f":"IF(T$3+T$4>0,T3/(T$3+T$4),\"\")","v":0}]
[{"$error":"#N/A"},null,null,null,null,null,null,null,null,null,null,null,null,null,"Perdus",{"$f":"COUNTIF($K$15:$M$114,SaisonDeb)-P3","v":0},{"$f":"IF(P$3+P$4>0,P4/(P$3+P$4),\"\")","v":""},{"$f":"COUNTIF($K$15:$K$114,SaisonFin)-R3","v":2},{"$f":"IF(R$3+R$4>0,R4/(R$3+R$4),\"\")","v":1},{"$f":"COUNTIF($C$15:$C$114,\"P\")","v":2},{"$f":"IF(T$3+T$4>0,T4/(T$3+T$4),\"\")","v":1}]
[{"$error":"#N/A"},null,null,null,null,null,null,null,null,null,null,null,null,null,"Total / Moy.",{"$f":"SUM(P3:P4)","v":0},{"$f":"IF(SUMIF($K$15:$K$114,SaisonDeb,$G$15:$G$114)>0,SUMIF($K$15:$K$114,SaisonDeb,$F$15:$F$114)/SUMIF($K$15:$K$114,SaisonDeb,$G$15:$G$114),\"\")","v":""},{"$f":"SUM(R3:R4)","v":2},{"$f":"IF(SUMIF($K$15:$K$114,SaisonFin,$G$15:$G$114)>0,SUMIF($K$15:$K$114,SaisonFin,$F$15:$F$114)/SUMIF($K$15:$K$114,SaisonFin,$G$15:$G$114),\"\")","v":0.8},{"$f":"SUM(T3:T4)","v":2},{"$f":"IF(SUM($G$15:$G$114)>0,SUM($F$15:$F$114)/SUM($G$15:$G$114),\"\")","v":0.8},{"$f":"IF(SUMIF($K$15:$K$18,SaisonDeb,$G$15:$G$18)+SUMIF($K$15:$K$18,SaisonFin,$G$15:$G$18)>0,(SUMIF($K$15:$K$18,SaisonDeb,$F$15:$F$18)+SUMIF($K$15:$K$18,SaisonFin,$F$15:$F$18))/(SUMIF($K$15:$K$18,SaisonDeb,$G$15:$G$18)+SUMIF($K$15:$K$18,SaisonFin,$G$15:$G$18)),\"\")","v":0.8}]
[null,null,null,null,null,null,null,null,null,null,null,null,null,"Sets","Gagnés",{"$f":"SUMIF($K$15:$K$114,SaisonDeb,$D$15:$D$114)","v":0},{"$f":"IF(P$6+P$7>0,P6/(P$6+P$7),\"\")","v":""},{"$f":"SUMIF($K$15:$K$114,SaisonFin,$D$15:$D$114)","v":0},{"$f":"IF(R$6+R$7>0,R6/(R$6+R$7),\"\")","v":0},{"$f":"SUM($D$15:$D$114)","v":0},{"$f":"IF(T$6+T$7>0,T6/(T$6+T$7),\"\")","v":0}]
[null,null,null,null,null,null,null,null,null,null,null,null,null,null,"Perdus",{"$f":"SUMIF($K$15:$K$114,SaisonDeb,$E$15:$E$114)","v":0},{"$f":"IF(P$6+P$7>0,P7/(P$6+P$7),\"\")","v":""},{"$f":"SUMIF($K$15:$K$114,SaisonFin,$E$15:$E$114)","v":2},{"$f":"IF(R$6+R$7>0,R7/(R$6+R$7),\"\")","v":1},{"$f":"SUM($E$15:$E$114)","v":2},{"$f":"IF(T$6+T$7>0,T7/(T$6+T$7),\"\")","v":1}]
["Récapitulatif joueurs",null,null,null,null,null,null,null,null,null,null,null,null,null,"Total",{"$f":"SUM(P6:P7)","v":0},null,{"$f":"SUM(R6:R7)","v":2},null,{"$f":"SUM(T6:T7)","v":2}]
[]
[]
[]
[]
[]
[]
["Joueur","Adversaire","G/P","Sets gagnés","Sets perdus","pts marqués","pts subis","Date","Compétition","Phase","Saison"]
["ESPALIEU Jean-François","HOCHART James","P",0,1,72,100,"2022-10-30","T2 5Q R1 - GRAVELINES","Qualifications",{"$f":"IF(H16<>\"\",IF(MONTH(H16)>MoisRef,YEAR(H16)&\"-\"&YEAR(H16)+1,YEAR(H16)-1&\"-\"&YEAR(H16)),\"\")","v":"2022-2023"},null,null,null,null,{"$f":"IF($K16=P$1,COUNTIF($C16,\"G\"),0)","v":0},null,{"$f":"IF($K16=R$1,COUNTIF($C16,\"G\"),0)","v":0}]
["ESPALIEU Jean-François","LE GOHEBEL Jacques","P",0,1,88,100,"2022-10-30","T2 5Q R1 - GRAVELINES","Qualifications",{"$f":"IF(H17<>\"\",IF(MONTH(H17)>MoisRef,YEAR(H17)&\"-\"&YEAR(H17)+1,YEAR(H17)-1&\"-\"&YEAR(H17)),\"\")","v":"2022-2023"},null,null,null,null,{"$f":"IF($K17=P$1,COUNTIF($C17,\"G\"),0)","v":0},null,{"$f":"IF($K17=R$1,COUNTIF($C17,\"G\"),0)","v":0}]
["Fin des données",null,null,null,null,null,null,null,null,null,{"$f":"IF(H18<>\"\",IF(MONTH(H18)>MoisRef,YEAR(H18)&\"-\"&YEAR(H18)+1,YEAR(H18)-1&\"-\"&YEAR(H18)),\"\")","v":""},null,null,null,null,{"$f":"IF($K18=P$1,COUNTIF($C18,\"G\"),0)","v":0},null,{"$f":"IF($K18=R$1,COUNTIF($C18,\"G\"),0)","v":0}]

{"sheet":"FLAHAUT Ghislain","index":71,"n_rows":50,"n_cols":22,"rows_kept":50,"cut":false,"hidden":false,"merged":[]}
["FLAHAUT Ghislain",null,null,null,null,null,null,null,null,null,null,null,null,null,null,{"$f":"SaisonDeb","v":"2021-2022"},null,{"$f":"SaisonFin","v":"2022-2023"},null,"Toutes saisons"]
[{"$error":"#N/A"},null,null,null,null,null,null,null,null,null,null,null,null,null,null,"Nombre","%age","Nombre","%age","Nombre","%age"]
[{"$error":"#N/A"},null,null,null,null,null,null,null,null,null,null,null,null,"Matchs","Gagnés",{"$f":"SUM(P$15:P$146)","v":2},{"$f":"IF(P$3+P$4>0,P3/(P$3+P$4),\"\")","v":0.18181818181818182},{"$f":"SUM(R$15:R$146)","v":0},{"$f":"IF(R$3+R$4>0,R3/(R$3+R$4),\"\")","v":""},{"$f":"COUNTIF($C$15:$C$146,\"G\")","v":5},{"$f":"IF(T$3+T$4>0,T3/(T$3+T$4),\"\")","v":0.14705882352941177}]
[{"$error":"#N/A"},null,null,null,null,null,null,null,null,null,null,null,null,null,"Perdus",{"$f":"COUNTIF($K$15:$M$146,SaisonDeb)-P3","v":9},{"$f":"IF(P$3+P$4>0,P4/(P$3+P$4),\"\")","v":0.81818181818181823},{"$f":"COUNTIF($K$15:$K$146,SaisonFin)-R3","v":0},{"$f":"IF(R$3+R$4>0,R4/(R$3+R$4),\"\")","v":""},{"$f":"COUNTIF($C$15:$C$146,\"P\")","v":29},{"$f":"IF(T$3+T$4>0,T4/(T$3+T$4),\"\")","v":0.8529411764705882}]
[{"$error":"#N/A"},null,null,null,null,null,null,null,null,null,null,null,null,null,"Total / Moy.",{"$f":"SUM(P3:P4)","v":11},{"$f":"IF(SUMIF($K$15:$K$146,SaisonDeb,$G$15:$G$146)>0,SUMIF($K$15:$K$146,SaisonDeb,$F$15:$F$146)/SUMIF($K$15:$K$146,SaisonDeb,$G$15:$G$146),\"\")","v":0.84885204081632648},{"$f":"SUM(R3:R4)","v":0},{"$f":"IF(SUMIF($K$15:$K$146,SaisonFin,$G$15:$G$146)>0,SUMIF($K$15:$K$146,SaisonFin,$F$15:$F$146)/SUMIF($K$15:$K$146,SaisonFin,$G$15:$G$146),\"\")","v":""},{"$f":"SUM(T3:T4)","v":34},{"$f":"IF(SUM($G$15:$G$146)>0,SUM($F$15:$F$146)/SUM($G$15:$G$146),\"\")","v":0.83243486073674755},{"$f":"IF(SUMIF($K$15:$K$50,SaisonDeb,$G$15:$G$50)+SUMIF($K$15:$K$50,SaisonFin,$G$15:$G$50)>0,(SUMIF($K$15:$K$50,SaisonDeb,$F$15:$F$50)+SUMIF($K$15:$K$50,SaisonFin,$F$15:$F$50))/(SUMIF($K$15:$K$50,SaisonDeb,$G$15:$G$50)+SUMIF($K$15:$K$50,SaisonFin,$G$15:$G$50)),\"\")","v":0.84885204081632648}]
[null,null,null,null,null,null,null,null,null,null,null,null,null,"Sets","Gagnés",{"$f":"SUMIF($K$15:$K$146,SaisonDeb,$D$15:$D$146)","v":9},{"$f":"IF(P$6+P$7>0,P6/(P$6+P$7),\"\")","v":0.33333333333333331},{"$f":"SUMIF($K$15:$K$146,SaisonFin,$D$15:$D$146)","v":0},{"$f":"IF(R$6+R$7>0,R6/(R$6+R$7),\"\")","v":""},{"$f":"SUM($D$15:$D$146)","v":21},{"$f":"IF(T$6+T$7>0,T6/(T$6+T$7),\"\")","v":0.26582278481012656}]
[null,null,null,null,null,null,null,null,null,null,null,null,null,null,"Perdus",{"$f":"SUMIF($K$15:$K$146,SaisonDeb,$E$15:$E$146)","v":18},{"$f":"IF(P$6+P$7>0,P7/(P$6+P$7),\"\")","v":0.66666666666666663},{"$f":"SUMIF($K$15:$K$146,SaisonFin,$E$15:$E$146)","v":0},{"$f":"IF(R$6+R$7>0,R7/(R$6+R$7),\"\")","v":""},{"$f":"SUM($E$15:$E$146)","v":58},{"$f":"IF(T$6+T$7>0,T7/(T$6+T$7),\"\")","v":0.73417721518987344}]
["Récapitulatif joueurs",null,null,null,null,null,null,null,null,null,null,null,null,null,"Total",{"$f":"SUM(P6:P7)","v":27},null,{"$f":"SUM(R6:R7)","v":0},null,{"$f":"SUM(T6:T7)","v":79}]
[]
[]
[]
[]
[]
[]
["Joueur","Adversaire","G/P","Sets gagnés","Sets perdus","pts marqués","pts subis","Date","Compétition","Phase","Saison"]
["FLAHAUT Ghislain","MARTEL Bruno","P",0,2,113,120,"2017-12-10","T1 Qualification CD62 R1 - CUCQ","Qualifications",{"$f":"IF(H16<>\"\",IF(MONTH(H16)>MoisRef,YEAR(H16)&\"-\"&YEAR(H16)+1,YEAR(H16)-1&\"-\"&YEAR(H16)),\"\")","v":"2017-2018"},null,null,null,null,{"$f":"IF($K16=P$1,COUNTIF($C16,\"G\"),0)","v":0},null,{"$f":"IF($K16=R$1,COUNTIF($C16,\"G\"),0)","v":0}]
["FLAHAUT Ghislain","RAMET Jacques","P",1,2,136,149,"2017-12-10","T1 Qualification CD62 R1 - CUCQ","Qualifications","2017-2018",null,null,null,null,0,null,0]
["FLAHAUT Ghislain","MARTEL Bruno","P",0,2,113,120,"2018-01-06","T2 Qualification CD62 R1 - xxxx","Qualifications","2017-2018",null,null,null,null,0,null,0]
["FLAHAUT Ghislain","RAMET Jacques","P",1,2,136,149,"2018-01-06","T2 Qualification CD62 R1 - xxxx","Qualifications","2017-2018",null,null,null,null,0,null,0]
["FLAHAUT Ghislain","CAPLIEZ Bernard","P",0,2,82,120,"2018-01-13","T2 Qualification CD62 R1 - WIMILLE","Qualifications","2017-2018",null,null,null,null,0,null,0]
["FLAHAUT Ghislain","CAPLIEZ Bernard","P",1,2,105,172,"2018-01-13","T2 Qualification CD62 R1 - WIMILLE","Qualifications","2017-2018",null,null,null,null,0,null,0]
["FLAHAUT Ghislain","DEPLECHIN Roland","P",0,2,107,120,"2018-02-24","T3 Qualification CD62 R1 - WIMILLE","Qualifications","2017-2018",null,null,null,null,0,null,0]
["FLAHAUT Ghislain","MONTADOR Christophe","P",0,2,56,120,"2018-02-24","T3 Qualification CD62 R1 - WIMILLE","Qualifications","2017-2018",null,null,null,null,0,null,0]
["FLAHAUT Ghislain","DEPLECHIN Roland","P",1,2,147,172,"2018-03-18","T4 Qualification CD62 R1 - CUCQ","Qualifications","2017-2018",null,null,null,null,0,null,0]
["FLAHAUT Ghislain","MARTEL Michel","P",1,2,141,174,"2018-03-18","T4 Qualification CD62 R1 - CUCQ","Qualifications","2017-2018",null,null,null,null,0,null,0]
["FLAHAUT Ghislain","MONTADOR Christophe","P",0,2,74,120,"2019-01-13","T3 Qualification CD62 R1 - WIMILLE","Qualifications","2018-2019",null,null,null,null,0,null,0]
["FLAHAUT Ghislain","RAMET Jacques","P",1,2,116,144,"2019-01-13","T3 Qualification CD62 R1 - WIMILLE","Qualifications","2018-2019",null,null,null,null,0,null,0]
["FLAHAUT Ghislain","MARTEL Bruno","G",2,0,120,72,"2018-12-01","T2 Qualification CD62 R1 - WIMILLE","Qualifications","2018-2019",null,null,null,null,0,null,0]
["FLAHAUT Ghislain","MONTADOR Christophe","P",0,2,96,120,"2018-12-01","T2 Qualification CD62 R1 - WIMILLE","1/2 Finale","2018-2019",null,null,null,null,0,null,0]
["FLAHAUT Ghislain","RAMET Jacques","P",0,2,96,120,"2018-12-01","T2 Qualification CD62 R1 - WIMILLE","Qualifications","2018-2019",null,null,null,null,0,null,0]
["FLAHAUT Ghislain","CARTIERE André","G",2,0,120,89,"2018-11-03","T1 Qualification CD62 R1 - CUCQ","Qualifications","2018-2019",null,null,null,null,0,null,0]
["FLAHAUT Ghislain","MARTEL Bruno","P",0,2,96,120,"2018-11-03","T1 Qualification CD62 R1 - CUCQ","Qualifications","2018-2019",null,null,null,null,0,null,0]
["FLAHAUT Ghislain","MONTADOR Ludovic","P",0,2,62,120,"2019-01-27","T4 Qualification CD62 R1 - CUCQ","Qualifications","2018-2019",null,null,null,null,0,null,0]
["FLAHAUT Ghislain","RAMET Jacques","P",0,2,89,120,"2019-01-27","T4 Qualification CD62 R1 - CUCQ","Qualifications","2018-2019",null,null,null,null,0,null,0]
["FLAHAUT Ghislain","CYFFERS Jean Bernard","P",0,2,72,120,"2020-02-02","T2 Qualifications CD62 R1 - WIMILLE","Qualifications","2019-2020",null,null,null,null,0,null,0]
["FLAHAUT Ghislain","RAMET Jacques","G",2,0,120,83,"2020-02-02","T2 Qualifications CD62 R1 - WIMILLE","Qualifications","2019-2020",null,null,null,null,0,null,0]
["FLAHAUT Ghislain","MONTADOR Christophe","P",0,2,83,120,"2020-02-15","T3 Qualifications CD62 R1 - WIMILLE","Qualifications","2019-2020",null,null,null,null,0,null,0]
["FLAHAUT Ghislain","RAMET Jacques","P",0,2,95,120,"2020-02-15","T3 Qualifications CD62 R1 - WIMILLE","Qualifications","2019-2020",null,null,null,null,0,null,0]
["FLAHAUT Ghislain","LEBECQ Jean Pierre","P",0,2,104,120,"2021-10-24","T1 CD62 5Q R1 - CUCQ","Qualifications","2021-2022",null,null,null,null,0,null,0]
["FLAHAUT Ghislain","MONTADOR Christophe","G",2,0,120,107,"2021-10-24","T1 CD62 5Q R1 - CUCQ","Qualifications","2021-2022",null,null,null,null,1,null,0]
["FLAHAUT Ghislain","TIZON Alain","P",0,2,82,120,"2021-10-24","T1 CD62 5Q R1 - CUCQ","1/2 Finale","2021-2022",null,null,null,null,0,null,0]
["FLAHAUT Ghislain","CYFFERS Jean Bernard","P",1,2,148,178,"2021-12-18","T3 CD62 5Q R1 - CUCQ","Qualifications","2021-2022",null,null,null,null,0,null,0]
["FLAHAUT Ghislain","LEBECQ Jean Pierre","P",1,2,156,165,"2021-12-18","T3 CD62 5Q R1 - CUCQ","Qualifications","2021-2022",null,null,null,null,0,null,0]
["FLAHAUT Ghislain","LEBECQ Jean Pierre","P",1,2,130,153,"2022-01-29","T4 CD62 5Q R1 - CUCQ","Finale","2021-2022",null,null,null,null,0,null,0]
["FLAHAUT Ghislain","RAMET Jacques","P",1,1,154,152,"2022-01-29","T4 CD62 5Q R1 - CUCQ","Qualifications","2021-2022",null,null,null,null,0,null,0]
["FLAHAUT Ghislain","RAMET Jacques","P",0,2,62,120,"2022-01-29","T4 CD62 5Q R1 - CUCQ","Qualifications","2021-2022",null,null,null,null,0,null,0]
["FLAHAUT Ghislain","RAMET Jacques","G",2,1,163,159,"2022-01-29","T4 CD62 5Q R1 - CUCQ","1/2 Finale","2021-2022",null,null,null,null,1,null,0]
["FLAHAUT Ghislain","LEBECQ Jean Pierre","P",1,2,145,174,"2021-11-27","T2 CD62 5Q R1 - WIMILLE","Qualifications","2021-2022",null,null,null,null,0,null,0]
["FLAHAUT Ghislain","LEBECQ Jean Pierre","P",0,2,67,120,"2021-11-27","T2 CD62 5Q R1 - WIMILLE","Qualifications","2021-2022",null,null,null,null,0,null,0]
["Fin des données",null,null,null,null,null,null,null,null,null,"",null,null,null,null,{"$f":"IF($K50=P$1,COUNTIF($C50,\"G\"),0)","v":0},null,{"$f":"IF($K50=R$1,COUNTIF($C50,\"G\"),0)","v":0}]

{"sheet":"FRANCOIS  Bernard","index":72,"n_rows":18,"n_cols":22,"rows_kept":18,"cut":false,"hidden":false,"merged":[]}
["FRANCOIS  Bernard",null,null,null,null,null,null,null,null,null,null,null,null,null,null,{"$f":"SaisonDeb","v":"2021-2022"},null,{"$f":"SaisonFin","v":"2022-2023"},null,"Toutes saisons"]
[{"$error":"#N/A"},null,null,null,null,null,null,null,null,null,null,null,null,null,null,"Nombre","%age","Nombre","%age","Nombre","%age"]
[{"$error":"#N/A"},null,null,null,null,null,null,null,null,null,null,null,null,"Matchs","Gagnés",{"$f":"SUM(P$15:P$114)","v":0},{"$f":"IF(P$3+P$4>0,P3/(P$3+P$4),\"\")","v":""},{"$f":"SUM(R$15:R$114)","v":1},{"$f":"IF(R$3+R$4>0,R3/(R$3+R$4),\"\")","v":0.5},{"$f":"COUNTIF($C$15:$C$114,\"G\")","v":1},{"$f":"IF(T$3+T$4>0,T3/(T$3+T$4),\"\")","v":0.5}]
[{"$error":"#N/A"},null,null,null,null,null,null,null,null,null,null,null,null,null,"Perdus",{"$f":"COUNTIF($K$15:$M$114,SaisonDeb)-P3","v":0},{"$f":"IF(P$3+P$4>0,P4/(P$3+P$4),\"\")","v":""},{"$f":"COUNTIF($K$15:$K$114,SaisonFin)-R3","v":1},{"$f":"IF(R$3+R$4>0,R4/(R$3+R$4),\"\")","v":0.5},{"$f":"COUNTIF($C$15:$C$114,\"P\")","v":1},{"$f":"IF(T$3+T$4>0,T4/(T$3+T$4),\"\")","v":0.5}]
[{"$error":"#N/A"},null,null,null,null,null,null,null,null,null,null,null,null,null,"Total / Moy.",{"$f":"SUM(P3:P4)","v":0},{"$f":"IF(SUMIF($K$15:$K$114,SaisonDeb,$G$15:$G$114)>0,SUMIF($K$15:$K$114,SaisonDeb,$F$15:$F$114)/SUMIF($K$15:$K$114,SaisonDeb,$G$15:$G$114),\"\")","v":""},{"$f":"SUM(R3:R4)","v":2},{"$f":"IF(SUMIF($K$15:$K$114,SaisonFin,$G$15:$G$114)>0,SUMIF($K$15:$K$114,SaisonFin,$F$15:$F$114)/SUMIF($K$15:$K$114,SaisonFin,$G$15:$G$114),\"\")","v":0.96825396825396826},{"$f":"SUM(T3:T4)","v":2},{"$f":"IF(SUM($G$15:$G$114)>0,SUM($F$15:$F$114)/SUM($G$15:$G$114),\"\")","v":0.96825396825396826},{"$f":"IF(SUMIF($K$15:$K$18,SaisonDeb,$G$15:$G$18)+SUMIF($K$15:$K$18,SaisonFin,$G$15:$G$18)>0,(SUMIF($K$15:$K$18,SaisonDeb,$F$15:$F$18)+SUMIF($K$15:$K$18,SaisonFin,$F$15:$F$18))/(SUMIF($K$15:$K$18,SaisonDeb,$G$15:$G$18)+SUMIF($K$15:$K$18,SaisonFin,$G$15:$G$18)),\"\")","v":0.96825396825396826}]
[null,null,null,null,null,null,null,null,null,null,null,null,null,"Sets","Gagnés",{"$f":"SUMIF($K$15:$K$114,SaisonDeb,$D$15:$D$114)","v":0},{"$f":"IF(P$6+P$7>0,P6/(P$6+P$7),\"\")","v":""},{"$f":"SUMIF($K$15:$K$114,SaisonFin,$D$15:$D$114)","v":5},{"$f":"IF(R$6+R$7>0,R6/(R$6+R$7),\"\")","v":0.55555555555555558},{"$f":"SUM($D$15:$D$114)","v":5},{"$f":"IF(T$6+T$7>0,T6/(T$6+T$7),\"\")","v":0.55555555555555558}]
[null,null,null,null,null,null,null,null,null,null,null,null,null,null,"Perdus",{"$f":"SUMIF($K$15:$K$114,SaisonDeb,$E$15:$E$114)","v":0},{"$f":"IF(P$6+P$7>0,P7/(P$6+P$7),\"\")","v":""},{"$f":"SUMIF($K$15:$K$114,SaisonFin,$E$15:$E$114)","v":4},{"$f":"IF(R$6+R$7>0,R7/(R$6+R$7),\"\")","v":0.44444444444444442},{"$f":"SUM($E$15:$E$114)","v":4},{"$f":"IF(T$6+T$7>0,T7/(T$6+T$7),\"\")","v":0.44444444444444442}]
["Récapitulatif joueurs",null,null,null,null,null,null,null,null,null,null,null,null,null,"Total",{"$f":"SUM(P6:P7)","v":0},null,{"$f":"SUM(R6:R7)","v":9},null,{"$f":"SUM(T6:T7)","v":9}]
[]
[]
[]
[]
[]
[]
["Joueur","Adversaire","G/P","Sets gagnés","Sets perdus","pts marqués","pts subis","Date","Compétition","Phase","Saison"]
["FRANCOIS  Bernard","LEFEVRE Alexandre","P",2,3,189,253,"2022-12-03","T1 CD02 R1 - saint quentin","Qualifications",{"$f":"IF(H16<>\"\",IF(MONTH(H16)>MoisRef,YEAR(H16)&\"-\"&YEAR(H16)+1,YEAR(H16)-1&\"-\"&YEAR(H16)),\"\")","v":"2022-2023"},null,null,null,null,{"$f":"IF($K16=P$1,COUNTIF($C16,\"G\"),0)","v":0},null,{"$f":"IF($K16=R$1,COUNTIF($C16,\"G\"),0)","v":0}]
["FRANCOIS  Bernard","ROZE Dominique","G",3,1,238,188,"2022-12-03","T1 CD02 R1 - saint quentin","Qualifications",{"$f":"IF(H17<>\"\",IF(MONTH(H17)>MoisRef,YEAR(H17)&\"-\"&YEAR(H17)+1,YEAR(H17)-1&\"-\"&YEAR(H17)),\"\")","v":"2022-2023"},null,null,null,null,{"$f":"IF($K17=P$1,COUNTIF($C17,\"G\"),0)","v":0},null,{"$f":"IF($K17=R$1,COUNTIF($C17,\"G\"),0)","v":1}]
["Fin des données",null,null,null,null,null,null,null,null,null,{"$f":"IF(H18<>\"\",IF(MONTH(H18)>MoisRef,YEAR(H18)&\"-\"&YEAR(H18)+1,YEAR(H18)-1&\"-\"&YEAR(H18)),\"\")","v":""},null,null,null,null,{"$f":"IF($K18=P$1,COUNTIF($C18,\"G\"),0)","v":0},null,{"$f":"IF($K18=R$1,COUNTIF($C18,\"G\"),0)","v":0}]

{"sheet":"FRANCOIS Bernard","index":73,"n_rows":27,"n_cols":22,"rows_kept":27,"cut":false,"hidden":false,"merged":[]}
["FRANCOIS Bernard",null,null,null,null,null,null,null,null,null,null,null,null,null,null,{"$f":"SaisonDeb","v":"2021-2022"},null,{"$f":"SaisonFin","v":"2022-2023"},null,"Toutes saisons"]
[{"$error":"#N/A"},null,null,null,null,null,null,null,null,null,null,null,null,null,null,"Nombre","%age","Nombre","%age","Nombre","%age"]
[{"$error":"#N/A"},null,null,null,null,null,null,null,null,null,null,null,null,"Matchs","Gagnés",{"$f":"SUM(P$15:P$121)","v":0},{"$f":"IF(P$3+P$4>0,P3/(P$3+P$4),\"\")","v":""},{"$f":"SUM(R$15:R$121)","v":4},{"$f":"IF(R$3+R$4>0,R3/(R$3+R$4),\"\")","v":0.36363636363636365},{"$f":"COUNTIF($C$15:$C$123,\"G\")","v":4},{"$f":"IF(T$3+T$4>0,T3/(T$3+T$4),\"\")","v":0.36363636363636365}]
[{"$error":"#N/A"},null,null,null,null,null,null,null,null,null,null,null,null,null,"Perdus",{"$f":"COUNTIF($K$15:$M$121,SaisonDeb)-P3","v":0},{"$f":"IF(P$3+P$4>0,P4/(P$3+P$4),\"\")","v":""},{"$f":"COUNTIF($K$15:$K$123,SaisonFin)-R3","v":7},{"$f":"IF(R$3+R$4>0,R4/(R$3+R$4),\"\")","v":0.63636363636363635},{"$f":"COUNTIF($C$15:$C$123,\"P\")","v":7},{"$f":"IF(T$3+T$4>0,T4/(T$3+T$4),\"\")","v":0.63636363636363635}]
[{"$error":"#N/A"},null,null,null,null,null,null,null,null,null,null,null,null,null,"Total / Moy.",{"$f":"SUM(P3:P4)","v":0},{"$f":"IF(SUMIF($K$15:$K$123,SaisonDeb,$G$15:$G$123)>0,SUMIF($K$15:$K$123,SaisonDeb,$F$15:$F$123)/SUMIF($K$15:$K$123,SaisonDeb,$G$15:$G$123),\"\")","v":""},{"$f":"SUM(R3:R4)","v":11},{"$f":"IF(SUMIF($K$15:$K$123,SaisonFin,$G$15:$G$123)>0,SUMIF($K$15:$K$123,SaisonFin,$F$15:$F$123)/SUMIF($K$15:$K$123,SaisonFin,$G$15:$G$123),\"\")","v":0.91971544715447151},{"$f":"SUM(T3:T4)","v":11},{"$f":"IF(SUM($G$15:$G$123)>0,SUM($F$15:$F$123)/SUM($G$15:$G$123),\"\")","v":0.91971544715447151},{"$f":"IF(SUMIF($K$15:$K$27,SaisonDeb,$G$15:$G$27)+SUMIF($K$15:$K$27,SaisonFin,$G$15:$G$27)>0,(SUMIF($K$15:$K$27,SaisonDeb,$F$15:$F$27)+SUMIF($K$15:$K$27,SaisonFin,$F$15:$F$27))/(SUMIF($K$15:$K$27,SaisonDeb,$G$15:$G$27)+SUMIF($K$15:$K$27,SaisonFin,$G$15:$G$27)),\"\")","v":0.91971544715447151}]
[null,null,null,null,null,null,null,null,null,null,null,null,null,"Sets","Gagnés",{"$f":"SUMIF($K$15:$K$123,SaisonDeb,$D$15:$D$123)","v":0},{"$f":"IF(P$6+P$7>0,P6/(P$6+P$7),\"\")","v":""},{"$f":"SUMIF($K$15:$K$123,SaisonFin,$D$15:$D$123)","v":17},{"$f":"IF(R$6+R$7>0,R6/(R$6+R$7),\"\")","v":0.44736842105263158},{"$f":"SUM($D$15:$D$123)","v":17},{"$f":"IF(T$6+T$7>0,T6/(T$6+T$7),\"\")","v":0.44736842105263158}]
[null,null,null,null,null,null,null,null,null,null,null,null,null,null,"Perdus",{"$f":"SUMIF($K$15:$K$123,SaisonDeb,$E$15:$E$123)","v":0},{"$f":"IF(P$6+P$7>0,P7/(P$6+P$7),\"\")","v":""},{"$f":"SUMIF($K$15:$K$123,SaisonFin,$E$15:$E$123)","v":21},{"$f":"IF(R$6+R$7>0,R7/(R$6+R$7),\"\")","v":0.55263157894736847},{"$f":"SUM($E$15:$E$123)","v":21},{"$f":"IF(T$6+T$7>0,T7/(T$6+T$7),\"\")","v":0.55263157894736847}]
["Récapitulatif joueurs",null,null,null,null,null,null,null,null,null,null,null,null,null,"Total",{"$f":"SUM(P6:P7)","v":0},null,{"$f":"SUM(R6:R7)","v":38},null,{"$f":"SUM(T6:T7)","v":38}]
[]
[]
[]
[]
[]
[]
["Joueur","Adversaire","G/P","Sets gagnés","Sets perdus","pts marqués","pts subis","Date","Compétition","Phase","Saison"]
["FRANCOIS Bernard","LEFEVRE  Alexandre","P",1,2,131,174,"2023-01-28","T2 CD02 R1   poule 1 - SAINT QUENTIN","Qualifications",{"$f":"IF(H16<>\"\",IF(MONTH(H16)>MoisRef,YEAR(H16)&\"-\"&YEAR(H16)+1,YEAR(H16)-1&\"-\"&YEAR(H16)),\"\")","v":"2022-2023"},null,null,null,null,{"$f":"IF($K16=P$1,COUNTIF($C16,\"G\"),0)","v":0},null,{"$f":"IF($K16=R$1,COUNTIF($C16,\"G\"),0)","v":0}]
["FRANCOIS Bernard","ROZE Dominique","P",1,2,169,140,"2023-01-28","T2 CD02 R1   poule 1 - SAINT QUENTIN","Qualifications","2022-2023",null,null,null,null,0,null,0]
["FRANCOIS Bernard","BUTTI EmIlie","G",2,0,120,82,"2023-03-25","T3 CD02 R1 - SAINT QUENTIN","Qualifications","2022-2023",null,null,null,null,0,null,1]
["FRANCOIS Bernard","KUZMA Régis","G",2,1,140,142,"2023-03-25","T3 CD02 R1 - SAINT QUENTIN","Qualifications","2022-2023",null,null,null,null,0,null,1]
["FRANCOIS Bernard","LEFEVRE  Alexandre","P",0,2,64,120,"2023-03-25","T3 CD02 R1 - SAINT QUENTIN","Qualifications","2022-2023",null,null,null,null,0,null,0]
["FRANCOIS Bernard","SCHERER Didier","P",1,2,158,168,"2023-03-25","T3 CD02 R1 - SAINT QUENTIN","Qualifications","2022-2023",null,null,null,null,0,null,0]
["FRANCOIS Bernard","BUTTI EmIlie","G",3,2,265,251,"2023-04-22","FINALE CD02 R1 - SAINT QUENTIN","Qualifications","2022-2023",null,null,null,null,0,null,1]
["FRANCOIS Bernard","LEFEVRE  Alexandre","P",2,3,215,270,"2023-04-22","FINALE CD02 R1 - SAINT QUENTIN","Qualifications","2022-2023",null,null,null,null,0,null,0]
["FRANCOIS Bernard","SCHERER Didier","P",0,3,121,180,"2023-04-22","FINALE CD02 R1 - SAINT QUENTIN","Qualifications","2022-2023",null,null,null,null,0,null,0]
["FRANCOIS Bernard","LEFEVRE Alexandre","P",2,3,189,253,"2022-12-03","T1 CD02 R1 - saint quentin","Qualifications",{"$f":"IF(H25<>\"\",IF(MONTH(H25)>MoisRef,YEAR(H25)&\"-\"&YEAR(H25)+1,YEAR(H25)-1&\"-\"&YEAR(H25)),\"\")","v":"2022-2023"},null,null,null,null,0,null,0]
["FRANCOIS Bernard","ROZE Dominique","G",3,1,238,188,"2022-12-03","T1 CD02 R1 - saint quentin","Qualifications",{"$f":"IF(H26<>\"\",IF(MONTH(H26)>MoisRef,YEAR(H26)&\"-\"&YEAR(H26)+1,YEAR(H26)-1&\"-\"&YEAR(H26)),\"\")","v":"2022-2023"},null,null,null,null,0,null,1]
["Fin des données",null,null,null,null,null,null,null,null,null,""]

{"sheet":"GAMBIER Francis","index":74,"n_rows":21,"n_cols":22,"rows_kept":21,"cut":false,"hidden":false,"merged":[]}
["GAMBIER Francis",null,null,null,null,null,null,null,null,null,null,null,null,null,null,{"$f":"SaisonDeb","v":"2021-2022"},null,{"$f":"SaisonFin","v":"2022-2023"},null,"Toutes saisons"]
[{"$error":"#N/A"},null,null,null,null,null,null,null,null,null,null,null,null,null,null,"Nombre","%age","Nombre","%age","Nombre","%age"]
[{"$error":"#N/A"},null,null,null,null,null,null,null,null,null,null,null,null,"Matchs","Gagnés",{"$f":"SUM(P$15:P$117)","v":0},{"$f":"IF(P$3+P$4>0,P3/(P$3+P$4),\"\")","v":""},{"$f":"SUM(R$15:R$117)","v":0},{"$f":"IF(R$3+R$4>0,R3/(R$3+R$4),\"\")","v":""},{"$f":"COUNTIF($C$15:$C$117,\"G\")","v":2},{"$f":"IF(T$3+T$4>0,T3/(T$3+T$4),\"\")","v":0.4}]
[{"$error":"#N/A"},null,null,null,null,null,null,null,null,null,null,null,null,null,"Perdus",{"$f":"COUNTIF($K$15:$M$117,SaisonDeb)-P3","v":0},{"$f":"IF(P$3+P$4>0,P4/(P$3+P$4),\"\")","v":""},{"$f":"COUNTIF($K$15:$K$117,SaisonFin)-R3","v":0},{"$f":"IF(R$3+R$4>0,R4/(R$3+R$4),\"\")","v":""},{"$f":"COUNTIF($C$15:$C$117,\"P\")","v":3},{"$f":"IF(T$3+T$4>0,T4/(T$3+T$4),\"\")","v":0.6}]
[{"$error":"#N/A"},null,null,null,null,null,null,null,null,null,null,null,null,null,"Total / Moy.",{"$f":"SUM(P3:P4)","v":0},{"$f":"IF(SUMIF($K$15:$K$117,SaisonDeb,$G$15:$G$117)>0,SUMIF($K$15:$K$117,SaisonDeb,$F$15:$F$117)/SUMIF($K$15:$K$117,SaisonDeb,$G$15:$G$117),\"\")","v":""},{"$f":"SUM(R3:R4)","v":0},{"$f":"IF(SUMIF($K$15:$K$117,SaisonFin,$G$15:$G$117)>0,SUMIF($K$15:$K$117,SaisonFin,$F$15:$F$117)/SUMIF($K$15:$K$117,SaisonFin,$G$15:$G$117),\"\")","v":""},{"$f":"SUM(T3:T4)","v":5},{"$f":"IF(SUM($G$15:$G$117)>0,SUM($F$15:$F$117)/SUM($G$15:$G$117),\"\")","v":0.89110707803992739},{"$f":"IF(SUMIF($K$15:$K$21,SaisonDeb,$G$15:$G$21)+SUMIF($K$15:$K$21,SaisonFin,$G$15:$G$21)>0,(SUMIF($K$15:$K$21,SaisonDeb,$F$15:$F$21)+SUMIF($K$15:$K$21,SaisonFin,$F$15:$F$21))/(SUMIF($K$15:$K$21,SaisonDeb,$G$15:$G$21)+SUMIF($K$15:$K$21,SaisonFin,$G$15:$G$21)),\"\")","v":""}]
[null,null,null,null,null,null,null,null,null,null,null,null,null,"Sets","Gagnés",{"$f":"SUMIF($K$15:$K$117,SaisonDeb,$D$15:$D$117)","v":0},{"$f":"IF(P$6+P$7>0,P6/(P$6+P$7),\"\")","v":""},{"$f":"SUMIF($K$15:$K$117,SaisonFin,$D$15:$D$117)","v":0},{"$f":"IF(R$6+R$7>0,R6/(R$6+R$7),\"\")","v":""},{"$f":"SUM($D$15:$D$117)","v":4},{"$f":"IF(T$6+T$7>0,T6/(T$6+T$7),\"\")","v":0.4}]
[null,null,null,null,null,null,null,null,null,null,null,null,null,null,"Perdus",{"$f":"SUMIF($K$15:$K$117,SaisonDeb,$E$15:$E$117)","v":0},{"$f":"IF(P$6+P$7>0,P7/(P$6+P$7),\"\")","v":""},{"$f":"SUMIF($K$15:$K$117,SaisonFin,$E$15:$E$117)","v":0},{"$f":"IF(R$6+R$7>0,R7/(R$6+R$7),\"\")","v":""},{"$f":"SUM($E$15:$E$117)","v":6},{"$f":"IF(T$6+T$7>0,T7/(T$6+T$7),\"\")","v":0.6}]
["Récapitulatif joueurs",null,null,null,null,null,null,null,null,null,null,null,null,null,"Total",{"$f":"SUM(P6:P7)","v":0},null,{"$f":"SUM(R6:R7)","v":0},null,{"$f":"SUM(T6:T7)","v":10}]
[]
[]
[]
[]
[]
[]
["Joueur","Adversaire","G/P","Sets gagnés","Sets perdus","pts marqués","pts subis","Date","Compétition","Phase","Saison"]
["GAMBIER Francis","DUCROCQ  Joël","G",2,0,120,84,"2020-01-12","T1 Qualifications CD 62 R1 - CUCQ","Qualifications",{"$f":"IF(H16<>\"\",IF(MONTH(H16)>MoisRef,YEAR(H16)&\"-\"&YEAR(H16)+1,YEAR(H16)-1&\"-\"&YEAR(H16)),\"\")","v":"2019-2020"},null,null,null,null,{"$f":"IF($K16=P$1,COUNTIF($C16,\"G\"),0)","v":0},null,{"$f":"IF($K16=R$1,COUNTIF($C16,\"G\"),0)","v":0}]
["GAMBIER Francis","TIZON Alain","P",0,2,78,120,"2020-01-12","T1 Qualifications CD 62 R1 - CUCQ","1/2 Finale","2019-2020",null,null,null,null,0,null,0]
["GAMBIER Francis","TRIPLET  Gilbert","P",0,2,88,120,"2020-01-12","T1 Qualifications CD 62 R1 - CUCQ","Qualifications","2019-2020",null,null,null,null,0,null,0]
["GAMBIER Francis","CARTIERE André","P",0,2,85,120,"2020-02-02","T2 Qualifications CD62 R1 - WIMILLE","Qualifications","2019-2020",null,null,null,null,0,null,0]
["GAMBIER Francis","TIZON Alain","G",2,0,120,107,"2020-02-02","T2 Qualifications CD62 R1 - WIMILLE","Qualifications","2019-2020",null,null,null,null,0,null,0]
["Fin des données",null,null,null,null,null,null,null,null,null,"",null,null,null,null,0,null,0]

{"sheet":"GEOFFROY Florent","index":75,"n_rows":23,"n_cols":22,"rows_kept":23,"cut":false,"hidden":false,"merged":[]}
["GEOFFROY Florent",null,null,null,null,null,null,null,null,null,null,null,null,null,null,{"$f":"SaisonDeb","v":"2021-2022"},null,{"$f":"SaisonFin","v":"2022-2023"},null,"Toutes saisons"]
[{"$error":"#N/A"},null,null,null,null,null,null,null,null,null,null,null,null,null,null,"Nombre","%age","Nombre","%age","Nombre","%age"]
[{"$error":"#N/A"},null,null,null,null,null,null,null,null,null,null,null,null,"Matchs","Gagnés",{"$f":"SUM(P$15:P$119)","v":0},{"$f":"IF(P$3+P$4>0,P3/(P$3+P$4),\"\")","v":""},{"$f":"SUM(R$15:R$119)","v":0},{"$f":"IF(R$3+R$4>0,R3/(R$3+R$4),\"\")","v":""},{"$f":"COUNTIF($C$15:$C$119,\"G\")","v":4},{"$f":"IF(T$3+T$4>0,T3/(T$3+T$4),\"\")","v":0.5714285714285714}]
[{"$error":"#N/A"},null,null,null,null,null,null,null,null,null,null,null,null,null,"Perdus",{"$f":"COUNTIF($K$15:$M$119,SaisonDeb)-P3","v":0},{"$f":"IF(P$3+P$4>0,P4/(P$3+P$4),\"\")","v":""},{"$f":"COUNTIF($K$15:$K$119,SaisonFin)-R3","v":0},{"$f":"IF(R$3+R$4>0,R4/(R$3+R$4),\"\")","v":""},{"$f":"COUNTIF($C$15:$C$119,\"P\")","v":3},{"$f":"IF(T$3+T$4>0,T4/(T$3+T$4),\"\")","v":0.42857142857142855}]
[{"$error":"#N/A"},null,null,null,null,null,null,null,null,null,null,null,null,null,"Total / Moy.",{"$f":"SUM(P3:P4)","v":0},{"$f":"IF(SUMIF($K$15:$K$119,SaisonDeb,$G$15:$G$119)>0,SUMIF($K$15:$K$119,SaisonDeb,$F$15:$F$119)/SUMIF($K$15:$K$119,SaisonDeb,$G$15:$G$119),\"\")","v":""},{"$f":"SUM(R3:R4)","v":0},{"$f":"IF(SUMIF($K$15:$K$119,SaisonFin,$G$15:$G$119)>0,SUMIF($K$15:$K$119,SaisonFin,$F$15:$F$119)/SUMIF($K$15:$K$119,SaisonFin,$G$15:$G$119),\"\")","v":""},{"$f":"SUM(T3:T4)","v":7},{"$f":"IF(SUM($G$15:$G$119)>0,SUM($F$15:$F$119)/SUM($G$15:$G$119),\"\")","v":1.096551724137931},{"$f":"IF(SUMIF($K$15:$K$23,SaisonDeb,$G$15:$G$23)+SUMIF($K$15:$K$23,SaisonFin,$G$15:$G$23)>0,(SUMIF($K$15:$K$23,SaisonDeb,$F$15:$F$23)+SUMIF($K$15:$K$23,SaisonFin,$F$15:$F$23))/(SUMIF($K$15:$K$23,SaisonDeb,$G$15:$G$23)+SUMIF($K$15:$K$23,SaisonFin,$G$15:$G$23)),\"\")","v":""}]
[null,null,null,null,null,null,null,null,null,null,null,null,null,"Sets","Gagnés",{"$f":"SUMIF($K$15:$K$119,SaisonDeb,$D$15:$D$119)","v":0},{"$f":"IF(P$6+P$7>0,P6/(P$6+P$7),\"\")","v":""},{"$f":"SUMIF($K$15:$K$119,SaisonFin,$D$15:$D$119)","v":0},{"$f":"IF(R$6+R$7>0,R6/(R$6+R$7),\"\")","v":""},{"$f":"SUM($D$15:$D$119)","v":4},{"$f":"IF(T$6+T$7>0,T6/(T$6+T$7),\"\")","v":0.5714285714285714}]
[null,null,null,null,null,null,null,null,null,null,null,null,null,null,"Perdus",{"$f":"SUMIF($K$15:$K$119,SaisonDeb,$E$15:$E$119)","v":0},{"$f":"IF(P$6+P$7>0,P7/(P$6+P$7),\"\")","v":""},{"$f":"SUMIF($K$15:$K$119,SaisonFin,$E$15:$E$119)","v":0},{"$f":"IF(R$6+R$7>0,R7/(R$6+R$7),\"\")","v":""},{"$f":"SUM($E$15:$E$119)","v":3},{"$f":"IF(T$6+T$7>0,T7/(T$6+T$7),\"\")","v":0.42857142857142855}]
["Récapitulatif joueurs",null,null,null,null,null,null,null,null,null,null,null,null,null,"Total",{"$f":"SUM(P6:P7)","v":0},null,{"$f":"SUM(R6:R7)","v":0},null,{"$f":"SUM(T6:T7)","v":7}]
[]
[]
[]
[]
[]
[]
["Joueur","Adversaire","G/P","Sets gagnés","Sets perdus","pts marqués","pts subis","Date","Compétition","Phase","Saison"]
["GEOFFROY Florent","BOURGOGNE Claude","G",1,0,100,76,"2020-01-11","CD60  R1 - T3 - Tour Principal - CREPY","Qualifications",{"$f":"IF(H16<>\"\",IF(MONTH(H16)>MoisRef,YEAR(H16)&\"-\"&YEAR(H16)+1,YEAR(H16)-1&\"-\"&YEAR(H16)),\"\")","v":"2019-2020"},null,null,null,null,{"$f":"IF($K16=P$1,COUNTIF($C16,\"G\"),0)","v":0},null,{"$f":"IF($K16=R$1,COUNTIF($C16,\"G\"),0)","v":0}]
["GEOFFROY Florent","CHENAL Gérard","G",1,0,100,83,"2020-01-11","CD60  R1 - T3 - Tour Principal - CREPY","1/4 Finale","2019-2020",null,null,null,null,0,null,0]
["GEOFFROY Florent","LE FRIEC Daniel","P",0,1,81,100,"2020-01-11","CD60  R1 - T3 - Tour Principal - CREPY","1/2 Finale","2019-2020",null,null,null,null,0,null,0]
["GEOFFROY Florent","NAHIRNYJ Alexi","G",1,0,100,90,"2020-01-11","CD60  R1 - T3 - Tour Principal - CREPY","Qualifications","2019-2020",null,null,null,null,0,null,0]
["GEOFFROY Florent","LALOT Gérard","P",0,1,75,100,"2020-02-15","CD60  R1 - T 4 - Tour Principal - SENLIS","1/4 Finale","2019-2020",null,null,null,null,0,null,0]
["GEOFFROY Florent","MURIOT Jean-Pierre","P",0,1,80,100,"2020-02-15","CD60  R1 - T 4 - Tour Principal - SENLIS","Qualifications","2019-2020",null,null,null,null,0,null,0]
["GEOFFROY Florent","VASSEUR Francis","G",1,0,100,31,"2020-02-15","CD60  R1 - T 4 - Tour Principal - SENLIS","Qualifications","2019-2020",null,null,null,null,0,null,0]
["Fin des données",null,null,null,null,null,null,null,null,null,"",null,null,null,null,{"$f":"IF($K23=P$1,COUNTIF($C23,\"G\"),0)","v":0},null,{"$f":"IF($K23=R$1,COUNTIF($C23,\"G\"),0)","v":0}]

{"sheet":"GERARD Mickael","index":76,"n_rows":18,"n_cols":22,"rows_kept":18,"cut":false,"hidden":false,"merged":[]}
["GERARD Mickael",null,null,null,null,null,null,null,null,null,null,null,null,null,null,{"$f":"SaisonDeb","v":"2021-2022"},null,{"$f":"SaisonFin","v":"2022-2023"},null,"Toutes saisons"]
[{"$error":"#N/A"},null,null,null,null,null,null,null,null,null,null,null,null,null,null,"Nombre","%age","Nombre","%age","Nombre","%age"]
[{"$error":"#N/A"},null,null,null,null,null,null,null,null,null,null,null,null,"Matchs","Gagnés",{"$f":"SUM(P$15:P$114)","v":0},{"$f":"IF(P$3+P$4>0,P3/(P$3+P$4),\"\")","v":""},{"$f":"SUM(R$15:R$114)","v":1},{"$f":"IF(R$3+R$4>0,R3/(R$3+R$4),\"\")","v":0.5},{"$f":"COUNTIF($C$15:$C$114,\"G\")","v":1},{"$f":"IF(T$3+T$4>0,T3/(T$3+T$4),\"\")","v":0.5}]
[{"$error":"#N/A"},null,null,null,null,null,null,null,null,null,null,null,null,null,"Perdus",{"$f":"COUNTIF($K$15:$M$114,SaisonDeb)-P3","v":0},{"$f":"IF(P$3+P$4>0,P4/(P$3+P$4),\"\")","v":""},{"$f":"COUNTIF($K$15:$K$114,SaisonFin)-R3","v":1},{"$f":"IF(R$3+R$4>0,R4/(R$3+R$4),\"\")","v":0.5},{"$f":"COUNTIF($C$15:$C$114,\"P\")","v":1},{"$f":"IF(T$3+T$4>0,T4/(T$3+T$4),\"\")","v":0.5}]
[{"$error":"#N/A"},null,null,null,null,null,null,null,null,null,null,null,null,null,"Total / Moy.",{"$f":"SUM(P3:P4)","v":0},{"$f":"IF(SUMIF($K$15:$K$114,SaisonDeb,$G$15:$G$114)>0,SUMIF($K$15:$K$114,SaisonDeb,$F$15:$F$114)/SUMIF($K$15:$K$114,SaisonDeb,$G$15:$G$114),\"\")","v":""},{"$f":"SUM(R3:R4)","v":2},{"$f":"IF(SUMIF($K$15:$K$114,SaisonFin,$G$15:$G$114)>0,SUMIF($K$15:$K$114,SaisonFin,$F$15:$F$114)/SUMIF($K$15:$K$114,SaisonFin,$G$15:$G$114),\"\")","v":0.86440677966101698},{"$f":"SUM(T3:T4)","v":2},{"$f":"IF(SUM($G$15:$G$114)>0,SUM($F$15:$F$114)/SUM($G$15:$G$114),\"\")","v":0.86440677966101698},{"$f":"IF(SUMIF($K$15:$K$18,SaisonDeb,$G$15:$G$18)+SUMIF($K$15:$K$18,SaisonFin,$G$15:$G$18)>0,(SUMIF($K$15:$K$18,SaisonDeb,$F$15:$F$18)+SUMIF($K$15:$K$18,SaisonFin,$F$15:$F$18))/(SUMIF($K$15:$K$18,SaisonDeb,$G$15:$G$18)+SUMIF($K$15:$K$18,SaisonFin,$G$15:$G$18)),\"\")","v":0.86440677966101698}]
[null,null,null,null,null,null,null,null,null,null,null,null,null,"Sets","Gagnés",{"$f":"SUMIF($K$15:$K$114,SaisonDeb,$D$15:$D$114)","v":0},{"$f":"IF(P$6+P$7>0,P6/(P$6+P$7),\"\")","v":""},{"$f":"SUMIF($K$15:$K$114,SaisonFin,$D$15:$D$114)","v":1},{"$f":"IF(R$6+R$7>0,R6/(R$6+R$7),\"\")","v":0.5},{"$f":"SUM($D$15:$D$114)","v":1},{"$f":"IF(T$6+T$7>0,T6/(T$6+T$7),\"\")","v":0.5}]
[null,null,null,null,null,null,null,null,null,null,null,null,null,null,"Perdus",{"$f":"SUMIF($K$15:$K$114,SaisonDeb,$E$15:$E$114)","v":0},{"$f":"IF(P$6+P$7>0,P7/(P$6+P$7),\"\")","v":""},{"$f":"SUMIF($K$15:$K$114,SaisonFin,$E$15:$E$114)","v":1},{"$f":"IF(R$6+R$7>0,R7/(R$6+R$7),\"\")","v":0.5},{"$f":"SUM($E$15:$E$114)","v":1},{"$f":"IF(T$6+T$7>0,T7/(T$6+T$7),\"\")","v":0.5}]
["Récapitulatif joueurs",null,null,null,null,null,null,null,null,null,null,null,null,null,"Total",{"$f":"SUM(P6:P7)","v":0},null,{"$f":"SUM(R6:R7)","v":2},null,{"$f":"SUM(T6:T7)","v":2}]
[]
[]
[]
[]
[]
[]
["Joueur","Adversaire","G/P","Sets gagnés","Sets perdus","pts marqués","pts subis","Date","Compétition","Phase","Saison"]
["GERARD Mickael","HERTOUX Didier","P",0,1,84,120,"2023-02-18","T 3 OISE - Qualifications R 1 - Tour Principal - BEAUVAIS","Qualifications",{"$f":"IF(H16<>\"\",IF(MONTH(H16)>MoisRef,YEAR(H16)&\"-\"&YEAR(H16)+1,YEAR(H16)-1&\"-\"&YEAR(H16)),\"\")","v":"2022-2023"},null,null,null,null,{"$f":"IF($K16=P$1,COUNTIF($C16,\"G\"),0)","v":0},null,{"$f":"IF($K16=R$1,COUNTIF($C16,\"G\"),0)","v":0}]
["GERARD Mickael","PELLETIER Steeve","G",1,0,120,116,"2023-02-18","T 3 OISE - Qualifications R 1 - Tour Principal - BEAUVAIS","Qualifications",{"$f":"IF(H17<>\"\",IF(MONTH(H17)>MoisRef,YEAR(H17)&\"-\"&YEAR(H17)+1,YEAR(H17)-1&\"-\"&YEAR(H17)),\"\")","v":"2022-2023"},null,null,null,null,{"$f":"IF($K17=P$1,COUNTIF($C17,\"G\"),0)","v":0},null,{"$f":"IF($K17=R$1,COUNTIF($C17,\"G\"),0)","v":1}]
["Fin des données",null,null,null,null,null,null,null,null,null,{"$f":"IF(H18<>\"\",IF(MONTH(H18)>MoisRef,YEAR(H18)&\"-\"&YEAR(H18)+1,YEAR(H18)-1&\"-\"&YEAR(H18)),\"\")","v":""},null,null,null,null,{"$f":"IF($K18=P$1,COUNTIF($C18,\"G\"),0)","v":0},null,{"$f":"IF($K18=R$1,COUNTIF($C18,\"G\"),0)","v":0}]

{"sheet":"GERONIMI Thierry","index":77,"n_rows":19,"n_cols":22,"rows_kept":19,"cut":false,"hidden":false,"merged":[]}
["GERONIMI Thierry",null,null,null,null,null,null,null,null,null,null,null,null,null,null,{"$f":"SaisonDeb","v":"2021-2022"},null,{"$f":"SaisonFin","v":"2022-2023"},null,"Toutes saisons"]
[{"$error":"#N/A"},null,null,null,null,null,null,null,null,null,null,null,null,null,null,"Nombre","%age","Nombre","%age","Nombre","%age"]
[{"$error":"#N/A"},null,null,null,null,null,null,null,null,null,null,null,null,"Matchs","Gagnés",{"$f":"SUM(P$15:P$115)","v":0},{"$f":"IF(P$3+P$4>0,P3/(P$3+P$4),\"\")","v":""},{"$f":"SUM(R$15:R$115)","v":2},{"$f":"IF(R$3+R$4>0,R3/(R$3+R$4),\"\")","v":0.66666666666666663},{"$f":"COUNTIF($C$15:$C$115,\"G\")","v":2},{"$f":"IF(T$3+T$4>0,T3/(T$3+T$4),\"\")","v":0.66666666666666663}]
[{"$error":"#N/A"},null,null,null,null,null,null,null,null,null,null,null,null,null,"Perdus",{"$f":"COUNTIF($K$15:$M$115,SaisonDeb)-P3","v":0},{"$f":"IF(P$3+P$4>0,P4/(P$3+P$4),\"\")","v":""},{"$f":"COUNTIF($K$15:$K$115,SaisonFin)-R3","v":1},{"$f":"IF(R$3+R$4>0,R4/(R$3+R$4),\"\")","v":0.33333333333333331},{"$f":"COUNTIF($C$15:$C$115,\"P\")","v":1},{"$f":"IF(T$3+T$4>0,T4/(T$3+T$4),\"\")","v":0.33333333333333331}]
[{"$error":"#N/A"},null,null,null,null,null,null,null,null,null,null,null,null,null,"Total / Moy.",{"$f":"SUM(P3:P4)","v":0},{"$f":"IF(SUMIF($K$15:$K$115,SaisonDeb,$G$15:$G$115)>0,SUMIF($K$15:$K$115,SaisonDeb,$F$15:$F$115)/SUMIF($K$15:$K$115,SaisonDeb,$G$15:$G$115),\"\")","v":""},{"$f":"SUM(R3:R4)","v":3},{"$f":"IF(SUMIF($K$15:$K$115,SaisonFin,$G$15:$G$115)>0,SUMIF($K$15:$K$115,SaisonFin,$F$15:$F$115)/SUMIF($K$15:$K$115,SaisonFin,$G$15:$G$115),\"\")","v":0.98},{"$f":"SUM(T3:T4)","v":3},{"$f":"IF(SUM($G$15:$G$115)>0,SUM($F$15:$F$115)/SUM($G$15:$G$115),\"\")","v":0.98},{"$f":"IF(SUMIF($K$15:$K$19,SaisonDeb,$G$15:$G$19)+SUMIF($K$15:$K$19,SaisonFin,$G$15:$G$19)>0,(SUMIF($K$15:$K$19,SaisonDeb,$F$15:$F$19)+SUMIF($K$15:$K$19,SaisonFin,$F$15:$F$19))/(SUMIF($K$15:$K$19,SaisonDeb,$G$15:$G$19)+SUMIF($K$15:$K$19,SaisonFin,$G$15:$G$19)),\"\")","v":0.98}]
[null,null,null,null,null,null,null,null,null,null,null,null,null,"Sets","Gagnés",{"$f":"SUMIF($K$15:$K$115,SaisonDeb,$D$15:$D$115)","v":0},{"$f":"IF(P$6+P$7>0,P6/(P$6+P$7),\"\")","v":""},{"$f":"SUMIF($K$15:$K$115,SaisonFin,$D$15:$D$115)","v":2},{"$f":"IF(R$6+R$7>0,R6/(R$6+R$7),\"\")","v":0.66666666666666663},{"$f":"SUM($D$15:$D$115)","v":2},{"$f":"IF(T$6+T$7>0,T6/(T$6+T$7),\"\")","v":0.66666666666666663}]
[null,null,null,null,null,null,null,null,null,null,null,null,null,null,"Perdus",{"$f":"SUMIF($K$15:$K$115,SaisonDeb,$E$15:$E$115)","v":0},{"$f":"IF(P$6+P$7>0,P7/(P$6+P$7),\"\")","v":""},{"$f":"SUMIF($K$15:$K$115,SaisonFin,$E$15:$E$115)","v":1},{"$f":"IF(R$6+R$7>0,R7/(R$6+R$7),\"\")","v":0.33333333333333331},{"$f":"SUM($E$15:$E$115)","v":1},{"$f":"IF(T$6+T$7>0,T7/(T$6+T$7),\"\")","v":0.33333333333333331}]
["Récapitulatif joueurs",null,null,null,null,null,null,null,null,null,null,null,null,null,"Total",{"$f":"SUM(P6:P7)","v":0},null,{"$f":"SUM(R6:R7)","v":3},null,{"$f":"SUM(T6:T7)","v":3}]
[]
[]
[]
[]
[]
[]
["Joueur","Adversaire","G/P","Sets gagnés","Sets perdus","pts marqués","pts subis","Date","Compétition","Phase","Saison"]
["GERONIMI Thierry","BOUTON Gérard","G",1,0,120,116,"2023-02-18","T 3 OISE - Qualifications R 1 - Tour Principal - BEAUVAIS","Qualifications",{"$f":"IF(H16<>\"\",IF(MONTH(H16)>MoisRef,YEAR(H16)&\"-\"&YEAR(H16)+1,YEAR(H16)-1&\"-\"&YEAR(H16)),\"\")","v":"2022-2023"},null,null,null,null,{"$f":"IF($K16=P$1,COUNTIF($C16,\"G\"),0)","v":0},null,{"$f":"IF($K16=R$1,COUNTIF($C16,\"G\"),0)","v":1}]
["GERONIMI Thierry","CUNIN Mickael","G",1,0,120,64,"2023-02-18","T 3 OISE - Qualifications R 1 - Tour Principal - BEAUVAIS","Qualifications",{"$f":"IF(H17<>\"\",IF(MONTH(H17)>MoisRef,YEAR(H17)&\"-\"&YEAR(H17)+1,YEAR(H17)-1&\"-\"&YEAR(H17)),\"\")","v":"2022-2023"},null,null,null,null,{"$f":"IF($K17=P$1,COUNTIF($C17,\"G\"),0)","v":0},null,{"$f":"IF($K17=R$1,COUNTIF($C17,\"G\"),0)","v":1}]
["GERONIMI Thierry","LAMARQUE Yves","P",0,1,54,120,"2023-02-18","T 3 OISE - Qualifications R 1 - Tour Principal - BEAUVAIS","1/4 Finale",{"$f":"IF(H18<>\"\",IF(MONTH(H18)>MoisRef,YEAR(H18)&\"-\"&YEAR(H18)+1,YEAR(H18)-1&\"-\"&YEAR(H18)),\"\")","v":"2022-2023"},null,null,null,null,{"$f":"IF($K18=P$1,COUNTIF($C18,\"G\"),0)","v":0},null,{"$f":"IF($K18=R$1,COUNTIF($C18,\"G\"),0)","v":0}]
["Fin des données",null,null,null,null,null,null,null,null,null,{"$f":"IF(H19<>\"\",IF(MONTH(H19)>MoisRef,YEAR(H19)&\"-\"&YEAR(H19)+1,YEAR(H19)-1&\"-\"&YEAR(H19)),\"\")","v":""},null,null,null,null,{"$f":"IF($K19=P$1,COUNTIF($C19,\"G\"),0)","v":0},null,{"$f":"IF($K19=R$1,COUNTIF($C19,\"G\"),0)","v":0}]

{"sheet":"GRANGER Pascal","index":78,"n_rows":35,"n_cols":22,"rows_kept":35,"cut":false,"hidden":false,"merged":[]}
["GRANGER Pascal",null,null,null,null,null,null,null,null,null,null,null,null,null,null,{"$f":"SaisonDeb","v":"2021-2022"},null,{"$f":"SaisonFin","v":"2022-2023"},null,"Toutes saisons"]
[{"$error":"#N/A"},null,null,null,null,null,null,null,null,null,null,null,null,null,null,"Nombre","%age","Nombre","%age","Nombre","%age"]
[{"$error":"#N/A"},null,null,null,null,null,null,null,null,null,null,null,null,"Matchs","Gagnés",{"$f":"SUM(P$15:P$131)","v":0},{"$f":"IF(P$3+P$4>0,P3/(P$3+P$4),\"\")","v":""},{"$f":"SUM(R$15:R$131)","v":13},{"$f":"IF(R$3+R$4>0,R3/(R$3+R$4),\"\")","v":0.68421052631578949},{"$f":"COUNTIF($C$15:$C$131,\"G\")","v":13},{"$f":"IF(T$3+T$4>0,T3/(T$3+T$4),\"\")","v":0.68421052631578949}]
[{"$error":"#N/A"},null,null,null,null,null,null,null,null,null,null,null,null,null,"Perdus",{"$f":"COUNTIF($K$15:$M$131,SaisonDeb)-P3","v":0},{"$f":"IF(P$3+P$4>0,P4/(P$3+P$4),\"\")","v":""},{"$f":"COUNTIF($K$15:$K$131,SaisonFin)-R3","v":6},{"$f":"IF(R$3+R$4>0,R4/(R$3+R$4),\"\")","v":0.31578947368421051},{"$f":"COUNTIF($C$15:$C$131,\"P\")","v":6},{"$f":"IF(T$3+T$4>0,T4/(T$3+T$4),\"\")","v":0.31578947368421051}]
[{"$error":"#N/A"},null,null,null,null,null,null,null,null,null,null,null,null,null,"Total / Moy.",{"$f":"SUM(P3:P4)","v":0},{"$f":"IF(SUMIF($K$15:$K$131,SaisonDeb,$G$15:$G$131)>0,SUMIF($K$15:$K$131,SaisonDeb,$F$15:$F$131)/SUMIF($K$15:$K$131,SaisonDeb,$G$15:$G$131),\"\")","v":""},{"$f":"SUM(R3:R4)","v":19},{"$f":"IF(SUMIF($K$15:$K$131,SaisonFin,$G$15:$G$131)>0,SUMIF($K$15:$K$131,SaisonFin,$F$15:$F$131)/SUMIF($K$15:$K$131,SaisonFin,$G$15:$G$131),\"\")","v":1.2314141978759083},{"$f":"SUM(T3:T4)","v":19},{"$f":"IF(SUM($G$15:$G$131)>0,SUM($F$15:$F$131)/SUM($G$15:$G$131),\"\")","v":1.2314141978759083},{"$f":"IF(SUMIF($K$15:$K$35,SaisonDeb,$G$15:$G$35)+SUMIF($K$15:$K$35,SaisonFin,$G$15:$G$35)>0,(SUMIF($K$15:$K$35,SaisonDeb,$F$15:$F$35)+SUMIF($K$15:$K$35,SaisonFin,$F$15:$F$35))/(SUMIF($K$15:$K$35,SaisonDeb,$G$15:$G$35)+SUMIF($K$15:$K$35,SaisonFin,$G$15:$G$35)),\"\")","v":1.2314141978759083}]
[null,null,null,null,null,null,null,null,null,null,null,null,null,"Sets","Gagnés",{"$f":"SUMIF($K$15:$K$131,SaisonDeb,$D$15:$D$131)","v":0},{"$f":"IF(P$6+P$7>0,P6/(P$6+P$7),\"\")","v":""},{"$f":"SUMIF($K$15:$K$131,SaisonFin,$D$15:$D$131)","v":15},{"$f":"IF(R$6+R$7>0,R6/(R$6+R$7),\"\")","v":0.65217391304347827},{"$f":"SUM($D$15:$D$131)","v":15},{"$f":"IF(T$6+T$7>0,T6/(T$6+T$7),\"\")","v":0.65217391304347827}]
[null,null,null,null,null,null,null,null,null,null,null,null,null,null,"Perdus",{"$f":"SUMIF($K$15:$K$131,SaisonDeb,$E$15:$E$131)","v":0},{"$f":"IF(P$6+P$7>0,P7/(P$6+P$7),\"\")","v":""},{"$f":"SUMIF($K$15:$K$131,SaisonFin,$E$15:$E$131)","v":8},{"$f":"IF(R$6+R$7>0,R7/(R$6+R$7),\"\")","v":0.34782608695652173},{"$f":"SUM($E$15:$E$131)","v":8},{"$f":"IF(T$6+T$7>0,T7/(T$6+T$7),\"\")","v":0.34782608695652173}]
["Récapitulatif joueurs",null,null,null,null,null,null,null,null,null,null,null,null,null,"Total",{"$f":"SUM(P6:P7)","v":0},null,{"$f":"SUM(R6:R7)","v":23},null,{"$f":"SUM(T6:T7)","v":23}]
[]
[]
[]
[]
[]
[]
["Joueur","Adversaire","G/P","Sets gagnés","Sets perdus","pts marqués","pts subis","Date","Compétition","Phase","Saison"]
["GRANGER Pascal","LAMARQUE Yves","G",2,1,153,141,"2023-04-15","FINALE OISE  - R 1 - BEAUVAIS","Qualifications",{"$f":"IF(H16<>\"\",IF(MONTH(H16)>MoisRef,YEAR(H16)&\"-\"&YEAR(H16)+1,YEAR(H16)-1&\"-\"&YEAR(H16)),\"\")","v":"2022-2023"},null,null,null,null,{"$f":"IF($K16=P$1,COUNTIF($C16,\"G\"),0)","v":0},null,{"$f":"IF($K16=R$1,COUNTIF($C16,\"G\"),0)","v":1}]
["GRANGER Pascal","NAHIRNYJ Alexi","P",0,2,60,120,"2023-04-15","FINALE OISE  - R 1 - BEAUVAIS","1/2 Finale","2022-2023",null,null,null,null,0,null,0]
["GRANGER Pascal","ZANOTTI Michel","G",2,0,120,87,"2023-04-15","FINALE OISE  - R 1 - BEAUVAIS","Qualifications","2022-2023",null,null,null,null,0,null,1]
["GRANGER Pascal","BARTHON Aurélie","G",1,0,120,42,"2022-12-03","T 2 OISE - Qualifications R 1 - Tour Principal - SENLIS","Qualifications","2022-2023",null,null,null,null,0,null,1]
["GRANGER Pascal","CHENAL Gérard","G",1,0,120,84,"2022-12-03","T 2 OISE - Qualifications R 1 - Tour Principal - SENLIS","Qualifications","2022-2023",null,null,null,null,0,null,1]
["GRANGER Pascal","LAMARQUE Yves","P",0,1,100,120,"2022-12-03","T 2 OISE - Qualifications R 1 - Tour Principal - SENLIS","1/4 Finale","2022-2023",null,null,null,null,0,null,0]
["GRANGER Pascal","DESCLAIR Guy","P",0,1,109,120,"2023-02-18","T 3 OISE - Qualifications R 1 - Tour Principal - BEAUVAIS","Qualifications","2022-2023",null,null,null,null,0,null,0]
["GRANGER Pascal","DESCLAIR Guy","G",1,0,120,102,"2023-02-18","T 3 OISE - Qualifications R 1 - Tour Principal - BEAUVAIS","Qualifications","2022-2023",null,null,null,null,0,null,1]
["GRANGER Pascal","HERTOUX Didier","G",1,0,120,94,"2023-02-18","T 3 OISE - Qualifications R 1 - Tour Principal - BEAUVAIS","1/2 Finale","2022-2023",null,null,null,null,0,null,1]
["GRANGER Pascal","MURIOT Jean-Pierre","G",1,0,120,84,"2023-02-18","T 3 OISE - Qualifications R 1 - Tour Principal - BEAUVAIS","1/4 Finale","2022-2023",null,null,null,null,0,null,1]
["GRANGER Pascal","NAHIRNYJ Alexi","G",1,0,120,57,"2023-02-18","T 3 OISE - Qualifications R 1 - Tour Principal - BEAUVAIS","Finale","2022-2023",null,null,null,null,0,null,1]
["GRANGER Pascal","CUNIN Mickael","P",0,1,115,120,"2023-03-18","T 4 OISE - Qualifications R 1 - Tour Principal - CREPY","Qualifications","2022-2023",null,null,null,null,0,null,0]
["GRANGER Pascal","DESCLAIR Guy","G",1,0,120,49,"2023-03-18","T 4 OISE - Qualifications R 1 - Tour Principal - CREPY","1/4 Finale","2022-2023",null,null,null,null,0,null,1]
["GRANGER Pascal","NAHIRNYJ Alexi","P",0,1,114,120,"2023-03-18","T 4 OISE - Qualifications R 1 - Tour Principal - CREPY","1/2 Finale","2022-2023",null,null,null,null,0,null,0]
["GRANGER Pascal","PELLETIER Steeve","G",1,0,120,72,"2023-03-18","T 4 OISE - Qualifications R 1 - Tour Principal - CREPY","Qualifications","2022-2023",null,null,null,null,0,null,1]
["GRANGER Pascal","CREDOT Gérald","G",1,0,120,70,"2022-10-29","T 1 OISE - Qualifications R 1 - Tour Principal - MERU","Qualifications","2022-2023",null,null,null,null,0,null,1]
["GRANGER Pascal","HERTOUX Didier","P",0,1,112,120,"2022-10-29","T 1 OISE - Qualifications R 1 - Tour Principal - MERU","1/2 Finale","2022-2023",null,null,null,null,0,null,0]
["GRANGER Pascal","MAUGER Jean-Paul","G",1,0,120,72,"2022-10-29","T 1 OISE - Qualifications R 1 - Tour Principal - MERU","1/4 Finale","2022-2023",null,null,null,null,0,null,1]
["GRANGER Pascal","NAHIRNYJ Alexi","G",1,0,120,115,"2022-10-29","T 1 OISE - Qualifications R 1 - Tour Principal - MERU","Qualifications","2022-2023",null,null,null,null,0,null,1]
["Fin des données",null,null,null,null,null,null,null,null,null,"",null,null,null,null,{"$f":"IF($K35=P$1,COUNTIF($C35,\"G\"),0)","v":0},null,{"$f":"IF($K35=R$1,COUNTIF($C35,\"G\"),0)","v":0}]

{"sheet":"GROSS Xavier","index":79,"n_rows":24,"n_cols":22,"rows_kept":24,"cut":false,"hidden":false,"merged":[]}
["GROSS Xavier",null,null,null,null,null,null,null,null,null,null,null,null,null,null,{"$f":"SaisonDeb","v":"2021-2022"},null,{"$f":"SaisonFin","v":"2022-2023"},null,"Toutes saisons"]
[{"$error":"#N/A"},null,null,null,null,null,null,null,null,null,null,null,null,null,null,"Nombre","%age","Nombre","%age","Nombre","%age"]
[{"$error":"#N/A"},null,null,null,null,null,null,null,null,null,null,null,null,"Matchs","Gagnés",{"$f":"SUM(P$15:P$120)","v":0},{"$f":"IF(P$3+P$4>0,P3/(P$3+P$4),\"\")","v":""},{"$f":"SUM(R$15:R$120)","v":0},{"$f":"IF(R$3+R$4>0,R3/(R$3+R$4),\"\")","v":""},{"$f":"COUNTIF($C$15:$C$120,\"G\")","v":3},{"$f":"IF(T$3+T$4>0,T3/(T$3+T$4),\"\")","v":0.375}]
[{"$error":"#N/A"},null,null,null,null,null,null,null,null,null,null,null,null,null,"Perdus",{"$f":"COUNTIF($K$15:$M$120,SaisonDeb)-P3","v":0},{"$f":"IF(P$3+P$4>0,P4/(P$3+P$4),\"\")","v":""},{"$f":"COUNTIF($K$15:$K$120,SaisonFin)-R3","v":0},{"$f":"IF(R$3+R$4>0,R4/(R$3+R$4),\"\")","v":""},{"$f":"COUNTIF($C$15:$C$120,\"P\")","v":5},{"$f":"IF(T$3+T$4>0,T4/(T$3+T$4),\"\")","v":0.625}]
[{"$error":"#N/A"},null,null,null,null,null,null,null,null,null,null,null,null,null,"Total / Moy.",{"$f":"SUM(P3:P4)","v":0},{"$f":"IF(SUMIF($K$15:$K$120,SaisonDeb,$G$15:$G$120)>0,SUMIF($K$15:$K$120,SaisonDeb,$F$15:$F$120)/SUMIF($K$15:$K$120,SaisonDeb,$G$15:$G$120),\"\")","v":""},{"$f":"SUM(R3:R4)","v":0},{"$f":"IF(SUMIF($K$15:$K$120,SaisonFin,$G$15:$G$120)>0,SUMIF($K$15:$K$120,SaisonFin,$F$15:$F$120)/SUMIF($K$15:$K$120,SaisonFin,$G$15:$G$120),\"\")","v":""},{"$f":"SUM(T3:T4)","v":8},{"$f":"IF(SUM($G$15:$G$120)>0,SUM($F$15:$F$120)/SUM($G$15:$G$120),\"\")","v":0.74456521739130432},{"$f":"IF(SUMIF($K$15:$K$24,SaisonDeb,$G$15:$G$24)+SUMIF($K$15:$K$24,SaisonFin,$G$15:$G$24)>0,(SUMIF($K$15:$K$24,SaisonDeb,$F$15:$F$24)+SUMIF($K$15:$K$24,SaisonFin,$F$15:$F$24))/(SUMIF($K$15:$K$24,SaisonDeb,$G$15:$G$24)+SUMIF($K$15:$K$24,SaisonFin,$G$15:$G$24)),\"\")","v":""}]
[null,null,null,null,null,null,null,null,null,null,null,null,null,"Sets","Gagnés",{"$f":"SUMIF($K$15:$K$120,SaisonDeb,$D$15:$D$120)","v":0},{"$f":"IF(P$6+P$7>0,P6/(P$6+P$7),\"\")","v":""},{"$f":"SUMIF($K$15:$K$120,SaisonFin,$D$15:$D$120)","v":0},{"$f":"IF(R$6+R$7>0,R6/(R$6+R$7),\"\")","v":""},{"$f":"SUM($D$15:$D$120)","v":6},{"$f":"IF(T$6+T$7>0,T6/(T$6+T$7),\"\")","v":0.35294117647058826}]
[null,null,null,null,null,null,null,null,null,null,null,null,null,null,"Perdus",{"$f":"SUMIF($K$15:$K$120,SaisonDeb,$E$15:$E$120)","v":0},{"$f":"IF(P$6+P$7>0,P7/(P$6+P$7),\"\")","v":""},{"$f":"SUMIF($K$15:$K$120,SaisonFin,$E$15:$E$120)","v":0},{"$f":"IF(R$6+R$7>0,R7/(R$6+R$7),\"\")","v":""},{"$f":"SUM($E$15:$E$120)","v":11},{"$f":"IF(T$6+T$7>0,T7/(T$6+T$7),\"\")","v":0.6470588235294118}]
["Récapitulatif joueurs",null,null,null,null,null,null,null,null,null,null,null,null,null,"Total",{"$f":"SUM(P6:P7)","v":0},null,{"$f":"SUM(R6:R7)","v":0},null,{"$f":"SUM(T6:T7)","v":17}]
[]
[]
[]
[]
[]
[]
["Joueur","Adversaire","G/P","Sets gagnés","Sets perdus","pts marqués","pts subis","Date","Compétition","Phase","Saison"]
["GROSS Xavier","LALOT Gérard","P",0,2,111,120,"2018-09-29","5 Q - T 1 OISE 2018-19 - R 1 - TOURNOI PRINCIPAL  - CREPY","Qualifications",{"$f":"IF(H16<>\"\",IF(MONTH(H16)>MoisRef,YEAR(H16)&\"-\"&YEAR(H16)+1,YEAR(H16)-1&\"-\"&YEAR(H16)),\"\")","v":"2018-2019"},null,null,null,null,{"$f":"IF($K16=P$1,COUNTIF($C16,\"G\"),0)","v":0},null,{"$f":"IF($K16=R$1,COUNTIF($C16,\"G\"),0)","v":0}]
["GROSS Xavier","VANDEPUTTE Laurent","P",0,2,37,120,"2018-09-29","5 Q - T 1 OISE 2018-19 - R 1 - TOURNOI PRINCIPAL  - CREPY","Qualifications","2018-2019",null,null,null,null,0,null,0]
["GROSS Xavier","BOUIGES Armelle","G",2,0,120,55,"2018-10-27","5 Q - T 2 OISE 2018-19 - R 1 - TOURNOI PRINCIPAL  - VILLERS","Qualifications","2018-2019",null,null,null,null,0,null,0]
["GROSS Xavier","DESCLAIR Guy","G",2,1,139,171,"2018-10-27","5 Q - T 2 OISE 2018-19 - R 1 - TOURNOI PRINCIPAL  - VILLERS","1/4 Finale","2018-2019",null,null,null,null,0,null,0]
["GROSS Xavier","LALOT Gérard","P",0,2,22,120,"2018-10-27","5 Q - T 2 OISE 2018-19 - R 1 - TOURNOI PRINCIPAL  - VILLERS","Qualifications","2018-2019",null,null,null,null,0,null,0]
["GROSS Xavier","STEINMANN Sébastien","P",0,2,71,120,"2018-10-27","5 Q - T 2 OISE 2018-19 - R 1 - TOURNOI PRINCIPAL  - VILLERS","1/2 Finale","2018-2019",null,null,null,null,0,null,0]
["GROSS Xavier","LAMARQUE Yves","G",2,0,120,94,"2018-11-24","5 Q - T 3 OISE 2018-19 - R 1 - TOURNOI PRINCIPAL  - MERU","Qualifications","2018-2019",null,null,null,null,0,null,0]
["GROSS Xavier","LAMARQUE Yves","P",0,2,65,120,"2018-11-24","5 Q - T 3 OISE 2018-19 - R 1 - TOURNOI PRINCIPAL  - MERU","Qualifications","2018-2019",null,null,null,null,0,null,0]
["Fin des données",null,null,null,null,null,null,null,null,null,"",null,null,null,null,{"$f":"IF($K24=P$1,COUNTIF($C24,\"G\"),0)","v":0},null,{"$f":"IF($K24=R$1,COUNTIF($C24,\"G\"),0)","v":0}]

{"sheet":"GUERIN Astrid","index":80,"n_rows":37,"n_cols":22,"rows_kept":37,"cut":false,"hidden":false,"merged":[]}
["GUERIN Astrid",null,null,null,null,null,null,null,null,null,null,null,null,null,null,{"$f":"SaisonDeb","v":"2021-2022"},null,{"$f":"SaisonFin","v":"2022-2023"},null,"Toutes saisons"]
[{"$error":"#N/A"},null,null,null,null,null,null,null,null,null,null,null,null,null,null,"Nombre","%age","Nombre","%age","Nombre","%age"]
[{"$error":"#N/A"},null,null,null,null,null,null,null,null,null,null,null,null,"Matchs","Gagnés",{"$f":"SUM(P$15:P$133)","v":8},{"$f":"IF(P$3+P$4>0,P3/(P$3+P$4),\"\")","v":0.61538461538461542},{"$f":"SUM(R$15:R$133)","v":0},{"$f":"IF(R$3+R$4>0,R3/(R$3+R$4),\"\")","v":""},{"$f":"COUNTIF($C$15:$C$133,\"G\")","v":8},{"$f":"IF(T$3+T$4>0,T3/(T$3+T$4),\"\")","v":0.38095238095238093}]
[{"$error":"#N/A"},null,null,null,null,null,null,null,null,null,null,null,null,null,"Perdus",{"$f":"COUNTIF($K$15:$M$133,SaisonDeb)-P3","v":5},{"$f":"IF(P$3+P$4>0,P4/(P$3+P$4),\"\")","v":0.38461538461538464},{"$f":"COUNTIF($K$15:$K$133,SaisonFin)-R3","v":0},{"$f":"IF(R$3+R$4>0,R4/(R$3+R$4),\"\")","v":""},{"$f":"COUNTIF($C$15:$C$133,\"P\")","v":13},{"$f":"IF(T$3+T$4>0,T4/(T$3+T$4),\"\")","v":0.61904761904761907}]
[{"$error":"#N/A"},null,null,null,null,null,null,null,null,null,null,null,null,null,"Total / Moy.",{"$f":"SUM(P3:P4)","v":13},{"$f":"IF(SUMIF($K$15:$K$133,SaisonDeb,$G$15:$G$133)>0,SUMIF($K$15:$K$133,SaisonDeb,$F$15:$F$133)/SUMIF($K$15:$K$133,SaisonDeb,$G$15:$G$133),\"\")","v":1.2620056497175141},{"$f":"SUM(R3:R4)","v":0},{"$f":"IF(SUMIF($K$15:$K$133,SaisonFin,$G$15:$G$133)>0,SUMIF($K$15:$K$133,SaisonFin,$F$15:$F$133)/SUMIF($K$15:$K$133,SaisonFin,$G$15:$G$133),\"\")","v":""},{"$f":"SUM(T3:T4)","v":21},{"$f":"IF(SUM($G$15:$G$133)>0,SUM($F$15:$F$133)/SUM($G$15:$G$133),\"\")","v":0.96547368421052626},{"$f":"IF(SUMIF($K$15:$K$37,SaisonDeb,$G$15:$G$37)+SUMIF($K$15:$K$37,SaisonFin,$G$15:$G$37)>0,(SUMIF($K$15:$K$37,SaisonDeb,$F$15:$F$37)+SUMIF($K$15:$K$37,SaisonFin,$F$15:$F$37))/(SUMIF($K$15:$K$37,SaisonDeb,$G$15:$G$37)+SUMIF($K$15:$K$37,SaisonFin,$G$15:$G$37)),\"\")","v":1.2620056497175141}]
[null,null,null,null,null,null,null,null,null,null,null,null,null,"Sets","Gagnés",{"$f":"SUMIF($K$15:$K$133,SaisonDeb,$D$15:$D$133)","v":18},{"$f":"IF(P$6+P$7>0,P6/(P$6+P$7),\"\")","v":0.6},{"$f":"SUMIF($K$15:$K$133,SaisonFin,$D$15:$D$133)","v":0},{"$f":"IF(R$6+R$7>0,R6/(R$6+R$7),\"\")","v":""},{"$f":"SUM($D$15:$D$133)","v":19},{"$f":"IF(T$6+T$7>0,T6/(T$6+T$7),\"\")","v":0.42222222222222222}]
[null,null,null,null,null,null,null,null,null,null,null,null,null,null,"Perdus",{"$f":"SUMIF($K$15:$K$133,SaisonDeb,$E$15:$E$133)","v":12},{"$f":"IF(P$6+P$7>0,P7/(P$6+P$7),\"\")","v":0.4},{"$f":"SUMIF($K$15:$K$133,SaisonFin,$E$15:$E$133)","v":0},{"$f":"IF(R$6+R$7>0,R7/(R$6+R$7),\"\")","v":""},{"$f":"SUM($E$15:$E$133)","v":26},{"$f":"IF(T$6+T$7>0,T7/(T$6+T$7),\"\")","v":0.57777777777777772}]
["Récapitulatif joueurs",null,null,null,null,null,null,null,null,null,null,null,null,null,"Total",{"$f":"SUM(P6:P7)","v":30},null,{"$f":"SUM(R6:R7)","v":0},null,{"$f":"SUM(T6:T7)","v":45}]
[]
[]
[]
[]
[]
[]
["Joueur","Adversaire","G/P","Sets gagnés","Sets perdus","pts marqués","pts subis","Date","Compétition","Phase","Saison"]
["GUERIN Astrid","BETTEFORT Mickaël","P",0,2,32,120,"2018-10-20","T1 R1 CD80 - MOREUIL","Qualifications",{"$f":"IF(H16<>\"\",IF(MONTH(H16)>MoisRef,YEAR(H16)&\"-\"&YEAR(H16)+1,YEAR(H16)-1&\"-\"&YEAR(H16)),\"\")","v":"2018-2019"},null,null,null,null,{"$f":"IF($K16=P$1,COUNTIF($C16,\"G\"),0)","v":0},null,{"$f":"IF($K16=R$1,COUNTIF($C16,\"G\"),0)","v":0}]
["GUERIN Astrid","DUHAMEL Eddy","P",0,2,72,120,"2018-10-20","T1 R1 CD80 - MOREUIL","Qualifications","2018-2019",null,null,null,null,0,null,0]
["GUERIN Astrid","DUHAMEL Marcellin","P",0,1,38,100,"2018-10-20","T1 R1 CD80 - MOREUIL - CONSOLANTE","Qualifications","2018-2019",null,null,null,null,0,null,0]
["GUERIN Astrid","DUHAMEL Marcellin","P",0,1,38,100,"2018-10-20","T1 R1 CD80 - MOREUIL - CONSOLANTE","1/2 Finale","2018-2019",null,null,null,null,0,null,0]
["GUERIN Astrid","DUFRESNOY Michel","P",1,2,128,159,"2018-11-24","T2 R1 CD80 - ","Qualifications","2018-2019",null,null,null,null,0,null,0]
["GUERIN Astrid","ROUTHIER David","P",0,2,87,120,"2018-11-24","T2 R1 CD80 - ","Qualifications","2018-2019",null,null,null,null,0,null,0]
["GUERIN Astrid","DUFRESNOY Michel","P",0,2,70,120,"2019-01-05","T3 R1 CD80 - MOREUIL","Qualifications","2018-2019",null,null,null,null,0,null,0]
["GUERIN Astrid","DUHAMEL Marcellin","P",0,2,41,120,"2019-01-05","T3 R1 CD80 - MOREUIL","Qualifications","2018-2019",null,null,null,null,0,null,0]
["GUERIN Astrid","DELAFOSSE Gilles","G",1,0,80,50,"2021-10-16","T1 5Q R1 CD80 - MOREUIL","Qualifications","2021-2022",null,null,null,null,1,null,0]
["GUERIN Astrid","JOLY Kenan","P",0,1,61,80,"2021-10-16","T1 5Q R1 CD80 - MOREUIL","Qualifications","2021-2022",null,null,null,null,0,null,0]
["GUERIN Astrid","ROUTHIER David","P",0,1,77,80,"2021-12-18","T2 5Q R1 CD80 - MOREUIL","Qualifications","2021-2022",null,null,null,null,0,null,0]
["GUERIN Astrid","DUHAMEL Marcellin","G",1,0,80,63,"2021-12-18","T2 5Q R1 CD80 - MOREUIL","Qualifications","2021-2022",null,null,null,null,1,null,0]
["GUERIN Astrid","BETTEFORT Clémence","G",1,0,80,31,"2022-02-12","5 Quilles Dames T2 - MOREUIL","Qualifications","2021-2022",null,null,null,null,1,null,0]
["GUERIN Astrid","BETTEFORT Véronique","G",1,0,80,27,"2022-02-12","5 Quilles Dames T2 - MOREUIL","Qualifications","2021-2022",null,null,null,null,1,null,0]
["GUERIN Astrid","GUERIN Isabelle","G",1,0,80,38,"2022-02-12","5 Quilles Dames T2 - MOREUIL","Qualifications","2021-2022",null,null,null,null,1,null,0]
["GUERIN Astrid","DUHAMEL Marcellin","P",2,3,255,237,"2022-04-02","Finale 5Q R1 CD80 - abbeville","Finale CD80","2021-2022",null,null,null,null,0,null,0]
["GUERIN Astrid","JOLY Kenan","P",1,3,213,213,"2022-04-02","Finale 5Q R1 CD80 - abbeville","Finale CD80","2021-2022",null,null,null,null,0,null,0]
["GUERIN Astrid","ROUTHIER David","P",1,3,192,234,"2022-04-02","Finale 5Q R1 CD80 - abbeville","Finale CD80","2021-2022",null,null,null,null,0,null,0]
["GUERIN Astrid","BETTEFORT Clémence","G",3,0,180,102,"2022-05-21","5 Quilles Dames FINALE - MOREUIL","Finale Dames","2021-2022",null,null,null,null,1,null,0]
["GUERIN Astrid","BETTEFORT Véronique","G",3,0,180,82,"2022-05-21","5 Quilles Dames FINALE - MOREUIL","Finale Dames","2021-2022",null,null,null,null,1,null,0]
["GUERIN Astrid","GUERIN Isabelle","G",3,1,229,179,"2022-05-21","5 Quilles Dames FINALE - MOREUIL","Finale Dames","2021-2022",null,null,null,null,1,null,0]
["Fin des données",null,null,null,null,null,null,null,null,null,"",null,null,null,null,{"$f":"IF($K37=P$1,COUNTIF($C37,\"G\"),0)","v":0},null,{"$f":"IF($K37=R$1,COUNTIF($C37,\"G\"),0)","v":0}]

{"sheet":"GUERIN Isabelle","index":81,"n_rows":27,"n_cols":22,"rows_kept":27,"cut":false,"hidden":false,"merged":[]}
["GUERIN Isabelle",null,null,null,null,null,null,null,null,null,null,null,null,null,null,{"$f":"SaisonDeb","v":"2021-2022"},null,{"$f":"SaisonFin","v":"2022-2023"},null,"Toutes saisons"]
[{"$error":"#N/A"},null,null,null,null,null,null,null,null,null,null,null,null,null,null,"Nombre","%age","Nombre","%age","Nombre","%age"]
[{"$error":"#N/A"},null,null,null,null,null,null,null,null,null,null,null,null,"Matchs","Gagnés",{"$f":"SUM(P$15:P$123)","v":1},{"$f":"IF(P$3+P$4>0,P3/(P$3+P$4),\"\")","v":0.16666666666666666},{"$f":"SUM(R$15:R$123)","v":0},{"$f":"IF(R$3+R$4>0,R3/(R$3+R$4),\"\")","v":""},{"$f":"COUNTIF($C$15:$C$123,\"G\")","v":1},{"$f":"IF(T$3+T$4>0,T3/(T$3+T$4),\"\")","v":9.0909090909090912E-2}]
[{"$error":"#N/A"},null,null,null,null,null,null,null,null,null,null,null,null,null,"Perdus",{"$f":"COUNTIF($K$15:$M$123,SaisonDeb)-P3","v":5},{"$f":"IF(P$3+P$4>0,P4/(P$3+P$4),\"\")","v":0.83333333333333337},{"$f":"COUNTIF($K$15:$K$123,SaisonFin)-R3","v":0},{"$f":"IF(R$3+R$4>0,R4/(R$3+R$4),\"\")","v":""},{"$f":"COUNTIF($C$15:$C$123,\"P\")","v":10},{"$f":"IF(T$3+T$4>0,T4/(T$3+T$4),\"\")","v":0.90909090909090906}]
[{"$error":"#N/A"},null,null,null,null,null,null,null,null,null,null,null,null,null,"Total / Moy.",{"$f":"SUM(P3:P4)","v":6},{"$f":"IF(SUMIF($K$15:$K$123,SaisonDeb,$G$15:$G$123)>0,SUMIF($K$15:$K$123,SaisonDeb,$F$15:$F$123)/SUMIF($K$15:$K$123,SaisonDeb,$G$15:$G$123),\"\")","v":0.79251336898395719},{"$f":"SUM(R3:R4)","v":0},{"$f":"IF(SUMIF($K$15:$K$123,SaisonFin,$G$15:$G$123)>0,SUMIF($K$15:$K$123,SaisonFin,$F$15:$F$123)/SUMIF($K$15:$K$123,SaisonFin,$G$15:$G$123),\"\")","v":""},{"$f":"SUM(T3:T4)","v":11},{"$f":"IF(SUM($G$15:$G$123)>0,SUM($F$15:$F$123)/SUM($G$15:$G$123),\"\")","v":0.68934707903780068},{"$f":"IF(SUMIF($K$15:$K$27,SaisonDeb,$G$15:$G$27)+SUMIF($K$15:$K$27,SaisonFin,$G$15:$G$27)>0,(SUMIF($K$15:$K$27,SaisonDeb,$F$15:$F$27)+SUMIF($K$15:$K$27,SaisonFin,$F$15:$F$27))/(SUMIF($K$15:$K$27,SaisonDeb,$G$15:$G$27)+SUMIF($K$15:$K$27,SaisonFin,$G$15:$G$27)),\"\")","v":0.79251336898395719}]
[null,null,null,null,null,null,null,null,null,null,null,null,null,"Sets","Gagnés",{"$f":"SUMIF($K$15:$K$123,SaisonDeb,$D$15:$D$123)","v":4},{"$f":"IF(P$6+P$7>0,P6/(P$6+P$7),\"\")","v":0.26666666666666666},{"$f":"SUMIF($K$15:$K$123,SaisonFin,$D$15:$D$123)","v":0},{"$f":"IF(R$6+R$7>0,R6/(R$6+R$7),\"\")","v":""},{"$f":"SUM($D$15:$D$123)","v":4},{"$f":"IF(T$6+T$7>0,T6/(T$6+T$7),\"\")","v":0.17391304347826086}]
[null,null,null,null,null,null,null,null,null,null,null,null,null,null,"Perdus",{"$f":"SUMIF($K$15:$K$123,SaisonDeb,$E$15:$E$123)","v":11},{"$f":"IF(P$6+P$7>0,P7/(P$6+P$7),\"\")","v":0.73333333333333328},{"$f":"SUMIF($K$15:$K$123,SaisonFin,$E$15:$E$123)","v":0},{"$f":"IF(R$6+R$7>0,R7/(R$6+R$7),\"\")","v":""},{"$f":"SUM($E$15:$E$123)","v":19},{"$f":"IF(T$6+T$7>0,T7/(T$6+T$7),\"\")","v":0.82608695652173914}]
["Récapitulatif joueurs",null,null,null,null,null,null,null,null,null,null,null,null,null,"Total",{"$f":"SUM(P6:P7)","v":15},null,{"$f":"SUM(R6:R7)","v":0},null,{"$f":"SUM(T6:T7)","v":23}]
[]
[]
[]
[]
[]
[]
["Joueur","Adversaire","G/P","Sets gagnés","Sets perdus","pts marqués","pts subis","Date","Compétition","Phase","Saison"]
["GUERIN Isabelle","DAMONNEVILLE Blandine","P",0,2,55,120,"2017-03-18","5Q R1 - Finale Dames CD80 - MOREUIL","Poule unique",{"$f":"IF(H16<>\"\",IF(MONTH(H16)>MoisRef,YEAR(H16)&\"-\"&YEAR(H16)+1,YEAR(H16)-1&\"-\"&YEAR(H16)),\"\")","v":"2016-2017"},null,null,null,null,{"$f":"IF($K16=P$1,COUNTIF($C16,\"G\"),0)","v":0},null,{"$f":"IF($K16=R$1,COUNTIF($C16,\"G\"),0)","v":0}]
["GUERIN Isabelle","RENAULT Marius","P",0,1,45,80,"2018-02-17","T3 5 QUILLES R1 CD80 - CONSOLANTE - MOREUIL","Qualifications","2017-2018",null,null,null,null,0,null,0]
["GUERIN Isabelle","VACAVANT Michel","P",0,1,42,80,"2018-02-17","T3 5 QUILLES R1 CD80 - CONSOLANTE - MOREUIL","Qualifications","2017-2018",null,null,null,null,0,null,0]
["GUERIN Isabelle","DAMONNEVILLE Blandine","P",0,2,102,120,"2018-02-17","T3 5 QUILLES R1 CD80 - MOREUIL","Qualifications","2017-2018",null,null,null,null,0,null,0]
["GUERIN Isabelle","WARIN Yannick","P",0,2,18,120,"2018-02-17","T3 5 QUILLES R1 CD80 - MOREUIL","Qualifications","2017-2018",null,null,null,null,0,null,0]
["GUERIN Isabelle","BETTEFORT Clémence","G",1,0,80,70,"2022-02-12","5 Quilles Dames T2 - MOREUIL","Qualifications","2021-2022",null,null,null,null,1,null,0]
["GUERIN Isabelle","BETTEFORT Véronique","P",0,1,16,80,"2022-02-12","5 Quilles Dames T2 - MOREUIL","Qualifications","2021-2022",null,null,null,null,0,null,0]
["GUERIN Isabelle","GUERIN Astrid","P",0,1,38,80,"2022-02-12","5 Quilles Dames T2 - MOREUIL","Qualifications","2021-2022",null,null,null,null,0,null,0]
["GUERIN Isabelle","BETTEFORT Clémence","P",1,3,199,237,"2022-05-21","5 Quilles Dames FINALE - MOREUIL","Finale Dames","2021-2022",null,null,null,null,0,null,0]
["GUERIN Isabelle","BETTEFORT Véronique","P",1,3,229,239,"2022-05-21","5 Quilles Dames FINALE - MOREUIL","Finale Dames","2021-2022",null,null,null,null,0,null,0]
["GUERIN Isabelle","GUERIN Astrid","P",1,3,179,229,"2022-05-21","5 Quilles Dames FINALE - MOREUIL","Finale Dames","2021-2022",null,null,null,null,0,null,0]
["Fin des données",null,null,null,null,null,null,null,null,null,"",null,null,null,null,0,null,0]

{"sheet":"HAZELAERE François","index":82,"n_rows":20,"n_cols":22,"rows_kept":20,"cut":false,"hidden":false,"merged":[]}
["HAZELAERE François",null,null,null,null,null,null,null,null,null,null,null,null,null,null,{"$f":"SaisonDeb","v":"2021-2022"},null,{"$f":"SaisonFin","v":"2022-2023"},null,"Toutes saisons"]
[{"$error":"#N/A"},null,null,null,null,null,null,null,null,null,null,null,null,null,null,"Nombre","%age","Nombre","%age","Nombre","%age"]
[{"$error":"#N/A"},null,null,null,null,null,null,null,null,null,null,null,null,"Matchs","Gagnés",{"$f":"SUM(P$15:P$116)","v":1},{"$f":"IF(P$3+P$4>0,P3/(P$3+P$4),\"\")","v":0.25},{"$f":"SUM(R$15:R$116)","v":0},{"$f":"IF(R$3+R$4>0,R3/(R$3+R$4),\"\")","v":""},{"$f":"COUNTIF($C$15:$C$116,\"G\")","v":1},{"$f":"IF(T$3+T$4>0,T3/(T$3+T$4),\"\")","v":0.25}]
[{"$error":"#N/A"},null,null,null,null,null,null,null,null,null,null,null,null,null,"Perdus",{"$f":"COUNTIF($K$15:$M$116,SaisonDeb)-P3","v":3},{"$f":"IF(P$3+P$4>0,P4/(P$3+P$4),\"\")","v":0.75},{"$f":"COUNTIF($K$15:$K$116,SaisonFin)-R3","v":0},{"$f":"IF(R$3+R$4>0,R4/(R$3+R$4),\"\")","v":""},{"$f":"COUNTIF($C$15:$C$116,\"P\")","v":3},{"$f":"IF(T$3+T$4>0,T4/(T$3+T$4),\"\")","v":0.75}]
[{"$error":"#N/A"},null,null,null,null,null,null,null,null,null,null,null,null,null,"Total / Moy.",{"$f":"SUM(P3:P4)","v":4},{"$f":"IF(SUMIF($K$15:$K$116,SaisonDeb,$G$15:$G$116)>0,SUMIF($K$15:$K$116,SaisonDeb,$F$15:$F$116)/SUMIF($K$15:$K$116,SaisonDeb,$G$15:$G$116),\"\")","v":1.0900000000000001},{"$f":"SUM(R3:R4)","v":0},{"$f":"IF(SUMIF($K$15:$K$116,SaisonFin,$G$15:$G$116)>0,SUMIF($K$15:$K$116,SaisonFin,$F$15:$F$116)/SUMIF($K$15:$K$116,SaisonFin,$G$15:$G$116),\"\")","v":""},{"$f":"SUM(T3:T4)","v":4},{"$f":"IF(SUM($G$15:$G$116)>0,SUM($F$15:$F$116)/SUM($G$15:$G$116),\"\")","v":1.0900000000000001},{"$f":"IF(SUMIF($K$15:$K$20,SaisonDeb,$G$15:$G$20)+SUMIF($K$15:$K$20,SaisonFin,$G$15:$G$20)>0,(SUMIF($K$15:$K$20,SaisonDeb,$F$15:$F$20)+SUMIF($K$15:$K$20,SaisonFin,$F$15:$F$20))/(SUMIF($K$15:$K$20,SaisonDeb,$G$15:$G$20)+SUMIF($K$15:$K$20,SaisonFin,$G$15:$G$20)),\"\")","v":1.0900000000000001}]
[null,null,null,null,null,null,null,null,null,null,null,null,null,"Sets","Gagnés",{"$f":"SUMIF($K$15:$K$116,SaisonDeb,$D$15:$D$116)","v":1},{"$f":"IF(P$6+P$7>0,P6/(P$6+P$7),\"\")","v":0.25},{"$f":"SUMIF($K$15:$K$116,SaisonFin,$D$15:$D$116)","v":0},{"$f":"IF(R$6+R$7>0,R6/(R$6+R$7),\"\")","v":""},{"$f":"SUM($D$15:$D$116)","v":1},{"$f":"IF(T$6+T$7>0,T6/(T$6+T$7),\"\")","v":0.25}]
[null,null,null,null,null,null,null,null,null,null,null,null,null,null,"Perdus",{"$f":"SUMIF($K$15:$K$116,SaisonDeb,$E$15:$E$116)","v":3},{"$f":"IF(P$6+P$7>0,P7/(P$6+P$7),\"\")","v":0.75},{"$f":"SUMIF($K$15:$K$116,SaisonFin,$E$15:$E$116)","v":0},{"$f":"IF(R$6+R$7>0,R7/(R$6+R$7),\"\")","v":""},{"$f":"SUM($E$15:$E$116)","v":3},{"$f":"IF(T$6+T$7>0,T7/(T$6+T$7),\"\")","v":0.75}]
["Récapitulatif joueurs",null,null,null,null,null,null,null,null,null,null,null,null,null,"Total",{"$f":"SUM(P6:P7)","v":4},null,{"$f":"SUM(R6:R7)","v":0},null,{"$f":"SUM(T6:T7)","v":4}]
[]
[]
[]
[]
[]
[]
["Joueur","Adversaire","G/P","Sets gagnés","Sets perdus","pts marqués","pts subis","Date","Compétition","Phase","Saison"]
["HAZELAERE François","BELLENS Antoine","P",0,1,40,100,"2021-10-16","T1 5Q R1 - VILLENEUVE D'ASCQ","Qualifications",{"$f":"IF(H16<>\"\",IF(MONTH(H16)>MoisRef,YEAR(H16)&\"-\"&YEAR(H16)+1,YEAR(H16)-1&\"-\"&YEAR(H16)),\"\")","v":"2021-2022"},null,null,null,null,{"$f":"IF($K16=P$1,COUNTIF($C16,\"G\"),0)","v":0},null,{"$f":"IF($K16=R$1,COUNTIF($C16,\"G\"),0)","v":0}]
["HAZELAERE François","LORTHIOIR Jean-Luc","P",0,1,94,100,"2021-10-16","T1 5Q R1 - VILLENEUVE D'ASCQ","Qualifications",{"$f":"IF(H17<>\"\",IF(MONTH(H17)>MoisRef,YEAR(H17)&\"-\"&YEAR(H17)+1,YEAR(H17)-1&\"-\"&YEAR(H17)),\"\")","v":"2021-2022"},null,null,null,null,{"$f":"IF($K17=P$1,COUNTIF($C17,\"G\"),0)","v":0},null,{"$f":"IF($K17=R$1,COUNTIF($C17,\"G\"),0)","v":0}]
["HAZELAERE François","DUC Stéphane","P",0,1,93,100,"2021-10-16","T1 5Q R1 - VILLENEUVE D'ASCQ - CONSOLANTE","Qualifications",{"$f":"IF(H18<>\"\",IF(MONTH(H18)>MoisRef,YEAR(H18)&\"-\"&YEAR(H18)+1,YEAR(H18)-1&\"-\"&YEAR(H18)),\"\")","v":"2021-2022"},null,null,null,null,{"$f":"IF($K18=P$1,COUNTIF($C18,\"G\"),0)","v":0},null,{"$f":"IF($K18=R$1,COUNTIF($C18,\"G\"),0)","v":0}]
["HAZELAERE François","LORTHIOIR Jean-Luc","G",1,0,100,0,"2021-10-16","T1 5Q R1 - VILLENEUVE D'ASCQ - CONSOLANTE","Qualifications",{"$f":"IF(H19<>\"\",IF(MONTH(H19)>MoisRef,YEAR(H19)&\"-\"&YEAR(H19)+1,YEAR(H19)-1&\"-\"&YEAR(H19)),\"\")","v":"2021-2022"},null,null,null,null,{"$f":"IF($K19=P$1,COUNTIF($C19,\"G\"),0)","v":1},null,{"$f":"IF($K19=R$1,COUNTIF($C19,\"G\"),0)","v":0}]
["Fin des données",null,null,null,null,null,null,null,null,null,{"$f":"IF(H20<>\"\",IF(MONTH(H20)>MoisRef,YEAR(H20)&\"-\"&YEAR(H20)+1,YEAR(H20)-1&\"-\"&YEAR(H20)),\"\")","v":""},null,null,null,null,{"$f":"IF($K20=P$1,COUNTIF($C20,\"G\"),0)","v":0},null,{"$f":"IF($K20=R$1,COUNTIF($C20,\"G\"),0)","v":0}]

{"sheet":"HECQ Anthony","index":83,"n_rows":25,"n_cols":22,"rows_kept":25,"cut":false,"hidden":false,"merged":[]}
["HECQ Anthony",null,null,null,null,null,null,null,null,null,null,null,null,null,null,{"$f":"SaisonDeb","v":"2021-2022"},null,{"$f":"SaisonFin","v":"2022-2023"},null,"Toutes saisons"]
[{"$error":"#N/A"},null,null,null,null,null,null,null,null,null,null,null,null,null,null,"Nombre","%age","Nombre","%age","Nombre","%age"]
[{"$error":"#N/A"},null,null,null,null,null,null,null,null,null,null,null,null,"Matchs","Gagnés",{"$f":"SUM(P$15:P$121)","v":0},{"$f":"IF(P$3+P$4>0,P3/(P$3+P$4),\"\")","v":""},{"$f":"SUM(R$15:R$121)","v":0},{"$f":"IF(R$3+R$4>0,R3/(R$3+R$4),\"\")","v":""},{"$f":"COUNTIF($C$15:$C$121,\"G\")","v":4},{"$f":"IF(T$3+T$4>0,T3/(T$3+T$4),\"\")","v":0.44444444444444442}]
[{"$error":"#N/A"},null,null,null,null,null,null,null,null,null,null,null,null,null,"Perdus",{"$f":"COUNTIF($K$15:$M$121,SaisonDeb)-P3","v":0},{"$f":"IF(P$3+P$4>0,P4/(P$3+P$4),\"\")","v":""},{"$f":"COUNTIF($K$15:$K$121,SaisonFin)-R3","v":0},{"$f":"IF(R$3+R$4>0,R4/(R$3+R$4),\"\")","v":""},{"$f":"COUNTIF($C$15:$C$121,\"P\")","v":5},{"$f":"IF(T$3+T$4>0,T4/(T$3+T$4),\"\")","v":0.55555555555555558}]
[{"$error":"#N/A"},null,null,null,null,null,null,null,null,null,null,null,null,null,"Total / Moy.",{"$f":"SUM(P3:P4)","v":0},{"$f":"IF(SUMIF($K$15:$K$121,SaisonDeb,$G$15:$G$121)>0,SUMIF($K$15:$K$121,SaisonDeb,$F$15:$F$121)/SUMIF($K$15:$K$121,SaisonDeb,$G$15:$G$121),\"\")","v":""},{"$f":"SUM(R3:R4)","v":0},{"$f":"IF(SUMIF($K$15:$K$121,SaisonFin,$G$15:$G$121)>0,SUMIF($K$15:$K$121,SaisonFin,$F$15:$F$121)/SUMIF($K$15:$K$121,SaisonFin,$G$15:$G$121),\"\")","v":""},{"$f":"SUM(T3:T4)","v":9},{"$f":"IF(SUM($G$15:$G$121)>0,SUM($F$15:$F$121)/SUM($G$15:$G$121),\"\")","v":0.92774369461486028},{"$f":"IF(SUMIF($K$15:$K$25,SaisonDeb,$G$15:$G$25)+SUMIF($K$15:$K$25,SaisonFin,$G$15:$G$25)>0,(SUMIF($K$15:$K$25,SaisonDeb,$F$15:$F$25)+SUMIF($K$15:$K$25,SaisonFin,$F$15:$F$25))/(SUMIF($K$15:$K$25,SaisonDeb,$G$15:$G$25)+SUMIF($K$15:$K$25,SaisonFin,$G$15:$G$25)),\"\")","v":""}]
[null,null,null,null,null,null,null,null,null,null,null,null,null,"Sets","Gagnés",{"$f":"SUMIF($K$15:$K$121,SaisonDeb,$D$15:$D$121)","v":0},{"$f":"IF(P$6+P$7>0,P6/(P$6+P$7),\"\")","v":""},{"$f":"SUMIF($K$15:$K$121,SaisonFin,$D$15:$D$121)","v":0},{"$f":"IF(R$6+R$7>0,R6/(R$6+R$7),\"\")","v":""},{"$f":"SUM($D$15:$D$121)","v":13},{"$f":"IF(T$6+T$7>0,T6/(T$6+T$7),\"\")","v":0.4642857142857143}]
[null,null,null,null,null,null,null,null,null,null,null,null,null,null,"Perdus",{"$f":"SUMIF($K$15:$K$121,SaisonDeb,$E$15:$E$121)","v":0},{"$f":"IF(P$6+P$7>0,P7/(P$6+P$7),\"\")","v":""},{"$f":"SUMIF($K$15:$K$121,SaisonFin,$E$15:$E$121)","v":0},{"$f":"IF(R$6+R$7>0,R7/(R$6+R$7),\"\")","v":""},{"$f":"SUM($E$15:$E$121)","v":15},{"$f":"IF(T$6+T$7>0,T7/(T$6+T$7),\"\")","v":0.5357142857142857}]
["Récapitulatif joueurs",null,null,null,null,null,null,null,null,null,null,null,null,null,"Total",{"$f":"SUM(P6:P7)","v":0},null,{"$f":"SUM(R6:R7)","v":0},null,{"$f":"SUM(T6:T7)","v":28}]
[]
[]
[]
[]
[]
[]
["Joueur","Adversaire","G/P","Sets gagnés","Sets perdus","pts marqués","pts subis","Date","Compétition","Phase","Saison"]
["HECQ Anthony","DECHAMPS Enguerrand","G",2,0,120,89,"2017-11-18","qualification AISNE R1 - St Q uentin","Qualifications",{"$f":"IF(H16<>\"\",IF(MONTH(H16)>MoisRef,YEAR(H16)&\"-\"&YEAR(H16)+1,YEAR(H16)-1&\"-\"&YEAR(H16)),\"\")","v":"2017-2018"},null,null,null,null,{"$f":"IF($K16=P$1,COUNTIF($C16,\"G\"),0)","v":0},null,{"$f":"IF($K16=R$1,COUNTIF($C16,\"G\"),0)","v":0}]
["HECQ Anthony","MIQUEE Florine","P",1,2,124,175,"2017-11-18","qualification AISNE R1 - St Q uentin","Qualifications","2017-2018",null,null,null,null,0,null,0]
["HECQ Anthony","BUTTI Bertrand","P",1,2,135,148,"2018-01-27","Qualifications AISNE R1 - guignicourt","Qualifications","2017-2018",null,null,null,null,0,null,0]
["HECQ Anthony","BUTTI Bertrand","P",0,2,69,120,"2018-01-27","Qualifications AISNE R1 - guignicourt","Qualifications","2017-2018",null,null,null,null,0,null,0]
["HECQ Anthony","CORRE Maxime","G",3,1,224,190,"2018-03-03","FINALE AISNE  R1 - guignicourt","Qualifications","2017-2018",null,null,null,null,0,null,0]
["HECQ Anthony","MIQUEE Florine","P",2,3,268,284,"2018-03-03","FINALE AISNE  R1 - guignicourt","Qualifications","2017-2018",null,null,null,null,0,null,0]
["HECQ Anthony","MIQUEE Florine","P",0,3,130,180,"2018-03-03","FINALE AISNE  R1 - guignicourt","1/2 Finale","2017-2018",null,null,null,null,0,null,0]
["HECQ Anthony","CHOUX André","G",2,1,139,138,"2017-12-16","Qualifications AISNE R1 - SOISSONS","Qualifications","2017-2018",null,null,null,null,0,null,0]
["HECQ Anthony","CHOUX André","G",2,1,152,143,"2017-12-16","Qualifications AISNE R1 - SOISSONS","Qualifications","2017-2018",null,null,null,null,0,null,0]
["Fin des données",null,null,null,null,null,null,null,null,null,"",null,null,null,null,{"$f":"IF($K25=P$1,COUNTIF($C25,\"G\"),0)","v":0},null,{"$f":"IF($K25=R$1,COUNTIF($C25,\"G\"),0)","v":0}]

{"sheet":"HERSELIN Jean-Claude","index":84,"n_rows":48,"n_cols":22,"rows_kept":48,"cut":false,"hidden":false,"merged":[]}
["HERSELIN Jean-Claude",null,null,null,null,null,null,null,null,null,null,null,null,null,null,{"$f":"SaisonDeb","v":"2021-2022"},null,{"$f":"SaisonFin","v":"2022-2023"},null,"Toutes saisons"]
[{"$error":"#N/A"},null,null,null,null,null,null,null,null,null,null,null,null,null,null,"Nombre","%age","Nombre","%age","Nombre","%age"]
[{"$error":"#N/A"},null,null,null,null,null,null,null,null,null,null,null,null,"Matchs","Gagnés",{"$f":"SUM(P$15:P$144)","v":0},{"$f":"IF(P$3+P$4>0,P3/(P$3+P$4),\"\")","v":""},{"$f":"SUM(R$15:R$144)","v":0},{"$f":"IF(R$3+R$4>0,R3/(R$3+R$4),\"\")","v":""},{"$f":"COUNTIF($C$15:$C$144,\"G\")","v":8},{"$f":"IF(T$3+T$4>0,T3/(T$3+T$4),\"\")","v":0.25}]
[{"$error":"#N/A"},null,null,null,null,null,null,null,null,null,null,null,null,null,"Perdus",{"$f":"COUNTIF($K$15:$M$144,SaisonDeb)-P3","v":0},{"$f":"IF(P$3+P$4>0,P4/(P$3+P$4),\"\")","v":""},{"$f":"COUNTIF($K$15:$K$144,SaisonFin)-R3","v":0},{"$f":"IF(R$3+R$4>0,R4/(R$3+R$4),\"\")","v":""},{"$f":"COUNTIF($C$15:$C$144,\"P\")","v":24},{"$f":"IF(T$3+T$4>0,T4/(T$3+T$4),\"\")","v":0.75}]
[{"$error":"#N/A"},null,null,null,null,null,null,null,null,null,null,null,null,null,"Total / Moy.",{"$f":"SUM(P3:P4)","v":0},{"$f":"IF(SUMIF($K$15:$K$144,SaisonDeb,$G$15:$G$144)>0,SUMIF($K$15:$K$144,SaisonDeb,$F$15:$F$144)/SUMIF($K$15:$K$144,SaisonDeb,$G$15:$G$144),\"\")","v":""},{"$f":"SUM(R3:R4)","v":0},{"$f":"IF(SUMIF($K$15:$K$144,SaisonFin,$G$15:$G$144)>0,SUMIF($K$15:$K$144,SaisonFin,$F$15:$F$144)/SUMIF($K$15:$K$144,SaisonFin,$G$15:$G$144),\"\")","v":""},{"$f":"SUM(T3:T4)","v":32},{"$f":"IF(SUM($G$15:$G$144)>0,SUM($F$15:$F$144)/SUM($G$15:$G$144),\"\")","v":0.77404854659874134},{"$f":"IF(SUMIF($K$15:$K$48,SaisonDeb,$G$15:$G$48)+SUMIF($K$15:$K$48,SaisonFin,$G$15:$G$48)>0,(SUMIF($K$15:$K$48,SaisonDeb,$F$15:$F$48)+SUMIF($K$15:$K$48,SaisonFin,$F$15:$F$48))/(SUMIF($K$15:$K$48,SaisonDeb,$G$15:$G$48)+SUMIF($K$15:$K$48,SaisonFin,$G$15:$G$48)),\"\")","v":""}]
[null,null,null,null,null,null,null,null,null,null,null,null,null,"Sets","Gagnés",{"$f":"SUMIF($K$15:$K$144,SaisonDeb,$D$15:$D$144)","v":0},{"$f":"IF(P$6+P$7>0,P6/(P$6+P$7),\"\")","v":""},{"$f":"SUMIF($K$15:$K$144,SaisonFin,$D$15:$D$144)","v":0},{"$f":"IF(R$6+R$7>0,R6/(R$6+R$7),\"\")","v":""},{"$f":"SUM($D$15:$D$144)","v":12},{"$f":"IF(T$6+T$7>0,T6/(T$6+T$7),\"\")","v":0.24489795918367346}]
[null,null,null,null,null,null,null,null,null,null,null,null,null,null,"Perdus",{"$f":"SUMIF($K$15:$K$144,SaisonDeb,$E$15:$E$144)","v":0},{"$f":"IF(P$6+P$7>0,P7/(P$6+P$7),\"\")","v":""},{"$f":"SUMIF($K$15:$K$144,SaisonFin,$E$15:$E$144)","v":0},{"$f":"IF(R$6+R$7>0,R7/(R$6+R$7),\"\")","v":""},{"$f":"SUM($E$15:$E$144)","v":37},{"$f":"IF(T$6+T$7>0,T7/(T$6+T$7),\"\")","v":0.75510204081632648}]
["Récapitulatif joueurs",null,null,null,null,null,null,null,null,null,null,null,null,null,"Total",{"$f":"SUM(P6:P7)","v":0},null,{"$f":"SUM(R6:R7)","v":0},null,{"$f":"SUM(T6:T7)","v":49}]
[]
[]
[]
[]
[]
[]
["Joueur","Adversaire","G/P","Sets gagnés","Sets perdus","pts marqués","pts subis","Date","Compétition","Phase","Saison"]
["HERSELIN Jean-Claude","RENAULT Marius","P",0,1,77,100,"2016-11-26","5Q  R1 CD80 - T1 ","Qualifications",{"$f":"IF(H16<>\"\",IF(MONTH(H16)>MoisRef,YEAR(H16)&\"-\"&YEAR(H16)+1,YEAR(H16)-1&\"-\"&YEAR(H16)),\"\")","v":"2016-2017"},null,null,null,null,{"$f":"IF($K16=P$1,COUNTIF($C16,\"G\"),0)","v":0},null,{"$f":"IF($K16=R$1,COUNTIF($C16,\"G\"),0)","v":0}]
["HERSELIN Jean-Claude","MALET Eric","P",0,1,37,100,"2016-11-26","5Q  R1 CD80 - T1 ","Qualifications","2016-2017",null,null,null,null,0,null,0]
["HERSELIN Jean-Claude","CUVILLIER François","P",0,1,46,100,"2016-11-26","5Q  R1 CD80 - T1 ","Qualifications","2016-2017",null,null,null,null,0,null,0]
["HERSELIN Jean-Claude","DAMONNEVILLE Blandine","G",1,0,100,47,"2016-11-26","5Q  R1 CD80 - T1 ","Qualifications","2016-2017",null,null,null,null,0,null,0]
["HERSELIN Jean-Claude","DELAFOSSE Gilles","P",0,1,79,100,"2017-02-25","5Q  R1 CD80 - T3 - MOREUIL","Qualifications","2016-2017",null,null,null,null,0,null,0]
["HERSELIN Jean-Claude","RENAULT Marius","G",1,0,100,75,"2017-02-25","5Q  R1 CD80 - T3 - MOREUIL","Qualifications","2016-2017",null,null,null,null,0,null,0]
["HERSELIN Jean-Claude","BETTEFORT Mickael","P",0,1,91,100,"2017-02-25","5Q  R1 CD80 - T3 - MOREUIL","Qualifications","2016-2017",null,null,null,null,0,null,0]
["HERSELIN Jean-Claude","DAMONNEVILLE Blandine","G",1,0,100,58,"2017-02-25","5Q  R1 CD80 - T3 - MOREUIL","Qualifications","2016-2017",null,null,null,null,0,null,0]
["HERSELIN Jean-Claude","CABUZEL Denis","P",0,1,85,100,"2017-01-21","5Q  R1 CD80 - T2 - ABBEVILLE","Qualifications","2016-2017",null,null,null,null,0,null,0]
["HERSELIN Jean-Claude","BETTEFORT Mickael","P",0,1,96,100,"2017-01-21","5Q  R1 CD80 - T2 - ABBEVILLE","Qualifications","2016-2017",null,null,null,null,0,null,0]
["HERSELIN Jean-Claude","RENAULT Marius","P",0,1,45,100,"2017-01-21","5Q  R1 CD80 - T2 - ABBEVILLE","Qualifications","2016-2017",null,null,null,null,0,null,0]
["HERSELIN Jean-Claude","DAMMONEVILLE Blandine","G",1,0,100,72,"2017-01-21","5Q  R1 CD80 - T2 - ABBEVILLE","Qualifications","2016-2017",null,null,null,null,0,null,0]
["HERSELIN Jean-Claude","DUHAMEL Marcellin","P",0,1,67,100,"2017-11-25","CONSOLANTE 5 QUILLES R1 CD80 - ABBEVILLE","Qualifications","2017-2018",null,null,null,null,0,null,0]
["HERSELIN Jean-Claude","ROUTHIER David","G",1,0,100,76,"2017-11-25","CONSOLANTE 5 QUILLES R1 CD80 - ABBEVILLE","Qualifications","2017-2018",null,null,null,null,0,null,0]
["HERSELIN Jean-Claude","BETTEFORT Mickael","G",2,1,142,171,"2017-11-25","T1 5 QUILLES R1 CD80 - ABBEVILLE","Qualifications","2017-2018",null,null,null,null,0,null,0]
["HERSELIN Jean-Claude","DUMEIGE Similien","P",0,2,51,120,"2017-11-25","T1 5 QUILLES R1 CD80 - ABBEVILLE","Qualifications","2017-2018",null,null,null,null,0,null,0]
["HERSELIN Jean-Claude","DUBOIS Jean-Bernard","P",0,2,90,120,"2018-01-06","T2 5 QUILLES R1 CD80 - ABBEVILLE","1/4 Finale","2017-2018",null,null,null,null,0,null,0]
["HERSELIN Jean-Claude","DUFRESNOY Michel","G",2,0,120,70,"2018-01-06","T2 5 QUILLES R1 CD80 - ABBEVILLE","Qualifications","2017-2018",null,null,null,null,0,null,0]
["HERSELIN Jean-Claude","WARIN Yannick","P",0,2,73,120,"2018-01-06","T2 5 QUILLES R1 CD80 - ABBEVILLE","Qualifications","2017-2018",null,null,null,null,0,null,0]
["HERSELIN Jean-Claude","MALET Eric","P",0,1,27,80,"2018-02-17","T3 5 QUILLES R1 CD80 - CONSOLANTE - MOREUIL","Qualifications","2017-2018",null,null,null,null,0,null,0]
["HERSELIN Jean-Claude","POINTIN Régis","P",0,1,40,80,"2018-02-17","T3 5 QUILLES R1 CD80 - CONSOLANTE - MOREUIL","Qualifications","2017-2018",null,null,null,null,0,null,0]
["HERSELIN Jean-Claude","DUMEIGE Similien","P",0,2,98,120,"2018-02-17","T3 5 QUILLES R1 CD80 - MOREUIL","Qualifications","2017-2018",null,null,null,null,0,null,0]
["HERSELIN Jean-Claude","DUMEIGE Stéphane","P",0,2,57,120,"2018-02-17","T3 5 QUILLES R1 CD80 - MOREUIL","Qualifications","2017-2018",null,null,null,null,0,null,0]
["HERSELIN Jean-Claude","RENAULT Marius","P",0,2,90,120,"2018-10-20","T1 R1 CD80 - MOREUIL","Qualifications","2018-2019",null,null,null,null,0,null,0]
["HERSELIN Jean-Claude","RENAULT Marius","P",0,2,93,120,"2018-10-20","T1 R1 CD80 - MOREUIL","Qualifications","2018-2019",null,null,null,null,0,null,0]
["HERSELIN Jean-Claude","DUMEIGE Stéphane","P",0,1,48,100,"2018-10-20","T1 R1 CD80 - MOREUIL - CONSOLANTE","Qualifications","2018-2019",null,null,null,null,0,null,0]
["HERSELIN Jean-Claude","DUMEIGE Stéphane","P",0,1,48,100,"2018-10-20","T1 R1 CD80 - MOREUIL - CONSOLANTE","1/2 Finale","2018-2019",null,null,null,null,0,null,0]
["HERSELIN Jean-Claude","DELRUE Céline","P",1,2,144,134,"2018-11-24","T2 R1 CD80 - ","Qualifications","2018-2019",null,null,null,null,0,null,0]
["HERSELIN Jean-Claude","DUHAMEL Eddy","G",2,1,155,174,"2018-11-24","T2 R1 CD80 - ","Qualifications","2018-2019",null,null,null,null,0,null,0]
["HERSELIN Jean-Claude","DUHAMEL Eddy","P",0,2,74,120,"2018-11-24","T2 R1 CD80 - ","1/8 Finale","2018-2019",null,null,null,null,0,null,0]
["HERSELIN Jean-Claude","DUHAMEL Eddy","P",0,2,57,120,"2019-01-05","T3 R1 CD80 - MOREUIL","Qualifications","2018-2019",null,null,null,null,0,null,0]
["HERSELIN Jean-Claude","ROUTHIER David","P",0,2,53,120,"2019-01-05","T3 R1 CD80 - MOREUIL","Qualifications","2018-2019",null,null,null,null,0,null,0]
["Fin des données",null,null,null,null,null,null,null,null,null,"",null,null,null,null,{"$f":"IF($K48=P$1,COUNTIF($C48,\"G\"),0)","v":0},null,{"$f":"IF($K48=R$1,COUNTIF($C48,\"G\"),0)","v":0}]

{"sheet":"HERTOUX Didier","index":85,"n_rows":57,"n_cols":22,"rows_kept":57,"cut":false,"hidden":false,"merged":[]}
["HERTOUX Didier",null,null,null,null,null,null,null,null,null,null,null,null,null,null,{"$f":"SaisonDeb","v":"2021-2022"},null,{"$f":"SaisonFin","v":"2022-2023"},null,"Toutes saisons"]
[{"$error":"#N/A"},null,null,null,null,null,null,null,null,null,null,null,null,null,null,"Nombre","%age","Nombre","%age","Nombre","%age"]
[{"$error":"#N/A"},null,null,null,null,null,null,null,null,null,null,null,null,"Matchs","Gagnés",{"$f":"SUM(P$15:P$153)","v":10},{"$f":"IF(P$3+P$4>0,P3/(P$3+P$4),\"\")","v":0.7142857142857143},{"$f":"SUM(R$15:R$153)","v":15},{"$f":"IF(R$3+R$4>0,R3/(R$3+R$4),\"\")","v":0.68181818181818177},{"$f":"COUNTIF($C$15:$C$153,\"G\")","v":27},{"$f":"IF(T$3+T$4>0,T3/(T$3+T$4),\"\")","v":0.65853658536585369}]
[{"$error":"#N/A"},null,null,null,null,null,null,null,null,null,null,null,null,null,"Perdus",{"$f":"COUNTIF($K$15:$M$153,SaisonDeb)-P3","v":4},{"$f":"IF(P$3+P$4>0,P4/(P$3+P$4),\"\")","v":0.2857142857142857},{"$f":"COUNTIF($K$15:$K$153,SaisonFin)-R3","v":7},{"$f":"IF(R$3+R$4>0,R4/(R$3+R$4),\"\")","v":0.31818181818181818},{"$f":"COUNTIF($C$15:$C$153,\"P\")","v":14},{"$f":"IF(T$3+T$4>0,T4/(T$3+T$4),\"\")","v":0.34146341463414637}]
[{"$error":"#N/A"},null,null,null,null,null,null,null,null,null,null,null,null,null,"Total / Moy.",{"$f":"SUM(P3:P4)","v":14},{"$f":"IF(SUMIF($K$15:$K$153,SaisonDeb,$G$15:$G$153)>0,SUMIF($K$15:$K$153,SaisonDeb,$F$15:$F$153)/SUMIF($K$15:$K$153,SaisonDeb,$G$15:$G$153),\"\")","v":0.99437500000000001},{"$f":"SUM(R3:R4)","v":22},{"$f":"IF(SUMIF($K$15:$K$153,SaisonFin,$G$15:$G$153)>0,SUMIF($K$15:$K$153,SaisonFin,$F$15:$F$153)/SUMIF($K$15:$K$153,SaisonFin,$G$15:$G$153),\"\")","v":1.099095394736842},{"$f":"SUM(T3:T4)","v":41},{"$f":"IF(SUM($G$15:$G$153)>0,SUM($F$15:$F$153)/SUM($G$15:$G$153),\"\")","v":1.0306275433711716},{"$f":"IF(SUMIF($K$15:$K$57,SaisonDeb,$G$15:$G$57)+SUMIF($K$15:$K$57,SaisonFin,$G$15:$G$57)>0,(SUMIF($K$15:$K$57,SaisonDeb,$F$15:$F$57)+SUMIF($K$15:$K$57,SaisonFin,$F$15:$F$57))/(SUMIF($K$15:$K$57,SaisonDeb,$G$15:$G$57)+SUMIF($K$15:$K$57,SaisonFin,$G$15:$G$57)),\"\")","v":1.0575396825396826}]
[null,null,null,null,null,null,null,null,null,null,null,null,null,"Sets","Gagnés",{"$f":"SUMIF($K$15:$K$153,SaisonDeb,$D$15:$D$153)","v":12},{"$f":"IF(P$6+P$7>0,P6/(P$6+P$7),\"\")","v":0.6},{"$f":"SUMIF($K$15:$K$153,SaisonFin,$D$15:$D$153)","v":22},{"$f":"IF(R$6+R$7>0,R6/(R$6+R$7),\"\")","v":0.62857142857142856},{"$f":"SUM($D$15:$D$153)","v":38},{"$f":"IF(T$6+T$7>0,T6/(T$6+T$7),\"\")","v":0.58461538461538465}]
[null,null,null,null,null,null,null,null,null,null,null,null,null,null,"Perdus",{"$f":"SUMIF($K$15:$K$153,SaisonDeb,$E$15:$E$153)","v":8},{"$f":"IF(P$6+P$7>0,P7/(P$6+P$7),\"\")","v":0.4},{"$f":"SUMIF($K$15:$K$153,SaisonFin,$E$15:$E$153)","v":13},{"$f":"IF(R$6+R$7>0,R7/(R$6+R$7),\"\")","v":0.37142857142857144},{"$f":"SUM($E$15:$E$153)","v":27},{"$f":"IF(T$6+T$7>0,T7/(T$6+T$7),\"\")","v":0.41538461538461541}]
["Récapitulatif joueurs",null,null,null,null,null,null,null,null,null,null,null,null,null,"Total",{"$f":"SUM(P6:P7)","v":20},null,{"$f":"SUM(R6:R7)","v":35},null,{"$f":"SUM(T6:T7)","v":65}]
[]
[]
[]
[]
[]
[]
["Joueur","Adversaire","G/P","Sets gagnés","Sets perdus","pts marqués","pts subis","Date","Compétition","Phase","Saison"]
["HERTOUX Didier","ALAZARD Philippe","P",1,2,147,171,"2019-10-19","CD60  R1 - T1 - Tour Principal - BEAUVAIS","Qualifications",{"$f":"IF(H16<>\"\",IF(MONTH(H16)>MoisRef,YEAR(H16)&\"-\"&YEAR(H16)+1,YEAR(H16)-1&\"-\"&YEAR(H16)),\"\")","v":"2019-2020"},null,null,null,null,{"$f":"IF($K16=P$1,COUNTIF($C16,\"G\"),0)","v":0},null,{"$f":"IF($K16=R$1,COUNTIF($C16,\"G\"),0)","v":0}]
["HERTOUX Didier","ALAZARD Philippe","P",0,2,79,120,"2019-10-19","CD60  R1 - T1 - Tour Principal - BEAUVAIS","1/4 Finale","2019-2020",null,null,null,null,0,null,0]
["HERTOUX Didier","DESCLAIR Guy","G",2,1,158,154,"2019-10-19","CD60  R1 - T1 - Tour Principal - BEAUVAIS","Qualifications","2019-2020",null,null,null,null,0,null,0]
["HERTOUX Didier","BOURGOGNE Claude","P",0,1,64,100,"2020-02-15","CD60  R1 - T 4 - Tour Principal - SENLIS","Qualifications","2019-2020",null,null,null,null,0,null,0]
["HERTOUX Didier","COUPLET Sébastien","G",1,0,100,92,"2020-02-15","CD60  R1 - T 4 - Tour Principal - SENLIS","Qualifications","2019-2020",null,null,null,null,0,null,0]
["HERTOUX Didier","BOUIGES Armelle","G",1,0,120,81,"2021-12-18","T 2 OISE - Qualifications R 1 - Tour principal - CREPY","Qualifications","2021-2022",null,null,null,null,1,null,0]
["HERTOUX Didier","BOZON Robert","P",0,1,79,120,"2021-12-18","T 2 OISE - Qualifications R 1 - Tour principal - CREPY","Qualifications","2021-2022",null,null,null,null,0,null,0]
["HERTOUX Didier","BOZON Robert","G",1,0,120,115,"2021-12-18","T 2 OISE - Qualifications R 1 - Tour principal - CREPY","1/4 Finale","2021-2022",null,null,null,null,1,null,0]
["HERTOUX Didier","DESCLAIR Guy","G",1,0,120,71,"2021-12-18","T 2 OISE - Qualifications R 1 - Tour principal - CREPY","Finale","2021-2022",null,null,null,null,1,null,0]
["HERTOUX Didier","NAHIRNYJ Alexi","G",1,0,120,113,"2021-12-18","T 2 OISE - Qualifications R 1 - Tour principal - CREPY","1/2 Finale","2021-2022",null,null,null,null,1,null,0]
["HERTOUX Didier","BOUTON Gérard","G",1,0,120,101,"2022-04-16","T 4 OISE - Qualifications R 1 - Tour Principal - BEAUVAIS","Qualifications","2021-2022",null,null,null,null,1,null,0]
["HERTOUX Didier","BOZON Robert","G",1,0,120,115,"2022-04-16","T 4 OISE - Qualifications R 1 - Tour Principal - BEAUVAIS","Qualifications","2021-2022",null,null,null,null,1,null,0]
["HERTOUX Didier","BOZON Robert","P",0,1,72,120,"2022-04-16","T 4 OISE - Qualifications R 1 - Tour Principal - BEAUVAIS","Finale","2021-2022",null,null,null,null,0,null,0]
["HERTOUX Didier","DESCLAIR Guy","G",1,0,120,107,"2022-04-16","T 4 OISE - Qualifications R 1 - Tour Principal - BEAUVAIS","1/4 Finale","2021-2022",null,null,null,null,1,null,0]
["HERTOUX Didier","NAHIRNYJ Alexi","G",1,0,120,118,"2022-04-16","T 4 OISE - Qualifications R 1 - Tour Principal - BEAUVAIS","1/2 Finale","2021-2022",null,null,null,null,1,null,0]
["HERTOUX Didier","BARBE Philippe","G",2,1,152,126,"2022-05-14","FINALE OISE R 1 - SAISON 21-22 - SENLIS","1/2 Finale","2021-2022",null,null,null,null,1,null,0]
["HERTOUX Didier","BOZON Robert","P",0,2,75,120,"2022-05-14","FINALE OISE R 1 - SAISON 21-22 - SENLIS","Qualifications","2021-2022",null,null,null,null,0,null,0]
["HERTOUX Didier","LAMARQUE Yves","G",2,1,154,173,"2022-05-14","FINALE OISE R 1 - SAISON 21-22 - SENLIS","Qualifications","2021-2022",null,null,null,null,1,null,0]
["HERTOUX Didier","NAHIRNYJ Alexi","P",0,2,99,120,"2022-05-14","FINALE OISE R 1 - SAISON 21-22 - SENLIS","Finale","2021-2022",null,null,null,null,0,null,0]
["HERTOUX Didier","CUNIN Mickael","G",2,0,120,96,"2023-04-15","FINALE OISE  - R 1 - BEAUVAIS","Qualifications","2022-2023",null,null,null,null,0,null,1]
["HERTOUX Didier","NAHIRNYJ Alexi","G",2,1,159,150,"2023-04-15","FINALE OISE  - R 1 - BEAUVAIS","Qualifications","2022-2023",null,null,null,null,0,null,1]
["HERTOUX Didier","NAHIRNYJ Alexi","P",1,2,129,170,"2023-04-15","FINALE OISE  - R 1 - BEAUVAIS","Finale","2022-2023",null,null,null,null,0,null,0]
["HERTOUX Didier","ZANOTTI Michel","G",2,1,164,121,"2023-04-15","FINALE OISE  - R 1 - BEAUVAIS","1/2 Finale","2022-2023",null,null,null,null,0,null,1]
["HERTOUX Didier","BOUTON Gérard","G",1,0,120,117,"2022-12-03","T 2 OISE - Qualifications R 1 - Tour Principal - SENLIS","Qualifications","2022-2023",null,null,null,null,0,null,1]
["HERTOUX Didier","CUNIN Mickael","G",1,0,120,118,"2022-12-03","T 2 OISE - Qualifications R 1 - Tour Principal - SENLIS","1/4 Finale","2022-2023",null,null,null,null,0,null,1]
["HERTOUX Didier","LAMARQUE Yves","G",1,0,120,69,"2022-12-03","T 2 OISE - Qualifications R 1 - Tour Principal - SENLIS","1/2 Finale","2022-2023",null,null,null,null,0,null,1]
["HERTOUX Didier","PELLETIER Steeve","P",0,1,116,120,"2022-12-03","T 2 OISE - Qualifications R 1 - Tour Principal - SENLIS","Qualifications","2022-2023",null,null,null,null,0,null,0]
["HERTOUX Didier","ZANOTTI Michel","P",0,1,104,120,"2022-12-03","T 2 OISE - Qualifications R 1 - Tour Principal - SENLIS","Finale","2022-2023",null,null,null,null,0,null,0]
["HERTOUX Didier","DESCLAIR Guy","G",1,0,120,89,"2023-02-18","T 3 OISE - Qualifications R 1 - Tour Principal - BEAUVAIS","1/4 Finale","2022-2023",null,null,null,null,0,null,1]
["HERTOUX Didier","GERARD Mickael","G",1,0,120,84,"2023-02-18","T 3 OISE - Qualifications R 1 - Tour Principal - BEAUVAIS","Qualifications","2022-2023",null,null,null,null,0,null,1]
["HERTOUX Didier","GRANGER Pascal","P",0,1,94,120,"2023-02-18","T 3 OISE - Qualifications R 1 - Tour Principal - BEAUVAIS","1/2 Finale","2022-2023",null,null,null,null,0,null,0]
["HERTOUX Didier","PELLETIER Steeve","G",1,0,120,84,"2023-02-18","T 3 OISE - Qualifications R 1 - Tour Principal - BEAUVAIS","Qualifications","2022-2023",null,null,null,null,0,null,1]
["HERTOUX Didier","DESCLAIR Guy","G",1,0,120,87,"2022-10-29","T 1 OISE - Qualifications R 1 - Tour Principal - MERU","1/4 Finale","2022-2023",null,null,null,null,0,null,1]
["HERTOUX Didier","DIOT Alain","G",1,0,120,116,"2022-10-29","T 1 OISE - Qualifications R 1 - Tour Principal - MERU","Finale","2022-2023",null,null,null,null,0,null,1]
["HERTOUX Didier","GRANGER Pascal","G",1,0,120,112,"2022-10-29","T 1 OISE - Qualifications R 1 - Tour Principal - MERU","1/2 Finale","2022-2023",null,null,null,null,0,null,1]
["HERTOUX Didier","PELLETIER Steeve","G",1,0,120,49,"2022-10-29","T 1 OISE - Qualifications R 1 - Tour Principal - MERU","Qualifications","2022-2023",null,null,null,null,0,null,1]
["HERTOUX Didier","ZANOTTI Michel","P",0,1,117,120,"2022-10-29","T 1 OISE - Qualifications R 1 - Tour Principal - MERU","Qualifications","2022-2023",null,null,null,null,0,null,0]
["HERTOUX Didier","BETTEFORT Mickael","G",2,1,153,130,"2023-05-14","Finale Ligue 5Q R1 - DENAIN","Poule unique","2022-2023",null,null,null,null,0,null,1]
["HERTOUX Didier","HOCHART James","P",0,2,70,120,"2023-05-14","Finale Ligue 5Q R1 - DENAIN","Poule unique","2022-2023",null,null,null,null,0,null,0]
["HERTOUX Didier","LANCRY Bruno","P",1,2,127,155,"2023-05-14","Finale Ligue 5Q R1 - DENAIN","Poule unique","2022-2023",null,null,null,null,0,null,0]
["HERTOUX Didier","SCHERER Didier","G",2,0,120,85,"2023-05-14","Finale Ligue 5Q R1 - DENAIN","Poule unique","2022-2023",null,null,null,null,0,null,1]
["Fin des données",null,null,null,null,null,null,null,null,null,"",null,null,null,null,0,null,0]

{"sheet":"HOCHART James","index":86,"n_rows":138,"n_cols":22,"rows_kept":138,"cut":false,"hidden":false,"merged":[]}
["HOCHART James",null,null,null,null,null,null,null,null,null,null,null,null,null,null,{"$f":"SaisonDeb","v":"2021-2022"},null,{"$f":"SaisonFin","v":"2022-2023"},null,"Toutes saisons"]
["DENAIN",null,null,null,null,null,null,null,null,null,null,null,null,null,null,"Nombre","%age","Nombre","%age","Nombre","%age"]
["127686-A",null,null,null,null,null,null,null,null,null,null,null,null,"Matchs","Gagnés",{"$f":"SUM(P$15:P$138)","v":9},{"$f":"IF(P$3+P$4>0,P3/(P$3+P$4),\"\")","v":0.52941176470588236},{"$f":"SUM(R$15:R$138)","v":14},{"$f":"IF(R$3+R$4>0,R3/(R$3+R$4),\"\")","v":0.7},{"$f":"COUNTIF($C$15:$C$138,\"G\")","v":64},{"$f":"IF(T$3+T$4>0,T3/(T$3+T$4),\"\")","v":0.52459016393442626}]
[null,null,null,null,null,null,null,null,null,null,null,null,null,null,"Perdus",{"$f":"COUNTIF($K$15:$K$138,SaisonDeb)-P3","v":8},{"$f":"IF(P$3+P$4>0,P4/(P$3+P$4),\"\")","v":0.47058823529411764},{"$f":"COUNTIF($K$15:$K$138,SaisonFin)-R3","v":6},{"$f":"IF(R$3+R$4>0,R4/(R$3+R$4),\"\")","v":0.3},{"$f":"COUNTIF($C$15:$C$138,\"P\")","v":58},{"$f":"IF(T$3+T$4>0,T4/(T$3+T$4),\"\")","v":0.47540983606557374}]
[null,null,null,null,null,null,null,null,null,null,null,null,null,null,"Total / Moy.",{"$f":"SUM(P3:P4)","v":17},{"$f":"IF(SUMIF($K$15:$K$138,SaisonDeb,$G$15:$G$138)>0,SUMIF($K$15:$K$138,SaisonDeb,$F$15:$F$138)/SUMIF($K$15:$K$138,SaisonDeb,$G$15:$G$138),\"\")","v":1.0283251231527093},{"$f":"SUM(R3:R4)","v":20},{"$f":"IF(SUMIF($K$15:$K$138,SaisonFin,$G$15:$G$138)>0,SUMIF($K$15:$K$138,SaisonFin,$F$15:$F$138)/SUMIF($K$15:$K$138,SaisonFin,$G$15:$G$138),\"\")","v":1.120844327176781},{"$f":"SUM(T3:T4)","v":122},{"$f":"IF(SUM($G$15:$G$138)>0,SUM($F$15:$F$138)/SUM($G$15:$G$138),\"\")","v":1.0209380811350643},{"$f":"IF(SUMIF($K$15:$K$138,SaisonDeb,$G$15:$G$138)+SUMIF($K$15:$K$138,SaisonFin,$G$15:$G$138)>0,(SUMIF($K$15:$K$138,SaisonDeb,$F$15:$F$138)+SUMIF($K$15:$K$138,SaisonFin,$F$15:$F$138))/(SUMIF($K$15:$K$138,SaisonDeb,$G$15:$G$138)+SUMIF($K$15:$K$138,SaisonFin,$G$15:$G$138)),\"\")","v":1.0781472009093493}]
[null,null,null,null,null,null,null,null,null,null,null,null,null,"Sets","Gagnés",{"$f":"SUMIF($K$15:$K$138,SaisonDeb,$D$15:$D$138)","v":11},{"$f":"IF(P$6+P$7>0,P6/(P$6+P$7),\"\")","v":0.52380952380952384},{"$f":"SUMIF($K$15:$K$138,SaisonFin,$D$15:$D$138)","v":21},{"$f":"IF(R$6+R$7>0,R6/(R$6+R$7),\"\")","v":0.65625},{"$f":"SUM($D$15:$D$138)","v":136},{"$f":"IF(T$6+T$7>0,T6/(T$6+T$7),\"\")","v":0.51320754716981132}]
[null,null,null,null,null,null,null,null,null,null,null,null,null,null,"Perdus",{"$f":"SUMIF($K$15:$K$138,SaisonDeb,$E$15:$E$138)","v":10},{"$f":"IF(P$6+P$7>0,P7/(P$6+P$7),\"\")","v":0.47619047619047616},{"$f":"SUMIF($K$15:$K$138,SaisonFin,$E$15:$E$138)","v":11},{"$f":"IF(R$6+R$7>0,R7/(R$6+R$7),\"\")","v":0.34375},{"$f":"SUM($E$15:$E$138)","v":129},{"$f":"IF(T$6+T$7>0,T7/(T$6+T$7),\"\")","v":0.48679245283018868}]
["Récapitulatif joueurs",null,null,null,null,null,null,null,null,null,null,null,null,null,"Total",{"$f":"SUM(P6:P7)","v":21},null,{"$f":"SUM(R6:R7)","v":32},null,{"$f":"SUM(T6:T7)","v":265}]
[]
[]
[]
[]
[]
[]
["Joueur","Adversaire","G/P","Sets gagnés","Sets perdus","pts marqués","pts subis","Date","Compétition","Phase","Saison"]
["HOCHART James","BRUYERE Michel","P",0,2,56,120,"2009-01-17","Qualifications R1 CD59 T2 DENAIN","Poules",{"$f":"IF(H16<>\"\",IF(MONTH(H16)>MoisRef,YEAR(H16)&\"-\"&YEAR(H16)+1,YEAR(H16)-1&\"-\"&YEAR(H16)),\"\")","v":"2008-2009"},null,null,null,null,{"$f":"IF($K16=P$1,COUNTIF($C16,\"G\"),0)","v":0},null,{"$f":"IF($K16=R$1,COUNTIF($C16,\"G\"),0)","v":0}]
["HOCHART James","MASIERO Lorenzo","G",2,0,120,101,"2009-01-17","Qualifications R1 CD59 T2 DENAIN","Poules","2008-2009",null,null,null,null,{"$f":"IF($K17=P$1,COUNTIF($C17,\"G\"),0)","v":0},null,{"$f":"IF($K17=R$1,COUNTIF($C17,\"G\"),0)","v":0}]
["HOCHART James","TRUQUET David","P",1,2,117,171,"2009-04-04","Qualifications R1 CD59 T3 DUNKERQUE","Poules","2008-2009",null,null,null,null,{"$f":"IF($K18=P$1,COUNTIF($C18,\"G\"),0)","v":0},null,{"$f":"IF($K18=R$1,COUNTIF($C18,\"G\"),0)","v":0}]
["HOCHART James","BOULET Serge","P",0,2,66,120,"2009-04-04","Qualifications R1 CD59 T3 DUNKERQUE","Poules","2008-2009",null,null,null,null,{"$f":"IF($K19=P$1,COUNTIF($C19,\"G\"),0)","v":0},null,{"$f":"IF($K19=R$1,COUNTIF($C19,\"G\"),0)","v":0}]
["HOCHART James","MANTEN Paul","P",1,2,145,156,"2010-10-16","R1 CD59 T1 ST POL SUR MER","Poules","2010-2011",null,null,null,null,{"$f":"IF($K20=P$1,COUNTIF($C20,\"G\"),0)","v":0},null,{"$f":"IF($K20=R$1,COUNTIF($C20,\"G\"),0)","v":0}]
["HOCHART James","MANTEN Paul","G",2,1,162,158,"2010-10-16","R1 CD59 T1 ST POL SUR MER","Poules","2010-2011",null,null,null,null,0,null,0]
["HOCHART James","ST MAXENT Stéphane","G",2,0,120,61,"2010-10-16","R1 CD59 T1 ST POL SUR MER","1/4 Finale","2010-2011",null,null,null,null,0,null,0]
["HOCHART James","LUBREZ Pierre","P",1,2,144,177,"2010-10-16","R1 CD59 T1 ST POL SUR MER","1/2 Finale","2010-2011",null,null,null,null,0,null,0]
["HOCHART James","PRUVOST Franck","G",2,0,120,94,"2010-11-13","R1 CD59 T2 ST POL SUR MER","Poules","2010-2011",null,null,null,null,0,null,0]
["HOCHART James","ESTERMANS Bernard","G",2,1,141,143,"2010-11-13","R1 CD59 T2 ST POL SUR MER","Poules","2010-2011",null,null,null,null,0,null,0]
["HOCHART James","VEREECQUE Bernard","G",2,1,142,146,"2010-11-13","R1 CD59 T2 ST POL SUR MER","1/4 Finale","2010-2011",null,null,null,null,0,null,0]
["HOCHART James","LUBREZ Pierre","P",1,2,146,171,"2010-11-13","R1 CD59 T2 ST POL SUR MER","1/2 Finale","2010-2011",null,null,null,null,0,null,0]
["HOCHART James","MARONNIER Jean-Luc","G",2,1,179,144,"2010-12-12","R1 CD59 T3 BRUAY SUR ESCAUT","Poules","2010-2011",null,null,null,null,0,null,0]
["HOCHART James","ST MAXENT Stéphane","G",2,1,176,109,"2010-12-12","R1 CD59 T3 BRUAY SUR ESCAUT","Poules","2010-2011",null,null,null,null,0,null,0]
["HOCHART James","BUONDELMONTE Nazario","G",2,0,120,85,"2010-12-12","R1 CD59 T3 BRUAY SUR ESCAUT","1/2 Finale","2010-2011",null,null,null,null,0,null,0]
["HOCHART James","LUBREZ Pierre","P",1,2,129,143,"2010-12-12","R1 CD59 T3 BRUAY SUR ESCAUT","Finale","2010-2011",null,null,null,null,0,null,0]
["HOCHART James","ST MAXENT Stéphane","P",1,2,119,156,"2011-01-15","R1 CD59 T4 VILLENEUVE D'ASCQ","Poules","2010-2011",null,null,null,null,0,null,0]
["HOCHART James","ST MAXENT Stéphane","G",2,0,120,42,"2011-01-15","R1 CD59 T4 VILLENEUVE D'ASCQ","Poules","2010-2011",null,null,null,null,0,null,0]
["HOCHART James","MARONNIER Jean-Luc","G",2,0,120,72,"2011-01-15","R1 CD59 T4 VILLENEUVE D'ASCQ","1/4 Finale","2010-2011",null,null,null,null,0,null,0]
["HOCHART James","ST MAXENT Stéphane","G",2,1,171,164,"2011-01-15","R1 CD59 T4 VILLENEUVE D'ASCQ","1/2 Finale","2010-2011",null,null,null,null,0,null,0]
["HOCHART James","LUBREZ Pierre","G",2,0,120,93,"2011-01-15","R1 CD59 T4 VILLENEUVE D'ASCQ","Finale","2010-2011",null,null,null,null,0,null,0]
["HOCHART James","LUBREZ Pierre","P",0,3,112,180,"2011-02-26","R1 FINALE CD59 ST POL SUR MER","Poules","2010-2011",null,null,null,null,0,null,0]
["HOCHART James","MARONNIER Jean-Luc","G",3,0,180,130,"2011-02-26","R1 FINALE CD59 ST POL SUR MER","Poules","2010-2011",null,null,null,null,0,null,0]
["HOCHART James","ESTERMANS Bernard","P",0,3,98,180,"2011-02-26","R1 FINALE CD59 ST POL SUR MER","1/2 Finale","2010-2011",null,null,null,null,0,null,0]
["HOCHART James","MANTEN Paul","P",0,3,128,180,"2011-02-26","R1 FINALE CD59 ST POL SUR MER","3ème 4ème place","2010-2011",null,null,null,null,0,null,0]
["HOCHART James","FLEURANT Alexandre","G",2,0,120,92,"2011-10-15","R1 CD59 T1 ST POL sur MER","Poules","2011-2012",null,null,null,null,0,null,0]
["HOCHART James","BOUCHART Christophe","P",0,2,68,120,"2011-10-15","R1 CD59 T1 ST POL sur MER","Poules","2011-2012",null,null,null,null,0,null,0]
["HOCHART James","MARONNIER Jean-Luc","G",2,1,176,124,"2011-10-15","R1 CD59 T1 ST POL sur MER","1/4 Finale","2011-2012",null,null,null,null,0,null,0]
["HOCHART James","VEREECQUE Bernard","G",2,0,120,76,"2011-10-15","R1 CD59 T1 ST POL sur MER","1/2 Finale","2011-2012",null,null,null,null,0,null,0]
["HOCHART James","BOUCHART Christophe","P",1,2,158,168,"2011-10-15","R1 CD59 T1 ST POL sur MER","Finale","2011-2012",null,null,null,null,0,null,0]
["HOCHART James","FLEURANT Richard","G",2,1,163,148,"2011-11-19","R1 CD59 T2 VILLENEUVE D'ASCQ","Poules","2011-2012",null,null,null,null,0,null,0]
["HOCHART James","FLEURANT Alexandre","G",2,1,168,134,"2011-11-19","R1 CD59 T2 VILLENEUVE D'ASCQ","Poules","2011-2012",null,null,null,null,0,null,0]
["HOCHART James","BARNO Cassandre","G",2,1,174,114,"2011-11-19","R1 CD59 T2 VILLENEUVE D'ASCQ","1/2 Finale","2011-2012",null,null,null,null,0,null,0]
["HOCHART James","FLEURANT Richard","P",0,2,79,120,"2011-11-19","R1 CD59 T2 VILLENEUVE D'ASCQ","Finale","2011-2012",null,null,null,null,0,null,0]
["HOCHART James","FLEURANT Alexandre","G",2,1,160,125,"2012-01-07","R1 CD59 T3 DENAIN","Poules","2011-2012",null,null,null,null,0,null,0]
["HOCHART James","MERVAILLE Jean","P",1,2,157,146,"2012-01-07","R1 CD59 T3 DENAIN","Poules","2011-2012",null,null,null,null,0,null,0]
["HOCHART James","VEREECQUE Bernard","P",1,2,131,153,"2012-01-07","R1 CD59 T3 DENAIN","1/4 Finale","2011-2012",null,null,null,null,0,null,0]
["HOCHART James","FLEURANT Alexandre","G",1,0,100,59,"2012-01-08","R1 CD59 T3 DENAIN","Poules Consolante","2011-2012",null,null,null,null,0,null,0]
["HOCHART James","BARNO Cassandre","G",1,0,100,51,"2012-01-12","R1 CD59 T3 DENAIN","Finale Consolante","2011-2012",null,null,null,null,0,null,0]
["HOCHART James","BARNO Cassandre","G",3,0,180,129,"2012-01-29","Finale CD59 R1 ANNOEULLIN","Poules","2011-2012",null,null,null,null,0,null,0]
["HOCHART James","FLEURANT Richard","G",3,2,251,271,"2012-01-29","Finale CD59 R1 ANNOEULLIN","Poules","2011-2012",null,null,null,null,0,null,0]
["HOCHART James","VEREECQUE Bernard","P",2,3,253,261,"2012-01-29","Finale CD59 R1 ANNOEULLIN","1/2 Finale","2011-2012",null,null,null,null,0,null,0]
["HOCHART James","MERVAILLE Jean","P",1,3,199,232,"2012-01-29","Finale CD59 R1 ANNOEULLIN","3ème/4ème place","2011-2012",null,null,null,null,0,null,0]
["HOCHART James","FLEURANT Alexandre","P",1,2,139,162,"2012-09-29","R1 CD59 T1 DOUAI","Poules","2012-2013",null,null,null,null,0,null,0]
["HOCHART James","LUBREZ Pierre","G",2,0,120,79,"2012-09-29","R1 CD59 T1 DOUAI","Poules","2012-2013",null,null,null,null,0,null,0]
["HOCHART James","BARNO Cassandre","G",2,0,120,61,"2012-09-29","R1 CD59 T1 DOUAI","1/2 Finale","2012-2013",null,null,null,null,0,null,0]
["HOCHART James","LUBREZ Pierre","P",1,2,141,162,"2012-09-29","R1 CD59 T1 DOUAI","Finale","2012-2013",null,null,null,null,0,null,0]
["HOCHART James","PARISIS Francis","G",2,0,120,48,"2012-10-27","R1 CD59 T2 GRAVELINES","Poules","2012-2013",null,null,null,null,0,null,0]
["HOCHART James","MONFLIER Francis","P",1,2,116,168,"2012-10-27","R1 CD59 T2 GRAVELINES","Poules","2012-2013",null,null,null,null,0,null,0]
["HOCHART James","LUBREZ Pierre","P",0,2,93,120,"2012-10-27","R1 CD59 T2 GRAVELINES","1/4 Finale","2012-2013",null,null,null,null,0,null,0]
["HOCHART James","FLEURANT Alexandre","P",0,2,74,120,"2012-11-24","R1 CD59 T3 RONCHIN","Poules","2012-2013",null,null,null,null,0,null,0]
["HOCHART James","FLEURANT Alexandre","G",2,1,166,146,"2012-11-24","R1 CD59 T3 RONCHIN","Poules","2012-2013",null,null,null,null,0,null,0]
["HOCHART JAMES","ST MAXENT STEPHANE","G",1,0,100,74,"2012-11-24","R1 CD59 T3 RONCHIN","Poules Consolante","2012-2013",null,null,null,null,0,null,0]
["HOCHART JAMES","BARNO CASSANDRE","G",1,0,100,49,"2012-11-24","R1 CD59 T3 RONCHIN","Poules Consolante","2012-2013",null,null,null,null,0,null,0]
["HOCHART JAMES","BARNO CASSANDRE","P",2,3,234,290,"2012-12-16","FINALE CD59 R1 DUNKERQUE ","Poules","2012-2013",null,null,null,null,0,null,0]
["HOCHART JAMES","LUBREZ Pierre","P",2,3,256,279,"2012-12-16","FINALE CD59 R1 DUNKERQUE ","Poules","2012-2013",null,null,null,null,0,null,0]
["HOCHART JAMES","VEREECQUE Bernard","P",1,3,227,139,"2012-12-16","FINALE CD59 R1 DUNKERQUE ","5ème 6ème place","2012-2013",null,null,null,null,0,null,0]
["HOCHART James","PAILLARD Bertrand","P",0,2,82,120,"2015-12-05","T1 CD59 5 QUILLES R1 - VILLENEUVE D'ASCQ","Qualifications","2015-2016",null,null,null,null,0,null,0]
["HOCHART James","PAILLARD Bertrand","P",0,2,64,120,"2015-12-05","T1 CD59 5 QUILLES R1 - VILLENEUVE D'ASCQ","Qualifications","2015-2016",null,null,null,null,0,null,0]
["HOCHART James","ESTERMANS Bernard","G",2,1,177,138,"2015-12-05","T1 CD59 5 QUILLES R1 - VILLENEUVE D'ASCQ","1/4 Finale","2015-2016",null,null,null,null,0,null,0]
["HOCHART James","HERREBRECHT Emerick","G",2,0,120,57,"2015-12-05","T1 CD59 5 QUILLES R1 - VILLENEUVE D'ASCQ","1/2 Finale","2015-2016",null,null,null,null,0,null,0]
["HOCHART James","PAILLARD Bertrand","P",0,2,89,120,"2015-12-05","T1 CD59 5 QUILLES R1 - VILLENEUVE D'ASCQ","Finale","2015-2016",null,null,null,null,0,null,0]
["HOCHART James","ESTERMANS Bernard","G",2,0,120,95,"2016-01-23","T3 CD59 5 QUILLES R1 - ST POL SUR MER","Qualifications","2015-2016",null,null,null,null,0,null,0]
["HOCHART James","HERREBRECHT Erian","P",1,2,130,156,"2016-01-23","T3 CD59 5 QUILLES R1 - ST POL SUR MER","1/4 Finale","2015-2016",null,null,null,null,0,null,0]
["HOCHART James","PAILLARD Bertrand","P",1,2,113,174,"2016-01-23","T3 CD59 5 QUILLES R1 - ST POL SUR MER","Qualifications","2015-2016",null,null,null,null,0,null,0]
["HOCHART James","ESTERMANS Bernard","P",0,2,109,120,"2018-11-24","T2 5Q R1 CD59  - DOUAI","Qualifications","2018-2019",null,null,null,null,0,null,0]
["HOCHART James","LECROART Serge","P",0,2,80,120,"2018-11-24","T2 5Q R1 CD59  - DOUAI","Qualifications","2018-2019",null,null,null,null,0,null,0]
["HOCHART James","CAUX Frédéric","P",0,1,88,100,"2018-11-24","T2 5Q R1 CD59  - CONSOLANTE - DOUAI","Qualifications","2018-2019",null,null,null,null,0,null,0]
["HOCHART James","ESTERMANS Bernard","G",1,0,100,95,"2018-11-24","T2 5Q R1 CD59  - CONSOLANTE - DOUAI","Qualifications","2018-2019",null,null,null,null,{"$f":"IF($K84=P$1,COUNTIF($C84,\"G\"),0)","v":0},null,{"$f":"IF($K84=R$1,COUNTIF($C84,\"G\"),0)","v":0}]
["HOCHART James","LORTHIOIR Jean-Luc","P",0,1,49,100,"2018-11-24","T2 5Q R1 CD59  - CONSOLANTE - DOUAI","Qualifications","2018-2019",null,null,null,null,0,null,0]
["HOCHART James","BEGHIN Nicolas","P",1,2,171,162,"2019-01-19","T4 5Q R1 CD59  - VILLENEUVE D'ASCQ","Qualifications","2018-2019",null,null,null,null,0,null,0]
["HOCHART James","MONFLIER Francis","P",1,2,144,151,"2019-01-19","T4 5Q R1 CD59  - VILLENEUVE D'ASCQ","Qualifications","2018-2019",null,null,null,null,0,null,0]
["HOCHART James","BEGHIN Nicolas","P",0,1,88,100,"2019-01-19","T4 5Q R1 CD59  - VILLENEUVE D'ASCQ - CONSOLANTE -","Qualifications","2018-2019",null,null,null,null,0,null,0]
["HOCHART James","PAILLARD Bertrand","G",1,0,100,77,"2019-01-19","T4 5Q R1 CD59  - VILLENEUVE D'ASCQ - CONSOLANTE -","Qualifications","2018-2019",null,null,null,null,0,null,0]
["HOCHART James","DEREUDDRE Dominique","G",2,1,172,155,"2019-10-26","T1 5Q R1 CD59 - VILLENEUVE D'ASCQ","Qualifications","2019-2020",null,null,null,null,0,null,0]
["HOCHART James","DEREUDDRE Dominique","G",2,0,120,90,"2019-10-26","T1 5Q R1 CD59 - VILLENEUVE D'ASCQ","Qualifications","2019-2020",null,null,null,null,0,null,0]
["HOCHART James","VEREECQUE Bernard","P",1,2,136,153,"2019-10-26","T1 5Q R1 CD59 - VILLENEUVE D'ASCQ","1/4 Finale","2019-2020",null,null,null,null,0,null,0]
["HOCHART James","BEGHIN Nicolas","P",0,1,17,100,"2019-11-24","T2 5Q R1 CD59  - GRAVELINES - CONSOLANTE","Qualifications","2019-2020",null,null,null,null,0,null,0]
["HOCHART James","DUTAILLY Michel","G",1,0,100,66,"2019-11-24","T2 5Q R1 CD59  - GRAVELINES - CONSOLANTE","Qualifications","2019-2020",null,null,null,null,0,null,0]
["HOCHART James","VEREECQUE Bernard","P",0,1,55,100,"2019-11-24","T2 5Q R1 CD59  - GRAVELINES - CONSOLANTE","Qualifications","2019-2020",null,null,null,null,0,null,0]
["HOCHART James","BEGUIN Jean-Luc","P",0,2,65,120,"2019-11-24","T2 5Q R1 CD59 - GRAVELINES ","Qualifications","2019-2020",null,null,null,null,0,null,0]
["HOCHART James","VEREECQUE Esteban","G",2,0,120,59,"2019-11-24","T2 5Q R1 CD59 - GRAVELINES ","Qualifications","2019-2020",null,null,null,null,0,null,0]
["HOCHART James","LORTHIOIR Jean-Luc","G",2,1,157,141,"2020-02-22","T4 5Q R1 CD59 - ANNOEULLIN","Qualifications","2019-2020",null,null,null,null,0,null,0]
["HOCHART James","MONFLIER Francis","P",0,2,96,120,"2020-02-22","T4 5Q R1 CD59 - ANNOEULLIN","1/4 Finale","2019-2020",null,null,null,null,0,null,0]
["HOCHART James","SZWARC Patrick","P",1,2,153,175,"2020-02-22","T4 5Q R1 CD59 - ANNOEULLIN","Qualifications","2019-2020",null,null,null,null,0,null,0]
["HOCHART James","BARKUT Volkan","G",1,0,100,85,"2021-10-16","T1 5Q R1 - VILLENEUVE D'ASCQ","Qualifications","2021-2022",null,null,null,null,1,null,0]
["HOCHART James","BEGHIN Nicolas","P",0,1,71,100,"2021-10-16","T1 5Q R1 - VILLENEUVE D'ASCQ","1/2 Finale","2021-2022",null,null,null,null,0,null,0]
["HOCHART James","LECROART Serge","G",1,0,100,82,"2021-10-16","T1 5Q R1 - VILLENEUVE D'ASCQ","Qualifications","2021-2022",null,null,null,null,1,null,0]
["HOCHART James","NOYER Pascal","G",1,0,100,95,"2021-10-16","T1 5Q R1 - VILLENEUVE D'ASCQ","1/4 Finale","2021-2022",null,null,null,null,1,null,0]
["HOCHART James","DUTAILLY Michel","P",0,1,99,100,"2021-12-18","T2 5Q R1 - GRAVELINES - CONVOCATON 8h30","Qualifications","2021-2022",null,null,null,null,0,null,0]
["HOCHART James","LECROART Serge","P",0,1,96,100,"2021-12-18","T2 5Q R1 - GRAVELINES - CONVOCATON 8h30","Qualifications","2021-2022",null,null,null,null,0,null,0]
["HOCHART James","BARKUT Volkan","G",1,0,100,96,"2021-12-18","T2 5Q R1 - GRAVELINES - consolante","Qualifications","2021-2022",null,null,null,null,1,null,0]
["HOCHART James","BLONDEL Jean","G",1,0,100,49,"2021-12-18","T2 5Q R1 - GRAVELINES - consolante","Qualifications","2021-2022",null,null,null,null,1,null,0]
["HOCHART James","DUC Stéphane","G",1,0,100,54,"2022-02-26","T3 5Q R1 - GRAVELINES ","Qualifications","2021-2022",null,null,null,null,1,null,0]
["HOCHART James","DUC Stéphane","P",0,1,92,100,"2022-02-26","T3 5Q R1 - GRAVELINES ","Qualifications","2021-2022",null,null,null,null,0,null,0]
["HOCHART James","KERKHOF Hervé","P",0,1,99,100,"2022-02-26","T3 5Q R1 - GRAVELINES ","1/4 Finale","2021-2022",null,null,null,null,0,null,0]
["HOCHART James","BERRIER François","G",1,0,100,69,"2022-04-02","T4 5Q R1 - ANNOEULLIN - CONSOLANTE","Qualifications","2021-2022",null,null,null,null,1,null,0]
["HOCHART James","PARENT Jean-René","G",1,0,100,78,"2022-04-02","T4 5Q R1 - ANNOEULLIN - CONSOLANTE","Qualifications","2021-2022",null,null,null,null,1,null,0]
["HOCHART James","DUC Stéphane","P",0,1,60,100,"2022-04-02","T4 5Q R1 - ANNOEULLIN","Qualifications","2021-2022",null,null,null,null,0,null,0]
["HOCHART James","WALGRAEF Pascal","G",1,0,100,81,"2022-04-02","T4 5Q R1 - ANNOEULLIN","Qualifications","2021-2022",null,null,null,null,1,null,0]
["HOCHART James","BEGHIN Benjamin","P",1,2,119,165,"2022-05-08","Finale CD59 5Q R1 - VILLENEUVE D'ASCQ","Qualifications","2021-2022",null,null,null,null,0,null,0]
["HOCHART James","LORTHIOIR Jean-Luc","P",1,2,134,170,"2022-05-08","Finale CD59 5Q R1 - VILLENEUVE D'ASCQ","Qualifications","2021-2022",null,null,null,null,0,null,0]
["HOCHART James","LE GOHEBEL Jacques","G",2,1,166,129,"2023-04-16","Finale CD59 5Q R1 - RONCHIN","1/2 Finale","2022-2023",null,null,null,null,0,null,1]
["HOCHART James","PAILLARD Bertrand","G",2,0,120,99,"2023-04-16","Finale CD59 5Q R1 - RONCHIN","Qualifications","2022-2023",null,null,null,null,0,null,1]
["HOCHART James","PAILLARD Bertrand","G",2,1,177,144,"2023-04-16","Finale CD59 5Q R1 - RONCHIN","Finale","2022-2023",null,null,null,null,0,null,1]
["HOCHART James","SZWARC Johann","G",2,1,166,157,"2023-04-16","Finale CD59 5Q R1 - RONCHIN","Qualifications","2022-2023",null,null,null,null,0,null,1]
["HOCHART James","DUC Stéphane","G",1,0,100,50,"2022-10-30","T2 5Q R1 - GRAVELINES","1/4 Finale","2022-2023",null,null,null,null,0,null,1]
["HOCHART James","ESPALIEU Jean-François","G",1,0,100,72,"2022-10-30","T2 5Q R1 - GRAVELINES","Qualifications","2022-2023",null,null,null,null,0,null,1]
["HOCHART James","LE GOHEBEL Jacques","G",1,0,100,91,"2022-10-30","T2 5Q R1 - GRAVELINES","Qualifications","2022-2023",null,null,null,null,0,null,1]
["HOCHART James","PAILLARD Bertrand","P",0,1,64,100,"2022-10-30","T2 5Q R1 - GRAVELINES","Finale","2022-2023",null,null,null,null,0,null,0]
["HOCHART James","SZWARC Johann","G",1,0,100,89,"2022-10-30","T2 5Q R1 - GRAVELINES","1/2 Finale","2022-2023",null,null,null,null,0,null,1]
["HOCHART James","LEVECQUE Jean-Bernard","G",1,0,100,81,"2023-02-04","T3 5Q R1 - GRAVELINES","Qualifications","2022-2023",null,null,null,null,0,null,1]
["HOCHART James","PAILLARD Bertrand","P",0,1,61,100,"2023-02-04","T3 5Q R1 - GRAVELINES","Qualifications","2022-2023",null,null,null,null,0,null,0]
["HOCHART James","PAILLARD Bertrand","P",0,1,78,100,"2023-02-04","T3 5Q R1 - GRAVELINES","1/4 Finale","2022-2023",null,null,null,null,0,null,0]
["HOCHART James","LECROART Serge","P",0,1,52,100,"2023-03-04","T4 5Q R1 - DOUAI","Qualifications","2022-2023",null,null,null,null,0,null,0]
["HOCHART James","LECROART Serge","P",0,1,90,100,"2023-03-04","T4 5Q R1 - DOUAI","Qualifications","2022-2023",null,null,null,null,0,null,0]
["HOCHART James","CAVITTE Jean-Pierre","G",1,0,100,36,"2023-03-04","T4 5Q R1 - CONSOLANTE - DOUAI","Qualifications","2022-2023",null,null,null,null,0,null,1]
["HOCHART James","MACAREZ Guy","G",1,0,100,77,"2023-03-04","T4 5Q R1 - CONSOLANTE - DOUAI","Qualifications","2022-2023",null,null,null,null,0,null,1]
["HOCHART James","BETTEFORT Mickael","G",2,1,158,135,"2023-05-14","Finale Ligue 5Q R1 - DENAIN","Poule unique","2022-2023",null,null,null,null,0,null,1]
["HOCHART James","HERTOUX Didier","G",2,0,120,70,"2023-05-14","Finale Ligue 5Q R1 - DENAIN","Poule unique","2022-2023",null,null,null,null,0,null,1]
["HOCHART James","LANCRY Bruno","P",0,2,52,120,"2023-05-14","Finale Ligue 5Q R1 - DENAIN","Poule unique","2022-2023",null,null,null,null,0,null,0]
["HOCHART James","SCHERER Didier","G",2,0,120,45,"2023-05-14","Finale Ligue 5Q R1 - DENAIN","Poule unique","2022-2023",null,null,null,null,0,null,1]
["Fin des données",null,null,null,null,null,null,null,null,null,"",null,null,null,null,{"$f":"IF($K138=P$1,COUNTIF($C138,\"G\"),0)","v":0},null,{"$f":"IF($K138=R$1,COUNTIF($C138,\"G\"),0)","v":0}]

{"sheet":"HORNAIN Denis","index":87,"n_rows":33,"n_cols":22,"rows_kept":33,"cut":false,"hidden":false,"merged":[]}
["HORNAIN Denis",null,null,null,null,null,null,null,null,null,null,null,null,null,null,{"$f":"SaisonDeb","v":"2021-2022"},null,{"$f":"SaisonFin","v":"2022-2023"},null,"Toutes saisons"]
["DENAIN",null,null,null,null,null,null,null,null,null,null,null,null,null,null,"Nombre","%age","Nombre","%age","Nombre","%age"]
["016710-S",null,null,null,null,null,null,null,null,null,null,null,null,"Matchs","Gagnés",{"$f":"SUM(P$15:P$129)","v":0},{"$f":"IF(P$3+P$4>0,P3/(P$3+P$4),\"\")","v":""},{"$f":"SUM(R$15:R$129)","v":0},{"$f":"IF(R$3+R$4>0,R3/(R$3+R$4),\"\")","v":""},{"$f":"COUNTIF($C$15:$C$129,\"G\")","v":13},{"$f":"IF(T$3+T$4>0,T3/(T$3+T$4),\"\")","v":0.76470588235294112}]
[null,null,null,null,null,null,null,null,null,null,null,null,null,null,"Perdus",{"$f":"COUNTIF($K$15:$M$129,SaisonDeb)-P3","v":0},{"$f":"IF(P$3+P$4>0,P4/(P$3+P$4),\"\")","v":""},{"$f":"COUNTIF($K$15:$K$129,SaisonFin)-R3","v":0},{"$f":"IF(R$3+R$4>0,R4/(R$3+R$4),\"\")","v":""},{"$f":"COUNTIF($C$15:$C$129,\"P\")","v":4},{"$f":"IF(T$3+T$4>0,T4/(T$3+T$4),\"\")","v":0.23529411764705882}]
["denis.hornain@orange-ftgroup.com",null,null,null,null,null,null,null,null,null,null,null,null,null,"Total / Moy.",{"$f":"SUM(P3:P4)","v":0},{"$f":"IF(SUMIF($K$15:$K$129,SaisonDeb,$G$15:$G$129)>0,SUMIF($K$15:$K$129,SaisonDeb,$F$15:$F$129)/SUMIF($K$15:$K$129,SaisonDeb,$G$15:$G$129),\"\")","v":""},{"$f":"SUM(R3:R4)","v":0},{"$f":"IF(SUMIF($K$15:$K$129,SaisonFin,$G$15:$G$129)>0,SUMIF($K$15:$K$129,SaisonFin,$F$15:$F$129)/SUMIF($K$15:$K$129,SaisonFin,$G$15:$G$129),\"\")","v":""},{"$f":"SUM(T3:T4)","v":17},{"$f":"IF(SUM($G$15:$G$129)>0,SUM($F$15:$F$129)/SUM($G$15:$G$129),\"\")","v":1.2620865139949109},{"$f":"IF(SUMIF($K$15:$K$33,SaisonDeb,$G$15:$G$33)+SUMIF($K$15:$K$33,SaisonFin,$G$15:$G$33)>0,(SUMIF($K$15:$K$33,SaisonDeb,$F$15:$F$33)+SUMIF($K$15:$K$33,SaisonFin,$F$15:$F$33))/(SUMIF($K$15:$K$33,SaisonDeb,$G$15:$G$33)+SUMIF($K$15:$K$33,SaisonFin,$G$15:$G$33)),\"\")","v":""}]
[null,null,null,null,null,null,null,null,null,null,null,null,null,"Sets","Gagnés",{"$f":"SUMIF($K$15:$K$129,SaisonDeb,$D$15:$D$129)","v":0},{"$f":"IF(P$6+P$7>0,P6/(P$6+P$7),\"\")","v":""},{"$f":"SUMIF($K$15:$K$129,SaisonFin,$D$15:$D$129)","v":0},{"$f":"IF(R$6+R$7>0,R6/(R$6+R$7),\"\")","v":""},{"$f":"SUM($D$15:$D$129)","v":30},{"$f":"IF(T$6+T$7>0,T6/(T$6+T$7),\"\")","v":0.66666666666666663}]
[null,null,null,null,null,null,null,null,null,null,null,null,null,null,"Perdus",{"$f":"SUMIF($K$15:$K$129,SaisonDeb,$E$15:$E$129)","v":0},{"$f":"IF(P$6+P$7>0,P7/(P$6+P$7),\"\")","v":""},{"$f":"SUMIF($K$15:$K$129,SaisonFin,$E$15:$E$129)","v":0},{"$f":"IF(R$6+R$7>0,R7/(R$6+R$7),\"\")","v":""},{"$f":"SUM($E$15:$E$129)","v":15},{"$f":"IF(T$6+T$7>0,T7/(T$6+T$7),\"\")","v":0.33333333333333331}]
["Récapitulatif joueurs",null,null,null,null,null,null,null,null,null,null,null,null,null,"Total",{"$f":"SUM(P6:P7)","v":0},null,{"$f":"SUM(R6:R7)","v":0},null,{"$f":"SUM(T6:T7)","v":45}]
[]
[]
[]
[]
[]
[]
["Joueur","Adversaire","G/P","Sets gagnés","Sets perdus","pts marqués","pts subis","Date","Compétition","Phase","Saison"]
["HORNAIN Denis","BEGUIN Jean-Luc","G",2,1,178,134,"2019-10-26","T1 5Q R1 CD59 - VILLENEUVE D'ASCQ","Qualifications",{"$f":"IF(H16<>\"\",IF(MONTH(H16)>MoisRef,YEAR(H16)&\"-\"&YEAR(H16)+1,YEAR(H16)-1&\"-\"&YEAR(H16)),\"\")","v":"2019-2020"},null,null,null,null,{"$f":"IF($K16=P$1,COUNTIF($C16,\"G\"),0)","v":0},null,{"$f":"IF($K16=R$1,COUNTIF($C16,\"G\"),0)","v":0}]
["HORNAIN Denis","BEGUIN Jean-Luc","G",2,0,120,42,"2019-10-26","T1 5Q R1 CD59 - VILLENEUVE D'ASCQ","1/4 Finale","2019-2020",null,null,null,null,0,null,0]
["HORNAIN Denis","DEREUDDRE Dominique","G",2,0,120,49,"2019-10-26","T1 5Q R1 CD59 - VILLENEUVE D'ASCQ","Finale","2019-2020",null,null,null,null,0,null,0]
["HORNAIN Denis","LORTHIOIR Jean-Luc","G",2,1,175,152,"2019-10-26","T1 5Q R1 CD59 - VILLENEUVE D'ASCQ","1/2 Finale","2019-2020",null,null,null,null,0,null,0]
["HORNAIN Denis","SZWARC Johann","G",2,1,177,133,"2019-10-26","T1 5Q R1 CD59 - VILLENEUVE D'ASCQ","Qualifications","2019-2020",null,null,null,null,0,null,0]
["HORNAIN Denis","BEGHIN Nicolas","G",2,1,138,156,"2019-11-24","T2 5Q R1 CD59 - GRAVELINES ","Qualifications","2019-2020",null,null,null,null,0,null,0]
["HORNAIN Denis","BEGUIN Jean-Luc","G",2,0,120,53,"2019-11-24","T2 5Q R1 CD59 - GRAVELINES ","1/4 Finale","2019-2020",null,null,null,null,0,null,0]
["HORNAIN Denis","KERKHOF Hervé","G",2,0,120,89,"2019-11-24","T2 5Q R1 CD59 - GRAVELINES ","Qualifications","2019-2020",null,null,null,null,0,null,0]
["HORNAIN Denis","LORTHIOIR Jean-Luc","P",0,2,83,120,"2019-11-24","T2 5Q R1 CD59 - GRAVELINES ","Finale","2019-2020",null,null,null,null,0,null,0]
["HORNAIN Denis","MONFLIER Francis","G",2,0,120,57,"2019-11-24","T2 5Q R1 CD59 - GRAVELINES ","1/2 Finale","2019-2020",null,null,null,null,0,null,0]
["HORNAIN Denis","DEVOS Jackie","P",0,2,53,120,"2020-02-22","T4 5Q R1 CD59 - ANNOEULLIN","Finale","2019-2020",null,null,null,null,0,null,0]
["HORNAIN Denis","LE GOHEBEL Jacques","G",2,1,157,128,"2020-02-22","T4 5Q R1 CD59 - ANNOEULLIN","1/4 Finale","2019-2020",null,null,null,null,0,null,0]
["HORNAIN Denis","MANTEN Paul","G",2,0,120,79,"2020-02-22","T4 5Q R1 CD59 - ANNOEULLIN","Qualifications","2019-2020",null,null,null,null,0,null,0]
["HORNAIN Denis","MONFLIER Francis","G",2,0,120,98,"2020-02-22","T4 5Q R1 CD59 - ANNOEULLIN","1/2 Finale","2019-2020",null,null,null,null,0,null,0]
["HORNAIN Denis","VEREECQUE Esteban","G",2,0,120,58,"2020-02-22","T4 5Q R1 CD59 - ANNOEULLIN","Qualifications","2019-2020",null,null,null,null,0,null,0]
["HORNAIN Denis","MANTEN Paul","P",2,3,293,241,"2020-03-08","Finale 5Q R1 CD59 - GRANDE SYNTHE","Qualifications","2019-2020",null,null,null,null,0,null,0]
["HORNAIN Denis","MONFLIER Francis","P",2,3,266,256,"2020-03-08","Finale 5Q R1 CD59 - GRANDE SYNTHE","Qualifications","2019-2020",null,null,null,null,0,null,0]
["Fin des données",null,null,null,null,null,null,null,null,null,"",null,null,null,null,{"$f":"IF($K33=P$1,COUNTIF($C33,\"G\"),0)","v":0},null,{"$f":"IF($K33=R$1,COUNTIF($C33,\"G\"),0)","v":0}]

{"sheet":"JOLY Kenan","index":88,"n_rows":32,"n_cols":22,"rows_kept":32,"cut":false,"hidden":false,"merged":[]}
["JOLY Kenan",null,null,null,null,null,null,null,null,null,null,null,null,null,null,{"$f":"SaisonDeb","v":"2021-2022"},null,{"$f":"SaisonFin","v":"2022-2023"},null,"Toutes saisons"]
[{"$error":"#N/A"},null,null,null,null,null,null,null,null,null,null,null,null,null,null,"Nombre","%age","Nombre","%age","Nombre","%age"]
[{"$error":"#N/A"},null,null,null,null,null,null,null,null,null,null,null,null,"Matchs","Gagnés",{"$f":"SUM(P$15:P$128)","v":8},{"$f":"IF(P$3+P$4>0,P3/(P$3+P$4),\"\")","v":0.72727272727272729},{"$f":"SUM(R$15:R$128)","v":0},{"$f":"IF(R$3+R$4>0,R3/(R$3+R$4),\"\")","v":""},{"$f":"COUNTIF($C$15:$C$128,\"G\")","v":11},{"$f":"IF(T$3+T$4>0,T3/(T$3+T$4),\"\")","v":0.6875}]
[{"$error":"#N/A"},null,null,null,null,null,null,null,null,null,null,null,null,null,"Perdus",{"$f":"COUNTIF($K$15:$M$128,SaisonDeb)-P3","v":3},{"$f":"IF(P$3+P$4>0,P4/(P$3+P$4),\"\")","v":0.27272727272727271},{"$f":"COUNTIF($K$15:$K$128,SaisonFin)-R3","v":0},{"$f":"IF(R$3+R$4>0,R4/(R$3+R$4),\"\")","v":""},{"$f":"COUNTIF($C$15:$C$128,\"P\")","v":5},{"$f":"IF(T$3+T$4>0,T4/(T$3+T$4),\"\")","v":0.3125}]
[{"$error":"#N/A"},null,null,null,null,null,null,null,null,null,null,null,null,null,"Total / Moy.",{"$f":"SUM(P3:P4)","v":11},{"$f":"IF(SUMIF($K$15:$K$128,SaisonDeb,$G$15:$G$128)>0,SUMIF($K$15:$K$128,SaisonDeb,$F$15:$F$128)/SUMIF($K$15:$K$128,SaisonDeb,$G$15:$G$128),\"\")","v":1.0754857997010463},{"$f":"SUM(R3:R4)","v":0},{"$f":"IF(SUMIF($K$15:$K$128,SaisonFin,$G$15:$G$128)>0,SUMIF($K$15:$K$128,SaisonFin,$F$15:$F$128)/SUMIF($K$15:$K$128,SaisonFin,$G$15:$G$128),\"\")","v":""},{"$f":"SUM(T3:T4)","v":16},{"$f":"IF(SUM($G$15:$G$128)>0,SUM($F$15:$F$128)/SUM($G$15:$G$128),\"\")","v":1.0023912003825921},{"$f":"IF(SUMIF($K$15:$K$32,SaisonDeb,$G$15:$G$32)+SUMIF($K$15:$K$32,SaisonFin,$G$15:$G$32)>0,(SUMIF($K$15:$K$32,SaisonDeb,$F$15:$F$32)+SUMIF($K$15:$K$32,SaisonFin,$F$15:$F$32))/(SUMIF($K$15:$K$32,SaisonDeb,$G$15:$G$32)+SUMIF($K$15:$K$32,SaisonFin,$G$15:$G$32)),\"\")","v":1.0754857997010463}]
[null,null,null,null,null,null,null,null,null,null,null,null,null,"Sets","Gagnés",{"$f":"SUMIF($K$15:$K$128,SaisonDeb,$D$15:$D$128)","v":16},{"$f":"IF(P$6+P$7>0,P6/(P$6+P$7),\"\")","v":0.61538461538461542},{"$f":"SUMIF($K$15:$K$128,SaisonFin,$D$15:$D$128)","v":0},{"$f":"IF(R$6+R$7>0,R6/(R$6+R$7),\"\")","v":""},{"$f":"SUM($D$15:$D$128)","v":23},{"$f":"IF(T$6+T$7>0,T6/(T$6+T$7),\"\")","v":0.57499999999999996}]
[null,null,null,null,null,null,null,null,null,null,null,null,null,null,"Perdus",{"$f":"SUMIF($K$15:$K$128,SaisonDeb,$E$15:$E$128)","v":10},{"$f":"IF(P$6+P$7>0,P7/(P$6+P$7),\"\")","v":0.38461538461538464},{"$f":"SUMIF($K$15:$K$128,SaisonFin,$E$15:$E$128)","v":0},{"$f":"IF(R$6+R$7>0,R7/(R$6+R$7),\"\")","v":""},{"$f":"SUM($E$15:$E$128)","v":17},{"$f":"IF(T$6+T$7>0,T7/(T$6+T$7),\"\")","v":0.42499999999999999}]
["Récapitulatif joueurs",null,null,null,null,null,null,null,null,null,null,null,null,null,"Total",{"$f":"SUM(P6:P7)","v":26},null,{"$f":"SUM(R6:R7)","v":0},null,{"$f":"SUM(T6:T7)","v":40}]
[]
[]
[]
[]
[]
[]
["Joueur","Adversaire","G/P","Sets gagnés","Sets perdus","pts marqués","pts subis","Date","Compétition","Phase","Saison"]
["JOLY Kenan","DUHAMEL Marcellin","G",2,1,165,156,"2018-11-24","T2 R1 CD80 - ","Qualifications",{"$f":"IF(H16<>\"\",IF(MONTH(H16)>MoisRef,YEAR(H16)&\"-\"&YEAR(H16)+1,YEAR(H16)-1&\"-\"&YEAR(H16)),\"\")","v":"2018-2019"},null,null,null,null,{"$f":"IF($K16=P$1,COUNTIF($C16,\"G\"),0)","v":0},null,{"$f":"IF($K16=R$1,COUNTIF($C16,\"G\"),0)","v":0}]
["JOLY Kenan","DUMEIGE Similien","G",2,1,142,165,"2018-11-24","T2 R1 CD80 - ","Qualifications","2018-2019",null,null,null,null,0,null,0]
["JOLY Kenan","MALET Eric","P",0,2,51,120,"2018-11-24","T2 R1 CD80 - ","1/8 Finale","2018-2019",null,null,null,null,0,null,0]
["JOLY Kenan","BETTEFORT Mickaël","G",2,1,163,149,"2019-01-05","T3 R1 CD80 - MOREUIL","Qualifications","2018-2019",null,null,null,null,0,null,0]
["JOLY Kenan","CHAIGNE Gilles","P",1,2,136,163,"2019-01-05","T3 R1 CD80 - MOREUIL","Qualifications","2018-2019",null,null,null,null,0,null,0]
["JOLY Kenan","AIT BRAHIM Abdellaziz","G",1,0,80,79,"2021-10-16","T1 5Q R1 CD80 - MOREUIL","Qualifications","2021-2022",null,null,null,null,1,null,0]
["JOLY Kenan","GUERIN Astrid","G",1,0,80,61,"2021-10-16","T1 5Q R1 CD80 - MOREUIL","Qualifications","2021-2022",null,null,null,null,1,null,0]
["JOLY Kenan","AIT BRAHIM Abdellaziz","G",1,0,80,36,"2021-12-18","T2 5Q R1 CD80 - MOREUIL","Qualifications","2021-2022",null,null,null,null,1,null,0]
["JOLY Kenan","DUHAMEL Marcellin","G",1,0,80,33,"2021-12-18","T2 5Q R1 CD80 - MOREUIL","Qualifications","2021-2022",null,null,null,null,1,null,0]
["JOLY Kenan","DUHAMEL Marcellin","G",3,1,234,226,"2022-04-02","Finale 5Q R1 CD80 - abbeville","Finale CD80","2021-2022",null,null,null,null,1,null,0]
["JOLY Kenan","GUERIN Astrid","G",3,1,213,213,"2022-04-02","Finale 5Q R1 CD80 - abbeville","Finale CD80","2021-2022",null,null,null,null,1,null,0]
["JOLY Kenan","ROUTHIER David","G",3,2,272,203,"2022-04-02","Finale 5Q R1 CD80 - abbeville","Finale CD80","2021-2022",null,null,null,null,1,null,0]
["JOLY Kenan","BARBE Philippe","P",1,2,126,165,"2022-05-22","Finale Ligue 5Q R1 - ST QUENTIN","Finale Ligue","2021-2022",null,null,null,null,0,null,0]
["JOLY Kenan","DURAND Jeremy","P",0,2,81,120,"2022-05-22","Finale Ligue 5Q R1 - ST QUENTIN","Finale Ligue","2021-2022",null,null,null,null,0,null,0]
["JOLY Kenan","LEBECQ Jean-Pierre","G",2,0,120,82,"2022-05-22","Finale Ligue 5Q R1 - ST QUENTIN","Finale Ligue","2021-2022",null,null,null,null,1,null,0]
["JOLY Kenan","LORTHIOIR Jean-Luc","P",0,2,73,120,"2022-05-22","Finale Ligue 5Q R1 - ST QUENTIN","Finale Ligue","2021-2022",null,null,null,null,0,null,0]
["Fin des données",null,null,null,null,null,null,null,null,null,"",null,null,null,null,0,null,0]

{"sheet":"KERKHOF Hervé","index":89,"n_rows":70,"n_cols":22,"rows_kept":70,"cut":false,"hidden":false,"merged":[]}
["KERKHOF Hervé",null,null,null,null,null,null,null,null,null,null,null,null,null,null,{"$f":"SaisonDeb","v":"2021-2022"},null,{"$f":"SaisonFin","v":"2022-2023"},null,"Toutes saisons"]
[{"$error":"#N/A"},null,null,null,null,null,null,null,null,null,null,null,null,null,null,"Nombre","%age","Nombre","%age","Nombre","%age"]
[{"$error":"#N/A"},null,null,null,null,null,null,null,null,null,null,null,null,"Matchs","Gagnés",{"$f":"SUM(P$15:P$166)","v":11},{"$f":"IF(P$3+P$4>0,P3/(P$3+P$4),\"\")","v":0.6875},{"$f":"SUM(R$15:R$166)","v":2},{"$f":"IF(R$3+R$4>0,R3/(R$3+R$4),\"\")","v":0.66666666666666663},{"$f":"COUNTIF($C$15:$C$166,\"G\")","v":35},{"$f":"IF(T$3+T$4>0,T3/(T$3+T$4),\"\")","v":0.64814814814814814}]
[{"$error":"#N/A"},null,null,null,null,null,null,null,null,null,null,null,null,null,"Perdus",{"$f":"COUNTIF($K$15:$M$166,SaisonDeb)-P3","v":5},{"$f":"IF(P$3+P$4>0,P4/(P$3+P$4),\"\")","v":0.3125},{"$f":"COUNTIF($K$15:$K$166,SaisonFin)-R3","v":1},{"$f":"IF(R$3+R$4>0,R4/(R$3+R$4),\"\")","v":0.33333333333333331},{"$f":"COUNTIF($C$15:$C$166,\"P\")","v":19},{"$f":"IF(T$3+T$4>0,T4/(T$3+T$4),\"\")","v":0.35185185185185186}]
[{"$error":"#N/A"},null,null,null,null,null,null,null,null,null,null,null,null,null,"Total / Moy.",{"$f":"SUM(P3:P4)","v":16},{"$f":"IF(SUMIF($K$15:$K$166,SaisonDeb,$G$15:$G$166)>0,SUMIF($K$15:$K$166,SaisonDeb,$F$15:$F$166)/SUMIF($K$15:$K$166,SaisonDeb,$G$15:$G$166),\"\")","v":1.16290212183436},{"$f":"SUM(R3:R4)","v":3},{"$f":"IF(SUMIF($K$15:$K$166,SaisonFin,$G$15:$G$166)>0,SUMIF($K$15:$K$166,SaisonFin,$F$15:$F$166)/SUMIF($K$15:$K$166,SaisonFin,$G$15:$G$166),\"\")","v":1.4433497536945812},{"$f":"SUM(T3:T4)","v":54},{"$f":"IF(SUM($G$15:$G$166)>0,SUM($F$15:$F$166)/SUM($G$15:$G$166),\"\")","v":1.1642304385210662},{"$f":"IF(SUMIF($K$15:$K$70,SaisonDeb,$G$15:$G$70)+SUMIF($K$15:$K$70,SaisonFin,$G$15:$G$70)>0,(SUMIF($K$15:$K$70,SaisonDeb,$F$15:$F$70)+SUMIF($K$15:$K$70,SaisonFin,$F$15:$F$70))/(SUMIF($K$15:$K$70,SaisonDeb,$G$15:$G$70)+SUMIF($K$15:$K$70,SaisonFin,$G$15:$G$70)),\"\")","v":1.1971153846153846}]
[null,null,null,null,null,null,null,null,null,null,null,null,null,"Sets","Gagnés",{"$f":"SUMIF($K$15:$K$166,SaisonDeb,$D$15:$D$166)","v":14},{"$f":"IF(P$6+P$7>0,P6/(P$6+P$7),\"\")","v":0.63636363636363635},{"$f":"SUMIF($K$15:$K$166,SaisonFin,$D$15:$D$166)","v":2},{"$f":"IF(R$6+R$7>0,R6/(R$6+R$7),\"\")","v":0.66666666666666663},{"$f":"SUM($D$15:$D$166)","v":71},{"$f":"IF(T$6+T$7>0,T6/(T$6+T$7),\"\")","v":0.6339285714285714}]
[null,null,null,null,null,null,null,null,null,null,null,null,null,null,"Perdus",{"$f":"SUMIF($K$15:$K$166,SaisonDeb,$E$15:$E$166)","v":8},{"$f":"IF(P$6+P$7>0,P7/(P$6+P$7),\"\")","v":0.36363636363636365},{"$f":"SUMIF($K$15:$K$166,SaisonFin,$E$15:$E$166)","v":1},{"$f":"IF(R$6+R$7>0,R7/(R$6+R$7),\"\")","v":0.33333333333333331},{"$f":"SUM($E$15:$E$166)","v":41},{"$f":"IF(T$6+T$7>0,T7/(T$6+T$7),\"\")","v":0.36607142857142855}]
["Récapitulatif joueurs",null,null,null,null,null,null,null,null,null,null,null,null,null,"Total",{"$f":"SUM(P6:P7)","v":22},null,{"$f":"SUM(R6:R7)","v":3},null,{"$f":"SUM(T6:T7)","v":112}]
[]
[]
[]
[]
[]
[]
["Joueur","Adversaire","G/P","Sets gagnés","Sets perdus","pts marqués","pts subis","Date","Compétition","Phase","Saison"]
["KERKHOF Hervé","WASYLYSZYN Jean-pierre","G",2,0,120,104,"2015-01-17","R1 CD59 T1 ST POL sur MER","Poules",{"$f":"IF(H16<>\"\",IF(MONTH(H16)>MoisRef,YEAR(H16)&\"-\"&YEAR(H16)+1,YEAR(H16)-1&\"-\"&YEAR(H16)),\"\")","v":"2014-2015"},null,null,null,null,{"$f":"IF($K16=P$1,COUNTIF($C16,\"G\"),0)","v":0},null,{"$f":"IF($K16=R$1,COUNTIF($C16,\"G\"),0)","v":0}]
["KERKHOF Hervé","ST MAXENT Stéphane","G",2,0,120,41,"2015-01-17","R1 CD59 T1 ST POL sur MER","Poules","2014-2015",null,null,null,null,0,null,0]
["KERKHOF Hervé","ST MAXENT Stéphane","G",2,1,168,99,"2015-01-17","R1 CD59 T1 ST POL sur MER","1/4 Finale","2014-2015",null,null,null,null,0,null,0]
["KERKHOF Hervé","VERPOORT José","G",2,1,167,135,"2015-01-17","R1 CD59 T1 ST POL sur MER","1/2 Finale","2014-2015",null,null,null,null,0,null,0]
["KERKHOF Hervé","HINGRAND Tony","P",0,2,65,120,"2015-01-17","R1 CD59 T1 ST POL sur MER","Finale","2014-2015",null,null,null,null,0,null,0]
["KERKHOF Hervé","PARISIS Francis","G",2,0,120,60,"2015-02-07","R1 CD59 T2 GRAVELINES","Poules","2014-2015",null,null,null,null,0,null,0]
["KERKHOF Hervé","WASYLYSZYN Jean-pierre","G",2,0,120,43,"2015-02-07","R1 CD59 T2 GRAVELINES","Poules","2014-2015",null,null,null,null,0,null,0]
["KERKHOF Hervé","DELATTRE Gregory","G",2,1,167,117,"2015-02-07","R1 CD59 T2 GRAVELINES","1/4 Finale","2014-2015",null,null,null,null,0,null,0]
["KERKHOF Hervé","ST MAXENT Stéphane","G",2,0,120,74,"2015-02-07","R1 CD59 T2 GRAVELINES","1/2 Finale","2014-2015",null,null,null,null,0,null,0]
["KERKHOF Hervé","HINGRAND Tony","G",2,0,120,74,"2015-02-07","R1 CD59 T2 GRAVELINES","Finale","2014-2015",null,null,null,null,0,null,0]
["KERKHOF Hervé","WASYLYSZYN Jean-pierre","G",2,0,120,58,"2015-03-14","R1 CD59 T3 VILLENEUVE D'ASCQ","Poules","2014-2015",null,null,null,null,0,null,0]
["KERKHOF Hervé","VEREECQUE Bernard","G",2,0,120,68,"2015-03-14","R1 CD59 T3 VILLENEUVE D'ASCQ","Poules","2014-2015",null,null,null,null,0,null,0]
["KERKHOF Hervé","WASYLYSZYN Jean-pierre","G",2,0,120,67,"2015-03-14","R1 CD59 T3 VILLENEUVE D'ASCQ","1/4 Finale","2014-2015",null,null,null,null,0,null,0]
["KERKHOF Hervé","LECROART Serge","P",1,2,157,154,"2015-03-14","R1 CD59 T3 VILLENEUVE D'ASCQ","1/2 Finale","2014-2015",null,null,null,null,0,null,0]
["KERKHOF Hervé","ST MAXENT Stéphane","G",3,0,180,98,"2015-04-05","FINALE CD59 R1 FACHES THUMESNIL","Poules","2014-2015",null,null,null,null,0,null,0]
["KERKHOF Hervé","MONFLIER Francis","G",3,0,180,125,"2015-04-05","FINALE CD59 R1 FACHES THUMESNIL","Poules","2014-2015",null,null,null,null,0,null,0]
["KERKHOF Hervé","LECROART Serge","G",3,0,180,133,"2015-04-05","FINALE CD59 R1 FACHES THUMESNIL","1/2 Finale","2014-2015",null,null,null,null,0,null,0]
["KERKHOF Hervé","HINGRAND Tony","P",2,3,241,265,"2015-04-05","FINALE CD59 R1 FACHES THUMESNIL","Finale","2014-2015",null,null,null,null,0,null,0]
["KERKHOF Hervé","MARTEL Bruno","G",3,1,206,176,"2015-04-19","FINALE LIGUE R1 GRAVELINES","Poules","2014-2015",null,null,null,null,0,null,0]
["KERKHOF Hervé","PIERRU Didier","G",3,2,277,263,"2015-04-19","FINALE LIGUE R1 GRAVELINES","Poules","2014-2015",null,null,null,null,0,null,0]
["KERKHOF Hervé","TRIPLET Freddy","P",2,3,192,259,"2015-04-19","FINALE LIGUE R1 GRAVELINES","1/2 Finale","2014-2015",null,null,null,null,0,null,0]
["KERKHOF Hervé","PIERRU Didier","P",2,3,228,259,"2015-04-19","FINALE LIGUE R1 GRAVELINES","3ème 4ème","2014-2015",null,null,null,null,0,null,0]
["KERKHOF Hervé","ESTERMANS Bernard","P",0,2,100,120,"2018-10-20","T1 5Q R1 CD59 - DUNKERQUE","Qualifications","2018-2019",null,null,null,null,0,null,0]
["KERKHOF Hervé","LECROART Serge","G",2,0,120,92,"2018-10-20","T1 5Q R1 CD59 - DUNKERQUE","Qualifications","2018-2019",null,null,null,null,0,null,0]
["KERKHOF Hervé","MONFLIER Francis","P",0,1,92,100,"2018-10-20","T1 5Q R1 CD59 - CONSOLANTE - DUNKERQUE","Qualifications","2018-2019",null,null,null,null,0,null,0]
["KERKHOF Hervé","DEREUDDRE Dominique","G",1,0,100,61,"2018-12-16","T3 5Q R1 CD59  - DUNKERQUE - CONSOLANTE","Qualifications","2018-2019",null,null,null,null,0,null,0]
["KERKHOF Hervé","DUTAILLY Michel","G",1,0,100,68,"2018-12-16","T3 5Q R1 CD59  - DUNKERQUE - CONSOLANTE","Qualifications","2018-2019",null,null,null,null,0,null,0]
["KERKHOF Hervé","ESTERMANS Bernard","P",0,1,75,100,"2018-12-16","T3 5Q R1 CD59  - DUNKERQUE - CONSOLANTE","Qualifications","2018-2019",null,null,null,null,0,null,0]
["KERKHOF Hervé","LORTHIOIR Jean-Luc","P",0,1,85,100,"2018-12-16","T3 5Q R1 CD59  - DUNKERQUE - CONSOLANTE","Qualifications","2018-2019",null,null,null,null,0,null,0]
["KERKHOF Hervé","LORTHIOIR Jean-Luc","G",2,0,120,100,"2018-12-16","T3 5Q R1 CD59  - DUNKERQUE","Qualifications","2018-2019",null,null,null,null,0,null,0]
["KERKHOF Hervé","PAILLARD Bertrand","P",0,2,79,120,"2018-12-16","T3 5Q R1 CD59  - DUNKERQUE","Qualifications","2018-2019",null,null,null,null,0,null,0]
["KERKHOF Hervé","BEGHIN Nicolas","G",2,0,120,105,"2019-11-24","T2 5Q R1 CD59 - GRAVELINES ","Qualifications","2019-2020",null,null,null,null,0,null,0]
["KERKHOF Hervé","HORNAIN Denis","P",0,2,89,120,"2019-11-24","T2 5Q R1 CD59 - GRAVELINES ","Qualifications","2019-2020",null,null,null,null,0,null,0]
["KERKHOF Hervé","DEREUDDRE Dominique","P",1,2,136,153,"2020-01-04","T3 5Q R1 CD59 - GRAVELINES - Convocation 8h30 -","Qualifications","2019-2020",null,null,null,null,0,null,0]
["KERKHOF Hervé","DEVOS Jackie","P",0,2,74,120,"2020-01-04","T3 5Q R1 CD59 - GRAVELINES - Convocation 8h30 -","Qualifications","2019-2020",null,null,null,null,0,null,0]
["KERKHOF Hervé","BEGHIN Benjamin","G",1,0,100,53,"2021-12-18","T2 5Q R1 - GRAVELINES - CONVOCATON 8h30","Finale","2021-2022",null,null,null,null,1,null,0]
["KERKHOF Hervé","DUC Stéphane","G",1,0,100,87,"2021-12-18","T2 5Q R1 - GRAVELINES - CONVOCATON 8h30","1/2 Finale","2021-2022",null,null,null,null,1,null,0]
["KERKHOF Hervé","LE GOHEBEL Jacques","G",1,0,100,60,"2021-12-18","T2 5Q R1 - GRAVELINES - CONVOCATON 8h30","Qualifications","2021-2022",null,null,null,null,1,null,0]
["KERKHOF Hervé","MONFLIER Francis","G",1,0,100,53,"2021-12-18","T2 5Q R1 - GRAVELINES - CONVOCATON 8h30","Qualifications","2021-2022",null,null,null,null,1,null,0]
["KERKHOF Hervé","MONFLIER Francis","G",1,0,100,94,"2021-12-18","T2 5Q R1 - GRAVELINES - CONVOCATON 8h30","1/4 Finale","2021-2022",null,null,null,null,1,null,0]
["KERKHOF Hervé","BEGHIN Benjamin","P",0,1,51,100,"2022-02-26","T3 5Q R1 - GRAVELINES ","1/2 Finale","2021-2022",null,null,null,null,0,null,0]
["KERKHOF Hervé","HOCHART James","G",1,0,100,99,"2022-02-26","T3 5Q R1 - GRAVELINES ","1/4 Finale","2021-2022",null,null,null,null,1,null,0]
["KERKHOF Hervé","LORTHIOIR Jean-Luc","P",0,1,89,100,"2022-02-26","T3 5Q R1 - GRAVELINES ","Qualifications","2021-2022",null,null,null,null,0,null,0]
["KERKHOF Hervé","PARENT Jean-René","G",1,0,100,39,"2022-02-26","T3 5Q R1 - GRAVELINES ","Qualifications","2021-2022",null,null,null,null,1,null,0]
["KERKHOF Hervé","LECROART Serge","G",1,0,100,80,"2022-04-02","T4 5Q R1 - ANNOEULLIN","1/4 Finale","2021-2022",null,null,null,null,1,null,0]
["KERKHOF Hervé","LORTHIOIR Jean-Luc","G",1,0,100,62,"2022-04-02","T4 5Q R1 - ANNOEULLIN","Qualifications","2021-2022",null,null,null,null,1,null,0]
["KERKHOF Hervé","LORTHIOIR Jean-Luc","P",0,1,77,100,"2022-04-02","T4 5Q R1 - ANNOEULLIN","1/2 Finale","2021-2022",null,null,null,null,0,null,0]
["KERKHOF Hervé","MACAREZ Guy","G",1,0,100,50,"2022-04-02","T4 5Q R1 - ANNOEULLIN","Qualifications","2021-2022",null,null,null,null,1,null,0]
["KERKHOF Hervé","BEGHIN Benjamin","P",1,2,167,178,"2022-05-08","Finale CD59 5Q R1 - VILLENEUVE D'ASCQ","1/2 Finale","2021-2022",null,null,null,null,0,null,0]
["KERKHOF Hervé","BEGHIN Nicolas","G",2,1,166,134,"2022-05-08","Finale CD59 5Q R1 - VILLENEUVE D'ASCQ","Qualifications","2021-2022",null,null,null,null,1,null,0]
["KERKHOF Hervé","DUC Stéphane","P",1,2,149,172,"2022-05-08","Finale CD59 5Q R1 - VILLENEUVE D'ASCQ","Qualifications","2021-2022",null,null,null,null,0,null,0]
["KERKHOF Hervé","CAVITTE Jean-Pierre","G",1,0,100,43,"2022-10-30","T2 5Q R1 - GRAVELINES","Qualifications","2022-2023",null,null,null,null,0,null,1]
["KERKHOF Hervé","PAILLARD Bertrand","G",1,0,100,60,"2022-10-30","T2 5Q R1 - GRAVELINES","Qualifications","2022-2023",null,null,null,null,0,null,1]
["KERKHOF Hervé","PAILLARD Bertrand","P",0,1,93,100,"2022-10-30","T2 5Q R1 - GRAVELINES","1/4 Finale","2022-2023",null,null,null,null,0,null,0]
["Fin des données",null,null,null,null,null,null,null,null,null,"",null,null,null,null,{"$f":"IF($K70=P$1,COUNTIF($C70,\"G\"),0)","v":0},null,{"$f":"IF($K70=R$1,COUNTIF($C70,\"G\"),0)","v":0}]

{"sheet":"KUZMA Régis","index":90,"n_rows":22,"n_cols":22,"rows_kept":22,"cut":false,"hidden":false,"merged":[]}
["KUZMA Régis",null,null,null,null,null,null,null,null,null,null,null,null,null,null,{"$f":"SaisonDeb","v":"2021-2022"},null,{"$f":"SaisonFin","v":"2022-2023"},null,"Toutes saisons"]
[{"$error":"#N/A"},null,null,null,null,null,null,null,null,null,null,null,null,null,null,"Nombre","%age","Nombre","%age","Nombre","%age"]
[{"$error":"#N/A"},null,null,null,null,null,null,null,null,null,null,null,null,"Matchs","Gagnés",{"$f":"SUM(P$15:P$118)","v":0},{"$f":"IF(P$3+P$4>0,P3/(P$3+P$4),\"\")","v":""},{"$f":"SUM(R$15:R$118)","v":2},{"$f":"IF(R$3+R$4>0,R3/(R$3+R$4),\"\")","v":0.33333333333333331},{"$f":"COUNTIF($C$15:$C$118,\"G\")","v":2},{"$f":"IF(T$3+T$4>0,T3/(T$3+T$4),\"\")","v":0.33333333333333331}]
[{"$error":"#N/A"},null,null,null,null,null,null,null,null,null,null,null,null,null,"Perdus",{"$f":"COUNTIF($K$15:$M$118,SaisonDeb)-P3","v":0},{"$f":"IF(P$3+P$4>0,P4/(P$3+P$4),\"\")","v":""},{"$f":"COUNTIF($K$15:$K$118,SaisonFin)-R3","v":4},{"$f":"IF(R$3+R$4>0,R4/(R$3+R$4),\"\")","v":0.66666666666666663},{"$f":"COUNTIF($C$15:$C$118,\"P\")","v":4},{"$f":"IF(T$3+T$4>0,T4/(T$3+T$4),\"\")","v":0.66666666666666663}]
[{"$error":"#N/A"},null,null,null,null,null,null,null,null,null,null,null,null,null,"Total / Moy.",{"$f":"SUM(P3:P4)","v":0},{"$f":"IF(SUMIF($K$15:$K$118,SaisonDeb,$G$15:$G$118)>0,SUMIF($K$15:$K$118,SaisonDeb,$F$15:$F$118)/SUMIF($K$15:$K$118,SaisonDeb,$G$15:$G$118),\"\")","v":""},{"$f":"SUM(R3:R4)","v":6},{"$f":"IF(SUMIF($K$15:$K$118,SaisonFin,$G$15:$G$118)>0,SUMIF($K$15:$K$118,SaisonFin,$F$15:$F$118)/SUMIF($K$15:$K$118,SaisonFin,$G$15:$G$118),\"\")","v":0.96015936254980083},{"$f":"SUM(T3:T4)","v":6},{"$f":"IF(SUM($G$15:$G$118)>0,SUM($F$15:$F$118)/SUM($G$15:$G$118),\"\")","v":0.96015936254980083},{"$f":"IF(SUMIF($K$15:$K$22,SaisonDeb,$G$15:$G$22)+SUMIF($K$15:$K$22,SaisonFin,$G$15:$G$22)>0,(SUMIF($K$15:$K$22,SaisonDeb,$F$15:$F$22)+SUMIF($K$15:$K$22,SaisonFin,$F$15:$F$22))/(SUMIF($K$15:$K$22,SaisonDeb,$G$15:$G$22)+SUMIF($K$15:$K$22,SaisonFin,$G$15:$G$22)),\"\")","v":0.96015936254980083}]
[null,null,null,null,null,null,null,null,null,null,null,null,null,"Sets","Gagnés",{"$f":"SUMIF($K$15:$K$118,SaisonDeb,$D$15:$D$118)","v":0},{"$f":"IF(P$6+P$7>0,P6/(P$6+P$7),\"\")","v":""},{"$f":"SUMIF($K$15:$K$118,SaisonFin,$D$15:$D$118)","v":7},{"$f":"IF(R$6+R$7>0,R6/(R$6+R$7),\"\")","v":0.46666666666666667},{"$f":"SUM($D$15:$D$118)","v":7},{"$f":"IF(T$6+T$7>0,T6/(T$6+T$7),\"\")","v":0.46666666666666667}]
[null,null,null,null,null,null,null,null,null,null,null,null,null,null,"Perdus",{"$f":"SUMIF($K$15:$K$118,SaisonDeb,$E$15:$E$118)","v":0},{"$f":"IF(P$6+P$7>0,P7/(P$6+P$7),\"\")","v":""},{"$f":"SUMIF($K$15:$K$118,SaisonFin,$E$15:$E$118)","v":8},{"$f":"IF(R$6+R$7>0,R7/(R$6+R$7),\"\")","v":0.53333333333333333},{"$f":"SUM($E$15:$E$118)","v":8},{"$f":"IF(T$6+T$7>0,T7/(T$6+T$7),\"\")","v":0.53333333333333333}]
["Récapitulatif joueurs",null,null,null,null,null,null,null,null,null,null,null,null,null,"Total",{"$f":"SUM(P6:P7)","v":0},null,{"$f":"SUM(R6:R7)","v":15},null,{"$f":"SUM(T6:T7)","v":15}]
[]
[]
[]
[]
[]
[]
["Joueur","Adversaire","G/P","Sets gagnés","Sets perdus","pts marqués","pts subis","Date","Compétition","Phase","Saison"]
["KUZMA Régis","BUTTI EmIlie","G",2,0,120,87,"2023-01-28","T2 CD02 R1   poule 2 - SAINT QUENTIN","Qualifications",{"$f":"IF(H16<>\"\",IF(MONTH(H16)>MoisRef,YEAR(H16)&\"-\"&YEAR(H16)+1,YEAR(H16)-1&\"-\"&YEAR(H16)),\"\")","v":"2022-2023"},null,null,null,null,{"$f":"IF($K16=P$1,COUNTIF($C16,\"G\"),0)","v":0},null,{"$f":"IF($K16=R$1,COUNTIF($C16,\"G\"),0)","v":1}]
["KUZMA Régis","SCHERER Didier","G",2,0,168,91,"2023-01-28","T2 CD02 R1   poule 2 - SAINT QUENTIN","Qualifications","2022-2023",null,null,null,null,0,null,1]
["KUZMA Régis","BUTTI EmIlie","P",1,2,122,167,"2023-03-25","T3 CD02 R1 - SAINT QUENTIN","Qualifications","2022-2023",null,null,null,null,0,null,0]
["KUZMA Régis","FRANCOIS Bernard","P",1,2,142,140,"2023-03-25","T3 CD02 R1 - SAINT QUENTIN","Qualifications","2022-2023",null,null,null,null,0,null,0]
["KUZMA Régis","LEFEVRE  Alexandre","P",0,2,35,120,"2023-03-25","T3 CD02 R1 - SAINT QUENTIN","Qualifications","2022-2023",null,null,null,null,0,null,0]
["KUZMA Régis","SCHERER Didier","P",1,2,136,148,"2023-03-25","T3 CD02 R1 - SAINT QUENTIN","Qualifications","2022-2023",null,null,null,null,0,null,0]
["Fin des données",null,null,null,null,null,null,null,null,null,"",null,null,null,null,{"$f":"IF($K22=P$1,COUNTIF($C22,\"G\"),0)","v":0},null,{"$f":"IF($K22=R$1,COUNTIF($C22,\"G\"),0)","v":0}]

{"sheet":"LALOT Gérard","index":91,"n_rows":76,"n_cols":22,"rows_kept":76,"cut":false,"hidden":false,"merged":[]}
["LALOT Gérard",null,null,null,null,null,null,null,null,null,null,null,null,null,null,{"$f":"SaisonDeb","v":"2021-2022"},null,{"$f":"SaisonFin","v":"2022-2023"},null,"Toutes saisons"]
[{"$error":"#N/A"},null,null,null,null,null,null,null,null,null,null,null,null,null,null,"Nombre","%age","Nombre","%age","Nombre","%age"]
[{"$error":"#N/A"},null,null,null,null,null,null,null,null,null,null,null,null,"Matchs","Gagnés",{"$f":"SUM(P$15:P$172)","v":0},{"$f":"IF(P$3+P$4>0,P3/(P$3+P$4),\"\")","v":""},{"$f":"SUM(R$15:R$172)","v":0},{"$f":"IF(R$3+R$4>0,R3/(R$3+R$4),\"\")","v":""},{"$f":"COUNTIF($C$15:$C$172,\"G\")","v":38},{"$f":"IF(T$3+T$4>0,T3/(T$3+T$4),\"\")","v":0.6333333333333333}]
[{"$error":"#N/A"},null,null,null,null,null,null,null,null,null,null,null,null,null,"Perdus",{"$f":"COUNTIF($K$15:$M$172,SaisonDeb)-P3","v":0},{"$f":"IF(P$3+P$4>0,P4/(P$3+P$4),\"\")","v":""},{"$f":"COUNTIF($K$15:$K$172,SaisonFin)-R3","v":0},{"$f":"IF(R$3+R$4>0,R4/(R$3+R$4),\"\")","v":""},{"$f":"COUNTIF($C$15:$C$172,\"P\")","v":22},{"$f":"IF(T$3+T$4>0,T4/(T$3+T$4),\"\")","v":0.36666666666666664}]
[{"$error":"#N/A"},null,null,null,null,null,null,null,null,null,null,null,null,null,"Total / Moy.",{"$f":"SUM(P3:P4)","v":0},{"$f":"IF(SUMIF($K$15:$K$172,SaisonDeb,$G$15:$G$172)>0,SUMIF($K$15:$K$172,SaisonDeb,$F$15:$F$172)/SUMIF($K$15:$K$172,SaisonDeb,$G$15:$G$172),\"\")","v":""},{"$f":"SUM(R3:R4)","v":0},{"$f":"IF(SUMIF($K$15:$K$172,SaisonFin,$G$15:$G$172)>0,SUMIF($K$15:$K$172,SaisonFin,$F$15:$F$172)/SUMIF($K$15:$K$172,SaisonFin,$G$15:$G$172),\"\")","v":""},{"$f":"SUM(T3:T4)","v":60},{"$f":"IF(SUM($G$15:$G$172)>0,SUM($F$15:$F$172)/SUM($G$15:$G$172),\"\")","v":1.1707509881422924},{"$f":"IF(SUMIF($K$15:$K$76,SaisonDeb,$G$15:$G$76)+SUMIF($K$15:$K$76,SaisonFin,$G$15:$G$76)>0,(SUMIF($K$15:$K$76,SaisonDeb,$F$15:$F$76)+SUMIF($K$15:$K$76,SaisonFin,$F$15:$F$76))/(SUMIF($K$15:$K$76,SaisonDeb,$G$15:$G$76)+SUMIF($K$15:$K$76,SaisonFin,$G$15:$G$76)),\"\")","v":""}]
[null,null,null,null,null,null,null,null,null,null,null,null,null,"Sets","Gagnés",{"$f":"SUMIF($K$15:$K$172,SaisonDeb,$D$15:$D$172)","v":0},{"$f":"IF(P$6+P$7>0,P6/(P$6+P$7),\"\")","v":""},{"$f":"SUMIF($K$15:$K$172,SaisonFin,$D$15:$D$172)","v":0},{"$f":"IF(R$6+R$7>0,R6/(R$6+R$7),\"\")","v":""},{"$f":"SUM($D$15:$D$172)","v":77},{"$f":"IF(T$6+T$7>0,T6/(T$6+T$7),\"\")","v":0.5968992248062015}]
[null,null,null,null,null,null,null,null,null,null,null,null,null,null,"Perdus",{"$f":"SUMIF($K$15:$K$172,SaisonDeb,$E$15:$E$172)","v":0},{"$f":"IF(P$6+P$7>0,P7/(P$6+P$7),\"\")","v":""},{"$f":"SUMIF($K$15:$K$172,SaisonFin,$E$15:$E$172)","v":0},{"$f":"IF(R$6+R$7>0,R7/(R$6+R$7),\"\")","v":""},{"$f":"SUM($E$15:$E$172)","v":52},{"$f":"IF(T$6+T$7>0,T7/(T$6+T$7),\"\")","v":0.40310077519379844}]
["Récapitulatif joueurs",null,null,null,null,null,null,null,null,null,null,null,null,null,"Total",{"$f":"SUM(P6:P7)","v":0},null,{"$f":"SUM(R6:R7)","v":0},null,{"$f":"SUM(T6:T7)","v":129}]
[]
[]
[]
[]
[]
[]
["Joueur","Adversaire","G/P","Sets gagnés","Sets perdus","pts marqués","pts subis","Date","Compétition","Phase","Saison"]
["LALOT Gérard","BOUIGES Armelle","G",1,0,100,88,"2016-10-22","5Q  CD60 R1 - T 1 -CREPY","Tour 3",{"$f":"IF(H16<>\"\",IF(MONTH(H16)>MoisRef,YEAR(H16)&\"-\"&YEAR(H16)+1,YEAR(H16)-1&\"-\"&YEAR(H16)),\"\")","v":"2016-2017"},null,null,null,null,{"$f":"IF($K16=P$1,COUNTIF($C16,\"G\"),0)","v":0},null,{"$f":"IF($K16=R$1,COUNTIF($C16,\"G\"),0)","v":0}]
["LALOT Gérard","BOUIGES Armelle","P",0,1,97,100,"2016-10-22","5Q  CD60 R1 - T 1 -CREPY","Tour 4","2016-2017",null,null,null,null,0,null,0]
["LALOT Gérard","BOUIGES Armelle","G",1,0,100,69,"2016-11-26","5Q  CD60 R1 - T 2 - SENLIS","Tour 4","2016-2017",null,null,null,null,0,null,0]
["LALOT Gérard","STEINMANN Sébastien","P",0,2,78,120,"2017-03-18","5Q  CD60 R1 - Finale R1","Poule unique","2016-2017",null,null,null,null,0,null,0]
["LALOT Gérard","DIOT Alain","G",2,0,120,48,"2017-03-18","5Q  CD60 R1 - Finale R1","Poule unique","2016-2017",null,null,null,null,0,null,0]
["LALOT Gérard","DUCHATEAU Jean-Pierre","G",2,0,120,87,"2017-03-18","5Q  CD60 R1 - Finale R1","Poule unique","2016-2017",null,null,null,null,0,null,0]
["LALOT Gérard","BOUIGES Armelle","G",3,0,180,69,"2018-02-17","FINALE OISE - CREPY","Qualifications","2017-2018",null,null,null,null,0,null,0]
["LALOT Gérard","FAURE Stéphane","P",1,3,177,203,"2018-02-17","FINALE OISE - CREPY","Qualifications","2017-2018",null,null,null,null,0,null,0]
["LALOT Gérard","MARTIN Denis","P",2,3,244,277,"2018-02-17","FINALE OISE - CREPY","Qualifications","2017-2018",null,null,null,null,0,null,0]
["LALOT Gérard","FAURE Stéphane","P",0,2,36,120,"2017-09-30","T 1 OISE - CREPY","Qualifications","2017-2018",null,null,null,null,0,null,0]
["LALOT Gérard","FAURE Stéphane","P",0,2,86,120,"2017-09-30","T 1 OISE - CREPY","Finale","2017-2018",null,null,null,null,0,null,0]
["LALOT Gérard","MARTIN Denis","G",2,0,120,48,"2017-09-30","T 1 OISE - CREPY","1/2 Finale","2017-2018",null,null,null,null,0,null,0]
["LALOT Gérard","TALEC Pierre","G",2,0,120,57,"2017-09-30","T 1 OISE - CREPY","Qualifications","2017-2018",null,null,null,null,0,null,0]
["LALOT Gérard","DESCLAIR Guy","G",2,1,170,148,"2017-10-21","T 2 OISE - SENLIS","Qualifications","2017-2018",null,null,null,null,0,null,0]
["LALOT Gérard","DESCLAIR Guy","G",2,1,153,119,"2017-10-21","T 2 OISE - SENLIS","1/2 Finale","2017-2018",null,null,null,null,0,null,0]
["LALOT Gérard","FAURE Stéphane","G",2,0,120,84,"2017-10-21","T 2 OISE - SENLIS","Finale","2017-2018",null,null,null,null,0,null,0]
["LALOT Gérard","LAMARQUE Yves","G",2,0,120,48,"2017-10-21","T 2 OISE - SENLIS","Qualifications","2017-2018",null,null,null,null,0,null,0]
["LALOT Gérard","MURIOT Jean-Pierre","G",2,1,173,130,"2017-10-21","T 2 OISE - SENLIS","Qualifications","2017-2018",null,null,null,null,0,null,0]
["LALOT Gérard","MARTIN Denis","P",1,2,162,163,"2017-11-25","T 3 OISE - MERU","Qualifications","2017-2018",null,null,null,null,0,null,0]
["LALOT Gérard","MARTIN Denis","P",0,2,95,120,"2017-11-25","T 3 OISE - MERU","1/2 Finale","2017-2018",null,null,null,null,0,null,0]
["LALOT Gérard","TALEC Pierre","G",2,0,120,45,"2017-11-25","T 3 OISE - MERU","Qualifications","2017-2018",null,null,null,null,0,null,0]
["LALOT Gérard","VANDEPUTTE Laurent","G",2,0,120,86,"2017-11-25","T 3 OISE - MERU","Qualifications","2017-2018",null,null,null,null,0,null,0]
["LALOT Gérard","FAURE Stéphane","P",0,2,84,120,"2018-01-06","T 4 OISE - VILLERS","1/4 Finale","2017-2018",null,null,null,null,0,null,0]
["LALOT Gérard","MURIOT Jean-Pierre","P",1,2,118,165,"2018-01-06","T 4 OISE - VILLERS","Qualifications","2017-2018",null,null,null,null,0,null,0]
["LALOT Gérard","TALEC Pierre","G",2,0,120,90,"2018-01-06","T 4 OISE - VILLERS","Qualifications","2017-2018",null,null,null,null,0,null,0]
["LALOT Gérard","DESCLAIR Guy","G",2,0,120,64,"2018-09-29","5 Q - T 1 OISE 2018-19 - R 1 - TOURNOI PRINCIPAL  - CREPY","1/2 Finale","2018-2019",null,null,null,null,0,null,0]
["LALOT Gérard","GROSS Xavier","G",2,0,120,111,"2018-09-29","5 Q - T 1 OISE 2018-19 - R 1 - TOURNOI PRINCIPAL  - CREPY","Qualifications","2018-2019",null,null,null,null,0,null,0]
["LALOT Gérard","LAMARQUE Yves","G",2,0,120,74,"2018-09-29","5 Q - T 1 OISE 2018-19 - R 1 - TOURNOI PRINCIPAL  - CREPY","1/4 Finale","2018-2019",null,null,null,null,0,null,0]
["LALOT Gérard","VANDEPUTTE Laurent","P",0,2,90,120,"2018-09-29","5 Q - T 1 OISE 2018-19 - R 1 - TOURNOI PRINCIPAL  - CREPY","Qualifications","2018-2019",null,null,null,null,0,null,0]
["LALOT Gérard","VANDEPUTTE Laurent","G",2,0,120,79,"2018-09-29","5 Q - T 1 OISE 2018-19 - R 1 - TOURNOI PRINCIPAL  - CREPY","Finale","2018-2019",null,null,null,null,0,null,0]
["LALOT Gérard","BOUIGES Armelle","G",2,0,120,29,"2018-10-27","5 Q - T 2 OISE 2018-19 - R 1 - TOURNOI PRINCIPAL  - VILLERS","Qualifications","2018-2019",null,null,null,null,0,null,0]
["LALOT Gérard","DIOT Alain","G",2,0,120,89,"2018-10-27","5 Q - T 2 OISE 2018-19 - R 1 - TOURNOI PRINCIPAL  - VILLERS","1/4 Finale","2018-2019",null,null,null,null,0,null,0]
["LALOT Gérard","GROSS Xavier","G",2,0,120,22,"2018-10-27","5 Q - T 2 OISE 2018-19 - R 1 - TOURNOI PRINCIPAL  - VILLERS","Qualifications","2018-2019",null,null,null,null,0,null,0]
["LALOT Gérard","VANDEPUTTE Laurent","P",0,2,88,120,"2018-10-27","5 Q - T 2 OISE 2018-19 - R 1 - TOURNOI PRINCIPAL  - VILLERS","1/2 Finale","2018-2019",null,null,null,null,0,null,0]
["LALOT Gérard","ALAZARD Philippe","G",2,0,120,74,"2018-11-24","5 Q - T 3 OISE 2018-19 - R 1 - TOURNOI PRINCIPAL  - MERU","1/2 Finale","2018-2019",null,null,null,null,0,null,0]
["LALOT Gérard","AZRIA  Aaron","G",2,0,120,67,"2018-11-24","5 Q - T 3 OISE 2018-19 - R 1 - TOURNOI PRINCIPAL  - MERU","Qualifications","2018-2019",null,null,null,null,0,null,0]
["LALOT Gérard","CHENAL Gérard","G",2,1,175,144,"2018-11-24","5 Q - T 3 OISE 2018-19 - R 1 - TOURNOI PRINCIPAL  - MERU","Qualifications","2018-2019",null,null,null,null,0,null,0]
["LALOT Gérard","CHENAL Gérard","G",2,1,162,140,"2018-11-24","5 Q - T 3 OISE 2018-19 - R 1 - TOURNOI PRINCIPAL  - MERU","1/4 Finale","2018-2019",null,null,null,null,0,null,0]
["LALOT Gérard","STEINMANN Sébastien","G",2,1,167,148,"2018-11-24","5 Q - T 3 OISE 2018-19 - R 1 - TOURNOI PRINCIPAL  - MERU","Finale","2018-2019",null,null,null,null,0,null,0]
["LALOT Gérard","ALAZARD Philippe","P",0,2,68,120,"2019-01-19","5 Q - T 4 OISE 2018-19 - R 1 - TOURNOI PRINCIPAL  - CHAMBLY","1/2 Finale","2018-2019",null,null,null,null,0,null,0]
["LALOT Gérard","BOUIGES Armelle","G",2,1,177,126,"2019-01-19","5 Q - T 4 OISE 2018-19 - R 1 - TOURNOI PRINCIPAL  - CHAMBLY","Qualifications","2018-2019",null,null,null,null,0,null,0]
["LALOT Gérard","TALEC Pierre","G",2,1,167,149,"2019-01-19","5 Q - T 4 OISE 2018-19 - R 1 - TOURNOI PRINCIPAL  - CHAMBLY","Qualifications","2018-2019",null,null,null,null,0,null,0]
["LALOT Gérard","DESCLAIR Guy","P",1,2,136,177,"2019-02-23","FINALE OISE 2018-19 - R 1 - SENLIS","Poule unique","2018-2019",null,null,null,null,0,null,0]
["LALOT Gérard","STEINMANN Sébastien","P",0,2,104,120,"2019-02-23","FINALE OISE 2018-19 - R 1 - SENLIS","Poule unique","2018-2019",null,null,null,null,0,null,0]
["LALOT Gérard","VANDEPUTTE Laurent","P",1,2,134,166,"2019-02-23","FINALE OISE 2018-19 - R 1 - SENLIS","Poule unique","2018-2019",null,null,null,null,0,null,0]
["LALOT Gérard","BOURGOGNE Claude","P",1,2,158,170,"2019-10-19","CD60  R1 - T1 - Tour Principal - BEAUVAIS","1/4 Finale","2019-2020",null,null,null,null,0,null,0]
["LALOT Gérard","LAMARQUE Yves","P",1,2,158,169,"2019-10-19","CD60  R1 - T1 - Tour Principal - BEAUVAIS","Qualifications","2019-2020",null,null,null,null,0,null,0]
["LALOT Gérard","LAMARQUE Yves","P",1,2,164,173,"2019-10-19","CD60  R1 - T1 - Tour Principal - BEAUVAIS","Qualifications","2019-2020",null,null,null,null,0,null,0]
["LALOT Gérard","BOURGOGNE Claude","G",1,0,100,54,"2020-01-11","CD60  R1 - T3 - Tour Principal - CREPY","1/2 Finale","2019-2020",null,null,null,null,0,null,0]
["LALOT Gérard","COUPLET Sébastien","G",1,0,100,38,"2020-01-11","CD60  R1 - T3 - Tour Principal - CREPY","Qualifications","2019-2020",null,null,null,null,0,null,0]
["LALOT Gérard","COUPLET Valentin","G",1,0,100,49,"2020-01-11","CD60  R1 - T3 - Tour Principal - CREPY","1/4 Finale","2019-2020",null,null,null,null,0,null,0]
["LALOT Gérard","DESCLAIR Guy","P",0,1,81,100,"2020-01-11","CD60  R1 - T3 - Tour Principal - CREPY","Qualifications","2019-2020",null,null,null,null,0,null,0]
["LALOT Gérard","LE FRIEC Daniel","P",0,1,95,100,"2020-01-11","CD60  R1 - T3 - Tour Principal - CREPY","Finale","2019-2020",null,null,null,null,0,null,0]
["LALOT Gérard","BOZON Robert","G",1,0,100,77,"2020-02-15","CD60  R1 - T 4 - Tour Principal - SENLIS","Qualifications","2019-2020",null,null,null,null,0,null,0]
["LALOT Gérard","DUCHATEAU Jean-Pierre","G",1,0,100,60,"2020-02-15","CD60  R1 - T 4 - Tour Principal - SENLIS","Qualifications","2019-2020",null,null,null,null,0,null,0]
["LALOT Gérard","GEOFFROY Florent","G",1,0,100,75,"2020-02-15","CD60  R1 - T 4 - Tour Principal - SENLIS","1/4 Finale","2019-2020",null,null,null,null,0,null,0]
["LALOT Gérard","LAMARQUE Yves","G",1,0,100,66,"2020-02-15","CD60  R1 - T 4 - Tour Principal - SENLIS","1/2 Finale","2019-2020",null,null,null,null,0,null,0]
["LALOT Gérard","LE FRIEC Daniel","G",1,0,100,64,"2020-02-15","CD60  R1 - T 4 - Tour Principal - SENLIS","Finale","2019-2020",null,null,null,null,0,null,0]
["LALOT Gérard","LE FRIEC Daniel","P",0,2,92,120,"2019-11-23","CD60  R1 - T2 - Tour Principal - MERU","Qualifications","2019-2020",null,null,null,null,0,null,0]
["LALOT Gérard","VASSEUR Francis","G",2,1,176,147,"2019-11-23","CD60  R1 - T2 - Tour Principal - MERU","Qualifications","2019-2020",null,null,null,null,0,null,0]
["Fin des données",null,null,null,null,null,null,null,null,null,"",null,null,null,null,{"$f":"IF($K76=P$1,COUNTIF($C76,\"G\"),0)","v":0},null,{"$f":"IF($K76=R$1,COUNTIF($C76,\"G\"),0)","v":0}]

{"sheet":"LAMARQUE Yves","index":92,"n_rows":93,"n_cols":22,"rows_kept":93,"cut":false,"hidden":false,"merged":[]}
["LAMARQUE Yves",null,null,null,null,null,null,null,null,null,null,null,null,null,null,{"$f":"SaisonDeb","v":"2021-2022"},null,{"$f":"SaisonFin","v":"2022-2023"},null,"Toutes saisons"]
[{"$error":"#N/A"},null,null,null,null,null,null,null,null,null,null,null,null,null,null,"Nombre","%age","Nombre","%age","Nombre","%age"]
[{"$error":"#N/A"},null,null,null,null,null,null,null,null,null,null,null,null,"Matchs","Gagnés",{"$f":"SUM(P$15:P$189)","v":6},{"$f":"IF(P$3+P$4>0,P3/(P$3+P$4),\"\")","v":0.5},{"$f":"SUM(R$15:R$189)","v":6},{"$f":"IF(R$3+R$4>0,R3/(R$3+R$4),\"\")","v":0.35294117647058826},{"$f":"COUNTIF($C$15:$C$189,\"G\")","v":30},{"$f":"IF(T$3+T$4>0,T3/(T$3+T$4),\"\")","v":0.38961038961038963}]
[{"$error":"#N/A"},null,null,null,null,null,null,null,null,null,null,null,null,null,"Perdus",{"$f":"COUNTIF($K$15:$M$189,SaisonDeb)-P3","v":6},{"$f":"IF(P$3+P$4>0,P4/(P$3+P$4),\"\")","v":0.5},{"$f":"COUNTIF($K$15:$K$189,SaisonFin)-R3","v":11},{"$f":"IF(R$3+R$4>0,R4/(R$3+R$4),\"\")","v":0.6470588235294118},{"$f":"COUNTIF($C$15:$C$189,\"P\")","v":47},{"$f":"IF(T$3+T$4>0,T4/(T$3+T$4),\"\")","v":0.61038961038961037}]
[{"$error":"#N/A"},null,null,null,null,null,null,null,null,null,null,null,null,null,"Total / Moy.",{"$f":"SUM(P3:P4)","v":12},{"$f":"IF(SUMIF($K$15:$K$189,SaisonDeb,$G$15:$G$189)>0,SUMIF($K$15:$K$189,SaisonDeb,$F$15:$F$189)/SUMIF($K$15:$K$189,SaisonDeb,$G$15:$G$189),\"\")","v":1.0652528548123981},{"$f":"SUM(R3:R4)","v":17},{"$f":"IF(SUMIF($K$15:$K$189,SaisonFin,$G$15:$G$189)>0,SUMIF($K$15:$K$189,SaisonFin,$F$15:$F$189)/SUMIF($K$15:$K$189,SaisonFin,$G$15:$G$189),\"\")","v":0.93152117093570308},{"$f":"SUM(T3:T4)","v":77},{"$f":"IF(SUM($G$15:$G$189)>0,SUM($F$15:$F$189)/SUM($G$15:$G$189),\"\")","v":0.90654205607476634},{"$f":"IF(SUMIF($K$15:$K$93,SaisonDeb,$G$15:$G$93)+SUMIF($K$15:$K$93,SaisonFin,$G$15:$G$93)>0,(SUMIF($K$15:$K$93,SaisonDeb,$F$15:$F$93)+SUMIF($K$15:$K$93,SaisonFin,$F$15:$F$93))/(SUMIF($K$15:$K$93,SaisonDeb,$G$15:$G$93)+SUMIF($K$15:$K$93,SaisonFin,$G$15:$G$93)),\"\")","v":0.9837527875119465}]
[null,null,null,null,null,null,null,null,null,null,null,null,null,"Sets","Gagnés",{"$f":"SUMIF($K$15:$K$189,SaisonDeb,$D$15:$D$189)","v":7},{"$f":"IF(P$6+P$7>0,P6/(P$6+P$7),\"\")","v":0.46666666666666667},{"$f":"SUMIF($K$15:$K$189,SaisonFin,$D$15:$D$189)","v":7},{"$f":"IF(R$6+R$7>0,R6/(R$6+R$7),\"\")","v":0.35},{"$f":"SUM($D$15:$D$189)","v":49},{"$f":"IF(T$6+T$7>0,T6/(T$6+T$7),\"\")","v":0.39516129032258063}]
[null,null,null,null,null,null,null,null,null,null,null,null,null,null,"Perdus",{"$f":"SUMIF($K$15:$K$189,SaisonDeb,$E$15:$E$189)","v":8},{"$f":"IF(P$6+P$7>0,P7/(P$6+P$7),\"\")","v":0.53333333333333333},{"$f":"SUMIF($K$15:$K$189,SaisonFin,$E$15:$E$189)","v":13},{"$f":"IF(R$6+R$7>0,R7/(R$6+R$7),\"\")","v":0.65},{"$f":"SUM($E$15:$E$189)","v":75},{"$f":"IF(T$6+T$7>0,T7/(T$6+T$7),\"\")","v":0.60483870967741937}]
["Récapitulatif joueurs",null,null,null,null,null,null,null,null,null,null,null,null,null,"Total",{"$f":"SUM(P6:P7)","v":15},null,{"$f":"SUM(R6:R7)","v":20},null,{"$f":"SUM(T6:T7)","v":124}]
[]
[]
[]
[]
[]
[]
["Joueur","Adversaire","G/P","Sets gagnés","Sets perdus","pts marqués","pts subis","Date","Compétition","Phase","Saison"]
["LAMARQUE Yves","MURIOT Jean-Pierre","P",0,1,88,100,"2016-10-22","5Q  CD60 R1 - T 1 -CREPY","Tour 3",{"$f":"IF(H16<>\"\",IF(MONTH(H16)>MoisRef,YEAR(H16)&\"-\"&YEAR(H16)+1,YEAR(H16)-1&\"-\"&YEAR(H16)),\"\")","v":"2016-2017"},null,null,null,null,{"$f":"IF($K16=P$1,COUNTIF($C16,\"G\"),0)","v":0},null,{"$f":"IF($K16=R$1,COUNTIF($C16,\"G\"),0)","v":0}]
["LAMARQUE Yves","MURIOT Jean-Pierre","G",1,0,100,55,"2016-10-22","5Q  CD60 R1 - T 1 -CREPY","Tour 4","2016-2017",null,null,null,null,0,null,0]
["LAMARQUE Yves","BOUIGES Armelle","P",0,1,60,100,"2016-11-26","5Q  CD60 R1 - T 2 - SENLIS","Tour 4","2016-2017",null,null,null,null,0,null,0]
["LAMARQUE Yves","STEINMANN Sébastien","P",0,1,33,100,"2017-02-25","5Q  CD60 R1 - T 2 - SENLIS","Tour 4","2016-2017",null,null,null,null,0,null,0]
["LAMARQUE Yves","VASSEUR Francis","P",0,1,79,100,"2017-01-21","5Q  CD60 R1 - T 3 - MERU","Tour 1","2016-2017",null,null,null,null,0,null,0]
["LAMARQUE Yves","DIOT Alain","P",0,1,56,100,"2017-01-21","5Q  CD60 R1 - T 3 - MERU","Tour 3","2016-2017",null,null,null,null,0,null,0]
["LAMARQUE Yves","VANDEPUTTE Laurent","G",1,0,100,81,"2017-01-21","5Q  CD60 R1 - T 3 - MERU","Tour 4","2016-2017",null,null,null,null,0,null,0]
["LAMARQUE Yves","BARTHON Aurélie","G",2,0,120,85,"2017-09-30","T 1 OISE - CREPY","Qualifications","2017-2018",null,null,null,null,0,null,0]
["LAMARQUE Yves","BOUIGES Armelle","G",2,0,120,76,"2017-09-30","T 1 OISE - CREPY","Qualifications","2017-2018",null,null,null,null,0,null,0]
["LAMARQUE Yves","FAURE Stéphane","P",0,2,57,120,"2017-09-30","T 1 OISE - CREPY","1/2 Finale","2017-2018",null,null,null,null,0,null,0]
["LAMARQUE Yves","MARTIN Denis","P",0,2,47,120,"2017-09-30","T 1 OISE - CREPY","Qualifications","2017-2018",null,null,null,null,0,null,0]
["LAMARQUE Yves","DESCLAIR Guy","P",0,2,59,120,"2017-10-21","T 2 OISE - SENLIS","Qualifications","2017-2018",null,null,null,null,0,null,0]
["LAMARQUE Yves","LALOT Gérard","P",0,2,48,120,"2017-10-21","T 2 OISE - SENLIS","Qualifications","2017-2018",null,null,null,null,0,null,0]
["LAMARQUE Yves","MURIOT Jean-Pierre","P",1,2,146,160,"2017-10-21","T 2 OISE - SENLIS","Qualifications","2017-2018",null,null,null,null,0,null,0]
["LAMARQUE Yves","BOUIGES Armelle","P",0,1,34,100,43029,"T 2 OISE Consolante - SENLIS","Qualifications","2017-2018",null,null,null,null,0,null,0]
["LAMARQUE Yves","MURIOT Jean-Pierre","G",1,0,100,74,43029,"T 2 OISE Consolante - SENLIS","Qualifications","2017-2018",null,null,null,null,0,null,0]
["LAMARQUE Yves","TALEC Pierre","G",1,0,100,58,"2017-11-25","T 3 OISE - Consolante - MERU","Qualifications","2017-2018",null,null,null,null,0,null,0]
["LAMARQUE Yves","VANDEPUTTE Laurent","P",0,1,91,100,"2017-11-25","T 3 OISE - Consolante - MERU","Qualifications","2017-2018",null,null,null,null,0,null,0]
["LAMARQUE Yves","BOUIGES Armelle","P",1,2,162,157,"2017-11-25","T 3 OISE - MERU","Qualifications","2017-2018",null,null,null,null,0,null,0]
["LAMARQUE Yves","FAURE Stéphane","P",1,2,113,175,"2017-11-25","T 3 OISE - MERU","Qualifications","2017-2018",null,null,null,null,0,null,0]
["LAMARQUE Yves","DESCLAIR Guy","P",0,2,104,120,"2018-01-06","T 4 OISE - VILLERS","Qualifications","2017-2018",null,null,null,null,0,null,0]
["LAMARQUE Yves","FAURE Stéphane","P",0,2,82,120,"2018-01-06","T 4 OISE - VILLERS","Qualifications","2017-2018",null,null,null,null,0,null,0]
["LAMARQUE Yves","MURIOT Jean-Pierre","P",1,2,119,174,"2018-01-06","T 4 OISE - VILLERS","1/4 Finale","2017-2018",null,null,null,null,0,null,0]
["LAMARQUE Yves","LALOT Gérard","P",0,2,74,120,"2018-09-29","5 Q - T 1 OISE 2018-19 - R 1 - TOURNOI PRINCIPAL  - CREPY","1/4 Finale","2018-2019",null,null,null,null,0,null,0]
["LAMARQUE Yves","TALEC Pierre","G",2,0,120,60,"2018-09-29","5 Q - T 1 OISE 2018-19 - R 1 - TOURNOI PRINCIPAL  - CREPY","Qualifications","2018-2019",null,null,null,null,0,null,0]
["LAMARQUE Yves","TALEC Pierre","G",2,1,152,116,"2018-09-29","5 Q - T 1 OISE 2018-19 - R 1 - TOURNOI PRINCIPAL  - CREPY","Qualifications","2018-2019",null,null,null,null,0,null,0]
["LAMARQUE Yves","DESCLAIR Guy","P",0,2,66,120,"2018-10-27","5 Q - T 2 OISE 2018-19 - R 1 - TOURNOI PRINCIPAL  - VILLERS","Qualifications","2018-2019",null,null,null,null,0,null,0]
["LAMARQUE Yves","DESCLAIR Guy","P",0,2,78,120,"2018-10-27","5 Q - T 2 OISE 2018-19 - R 1 - TOURNOI PRINCIPAL  - VILLERS","Qualifications","2018-2019",null,null,null,null,0,null,0]
["LAMARQUE Yves","STEINMANN Sébastien","P",0,2,59,120,"2018-10-27","5 Q - T 2 OISE 2018-19 - R 1 - TOURNOI PRINCIPAL  - VILLERS","1/4 Finale","2018-2019",null,null,null,null,0,null,0]
["LAMARQUE Yves","DESCLAIR Guy","G",2,0,120,93,"2018-11-24","5 Q - T 3 OISE 2018-19 - R 1 - TOURNOI PRINCIPAL  - MERU","1/4 Finale","2018-2019",null,null,null,null,0,null,0]
["LAMARQUE Yves","GROSS Xavier","P",0,2,94,120,"2018-11-24","5 Q - T 3 OISE 2018-19 - R 1 - TOURNOI PRINCIPAL  - MERU","Qualifications","2018-2019",null,null,null,null,0,null,0]
["LAMARQUE Yves","GROSS Xavier","G",2,0,120,65,"2018-11-24","5 Q - T 3 OISE 2018-19 - R 1 - TOURNOI PRINCIPAL  - MERU","Qualifications","2018-2019",null,null,null,null,0,null,0]
["LAMARQUE Yves","STEINMANN Sébastien","P",0,2,93,120,"2018-11-24","5 Q - T 3 OISE 2018-19 - R 1 - TOURNOI PRINCIPAL  - MERU","1/2 Finale","2018-2019",null,null,null,null,0,null,0]
["LAMARQUE Yves","ALAZARD Philippe","P",0,2,31,120,"2019-01-19","5 Q - T 4 OISE 2018-19 - R 1 - TOURNOI PRINCIPAL  - CHAMBLY","Qualifications","2018-2019",null,null,null,null,0,null,0]
["LAMARQUE Yves","STEINMANN Sébastien","P",1,2,130,162,"2019-01-19","5 Q - T 4 OISE 2018-19 - R 1 - TOURNOI PRINCIPAL  - CHAMBLY","Qualifications","2018-2019",null,null,null,null,0,null,0]
["LAMARQUE Yves","LALOT Gérard","G",2,1,169,158,"2019-10-19","CD60  R1 - T1 - Tour Principal - BEAUVAIS","Qualifications","2019-2020",null,null,null,null,0,null,0]
["LAMARQUE Yves","LALOT Gérard","G",2,1,173,164,"2019-10-19","CD60  R1 - T1 - Tour Principal - BEAUVAIS","Qualifications","2019-2020",null,null,null,null,0,null,0]
["LAMARQUE Yves","VASSEUR Francis","P",0,2,99,120,"2019-10-19","CD60  R1 - T1 - Tour Principal - BEAUVAIS","1/4 Finale","2019-2020",null,null,null,null,0,null,0]
["LAMARQUE Yves","BOZON Robert","G",1,0,100,73,"2020-01-11","CD60  R1 - T3 - Tour Principal - CREPY","Qualifications","2019-2020",null,null,null,null,0,null,0]
["LAMARQUE Yves","COUPLET Valentin","P",0,1,44,100,"2020-01-11","CD60  R1 - T3 - Tour Principal - CREPY","Qualifications","2019-2020",null,null,null,null,0,null,0]
["LAMARQUE Yves","BARTHON Aurélie","G",1,0,100,47,"2020-02-15","CD60  R1 - T 4 - Tour Principal - SENLIS","Qualifications","2019-2020",null,null,null,null,0,null,0]
["LAMARQUE Yves","BOURGOGNE Claude","G",1,0,100,93,"2020-02-15","CD60  R1 - T 4 - Tour Principal - SENLIS","1/4 Finale","2019-2020",null,null,null,null,0,null,0]
["LAMARQUE Yves","LALOT Gérard","P",0,1,66,100,"2020-02-15","CD60  R1 - T 4 - Tour Principal - SENLIS","1/2 Finale","2019-2020",null,null,null,null,0,null,0]
["LAMARQUE Yves","LE FRIEC Daniel","P",0,1,83,100,"2020-02-15","CD60  R1 - T 4 - Tour Principal - SENLIS","Qualifications","2019-2020",null,null,null,null,0,null,0]
["LAMARQUE Yves","ALAZARD Philippe","P",1,2,116,172,"2019-11-23","CD60  R1 - T2 - Tour Principal - MERU","1/2 Finale","2019-2020",null,null,null,null,0,null,0]
["LAMARQUE Yves","CHENAL Gérard","G",2,0,120,71,"2019-11-23","CD60  R1 - T2 - Tour Principal - MERU","1/4 Finale","2019-2020",null,null,null,null,0,null,0]
["LAMARQUE Yves","DUCHATEAU Jean-Pierre","G",2,1,130,159,"2019-11-23","CD60  R1 - T2 - Tour Principal - MERU","Qualifications","2019-2020",null,null,null,null,0,null,0]
["LAMARQUE Yves","NAHIRNYJ Alexi","G",2,0,120,106,"2019-11-23","CD60  R1 - T2 - Tour Principal - MERU","Qualifications","2019-2020",null,null,null,null,0,null,0]
["LAMARQUE Yves","BOUTON Gérard","P",0,1,115,120,"2021-10-02","T 1 OISE - Qualifications R 1 - Tour principal - MERU","Qualifications","2021-2022",null,null,null,null,0,null,0]
["LAMARQUE Yves","BOZON Robert","P",0,1,103,120,"2021-10-02","T 1 OISE - Qualifications R 1 - Tour principal - MERU","1/4 Finale","2021-2022",null,null,null,null,0,null,0]
["LAMARQUE Yves","DESCLAIR Guy","G",1,0,120,100,"2021-10-02","T 1 OISE - Qualifications R 1 - Tour principal - MERU","Qualifications","2021-2022",null,null,null,null,1,null,0]
["LAMARQUE Yves","CHENAL Gérard","G",1,0,120,67,"2021-12-18","T 2 OISE - Qualifications R 1 - Tour principal - CREPY","Qualifications","2021-2022",null,null,null,null,1,null,0]
["LAMARQUE Yves","MASSARD Patrick","G",1,0,120,104,"2021-12-18","T 2 OISE - Qualifications R 1 - Tour principal - CREPY","Qualifications","2021-2022",null,null,null,null,1,null,0]
["LAMARQUE Yves","MASSARD Patrick","P",0,1,47,120,"2021-12-18","T 2 OISE - Qualifications R 1 - Tour principal - CREPY","1/4 Finale","2021-2022",null,null,null,null,0,null,0]
["LAMARQUE Yves","DESCLAIR Guy","P",0,1,97,120,"2022-12-29","T 3 OISE - Qualifications R 1 - Tour principal - SENLIS","1/2 Finale","2022-2023",null,null,null,null,0,null,0]
["LAMARQUE Yves","DUCHATEAU Jean-Pierre","G",1,0,120,100,"2022-12-29","T 3 OISE - Qualifications R 1 - Tour principal - SENLIS","Qualifications","2022-2023",null,null,null,null,0,null,1]
["LAMARQUE Yves","MASSARD Patrick","G",1,0,120,88,"2022-12-29","T 3 OISE - Qualifications R 1 - Tour principal - SENLIS","1/4 Finale","2022-2023",null,null,null,null,0,null,1]
["LAMARQUE Yves","NAHIRNYJ Alexi","P",0,1,70,120,"2022-12-29","T 3 OISE - Qualifications R 1 - Tour principal - SENLIS","Qualifications","2022-2023",null,null,null,null,0,null,0]
["LAMARQUE Yves","BOUIGES Armelle","G",1,0,120,52,"2022-04-16","T 4 OISE - Qualifications R 1 - Tour Principal - BEAUVAIS","1/4 Finale","2021-2022",null,null,null,null,1,null,0]
["LAMARQUE Yves","BOZON Robert","P",0,1,99,120,"2022-04-16","T 4 OISE - Qualifications R 1 - Tour Principal - BEAUVAIS","1/2 Finale","2021-2022",null,null,null,null,0,null,0]
["LAMARQUE Yves","DESCLAIR Guy","G",1,0,120,75,"2022-04-16","T 4 OISE - Qualifications R 1 - Tour Principal - BEAUVAIS","Qualifications","2021-2022",null,null,null,null,1,null,0]
["LAMARQUE Yves","MASSARD Patrick","G",1,0,120,74,"2022-04-16","T 4 OISE - Qualifications R 1 - Tour Principal - BEAUVAIS","Qualifications","2021-2022",null,null,null,null,1,null,0]
["LAMARQUE Yves","BOZON Robert","P",0,2,49,120,"2022-05-14","FINALE OISE R 1 - SAISON 21-22 - SENLIS","Qualifications","2021-2022",null,null,null,null,0,null,0]
["LAMARQUE Yves","HERTOUX Didier","P",1,2,173,154,"2022-05-14","FINALE OISE R 1 - SAISON 21-22 - SENLIS","Qualifications","2021-2022",null,null,null,null,0,null,0]
["LAMARQUE Yves","GRANGER Pascal","P",1,2,141,153,"2023-04-15","FINALE OISE  - R 1 - BEAUVAIS","Qualifications","2022-2023",null,null,null,null,{"$f":"IF($K80=P$1,COUNTIF($C80,\"G\"),0)","v":0},null,{"$f":"IF($K80=R$1,COUNTIF($C80,\"G\"),0)","v":0}]
["LAMARQUE Yves","ZANOTTI Michel","P",0,2,78,120,"2023-04-15","FINALE OISE  - R 1 - BEAUVAIS","Qualifications","2022-2023",null,null,null,null,0,null,0]
["LAMARQUE Yves","CUNIN Mickael","P",0,1,115,120,"2022-12-03","T 2 OISE - Qualifications R 1 - Tour Principal - SENLIS","Qualifications","2022-2023",null,null,null,null,0,null,0]
["LAMARQUE Yves","GRANGER Pascal","G",1,0,120,100,"2022-12-03","T 2 OISE - Qualifications R 1 - Tour Principal - SENLIS","1/4 Finale","2022-2023",null,null,null,null,0,null,1]
["LAMARQUE Yves","HERTOUX Didier","P",0,1,69,120,"2022-12-03","T 2 OISE - Qualifications R 1 - Tour Principal - SENLIS","1/2 Finale","2022-2023",null,null,null,null,0,null,0]
["LAMARQUE Yves","ZANOTTI Michel","P",0,1,118,120,"2022-12-03","T 2 OISE - Qualifications R 1 - Tour Principal - SENLIS","Qualifications","2022-2023",null,null,null,null,0,null,0]
["LAMARQUE Yves","GERONIMI Thierry","G",1,0,120,54,"2023-02-18","T 3 OISE - Qualifications R 1 - Tour Principal - BEAUVAIS","1/4 Finale","2022-2023",null,null,null,null,0,null,1]
["LAMARQUE Yves","NAHIRNYJ Alexi","P",0,1,111,120,"2023-02-18","T 3 OISE - Qualifications R 1 - Tour Principal - BEAUVAIS","Qualifications","2022-2023",null,null,null,null,0,null,0]
["LAMARQUE Yves","NAHIRNYJ Alexi","P",0,1,65,120,"2023-02-18","T 3 OISE - Qualifications R 1 - Tour Principal - BEAUVAIS","1/2 Finale","2022-2023",null,null,null,null,0,null,0]
["LAMARQUE Yves","PORQUIER Gérard","G",1,0,120,103,"2023-02-18","T 3 OISE - Qualifications R 1 - Tour Principal - BEAUVAIS","Qualifications","2022-2023",null,null,null,null,0,null,1]
["LAMARQUE Yves","DESCLAIR Guy","G",1,0,120,115,"2023-03-18","T 4 OISE - Qualifications R 1 - Tour Principal - CREPY","Qualifications","2022-2023",null,null,null,null,0,null,1]
["LAMARQUE Yves","MASSARD Patrick","P",0,1,115,120,"2023-03-18","T 4 OISE - Qualifications R 1 - Tour Principal - CREPY","Qualifications","2022-2023",null,null,null,null,0,null,0]
["LAMARQUE Yves","MURIOT Jean-Pierre","P",0,1,83,120,"2023-03-18","T 4 OISE - Qualifications R 1 - Tour Principal - CREPY","1/4 Finale","2022-2023",null,null,null,null,0,null,0]
["Fin des données",null,null,null,null,null,null,null,null,null,"",null,null,null,null,{"$f":"IF($K93=P$1,COUNTIF($C93,\"G\"),0)","v":0},null,{"$f":"IF($K93=R$1,COUNTIF($C93,\"G\"),0)","v":0}]

{"sheet":"LANCRY  Bruno","index":93,"n_rows":32,"n_cols":22,"rows_kept":32,"cut":false,"hidden":false,"merged":[]}
["LANCRY  Bruno",null,null,null,null,null,null,null,null,null,null,null,null,null,null,{"$f":"SaisonDeb","v":"2021-2022"},null,{"$f":"SaisonFin","v":"2022-2023"},null,"Toutes saisons"]
[{"$error":"#N/A"},null,null,null,null,null,null,null,null,null,null,null,null,null,null,"Nombre","%age","Nombre","%age","Nombre","%age"]
[{"$error":"#N/A"},null,null,null,null,null,null,null,null,null,null,null,null,"Matchs","Gagnés",{"$f":"SUM(P$15:P$128)","v":0},{"$f":"IF(P$3+P$4>0,P3/(P$3+P$4),\"\")","v":""},{"$f":"SUM(R$15:R$128)","v":14},{"$f":"IF(R$3+R$4>0,R3/(R$3+R$4),\"\")","v":0.875},{"$f":"COUNTIF($C$15:$C$128,\"G\")","v":14},{"$f":"IF(T$3+T$4>0,T3/(T$3+T$4),\"\")","v":0.875}]
[{"$error":"#N/A"},null,null,null,null,null,null,null,null,null,null,null,null,null,"Perdus",{"$f":"COUNTIF($K$15:$M$128,SaisonDeb)-P3","v":0},{"$f":"IF(P$3+P$4>0,P4/(P$3+P$4),\"\")","v":""},{"$f":"COUNTIF($K$15:$K$128,SaisonFin)-R3","v":2},{"$f":"IF(R$3+R$4>0,R4/(R$3+R$4),\"\")","v":0.125},{"$f":"COUNTIF($C$15:$C$128,\"P\")","v":2},{"$f":"IF(T$3+T$4>0,T4/(T$3+T$4),\"\")","v":0.125}]
[{"$error":"#N/A"},null,null,null,null,null,null,null,null,null,null,null,null,null,"Total / Moy.",{"$f":"SUM(P3:P4)","v":0},{"$f":"IF(SUMIF($K$15:$K$128,SaisonDeb,$G$15:$G$128)>0,SUMIF($K$15:$K$128,SaisonDeb,$F$15:$F$128)/SUMIF($K$15:$K$128,SaisonDeb,$G$15:$G$128),\"\")","v":""},{"$f":"SUM(R3:R4)","v":16},{"$f":"IF(SUMIF($K$15:$K$128,SaisonFin,$G$15:$G$128)>0,SUMIF($K$15:$K$128,SaisonFin,$F$15:$F$128)/SUMIF($K$15:$K$128,SaisonFin,$G$15:$G$128),\"\")","v":1.402572347266881},{"$f":"SUM(T3:T4)","v":16},{"$f":"IF(SUM($G$15:$G$128)>0,SUM($F$15:$F$128)/SUM($G$15:$G$128),\"\")","v":1.402572347266881},{"$f":"IF(SUMIF($K$15:$K$32,SaisonDeb,$G$15:$G$32)+SUMIF($K$15:$K$32,SaisonFin,$G$15:$G$32)>0,(SUMIF($K$15:$K$32,SaisonDeb,$F$15:$F$32)+SUMIF($K$15:$K$32,SaisonFin,$F$15:$F$32))/(SUMIF($K$15:$K$32,SaisonDeb,$G$15:$G$32)+SUMIF($K$15:$K$32,SaisonFin,$G$15:$G$32)),\"\")","v":1.402572347266881}]
[null,null,null,null,null,null,null,null,null,null,null,null,null,"Sets","Gagnés",{"$f":"SUMIF($K$15:$K$128,SaisonDeb,$D$15:$D$128)","v":0},{"$f":"IF(P$6+P$7>0,P6/(P$6+P$7),\"\")","v":""},{"$f":"SUMIF($K$15:$K$128,SaisonFin,$D$15:$D$128)","v":29},{"$f":"IF(R$6+R$7>0,R6/(R$6+R$7),\"\")","v":0.76315789473684215},{"$f":"SUM($D$15:$D$128)","v":29},{"$f":"IF(T$6+T$7>0,T6/(T$6+T$7),\"\")","v":0.76315789473684215}]
[null,null,null,null,null,null,null,null,null,null,null,null,null,null,"Perdus",{"$f":"SUMIF($K$15:$K$128,SaisonDeb,$E$15:$E$128)","v":0},{"$f":"IF(P$6+P$7>0,P7/(P$6+P$7),\"\")","v":""},{"$f":"SUMIF($K$15:$K$128,SaisonFin,$E$15:$E$128)","v":9},{"$f":"IF(R$6+R$7>0,R7/(R$6+R$7),\"\")","v":0.23684210526315788},{"$f":"SUM($E$15:$E$128)","v":9},{"$f":"IF(T$6+T$7>0,T7/(T$6+T$7),\"\")","v":0.23684210526315788}]
["Récapitulatif joueurs",null,null,null,null,null,null,null,null,null,null,null,null,null,"Total",{"$f":"SUM(P6:P7)","v":0},null,{"$f":"SUM(R6:R7)","v":38},null,{"$f":"SUM(T6:T7)","v":38}]
[]
[]
[]
[]
[]
[]
["Joueur","Adversaire","G/P","Sets gagnés","Sets perdus","pts marqués","pts subis","Date","Compétition","Phase","Saison"]
["LANCRY  Bruno","CARTIERE André","G",2,0,120,51,"2023-04-15","Finale CD62 R1 DIVION  - DIVION","Qualifications",{"$f":"IF(H16<>\"\",IF(MONTH(H16)>MoisRef,YEAR(H16)&\"-\"&YEAR(H16)+1,YEAR(H16)-1&\"-\"&YEAR(H16)),\"\")","v":"2022-2023"},null,null,null,null,{"$f":"IF($K16=P$1,COUNTIF($C16,\"G\"),0)","v":0},null,{"$f":"IF($K16=R$1,COUNTIF($C16,\"G\"),0)","v":1}]
["LANCRY  Bruno","MINET Lionel","G",2,0,120,30,"2023-04-15","Finale CD62 R1 DIVION  - DIVION","Qualifications","2022-2023",null,null,null,null,0,null,1]
["LANCRY  Bruno","TILLIETTE Michel","G",2,1,158,141,"2023-04-15","Finale CD62 R1 DIVION  - DIVION","Qualifications","2022-2023",null,null,null,null,0,null,1]
["LANCRY  Bruno","CARTIERE André","P",0,2,92,120,"2023-02-12","T3 CD62 5Q R1 - CUCQ","Qualifications","2022-2023",null,null,null,null,0,null,0]
["LANCRY  Bruno","DUCROCQ  Joël","G",2,1,171,165,"2023-02-12","T3 CD62 5Q R1 - CUCQ","Qualifications","2022-2023",null,null,null,null,0,null,1]
["LANCRY  Bruno","MINET Lionel","G",2,1,176,141,"2023-02-12","T3 CD62 5Q R1 - CUCQ","Qualifications","2022-2023",null,null,null,null,0,null,1]
["LANCRY  Bruno","TILLIETTE Michel","G",2,1,174,136,"2023-02-12","T3 CD62 5Q R1 - CUCQ","Qualifications","2022-2023",null,null,null,null,0,null,1]
["LANCRY  Bruno","CARTIERE André","G",2,0,120,54,"2023-02-25","T4 CD62 5Q R1 - DIVION","Qualifications","2022-2023",null,null,null,null,0,null,1]
["LANCRY  Bruno","MINET Lionel","G",2,0,120,50,"2023-02-25","T4 CD62 5Q R1 - DIVION","Qualifications","2022-2023",null,null,null,null,0,null,1]
["LANCRY  Bruno","TILLIETTE Michel","G",2,1,164,127,"2023-02-25","T4 CD62 5Q R1 - DIVION","Qualifications","2022-2023",null,null,null,null,0,null,1]
["LANCRY  Bruno","CARTIERE André","G",2,0,120,83,"2023-01-15","T2 CD62 5Q R1 - DIVION","Qualifications","2022-2023",null,null,null,null,0,null,1]
["LANCRY  Bruno","MINET Lionel","G",2,0,120,61,"2023-01-15","T2 CD62 5Q R1 - DIVION","Qualifications","2022-2023",null,null,null,null,0,null,1]
["LANCRY  Bruno","CARTIERE André","G",2,0,120,76,"2022-11-05","T1 CD62 5Q R1 - WIMILLE","Qualifications","2022-2023",null,null,null,null,0,null,1]
["LANCRY  Bruno","MINET Lionel","P",1,2,166,145,"2022-11-05","T1 CD62 5Q R1 - WIMILLE","Qualifications","2022-2023",null,null,null,null,0,null,0]
["LANCRY  Bruno","MINET Lionel","G",2,0,120,94,"2022-11-05","T1 CD62 5Q R1 - WIMILLE","Finale","2022-2023",null,null,null,null,0,null,1]
["LANCRY  Bruno","TILLIETTE Michel","G",2,0,120,81,"2022-11-05","T1 CD62 5Q R1 - WIMILLE","1/2 Finale","2022-2023",null,null,null,null,0,null,1]
["Fin des données",null,null,null,null,null,null,null,null,null,"",null,null,null,null,{"$f":"IF($K32=P$1,COUNTIF($C32,\"G\"),0)","v":0},null,{"$f":"IF($K32=R$1,COUNTIF($C32,\"G\"),0)","v":0}]

{"sheet":"LANCRY Bruno","index":94,"n_rows":20,"n_cols":22,"rows_kept":20,"cut":false,"hidden":false,"merged":[]}
["LANCRY Bruno",null,null,null,null,null,null,null,null,null,null,null,null,null,null,{"$f":"SaisonDeb","v":"2021-2022"},null,{"$f":"SaisonFin","v":"2022-2023"},null,"Toutes saisons"]
[{"$error":"#N/A"},null,null,null,null,null,null,null,null,null,null,null,null,null,null,"Nombre","%age","Nombre","%age","Nombre","%age"]
[{"$error":"#N/A"},null,null,null,null,null,null,null,null,null,null,null,null,"Matchs","Gagnés",{"$f":"SUM(P$15:P$116)","v":0},{"$f":"IF(P$3+P$4>0,P3/(P$3+P$4),\"\")","v":""},{"$f":"SUM(R$15:R$116)","v":4},{"$f":"IF(R$3+R$4>0,R3/(R$3+R$4),\"\")","v":1},{"$f":"COUNTIF($C$15:$C$116,\"G\")","v":4},{"$f":"IF(T$3+T$4>0,T3/(T$3+T$4),\"\")","v":1}]
[{"$error":"#N/A"},null,null,null,null,null,null,null,null,null,null,null,null,null,"Perdus",{"$f":"COUNTIF($K$15:$M$116,SaisonDeb)-P3","v":0},{"$f":"IF(P$3+P$4>0,P4/(P$3+P$4),\"\")","v":""},{"$f":"COUNTIF($K$15:$K$116,SaisonFin)-R3","v":0},{"$f":"IF(R$3+R$4>0,R4/(R$3+R$4),\"\")","v":0},{"$f":"COUNTIF($C$15:$C$116,\"P\")","v":0},{"$f":"IF(T$3+T$4>0,T4/(T$3+T$4),\"\")","v":0}]
[{"$error":"#N/A"},null,null,null,null,null,null,null,null,null,null,null,null,null,"Total / Moy.",{"$f":"SUM(P3:P4)","v":0},{"$f":"IF(SUMIF($K$15:$K$116,SaisonDeb,$G$15:$G$116)>0,SUMIF($K$15:$K$116,SaisonDeb,$F$15:$F$116)/SUMIF($K$15:$K$116,SaisonDeb,$G$15:$G$116),\"\")","v":""},{"$f":"SUM(R3:R4)","v":4},{"$f":"IF(SUMIF($K$15:$K$116,SaisonFin,$G$15:$G$116)>0,SUMIF($K$15:$K$116,SaisonFin,$F$15:$F$116)/SUMIF($K$15:$K$116,SaisonFin,$G$15:$G$116),\"\")","v":1.6246056782334384},{"$f":"SUM(T3:T4)","v":4},{"$f":"IF(SUM($G$15:$G$116)>0,SUM($F$15:$F$116)/SUM($G$15:$G$116),\"\")","v":1.6246056782334384},{"$f":"IF(SUMIF($K$15:$K$20,SaisonDeb,$G$15:$G$20)+SUMIF($K$15:$K$20,SaisonFin,$G$15:$G$20)>0,(SUMIF($K$15:$K$20,SaisonDeb,$F$15:$F$20)+SUMIF($K$15:$K$20,SaisonFin,$F$15:$F$20))/(SUMIF($K$15:$K$20,SaisonDeb,$G$15:$G$20)+SUMIF($K$15:$K$20,SaisonFin,$G$15:$G$20)),\"\")","v":1.6246056782334384}]
[null,null,null,null,null,null,null,null,null,null,null,null,null,"Sets","Gagnés",{"$f":"SUMIF($K$15:$K$116,SaisonDeb,$D$15:$D$116)","v":0},{"$f":"IF(P$6+P$7>0,P6/(P$6+P$7),\"\")","v":""},{"$f":"SUMIF($K$15:$K$116,SaisonFin,$D$15:$D$116)","v":8},{"$f":"IF(R$6+R$7>0,R6/(R$6+R$7),\"\")","v":0.88888888888888884},{"$f":"SUM($D$15:$D$116)","v":8},{"$f":"IF(T$6+T$7>0,T6/(T$6+T$7),\"\")","v":0.88888888888888884}]
[null,null,null,null,null,null,null,null,null,null,null,null,null,null,"Perdus",{"$f":"SUMIF($K$15:$K$116,SaisonDeb,$E$15:$E$116)","v":0},{"$f":"IF(P$6+P$7>0,P7/(P$6+P$7),\"\")","v":""},{"$f":"SUMIF($K$15:$K$116,SaisonFin,$E$15:$E$116)","v":1},{"$f":"IF(R$6+R$7>0,R7/(R$6+R$7),\"\")","v":0.1111111111111111},{"$f":"SUM($E$15:$E$116)","v":1},{"$f":"IF(T$6+T$7>0,T7/(T$6+T$7),\"\")","v":0.1111111111111111}]
["Récapitulatif joueurs",null,null,null,null,null,null,null,null,null,null,null,null,null,"Total",{"$f":"SUM(P6:P7)","v":0},null,{"$f":"SUM(R6:R7)","v":9},null,{"$f":"SUM(T6:T7)","v":9}]
[]
[]
[]
[]
[]
[]
["Joueur","Adversaire","G/P","Sets gagnés","Sets perdus","pts marqués","pts subis","Date","Compétition","Phase","Saison"]
["LANCRY Bruno","BETTEFORT Mickael","G",2,0,120,42,"2023-05-14","Finale Ligue 5Q R1 - DENAIN","Poule unique",{"$f":"IF(H16<>\"\",IF(MONTH(H16)>MoisRef,YEAR(H16)&\"-\"&YEAR(H16)+1,YEAR(H16)-1&\"-\"&YEAR(H16)),\"\")","v":"2022-2023"},null,null,null,null,{"$f":"IF($K16=P$1,COUNTIF($C16,\"G\"),0)","v":0},null,{"$f":"IF($K16=R$1,COUNTIF($C16,\"G\"),0)","v":1}]
["LANCRY Bruno","HERTOUX Didier","G",2,1,155,127,"2023-05-14","Finale Ligue 5Q R1 - DENAIN","Poule unique",{"$f":"IF(H17<>\"\",IF(MONTH(H17)>MoisRef,YEAR(H17)&\"-\"&YEAR(H17)+1,YEAR(H17)-1&\"-\"&YEAR(H17)),\"\")","v":"2022-2023"},null,null,null,null,{"$f":"IF($K17=P$1,COUNTIF($C17,\"G\"),0)","v":0},null,{"$f":"IF($K17=R$1,COUNTIF($C17,\"G\"),0)","v":1}]
["LANCRY Bruno","HOCHART James","G",2,0,120,52,"2023-05-14","Finale Ligue 5Q R1 - DENAIN","Poule unique",{"$f":"IF(H18<>\"\",IF(MONTH(H18)>MoisRef,YEAR(H18)&\"-\"&YEAR(H18)+1,YEAR(H18)-1&\"-\"&YEAR(H18)),\"\")","v":"2022-2023"},null,null,null,null,{"$f":"IF($K18=P$1,COUNTIF($C18,\"G\"),0)","v":0},null,{"$f":"IF($K18=R$1,COUNTIF($C18,\"G\"),0)","v":1}]
["LANCRY Bruno","SCHERER Didier","G",2,0,120,96,"2023-05-14","Finale Ligue 5Q R1 - DENAIN","Poule unique",{"$f":"IF(H19<>\"\",IF(MONTH(H19)>MoisRef,YEAR(H19)&\"-\"&YEAR(H19)+1,YEAR(H19)-1&\"-\"&YEAR(H19)),\"\")","v":"2022-2023"},null,null,null,null,{"$f":"IF($K19=P$1,COUNTIF($C19,\"G\"),0)","v":0},null,{"$f":"IF($K19=R$1,COUNTIF($C19,\"G\"),0)","v":1}]
["Fin des données",null,null,null,null,null,null,null,null,null,{"$f":"IF(H20<>\"\",IF(MONTH(H20)>MoisRef,YEAR(H20)&\"-\"&YEAR(H20)+1,YEAR(H20)-1&\"-\"&YEAR(H20)),\"\")","v":""},null,null,null,null,{"$f":"IF($K20=P$1,COUNTIF($C20,\"G\"),0)","v":0},null,{"$f":"IF($K20=R$1,COUNTIF($C20,\"G\"),0)","v":0}]

{"sheet":"LE FRIEC Daniel","index":95,"n_rows":32,"n_cols":22,"rows_kept":32,"cut":false,"hidden":false,"merged":[]}
["LE FRIEC Daniel",null,null,null,null,null,null,null,null,null,null,null,null,null,null,{"$f":"SaisonDeb","v":"2021-2022"},null,{"$f":"SaisonFin","v":"2022-2023"},null,"Toutes saisons"]
[{"$error":"#N/A"},null,null,null,null,null,null,null,null,null,null,null,null,null,null,"Nombre","%age","Nombre","%age","Nombre","%age"]
[{"$error":"#N/A"},null,null,null,null,null,null,null,null,null,null,null,null,"Matchs","Gagnés",{"$f":"SUM(P$15:P$128)","v":0},{"$f":"IF(P$3+P$4>0,P3/(P$3+P$4),\"\")","v":""},{"$f":"SUM(R$15:R$128)","v":0},{"$f":"IF(R$3+R$4>0,R3/(R$3+R$4),\"\")","v":""},{"$f":"COUNTIF($C$15:$C$128,\"G\")","v":11},{"$f":"IF(T$3+T$4>0,T3/(T$3+T$4),\"\")","v":0.6875}]
[{"$error":"#N/A"},null,null,null,null,null,null,null,null,null,null,null,null,null,"Perdus",{"$f":"COUNTIF($K$15:$M$128,SaisonDeb)-P3","v":0},{"$f":"IF(P$3+P$4>0,P4/(P$3+P$4),\"\")","v":""},{"$f":"COUNTIF($K$15:$K$128,SaisonFin)-R3","v":0},{"$f":"IF(R$3+R$4>0,R4/(R$3+R$4),\"\")","v":""},{"$f":"COUNTIF($C$15:$C$128,\"P\")","v":5},{"$f":"IF(T$3+T$4>0,T4/(T$3+T$4),\"\")","v":0.3125}]
[{"$error":"#N/A"},null,null,null,null,null,null,null,null,null,null,null,null,null,"Total / Moy.",{"$f":"SUM(P3:P4)","v":0},{"$f":"IF(SUMIF($K$15:$K$128,SaisonDeb,$G$15:$G$128)>0,SUMIF($K$15:$K$128,SaisonDeb,$F$15:$F$128)/SUMIF($K$15:$K$128,SaisonDeb,$G$15:$G$128),\"\")","v":""},{"$f":"SUM(R3:R4)","v":0},{"$f":"IF(SUMIF($K$15:$K$128,SaisonFin,$G$15:$G$128)>0,SUMIF($K$15:$K$128,SaisonFin,$F$15:$F$128)/SUMIF($K$15:$K$128,SaisonFin,$G$15:$G$128),\"\")","v":""},{"$f":"SUM(T3:T4)","v":16},{"$f":"IF(SUM($G$15:$G$128)>0,SUM($F$15:$F$128)/SUM($G$15:$G$128),\"\")","v":1.1157670454545454},{"$f":"IF(SUMIF($K$15:$K$32,SaisonDeb,$G$15:$G$32)+SUMIF($K$15:$K$32,SaisonFin,$G$15:$G$32)>0,(SUMIF($K$15:$K$32,SaisonDeb,$F$15:$F$32)+SUMIF($K$15:$K$32,SaisonFin,$F$15:$F$32))/(SUMIF($K$15:$K$32,SaisonDeb,$G$15:$G$32)+SUMIF($K$15:$K$32,SaisonFin,$G$15:$G$32)),\"\")","v":""}]
[null,null,null,null,null,null,null,null,null,null,null,null,null,"Sets","Gagnés",{"$f":"SUMIF($K$15:$K$128,SaisonDeb,$D$15:$D$128)","v":0},{"$f":"IF(P$6+P$7>0,P6/(P$6+P$7),\"\")","v":""},{"$f":"SUMIF($K$15:$K$128,SaisonFin,$D$15:$D$128)","v":0},{"$f":"IF(R$6+R$7>0,R6/(R$6+R$7),\"\")","v":""},{"$f":"SUM($D$15:$D$128)","v":15},{"$f":"IF(T$6+T$7>0,T6/(T$6+T$7),\"\")","v":0.65217391304347827}]
[null,null,null,null,null,null,null,null,null,null,null,null,null,null,"Perdus",{"$f":"SUMIF($K$15:$K$128,SaisonDeb,$E$15:$E$128)","v":0},{"$f":"IF(P$6+P$7>0,P7/(P$6+P$7),\"\")","v":""},{"$f":"SUMIF($K$15:$K$128,SaisonFin,$E$15:$E$128)","v":0},{"$f":"IF(R$6+R$7>0,R7/(R$6+R$7),\"\")","v":""},{"$f":"SUM($E$15:$E$128)","v":8},{"$f":"IF(T$6+T$7>0,T7/(T$6+T$7),\"\")","v":0.34782608695652173}]
["Récapitulatif joueurs",null,null,null,null,null,null,null,null,null,null,null,null,null,"Total",{"$f":"SUM(P6:P7)","v":0},null,{"$f":"SUM(R6:R7)","v":0},null,{"$f":"SUM(T6:T7)","v":23}]
[]
[]
[]
[]
[]
[]
["Joueur","Adversaire","G/P","Sets gagnés","Sets perdus","pts marqués","pts subis","Date","Compétition","Phase","Saison"]
["LE FRIEC Daniel","MURIOT Jean-Pierre","G",2,0,120,65,"2018-11-24","5 Q - T 3 OISE 2018-19 - R 1 - TOURNOI PRINCIPAL  - MERU","Qualifications",{"$f":"IF(H16<>\"\",IF(MONTH(H16)>MoisRef,YEAR(H16)&\"-\"&YEAR(H16)+1,YEAR(H16)-1&\"-\"&YEAR(H16)),\"\")","v":"2018-2019"},null,null,null,null,{"$f":"IF($K16=P$1,COUNTIF($C16,\"G\"),0)","v":0},null,{"$f":"IF($K16=R$1,COUNTIF($C16,\"G\"),0)","v":0}]
["LE FRIEC Daniel","STEINMANN Sébastien","P",0,2,52,120,"2018-11-24","5 Q - T 3 OISE 2018-19 - R 1 - TOURNOI PRINCIPAL  - MERU","Qualifications","2018-2019",null,null,null,null,{"$f":"IF($K17=P$1,COUNTIF($C17,\"G\"),0)","v":0},null,{"$f":"IF($K17=R$1,COUNTIF($C17,\"G\"),0)","v":0}]
["LE FRIEC Daniel","STEINMANN Sébastien","P",0,2,78,120,"2018-11-24","5 Q - T 3 OISE 2018-19 - R 1 - TOURNOI PRINCIPAL  - MERU","1/4 Finale","2018-2019",null,null,null,null,{"$f":"IF($K18=P$1,COUNTIF($C18,\"G\"),0)","v":0},null,{"$f":"IF($K18=R$1,COUNTIF($C18,\"G\"),0)","v":0}]
["LE FRIEC Daniel","ALAZARD Philippe","G",1,0,100,81,"2020-01-11","CD60  R1 - T3 - Tour Principal - CREPY","1/4 Finale","2019-2020",null,null,null,null,{"$f":"IF($K19=P$1,COUNTIF($C19,\"G\"),0)","v":0},null,{"$f":"IF($K19=R$1,COUNTIF($C19,\"G\"),0)","v":0}]
["LE FRIEC Daniel","CHENAL Gérard","G",1,0,100,72,"2020-01-11","CD60  R1 - T3 - Tour Principal - CREPY","Qualifications","2019-2020",null,null,null,null,0,null,0]
["LE FRIEC Daniel","CHENAL Gérard","P",0,1,70,100,"2020-01-11","CD60  R1 - T3 - Tour Principal - CREPY","Qualifications","2019-2020",null,null,null,null,0,null,0]
["LE FRIEC Daniel","GEOFFROY Florent","G",1,0,100,81,"2020-01-11","CD60  R1 - T3 - Tour Principal - CREPY","1/2 Finale","2019-2020",null,null,null,null,0,null,0]
["LE FRIEC Daniel","LALOT Gérard","G",1,0,100,95,"2020-01-11","CD60  R1 - T3 - Tour Principal - CREPY","Finale","2019-2020",null,null,null,null,0,null,0]
["LE FRIEC Daniel","ALAZARD Philippe","G",1,0,100,78,"2020-02-15","CD60  R1 - T 4 - Tour Principal - SENLIS","1/2 Finale","2019-2020",null,null,null,null,0,null,0]
["LE FRIEC Daniel","BARTHON Aurélie","G",1,0,100,54,"2020-02-15","CD60  R1 - T 4 - Tour Principal - SENLIS","Qualifications","2019-2020",null,null,null,null,0,null,0]
["LE FRIEC Daniel","DESCLAIR Guy","G",1,0,100,80,"2020-02-15","CD60  R1 - T 4 - Tour Principal - SENLIS","1/4 Finale","2019-2020",null,null,null,null,0,null,0]
["LE FRIEC Daniel","LALOT Gérard","P",0,1,64,100,"2020-02-15","CD60  R1 - T 4 - Tour Principal - SENLIS","Finale","2019-2020",null,null,null,null,0,null,0]
["LE FRIEC Daniel","LAMARQUE Yves","G",1,0,100,83,"2020-02-15","CD60  R1 - T 4 - Tour Principal - SENLIS","Qualifications","2019-2020",null,null,null,null,0,null,0]
["LE FRIEC Daniel","DESCLAIR Guy","P",1,2,147,154,"2019-11-23","CD60  R1 - T2 - Tour Principal - MERU","1/4 Finale","2019-2020",null,null,null,null,0,null,0]
["LE FRIEC Daniel","LALOT Gérard","G",2,0,120,92,"2019-11-23","CD60  R1 - T2 - Tour Principal - MERU","Qualifications","2019-2020",null,null,null,null,0,null,0]
["LE FRIEC Daniel","VASSEUR Francis","G",2,0,120,33,"2019-11-23","CD60  R1 - T2 - Tour Principal - MERU","Qualifications","2019-2020",null,null,null,null,0,null,0]
["Fin des données",null,null,null,null,null,null,null,null,null,"",null,null,null,null,{"$f":"IF($K32=P$1,COUNTIF($C32,\"G\"),0)","v":0},null,{"$f":"IF($K32=R$1,COUNTIF($C32,\"G\"),0)","v":0}]

{"sheet":"LE GOHEBEL Jacques","index":96,"n_rows":53,"n_cols":22,"rows_kept":53,"cut":false,"hidden":false,"merged":[]}
["LE GOHEBEL Jacques",null,null,null,null,null,null,null,null,null,null,null,null,null,null,{"$f":"SaisonDeb","v":"2021-2022"},null,{"$f":"SaisonFin","v":"2022-2023"},null,"Toutes saisons"]
[{"$error":"#N/A"},null,null,null,null,null,null,null,null,null,null,null,null,null,null,"Nombre","%age","Nombre","%age","Nombre","%age"]
[{"$error":"#N/A"},null,null,null,null,null,null,null,null,null,null,null,null,"Matchs","Gagnés",{"$f":"SUM(P$15:P$149)","v":1},{"$f":"IF(P$3+P$4>0,P3/(P$3+P$4),\"\")","v":9.0909090909090912E-2},{"$f":"SUM(R$15:R$149)","v":8},{"$f":"IF(R$3+R$4>0,R3/(R$3+R$4),\"\")","v":0.44444444444444442},{"$f":"COUNTIF($C$15:$C$149,\"G\")","v":10},{"$f":"IF(T$3+T$4>0,T3/(T$3+T$4),\"\")","v":0.27027027027027029}]
[{"$error":"#N/A"},null,null,null,null,null,null,null,null,null,null,null,null,null,"Perdus",{"$f":"COUNTIF($K$15:$M$149,SaisonDeb)-P3","v":10},{"$f":"IF(P$3+P$4>0,P4/(P$3+P$4),\"\")","v":0.90909090909090906},{"$f":"COUNTIF($K$15:$K$149,SaisonFin)-R3","v":10},{"$f":"IF(R$3+R$4>0,R4/(R$3+R$4),\"\")","v":0.55555555555555558},{"$f":"COUNTIF($C$15:$C$149,\"P\")","v":27},{"$f":"IF(T$3+T$4>0,T4/(T$3+T$4),\"\")","v":0.72972972972972971}]
[{"$error":"#N/A"},null,null,null,null,null,null,null,null,null,null,null,null,null,"Total / Moy.",{"$f":"SUM(P3:P4)","v":11},{"$f":"IF(SUMIF($K$15:$K$149,SaisonDeb,$G$15:$G$149)>0,SUMIF($K$15:$K$149,SaisonDeb,$F$15:$F$149)/SUMIF($K$15:$K$149,SaisonDeb,$G$15:$G$149),\"\")","v":0.7975746268656716},{"$f":"SUM(R3:R4)","v":18},{"$f":"IF(SUMIF($K$15:$K$149,SaisonFin,$G$15:$G$149)>0,SUMIF($K$15:$K$149,SaisonFin,$F$15:$F$149)/SUMIF($K$15:$K$149,SaisonFin,$G$15:$G$149),\"\")","v":0.95265259555048487},{"$f":"SUM(T3:T4)","v":37},{"$f":"IF(SUM($G$15:$G$149)>0,SUM($F$15:$F$149)/SUM($G$15:$G$149),\"\")","v":0.82478858350951378},{"$f":"IF(SUMIF($K$15:$K$53,SaisonDeb,$G$15:$G$53)+SUMIF($K$15:$K$53,SaisonFin,$G$15:$G$53)>0,(SUMIF($K$15:$K$53,SaisonDeb,$F$15:$F$53)+SUMIF($K$15:$K$53,SaisonFin,$F$15:$F$53))/(SUMIF($K$15:$K$53,SaisonDeb,$G$15:$G$53)+SUMIF($K$15:$K$53,SaisonFin,$G$15:$G$53)),\"\")","v":0.89380530973451322}]
[null,null,null,null,null,null,null,null,null,null,null,null,null,"Sets","Gagnés",{"$f":"SUMIF($K$15:$K$149,SaisonDeb,$D$15:$D$149)","v":1},{"$f":"IF(P$6+P$7>0,P6/(P$6+P$7),\"\")","v":9.0909090909090912E-2},{"$f":"SUMIF($K$15:$K$149,SaisonFin,$D$15:$D$149)","v":10},{"$f":"IF(R$6+R$7>0,R6/(R$6+R$7),\"\")","v":0.43478260869565216},{"$f":"SUM($D$15:$D$149)","v":14},{"$f":"IF(T$6+T$7>0,T6/(T$6+T$7),\"\")","v":0.27450980392156865}]
[null,null,null,null,null,null,null,null,null,null,null,null,null,null,"Perdus",{"$f":"SUMIF($K$15:$K$149,SaisonDeb,$E$15:$E$149)","v":10},{"$f":"IF(P$6+P$7>0,P7/(P$6+P$7),\"\")","v":0.90909090909090906},{"$f":"SUMIF($K$15:$K$149,SaisonFin,$E$15:$E$149)","v":13},{"$f":"IF(R$6+R$7>0,R7/(R$6+R$7),\"\")","v":0.56521739130434778},{"$f":"SUM($E$15:$E$149)","v":37},{"$f":"IF(T$6+T$7>0,T7/(T$6+T$7),\"\")","v":0.72549019607843135}]
["Récapitulatif joueurs",null,null,null,null,null,null,null,null,null,null,null,null,null,"Total",{"$f":"SUM(P6:P7)","v":11},null,{"$f":"SUM(R6:R7)","v":23},null,{"$f":"SUM(T6:T7)","v":51}]
[]
[]
[]
[]
[]
[]
["Joueur","Adversaire","G/P","Sets gagnés","Sets perdus","pts marqués","pts subis","Date","Compétition","Phase","Saison"]
["LE GOHEBEL Jacques","CAUX Frédéric","P",0,2,58,120,"2019-01-19","T4 5Q R1 CD59  - VILLENEUVE D'ASCQ","Qualifications",{"$f":"IF(H16<>\"\",IF(MONTH(H16)>MoisRef,YEAR(H16)&\"-\"&YEAR(H16)+1,YEAR(H16)-1&\"-\"&YEAR(H16)),\"\")","v":"2018-2019"},null,null,null,null,{"$f":"IF($K16=P$1,COUNTIF($C16,\"G\"),0)","v":0},null,{"$f":"IF($K16=R$1,COUNTIF($C16,\"G\"),0)","v":0}]
["LE GOHEBEL Jacques","ESTERMANS Bernard","P",0,2,74,120,"2019-01-19","T4 5Q R1 CD59  - VILLENEUVE D'ASCQ","Qualifications","2018-2019",null,null,null,null,{"$f":"IF($K17=P$1,COUNTIF($C17,\"G\"),0)","v":0},null,{"$f":"IF($K17=R$1,COUNTIF($C17,\"G\"),0)","v":0}]
["LE GOHEBEL Jacques","LORTHIOIR Jean-Luc","P",0,2,79,120,"2019-10-26","T1 5Q R1 CD59 - VILLENEUVE D'ASCQ","Qualifications","2019-2020",null,null,null,null,{"$f":"IF($K18=P$1,COUNTIF($C18,\"G\"),0)","v":0},null,{"$f":"IF($K18=R$1,COUNTIF($C18,\"G\"),0)","v":0}]
["LE GOHEBEL Jacques","LORTHIOIR Jean-Luc","P",0,2,38,120,"2019-10-26","T1 5Q R1 CD59 - VILLENEUVE D'ASCQ","Qualifications","2019-2020",null,null,null,null,0,null,0]
["LE GOHEBEL Jacques","LORTHIOIR Jean-Luc","P",0,2,71,120,"2019-10-26","T1 5Q R1 CD59 - VILLENEUVE D'ASCQ","1/4 Finale","2019-2020",null,null,null,null,0,null,0]
["LE GOHEBEL Jacques","DEVOS Jackie","P",0,2,28,120,"2020-02-22","T4 5Q R1 CD59 - ANNOEULLIN","Qualifications","2019-2020",null,null,null,null,0,null,0]
["LE GOHEBEL Jacques","HORNAIN Denis","P",1,2,128,157,"2020-02-22","T4 5Q R1 CD59 - ANNOEULLIN","1/4 Finale","2019-2020",null,null,null,null,0,null,0]
["LE GOHEBEL Jacques","SZWARC Johann","G",2,0,120,82,"2020-02-22","T4 5Q R1 CD59 - ANNOEULLIN","Qualifications","2019-2020",null,null,null,null,0,null,0]
["LE GOHEBEL Jacques","BELLENS Antoine","P",0,1,83,100,"2021-10-16","T1 5Q R1 - VILLENEUVE D'ASCQ","1/4 Finale","2021-2022",null,null,null,null,0,null,0]
["LE GOHEBEL Jacques","DUC Stéphane","G",1,0,100,72,"2021-10-16","T1 5Q R1 - VILLENEUVE D'ASCQ","Qualifications","2021-2022",null,null,null,null,1,null,0]
["LE GOHEBEL Jacques","NOYER Pascal","P",0,1,91,100,"2021-10-16","T1 5Q R1 - VILLENEUVE D'ASCQ","Qualifications","2021-2022",null,null,null,null,0,null,0]
["LE GOHEBEL Jacques","KERKHOF Hervé","P",0,1,60,100,"2021-12-18","T2 5Q R1 - GRAVELINES - CONVOCATON 8h30","Qualifications","2021-2022",null,null,null,null,0,null,0]
["LE GOHEBEL Jacques","MONFLIER Francis","P",0,1,42,100,"2021-12-18","T2 5Q R1 - GRAVELINES - CONVOCATON 8h30","Qualifications","2021-2022",null,null,null,null,0,null,0]
["LE GOHEBEL Jacques","DUTAILLY Michel","P",0,1,82,100,"2021-12-18","T2 5Q R1 - GRAVELINES - consolante","Qualifications","2021-2022",null,null,null,null,0,null,0]
["LE GOHEBEL Jacques","DUTAILLY Michel","P",0,1,82,100,"2021-12-18","T2 5Q R1 - GRAVELINES - consolante","Qualifications","2021-2022",null,null,null,null,0,null,0]
["LE GOHEBEL Jacques","DUC Stéphane","P",0,1,96,100,"2022-02-26","T3 5Q R1 - GRAVELINES - CONSOLANTE","Qualifications","2021-2022",null,null,null,null,0,null,0]
["LE GOHEBEL Jacques","PARENT Jean-René","P",0,1,84,100,"2022-02-26","T3 5Q R1 - GRAVELINES - CONSOLANTE","Qualifications","2021-2022",null,null,null,null,0,null,0]
["LE GOHEBEL Jacques","BEGHIN Benjamin","P",0,1,98,100,"2022-02-26","T3 5Q R1 - GRAVELINES ","Qualifications","2021-2022",null,null,null,null,0,null,0]
["LE GOHEBEL Jacques","MANTEN Paul","P",0,1,37,100,"2022-02-26","T3 5Q R1 - GRAVELINES ","Qualifications","2021-2022",null,null,null,null,0,null,0]
["LE GOHEBEL Jacques","DUC Stéphane","G",2,1,143,151,"2023-04-16","Finale CD59 5Q R1 - RONCHIN","Qualifications","2022-2023",null,null,null,null,0,null,1]
["LE GOHEBEL Jacques","HOCHART James","P",1,2,129,166,"2023-04-16","Finale CD59 5Q R1 - RONCHIN","1/2 Finale","2022-2023",null,null,null,null,0,null,0]
["LE GOHEBEL Jacques","PARENT Jean-René","P",0,2,44,120,"2023-04-16","Finale CD59 5Q R1 - RONCHIN","Qualifications","2022-2023",null,null,null,null,0,null,0]
["LE GOHEBEL Jacques","DUC Stéphane","G",1,0,100,68,"2022-09-24","T1 5Q R1 - VILLENEUVE D'ASCQ - CONVOCATION 8h30","Qualifications","2022-2023",null,null,null,null,0,null,1]
["LE GOHEBEL Jacques","NOYER Pascal","P",0,1,60,100,"2022-09-24","T1 5Q R1 - VILLENEUVE D'ASCQ - CONVOCATION 8h30","Qualifications","2022-2023",null,null,null,null,0,null,0]
["LE GOHEBEL Jacques","NOYER Pascal","G",1,0,100,72,"2022-09-24","T1 5Q R1 - VILLENEUVE D'ASCQ - CONVOCATION 8h30","3ème 4ème place","2022-2023",null,null,null,null,0,null,1]
["LE GOHEBEL Jacques","SZWARC Johann","P",0,1,91,100,"2022-09-24","T1 5Q R1 - VILLENEUVE D'ASCQ - CONVOCATION 8h30","Qualifications","2022-2023",null,null,null,null,0,null,0]
["LE GOHEBEL Jacques","SZWARC Johann","P",0,1,69,100,"2022-09-24","T1 5Q R1 - VILLENEUVE D'ASCQ - CONVOCATION 8h30","1/2 Finale","2022-2023",null,null,null,null,0,null,0]
["LE GOHEBEL Jacques","ESPALIEU Jean-François","G",1,0,100,88,"2022-10-30","T2 5Q R1 - GRAVELINES","Qualifications","2022-2023",null,null,null,null,0,null,1]
["LE GOHEBEL Jacques","HOCHART James","P",0,1,91,100,"2022-10-30","T2 5Q R1 - GRAVELINES","Qualifications","2022-2023",null,null,null,null,0,null,0]
["LE GOHEBEL Jacques","LECROART Serge","G",1,0,100,75,"2022-10-30","T2 5Q R1 - GRAVELINES","1/4 Finale","2022-2023",null,null,null,null,0,null,1]
["LE GOHEBEL Jacques","PAILLARD Bertrand","P",0,1,83,100,"2022-10-30","T2 5Q R1 - GRAVELINES","1/2 Finale","2022-2023",null,null,null,null,0,null,0]
["LE GOHEBEL Jacques","CAVITTE Jean-Pierre","G",1,0,100,65,"2023-02-04","T3 5Q R1 - GRAVELINES","Qualifications","2022-2023",null,null,null,null,0,null,1]
["LE GOHEBEL Jacques","LECROART Serge","G",1,0,100,65,"2023-02-04","T3 5Q R1 - GRAVELINES","Qualifications","2022-2023",null,null,null,null,0,null,1]
["LE GOHEBEL Jacques","LECROART Serge","P",0,1,98,100,"2023-02-04","T3 5Q R1 - GRAVELINES","1/4 Finale","2022-2023",null,null,null,null,0,null,0]
["LE GOHEBEL Jacques","DUC Stéphane","P",0,1,88,100,"2023-03-04","T4 5Q R1 - DOUAI","1/2 Finale","2022-2023",null,null,null,null,0,null,0]
["LE GOHEBEL Jacques","PARENT Jean-René","G",1,0,100,83,"2023-03-04","T4 5Q R1 - DOUAI","Qualifications","2022-2023",null,null,null,null,0,null,1]
["LE GOHEBEL Jacques","PARENT Jean-René","P",0,1,74,100,"2023-03-04","T4 5Q R1 - DOUAI","Qualifications","2022-2023",null,null,null,null,0,null,0]
["Fin des données",null,null,null,null,null,null,null,null,null,"",null,null,null,null,{"$f":"IF($K53=P$1,COUNTIF($C53,\"G\"),0)","v":0},null,{"$f":"IF($K53=R$1,COUNTIF($C53,\"G\"),0)","v":0}]

{"sheet":"LEBECQ Jean-Pierre","index":97,"n_rows":32,"n_cols":22,"rows_kept":32,"cut":false,"hidden":false,"merged":[]}
["LEBECQ Jean-Pierre",null,null,null,null,null,null,null,null,null,null,null,null,null,null,{"$f":"SaisonDeb","v":"2021-2022"},null,{"$f":"SaisonFin","v":"2022-2023"},null,"Toutes saisons"]
[{"$error":"#N/A"},null,null,null,null,null,null,null,null,null,null,null,null,null,null,"Nombre","%age","Nombre","%age","Nombre","%age"]
[{"$error":"#N/A"},null,null,null,null,null,null,null,null,null,null,null,null,"Matchs","Gagnés",{"$f":"SUM(P$15:P$116)","v":13},{"$f":"IF(P$3+P$4>0,P3/(P$3+P$4),\"\")","v":0.8125},{"$f":"SUM(R$15:R$116)","v":0},{"$f":"IF(R$3+R$4>0,R3/(R$3+R$4),\"\")","v":""},{"$f":"COUNTIF($C$15:$C$128,\"G\")","v":13},{"$f":"IF(T$3+T$4>0,T3/(T$3+T$4),\"\")","v":0.8125}]
[{"$error":"#N/A"},null,null,null,null,null,null,null,null,null,null,null,null,null,"Perdus",{"$f":"COUNTIF($K$15:$M$116,SaisonDeb)-P3","v":3},{"$f":"IF(P$3+P$4>0,P4/(P$3+P$4),\"\")","v":0.1875},{"$f":"COUNTIF($K$15:$K$128,SaisonFin)-R3","v":0},{"$f":"IF(R$3+R$4>0,R4/(R$3+R$4),\"\")","v":""},{"$f":"COUNTIF($C$15:$C$128,\"P\")","v":3},{"$f":"IF(T$3+T$4>0,T4/(T$3+T$4),\"\")","v":0.1875}]
[{"$error":"#N/A"},null,null,null,null,null,null,null,null,null,null,null,null,null,"Total / Moy.",{"$f":"SUM(P3:P4)","v":16},{"$f":"IF(SUMIF($K$15:$K$128,SaisonDeb,$G$15:$G$128)>0,SUMIF($K$15:$K$128,SaisonDeb,$F$15:$F$128)/SUMIF($K$15:$K$128,SaisonDeb,$G$15:$G$128),\"\")","v":1.2644026682838083},{"$f":"SUM(R3:R4)","v":0},{"$f":"IF(SUMIF($K$15:$K$128,SaisonFin,$G$15:$G$128)>0,SUMIF($K$15:$K$128,SaisonFin,$F$15:$F$128)/SUMIF($K$15:$K$128,SaisonFin,$G$15:$G$128),\"\")","v":""},{"$f":"SUM(T3:T4)","v":16},{"$f":"IF(SUM($G$15:$G$128)>0,SUM($F$15:$F$128)/SUM($G$15:$G$128),\"\")","v":1.2644026682838083},{"$f":"IF(SUMIF($K$15:$K$32,SaisonDeb,$G$15:$G$32)+SUMIF($K$15:$K$32,SaisonFin,$G$15:$G$32)>0,(SUMIF($K$15:$K$32,SaisonDeb,$F$15:$F$32)+SUMIF($K$15:$K$32,SaisonFin,$F$15:$F$32))/(SUMIF($K$15:$K$32,SaisonDeb,$G$15:$G$32)+SUMIF($K$15:$K$32,SaisonFin,$G$15:$G$32)),\"\")","v":1.2644026682838083}]
[null,null,null,null,null,null,null,null,null,null,null,null,null,"Sets","Gagnés",{"$f":"SUMIF($K$15:$K$128,SaisonDeb,$D$15:$D$128)","v":26},{"$f":"IF(P$6+P$7>0,P6/(P$6+P$7),\"\")","v":0.68421052631578949},{"$f":"SUMIF($K$15:$K$128,SaisonFin,$D$15:$D$128)","v":0},{"$f":"IF(R$6+R$7>0,R6/(R$6+R$7),\"\")","v":""},{"$f":"SUM($D$15:$D$128)","v":26},{"$f":"IF(T$6+T$7>0,T6/(T$6+T$7),\"\")","v":0.68421052631578949}]
[null,null,null,null,null,null,null,null,null,null,null,null,null,null,"Perdus",{"$f":"SUMIF($K$15:$K$128,SaisonDeb,$E$15:$E$128)","v":12},{"$f":"IF(P$6+P$7>0,P7/(P$6+P$7),\"\")","v":0.31578947368421051},{"$f":"SUMIF($K$15:$K$128,SaisonFin,$E$15:$E$128)","v":0},{"$f":"IF(R$6+R$7>0,R7/(R$6+R$7),\"\")","v":""},{"$f":"SUM($E$15:$E$128)","v":12},{"$f":"IF(T$6+T$7>0,T7/(T$6+T$7),\"\")","v":0.31578947368421051}]
["Récapitulatif joueurs",null,null,null,null,null,null,null,null,null,null,null,null,null,"Total",{"$f":"SUM(P6:P7)","v":38},null,{"$f":"SUM(R6:R7)","v":0},null,{"$f":"SUM(T6:T7)","v":38}]
[]
[]
[]
[]
[]
[]
["Joueur","Adversaire","G/P","Sets gagnés","Sets perdus","pts marqués","pts subis","Date","Compétition","Phase","Saison"]
["LEBECQ Jean-Pierre","BARBE Philippe","G",2,0,120,87,"2022-05-22","Finale Ligue 5Q R1 - ST QUENTIN","Finale Ligue",{"$f":"IF(H16<>\"\",IF(MONTH(H16)>MoisRef,YEAR(H16)&\"-\"&YEAR(H16)+1,YEAR(H16)-1&\"-\"&YEAR(H16)),\"\")","v":"2021-2022"},null,null,null,null,{"$f":"IF($K16=P$1,COUNTIF($C16,\"G\"),0)","v":1},null,{"$f":"IF($K16=R$1,COUNTIF($C16,\"G\"),0)","v":0}]
["LEBECQ Jean-Pierre","DURAND Jeremy","G",2,1,157,141,"2022-05-22","Finale Ligue 5Q R1 - ST QUENTIN","Finale Ligue",{"$f":"IF(H17<>\"\",IF(MONTH(H17)>MoisRef,YEAR(H17)&\"-\"&YEAR(H17)+1,YEAR(H17)-1&\"-\"&YEAR(H17)),\"\")","v":"2021-2022"},null,null,null,null,{"$f":"IF($K17=P$1,COUNTIF($C17,\"G\"),0)","v":1},null,{"$f":"IF($K17=R$1,COUNTIF($C17,\"G\"),0)","v":0}]
["LEBECQ Jean-Pierre","JOLY Kenan","P",0,2,82,120,"2022-05-22","Finale Ligue 5Q R1 - ST QUENTIN","Finale Ligue",{"$f":"IF(H18<>\"\",IF(MONTH(H18)>MoisRef,YEAR(H18)&\"-\"&YEAR(H18)+1,YEAR(H18)-1&\"-\"&YEAR(H18)),\"\")","v":"2021-2022"},null,null,null,null,{"$f":"IF($K18=P$1,COUNTIF($C18,\"G\"),0)","v":0},null,{"$f":"IF($K18=R$1,COUNTIF($C18,\"G\"),0)","v":0}]
["LEBECQ Jean-Pierre","LORTHIOIR Jean-Luc","P",0,2,106,120,"2022-05-22","Finale Ligue 5Q R1 - ST QUENTIN","Finale Ligue",{"$f":"IF(H19<>\"\",IF(MONTH(H19)>MoisRef,YEAR(H19)&\"-\"&YEAR(H19)+1,YEAR(H19)-1&\"-\"&YEAR(H19)),\"\")","v":"2021-2022"},null,null,null,null,{"$f":"IF($K19=P$1,COUNTIF($C19,\"G\"),0)","v":0},null,{"$f":"IF($K19=R$1,COUNTIF($C19,\"G\"),0)","v":0}]
["LEBECQ Jean-Pierre","FLAHAUT Ghislain","G",2,0,120,104,"2021-10-24","T1 CD62 5Q R1 - CUCQ","Qualifications",{"$f":"IF(H20<>\"\",IF(MONTH(H20)>MoisRef,YEAR(H20)&\"-\"&YEAR(H20)+1,YEAR(H20)-1&\"-\"&YEAR(H20)),\"\")","v":"2021-2022"},null,null,null,null,1,null,0]
["LEBECQ Jean-Pierre","MONTADOR Christophe","P",0,2,88,120,"2021-10-24","T1 CD62 5Q R1 - CUCQ","Qualifications","2021-2022",null,null,null,null,0,null,0]
["LEBECQ Jean-Pierre","CYFFERS Jean Bernard","G",2,0,120,47,"2021-12-18","T3 CD62 5Q R1 - CUCQ","Qualifications","2021-2022",null,null,null,null,1,null,0]
["LEBECQ Jean-Pierre","FLAHAUT Ghislain","G",2,1,165,156,"2021-12-18","T3 CD62 5Q R1 - CUCQ","Qualifications","2021-2022",null,null,null,null,1,null,0]
["LEBECQ Jean-Pierre","MONTADOR Christophe","G",2,0,120,27,"2021-12-18","T3 CD62 5Q R1 - CUCQ","Finale","2021-2022",null,null,null,null,1,null,0]
["LEBECQ Jean-Pierre","RAMET Jacques","G",2,1,158,120,"2021-12-18","T3 CD62 5Q R1 - CUCQ","1/2 Finale","2021-2022",null,null,null,null,1,null,0]
["LEBECQ Jean-Pierre","CYFFERS Jean Bernard","G",2,0,120,87,"2022-01-29","T4 CD62 5Q R1 - CUCQ","Qualifications","2021-2022",null,null,null,null,1,null,0]
["LEBECQ Jean-Pierre","CYFFERS Jean Bernard","G",2,1,162,127,"2022-01-29","T4 CD62 5Q R1 - CUCQ","Qualifications","2021-2022",null,null,null,null,1,null,0]
["LEBECQ Jean-Pierre","CYFFERS Jean Bernard","G",2,0,120,51,"2022-01-29","T4 CD62 5Q R1 - CUCQ","1/2 Finale","2021-2022",null,null,null,null,1,null,0]
["LEBECQ Jean-Pierre","FLAHAUT Ghislain","G",2,1,153,130,"2022-01-29","T4 CD62 5Q R1 - CUCQ","Finale","2021-2022",null,null,null,null,1,null,0]
["LEBECQ Jean-Pierre","FLAHAUT Ghislain","G",2,1,174,145,"2021-11-27","T2 CD62 5Q R1 - WIMILLE","Qualifications","2021-2022",null,null,null,null,1,null,0]
["LEBECQ Jean-Pierre","FLAHAUT Ghislain","G",2,0,120,67,"2021-11-27","T2 CD62 5Q R1 - WIMILLE","Qualifications","2021-2022",null,null,null,null,1,null,0]
["Fin des données",null,null,null,null,null,null,null,null,null,{"$f":"IF(H32<>\"\",IF(MONTH(H32)>MoisRef,YEAR(H32)&\"-\"&YEAR(H32)+1,YEAR(H32)-1&\"-\"&YEAR(H32)),\"\")","v":""}]

{"sheet":"LEBORGNE Léa","index":98,"n_rows":20,"n_cols":22,"rows_kept":20,"cut":false,"hidden":false,"merged":[]}
["LEBORGNE Léa",null,null,null,null,null,null,null,null,null,null,null,null,null,null,{"$f":"SaisonDeb","v":"2021-2022"},null,{"$f":"SaisonFin","v":"2022-2023"},null,"Toutes saisons"]
[{"$error":"#N/A"},null,null,null,null,null,null,null,null,null,null,null,null,null,null,"Nombre","%age","Nombre","%age","Nombre","%age"]
[{"$error":"#N/A"},null,null,null,null,null,null,null,null,null,null,null,null,"Matchs","Gagnés",{"$f":"SUM(P$15:P$116)","v":0},{"$f":"IF(P$3+P$4>0,P3/(P$3+P$4),\"\")","v":""},{"$f":"SUM(R$15:R$116)","v":1},{"$f":"IF(R$3+R$4>0,R3/(R$3+R$4),\"\")","v":0.25},{"$f":"COUNTIF($C$15:$C$116,\"G\")","v":1},{"$f":"IF(T$3+T$4>0,T3/(T$3+T$4),\"\")","v":0.25}]
[{"$error":"#N/A"},null,null,null,null,null,null,null,null,null,null,null,null,null,"Perdus",{"$f":"COUNTIF($K$15:$M$116,SaisonDeb)-P3","v":0},{"$f":"IF(P$3+P$4>0,P4/(P$3+P$4),\"\")","v":""},{"$f":"COUNTIF($K$15:$K$116,SaisonFin)-R3","v":3},{"$f":"IF(R$3+R$4>0,R4/(R$3+R$4),\"\")","v":0.75},{"$f":"COUNTIF($C$15:$C$116,\"P\")","v":3},{"$f":"IF(T$3+T$4>0,T4/(T$3+T$4),\"\")","v":0.75}]
[{"$error":"#N/A"},null,null,null,null,null,null,null,null,null,null,null,null,null,"Total / Moy.",{"$f":"SUM(P3:P4)","v":0},{"$f":"IF(SUMIF($K$15:$K$116,SaisonDeb,$G$15:$G$116)>0,SUMIF($K$15:$K$116,SaisonDeb,$F$15:$F$116)/SUMIF($K$15:$K$116,SaisonDeb,$G$15:$G$116),\"\")","v":""},{"$f":"SUM(R3:R4)","v":4},{"$f":"IF(SUMIF($K$15:$K$116,SaisonFin,$G$15:$G$116)>0,SUMIF($K$15:$K$116,SaisonFin,$F$15:$F$116)/SUMIF($K$15:$K$116,SaisonFin,$G$15:$G$116),\"\")","v":1.0080971659919029},{"$f":"SUM(T3:T4)","v":4},{"$f":"IF(SUM($G$15:$G$116)>0,SUM($F$15:$F$116)/SUM($G$15:$G$116),\"\")","v":1.0080971659919029},{"$f":"IF(SUMIF($K$15:$K$20,SaisonDeb,$G$15:$G$20)+SUMIF($K$15:$K$20,SaisonFin,$G$15:$G$20)>0,(SUMIF($K$15:$K$20,SaisonDeb,$F$15:$F$20)+SUMIF($K$15:$K$20,SaisonFin,$F$15:$F$20))/(SUMIF($K$15:$K$20,SaisonDeb,$G$15:$G$20)+SUMIF($K$15:$K$20,SaisonFin,$G$15:$G$20)),\"\")","v":1.0080971659919029}]
[null,null,null,null,null,null,null,null,null,null,null,null,null,"Sets","Gagnés",{"$f":"SUMIF($K$15:$K$116,SaisonDeb,$D$15:$D$116)","v":0},{"$f":"IF(P$6+P$7>0,P6/(P$6+P$7),\"\")","v":""},{"$f":"SUMIF($K$15:$K$116,SaisonFin,$D$15:$D$116)","v":3},{"$f":"IF(R$6+R$7>0,R6/(R$6+R$7),\"\")","v":0.375},{"$f":"SUM($D$15:$D$116)","v":3},{"$f":"IF(T$6+T$7>0,T6/(T$6+T$7),\"\")","v":0.375}]
[null,null,null,null,null,null,null,null,null,null,null,null,null,null,"Perdus",{"$f":"SUMIF($K$15:$K$116,SaisonDeb,$E$15:$E$116)","v":0},{"$f":"IF(P$6+P$7>0,P7/(P$6+P$7),\"\")","v":""},{"$f":"SUMIF($K$15:$K$116,SaisonFin,$E$15:$E$116)","v":5},{"$f":"IF(R$6+R$7>0,R7/(R$6+R$7),\"\")","v":0.625},{"$f":"SUM($E$15:$E$116)","v":5},{"$f":"IF(T$6+T$7>0,T7/(T$6+T$7),\"\")","v":0.625}]
["Récapitulatif joueurs",null,null,null,null,null,null,null,null,null,null,null,null,null,"Total",{"$f":"SUM(P6:P7)","v":0},null,{"$f":"SUM(R6:R7)","v":8},null,{"$f":"SUM(T6:T7)","v":8}]
[]
[]
[]
[]
[]
[]
["Joueur","Adversaire","G/P","Sets gagnés","Sets perdus","pts marqués","pts subis","Date","Compétition","Phase","Saison"]
["LEBORGNE Léa","BETTEFORT Clémence","G",2,1,168,135,45010,"finale de somme  - friville","Qualifications",{"$f":"IF(H16<>\"\",IF(MONTH(H16)>MoisRef,YEAR(H16)&\"-\"&YEAR(H16)+1,YEAR(H16)-1&\"-\"&YEAR(H16)),\"\")","v":"2022-2023"},null,null,null,null,{"$f":"IF($K16=P$1,COUNTIF($C16,\"G\"),0)","v":0},null,{"$f":"IF($K16=R$1,COUNTIF($C16,\"G\"),0)","v":1}]
["LEBORGNE Léa","BETTEFORT Véronique","P",1,2,170,159,45010,"finale de somme  - friville","Qualifications",{"$f":"IF(H17<>\"\",IF(MONTH(H17)>MoisRef,YEAR(H17)&\"-\"&YEAR(H17)+1,YEAR(H17)-1&\"-\"&YEAR(H17)),\"\")","v":"2022-2023"},null,null,null,null,{"$f":"IF($K17=P$1,COUNTIF($C17,\"G\"),0)","v":0},null,{"$f":"IF($K17=R$1,COUNTIF($C17,\"G\"),0)","v":0}]
["LEBORGNE Léa","BETTEFORT Clémence","P",0,1,85,100,"2022-12-04","T1 CD80 - R1 dames - friville","Qualifications",{"$f":"IF(H18<>\"\",IF(MONTH(H18)>MoisRef,YEAR(H18)&\"-\"&YEAR(H18)+1,YEAR(H18)-1&\"-\"&YEAR(H18)),\"\")","v":"2022-2023"},null,null,null,null,{"$f":"IF($K18=P$1,COUNTIF($C18,\"G\"),0)","v":0},null,{"$f":"IF($K18=R$1,COUNTIF($C18,\"G\"),0)","v":0}]
["LEBORGNE Léa","BETTEFORT Véronique","P",0,1,75,100,"2022-12-04","T1 CD80 - R1 dames - friville","Qualifications",{"$f":"IF(H19<>\"\",IF(MONTH(H19)>MoisRef,YEAR(H19)&\"-\"&YEAR(H19)+1,YEAR(H19)-1&\"-\"&YEAR(H19)),\"\")","v":"2022-2023"},null,null,null,null,{"$f":"IF($K19=P$1,COUNTIF($C19,\"G\"),0)","v":0},null,{"$f":"IF($K19=R$1,COUNTIF($C19,\"G\"),0)","v":0}]
["Fin des données",null,null,null,null,null,null,null,null,null,{"$f":"IF(H20<>\"\",IF(MONTH(H20)>MoisRef,YEAR(H20)&\"-\"&YEAR(H20)+1,YEAR(H20)-1&\"-\"&YEAR(H20)),\"\")","v":""},null,null,null,null,{"$f":"IF($K20=P$1,COUNTIF($C20,\"G\"),0)","v":0},null,{"$f":"IF($K20=R$1,COUNTIF($C20,\"G\"),0)","v":0}]

{"sheet":"LECROART Serge","index":99,"n_rows":101,"n_cols":22,"rows_kept":101,"cut":false,"hidden":false,"merged":[]}
["LECROART Serge",null,null,null,null,null,null,null,null,null,null,null,null,null,null,{"$f":"SaisonDeb","v":"2021-2022"},null,{"$f":"SaisonFin","v":"2022-2023"},null,"Toutes saisons"]
["VILLENEUVE D'ASCQ",null,null,null,null,null,null,null,null,null,null,null,null,null,null,"Nombre","%age","Nombre","%age","Nombre","%age"]
["016925-Z",null,null,null,null,null,null,null,null,null,null,null,null,"Matchs","Gagnés",{"$f":"SUM(P$15:P$101)","v":4},{"$f":"IF(P$3+P$4>0,P3/(P$3+P$4),\"\")","v":0.44444444444444442},{"$f":"SUM(R$15:R$101)","v":10},{"$f":"IF(R$3+R$4>0,R3/(R$3+R$4),\"\")","v":0.83333333333333337},{"$f":"COUNTIF($C$15:$C$101,\"G\")","v":51},{"$f":"IF(T$3+T$4>0,T3/(T$3+T$4),\"\")","v":0.6}]
["06 84 58 03 06",null,null,null,null,null,null,null,null,null,null,null,null,null,"Perdus",{"$f":"COUNTIF($K$15:$K$101,SaisonDeb)-P3","v":5},{"$f":"IF(P$3+P$4>0,P4/(P$3+P$4),\"\")","v":0.55555555555555558},{"$f":"COUNTIF($K$15:$K$101,SaisonFin)-R3","v":2},{"$f":"IF(R$3+R$4>0,R4/(R$3+R$4),\"\")","v":0.16666666666666666},{"$f":"COUNTIF($C$15:$C$101,\"P\")","v":34},{"$f":"IF(T$3+T$4>0,T4/(T$3+T$4),\"\")","v":0.4}]
["serge.lecroart@free.fr",null,null,null,null,null,null,null,null,null,null,null,null,null,"Total / Moy.",{"$f":"SUM(P3:P4)","v":9},{"$f":"IF(SUMIF($K$15:$K$101,SaisonDeb,$G$15:$G$101)>0,SUMIF($K$15:$K$101,SaisonDeb,$F$15:$F$101)/SUMIF($K$15:$K$101,SaisonDeb,$G$15:$G$101),\"\")","v":0.95443349753694584},{"$f":"SUM(R3:R4)","v":12},{"$f":"IF(SUMIF($K$15:$K$101,SaisonFin,$G$15:$G$101)>0,SUMIF($K$15:$K$101,SaisonFin,$F$15:$F$101)/SUMIF($K$15:$K$101,SaisonFin,$G$15:$G$101),\"\")","v":1.1752577319587629},{"$f":"SUM(T3:T4)","v":85},{"$f":"IF(SUM($G$15:$G$101)>0,SUM($F$15:$F$101)/SUM($G$15:$G$101),\"\")","v":1.0723601177955406},{"$f":"IF(SUMIF($K$15:$K$101,SaisonDeb,$G$15:$G$101)+SUMIF($K$15:$K$101,SaisonFin,$G$15:$G$101)>0,(SUMIF($K$15:$K$101,SaisonDeb,$F$15:$F$101)+SUMIF($K$15:$K$101,SaisonFin,$F$15:$F$101))/(SUMIF($K$15:$K$101,SaisonDeb,$G$15:$G$101)+SUMIF($K$15:$K$101,SaisonFin,$G$15:$G$101)),\"\")","v":1.074635241301908}]
[null,null,null,null,null,null,null,null,null,null,null,null,null,"Sets","Gagnés",{"$f":"SUMIF($K$15:$K$101,SaisonDeb,$D$15:$D$101)","v":4},{"$f":"IF(P$6+P$7>0,P6/(P$6+P$7),\"\")","v":0.44444444444444442},{"$f":"SUMIF($K$15:$K$101,SaisonFin,$D$15:$D$101)","v":10},{"$f":"IF(R$6+R$7>0,R6/(R$6+R$7),\"\")","v":0.83333333333333337},{"$f":"SUM($D$15:$D$101)","v":99},{"$f":"IF(T$6+T$7>0,T6/(T$6+T$7),\"\")","v":0.57558139534883723}]
[null,null,null,null,null,null,null,null,null,null,null,null,null,null,"Perdus",{"$f":"SUMIF($K$15:$K$101,SaisonDeb,$E$15:$E$101)","v":5},{"$f":"IF(P$6+P$7>0,P7/(P$6+P$7),\"\")","v":0.55555555555555558},{"$f":"SUMIF($K$15:$K$101,SaisonFin,$E$15:$E$101)","v":2},{"$f":"IF(R$6+R$7>0,R7/(R$6+R$7),\"\")","v":0.16666666666666666},{"$f":"SUM($E$15:$E$101)","v":73},{"$f":"IF(T$6+T$7>0,T7/(T$6+T$7),\"\")","v":0.42441860465116277}]
["Récapitulatif joueurs",null,null,null,null,null,null,null,null,null,null,null,null,null,"Total",{"$f":"SUM(P6:P7)","v":9},null,{"$f":"SUM(R6:R7)","v":12},null,{"$f":"SUM(T6:T7)","v":172}]
[]
[]
[]
[]
[]
[]
["Joueur","Adversaire","G/P","Sets gagnés","Sets perdus","pts marqués","pts subis","Date","Compétition","Phase","Saison"]
["LECROART Serge","ST MAXENT Stéphane","G",2,0,120,75,"2012-10-27","R1 CD59 T2 GRAVELINES","Poules",{"$f":"IF(H16<>\"\",IF(MONTH(H16)>MoisRef,YEAR(H16)&\"-\"&YEAR(H16)+1,YEAR(H16)-1&\"-\"&YEAR(H16)),\"\")","v":"2012-2013"},null,null,null,null,{"$f":"IF($K16=P$1,COUNTIF($C16,\"G\"),0)","v":0},null,{"$f":"IF($K16=R$1,COUNTIF($C16,\"G\"),0)","v":0}]
["LECROART Serge","VEREECQUE Bernard","P",0,2,69,120,"2012-10-27","R1 CD59 T2 GRAVELINES","Poules","2012-2013",null,null,null,null,0,null,0]
["LECROART Serge","VEREECQUE Bernard","P",0,2,81,120,"2012-10-27","R1 CD59 T2 GRAVELINES","1/4 Finale","2012-2013",null,null,null,null,0,null,0]
["LECROART Serge","ST MAXENT Stéphane","G",2,0,120,91,"2012-11-24","R1 CD59 T3 RONCHIN","Poules","2012-2013",null,null,null,null,0,null,0]
["LECROART Serge","LUBREZ Pierre","G",2,0,120,77,"2012-11-24","R1 CD59 T3 RONCHIN","Poules","2012-2013",null,null,null,null,0,null,0]
["LECROART Serge","LUBREZ Pierre","P",0,2,88,120,"2012-11-24","R1 CD59 T3 RONCHIN","1/2 Finale","2012-2013",null,null,null,null,0,null,0]
["LECROART Serge","HINGRAND Tony","P",0,2,87,120,"2015-01-17","R1 CD59 T1 ST POL sur MER","Poules","2014-2015",null,null,null,null,0,null,0]
["LECROART Serge","PARISIS Francis","G",2,0,120,70,"2015-01-17","R1 CD59 T1 ST POL sur MER","Poules","2014-2015",null,null,null,null,0,null,0]
["LECROART Serge","MONFLIER Francis","G",2,0,120,53,"2015-01-17","R1 CD59 T1 ST POL sur MER","1/4 Finale","2014-2015",null,null,null,null,0,null,0]
["LECROART Serge","HINGRAND Tony","P",0,2,87,120,"2015-01-17","R1 CD59 T1 ST POL sur MER","1/2 Finale","2014-2015",null,null,null,null,0,null,0]
["LECROART Serge","DELATTRE Gregory","G",2,1,171,160,"2015-02-07","R1 CD59 T2 GRAVELINES","Poules","2014-2015",null,null,null,null,0,null,0]
["LECROART Serge","PAILLARD Bertrand","G",2,1,176,122,"2015-02-07","R1 CD59 T2 GRAVELINES","Poules","2014-2015",null,null,null,null,0,null,0]
["LECROART Serge","BELLOC Adrien","G",2,0,120,95,"2015-02-07","R1 CD59 T2 GRAVELINES","1/4 Finale","2014-2015",null,null,null,null,0,null,0]
["LECROART Serge","HINGRAND Tony","P",1,2,119,156,"2015-02-07","R1 CD59 T2 GRAVELINES","1/2 Finale","2014-2015",null,null,null,null,0,null,0]
["LECROART Serge","HERREBRECHT Erian","G",2,0,120,36,"2015-03-14","R1 CD59 T3 VILLENEUVE D'ASCQ","Poules","2014-2015",null,null,null,null,0,null,0]
["LECROART Serge","PAILLARD Bertrand","P",1,2,139,161,"2015-03-14","R1 CD59 T3 VILLENEUVE D'ASCQ","Poules","2014-2015",null,null,null,null,0,null,0]
["LECROART Serge","ST MAXENT Stéphane","G",2,1,166,109,"2015-03-14","R1 CD59 T3 VILLENEUVE D'ASCQ","1/4 Finale","2014-2015",null,null,null,null,0,null,0]
["LECROART Serge","KERKHOF Hervé","G",2,1,154,157,"2015-03-14","R1 CD59 T3 VILLENEUVE D'ASCQ","1/2 Finale","2014-2015",null,null,null,null,0,null,0]
["LECROART Serge","MONFLIER Francis","G",2,0,120,82,"2015-03-14","R1 CD59 T3 VILLENEUVE D'ASCQ","Finale","2014-2015",null,null,null,null,0,null,0]
["LECROART Serge","PAILLARD Bertrand","P",1,3,183,225,"2015-04-05","FINALE CD59 R1 FACHES THUMESNIL","Poules","2014-2015",null,null,null,null,0,null,0]
["LECROART Serge","HINGRAND Tony","G",3,1,229,194,"2015-04-05","FINALE CD59 R1 FACHES THUMESNIL","Poules","2014-2015",null,null,null,null,0,null,0]
["LECROART Serge","KERKHOF Hervé","P",0,3,133,180,"2015-04-05","FINALE CD59 R1 FACHES THUMESNIL","1/2 Finale","2014-2015",null,null,null,null,0,null,0]
["LECROART Serge","MONFLIER Francis","G",3,0,180,117,"2015-04-05","FINALE CD59 R1 FACHES THUMESNIL","3ème 4ème","2014-2015",null,null,null,null,0,null,0]
["LECROART Serge","TRIPLET Freddy","G",3,0,180,101,"2015-04-19","FINALE LIGUE R1 GRAVELINES","Poules","2014-2015",null,null,null,null,0,null,0]
["LECROART Serge","HINGRAND Tony","G",3,1,218,202,"2015-04-19","FINALE LIGUE R1 GRAVELINES","Poules","2014-2015",null,null,null,null,0,null,0]
["LECROART Serge","PIERRU Didier","G",3,2,209,248,"2015-04-19","FINALE LIGUE R1 GRAVELINES","1/2 Finale","2014-2015",null,null,null,null,0,null,0]
["LECROART Serge","TRIPLET Freddy","P",2,3,257,259,"2015-04-19","FINALE LIGUE R1 GRAVELINES","Finale","2014-2015",null,null,null,null,0,null,0]
["LECROART Serge","DUTAILLY Michel","G",3,1,229,207,"2018-04-15","Finale R1 CD59 - VILLENEUVE D'ASCQ","Qualifications","2017-2018",null,null,null,null,0,null,0]
["LECROART Serge","ESTERMANS Bernard","P",0,3,120,180,"2018-04-15","Finale R1 CD59 - VILLENEUVE D'ASCQ","1/2 Finale","2017-2018",null,null,null,null,0,null,0]
["LECROART Serge","MANTEN Paul","G",3,0,180,123,"2018-04-15","Finale R1 CD59 - VILLENEUVE D'ASCQ","Qualifications","2017-2018",null,null,null,null,0,null,0]
["LECROART Serge","DEREUDDRE Dominique","G",2,1,167,133,"2018-01-20","T2 Qualifications R1 CD59 - ST POL SUR MER","Qualifications","2017-2018",null,null,null,null,0,null,0]
["LECROART Serge","DUTAILLY Michel","G",2,0,120,98,"2018-01-20","T2 Qualifications R1 CD59 - ST POL SUR MER","Qualifications","2017-2018",null,null,null,null,0,null,0]
["LECROART Serge","ESTERMANS Bernard","P",0,2,76,120,"2018-01-20","T2 Qualifications R1 CD59 - ST POL SUR MER","1/2 Finale","2017-2018",null,null,null,null,0,null,0]
["LECROART Serge","VEREECQUE Bernard","G",2,0,120,61,"2018-01-20","T2 Qualifications R1 CD59 - ST POL SUR MER","1/4 Finale","2017-2018",null,null,null,null,0,null,0]
["LECROART Serge","BEGHIN Nicolas","G",2,0,120,116,"2018-02-04","T3 Qualifications R1 CD59 - GRAVELINES","Qualifications","2017-2018",null,null,null,null,0,null,0]
["LECROART Serge","BEGHIN Nicolas","G",2,1,166,146,"2018-02-04","T3 Qualifications R1 CD59 - GRAVELINES","1/2 Finale","2017-2018",null,null,null,null,0,null,0]
["LECROART Serge","MANTEN Paul","P",0,2,88,120,"2018-02-04","T3 Qualifications R1 CD59 - GRAVELINES","Finale","2017-2018",null,null,null,null,0,null,0]
["LECROART Serge","WASYLYSZYN Jean-Pierre","G",2,0,120,92,"2018-02-04","T3 Qualifications R1 CD59 - GRAVELINES","Qualifications","2017-2018",null,null,null,null,0,null,0]
["LECROART Serge","BEGHIN Nicolas","P",1,2,138,168,"2018-03-10","T4 Qualifications R1 CD59 - VILLENEUVE D'ASCQ","Qualifications","2017-2018",null,null,null,null,0,null,0]
["LECROART Serge","DEREUDDRE Dominique","G",2,0,120,81,"2018-03-10","T4 Qualifications R1 CD59 - VILLENEUVE D'ASCQ","Qualifications","2017-2018",null,null,null,null,0,null,0]
["LECROART Serge","ESTERMANS Bernard","P",1,2,149,141,"2018-03-10","T4 Qualifications R1 CD59 - VILLENEUVE D'ASCQ","1/2 Finale","2017-2018",null,null,null,null,0,null,0]
["LECROART Serge","ESTERMANS Bernard","P",1,2,127,165,"2018-10-20","T1 5Q R1 CD59 - DUNKERQUE","Qualifications","2018-2019",null,null,null,null,0,null,0]
["LECROART Serge","KERKHOF Hervé","P",0,2,92,120,"2018-10-20","T1 5Q R1 CD59 - DUNKERQUE","Qualifications","2018-2019",null,null,null,null,0,null,0]
["LECROART Serge","KERKHOF Hervé","G",1,0,100,84,"2018-10-20","T1 5Q R1 CD59 - CONSOLANTE - DUNKERQUE","Qualifications","2018-2019",null,null,null,null,0,null,0]
["LECROART Serge","LORTHIOIR Jean-Luc","P",0,1,65,100,"2018-10-20","T1 5Q R1 CD59 - CONSOLANTE - DUNKERQUE","Qualifications","2018-2019",null,null,null,null,0,null,0]
["LECROART Serge","MANTEN Paul","G",1,0,100,84,"2018-10-20","T1 5Q R1 CD59 - CONSOLANTE - DUNKERQUE","Qualifications","2018-2019",null,null,null,null,0,null,0]
["LECROART Serge","MONFLIER Francis","G",1,0,100,82,"2018-10-20","T1 5Q R1 CD59 - CONSOLANTE - DUNKERQUE","Qualifications","2018-2019",null,null,null,null,0,null,0]
["LECROART Serge","BEGHIN Nicolas","P",0,2,71,120,"2018-11-24","T2 5Q R1 CD59  - DOUAI","1/2 Finale","2018-2019",null,null,null,null,0,null,0]
["LECROART Serge","ESTERMANS Bernard","G",2,0,120,115,"2018-11-24","T2 5Q R1 CD59  - DOUAI","Qualifications","2018-2019",null,null,null,null,0,null,0]
["LECROART Serge","HOCHART James","G",2,0,120,80,"2018-11-24","T2 5Q R1 CD59  - DOUAI","Qualifications","2018-2019",null,null,null,null,0,null,0]
["LECROART Serge","DEREUDDRE Dominique","G",2,0,120,78,"2018-12-16","T3 5Q R1 CD59  - DUNKERQUE","Qualifications","2018-2019",null,null,null,null,0,null,0]
["LECROART Serge","MONFLIER Francis","P",1,2,150,150,"2018-12-16","T3 5Q R1 CD59  - DUNKERQUE","Qualifications","2018-2019",null,null,null,null,0,null,0]
["LECROART Serge","PAILLARD Bertrand","P",1,2,126,159,"2018-12-16","T3 5Q R1 CD59  - DUNKERQUE","1/2 Finale","2018-2019",null,null,null,null,0,null,0]
["LECROART Serge","DUTAILLY Michel","G",1,0,100,34,"2020-01-04","T3 5Q R1 CD59 - GRAVELINES - CONSOLANTE -","Qualifications","2019-2020",null,null,null,null,0,null,0]
["LECROART Serge","SZWARC Patrick","G",1,0,100,64,"2020-01-04","T3 5Q R1 CD59 - GRAVELINES - CONSOLANTE -","Qualifications","2019-2020",null,null,null,null,0,null,0]
["LECROART Serge","VEREECQUE Bernard","G",1,0,100,54,"2020-01-04","T3 5Q R1 CD59 - GRAVELINES - CONSOLANTE -","Qualifications","2019-2020",null,null,null,null,0,null,0]
["LECROART Serge","VEREECQUE Esteban","G",1,0,100,68,"2020-01-04","T3 5Q R1 CD59 - GRAVELINES - CONSOLANTE -","Qualifications","2019-2020",null,null,null,null,0,null,0]
["LECROART Serge","DUTAILLY Michel","P",1,2,160,175,"2020-01-04","T3 5Q R1 CD59 - GRAVELINES - Convocation 8h30 -","Qualifications","2019-2020",null,null,null,null,0,null,0]
["LECROART Serge","LORTHIOIR Jean-Luc","P",0,2,76,120,"2020-01-04","T3 5Q R1 CD59 - GRAVELINES - Convocation 8h30 -","Qualifications","2019-2020",null,null,null,null,0,null,0]
["LECROART Serge","DEREUDDRE Dominique","P",0,1,98,100,"2020-02-22","T4 5Q R1 CD59 - ANNOEULLIN - CONSOLANTE","1/2 Finale","2019-2020",null,null,null,null,0,null,0]
["LECROART Serge","NOYER Pascal","G",1,0,100,60,"2020-02-22","T4 5Q R1 CD59 - ANNOEULLIN - CONSOLANTE","Qualifications","2019-2020",null,null,null,null,0,null,0]
["LECROART Serge","VEREECQUE Esteban","P",0,1,98,100,"2020-02-22","T4 5Q R1 CD59 - ANNOEULLIN - CONSOLANTE","Qualifications","2019-2020",null,null,null,null,0,null,0]
["LECROART Serge","MONFLIER Francis","P",0,2,105,120,"2020-02-22","T4 5Q R1 CD59 - ANNOEULLIN","Qualifications","2019-2020",null,null,null,null,0,null,0]
["LECROART Serge","NOYER Pascal","P",1,2,154,138,"2020-02-22","T4 5Q R1 CD59 - ANNOEULLIN","Qualifications","2019-2020",null,null,null,null,0,null,0]
["LECROART Serge","BARKUT Volkan","G",1,0,100,69,"2021-10-16","T1 5Q R1 - VILLENEUVE D'ASCQ","Qualifications","2021-2022",null,null,null,null,{"$f":"IF($K80=P$1,COUNTIF($C80,\"G\"),0)","v":1},null,{"$f":"IF($K80=R$1,COUNTIF($C80,\"G\"),0)","v":0}]
["LECROART Serge","BEGHIN Nicolas","P",0,1,57,100,"2021-10-16","T1 5Q R1 - VILLENEUVE D'ASCQ","1/4 Finale","2021-2022",null,null,null,null,0,null,0]
["LECROART Serge","HOCHART James","P",0,1,82,100,"2021-10-16","T1 5Q R1 - VILLENEUVE D'ASCQ","Qualifications","2021-2022",null,null,null,null,0,null,0]
["LECROART Serge","DUC Stéphane","P",0,1,82,100,"2021-12-18","T2 5Q R1 - GRAVELINES - CONVOCATON 8h30","1/4 Finale","2021-2022",null,null,null,null,0,null,0]
["LECROART Serge","DUTAILLY Michel","G",1,0,100,84,"2021-12-18","T2 5Q R1 - GRAVELINES - CONVOCATON 8h30","Qualifications","2021-2022",null,null,null,null,1,null,0]
["LECROART Serge","HOCHART James","G",1,0,100,96,"2021-12-18","T2 5Q R1 - GRAVELINES - CONVOCATON 8h30","Qualifications","2021-2022",null,null,null,null,1,null,0]
["LECROART Serge","BEGHIN Nicolas","P",0,1,74,100,"2022-04-02","T4 5Q R1 - ANNOEULLIN","Qualifications","2021-2022",null,null,null,null,0,null,0]
["LECROART Serge","KERKHOF Hervé","P",0,1,80,100,"2022-04-02","T4 5Q R1 - ANNOEULLIN","1/4 Finale","2021-2022",null,null,null,null,0,null,0]
["LECROART Serge","PARENT Jean-René","G",1,0,100,63,"2022-04-02","T4 5Q R1 - ANNOEULLIN","Qualifications","2021-2022",null,null,null,null,1,null,0]
["LECROART Serge","BERRIER François","G",1,0,100,45,"2022-10-30","T2 5Q R1 - GRAVELINES","Qualifications","2022-2023",null,null,null,null,0,null,1]
["LECROART Serge","DUC Stéphane","G",1,0,100,93,"2022-10-30","T2 5Q R1 - GRAVELINES","Qualifications","2022-2023",null,null,null,null,0,null,1]
["LECROART Serge","LE GOHEBEL Jacques","P",0,1,75,100,"2022-10-30","T2 5Q R1 - GRAVELINES","1/4 Finale","2022-2023",null,null,null,null,0,null,0]
["LECROART Serge","CAVITTE Jean-Pierre","G",1,0,100,66,"2023-02-04","T3 5Q R1 - GRAVELINES","Qualifications","2022-2023",null,null,null,null,0,null,1]
["LECROART Serge","DUC Stéphane","G",1,0,100,88,"2023-02-04","T3 5Q R1 - GRAVELINES","1/2 Finale","2022-2023",null,null,null,null,0,null,1]
["LECROART Serge","LE GOHEBEL Jacques","P",0,1,65,100,"2023-02-04","T3 5Q R1 - GRAVELINES","Qualifications","2022-2023",null,null,null,null,0,null,0]
["LECROART Serge","LE GOHEBEL Jacques","G",1,0,100,98,"2023-02-04","T3 5Q R1 - GRAVELINES","1/4 Finale","2022-2023",null,null,null,null,0,null,1]
["LECROART Serge","NOYER Pascal","G",1,0,100,65,"2023-02-04","T3 5Q R1 - GRAVELINES","Finale","2022-2023",null,null,null,null,0,null,1]
["LECROART Serge","DUC Stéphane","G",1,0,100,95,"2023-03-04","T4 5Q R1 - DOUAI","Finale","2022-2023",null,null,null,null,0,null,1]
["LECROART Serge","HOCHART James","G",1,0,100,52,"2023-03-04","T4 5Q R1 - DOUAI","Qualifications","2022-2023",null,null,null,null,0,null,1]
["LECROART Serge","HOCHART James","G",1,0,100,90,"2023-03-04","T4 5Q R1 - DOUAI","Qualifications","2022-2023",null,null,null,null,0,null,1]
["LECROART Serge","PARENT Jean-René","G",1,0,100,78,"2023-03-04","T4 5Q R1 - DOUAI","1/2 Finale","2022-2023",null,null,null,null,0,null,1]
["Fin des données",null,null,null,null,null,null,null,null,null,"",null,null,null,null,{"$f":"IF($K101=P$1,COUNTIF($C101,\"G\"),0)","v":0},null,{"$f":"IF($K101=R$1,COUNTIF($C101,\"G\"),0)","v":0}]

{"sheet":"LEFEBVRE Gérard","index":100,"n_rows":20,"n_cols":22,"rows_kept":20,"cut":false,"hidden":false,"merged":[]}
["LEFEBVRE Gérard",null,null,null,null,null,null,null,null,null,null,null,null,null,null,{"$f":"SaisonDeb","v":"2021-2022"},null,{"$f":"SaisonFin","v":"2022-2023"},null,"Toutes saisons"]
[{"$error":"#N/A"},null,null,null,null,null,null,null,null,null,null,null,null,null,null,"Nombre","%age","Nombre","%age","Nombre","%age"]
[{"$error":"#N/A"},null,null,null,null,null,null,null,null,null,null,null,null,"Matchs","Gagnés",{"$f":"SUM(P$15:P$116)","v":0},{"$f":"IF(P$3+P$4>0,P3/(P$3+P$4),\"\")","v":""},{"$f":"SUM(R$15:R$116)","v":0},{"$f":"IF(R$3+R$4>0,R3/(R$3+R$4),\"\")","v":""},{"$f":"COUNTIF($C$15:$C$116,\"G\")","v":2},{"$f":"IF(T$3+T$4>0,T3/(T$3+T$4),\"\")","v":0.5}]
[{"$error":"#N/A"},null,null,null,null,null,null,null,null,null,null,null,null,null,"Perdus",{"$f":"COUNTIF($K$15:$M$116,SaisonDeb)-P3","v":0},{"$f":"IF(P$3+P$4>0,P4/(P$3+P$4),\"\")","v":""},{"$f":"COUNTIF($K$15:$K$116,SaisonFin)-R3","v":0},{"$f":"IF(R$3+R$4>0,R4/(R$3+R$4),\"\")","v":""},{"$f":"COUNTIF($C$15:$C$116,\"P\")","v":2},{"$f":"IF(T$3+T$4>0,T4/(T$3+T$4),\"\")","v":0.5}]
[{"$error":"#N/A"},null,null,null,null,null,null,null,null,null,null,null,null,null,"Total / Moy.",{"$f":"SUM(P3:P4)","v":0},{"$f":"IF(SUMIF($K$15:$K$116,SaisonDeb,$G$15:$G$116)>0,SUMIF($K$15:$K$116,SaisonDeb,$F$15:$F$116)/SUMIF($K$15:$K$116,SaisonDeb,$G$15:$G$116),\"\")","v":""},{"$f":"SUM(R3:R4)","v":0},{"$f":"IF(SUMIF($K$15:$K$116,SaisonFin,$G$15:$G$116)>0,SUMIF($K$15:$K$116,SaisonFin,$F$15:$F$116)/SUMIF($K$15:$K$116,SaisonFin,$G$15:$G$116),\"\")","v":""},{"$f":"SUM(T3:T4)","v":4},{"$f":"IF(SUM($G$15:$G$116)>0,SUM($F$15:$F$116)/SUM($G$15:$G$116),\"\")","v":0.97549019607843135},{"$f":"IF(SUMIF($K$15:$K$20,SaisonDeb,$G$15:$G$20)+SUMIF($K$15:$K$20,SaisonFin,$G$15:$G$20)>0,(SUMIF($K$15:$K$20,SaisonDeb,$F$15:$F$20)+SUMIF($K$15:$K$20,SaisonFin,$F$15:$F$20))/(SUMIF($K$15:$K$20,SaisonDeb,$G$15:$G$20)+SUMIF($K$15:$K$20,SaisonFin,$G$15:$G$20)),\"\")","v":""}]
[null,null,null,null,null,null,null,null,null,null,null,null,null,"Sets","Gagnés",{"$f":"SUMIF($K$15:$K$116,SaisonDeb,$D$15:$D$116)","v":0},{"$f":"IF(P$6+P$7>0,P6/(P$6+P$7),\"\")","v":""},{"$f":"SUMIF($K$15:$K$116,SaisonFin,$D$15:$D$116)","v":0},{"$f":"IF(R$6+R$7>0,R6/(R$6+R$7),\"\")","v":""},{"$f":"SUM($D$15:$D$116)","v":4},{"$f":"IF(T$6+T$7>0,T6/(T$6+T$7),\"\")","v":0.44444444444444442}]
[null,null,null,null,null,null,null,null,null,null,null,null,null,null,"Perdus",{"$f":"SUMIF($K$15:$K$116,SaisonDeb,$E$15:$E$116)","v":0},{"$f":"IF(P$6+P$7>0,P7/(P$6+P$7),\"\")","v":""},{"$f":"SUMIF($K$15:$K$116,SaisonFin,$E$15:$E$116)","v":0},{"$f":"IF(R$6+R$7>0,R7/(R$6+R$7),\"\")","v":""},{"$f":"SUM($E$15:$E$116)","v":5},{"$f":"IF(T$6+T$7>0,T7/(T$6+T$7),\"\")","v":0.55555555555555558}]
["Récapitulatif joueurs",null,null,null,null,null,null,null,null,null,null,null,null,null,"Total",{"$f":"SUM(P6:P7)","v":0},null,{"$f":"SUM(R6:R7)","v":0},null,{"$f":"SUM(T6:T7)","v":9}]
[]
[]
[]
[]
[]
[]
["Joueur","Adversaire","G/P","Sets gagnés","Sets perdus","pts marqués","pts subis","Date","Compétition","Phase","Saison"]
["LEFEBVRE Gérard","BOUIGES Armelle","G",2,0,120,52,"2018-01-06","T 4 OISE - VILLERS","Qualifications",{"$f":"IF(H16<>\"\",IF(MONTH(H16)>MoisRef,YEAR(H16)&\"-\"&YEAR(H16)+1,YEAR(H16)-1&\"-\"&YEAR(H16)),\"\")","v":"2017-2018"},null,null,null,null,{"$f":"IF($K16=P$1,COUNTIF($C16,\"G\"),0)","v":0},null,{"$f":"IF($K16=R$1,COUNTIF($C16,\"G\"),0)","v":0}]
["LEFEBVRE Gérard","DESCLAIR Guy","P",0,2,69,120,"2018-01-06","T 4 OISE - VILLERS","1/4 Finale",{"$f":"IF(H17<>\"\",IF(MONTH(H17)>MoisRef,YEAR(H17)&\"-\"&YEAR(H17)+1,YEAR(H17)-1&\"-\"&YEAR(H17)),\"\")","v":"2017-2018"},null,null,null,null,{"$f":"IF($K17=P$1,COUNTIF($C17,\"G\"),0)","v":0},null,{"$f":"IF($K17=R$1,COUNTIF($C17,\"G\"),0)","v":0}]
["LEFEBVRE Gérard","MARTIN Denis","P",0,2,62,120,"2018-01-06","T 4 OISE - VILLERS","Qualifications",{"$f":"IF(H18<>\"\",IF(MONTH(H18)>MoisRef,YEAR(H18)&\"-\"&YEAR(H18)+1,YEAR(H18)-1&\"-\"&YEAR(H18)),\"\")","v":"2017-2018"},null,null,null,null,{"$f":"IF($K18=P$1,COUNTIF($C18,\"G\"),0)","v":0},null,{"$f":"IF($K18=R$1,COUNTIF($C18,\"G\"),0)","v":0}]
["LEFEBVRE Gérard","VANEME Sophie","G",2,1,147,116,"2018-01-06","T 4 OISE - VILLERS","Qualifications",{"$f":"IF(H19<>\"\",IF(MONTH(H19)>MoisRef,YEAR(H19)&\"-\"&YEAR(H19)+1,YEAR(H19)-1&\"-\"&YEAR(H19)),\"\")","v":"2017-2018"},null,null,null,null,{"$f":"IF($K19=P$1,COUNTIF($C19,\"G\"),0)","v":0},null,{"$f":"IF($K19=R$1,COUNTIF($C19,\"G\"),0)","v":0}]
["Fin des données",null,null,null,null,null,null,null,null,null,{"$f":"IF(H20<>\"\",IF(MONTH(H20)>MoisRef,YEAR(H20)&\"-\"&YEAR(H20)+1,YEAR(H20)-1&\"-\"&YEAR(H20)),\"\")","v":""},null,null,null,null,{"$f":"IF($K20=P$1,COUNTIF($C20,\"G\"),0)","v":0},null,{"$f":"IF($K20=R$1,COUNTIF($C20,\"G\"),0)","v":0}]

{"sheet":"LEFEVRE Alexandre","index":101,"n_rows":27,"n_cols":22,"rows_kept":27,"cut":false,"hidden":false,"merged":[]}
["LEFEVRE Alexandre",null,null,null,null,null,null,null,null,null,null,null,null,null,null,{"$f":"SaisonDeb","v":"2021-2022"},null,{"$f":"SaisonFin","v":"2022-2023"},null,"Toutes saisons"]
[{"$error":"#N/A"},null,null,null,null,null,null,null,null,null,null,null,null,null,null,"Nombre","%age","Nombre","%age","Nombre","%age"]
[{"$error":"#N/A"},null,null,null,null,null,null,null,null,null,null,null,null,"Matchs","Gagnés",{"$f":"SUM(P$15:P$114)","v":0},{"$f":"IF(P$3+P$4>0,P3/(P$3+P$4),\"\")","v":""},{"$f":"SUM(R$15:R$114)","v":10},{"$f":"IF(R$3+R$4>0,R3/(R$3+R$4),\"\")","v":0.90909090909090906},{"$f":"COUNTIF($C$15:$C$123,\"G\")","v":10},{"$f":"IF(T$3+T$4>0,T3/(T$3+T$4),\"\")","v":0.90909090909090906}]
[{"$error":"#N/A"},null,null,null,null,null,null,null,null,null,null,null,null,null,"Perdus",{"$f":"COUNTIF($K$15:$M$114,SaisonDeb)-P3","v":0},{"$f":"IF(P$3+P$4>0,P4/(P$3+P$4),\"\")","v":""},{"$f":"COUNTIF($K$15:$K$123,SaisonFin)-R3","v":1},{"$f":"IF(R$3+R$4>0,R4/(R$3+R$4),\"\")","v":9.0909090909090912E-2},{"$f":"COUNTIF($C$15:$C$123,\"P\")","v":1},{"$f":"IF(T$3+T$4>0,T4/(T$3+T$4),\"\")","v":9.0909090909090912E-2}]
[{"$error":"#N/A"},null,null,null,null,null,null,null,null,null,null,null,null,null,"Total / Moy.",{"$f":"SUM(P3:P4)","v":0},{"$f":"IF(SUMIF($K$15:$K$123,SaisonDeb,$G$15:$G$123)>0,SUMIF($K$15:$K$123,SaisonDeb,$F$15:$F$123)/SUMIF($K$15:$K$123,SaisonDeb,$G$15:$G$123),\"\")","v":""},{"$f":"SUM(R3:R4)","v":11},{"$f":"IF(SUMIF($K$15:$K$123,SaisonFin,$G$15:$G$123)>0,SUMIF($K$15:$K$123,SaisonFin,$F$15:$F$123)/SUMIF($K$15:$K$123,SaisonFin,$G$15:$G$123),\"\")","v":1.3501805054151625},{"$f":"SUM(T3:T4)","v":11},{"$f":"IF(SUM($G$15:$G$123)>0,SUM($F$15:$F$123)/SUM($G$15:$G$123),\"\")","v":1.3501805054151625},{"$f":"IF(SUMIF($K$15:$K$27,SaisonDeb,$G$15:$G$27)+SUMIF($K$15:$K$27,SaisonFin,$G$15:$G$27)>0,(SUMIF($K$15:$K$27,SaisonDeb,$F$15:$F$27)+SUMIF($K$15:$K$27,SaisonFin,$F$15:$F$27))/(SUMIF($K$15:$K$27,SaisonDeb,$G$15:$G$27)+SUMIF($K$15:$K$27,SaisonFin,$G$15:$G$27)),\"\")","v":1.3501805054151625}]
[null,null,null,null,null,null,null,null,null,null,null,null,null,"Sets","Gagnés",{"$f":"SUMIF($K$15:$K$123,SaisonDeb,$D$15:$D$123)","v":0},{"$f":"IF(P$6+P$7>0,P6/(P$6+P$7),\"\")","v":""},{"$f":"SUMIF($K$15:$K$123,SaisonFin,$D$15:$D$123)","v":25},{"$f":"IF(R$6+R$7>0,R6/(R$6+R$7),\"\")","v":0.73529411764705888},{"$f":"SUM($D$15:$D$123)","v":25},{"$f":"IF(T$6+T$7>0,T6/(T$6+T$7),\"\")","v":0.73529411764705888}]
[null,null,null,null,null,null,null,null,null,null,null,null,null,null,"Perdus",{"$f":"SUMIF($K$15:$K$123,SaisonDeb,$E$15:$E$123)","v":0},{"$f":"IF(P$6+P$7>0,P7/(P$6+P$7),\"\")","v":""},{"$f":"SUMIF($K$15:$K$123,SaisonFin,$E$15:$E$123)","v":9},{"$f":"IF(R$6+R$7>0,R7/(R$6+R$7),\"\")","v":0.26470588235294118},{"$f":"SUM($E$15:$E$123)","v":9},{"$f":"IF(T$6+T$7>0,T7/(T$6+T$7),\"\")","v":0.26470588235294118}]
["Récapitulatif joueurs",null,null,null,null,null,null,null,null,null,null,null,null,null,"Total",{"$f":"SUM(P6:P7)","v":0},null,{"$f":"SUM(R6:R7)","v":34},null,{"$f":"SUM(T6:T7)","v":34}]
[]
[]
[]
[]
[]
[]
["Joueur","Adversaire","G/P","Sets gagnés","Sets perdus","pts marqués","pts subis","Date","Compétition","Phase","Saison"]
["LEFEVRE Alexandre","COUSIN Francis","G",3,0,180,130,"2022-12-03","T1 CD02 R1 - saint quentin","Qualifications",{"$f":"IF(H16<>\"\",IF(MONTH(H16)>MoisRef,YEAR(H16)&\"-\"&YEAR(H16)+1,YEAR(H16)-1&\"-\"&YEAR(H16)),\"\")","v":"2022-2023"},null,null,null,null,{"$f":"IF($K16=P$1,COUNTIF($C16,\"G\"),0)","v":0},null,{"$f":"IF($K16=R$1,COUNTIF($C16,\"G\"),0)","v":1}]
["LEFEVRE Alexandre","FRANCOIS  Bernard","G",3,2,253,189,"2022-12-03","T1 CD02 R1 - saint quentin","Qualifications","2022-2023",null,null,null,null,{"$f":"IF($K17=P$1,COUNTIF($C17,\"G\"),0)","v":0},null,{"$f":"IF($K17=R$1,COUNTIF($C17,\"G\"),0)","v":1}]
["LEFEVRE Alexandre","FRANCOIS Bernard","G",2,1,174,131,"2023-01-28","T2 CD02 R1   poule 1 - SAINT QUENTIN","Qualifications","2022-2023",null,null,null,null,0,null,1]
["LEFEVRE Alexandre","ROZE Dominique","G",2,0,120,83,"2023-01-28","T2 CD02 R1   poule 1 - SAINT QUENTIN","Qualifications","2022-2023",null,null,null,null,0,null,1]
["LEFEVRE Alexandre","BUTTI EmIlie","G",2,1,142,143,"2023-03-25","T3 CD02 R1 - SAINT QUENTIN","Qualifications","2022-2023",null,null,null,null,0,null,1]
["LEFEVRE Alexandre","FRANCOIS Bernard","G",2,0,120,64,"2023-03-25","T3 CD02 R1 - SAINT QUENTIN","Qualifications","2022-2023",null,null,null,null,0,null,1]
["LEFEVRE Alexandre","KUZMA Régis","G",2,0,120,35,"2023-03-25","T3 CD02 R1 - SAINT QUENTIN","Qualifications","2022-2023",null,null,null,null,0,null,1]
["LEFEVRE Alexandre","SCHERER Didier","G",2,0,120,88,"2023-03-25","T3 CD02 R1 - SAINT QUENTIN","Qualifications","2022-2023",null,null,null,null,0,null,1]
["LEFEVRE Alexandre","BUTTI EmIlie","G",3,0,180,81,"2023-04-22","FINALE CD02 R1 - SAINT QUENTIN","Qualifications","2022-2023",null,null,null,null,0,null,1]
["LEFEVRE Alexandre","FRANCOIS Bernard","G",3,2,270,215,"2023-04-22","FINALE CD02 R1 - SAINT QUENTIN","Qualifications","2022-2023",null,null,null,null,0,null,1]
["LEFEVRE Alexandre","SCHERER Didier","P",1,3,191,226,"2023-04-22","FINALE CD02 R1 - SAINT QUENTIN","Qualifications","2022-2023",null,null,null,null,0,null,0]
["Fin des données",null,null,null,null,null,null,null,null,null,""]

{"sheet":"LEFORT Pierre","index":102,"n_rows":19,"n_cols":22,"rows_kept":19,"cut":false,"hidden":false,"merged":[]}
["LEFORT Pierre",null,null,null,null,null,null,null,null,null,null,null,null,null,null,{"$f":"SaisonDeb","v":"2021-2022"},null,{"$f":"SaisonFin","v":"2022-2023"},null,"Toutes saisons"]
[{"$error":"#N/A"},null,null,null,null,null,null,null,null,null,null,null,null,null,null,"Nombre","%age","Nombre","%age","Nombre","%age"]
[{"$error":"#N/A"},null,null,null,null,null,null,null,null,null,null,null,null,"Matchs","Gagnés",{"$f":"SUM(P$15:P$115)","v":0},{"$f":"IF(P$3+P$4>0,P3/(P$3+P$4),\"\")","v":""},{"$f":"SUM(R$15:R$115)","v":0},{"$f":"IF(R$3+R$4>0,R3/(R$3+R$4),\"\")","v":""},{"$f":"COUNTIF($C$15:$C$115,\"G\")","v":1},{"$f":"IF(T$3+T$4>0,T3/(T$3+T$4),\"\")","v":0.33333333333333331}]
[{"$error":"#N/A"},null,null,null,null,null,null,null,null,null,null,null,null,null,"Perdus",{"$f":"COUNTIF($K$15:$M$115,SaisonDeb)-P3","v":0},{"$f":"IF(P$3+P$4>0,P4/(P$3+P$4),\"\")","v":""},{"$f":"COUNTIF($K$15:$K$115,SaisonFin)-R3","v":0},{"$f":"IF(R$3+R$4>0,R4/(R$3+R$4),\"\")","v":""},{"$f":"COUNTIF($C$15:$C$115,\"P\")","v":2},{"$f":"IF(T$3+T$4>0,T4/(T$3+T$4),\"\")","v":0.66666666666666663}]
[{"$error":"#N/A"},null,null,null,null,null,null,null,null,null,null,null,null,null,"Total / Moy.",{"$f":"SUM(P3:P4)","v":0},{"$f":"IF(SUMIF($K$15:$K$115,SaisonDeb,$G$15:$G$115)>0,SUMIF($K$15:$K$115,SaisonDeb,$F$15:$F$115)/SUMIF($K$15:$K$115,SaisonDeb,$G$15:$G$115),\"\")","v":""},{"$f":"SUM(R3:R4)","v":0},{"$f":"IF(SUMIF($K$15:$K$115,SaisonFin,$G$15:$G$115)>0,SUMIF($K$15:$K$115,SaisonFin,$F$15:$F$115)/SUMIF($K$15:$K$115,SaisonFin,$G$15:$G$115),\"\")","v":""},{"$f":"SUM(T3:T4)","v":3},{"$f":"IF(SUM($G$15:$G$115)>0,SUM($F$15:$F$115)/SUM($G$15:$G$115),\"\")","v":1},{"$f":"IF(SUMIF($K$15:$K$19,SaisonDeb,$G$15:$G$19)+SUMIF($K$15:$K$19,SaisonFin,$G$15:$G$19)>0,(SUMIF($K$15:$K$19,SaisonDeb,$F$15:$F$19)+SUMIF($K$15:$K$19,SaisonFin,$F$15:$F$19))/(SUMIF($K$15:$K$19,SaisonDeb,$G$15:$G$19)+SUMIF($K$15:$K$19,SaisonFin,$G$15:$G$19)),\"\")","v":""}]
[null,null,null,null,null,null,null,null,null,null,null,null,null,"Sets","Gagnés",{"$f":"SUMIF($K$15:$K$115,SaisonDeb,$D$15:$D$115)","v":0},{"$f":"IF(P$6+P$7>0,P6/(P$6+P$7),\"\")","v":""},{"$f":"SUMIF($K$15:$K$115,SaisonFin,$D$15:$D$115)","v":0},{"$f":"IF(R$6+R$7>0,R6/(R$6+R$7),\"\")","v":""},{"$f":"SUM($D$15:$D$115)","v":4},{"$f":"IF(T$6+T$7>0,T6/(T$6+T$7),\"\")","v":0.44444444444444442}]
[null,null,null,null,null,null,null,null,null,null,null,null,null,null,"Perdus",{"$f":"SUMIF($K$15:$K$115,SaisonDeb,$E$15:$E$115)","v":0},{"$f":"IF(P$6+P$7>0,P7/(P$6+P$7),\"\")","v":""},{"$f":"SUMIF($K$15:$K$115,SaisonFin,$E$15:$E$115)","v":0},{"$f":"IF(R$6+R$7>0,R7/(R$6+R$7),\"\")","v":""},{"$f":"SUM($E$15:$E$115)","v":5},{"$f":"IF(T$6+T$7>0,T7/(T$6+T$7),\"\")","v":0.55555555555555558}]
["Récapitulatif joueurs",null,null,null,null,null,null,null,null,null,null,null,null,null,"Total",{"$f":"SUM(P6:P7)","v":0},null,{"$f":"SUM(R6:R7)","v":0},null,{"$f":"SUM(T6:T7)","v":9}]
[]
[]
[]
[]
[]
[]
["Joueur","Adversaire","G/P","Sets gagnés","Sets perdus","pts marqués","pts subis","Date","Compétition","Phase","Saison"]
["LEFORT Pierre","BEGHIN Nicolas","P",1,2,151,174,"2017-09-30","T1 Qualifications R1 CD59 - GRAVELINES","1/4 Finale",{"$f":"IF(H16<>\"\",IF(MONTH(H16)>MoisRef,YEAR(H16)&\"-\"&YEAR(H16)+1,YEAR(H16)-1&\"-\"&YEAR(H16)),\"\")","v":"2017-2018"},null,null,null,null,{"$f":"IF($K16=P$1,COUNTIF($C16,\"G\"),0)","v":0},null,{"$f":"IF($K16=R$1,COUNTIF($C16,\"G\"),0)","v":0}]
["LEFORT Pierre","ESTERMANS Bernard","G",2,1,157,141,"2017-09-30","T1 Qualifications R1 CD59 - GRAVELINES","Qualifications",{"$f":"IF(H17<>\"\",IF(MONTH(H17)>MoisRef,YEAR(H17)&\"-\"&YEAR(H17)+1,YEAR(H17)-1&\"-\"&YEAR(H17)),\"\")","v":"2017-2018"},null,null,null,null,{"$f":"IF($K17=P$1,COUNTIF($C17,\"G\"),0)","v":0},null,{"$f":"IF($K17=R$1,COUNTIF($C17,\"G\"),0)","v":0}]
["LEFORT Pierre","NOYER Pascal","P",1,2,138,131,"2017-09-30","T1 Qualifications R1 CD59 - GRAVELINES","Qualifications",{"$f":"IF(H18<>\"\",IF(MONTH(H18)>MoisRef,YEAR(H18)&\"-\"&YEAR(H18)+1,YEAR(H18)-1&\"-\"&YEAR(H18)),\"\")","v":"2017-2018"},null,null,null,null,{"$f":"IF($K18=P$1,COUNTIF($C18,\"G\"),0)","v":0},null,{"$f":"IF($K18=R$1,COUNTIF($C18,\"G\"),0)","v":0}]
["Fin des données",null,null,null,null,null,null,null,null,null,{"$f":"IF(H19<>\"\",IF(MONTH(H19)>MoisRef,YEAR(H19)&\"-\"&YEAR(H19)+1,YEAR(H19)-1&\"-\"&YEAR(H19)),\"\")","v":""},null,null,null,null,{"$f":"IF($K19=P$1,COUNTIF($C19,\"G\"),0)","v":0},null,{"$f":"IF($K19=R$1,COUNTIF($C19,\"G\"),0)","v":0}]

{"sheet":"LEVECQUE Jean-Bernard","index":103,"n_rows":20,"n_cols":22,"rows_kept":20,"cut":false,"hidden":false,"merged":[]}
["LEVECQUE Jean-Bernard",null,null,null,null,null,null,null,null,null,null,null,null,null,null,{"$f":"SaisonDeb","v":"2021-2022"},null,{"$f":"SaisonFin","v":"2022-2023"},null,"Toutes saisons"]
[{"$error":"#N/A"},null,null,null,null,null,null,null,null,null,null,null,null,null,null,"Nombre","%age","Nombre","%age","Nombre","%age"]
[{"$error":"#N/A"},null,null,null,null,null,null,null,null,null,null,null,null,"Matchs","Gagnés",{"$f":"SUM(P$15:P$116)","v":0},{"$f":"IF(P$3+P$4>0,P3/(P$3+P$4),\"\")","v":""},{"$f":"SUM(R$15:R$116)","v":1},{"$f":"IF(R$3+R$4>0,R3/(R$3+R$4),\"\")","v":0.25},{"$f":"COUNTIF($C$15:$C$116,\"G\")","v":1},{"$f":"IF(T$3+T$4>0,T3/(T$3+T$4),\"\")","v":0.25}]
[{"$error":"#N/A"},null,null,null,null,null,null,null,null,null,null,null,null,null,"Perdus",{"$f":"COUNTIF($K$15:$M$116,SaisonDeb)-P3","v":0},{"$f":"IF(P$3+P$4>0,P4/(P$3+P$4),\"\")","v":""},{"$f":"COUNTIF($K$15:$K$116,SaisonFin)-R3","v":3},{"$f":"IF(R$3+R$4>0,R4/(R$3+R$4),\"\")","v":0.75},{"$f":"COUNTIF($C$15:$C$116,\"P\")","v":3},{"$f":"IF(T$3+T$4>0,T4/(T$3+T$4),\"\")","v":0.75}]
[{"$error":"#N/A"},null,null,null,null,null,null,null,null,null,null,null,null,null,"Total / Moy.",{"$f":"SUM(P3:P4)","v":0},{"$f":"IF(SUMIF($K$15:$K$116,SaisonDeb,$G$15:$G$116)>0,SUMIF($K$15:$K$116,SaisonDeb,$F$15:$F$116)/SUMIF($K$15:$K$116,SaisonDeb,$G$15:$G$116),\"\")","v":""},{"$f":"SUM(R3:R4)","v":4},{"$f":"IF(SUMIF($K$15:$K$116,SaisonFin,$G$15:$G$116)>0,SUMIF($K$15:$K$116,SaisonFin,$F$15:$F$116)/SUMIF($K$15:$K$116,SaisonFin,$G$15:$G$116),\"\")","v":0.79733333333333334},{"$f":"SUM(T3:T4)","v":4},{"$f":"IF(SUM($G$15:$G$116)>0,SUM($F$15:$F$116)/SUM($G$15:$G$116),\"\")","v":0.79733333333333334},{"$f":"IF(SUMIF($K$15:$K$20,SaisonDeb,$G$15:$G$20)+SUMIF($K$15:$K$20,SaisonFin,$G$15:$G$20)>0,(SUMIF($K$15:$K$20,SaisonDeb,$F$15:$F$20)+SUMIF($K$15:$K$20,SaisonFin,$F$15:$F$20))/(SUMIF($K$15:$K$20,SaisonDeb,$G$15:$G$20)+SUMIF($K$15:$K$20,SaisonFin,$G$15:$G$20)),\"\")","v":0.79733333333333334}]
[null,null,null,null,null,null,null,null,null,null,null,null,null,"Sets","Gagnés",{"$f":"SUMIF($K$15:$K$116,SaisonDeb,$D$15:$D$116)","v":0},{"$f":"IF(P$6+P$7>0,P6/(P$6+P$7),\"\")","v":""},{"$f":"SUMIF($K$15:$K$116,SaisonFin,$D$15:$D$116)","v":1},{"$f":"IF(R$6+R$7>0,R6/(R$6+R$7),\"\")","v":0.25},{"$f":"SUM($D$15:$D$116)","v":1},{"$f":"IF(T$6+T$7>0,T6/(T$6+T$7),\"\")","v":0.25}]
[null,null,null,null,null,null,null,null,null,null,null,null,null,null,"Perdus",{"$f":"SUMIF($K$15:$K$116,SaisonDeb,$E$15:$E$116)","v":0},{"$f":"IF(P$6+P$7>0,P7/(P$6+P$7),\"\")","v":""},{"$f":"SUMIF($K$15:$K$116,SaisonFin,$E$15:$E$116)","v":3},{"$f":"IF(R$6+R$7>0,R7/(R$6+R$7),\"\")","v":0.75},{"$f":"SUM($E$15:$E$116)","v":3},{"$f":"IF(T$6+T$7>0,T7/(T$6+T$7),\"\")","v":0.75}]
["Récapitulatif joueurs",null,null,null,null,null,null,null,null,null,null,null,null,null,"Total",{"$f":"SUM(P6:P7)","v":0},null,{"$f":"SUM(R6:R7)","v":4},null,{"$f":"SUM(T6:T7)","v":4}]
[]
[]
[]
[]
[]
[]
["Joueur","Adversaire","G/P","Sets gagnés","Sets perdus","pts marqués","pts subis","Date","Compétition","Phase","Saison"]
["LEVECQUE Jean-Bernard","HOCHART James","P",0,1,81,100,"2023-02-04","T3 5Q R1 - GRAVELINES","Qualifications",{"$f":"IF(H16<>\"\",IF(MONTH(H16)>MoisRef,YEAR(H16)&\"-\"&YEAR(H16)+1,YEAR(H16)-1&\"-\"&YEAR(H16)),\"\")","v":"2022-2023"},null,null,null,null,{"$f":"IF($K16=P$1,COUNTIF($C16,\"G\"),0)","v":0},null,{"$f":"IF($K16=R$1,COUNTIF($C16,\"G\"),0)","v":0}]
["LEVECQUE Jean-Bernard","PAILLARD Bertrand","P",0,1,28,100,"2023-02-04","T3 5Q R1 - GRAVELINES","Qualifications",{"$f":"IF(H17<>\"\",IF(MONTH(H17)>MoisRef,YEAR(H17)&\"-\"&YEAR(H17)+1,YEAR(H17)-1&\"-\"&YEAR(H17)),\"\")","v":"2022-2023"},null,null,null,null,{"$f":"IF($K17=P$1,COUNTIF($C17,\"G\"),0)","v":0},null,{"$f":"IF($K17=R$1,COUNTIF($C17,\"G\"),0)","v":0}]
["LEVECQUE Jean-Bernard","CAVITTE Jean-Pierre","P",0,1,90,100,"2023-02-04","T3 5Q R1 - GRAVELINES - CONSOLANTE","Qualifications",{"$f":"IF(H18<>\"\",IF(MONTH(H18)>MoisRef,YEAR(H18)&\"-\"&YEAR(H18)+1,YEAR(H18)-1&\"-\"&YEAR(H18)),\"\")","v":"2022-2023"},null,null,null,null,{"$f":"IF($K18=P$1,COUNTIF($C18,\"G\"),0)","v":0},null,{"$f":"IF($K18=R$1,COUNTIF($C18,\"G\"),0)","v":0}]
["LEVECQUE Jean-Bernard","MACAREZ Guy","G",1,0,100,75,"2023-02-04","T3 5Q R1 - GRAVELINES - CONSOLANTE","Qualifications",{"$f":"IF(H19<>\"\",IF(MONTH(H19)>MoisRef,YEAR(H19)&\"-\"&YEAR(H19)+1,YEAR(H19)-1&\"-\"&YEAR(H19)),\"\")","v":"2022-2023"},null,null,null,null,{"$f":"IF($K19=P$1,COUNTIF($C19,\"G\"),0)","v":0},null,{"$f":"IF($K19=R$1,COUNTIF($C19,\"G\"),0)","v":1}]
["Fin des données",null,null,null,null,null,null,null,null,null,{"$f":"IF(H20<>\"\",IF(MONTH(H20)>MoisRef,YEAR(H20)&\"-\"&YEAR(H20)+1,YEAR(H20)-1&\"-\"&YEAR(H20)),\"\")","v":""},null,null,null,null,{"$f":"IF($K20=P$1,COUNTIF($C20,\"G\"),0)","v":0},null,{"$f":"IF($K20=R$1,COUNTIF($C20,\"G\"),0)","v":0}]

{"sheet":"LIMOSINO Jacques","index":104,"n_rows":20,"n_cols":22,"rows_kept":20,"cut":false,"hidden":false,"merged":[]}
["LIMOSINO Jacques",null,null,null,null,null,null,null,null,null,null,null,null,null,null,{"$f":"SaisonDeb","v":"2021-2022"},null,{"$f":"SaisonFin","v":"2022-2023"},null,"Toutes saisons"]
[{"$error":"#N/A"},null,null,null,null,null,null,null,null,null,null,null,null,null,null,"Nombre","%age","Nombre","%age","Nombre","%age"]
[{"$error":"#N/A"},null,null,null,null,null,null,null,null,null,null,null,null,"Matchs","Gagnés",{"$f":"SUM(P$15:P$116)","v":1},{"$f":"IF(P$3+P$4>0,P3/(P$3+P$4),\"\")","v":0.5},{"$f":"SUM(R$15:R$116)","v":0},{"$f":"IF(R$3+R$4>0,R3/(R$3+R$4),\"\")","v":0},{"$f":"COUNTIF($C$15:$C$116,\"G\")","v":1},{"$f":"IF(T$3+T$4>0,T3/(T$3+T$4),\"\")","v":0.25}]
[{"$error":"#N/A"},null,null,null,null,null,null,null,null,null,null,null,null,null,"Perdus",{"$f":"COUNTIF($K$15:$M$116,SaisonDeb)-P3","v":1},{"$f":"IF(P$3+P$4>0,P4/(P$3+P$4),\"\")","v":0.5},{"$f":"COUNTIF($K$15:$K$116,SaisonFin)-R3","v":2},{"$f":"IF(R$3+R$4>0,R4/(R$3+R$4),\"\")","v":1},{"$f":"COUNTIF($C$15:$C$116,\"P\")","v":3},{"$f":"IF(T$3+T$4>0,T4/(T$3+T$4),\"\")","v":0.75}]
[{"$error":"#N/A"},null,null,null,null,null,null,null,null,null,null,null,null,null,"Total / Moy.",{"$f":"SUM(P3:P4)","v":2},{"$f":"IF(SUMIF($K$15:$K$116,SaisonDeb,$G$15:$G$116)>0,SUMIF($K$15:$K$116,SaisonDeb,$F$15:$F$116)/SUMIF($K$15:$K$116,SaisonDeb,$G$15:$G$116),\"\")","v":0.7410714285714286},{"$f":"SUM(R3:R4)","v":2},{"$f":"IF(SUMIF($K$15:$K$116,SaisonFin,$G$15:$G$116)>0,SUMIF($K$15:$K$116,SaisonFin,$F$15:$F$116)/SUMIF($K$15:$K$116,SaisonFin,$G$15:$G$116),\"\")","v":0.71250000000000002},{"$f":"SUM(T3:T4)","v":4},{"$f":"IF(SUM($G$15:$G$116)>0,SUM($F$15:$F$116)/SUM($G$15:$G$116),\"\")","v":0.72629310344827591},{"$f":"IF(SUMIF($K$15:$K$20,SaisonDeb,$G$15:$G$20)+SUMIF($K$15:$K$20,SaisonFin,$G$15:$G$20)>0,(SUMIF($K$15:$K$20,SaisonDeb,$F$15:$F$20)+SUMIF($K$15:$K$20,SaisonFin,$F$15:$F$20))/(SUMIF($K$15:$K$20,SaisonDeb,$G$15:$G$20)+SUMIF($K$15:$K$20,SaisonFin,$G$15:$G$20)),\"\")","v":0.72629310344827591}]
[null,null,null,null,null,null,null,null,null,null,null,null,null,"Sets","Gagnés",{"$f":"SUMIF($K$15:$K$116,SaisonDeb,$D$15:$D$116)","v":2},{"$f":"IF(P$6+P$7>0,P6/(P$6+P$7),\"\")","v":0.5},{"$f":"SUMIF($K$15:$K$116,SaisonFin,$D$15:$D$116)","v":0},{"$f":"IF(R$6+R$7>0,R6/(R$6+R$7),\"\")","v":0},{"$f":"SUM($D$15:$D$116)","v":2},{"$f":"IF(T$6+T$7>0,T6/(T$6+T$7),\"\")","v":0.25}]
[null,null,null,null,null,null,null,null,null,null,null,null,null,null,"Perdus",{"$f":"SUMIF($K$15:$K$116,SaisonDeb,$E$15:$E$116)","v":2},{"$f":"IF(P$6+P$7>0,P7/(P$6+P$7),\"\")","v":0.5},{"$f":"SUMIF($K$15:$K$116,SaisonFin,$E$15:$E$116)","v":4},{"$f":"IF(R$6+R$7>0,R7/(R$6+R$7),\"\")","v":1},{"$f":"SUM($E$15:$E$116)","v":6},{"$f":"IF(T$6+T$7>0,T7/(T$6+T$7),\"\")","v":0.75}]
["Récapitulatif joueurs",null,null,null,null,null,null,null,null,null,null,null,null,null,"Total",{"$f":"SUM(P6:P7)","v":4},null,{"$f":"SUM(R6:R7)","v":4},null,{"$f":"SUM(T6:T7)","v":8}]
[]
[]
[]
[]
[]
[]
["Joueur","Adversaire","G/P","Sets gagnés","Sets perdus","pts marqués","pts subis","Date","Compétition","Phase","Saison"]
["LIMOSINO Jacques","MONTADOR Christophe","P",0,2,46,120,"2021-11-27","T2 CD62 5Q R1 - WIMILLE","Qualifications",{"$f":"IF(H16<>\"\",IF(MONTH(H16)>MoisRef,YEAR(H16)&\"-\"&YEAR(H16)+1,YEAR(H16)-1&\"-\"&YEAR(H16)),\"\")","v":"2021-2022"},null,null,null,null,{"$f":"IF($K16=P$1,COUNTIF($C16,\"G\"),0)","v":0},null,{"$f":"IF($K16=R$1,COUNTIF($C16,\"G\"),0)","v":0}]
["LIMOSINO Jacques","TRIPLET Eddie","G",2,0,120,104,"2021-11-27","T2 CD62 5Q R1 - WIMILLE","Qualifications",{"$f":"IF(H17<>\"\",IF(MONTH(H17)>MoisRef,YEAR(H17)&\"-\"&YEAR(H17)+1,YEAR(H17)-1&\"-\"&YEAR(H17)),\"\")","v":"2021-2022"},null,null,null,null,{"$f":"IF($K17=P$1,COUNTIF($C17,\"G\"),0)","v":1},null,{"$f":"IF($K17=R$1,COUNTIF($C17,\"G\"),0)","v":0}]
["LIMOSINO Jacques","DUCROCQ  Joël","P",0,2,106,120,"2022-11-05","T1 CD62 5Q R1 - WIMILLE","Qualifications",{"$f":"IF(H18<>\"\",IF(MONTH(H18)>MoisRef,YEAR(H18)&\"-\"&YEAR(H18)+1,YEAR(H18)-1&\"-\"&YEAR(H18)),\"\")","v":"2022-2023"},null,null,null,null,{"$f":"IF($K18=P$1,COUNTIF($C18,\"G\"),0)","v":0},null,{"$f":"IF($K18=R$1,COUNTIF($C18,\"G\"),0)","v":0}]
["LIMOSINO Jacques","DUCROCQ  Joël","P",0,2,65,120,"2022-11-05","T1 CD62 5Q R1 - WIMILLE","Qualifications",{"$f":"IF(H19<>\"\",IF(MONTH(H19)>MoisRef,YEAR(H19)&\"-\"&YEAR(H19)+1,YEAR(H19)-1&\"-\"&YEAR(H19)),\"\")","v":"2022-2023"},null,null,null,null,{"$f":"IF($K19=P$1,COUNTIF($C19,\"G\"),0)","v":0},null,{"$f":"IF($K19=R$1,COUNTIF($C19,\"G\"),0)","v":0}]
["Fin des données",null,null,null,null,null,null,null,null,null,{"$f":"IF(H20<>\"\",IF(MONTH(H20)>MoisRef,YEAR(H20)&\"-\"&YEAR(H20)+1,YEAR(H20)-1&\"-\"&YEAR(H20)),\"\")","v":""},null,null,null,null,{"$f":"IF($K20=P$1,COUNTIF($C20,\"G\"),0)","v":0},null,{"$f":"IF($K20=R$1,COUNTIF($C20,\"G\"),0)","v":0}]

{"sheet":"LORTHIOIR Jean-Luc","index":105,"n_rows":91,"n_cols":22,"rows_kept":91,"cut":false,"hidden":false,"merged":[]}
["LORTHIOIR Jean-Luc",null,null,null,null,null,null,null,null,null,null,null,null,null,null,{"$f":"SaisonDeb","v":"2021-2022"},null,{"$f":"SaisonFin","v":"2022-2023"},null,"Toutes saisons"]
["FACHES-THUMESNIL",null,null,null,null,null,null,null,null,null,null,null,null,null,null,"Nombre","%age","Nombre","%age","Nombre","%age"]
["129054-Q",null,null,null,null,null,null,null,null,null,null,null,null,"Matchs","Gagnés",{"$f":"SUM(P$15:P$91)","v":12},{"$f":"IF(P$3+P$4>0,P3/(P$3+P$4),\"\")","v":0.52173913043478259},{"$f":"SUM(R$15:R$91)","v":0},{"$f":"IF(R$3+R$4>0,R3/(R$3+R$4),\"\")","v":""},{"$f":"COUNTIF($C$15:$C$91,\"G\")","v":40},{"$f":"IF(T$3+T$4>0,T3/(T$3+T$4),\"\")","v":0.53333333333333333}]
[null,null,null,null,null,null,null,null,null,null,null,null,null,null,"Perdus",{"$f":"COUNTIF($K$15:$K$91,SaisonDeb)-P3","v":11},{"$f":"IF(P$3+P$4>0,P4/(P$3+P$4),\"\")","v":0.47826086956521741},{"$f":"COUNTIF($K$15:$K$91,SaisonFin)-R3","v":0},{"$f":"IF(R$3+R$4>0,R4/(R$3+R$4),\"\")","v":""},{"$f":"COUNTIF($C$15:$C$91,\"P\")","v":35},{"$f":"IF(T$3+T$4>0,T4/(T$3+T$4),\"\")","v":0.46666666666666667}]
["jl-lan7tre@orange.fr",null,null,null,null,null,null,null,null,null,null,null,null,null,"Total / Moy.",{"$f":"SUM(P3:P4)","v":23},{"$f":"IF(SUMIF($K$15:$K$91,SaisonDeb,$G$15:$G$91)>0,SUMIF($K$15:$K$91,SaisonDeb,$F$15:$F$91)/SUMIF($K$15:$K$91,SaisonDeb,$G$15:$G$91),\"\")","v":1.0230547550432276},{"$f":"SUM(R3:R4)","v":0},{"$f":"IF(SUMIF($K$15:$K$91,SaisonFin,$G$15:$G$91)>0,SUMIF($K$15:$K$91,SaisonFin,$F$15:$F$91)/SUMIF($K$15:$K$91,SaisonFin,$G$15:$G$91),\"\")","v":""},{"$f":"SUM(T3:T4)","v":75},{"$f":"IF(SUM($G$15:$G$91)>0,SUM($F$15:$F$91)/SUM($G$15:$G$91),\"\")","v":1.0343892518180697},{"$f":"IF(SUMIF($K$15:$K$91,SaisonDeb,$G$15:$G$91)+SUMIF($K$15:$K$91,SaisonFin,$G$15:$G$91)>0,(SUMIF($K$15:$K$91,SaisonDeb,$F$15:$F$91)+SUMIF($K$15:$K$91,SaisonFin,$F$15:$F$91))/(SUMIF($K$15:$K$91,SaisonDeb,$G$15:$G$91)+SUMIF($K$15:$K$91,SaisonFin,$G$15:$G$91)),\"\")","v":1.0230547550432276}]
[null,null,null,null,null,null,null,null,null,null,null,null,null,"Sets","Gagnés",{"$f":"SUMIF($K$15:$K$91,SaisonDeb,$D$15:$D$91)","v":18},{"$f":"IF(P$6+P$7>0,P6/(P$6+P$7),\"\")","v":0.54545454545454541},{"$f":"SUMIF($K$15:$K$91,SaisonFin,$D$15:$D$91)","v":0},{"$f":"IF(R$6+R$7>0,R6/(R$6+R$7),\"\")","v":""},{"$f":"SUM($D$15:$D$91)","v":80},{"$f":"IF(T$6+T$7>0,T6/(T$6+T$7),\"\")","v":0.54054054054054057}]
[null,null,null,null,null,null,null,null,null,null,null,null,null,null,"Perdus",{"$f":"SUMIF($K$15:$K$91,SaisonDeb,$E$15:$E$91)","v":15},{"$f":"IF(P$6+P$7>0,P7/(P$6+P$7),\"\")","v":0.45454545454545453},{"$f":"SUMIF($K$15:$K$91,SaisonFin,$E$15:$E$91)","v":0},{"$f":"IF(R$6+R$7>0,R7/(R$6+R$7),\"\")","v":""},{"$f":"SUM($E$15:$E$91)","v":68},{"$f":"IF(T$6+T$7>0,T7/(T$6+T$7),\"\")","v":0.45945945945945948}]
["Récapitulatif joueurs",null,null,null,null,null,null,null,null,null,null,null,null,null,"Total",{"$f":"SUM(P6:P7)","v":33},null,{"$f":"SUM(R6:R7)","v":0},null,{"$f":"SUM(T6:T7)","v":148}]
[]
[]
[]
[]
[]
[]
["Joueur","Adversaire","G/P","Sets gagnés","Sets perdus","pts marqués","pts subis","Date","Compétition","Phase","Saison"]
["LORTHIOIR Jean-Luc","CARPENTIER Yohanne","P",0,2,76,120,"2008-11-08","Qualifications R1 CD59 T1 ANNOEULLIN","Poules",{"$f":"IF(H16<>\"\",IF(MONTH(H16)>MoisRef,YEAR(H16)&\"-\"&YEAR(H16)+1,YEAR(H16)-1&\"-\"&YEAR(H16)),\"\")","v":"2008-2009"},null,null,null,null,{"$f":"IF($K16=P$1,COUNTIF($C16,\"G\"),0)","v":0},null,{"$f":"IF($K16=R$1,COUNTIF($C16,\"G\"),0)","v":0}]
["LORTHIOIR Jean-Luc","VANLERBERGHE Nicolas","P",0,2,51,120,"2008-11-08","Qualifications R1 CD59 T1 ANNOEULLIN","Poules","2008-2009",null,null,null,null,0,null,0]
["LORTHIOIR Jean-Luc","GODEFROIDT Michel","P",1,2,141,174,"2009-01-17","Qualifications R1 CD59 T2 ANNOEULLIN","Poules","2008-2009",null,null,null,null,0,null,0]
["LORTHIOIR Jean-Luc","BASTENIER Jean","G",2,1,159,165,"2009-01-17","Qualifications R1 CD59 T2 ANNOEULLIN","Poules","2008-2009",null,null,null,null,0,null,0]
["LORTHIOIR Jean-Luc","BASTENIER Jean","P",0,2,104,120,"2009-04-04","Qualifications R1 CD59 T3 FACHES THUMESNIL","Poules","2008-2009",null,null,null,null,0,null,0]
["LORTHIOIR Jean-Luc","DEROLEZ Jean-Pierre","P",0,2,71,120,"2009-04-04","Qualifications R1 CD59 T3 FACHES THUMESNIL","Poules","2008-2009",null,null,null,null,0,null,0]
["LORTHIOIR Jean-Luc","BEGHIN Nicolas","P",0,2,97,120,"2018-10-20","T1 5Q R1 CD59 - DUNKERQUE","Qualifications","2018-2019",null,null,null,null,0,null,0]
["LORTHIOIR Jean-Luc","PAILLARD Bertrand","P",0,2,112,120,"2018-10-20","T1 5Q R1 CD59 - DUNKERQUE","Qualifications","2018-2019",null,null,null,null,0,null,0]
["LORTHIOIR Jean-Luc","KERKHOF Hervé","P",0,1,53,100,"2018-10-20","T1 5Q R1 CD59 - CONSOLANTE - DUNKERQUE","Qualifications","2018-2019",null,null,null,null,0,null,0]
["LORTHIOIR Jean-Luc","LECROART Serge","G",1,0,100,65,"2018-10-20","T1 5Q R1 CD59 - CONSOLANTE - DUNKERQUE","Qualifications","2018-2019",null,null,null,null,0,null,0]
["LORTHIOIR Jean-Luc","MANTEN Paul","G",1,0,100,87,"2018-10-20","T1 5Q R1 CD59 - CONSOLANTE - DUNKERQUE","Qualifications","2018-2019",null,null,null,null,0,null,0]
["LORTHIOIR Jean-Luc","MONFLIER Francis","P",0,1,46,100,"2018-10-20","T1 5Q R1 CD59 - CONSOLANTE - DUNKERQUE","Qualifications","2018-2019",null,null,null,null,0,null,0]
["LORTHIOIR Jean-Luc","CAUX Frédéric","G",2,1,149,139,"2018-11-24","T2 5Q R1 CD59  - DOUAI","Qualifications","2018-2019",null,null,null,null,0,null,0]
["LORTHIOIR Jean-Luc","MONFLIER Francis","P",0,2,93,120,"2018-11-24","T2 5Q R1 CD59  - DOUAI","Qualifications","2018-2019",null,null,null,null,0,null,0]
["LORTHIOIR Jean-Luc","CAUX Frédéric","P",0,1,55,100,"2018-11-24","T2 5Q R1 CD59  - CONSOLANTE - DOUAI","Qualifications","2018-2019",null,null,null,null,0,null,0]
["LORTHIOIR Jean-Luc","ESTERMANS Bernard","P",0,1,57,100,"2018-11-24","T2 5Q R1 CD59  - CONSOLANTE - DOUAI","Qualifications","2018-2019",null,null,null,null,0,null,0]
["LORTHIOIR Jean-Luc","HOCHART James","G",1,0,100,49,"2018-11-24","T2 5Q R1 CD59  - CONSOLANTE - DOUAI","Qualifications","2018-2019",null,null,null,null,0,null,0]
["LORTHIOIR Jean-Luc","DEREUDDRE Dominique","G",1,0,100,51,"2018-12-16","T3 5Q R1 CD59  - DUNKERQUE - CONSOLANTE","Qualifications","2018-2019",null,null,null,null,0,null,0]
["LORTHIOIR Jean-Luc","DUTAILLY Michel","G",1,0,100,75,"2018-12-16","T3 5Q R1 CD59  - DUNKERQUE - CONSOLANTE","Qualifications","2018-2019",null,null,null,null,0,null,0]
["LORTHIOIR Jean-Luc","ESTERMANS Bernard","P",0,1,94,100,"2018-12-16","T3 5Q R1 CD59  - DUNKERQUE - CONSOLANTE","Qualifications","2018-2019",null,null,null,null,0,null,0]
["LORTHIOIR Jean-Luc","KERKHOF Hervé","G",1,0,100,85,"2018-12-16","T3 5Q R1 CD59  - DUNKERQUE - CONSOLANTE","Qualifications","2018-2019",null,null,null,null,0,null,0]
["LORTHIOIR Jean-Luc","KERKHOF Hervé","P",0,2,100,120,"2018-12-16","T3 5Q R1 CD59  - DUNKERQUE","Qualifications","2018-2019",null,null,null,null,0,null,0]
["LORTHIOIR Jean-Luc","PAILLARD Bertrand","P",0,2,108,120,"2018-12-16","T3 5Q R1 CD59  - DUNKERQUE","Qualifications","2018-2019",null,null,null,null,0,null,0]
["LORTHIOIR Jean-Luc","CAUX Frédéric","G",2,1,163,149,"2019-01-19","T4 5Q R1 CD59  - VILLENEUVE D'ASCQ","1/2 Finale","2018-2019",null,null,null,null,0,null,0]
["LORTHIOIR Jean-Luc","ESTERMANS Bernard","G",2,0,120,83,"2019-01-19","T4 5Q R1 CD59  - VILLENEUVE D'ASCQ","Finale","2018-2019",null,null,null,null,0,null,0]
["LORTHIOIR Jean-Luc","MANTEN Paul","G",2,0,120,60,"2019-01-19","T4 5Q R1 CD59  - VILLENEUVE D'ASCQ","Qualifications","2018-2019",null,null,null,null,0,null,0]
["LORTHIOIR Jean-Luc","PAILLARD Bertrand","G",2,0,120,56,"2019-01-19","T4 5Q R1 CD59  - VILLENEUVE D'ASCQ","Qualifications","2018-2019",null,null,null,null,0,null,0]
["LORTHIOIR Jean-Luc","CAUX Frédéric","P",1,2,120,171,"2019-03-02","Finale CD59 R1 - GRAVELINES","Qualifications","2018-2019",null,null,null,null,0,null,0]
["LORTHIOIR Jean-Luc","ESTERMANS Bernard","P",1,3,182,223,"2019-03-02","Finale CD59 R1 - GRAVELINES","3ème 4ème place","2018-2019",null,null,null,null,0,null,0]
["LORTHIOIR Jean-Luc","MONFLIER Francis","G",2,0,120,103,"2019-03-02","Finale CD59 R1 - GRAVELINES","Qualifications","2018-2019",null,null,null,null,0,null,0]
["LORTHIOIR Jean-Luc","PAILLARD Bertrand","P",2,3,236,285,"2019-03-02","Finale CD59 R1 - GRAVELINES","1/2 Finale","2018-2019",null,null,null,null,0,null,0]
["LORTHIOIR Jean-Luc","HORNAIN Denis","P",1,2,152,175,"2019-10-26","T1 5Q R1 CD59 - VILLENEUVE D'ASCQ","1/2 Finale","2019-2020",null,null,null,null,0,null,0]
["LORTHIOIR Jean-Luc","LE GOHEBEL Jacques","G",2,0,120,79,"2019-10-26","T1 5Q R1 CD59 - VILLENEUVE D'ASCQ","Qualifications","2019-2020",null,null,null,null,0,null,0]
["LORTHIOIR Jean-Luc","LE GOHEBEL Jacques","G",2,0,120,38,"2019-10-26","T1 5Q R1 CD59 - VILLENEUVE D'ASCQ","Qualifications","2019-2020",null,null,null,null,0,null,0]
["LORTHIOIR Jean-Luc","LE GOHEBEL Jacques","G",2,0,120,71,"2019-10-26","T1 5Q R1 CD59 - VILLENEUVE D'ASCQ","1/4 Finale","2019-2020",null,null,null,null,0,null,0]
["LORTHIOIR Jean-Luc","DUTAILLY Michel","G",2,0,120,56,"2019-11-24","T2 5Q R1 CD59 - GRAVELINES ","Qualifications","2019-2020",null,null,null,null,0,null,0]
["LORTHIOIR Jean-Luc","HORNAIN Denis","G",2,0,120,83,"2019-11-24","T2 5Q R1 CD59 - GRAVELINES ","Finale","2019-2020",null,null,null,null,0,null,0]
["LORTHIOIR Jean-Luc","MANTEN Paul","G",2,1,146,164,"2019-11-24","T2 5Q R1 CD59 - GRAVELINES ","1/4 Finale","2019-2020",null,null,null,null,0,null,0]
["LORTHIOIR Jean-Luc","NOYER Pascal","G",2,0,120,87,"2019-11-24","T2 5Q R1 CD59 - GRAVELINES ","Qualifications","2019-2020",null,null,null,null,0,null,0]
["LORTHIOIR Jean-Luc","SZWARC Patrick","G",2,0,120,62,"2019-11-24","T2 5Q R1 CD59 - GRAVELINES ","1/2 Finale","2019-2020",null,null,null,null,0,null,0]
["LORTHIOIR Jean-Luc","DUTAILLY Michel","G",2,0,120,80,"2020-01-04","T3 5Q R1 CD59 - GRAVELINES - Convocation 8h30 -","Qualifications","2019-2020",null,null,null,null,0,null,0]
["LORTHIOIR Jean-Luc","LECROART Serge","G",2,0,120,76,"2020-01-04","T3 5Q R1 CD59 - GRAVELINES - Convocation 8h30 -","Qualifications","2019-2020",null,null,null,null,0,null,0]
["LORTHIOIR Jean-Luc","MONFLIER Francis","P",1,2,163,157,"2020-01-04","T3 5Q R1 CD59 - GRAVELINES - Convocation 8h30 -","1/2 Finale","2019-2020",null,null,null,null,0,null,0]
["LORTHIOIR Jean-Luc","SZWARC Johann","G",2,1,178,148,"2020-01-04","T3 5Q R1 CD59 - GRAVELINES - Convocation 8h30 -","1/4 Finale","2019-2020",null,null,null,null,0,null,0]
["LORTHIOIR Jean-Luc","DEVOS Jackie","P",1,2,171,179,"2020-02-22","T4 5Q R1 CD59 - ANNOEULLIN","1/2 Finale","2019-2020",null,null,null,null,0,null,0]
["LORTHIOIR Jean-Luc","HOCHART James","P",1,2,141,157,"2020-02-22","T4 5Q R1 CD59 - ANNOEULLIN","Qualifications","2019-2020",null,null,null,null,0,null,0]
["LORTHIOIR Jean-Luc","SZWARC Patrick","G",2,0,120,32,"2020-02-22","T4 5Q R1 CD59 - ANNOEULLIN","Qualifications","2019-2020",null,null,null,null,0,null,0]
["LORTHIOIR Jean-Luc","VEREECQUE Bernard","G",2,1,143,158,"2020-02-22","T4 5Q R1 CD59 - ANNOEULLIN","1/4 Finale","2019-2020",null,null,null,null,0,null,0]
["LORTHIOIR Jean-Luc","DEREUDDRE Dominique","G",3,0,180,128,"2020-03-08","Finale 5Q R1 CD59 - GRANDE SYNTHE","Qualifications","2019-2020",null,null,null,null,0,null,0]
["LORTHIOIR Jean-Luc","DEVOS Jackie","P",1,3,138,224,"2020-03-08","Finale 5Q R1 CD59 - GRANDE SYNTHE","Qualifications","2019-2020",null,null,null,null,0,null,0]
["LORTHIOIR Jean-Luc","DEVOS Jackie","P",0,3,123,180,"2020-03-08","Finale 5Q R1 CD59 - GRANDE SYNTHE","Finale","2019-2020",null,null,null,null,0,null,0]
["LORTHIOIR Jean-Luc","MONFLIER Francis","G",3,0,180,97,"2020-03-08","Finale 5Q R1 CD59 - GRANDE SYNTHE","1/2 Finale","2019-2020",null,null,null,null,0,null,0]
["LORTHIOIR Jean-Luc","BELLENS Antoine","P",0,1,92,100,"2021-10-16","T1 5Q R1 - VILLENEUVE D'ASCQ","Qualifications","2021-2022",null,null,null,null,0,null,0]
["LORTHIOIR Jean-Luc","HAZELAERE François","G",1,0,100,94,"2021-10-16","T1 5Q R1 - VILLENEUVE D'ASCQ","Qualifications","2021-2022",null,null,null,null,1,null,0]
["LORTHIOIR Jean-Luc","DUC Stéphane","P",0,1,0,100,"2021-10-16","T1 5Q R1 - VILLENEUVE D'ASCQ - CONSOLANTE","Qualifications","2021-2022",null,null,null,null,0,null,0]
["LORTHIOIR Jean-Luc","HAZELAERE François","P",0,1,0,100,"2021-10-16","T1 5Q R1 - VILLENEUVE D'ASCQ - CONSOLANTE","Qualifications","2021-2022",null,null,null,null,0,null,0]
["LORTHIOIR Jean-Luc","BARKUT Volkan","P",0,1,84,100,"2021-12-18","T2 5Q R1 - GRAVELINES - CONVOCATON 8h30","Qualifications","2021-2022",null,null,null,null,0,null,0]
["LORTHIOIR Jean-Luc","BEGHIN Benjamin","P",0,1,98,100,"2021-12-18","T2 5Q R1 - GRAVELINES - CONVOCATON 8h30","1/4 Finale","2021-2022",null,null,null,null,0,null,0]
["LORTHIOIR Jean-Luc","BEGHIN Nicolas","G",1,0,100,58,"2021-12-18","T2 5Q R1 - GRAVELINES - CONVOCATON 8h30","Qualifications","2021-2022",null,null,null,null,1,null,0]
["LORTHIOIR Jean-Luc","BEGHIN Benjamin","P",0,1,82,100,"2022-02-26","T3 5Q R1 - GRAVELINES ","1/4 Finale","2021-2022",null,null,null,null,0,null,0]
["LORTHIOIR Jean-Luc","KERKHOF Hervé","G",1,0,100,89,"2022-02-26","T3 5Q R1 - GRAVELINES ","Qualifications","2021-2022",null,null,null,null,1,null,0]
["LORTHIOIR Jean-Luc","PARENT Jean-René","P",0,1,89,100,"2022-02-26","T3 5Q R1 - GRAVELINES ","Qualifications","2021-2022",null,null,null,null,0,null,0]
["LORTHIOIR Jean-Luc","BEGHIN Benjamin","G",1,0,100,63,"2022-04-02","T4 5Q R1 - ANNOEULLIN","Finale","2021-2022",null,null,null,null,1,null,0]
["LORTHIOIR Jean-Luc","BEGHIN Nicolas","G",1,0,100,87,"2022-04-02","T4 5Q R1 - ANNOEULLIN","1/4 Finale","2021-2022",null,null,null,null,1,null,0]
["LORTHIOIR Jean-Luc","KERKHOF Hervé","P",0,1,62,100,"2022-04-02","T4 5Q R1 - ANNOEULLIN","Qualifications","2021-2022",null,null,null,null,{"$f":"IF($K80=P$1,COUNTIF($C80,\"G\"),0)","v":0},null,{"$f":"IF($K80=R$1,COUNTIF($C80,\"G\"),0)","v":0}]
["LORTHIOIR Jean-Luc","KERKHOF Hervé","G",1,0,100,77,"2022-04-02","T4 5Q R1 - ANNOEULLIN","1/2 Finale","2021-2022",null,null,null,null,1,null,0]
["LORTHIOIR Jean-Luc","MACAREZ Guy","G",1,0,100,40,"2022-04-02","T4 5Q R1 - ANNOEULLIN","Qualifications","2021-2022",null,null,null,null,1,null,0]
["LORTHIOIR Jean-Luc","BEGHIN Benjamin","P",0,2,63,120,"2022-05-08","Finale CD59 5Q R1 - VILLENEUVE D'ASCQ","Qualifications","2021-2022",null,null,null,null,0,null,0]
["LORTHIOIR Jean-Luc","BEGHIN Benjamin","P",1,2,134,150,"2022-05-08","Finale CD59 5Q R1 - VILLENEUVE D'ASCQ","Finale","2021-2022",null,null,null,null,0,null,0]
["LORTHIOIR Jean-Luc","BEGHIN Nicolas","G",2,0,120,50,"2022-05-08","Finale CD59 5Q R1 - VILLENEUVE D'ASCQ","1/2 Finale","2021-2022",null,null,null,null,1,null,0]
["LORTHIOIR Jean-Luc","HOCHART James","G",2,1,170,134,"2022-05-08","Finale CD59 5Q R1 - VILLENEUVE D'ASCQ","Qualifications","2021-2022",null,null,null,null,1,null,0]
["LORTHIOIR Jean-Luc","BARBE Philippe","G",2,0,120,21,"2022-05-22","Finale Ligue 5Q R1 - ST QUENTIN","Finale Ligue","2021-2022",null,null,null,null,1,null,0]
["LORTHIOIR Jean-Luc","DURAND Jeremy","P",0,2,76,120,"2022-05-22","Finale Ligue 5Q R1 - ST QUENTIN","Finale Ligue","2021-2022",null,null,null,null,0,null,0]
["LORTHIOIR Jean-Luc","JOLY Kenan","G",2,0,120,73,"2022-05-22","Finale Ligue 5Q R1 - ST QUENTIN","Finale Ligue","2021-2022",null,null,null,null,1,null,0]
["LORTHIOIR Jean-Luc","LEBECQ Jean-Pierre","G",2,0,120,106,"2022-05-22","Finale Ligue 5Q R1 - ST QUENTIN","Finale Ligue","2021-2022",null,null,null,null,1,null,0]
["Fin des données",null,null,null,null,null,null,null,null,null,"",null,null,null,null,{"$f":"IF($K91=P$1,COUNTIF($C91,\"G\"),0)","v":0},null,{"$f":"IF($K91=R$1,COUNTIF($C91,\"G\"),0)","v":0}]

{"sheet":"MACAREZ Guy","index":106,"n_rows":31,"n_cols":22,"rows_kept":31,"cut":false,"hidden":false,"merged":[]}
["MACAREZ Guy",null,null,null,null,null,null,null,null,null,null,null,null,null,null,{"$f":"SaisonDeb","v":"2021-2022"},null,{"$f":"SaisonFin","v":"2022-2023"},null,"Toutes saisons"]
[{"$error":"#N/A"},null,null,null,null,null,null,null,null,null,null,null,null,null,null,"Nombre","%age","Nombre","%age","Nombre","%age"]
[{"$error":"#N/A"},null,null,null,null,null,null,null,null,null,null,null,null,"Matchs","Gagnés",{"$f":"SUM(P$15:P$127)","v":2},{"$f":"IF(P$3+P$4>0,P3/(P$3+P$4),\"\")","v":0.4},{"$f":"SUM(R$15:R$127)","v":3},{"$f":"IF(R$3+R$4>0,R3/(R$3+R$4),\"\")","v":0.3},{"$f":"COUNTIF($C$15:$C$127,\"G\")","v":5},{"$f":"IF(T$3+T$4>0,T3/(T$3+T$4),\"\")","v":0.33333333333333331}]
[{"$error":"#N/A"},null,null,null,null,null,null,null,null,null,null,null,null,null,"Perdus",{"$f":"COUNTIF($K$15:$M$127,SaisonDeb)-P3","v":3},{"$f":"IF(P$3+P$4>0,P4/(P$3+P$4),\"\")","v":0.6},{"$f":"COUNTIF($K$15:$K$127,SaisonFin)-R3","v":7},{"$f":"IF(R$3+R$4>0,R4/(R$3+R$4),\"\")","v":0.7},{"$f":"COUNTIF($C$15:$C$127,\"P\")","v":10},{"$f":"IF(T$3+T$4>0,T4/(T$3+T$4),\"\")","v":0.66666666666666663}]
[{"$error":"#N/A"},null,null,null,null,null,null,null,null,null,null,null,null,null,"Total / Moy.",{"$f":"SUM(P3:P4)","v":5},{"$f":"IF(SUMIF($K$15:$K$127,SaisonDeb,$G$15:$G$127)>0,SUMIF($K$15:$K$127,SaisonDeb,$F$15:$F$127)/SUMIF($K$15:$K$127,SaisonDeb,$G$15:$G$127),\"\")","v":0.85779816513761464},{"$f":"SUM(R3:R4)","v":10},{"$f":"IF(SUMIF($K$15:$K$127,SaisonFin,$G$15:$G$127)>0,SUMIF($K$15:$K$127,SaisonFin,$F$15:$F$127)/SUMIF($K$15:$K$127,SaisonFin,$G$15:$G$127),\"\")","v":0.78727841501564133},{"$f":"SUM(T3:T4)","v":15},{"$f":"IF(SUM($G$15:$G$127)>0,SUM($F$15:$F$127)/SUM($G$15:$G$127),\"\")","v":0.80931899641577065},{"$f":"IF(SUMIF($K$15:$K$31,SaisonDeb,$G$15:$G$31)+SUMIF($K$15:$K$31,SaisonFin,$G$15:$G$31)>0,(SUMIF($K$15:$K$31,SaisonDeb,$F$15:$F$31)+SUMIF($K$15:$K$31,SaisonFin,$F$15:$F$31))/(SUMIF($K$15:$K$31,SaisonDeb,$G$15:$G$31)+SUMIF($K$15:$K$31,SaisonFin,$G$15:$G$31)),\"\")","v":0.80931899641577065}]
[null,null,null,null,null,null,null,null,null,null,null,null,null,"Sets","Gagnés",{"$f":"SUMIF($K$15:$K$127,SaisonDeb,$D$15:$D$127)","v":2},{"$f":"IF(P$6+P$7>0,P6/(P$6+P$7),\"\")","v":0.4},{"$f":"SUMIF($K$15:$K$127,SaisonFin,$D$15:$D$127)","v":3},{"$f":"IF(R$6+R$7>0,R6/(R$6+R$7),\"\")","v":0.3},{"$f":"SUM($D$15:$D$127)","v":5},{"$f":"IF(T$6+T$7>0,T6/(T$6+T$7),\"\")","v":0.33333333333333331}]
[null,null,null,null,null,null,null,null,null,null,null,null,null,null,"Perdus",{"$f":"SUMIF($K$15:$K$127,SaisonDeb,$E$15:$E$127)","v":3},{"$f":"IF(P$6+P$7>0,P7/(P$6+P$7),\"\")","v":0.6},{"$f":"SUMIF($K$15:$K$127,SaisonFin,$E$15:$E$127)","v":7},{"$f":"IF(R$6+R$7>0,R7/(R$6+R$7),\"\")","v":0.7},{"$f":"SUM($E$15:$E$127)","v":10},{"$f":"IF(T$6+T$7>0,T7/(T$6+T$7),\"\")","v":0.66666666666666663}]
["Récapitulatif joueurs",null,null,null,null,null,null,null,null,null,null,null,null,null,"Total",{"$f":"SUM(P6:P7)","v":5},null,{"$f":"SUM(R6:R7)","v":10},null,{"$f":"SUM(T6:T7)","v":15}]
[]
[]
[]
[]
[]
[]
["Joueur","Adversaire","G/P","Sets gagnés","Sets perdus","pts marqués","pts subis","Date","Compétition","Phase","Saison"]
["MACAREZ Guy","BLONDEL Jean","G",1,0,100,50,"2022-04-02","T4 5Q R1 - ANNOEULLIN - CONSOLANTE","Qualifications",{"$f":"IF(H16<>\"\",IF(MONTH(H16)>MoisRef,YEAR(H16)&\"-\"&YEAR(H16)+1,YEAR(H16)-1&\"-\"&YEAR(H16)),\"\")","v":"2021-2022"},null,null,null,null,{"$f":"IF($K16=P$1,COUNTIF($C16,\"G\"),0)","v":1},null,{"$f":"IF($K16=R$1,COUNTIF($C16,\"G\"),0)","v":0}]
["MACAREZ Guy","NOYER Pascal","G",1,0,100,86,"2022-04-02","T4 5Q R1 - ANNOEULLIN - CONSOLANTE","Qualifications","2021-2022",null,null,null,null,1,null,0]
["MACAREZ Guy","WALGRAEF Pascal","P",0,1,84,100,"2022-04-02","T4 5Q R1 - ANNOEULLIN - CONSOLANTE","Qualifications","2021-2022",null,null,null,null,0,null,0]
["MACAREZ Guy","KERKHOF Hervé","P",0,1,50,100,"2022-04-02","T4 5Q R1 - ANNOEULLIN","Qualifications","2021-2022",null,null,null,null,0,null,0]
["MACAREZ Guy","LORTHIOIR Jean-Luc","P",0,1,40,100,"2022-04-02","T4 5Q R1 - ANNOEULLIN","Qualifications","2021-2022",null,null,null,null,0,null,0]
["MACAREZ Guy","PARENT Jean-René","G",1,0,100,96,"2022-10-30","T2 5Q R1 - GRAVELINES","Qualifications","2022-2023",null,null,null,null,0,null,1]
["MACAREZ Guy","SZWARC Johann","P",0,1,16,100,"2022-10-30","T2 5Q R1 - GRAVELINES","Qualifications","2022-2023",null,null,null,null,0,null,0]
["MACAREZ Guy","SZWARC Johann","P",0,1,75,100,"2022-10-30","T2 5Q R1 - GRAVELINES","1/4 Finale","2022-2023",null,null,null,null,0,null,0]
["MACAREZ Guy","PARENT Jean-René","P",0,1,85,100,"2023-02-04","T3 5Q R1 - GRAVELINES","Qualifications","2022-2023",null,null,null,null,0,null,0]
["MACAREZ Guy","SZWARC Johann","P",0,1,45,100,"2023-02-04","T3 5Q R1 - GRAVELINES","Qualifications","2022-2023",null,null,null,null,0,null,0]
["MACAREZ Guy","LEVECQUE Jean-Bernard","P",0,1,75,100,"2023-02-04","T3 5Q R1 - GRAVELINES - CONSOLANTE","Qualifications","2022-2023",null,null,null,null,0,null,0]
["MACAREZ Guy","CAVITTE Jean-Pierre","G",1,0,100,95,"2023-03-04","T4 5Q R1 - DOUAI","Qualifications","2022-2023",null,null,null,null,0,null,1]
["MACAREZ Guy","DUC Stéphane","P",0,1,82,100,"2023-03-04","T4 5Q R1 - DOUAI","Qualifications","2022-2023",null,null,null,null,0,null,0]
["MACAREZ Guy","CAVITTE Jean-Pierre","G",1,0,100,68,"2023-03-04","T4 5Q R1 - CONSOLANTE - DOUAI","Qualifications","2022-2023",null,null,null,null,0,null,1]
["MACAREZ Guy","HOCHART James","P",0,1,77,100,"2023-03-04","T4 5Q R1 - CONSOLANTE - DOUAI","Qualifications","2022-2023",null,null,null,null,0,null,0]
["Fin des données",null,null,null,null,null,null,null,null,null,"",null,null,null,null,0,null,0]

{"sheet":"MALET Eric","index":107,"n_rows":45,"n_cols":22,"rows_kept":45,"cut":false,"hidden":false,"merged":[]}
["MALET Eric",null,null,null,null,null,null,null,null,null,null,null,null,null,null,{"$f":"SaisonDeb","v":"2021-2022"},null,{"$f":"SaisonFin","v":"2022-2023"},null,"Toutes saisons"]
[{"$error":"#N/A"},null,null,null,null,null,null,null,null,null,null,null,null,null,null,"Nombre","%age","Nombre","%age","Nombre","%age"]
[{"$error":"#N/A"},null,null,null,null,null,null,null,null,null,null,null,null,"Matchs","Gagnés",{"$f":"SUM(P$15:P$141)","v":0},{"$f":"IF(P$3+P$4>0,P3/(P$3+P$4),\"\")","v":""},{"$f":"SUM(R$15:R$141)","v":0},{"$f":"IF(R$3+R$4>0,R3/(R$3+R$4),\"\")","v":""},{"$f":"COUNTIF($C$15:$C$141,\"G\")","v":17},{"$f":"IF(T$3+T$4>0,T3/(T$3+T$4),\"\")","v":0.58620689655172409}]
[{"$error":"#N/A"},null,null,null,null,null,null,null,null,null,null,null,null,null,"Perdus",{"$f":"COUNTIF($K$15:$M$141,SaisonDeb)-P3","v":0},{"$f":"IF(P$3+P$4>0,P4/(P$3+P$4),\"\")","v":""},{"$f":"COUNTIF($K$15:$K$141,SaisonFin)-R3","v":0},{"$f":"IF(R$3+R$4>0,R4/(R$3+R$4),\"\")","v":""},{"$f":"COUNTIF($C$15:$C$141,\"P\")","v":12},{"$f":"IF(T$3+T$4>0,T4/(T$3+T$4),\"\")","v":0.41379310344827586}]
[{"$error":"#N/A"},null,null,null,null,null,null,null,null,null,null,null,null,null,"Total / Moy.",{"$f":"SUM(P3:P4)","v":0},{"$f":"IF(SUMIF($K$15:$K$141,SaisonDeb,$G$15:$G$141)>0,SUMIF($K$15:$K$141,SaisonDeb,$F$15:$F$141)/SUMIF($K$15:$K$141,SaisonDeb,$G$15:$G$141),\"\")","v":""},{"$f":"SUM(R3:R4)","v":0},{"$f":"IF(SUMIF($K$15:$K$141,SaisonFin,$G$15:$G$141)>0,SUMIF($K$15:$K$141,SaisonFin,$F$15:$F$141)/SUMIF($K$15:$K$141,SaisonFin,$G$15:$G$141),\"\")","v":""},{"$f":"SUM(T3:T4)","v":29},{"$f":"IF(SUM($G$15:$G$141)>0,SUM($F$15:$F$141)/SUM($G$15:$G$141),\"\")","v":1.024390243902439},{"$f":"IF(SUMIF($K$15:$K$45,SaisonDeb,$G$15:$G$45)+SUMIF($K$15:$K$45,SaisonFin,$G$15:$G$45)>0,(SUMIF($K$15:$K$45,SaisonDeb,$F$15:$F$45)+SUMIF($K$15:$K$45,SaisonFin,$F$15:$F$45))/(SUMIF($K$15:$K$45,SaisonDeb,$G$15:$G$45)+SUMIF($K$15:$K$45,SaisonFin,$G$15:$G$45)),\"\")","v":""}]
[null,null,null,null,null,null,null,null,null,null,null,null,null,"Sets","Gagnés",{"$f":"SUMIF($K$15:$K$141,SaisonDeb,$D$15:$D$141)","v":0},{"$f":"IF(P$6+P$7>0,P6/(P$6+P$7),\"\")","v":""},{"$f":"SUMIF($K$15:$K$141,SaisonFin,$D$15:$D$141)","v":0},{"$f":"IF(R$6+R$7>0,R6/(R$6+R$7),\"\")","v":""},{"$f":"SUM($D$15:$D$141)","v":28},{"$f":"IF(T$6+T$7>0,T6/(T$6+T$7),\"\")","v":0.52830188679245282}]
[null,null,null,null,null,null,null,null,null,null,null,null,null,null,"Perdus",{"$f":"SUMIF($K$15:$K$141,SaisonDeb,$E$15:$E$141)","v":0},{"$f":"IF(P$6+P$7>0,P7/(P$6+P$7),\"\")","v":""},{"$f":"SUMIF($K$15:$K$141,SaisonFin,$E$15:$E$141)","v":0},{"$f":"IF(R$6+R$7>0,R7/(R$6+R$7),\"\")","v":""},{"$f":"SUM($E$15:$E$141)","v":25},{"$f":"IF(T$6+T$7>0,T7/(T$6+T$7),\"\")","v":0.47169811320754718}]
["Récapitulatif joueurs",null,null,null,null,null,null,null,null,null,null,null,null,null,"Total",{"$f":"SUM(P6:P7)","v":0},null,{"$f":"SUM(R6:R7)","v":0},null,{"$f":"SUM(T6:T7)","v":53}]
[]
[]
[]
[]
[]
[]
["Joueur","Adversaire","G/P","Sets gagnés","Sets perdus","pts marqués","pts subis","Date","Compétition","Phase","Saison"]
["MALET Eric","CABUZEL Denis","P",0,1,60,100,"2016-11-26","5Q  R1 CD80 - T1 ","Qualifications",{"$f":"IF(H16<>\"\",IF(MONTH(H16)>MoisRef,YEAR(H16)&\"-\"&YEAR(H16)+1,YEAR(H16)-1&\"-\"&YEAR(H16)),\"\")","v":"2016-2017"},null,null,null,null,{"$f":"IF($K16=P$1,COUNTIF($C16,\"G\"),0)","v":0},null,{"$f":"IF($K16=R$1,COUNTIF($C16,\"G\"),0)","v":0}]
["MALET Eric","WARIN Yannick","P",0,1,59,100,"2016-11-26","5Q  R1 CD80 - T1 ","Qualifications","2016-2017",null,null,null,null,0,null,0]
["MALET Eric","HERSELIN Jean-Claude","G",1,0,100,37,"2016-11-26","5Q  R1 CD80 - T1 ","Qualifications","2016-2017",null,null,null,null,0,null,0]
["MALET Eric","WANQUETIN Sylvain","P",0,1,92,100,"2016-11-26","5Q  R1 CD80 - T1 ","Qualifications","2016-2017",null,null,null,null,0,null,0]
["MALET Eric","VASSEUR Gaëtan","G",3,2,227,237,"2017-03-18","5Q R1 - Finale CD80 - PONT DE METZ","Poule unique","2016-2017",null,null,null,null,0,null,0]
["MALET Eric","CABUZEL Denis","P",1,3,185,217,"2017-03-18","5Q R1 - Finale CD80 - PONT DE METZ","Poule unique","2016-2017",null,null,null,null,0,null,0]
["MALET Eric","BETTEFORT Mickael","P",0,3,107,180,"2017-03-18","5Q R1 - Finale CD80 - PONT DE METZ","Poule unique","2016-2017",null,null,null,null,0,null,0]
["MALET Eric","DAMMONEVILLE Blandine","G",1,0,100,58,"2017-01-21","5Q  R1 CD80 - T2 - ABBEVILLE","Qualifications","2016-2017",null,null,null,null,0,null,0]
["MALET Eric","CABUZEL Denis","P",0,1,90,100,"2017-01-21","5Q  R1 CD80 - T2 - ABBEVILLE","Qualifications","2016-2017",null,null,null,null,0,null,0]
["MALET Eric","DELAFOSSE Gilles","G",1,0,100,65,"2017-01-21","5Q  R1 CD80 - T2 - ABBEVILLE","Qualifications","2016-2017",null,null,null,null,0,null,0]
["MALET Eric","RENAULT Marius","G",1,0,100,63,"2017-01-21","5Q  R1 CD80 - T2 - ABBEVILLE","Qualifications","2016-2017",null,null,null,null,0,null,0]
["MALET Eric","CUVILLIER Francois","G",1,0,100,71,"2017-02-25","5Q  R1 CD80 - T3 - MOREUIL","Qualifications","2016-2017",null,null,null,null,0,null,0]
["MALET Eric","BETTEFORT Mickael","G",1,0,100,84,"2017-02-25","5Q  R1 CD80 - T3 - MOREUIL","Qualifications","2016-2017",null,null,null,null,0,null,0]
["MALET Eric","DAMONNEVILLE Blandine","G",1,0,100,49,"2017-02-25","5Q  R1 CD80 - T3 - MOREUIL","Qualifications","2016-2017",null,null,null,null,0,null,0]
["MALET Eric","DELAFOSSE Gilles","G",1,0,100,92,"2017-02-25","5Q  R1 CD80 - T3 - MOREUIL","Qualifications","2016-2017",null,null,null,null,0,null,0]
["MALET Eric","DELRUE Céline","G",2,0,120,43,"2017-11-25","T1 5 QUILLES R1 CD80 - ABBEVILLE","Qualifications","2017-2018",null,null,null,null,0,null,0]
["MALET Eric","DUMEIGE Similien","P",1,2,120,172,"2017-11-25","T1 5 QUILLES R1 CD80 - ABBEVILLE","1/4 Finale","2017-2018",null,null,null,null,0,null,0]
["MALET Eric","RENAULT Marius","G",2,0,120,90,"2017-11-25","T1 5 QUILLES R1 CD80 - ABBEVILLE","Qualifications","2017-2018",null,null,null,null,0,null,0]
["MALET Eric","CUVILLIER François","P",0,2,99,120,"2018-01-06","T2 5 QUILLES R1 CD80 - ABBEVILLE","Qualifications","2017-2018",null,null,null,null,0,null,0]
["MALET Eric","CUVILLIER François","P",0,2,76,120,"2018-01-06","T2 5 QUILLES R1 CD80 - ABBEVILLE","Qualifications","2017-2018",null,null,null,null,0,null,0]
["MALET Eric","HERSELIN Jean-Claude","G",1,0,80,27,"2018-02-17","T3 5 QUILLES R1 CD80 - CONSOLANTE - MOREUIL","Qualifications","2017-2018",null,null,null,null,0,null,0]
["MALET Eric","POINTIN Régis","G",1,0,80,78,"2018-02-17","T3 5 QUILLES R1 CD80 - CONSOLANTE - MOREUIL","Qualifications","2017-2018",null,null,null,null,0,null,0]
["MALET Eric","CUVILLIER François","P",0,2,103,120,"2018-02-17","T3 5 QUILLES R1 CD80 - MOREUIL","Qualifications","2017-2018",null,null,null,null,0,null,0]
["MALET Eric","POINTIN Régis","G",2,0,120,103,"2018-02-17","T3 5 QUILLES R1 CD80 - MOREUIL","Qualifications","2017-2018",null,null,null,null,0,null,0]
["MALET Eric","CABUZEL Denis","G",2,0,120,98,"2018-11-24","T2 R1 CD80 - ","1/4 Finale","2018-2019",null,null,null,null,0,null,0]
["MALET Eric","DIEU Jean-Charles","P",1,2,132,164,"2018-11-24","T2 R1 CD80 - ","Qualifications","2018-2019",null,null,null,null,0,null,0]
["MALET Eric","DIEU Jean-Charles","G",2,1,137,175,"2018-11-24","T2 R1 CD80 - ","Qualifications","2018-2019",null,null,null,null,0,null,0]
["MALET Eric","DUHAMEL Eddy","P",0,2,61,120,"2018-11-24","T2 R1 CD80 - ","1/2 Finale","2018-2019",null,null,null,null,0,null,0]
["MALET Eric","JOLY Kenan","G",2,0,120,51,"2018-11-24","T2 R1 CD80 - ","1/8 Finale","2018-2019",null,null,null,null,0,null,0]
["Fin des données",null,null,null,null,null,null,null,null,null,"",null,null,null,null,{"$f":"IF($K45=P$1,COUNTIF($C45,\"G\"),0)","v":0},null,{"$f":"IF($K45=R$1,COUNTIF($C45,\"G\"),0)","v":0}]

{"sheet":"MANTEN Paul","index":108,"n_rows":125,"n_cols":22,"rows_kept":125,"cut":false,"hidden":false,"merged":[]}
["MANTEN Paul",null,null,null,null,null,null,null,null,null,null,null,null,null,null,{"$f":"SaisonDeb","v":"2021-2022"},null,{"$f":"SaisonFin","v":"2022-2023"},null,"Toutes saisons"]
["GRAVELINES",null,null,null,null,null,null,null,null,null,null,null,null,null,null,"Nombre","%age","Nombre","%age","Nombre","%age"]
["016680-O",null,null,null,null,null,null,null,null,null,null,null,null,"Matchs","Gagnés",{"$f":"SUM(P$15:P$125)","v":2},{"$f":"IF(P$3+P$4>0,P3/(P$3+P$4),\"\")","v":0.4},{"$f":"SUM(R$15:R$125)","v":0},{"$f":"IF(R$3+R$4>0,R3/(R$3+R$4),\"\")","v":0},{"$f":"COUNTIF($C$15:$C$125,\"G\")","v":65},{"$f":"IF(T$3+T$4>0,T3/(T$3+T$4),\"\")","v":0.59633027522935778}]
[null,null,null,null,null,null,null,null,null,null,null,null,null,null,"Perdus",{"$f":"COUNTIF($K$15:$K$125,SaisonDeb)-P3","v":3},{"$f":"IF(P$3+P$4>0,P4/(P$3+P$4),\"\")","v":0.6},{"$f":"COUNTIF($K$15:$K$125,SaisonFin)-R3","v":2},{"$f":"IF(R$3+R$4>0,R4/(R$3+R$4),\"\")","v":1},{"$f":"COUNTIF($C$15:$C$125,\"P\")","v":44},{"$f":"IF(T$3+T$4>0,T4/(T$3+T$4),\"\")","v":0.40366972477064222}]
[null,null,null,null,null,null,null,null,null,null,null,null,null,null,"Total / Moy.",{"$f":"SUM(P3:P4)","v":5},{"$f":"IF(SUMIF($K$15:$K$125,SaisonDeb,$G$15:$G$125)>0,SUMIF($K$15:$K$125,SaisonDeb,$F$15:$F$125)/SUMIF($K$15:$K$125,SaisonDeb,$G$15:$G$125),\"\")","v":1.0233100233100234},{"$f":"SUM(R3:R4)","v":2},{"$f":"IF(SUMIF($K$15:$K$125,SaisonFin,$G$15:$G$125)>0,SUMIF($K$15:$K$125,SaisonFin,$F$15:$F$125)/SUMIF($K$15:$K$125,SaisonFin,$G$15:$G$125),\"\")","v":0.89500000000000002},{"$f":"SUM(T3:T4)","v":109},{"$f":"IF(SUM($G$15:$G$125)>0,SUM($F$15:$F$125)/SUM($G$15:$G$125),\"\")","v":1.0903297312274869},{"$f":"IF(SUMIF($K$15:$K$125,SaisonDeb,$G$15:$G$125)+SUMIF($K$15:$K$125,SaisonFin,$G$15:$G$125)>0,(SUMIF($K$15:$K$125,SaisonDeb,$F$15:$F$125)+SUMIF($K$15:$K$125,SaisonFin,$F$15:$F$125))/(SUMIF($K$15:$K$125,SaisonDeb,$G$15:$G$125)+SUMIF($K$15:$K$125,SaisonFin,$G$15:$G$125)),\"\")","v":0.98251192368839424}]
[null,null,null,null,null,null,null,null,null,null,null,null,null,"Sets","Gagnés",{"$f":"SUMIF($K$15:$K$125,SaisonDeb,$D$15:$D$125)","v":2},{"$f":"IF(P$6+P$7>0,P6/(P$6+P$7),\"\")","v":0.4},{"$f":"SUMIF($K$15:$K$125,SaisonFin,$D$15:$D$125)","v":0},{"$f":"IF(R$6+R$7>0,R6/(R$6+R$7),\"\")","v":0},{"$f":"SUM($D$15:$D$125)","v":165},{"$f":"IF(T$6+T$7>0,T6/(T$6+T$7),\"\")","v":0.56506849315068497}]
[null,null,null,null,null,null,null,null,null,null,null,null,null,null,"Perdus",{"$f":"SUMIF($K$15:$K$125,SaisonDeb,$E$15:$E$125)","v":3},{"$f":"IF(P$6+P$7>0,P7/(P$6+P$7),\"\")","v":0.6},{"$f":"SUMIF($K$15:$K$125,SaisonFin,$E$15:$E$125)","v":2},{"$f":"IF(R$6+R$7>0,R7/(R$6+R$7),\"\")","v":1},{"$f":"SUM($E$15:$E$125)","v":127},{"$f":"IF(T$6+T$7>0,T7/(T$6+T$7),\"\")","v":0.43493150684931509}]
["Récapitulatif joueurs",null,null,null,null,null,null,null,null,null,null,null,null,null,"Total",{"$f":"SUM(P6:P7)","v":5},null,{"$f":"SUM(R6:R7)","v":2},null,{"$f":"SUM(T6:T7)","v":292}]
[]
[]
[]
[]
[]
[]
["Joueur","Adversaire","G/P","Sets gagnés","Sets perdus","pts marqués","pts subis","Date","Compétition","Phase","Saison"]
["MANTEN Paul","POLLAERT Michel","G",2,1,166,142,"2008-11-08","Qualifications R1 CD59 T1 DUNKERQUE","Poules",{"$f":"IF(H16<>\"\",IF(MONTH(H16)>MoisRef,YEAR(H16)&\"-\"&YEAR(H16)+1,YEAR(H16)-1&\"-\"&YEAR(H16)),\"\")","v":"2008-2009"},null,null,null,null,{"$f":"IF($K16=P$1,COUNTIF($C16,\"G\"),0)","v":0},null,{"$f":"IF($K16=R$1,COUNTIF($C16,\"G\"),0)","v":0}]
["MANTEN Paul","MERVAILLE Jean","G",2,1,167,159,"2008-11-08","Qualifications R1 CD59 T1 DUNKERQUE","Poules","2008-2009",null,null,null,null,0,null,0]
["MANTEN Paul","VEREECQUE Ludovic","G",2,0,120,78,"2009-01-17","Qualifications R1 CD59 T2 ST POL SUR MER","Poules","2008-2009",null,null,null,null,0,null,0]
["MANTEN Paul","DESBONNETS Clémentine","G",2,1,173,116,"2009-01-17","Qualifications R1 CD59 T2 ST POL SUR MER","Poules","2008-2009",null,null,null,null,0,null,0]
["MANTEN Paul","LUBREZ Pierre","P",1,2,163,172,"2009-04-04","Qualifications R1 CD59 T3 DUNKERQUE","Poules","2008-2009",null,null,null,null,0,null,0]
["MANTEN Paul","HULOT Sophie","G",2,0,120,98,"2009-04-04","Qualifications R1 CD59 T3 DUNKERQUE","Poules","2008-2009",null,null,null,null,0,null,0]
["MANTEN Paul","VEREECQUE Bernard","G",2,0,120,78,"2009-12-12","R1 CD59 T1 SAINT POL SUR MER","Poules","2009-2010",null,null,null,null,0,null,0]
["MANTEN Paul","CARRU Bruno","G",2,1,132,159,"2009-12-12","R1 CD59 T1 SAINT POL SUR MER","Poules","2009-2010",null,null,null,null,0,null,0]
["MANTEN Paul","DEVOS Jackie","P",1,2,152,176,"2009-12-12","R1 CD59 T1 SAINT POL SUR MER","1/4 Finale","2009-2010",null,null,null,null,0,null,0]
["MANTEN Paul","ESTERMANS Bernard","P",1,2,104,152,"2009-01-16","R1 CD59 T2 VILLENEUVE D'ASCQ","Poules","2008-2009",null,null,null,null,0,null,0]
["MANTEN Paul","ESTERMANS Bernard","G",2,0,120,101,"2009-01-16","R1 CD59 T2 VILLENEUVE D'ASCQ","Poules","2008-2009",null,null,null,null,0,null,0]
["MANTEN Paul","VANLERBERGHE Nicolas","P",0,2,62,120,"2009-01-16","R1 CD59 T2 VILLENEUVE D'ASCQ","1/4 Finale","2008-2009",null,null,null,null,0,null,0]
["MANTEN Paul","POLARD Serge","G",2,1,171,117,"2010-03-13","R1 CD59 T3 VILLENEUVE D'ASCQ","Poules","2009-2010",null,null,null,null,0,null,0]
["MANTEN Paul","ESTERMANS Bernard","P",1,2,142,136,"2010-03-13","R1 CD59 T3 VILLENEUVE D'ASCQ","Poules","2009-2010",null,null,null,null,0,null,0]
["MANTEN Paul","ESTERMANS Bernard","G",2,0,120,80,"2010-03-13","R1 CD59 T3 VILLENEUVE D'ASCQ","1/4 Finale","2009-2010",null,null,null,null,0,null,0]
["MANTEN Paul","VANLERBERGHE Nicolas","P",1,2,173,150,"2010-03-13","R1 CD59 T3 VILLENEUVE D'ASCQ","1/2 Finale","2009-2010",null,null,null,null,0,null,0]
["MANTEN Paul","HOCHART James","G",2,1,156,145,"2010-10-16","R1 CD59 T1 ST POL SUR MER","Poules","2010-2011",null,null,null,null,0,null,0]
["MANTEN Paul","HOCHART James","P",1,2,158,162,"2010-10-16","R1 CD59 T1 ST POL SUR MER","Poules","2010-2011",null,null,null,null,0,null,0]
["MANTEN Paul","MERVAILLE Jean","G",2,1,162,118,"2010-10-16","R1 CD59 T1 ST POL SUR MER","1/4 Finale","2010-2011",null,null,null,null,0,null,0]
["MANTEN Paul","ESTERMANS Bernard","G",2,0,120,75,"2010-10-16","R1 CD59 T1 ST POL SUR MER","1/2 Finale","2010-2011",null,null,null,null,0,null,0]
["MANTEN Paul","LUBREZ Pierre","G",2,0,120,75,"2010-10-16","R1 CD59 T1 ST POL SUR MER","Finale","2010-2011",null,null,null,null,0,null,0]
["MANTEN Paul","MONFLIER Francis","G",2,0,120,102,"2010-11-13","R1 CD59 T2 ST POL SUR MER","Poules","2010-2011",null,null,null,null,0,null,0]
["MANTEN Paul","VEREECQUE Bernard","G",2,0,120,52,"2010-11-13","R1 CD59 T2 ST POL SUR MER","Poules","2010-2011",null,null,null,null,0,null,0]
["MANTEN Paul","MONFLIER Francis","G",2,0,120,72,"2010-11-13","R1 CD59 T2 ST POL SUR MER","1/4 Finale","2010-2011",null,null,null,null,0,null,0]
["MANTEN Paul","ESTERMANS Bernard","G",2,1,179,134,"2010-11-13","R1 CD59 T2 ST POL SUR MER","1/2 Finale","2010-2011",null,null,null,null,0,null,0]
["MANTEN Paul","LUBREZ Pierre","G",2,0,120,69,"2010-11-13","R1 CD59 T2 ST POL SUR MER","Finale","2010-2011",null,null,null,null,0,null,0]
["MANTEN Paul","PRUVOST Franck","G",2,1,170,133,"2011-01-15","R1 CD59 T4 VILLENEUVE D'ASCQ","Poules","2010-2011",null,null,null,null,0,null,0]
["MANTEN Paul","VEREECQUE Bernard","G",2,0,120,38,"2011-01-15","R1 CD59 T4 VILLENEUVE D'ASCQ","Poules","2010-2011",null,null,null,null,0,null,0]
["MANTEN Paul","VEREECQUE Bernard","G",2,1,178,96,"2011-01-15","R1 CD59 T4 VILLENEUVE D'ASCQ","1/4 Finale","2010-2011",null,null,null,null,0,null,0]
["MANTEN Paul","LUBREZ Pierre","P",0,2,70,120,"2011-01-15","R1 CD59 T4 VILLENEUVE D'ASCQ","1/2 Finale","2010-2011",null,null,null,null,0,null,0]
["MANTEN Paul","ST MAXENT Stéphane","G",3,1,234,185,"2011-02-26","R1 FINALE CD59 ST POL SUR MER","Poules","2010-2011",null,null,null,null,0,null,0]
["MANTEN Paul","ESTERMANS Bernard","P",1,3,184,227,"2011-02-26","R1 FINALE CD59 ST POL SUR MER","Poules","2010-2011",null,null,null,null,0,null,0]
["MANTEN Paul","LUBREZ Pierre","P",2,3,261,256,"2011-02-26","R1 FINALE CD59 ST POL SUR MER","1/2 Finale","2010-2011",null,null,null,null,0,null,0]
["MANTEN Paul","HOCHART James","G",3,0,180,128,"2011-02-26","R1 FINALE CD59 ST POL SUR MER","3ème 4ème place","2010-2011",null,null,null,null,0,null,0]
["MANTEN Paul","LEBLANC Jean-Noël","P",1,3,185,217,"2011-05-28","R1 FINALE LIGUE FACHES THUMESNIL","Poules","2010-2011",null,null,null,null,0,null,0]
["MANTEN Paul","DEPLECHIN Robert","P",1,3,195,227,"2011-05-28","R1 FINALE LIGUE FACHES THUMESNIL","Poules","2010-2011",null,null,null,null,0,null,0]
["MANTEN Paul","MARTEL Bruno","G",3,0,180,82,"2011-05-28","R1 FINALE LIGUE FACHES THUMESNIL","5ème/6ème place","2010-2011",null,null,null,null,0,null,0]
["MANTEN Paul","PARISIS Francis","G",2,0,120,33,"2014-01-04","R1 CD59 T1 RONCHIN","Poules","2013-2014",null,null,null,null,0,null,0]
["MANTEN Paul","MONFLIER Francis","G",2,1,168,170,"2014-01-04","R1 CD59 T1 RONCHIN","Poules","2013-2014",null,null,null,null,0,null,0]
["MANTEN Paul","MONFLIER Francis","G",2,0,120,108,"2014-01-04","R1 CD59 T1 RONCHIN","1/2 finale","2013-2014",null,null,null,null,0,null,0]
["MANTEN Paul","VEREECQUE Bernard","G",2,0,120,71,"2014-01-04","R1 CD59 T1 RONCHIN","Finale","2013-2014",null,null,null,null,0,null,0]
["MANTEN Paul","PAILLARD Bertrand","P",1,2,166,171,"2014-02-22","R1 CD59 T2 GRANDE SYNTHE","Poules","2013-2014",null,null,null,null,0,null,0]
["MANTEN Paul","PARISIS Francis","G",2,1,178,117,"2014-02-22","R1 CD59 T2 GRANDE SYNTHE","Poules","2013-2014",null,null,null,null,0,null,0]
["MANTEN Paul","MONFLIER Francis","G",2,0,120,67,"2014-02-22","R1 CD59 T2 GRANDE SYNTHE","1/4 Finale","2013-2014",null,null,null,null,0,null,0]
["MANTEN Paul","ST MAXENT Stéphane","P",1,2,156,174,"2014-02-22","R1 CD59 T2 GRANDE SYNTHE","1/2 Finale","2013-2014",null,null,null,null,0,null,0]
["MANTEN Paul","ALDEGUER Lionel","G",3,1,235,199,"2014-04-18","Finale CD59 R1 ST POL SUR MER","Poules","2013-2014",null,null,null,null,0,null,0]
["MANTEN Paul","MONFLIER Francis","G",3,2,277,259,"2014-04-18","Finale CD59 R1 ST POL SUR MER","Poules","2013-2014",null,null,null,null,0,null,0]
["MANTEN Paul","ST MAXENT Stéphane","G",3,1,234,194,"2014-04-18","Finale CD59 R1 ST POL SUR MER","1/2 Finale","2013-2014",null,null,null,null,0,null,0]
["MANTEN Paul","ALDEGUER Lionel","P",2,3,273,254,"2014-04-18","Finale CD59 R1 ST POL SUR MER","Finale","2013-2014",null,null,null,null,0,null,0]
["MANTEN Paul","MARTEL Bruno","P",2,3,250,279,"2014-05-18","Finale Ligue R1 CALAIS","Poules","2013-2014",null,null,null,null,0,null,0]
["MANTEN Paul","ST MAXENT Stéphane","G",3,0,180,102,"2014-05-18","Finale Ligue R1 CALAIS","Poules","2013-2014",null,null,null,null,0,null,0]
["MANTEN Paul","TRIPLET Gilbert","P",0,3,115,180,"2014-05-18","Finale Ligue R1 CALAIS","1/2 Finale","2013-2014",null,null,null,null,0,null,0]
["MANTEN Paul",{"$f":"$A$1654","v":0},"G",3,2,264,270,"2014-05-18","Finale Ligue R1 CALAIS","3ème 4ème","2013-2014",null,null,null,null,0,null,0]
["MANTEN Paul","DELATTRE Gregory","G",2,1,170,156,"2017-03-11","T3 Qualifications CD59 R1 - ST POL SUR MER","Qualifications","2016-2017",null,null,null,null,0,null,0]
["MANTEN Paul","MONFLIER Francis","P",0,2,98,120,"2017-03-11","T3 Qualifications CD59 R1 - ST POL SUR MER","1/4 Finale","2016-2017",null,null,null,null,0,null,0]
["MANTEN Paul","TOP Alexis","G",2,0,120,53,"2017-03-11","T3 Qualifications CD59 R1 - ST POL SUR MER","Qualifications","2016-2017",null,null,null,null,0,null,0]
["MANTEN Paul","BUTTI Bertrand","G",3,1,228,181,"2018-04-29","Finale LIGUE 5 QUILLES R1 - CREPY EN VALOIS","Qualifications","2017-2018",null,null,null,null,0,null,0]
["MANTEN Paul","CUVILLIER François","P",1,3,168,235,"2018-04-29","Finale LIGUE 5 QUILLES R1 - CREPY EN VALOIS","Qualifications","2017-2018",null,null,null,null,0,null,0]
["MANTEN Paul","FAURE Stéphane","P",0,3,132,180,"2018-04-29","Finale LIGUE 5 QUILLES R1 - CREPY EN VALOIS","Qualifications","2017-2018",null,null,null,null,0,null,0]
["MANTEN Paul","MARTEL Bruno","G",3,0,180,96,"2018-04-29","Finale LIGUE 5 QUILLES R1 - CREPY EN VALOIS","Qualifications","2017-2018",null,null,null,null,0,null,0]
["MANTEN Paul","BEGHIN Nicolas","G",3,1,227,177,"2018-04-15","Finale R1 CD59 - VILLENEUVE D'ASCQ","1/2 Finale","2017-2018",null,null,null,null,0,null,0]
["MANTEN Paul","DUTAILLY Michel","G",3,1,227,179,"2018-04-15","Finale R1 CD59 - VILLENEUVE D'ASCQ","Qualifications","2017-2018",null,null,null,null,0,null,0]
["MANTEN Paul","ESTERMANS Bernard","P",1,3,191,205,"2018-04-15","Finale R1 CD59 - VILLENEUVE D'ASCQ","Finale","2017-2018",null,null,null,null,0,null,0]
["MANTEN Paul","LECROART Serge","P",0,3,123,180,"2018-04-15","Finale R1 CD59 - VILLENEUVE D'ASCQ","Qualifications","2017-2018",null,null,null,null,0,null,0]
["MANTEN Paul","BEGHIN Nicolas","G",2,0,120,87,"2017-09-30","T1 Qualifications R1 CD59 - GRAVELINES","Finale","2017-2018",null,null,null,null,{"$f":"IF($K80=P$1,COUNTIF($C80,\"G\"),0)","v":0},null,{"$f":"IF($K80=R$1,COUNTIF($C80,\"G\"),0)","v":0}]
["MANTEN Paul","ESTERMANS Bernard","G",2,0,120,91,"2017-09-30","T1 Qualifications R1 CD59 - GRAVELINES","1/2 Finale","2017-2018",null,null,null,null,0,null,0]
["MANTEN Paul","PARISIS Francis","G",2,0,120,54,"2017-09-30","T1 Qualifications R1 CD59 - GRAVELINES","Qualifications","2017-2018",null,null,null,null,0,null,0]
["MANTEN Paul","PARISIS Francis","G",2,1,134,115,"2017-09-30","T1 Qualifications R1 CD59 - GRAVELINES","1/4 Finale","2017-2018",null,null,null,null,0,null,0]
["MANTEN Paul","WASYLYSZYN Jean-Pierre","G",2,1,164,98,"2017-09-30","T1 Qualifications R1 CD59 - GRAVELINES","Qualifications","2017-2018",null,null,null,null,0,null,0]
["MANTEN Paul","BEGHIN Benjamin","P",1,2,145,161,"2018-01-20","T2 Qualifications R1 CD59 - ST POL SUR MER","Qualifications","2017-2018",null,null,null,null,0,null,0]
["MANTEN Paul","BEGHIN Benjamin","G",2,1,172,158,"2018-01-20","T2 Qualifications R1 CD59 - ST POL SUR MER","1/4 Finale","2017-2018",null,null,null,null,0,null,0]
["MANTEN Paul","BEGHIN Nicolas","P",0,2,107,120,"2018-01-20","T2 Qualifications R1 CD59 - ST POL SUR MER","1/2 Finale","2017-2018",null,null,null,null,0,null,0]
["MANTEN Paul","VEREECQUE Bernard","P",1,2,152,161,"2018-01-20","T2 Qualifications R1 CD59 - ST POL SUR MER","Qualifications","2017-2018",null,null,null,null,0,null,0]
["MANTEN Paul","ESTERMANS Bernard","G",2,1,157,143,"2018-02-04","T3 Qualifications R1 CD59 - GRAVELINES","1/2 Finale","2017-2018",null,null,null,null,0,null,0]
["MANTEN Paul","LECROART Serge","G",2,0,120,88,"2018-02-04","T3 Qualifications R1 CD59 - GRAVELINES","Finale","2017-2018",null,null,null,null,0,null,0]
["MANTEN Paul","PARISIS Francis","G",2,1,168,122,"2018-02-04","T3 Qualifications R1 CD59 - GRAVELINES","Qualifications","2017-2018",null,null,null,null,0,null,0]
["MANTEN Paul","PARISIS Francis","G",2,1,163,121,"2018-02-04","T3 Qualifications R1 CD59 - GRAVELINES","Qualifications","2017-2018",null,null,null,null,0,null,0]
["MANTEN Paul","BEGHIN Nicolas","G",2,0,120,60,"2018-03-10","T4 Qualifications R1 CD59 - VILLENEUVE D'ASCQ","1/2 Finale","2017-2018",null,null,null,null,0,null,0]
["MANTEN Paul","ESTERMANS Bernard","P",0,2,102,120,"2018-03-10","T4 Qualifications R1 CD59 - VILLENEUVE D'ASCQ","Finale","2017-2018",null,null,null,null,0,null,0]
["MANTEN Paul","PARISIS Francis","G",2,0,120,86,"2018-03-10","T4 Qualifications R1 CD59 - VILLENEUVE D'ASCQ","Qualifications","2017-2018",null,null,null,null,0,null,0]
["MANTEN Paul","VEREECQUE Bernard","G",2,0,120,94,"2018-03-10","T4 Qualifications R1 CD59 - VILLENEUVE D'ASCQ","Qualifications","2017-2018",null,null,null,null,0,null,0]
["MANTEN Paul","CAUX Frédéric","P",0,2,77,120,"2018-10-20","T1 5Q R1 CD59 - DUNKERQUE","Qualifications","2018-2019",null,null,null,null,0,null,0]
["MANTEN Paul","MONFLIER Francis","G",2,1,171,108,"2018-10-20","T1 5Q R1 CD59 - DUNKERQUE","Qualifications","2018-2019",null,null,null,null,0,null,0]
["MANTEN Paul","KERKHOF Hervé","G",1,0,100,85,"2018-10-20","T1 5Q R1 CD59 - CONSOLANTE - DUNKERQUE","Qualifications","2018-2019",null,null,null,null,0,null,0]
["MANTEN Paul","LECROART Serge","P",0,1,84,100,"2018-10-20","T1 5Q R1 CD59 - CONSOLANTE - DUNKERQUE","Qualifications","2018-2019",null,null,null,null,0,null,0]
["MANTEN Paul","LORTHIOIR Jean-Luc","P",0,1,87,100,"2018-10-20","T1 5Q R1 CD59 - CONSOLANTE - DUNKERQUE","Qualifications","2018-2019",null,null,null,null,0,null,0]
["MANTEN Paul","MONFLIER Francis","P",0,1,39,100,"2018-10-20","T1 5Q R1 CD59 - CONSOLANTE - DUNKERQUE","Qualifications","2018-2019",null,null,null,null,0,null,0]
["MANTEN Paul","LORTHIOIR Jean-Luc","P",0,2,60,120,"2019-01-19","T4 5Q R1 CD59  - VILLENEUVE D'ASCQ","Qualifications","2018-2019",null,null,null,null,0,null,0]
["MANTEN Paul","PAILLARD Bertrand","G",2,1,162,150,"2019-01-19","T4 5Q R1 CD59  - VILLENEUVE D'ASCQ","Qualifications","2018-2019",null,null,null,null,0,null,0]
["MANTEN Paul","DEREUDDRE Dominique","P",1,2,118,153,"2019-11-24","T2 5Q R1 CD59 - GRAVELINES ","Qualifications","2019-2020",null,null,null,null,0,null,0]
["MANTEN Paul","LORTHIOIR Jean-Luc","P",1,2,164,146,"2019-11-24","T2 5Q R1 CD59 - GRAVELINES ","1/4 Finale","2019-2020",null,null,null,null,0,null,0]
["MANTEN Paul","MONFLIER Francis","G",2,0,120,90,"2019-11-24","T2 5Q R1 CD59 - GRAVELINES ","Qualifications","2019-2020",null,null,null,null,0,null,0]
["MANTEN Paul","BEGHIN Nicolas","P",0,2,71,120,"2020-01-04","T3 5Q R1 CD59 - GRAVELINES - Convocation 8h30 -","Qualifications","2019-2020",null,null,null,null,0,null,0]
["MANTEN Paul","BEGHIN Nicolas","G",2,0,120,50,"2020-01-04","T3 5Q R1 CD59 - GRAVELINES - Convocation 8h30 -","1/4 Finale","2019-2020",null,null,null,null,0,null,0]
["MANTEN Paul","DEVOS Jackie","P",0,2,63,120,"2020-01-04","T3 5Q R1 CD59 - GRAVELINES - Convocation 8h30 -","1/2 Finale","2019-2020",null,null,null,null,0,null,0]
["MANTEN Paul","VEREECQUE Bernard","G",2,0,120,82,"2020-01-04","T3 5Q R1 CD59 - GRAVELINES - Convocation 8h30 -","Qualifications","2019-2020",null,null,null,null,0,null,0]
["MANTEN Paul","DEVOS Jackie","P",0,2,41,120,"2020-02-22","T4 5Q R1 CD59 - ANNOEULLIN","1/4 Finale","2019-2020",null,null,null,null,0,null,0]
["MANTEN Paul","HORNAIN Denis","P",0,2,79,120,"2020-02-22","T4 5Q R1 CD59 - ANNOEULLIN","Qualifications","2019-2020",null,null,null,null,0,null,0]
["MANTEN Paul","VEREECQUE Esteban","G",2,1,173,156,"2020-02-22","T4 5Q R1 CD59 - ANNOEULLIN","Qualifications","2019-2020",null,null,null,null,0,null,0]
["MANTEN Paul","DEVOS Jackie","P",2,3,227,258,"2020-03-08","Finale 5Q R1 CD59 - GRANDE SYNTHE","1/2 Finale","2019-2020",null,null,null,null,0,null,0]
["MANTEN Paul","HORNAIN Denis","G",3,2,241,293,"2020-03-08","Finale 5Q R1 CD59 - GRANDE SYNTHE","Qualifications","2019-2020",null,null,null,null,0,null,0]
["MANTEN Paul","MONFLIER Francis","P",0,3,124,180,"2020-03-08","Finale 5Q R1 CD59 - GRANDE SYNTHE","Qualifications","2019-2020",null,null,null,null,0,null,0]
["MANTEN Paul","BEGHIN Benjamin","G",1,0,100,92,"2021-12-18","T2 5Q R1 - GRAVELINES - CONVOCATON 8h30","Qualifications","2021-2022",null,null,null,null,1,null,0]
["MANTEN Paul","BEGHIN Benjamin","P",0,1,85,100,"2021-12-18","T2 5Q R1 - GRAVELINES - CONVOCATON 8h30","Qualifications","2021-2022",null,null,null,null,0,null,0]
["MANTEN Paul","BEGHIN Benjamin","P",0,1,60,100,"2022-02-26","T3 5Q R1 - GRAVELINES ","Qualifications","2021-2022",null,null,null,null,0,null,0]
["MANTEN Paul","LE GOHEBEL Jacques","G",1,0,100,37,"2022-02-26","T3 5Q R1 - GRAVELINES ","Qualifications","2021-2022",null,null,null,null,1,null,0]
["MANTEN Paul","MONFLIER Francis","P",0,1,94,100,"2022-02-26","T3 5Q R1 - GRAVELINES ","1/4 Finale","2021-2022",null,null,null,null,0,null,0]
["MANTEN Paul","DUC Stéphane","P",0,1,86,100,"2023-02-04","T3 5Q R1 - GRAVELINES","Qualifications","2022-2023",null,null,null,null,0,null,0]
["MANTEN Paul","NOYER Pascal","P",0,1,93,100,"2023-02-04","T3 5Q R1 - GRAVELINES","Qualifications","2022-2023",null,null,null,null,0,null,0]
["Fin des données",null,null,null,null,null,null,null,null,null,"",null,null,null,null,{"$f":"IF($K125=P$1,COUNTIF($C125,\"G\"),0)","v":0},null,{"$f":"IF($K125=R$1,COUNTIF($C125,\"G\"),0)","v":0}]

{"sheet":"MARTEL Bruno","index":109,"n_rows":185,"n_cols":22,"rows_kept":185,"cut":false,"hidden":false,"merged":[]}
["MARTEL Bruno",null,null,null,null,null,null,null,null,null,null,null,null,null,null,{"$f":"SaisonDeb","v":"2021-2022"},null,{"$f":"SaisonFin","v":"2022-2023"},null,"Toutes saisons"]
["CUCQ",null,null,null,null,null,null,null,null,null,null,null,null,null,null,"Nombre","%age","Nombre","%age","Nombre","%age"]
["124420-A ",null,null,null,null,null,null,null,null,null,null,null,null,"Matchs","Gagnés",{"$f":"SUM(P$15:P$185)","v":0},{"$f":"IF(P$3+P$4>0,P3/(P$3+P$4),\"\")","v":""},{"$f":"SUM(R$15:R$185)","v":0},{"$f":"IF(R$3+R$4>0,R3/(R$3+R$4),\"\")","v":""},{"$f":"COUNTIF($C$15:$C$185,\"G\")","v":102},{"$f":"IF(T$3+T$4>0,T3/(T$3+T$4),\"\")","v":0.60355029585798814}]
[null,null,null,null,null,null,null,null,null,null,null,null,null,null,"Perdus",{"$f":"COUNTIF($K$15:$K$185,SaisonDeb)-P3","v":0},{"$f":"IF(P$3+P$4>0,P4/(P$3+P$4),\"\")","v":""},{"$f":"COUNTIF($K$15:$K$185,SaisonFin)-R3","v":0},{"$f":"IF(R$3+R$4>0,R4/(R$3+R$4),\"\")","v":""},{"$f":"COUNTIF($C$15:$C$185,\"P\")","v":67},{"$f":"IF(T$3+T$4>0,T4/(T$3+T$4),\"\")","v":0.39644970414201186}]
[null,null,null,null,null,null,null,null,null,null,null,null,null,null,"Total / Moy.",{"$f":"SUM(P3:P4)","v":0},{"$f":"IF(SUMIF($K$15:$K$185,SaisonDeb,$G$15:$G$185)>0,SUMIF($K$15:$K$185,SaisonDeb,$F$15:$F$185)/SUMIF($K$15:$K$185,SaisonDeb,$G$15:$G$185),\"\")","v":""},{"$f":"SUM(R3:R4)","v":0},{"$f":"IF(SUMIF($K$15:$K$185,SaisonFin,$G$15:$G$185)>0,SUMIF($K$15:$K$185,SaisonFin,$F$15:$F$185)/SUMIF($K$15:$K$185,SaisonFin,$G$15:$G$185),\"\")","v":""},{"$f":"SUM(T3:T4)","v":169},{"$f":"IF(SUM($G$15:$G$185)>0,SUM($F$15:$F$185)/SUM($G$15:$G$185),\"\")","v":1.0839617710744418},{"$f":"IF(SUMIF($K$15:$K$185,SaisonDeb,$G$15:$G$185)+SUMIF($K$15:$K$185,SaisonFin,$G$15:$G$185)>0,(SUMIF($K$15:$K$185,SaisonDeb,$F$15:$F$185)+SUMIF($K$15:$K$185,SaisonFin,$F$15:$F$185))/(SUMIF($K$15:$K$185,SaisonDeb,$G$15:$G$185)+SUMIF($K$15:$K$185,SaisonFin,$G$15:$G$185)),\"\")","v":""}]
[null,null,null,null,null,null,null,null,null,null,null,null,null,"Sets","Gagnés",{"$f":"SUMIF($K$15:$K$185,SaisonDeb,$D$15:$D$185)","v":0},{"$f":"IF(P$6+P$7>0,P6/(P$6+P$7),\"\")","v":""},{"$f":"SUMIF($K$15:$K$185,SaisonFin,$D$15:$D$185)","v":0},{"$f":"IF(R$6+R$7>0,R6/(R$6+R$7),\"\")","v":""},{"$f":"SUM($D$15:$D$185)","v":355},{"$f":"IF(T$6+T$7>0,T6/(T$6+T$7),\"\")","v":0.55993690851735012}]
[null,null,null,null,null,null,null,null,null,null,null,null,null,null,"Perdus",{"$f":"SUMIF($K$15:$K$185,SaisonDeb,$E$15:$E$185)","v":0},{"$f":"IF(P$6+P$7>0,P7/(P$6+P$7),\"\")","v":""},{"$f":"SUMIF($K$15:$K$185,SaisonFin,$E$15:$E$185)","v":0},{"$f":"IF(R$6+R$7>0,R7/(R$6+R$7),\"\")","v":""},{"$f":"SUM($E$15:$E$185)","v":279},{"$f":"IF(T$6+T$7>0,T7/(T$6+T$7),\"\")","v":0.44006309148264983}]
["Récapitulatif joueurs",null,null,null,null,null,null,null,null,null,null,null,null,null,"Total",{"$f":"SUM(P6:P7)","v":0},null,{"$f":"SUM(R6:R7)","v":0},null,{"$f":"SUM(T6:T7)","v":634}]
[]
[]
[]
[]
[]
[]
["Joueur","Adversaire","G/P","Sets gagnés","Sets perdus","pts marqués","pts subis","Date","Compétition","Phase","Saison"]
["MARTEL Bruno","TRIPLET Gilbert","G",3,0,150,114,"2008-11-15","Qualifications R1 CD62 T1 COURRIERES","Poules",{"$f":"IF(H16<>\"\",IF(MONTH(H16)>MoisRef,YEAR(H16)&\"-\"&YEAR(H16)+1,YEAR(H16)-1&\"-\"&YEAR(H16)),\"\")","v":"2008-2009"},null,null,null,null,{"$f":"IF($K16=P$1,COUNTIF($C16,\"G\"),0)","v":0},null,{"$f":"IF($K16=R$1,COUNTIF($C16,\"G\"),0)","v":0}]
["MARTEL Bruno","TRIPLET Gilbert","P",1,3,{"$f":"95+33+14","v":142},192,"2008-11-15","Qualifications R1 CD62 T1 COURRIERES","Poules","2008-2009",null,null,null,null,0,null,0]
["MARTEL Bruno","CAQUELOT Maurice","P",2,3,195,207,"2008-11-15","Qualifications R1 CD62 T1 COURRIERES","1/2 finale","2008-2009",null,null,null,null,0,null,0]
["MARTEL Bruno","LAKBAL Johnny","P",1,3,{"$f":"92+29+28","v":149},195,"2009-01-17","Qualifications R1 CD62 T2 LE TOUQUET","Poules","2008-2009",null,null,null,null,0,null,0]
["MARTEL Bruno","TRIPLET Gilbert","G",3,1,168,{"$f":"88+43+28","v":159},"2009-01-17","Qualifications R1 CD62 T2 LE TOUQUET","Poules","2008-2009",null,null,null,null,0,null,0]
["MARTEL Bruno","LAKBAL Johnny","G",3,1,189,155,"2009-01-17","Qualifications R1 CD62 T2 LE TOUQUET","1/2 finale","2008-2009",null,null,null,null,0,null,0]
["MARTEL Bruno","CAQUELOT Maurice","P",1,3,112,173,"2009-01-17","Qualifications R1 CD62 T2 LE TOUQUET","Finale","2008-2009",null,null,null,null,0,null,0]
["MARTEL Bruno","CLAIRET Jean-François","P",1,3,197,{"$f":"50+37+38","v":125},"2009-04-17","Qualifications R1 CD62 T3 CARVIN","Poules","2008-2009",null,null,null,null,0,null,0]
["MARTEL Bruno","CARTIERE André","G",3,2,230,197,"2009-04-17","Qualifications R1 CD62 T3 CARVIN","Poules","2008-2009",null,null,null,null,0,null,0]
["MARTEL Bruno","LAKBAL Johnny","P",2,3,187,199,"2009-04-17","Qualifications R1 CD62 T3 CARVIN","1/2 finale","2008-2009",null,null,null,null,0,null,0]
["MARTEL Bruno","CAQUELOT Maurice","P",2,3,186,215,"2009-05-17","Finale CD62 R1 CUCQ","Poules","2008-2009",null,null,null,null,0,null,0]
["MARTEL Bruno","CARTIERE André","G",3,2,201,172,"2009-05-17","Finale CD62 R1 CUCQ","Poules","2008-2009",null,null,null,null,0,null,0]
["MARTEL Bruno","CLAIRET Jean-François","P",1,3,120,167,"2009-05-17","Finale CD62 R1 CUCQ","1/2 finale","2008-2009",null,null,null,null,0,null,0]
["MARTEL Bruno","CAQUELOT Maurice","G",3,1,185,169,"2009-05-17","Finale CD62 R1 CUCQ","3ème 4ème place","2008-2009",null,null,null,null,0,null,0]
["MARTEL Bruno","CLAIRET Jean-François","G",2,0,120,92,"2009-06-21","Finale Ligue R1 COURRIERES","Poules","2008-2009",null,null,null,null,0,null,0]
["MARTEL Bruno","MERVAILLE Jean","G",2,1,159,158,"2009-06-21","Finale Ligue R1 COURRIERES","Poules","2008-2009",null,null,null,null,0,null,0]
["MARTEL Bruno","TRIPLET Gilbert","P",2,3,264,251,"2009-06-21","Finale Ligue R1 COURRIERES","1/2 finale","2008-2009",null,null,null,null,0,null,0]
["MARTEL Bruno","MERVAILLE Jean","G",3,2,272,248,"2009-06-21","Finale Ligue R1 COURRIERES","3ème/4ème place","2008-2009",null,null,null,null,0,null,0]
["MARTEL Bruno","CARTIERE André","G",3,1,180,125,"2009-12-08","Qualifications R1 CD62 T1 CUCQ","Poules","2009-2010",null,null,null,null,0,null,0]
["MARTEL Bruno","MEUROT Philippe","P",0,3,92,150,"2009-12-08","Qualifications R1 CD62 T1 CUCQ","Poules","2009-2010",null,null,null,null,0,null,0]
["MARTEL Bruno","DEPLECHIN Robert","G",3,2,201,181,"2009-12-08","Qualifications R1 CD62 T1 CUCQ","Poules","2009-2010",null,null,null,null,0,null,0]
["MARTEL Bruno","BOUBET Jean","G",3,1,166,152,"2010-01-24","Qualifications R1 CD62 T2 CUCQ","Poules","2009-2010",null,null,null,null,0,null,0]
["MARTEL Bruno","MEUROT Philippe","P",0,3,138,150,"2010-01-24","Qualifications R1 CD62 T2 CUCQ","Poules","2009-2010",null,null,null,null,0,null,0]
["MARTEL Bruno","BOUBET Jean","G",3,1,183,129,"2010-02-07","Qualifications R1 CD62 T3 CUCQ","Poules","2009-2010",null,null,null,null,0,null,0]
["MARTEL Bruno","DEPLECHIN Robert","G",3,2,221,242,"2010-02-07","Qualifications R1 CD62 T3 CUCQ","Poules","2009-2010",null,null,null,null,0,null,0]
["MARTEL Bruno","CARTIERE André","P",2,3,210,211,"2010-02-07","Qualifications R1 CD62 T3 CUCQ","Poules","2009-2010",null,null,null,null,0,null,0]
["MARTEL Bruno","BOUBET Jean","G",3,0,150,102,"2010-03-06","Qualifications R1 CD62 T4 LE TOUQUET","Poules","2009-2010",null,null,null,null,0,null,0]
["MARTEL Bruno","CARTIERE André","G",3,0,150,101,"2010-03-06","Qualifications R1 CD62 T4 LE TOUQUET","Poules","2009-2010",null,null,null,null,0,null,0]
["MARTEL Bruno","DEPLECHIN Robert","G",3,0,150,96,"2010-03-06","Qualifications R1 CD62 T4 LE TOUQUET","Poules","2009-2010",null,null,null,null,0,null,0]
["MARTEL Bruno","MEUROT Philippe","G",3,0,150,76,"2010-04-03","Finale R1 CD62 LE TOUQUET","Poules","2009-2010",null,null,null,null,0,null,0]
["MARTEL Bruno","FONTAINE Christian","G",3,1,191,147,"2010-04-03","Finale R1 CD62 LE TOUQUET","Poules","2009-2010",null,null,null,null,0,null,0]
["MARTEL Bruno","DEPLECHIN Robert","P",1,3,156,168,"2010-04-03","Finale R1 CD62 LE TOUQUET","1/2 Finale","2009-2010",null,null,null,null,0,null,0]
["MARTEL Bruno","LAKBAL Johnny","P",0,3,83,150,"2010-04-03","Finale R1 CD62 LE TOUQUET","3ème 4ème place","2009-2010",null,null,null,null,0,null,0]
["MARTEL Bruno","ESTERMANS Bernard","P",2,3,276,253,"2011-05-28","R1 FINALE LIGUE FACHES THUMESNIL","Poules","2010-2011",null,null,null,null,0,null,0]
["MARTEL Bruno","LUBREZ Pierre","P",1,3,203,218,"2011-05-28","R1 FINALE LIGUE FACHES THUMESNIL","Poules","2010-2011",null,null,null,null,0,null,0]
["MARTEL Bruno","MANTEN Paul","P",0,3,82,180,"2011-05-28","R1 FINALE LIGUE FACHES THUMESNIL","5ème/6ème place","2010-2011",null,null,null,null,0,null,0]
["MARTEL Bruno","DEPLECHIN Robert","P",2,3,223,208,"2010-10-03","R1 CD62 T1 CUCQ","Poules","2010-2011",null,null,null,null,0,null,0]
["MARTEL Bruno","BLONDEEL Firmin","G",3,2,230,197,"2010-10-03","R1 CD62 T1 CUCQ","Poules","2010-2011",null,null,null,null,0,null,0]
["MARTEL Bruno","MERLIN Christian","G",3,0,150,76,"2010-10-03","R1 CD62 T1 CUCQ","Poules","2010-2011",null,null,null,null,0,null,0]
["MARTEL Bruno","MEUROT Philippe","G",3,0,150,68,"2010-10-03","R1 CD62 T1 CUCQ","Poules","2010-2011",null,null,null,null,0,null,0]
["MARTEL Bruno","DEPLECHIN Robert","G",3,0,150,125,"2011-02-13","R1 CD62 T3 CUCQ","Poules","2010-2011",null,null,null,null,0,null,0]
["MARTEL Bruno","BLONDEEL Firmin","G",3,2,220,192,"2011-02-13","R1 CD62 T3 CUCQ","Poules","2010-2011",null,null,null,null,0,null,0]
["MARTEL Bruno","PIERRU Didier","G",3,0,150,84,"2011-02-13","R1 CD62 T3 CUCQ","Poules","2010-2011",null,null,null,null,0,null,0]
["MARTEL Bruno","LEBLANC Jean-Noël","P",0,3,102,150,"2011-04-24","R1 FINALE CD62 DIVION","Poule unique","2010-2011",null,null,null,null,0,null,0]
["MARTEL Bruno","DEWEVRE Jordan","P",2,3,169,220,"2011-04-24","R1 FINALE CD62 DIVION","Poule unique","2010-2011",null,null,null,null,0,null,0]
["MARTEL Bruno","DEPLECHIN Robert","G",3,2,210,192,"2011-04-24","R1 FINALE CD62 DIVION","Poule unique","2010-2011",null,null,null,null,0,null,0]
["MARTEL Bruno","BLONDEEL Bruno","P",2,3,216,203,"2011-10-02","R1 CD62 T1 WIMILLE","Poules","2011-2012",null,null,null,null,0,null,0]
["MARTEL Bruno","BLONDEEL Bruno","G",3,2,231,211,"2011-10-02","R1 CD62 T1 WIMILLE","Poules","2011-2012",null,null,null,null,0,null,0]
["MARTEL Bruno","DEPLECHIN Robert","P",2,3,207,225,"2011-10-02","R1 CD62 T1 WIMILLE","1/2 Finale","2011-2012",null,null,null,null,0,null,0]
["MARTEL Bruno","PIERRU Didier","G",3,2,237,188,"2011-10-02","R1 CD62 T1 WIMILLE","3ème/4ème place","2011-2012",null,null,null,null,0,null,0]
["MARTEL Bruno","BLONDEEL Firmin","G",3,2,227,219,"2012-01-07","R1 CD62 T2 LE TOUQUET","Poules","2011-2012",null,null,null,null,0,null,0]
["MARTEL Bruno","DEPLECHIN Robert","P",2,3,243,219,"2012-01-07","R1 CD62 T2 LE TOUQUET","Poules","2011-2012",null,null,null,null,0,null,0]
["MARTEL Bruno","PIERRU Didier","G",3,2,229,198,"2012-03-10","R1 CD62 T3 CUCQ","Poules","2011-2012",null,null,null,null,0,null,0]
["MARTEL Bruno","TRIPLET Freddy","G",3,0,150,92,"2012-03-10","R1 CD62 T3 CUCQ","Poules","2011-2012",null,null,null,null,0,null,0]
["MARTEL Bruno","BLONDEEL Firmin","P",1,3,156,165,"2012-03-10","R1 CD62 T3 CUCQ","1/2 Finale","2011-2012",null,null,null,null,0,null,0]
["MARTEL Bruno","DEPLECHIN Robert","P",0,3,74,150,"2012-03-10","R1 CD62 T3 CUCQ","3ème/4ème place","2011-2012",null,null,null,null,0,null,0]
["MARTEL Bruno","BLONDEEL Firmin","P",2,3,204,192,"2012-09-30","R1 CD62 T1 LE TOUQUET","Poules","2012-2013",null,null,null,null,0,null,0]
["MARTEL Bruno","TRIPLET Eddie","G",3,0,150,88,"2012-09-30","R1 CD62 T1 LE TOUQUET","Poules","2012-2013",null,null,null,null,0,null,0]
["MARTEL Bruno","BOUBET Jean","G",3,1,192,131,"2012-11-10","R1 CD62 T2 CUCQ","Poules","2012-2013",null,null,null,null,0,null,0]
["MARTEL Bruno","MONTADOR Christophe","G",3,2,182,175,"2012-11-10","R1 CD62 T2 CUCQ","Poules","2012-2013",null,null,null,null,0,null,0]
["MARTEL Bruno","TRIPLET Freddy","G",3,1,192,148,"2012-11-10","R1 CD62 T2 CUCQ","1/2 Finale","2012-2013",null,null,null,null,0,null,0]
["MARTEL Bruno","BLONDEEL Firmin","P",2,3,196,223,"2012-11-10","R1 CD62 T2 CUCQ","Finale","2012-2013",null,null,null,null,0,null,0]
["MARTEL Bruno","BOUBET Jean","P",2,3,212,195,"2013-01-06","R1 CD62 T3 CUCQ","Poules","2012-2013",null,null,null,null,0,null,0]
["MARTEL Bruno","MONTADOR Christophe","P",0,3,116,150,"2013-01-06","R1 CD62 T3 CUCQ","Poules","2012-2013",null,null,null,null,0,null,0]
["MARTEL Bruno","MONTADOR Christophe","P",1,3,151,183,"2013-09-15","R1 CD62 T1 LE TOUQUET","Poules","2013-2014",null,null,null,null,{"$f":"IF($K80=P$1,COUNTIF($C80,\"G\"),0)","v":0},null,{"$f":"IF($K80=R$1,COUNTIF($C80,\"G\"),0)","v":0}]
["MARTEL Bruno","MONTADOR Christophe","P",2,3,191,{"$f":"150+29+4","v":183},"2013-09-15","R1 CD62 T1 LE TOUQUET","Poules","2013-2014",null,null,null,null,0,null,0]
["MARTEL Bruno","BOUBET Jean","G",3,1,195,{"$f":"50+52+45","v":147},"2013-12-21","R1 CD62 T2 WIMILLE","Poules","2013-2014",null,null,null,null,0,null,0]
["MARTEL Bruno","TRIPLET Eddie","G",3,1,187,{"$f":"50+29+22+29","v":130},"2013-12-21","R1 CD62 T2 WIMILLE","Poules","2013-2014",null,null,null,null,0,null,0]
["MARTEL Bruno","MONTADOR Christophe","G",3,0,150,{"$f":"40+39+25","v":104},"2013-12-21","R1 CD62 T2 WIMILLE","1/2 finale","2013-2014",null,null,null,null,0,null,0]
["MARTEL Bruno","TRIPLET Gilbert","G",3,2,{"$f":"100+46+47","v":193},{"$f":"100+8+30+43","v":181},"2013-12-21","R1 CD62 T2 WIMILLE","Finale","2013-2014",null,null,null,null,0,null,0]
["MARTEL Bruno","MONTADOR Christophe","G",3,1,172,{"$f":"50+33+40+45","v":168},"2014-03-30","R1 CD62 T3 CUCQ","Poules","2013-2014",null,null,null,null,0,null,0]
["MARTEL Bruno","MONTADOR Christophe","G",3,1,192,{"$f":"50+44+46+45","v":185},"2014-03-30","R1 CD62 T3 CUCQ","Poules","2013-2014",null,null,null,null,0,null,0]
["MARTEL Bruno","BOUBET Jean","P",2,3,{"$f":"100+38+42+37","v":217},{"$f":"150+48+38","v":236},"2014-03-30","R1 CD62 T3 CUCQ","1/2 finale","2013-2014",null,null,null,null,0,null,0]
["MARTEL Bruno","CAPLIEZ Bernard","G",3,2,{"$f":"150+30+26","v":206},{"$f":"100+15+16+45","v":176},"2014-03-30","R1 CD62 T3 CUCQ","3ème/4ème place","2013-2014",null,null,null,null,0,null,0]
["MARTEL Bruno","BOUBET Jean","G",3,1,168,{"$f":"50+38+35+34","v":157},"2014-04-20","Barrage Maritime","Finale","2013-2014",null,null,null,null,0,null,0]
["MARTEL Bruno","TRIPLET Gilbert","P",1,3,{"$f":"50+42+47+33","v":172},177,"2014-04-20","Barrage Maritime","Finale","2013-2014",null,null,null,null,0,null,0]
["MARTEL Bruno","TRIPLET Freddy","G",3,2,{"$f":"150+54","v":204},{"$f":"100+32+47+20","v":199},"2014-04-20","Barrage Maritime","Finale","2013-2014",null,null,null,null,0,null,0]
["MARTEL Bruno","TRIPLET Gilbert","P",1,3,{"$f":"50+22+37+38","v":147},168,"2014-05-04","R1 FINALE CD62 CUCQ","Finale","2013-2014",null,null,null,null,0,null,0]
["MARTEL Bruno","TRIPLET Freddy","G",3,0,150,{"$f":"35+25+37","v":97},"2014-05-04","R1 FINALE CD62 CUCQ","Finale","2013-2014",null,null,null,null,0,null,0]
["MARTEL Bruno","CAPLIEZ Bernard","G",3,0,150,{"$f":"39+0+15","v":54},"2014-05-04","R1 FINALE CD62 CUCQ","Finale","2013-2014",null,null,null,null,0,null,0]
["MARTEL Bruno","ST MAXENT Stéphane","G",3,2,248,275,"2014-05-18","Finale Ligue R1 CALAIS","Poules","2013-2014",null,null,null,null,0,null,0]
["MARTEL Bruno","MANTEN Paul","G",3,2,279,250,"2014-05-18","Finale Ligue R1 CALAIS","Poules","2013-2014",null,null,null,null,0,null,0]
["MARTEL Bruno","PIERRU Didier","P",1,3,142,193,"2014-10-26","R1 CD62 T1 CUCQ","Poules","2014-2015",null,null,null,null,0,null,0]
["MARTEL Bruno","CAPLIEZ Bernard","G",3,1,182,121,"2014-10-26","R1 CD62 T1 CUCQ","Poules","2014-2015",null,null,null,null,0,null,0]
["MARTEL Bruno","BLONDEEL Bruno","G",3,2,223,184,"2014-11-30","R1 CD62 T2 WIMILLE","Poules","2014-2015",null,null,null,null,0,null,0]
["MARTEL Bruno","BLONDEEL Bruno","G",3,2,189,202,"2014-11-30","R1 CD62 T2 WIMILLE","Poules","2014-2015",null,null,null,null,0,null,0]
["MARTEL Bruno","CAPLIEZ Bernard","P",1,3,157,173,"2014-11-30","R1 CD62 T2 WIMILLE","1/2 Finale","2014-2015",null,null,null,null,0,null,0]
["MARTEL Bruno","CARTIERE André","G",3,0,150,74,"2014-11-30","R1 CD62 T2 WIMILLE","3ème 4ème","2014-2015",null,null,null,null,0,null,0]
["MARTEL Bruno","CAPLIEZ Bernard","G",3,0,150,63,"2014-12-28","R1 CD62 T3 CUCQ","Poules","2014-2015",null,null,null,null,0,null,0]
["MARTEL Bruno","MARTEL Michel","G",3,2,237,204,"2014-12-28","R1 CD62 T3 CUCQ","Poules","2014-2015",null,null,null,null,0,null,0]
["MARTEL Bruno","CAPLIEZ Bernard","P",0,3,101,150,"2014-12-28","R1 CD62 T3 CUCQ","1/2 Finale","2014-2015",null,null,null,null,0,null,0]
["MARTEL Bruno","BLONDEEL Bruno","G",3,0,150,78,"2014-12-28","R1 CD62 T3 CUCQ","3ème 4ème","2014-2015",null,null,null,null,0,null,0]
["MARTEL Bruno","TRIPLET Freddy","P",0,3,83,150,"2015-03-15","R1 CD62 Barrage maritime CUCQ","Poules","2014-2015",null,null,null,null,0,null,0]
["MARTEL Bruno","CAPLIEZ Bernard","G",3,1,184,166,"2015-03-15","R1 CD62 Barrage maritime CUCQ","Poules","2014-2015",null,null,null,null,0,null,0]
["MARTEL Bruno","KERKHOF Hervé","P",1,3,176,206,"2015-04-19","FINALE LIGUE R1 GRAVELINES","Poules","2014-2015",null,null,null,null,0,null,0]
["MARTEL Bruno","PIERRU Didier","P",1,3,224,238,"2015-04-19","FINALE LIGUE R1 GRAVELINES","Poules","2014-2015",null,null,null,null,0,null,0]
["MARTEL Bruno","HINGRAND Tony","G",3,1,231,211,"2015-04-19","FINALE LIGUE R1 GRAVELINES","5ème 6ème","2014-2015",null,null,null,null,0,null,0]
["MARTEL Bruno","PIERRU Didier","P",2,3,196,224,"2016-01-17","T1 Qualifications CD62 R1 Maritime - CUCQ","1/2 Finale","2015-2016",null,null,null,null,0,null,0]
["MARTEL Bruno","SZUGAJEW Casimir","G",3,1,192,161,"2016-01-17","T1 Qualifications CD62 R1 Maritime - CUCQ","Qualifications","2015-2016",null,null,null,null,0,null,0]
["MARTEL Bruno","SZUGAJEW Casimir","G",3,1,193,135,"2016-01-17","T1 Qualifications CD62 R1 Maritime - CUCQ","1/4 Finale","2015-2016",null,null,null,null,0,null,0]
["MARTEL Bruno","TRIPLET Eddy","G",3,0,150,67,"2016-01-17","T1 Qualifications CD62 R1 Maritime - CUCQ","Qualifications","2015-2016",null,null,null,null,0,null,0]
["MARTEL Bruno","PIERRU Didier","P",2,3,196,224,"2016-01-17","T1 Qualifications CD62 R1 Maritime - CUCQ","1/2 Finale","2015-2016",null,null,null,null,0,null,0]
["MARTEL Bruno","SZUGAJEW Casimir","G",3,1,192,161,"2016-01-17","T1 Qualifications CD62 R1 Maritime - CUCQ","Qualifications","2015-2016",null,null,null,null,0,null,0]
["MARTEL Bruno","SZUGAJEW Casimir","G",3,1,193,135,"2016-01-17","T1 Qualifications CD62 R1 Maritime - CUCQ","1/4 Finale","2015-2016",null,null,null,null,0,null,0]
["MARTEL Bruno","TRIPLET Eddy","G",3,0,150,67,"2016-01-17","T1 Qualifications CD62 R1 Maritime - CUCQ","Qualifications","2015-2016",null,null,null,null,0,null,0]
["MARTEL Bruno","COFFRE Frédéric","G",3,0,150,58,"2016-03-13","T3 Qualifications CD62 R1 Maritime - Cucq","Qualifications","2015-2016",null,null,null,null,0,null,0]
["MARTEL Bruno","TIZON Alain","P",2,3,217,222,"2016-03-13","T3 Qualifications CD62 R1 Maritime - Cucq","Qualifications","2015-2016",null,null,null,null,0,null,0]
["MARTEL Bruno","TIZON Alain","G",3,0,150,89,"2016-03-13","T3 Qualifications CD62 R1 Maritime - Cucq","1/4 Finale","2015-2016",null,null,null,null,0,null,0]
["MARTEL Bruno","TRIPLET Gilbert","P",2,3,191,186,"2016-03-13","T3 Qualifications CD62 R1 Maritime - Cucq","1/2 Finale","2015-2016",null,null,null,null,0,null,0]
["MARTEL Bruno","BLONDEEL Bruno","G",3,0,150,67,"2016-03-27","Barrage CD62 R1 Maritime - Cucq","Qualifications","2015-2016",null,null,null,null,0,null,0]
["MARTEL Bruno","CAPLIEZ Bernard","G",3,0,150,82,"2016-03-27","Barrage CD62 R1 Maritime - Cucq","Qualifications","2015-2016",null,null,null,null,0,null,0]
["MARTEL Bruno","PIERRU Didier","G",3,2,231,184,"2016-03-27","Barrage CD62 R1 Maritime - Cucq","Qualifications","2015-2016",null,null,null,null,0,null,0]
["MARTEL Bruno","HERREBRECHT Erian","P",2,3,252,251,"2016-04-24","5Q R1 - Finale LIGUE Nord-Pas de Calais - CUCQ","Qualifications","2015-2016",null,null,null,null,0,null,0]
["MARTEL Bruno","RAOULT Damien","P",2,3,281,253,"2016-04-24","5Q R1 - Finale LIGUE Nord-Pas de Calais - CUCQ","Qualifications","2015-2016",null,null,null,null,0,null,0]
["MARTEL Bruno","BOUBET Jean","P",1,3,140,193,"2016-12-11","T1 Qualification CD62 R1 Maritime - CUCQ","1/2 Finale","2016-2017",null,null,null,null,0,null,0]
["MARTEL Bruno","MARTEL Michel","G",3,0,150,75,"2016-12-11","T1 Qualification CD62 R1 Maritime - CUCQ","Qualifications","2016-2017",null,null,null,null,0,null,0]
["MARTEL Bruno","RAMET Jacques","G",3,1,199,138,"2016-12-11","T1 Qualification CD62 R1 Maritime - CUCQ","Qualifications","2016-2017",null,null,null,null,0,null,0]
["MARTEL Bruno","MONTADOR Christophe","G",3,2,206,203,"2017-01-08","T2 Qualification CD62 R1 Maritime - Wimille","Qualifications","2016-2017",null,null,null,null,0,null,0]
["MARTEL Bruno","MONTADOR Christophe","P",1,3,168,191,"2017-01-08","T2 Qualification CD62 R1 Maritime - Wimille","Qualifications","2016-2017",null,null,null,null,0,null,0]
["MARTEL Bruno","BLONDEEL Bruno","P",2,3,201,213,"2017-02-11","T3 Qualification CD62 R1 Maritime - CUCQ","1/2 Finale","2016-2017",null,null,null,null,0,null,0]
["MARTEL Bruno","CARTIERE André","G",3,0,150,97,"2017-02-11","T3 Qualification CD62 R1 Maritime - CUCQ","Qualifications","2016-2017",null,null,null,null,0,null,0]
["MARTEL Bruno","TIZON Alain","G",3,2,224,168,"2017-02-11","T3 Qualification CD62 R1 Maritime - CUCQ","Qualifications","2016-2017",null,null,null,null,0,null,0]
["MARTEL Bruno","BOUBET Jean","G",3,1,193,193,"2017-03-19","5 QUILLES - FINALE CD62 R1 - DIVION","Poule unique","2016-2017",null,null,null,null,0,null,0]
["MARTEL Bruno","DELATTRE  Christian","G",3,1,237,186,"2017-03-19","5 QUILLES - FINALE CD62 R1 - DIVION","Poule unique","2016-2017",null,null,null,null,0,null,0]
["MARTEL Bruno","RAOULT Damien","P",0,3,87,180,"2017-03-19","5 QUILLES - FINALE CD62 R1 - DIVION","Poule unique","2016-2017",null,null,null,null,0,null,0]
["MARTEL Bruno","DEPLECHIN Roland","P",1,3,174,160,"2017-02-11","Barrage CD62 R1 Maritime - Cucq","Poule unique","2016-2017",null,null,null,null,0,null,0]
["MARTEL Bruno","LEBECQ Jean-Pierre","G",3,0,150,130,"2017-02-11","Barrage CD62 R1 Maritime - Cucq","Poule unique","2016-2017",null,null,null,null,0,null,0]
["MARTEL Bruno","MONTADOR Christophe","G",3,1,189,143,"2017-02-11","Barrage CD62 R1 Maritime - Cucq","Poule unique","2016-2017",null,null,null,null,0,null,0]
["MARTEL Bruno","ESTERMANS Bernard","G",3,2,278,235,"2017-04-02","FINALE LIGUE HAUTS DE FRANCE 5 QUILLES R1 - GRAVELINES","Poule unique","2016-2017",null,null,null,null,{"$f":"IF($K144=P$1,COUNTIF($C144,\"G\"),0)","v":0},null,{"$f":"IF($K144=R$1,COUNTIF($C144,\"G\"),0)","v":0}]
["MARTEL Bruno","FRISON Michel","P",2,3,252,232,"2017-04-02","FINALE LIGUE HAUTS DE FRANCE 5 QUILLES R1 - GRAVELINES","Poule unique","2016-2017",null,null,null,null,{"$f":"IF($K145=P$1,COUNTIF($C145,\"G\"),0)","v":0},null,{"$f":"IF($K145=R$1,COUNTIF($C145,\"G\"),0)","v":0}]
["MARTEL Bruno","STEINMAN Sebastien","P",0,3,136,180,"2017-04-02","FINALE LIGUE HAUTS DE FRANCE 5 QUILLES R1 - GRAVELINES","Poule unique","2016-2017",null,null,null,null,{"$f":"IF($K146=P$1,COUNTIF($C146,\"G\"),0)","v":0},null,{"$f":"IF($K146=R$1,COUNTIF($C146,\"G\"),0)","v":0}]
["MARTEL Bruno","VASSEUR Gaëtan","P",2,3,253,276,"2017-04-02","FINALE LIGUE HAUTS DE FRANCE 5 QUILLES R1 - GRAVELINES","Poule unique","2016-2017",null,null,null,null,{"$f":"IF($K147=P$1,COUNTIF($C147,\"G\"),0)","v":0},null,{"$f":"IF($K147=R$1,COUNTIF($C147,\"G\"),0)","v":0}]
["MARTEL Bruno","BUTTI Bertrand","P",0,3,147,180,"2018-04-29","Finale LIGUE 5 QUILLES R1 - CREPY EN VALOIS","Qualifications","2017-2018",null,null,null,null,{"$f":"IF($K148=P$1,COUNTIF($C148,\"G\"),0)","v":0},null,{"$f":"IF($K148=R$1,COUNTIF($C148,\"G\"),0)","v":0}]
["MARTEL Bruno","CUVILLIER François","P",1,3,172,215,"2018-04-29","Finale LIGUE 5 QUILLES R1 - CREPY EN VALOIS","Qualifications","2017-2018",null,null,null,null,0,null,0]
["MARTEL Bruno","FAURE Stéphane","P",1,3,177,239,"2018-04-29","Finale LIGUE 5 QUILLES R1 - CREPY EN VALOIS","Qualifications","2017-2018",null,null,null,null,0,null,0]
["MARTEL Bruno","MANTEN Paul","P",0,3,96,180,"2018-04-29","Finale LIGUE 5 QUILLES R1 - CREPY EN VALOIS","Qualifications","2017-2018",null,null,null,null,0,null,0]
["MARTEL Bruno","DEPLECHIN Roland","G",2,0,120,81,"2017-12-10","T1 Qualification CD62 R1 - CUCQ","Finale","2017-2018",null,null,null,null,0,null,0]
["MARTEL Bruno","FLAHAUT Ghislain","G",2,0,120,113,"2017-12-10","T1 Qualification CD62 R1 - CUCQ","Qualifications","2017-2018",null,null,null,null,0,null,0]
["MARTEL Bruno","MONTADOR Christophe","G",2,0,120,113,"2017-12-10","T1 Qualification CD62 R1 - CUCQ","1/2 Finale","2017-2018",null,null,null,null,0,null,0]
["MARTEL Bruno","RAMET Jacques","G",2,1,174,121,"2017-12-10","T1 Qualification CD62 R1 - CUCQ","Qualifications","2017-2018",null,null,null,null,0,null,0]
["MARTEL Bruno","DEPLECHIN Roland","G",2,0,120,81,"2018-01-06","T2 Qualification CD62 R1 - xxxx","Finale","2017-2018",null,null,null,null,0,null,0]
["MARTEL Bruno","FLAHAUT Ghislain","G",2,0,120,113,"2018-01-06","T2 Qualification CD62 R1 - xxxx","Qualifications","2017-2018",null,null,null,null,0,null,0]
["MARTEL Bruno","MONTADOR Christophe","G",2,0,120,113,"2018-01-06","T2 Qualification CD62 R1 - xxxx","1/2 Finale","2017-2018",null,null,null,null,0,null,0]
["MARTEL Bruno","RAMET Jacques","G",2,1,174,121,"2018-01-06","T2 Qualification CD62 R1 - xxxx","Qualifications","2017-2018",null,null,null,null,0,null,0]
["MARTEL Bruno","COFFRE Frédéric","P",0,2,64,120,"2018-01-13","T2 Qualification CD62 R1 - WIMILLE","Qualifications","2017-2018",null,null,null,null,0,null,0]
["MARTEL Bruno","MARTEL Michel","P",0,2,107,120,"2018-01-13","T2 Qualification CD62 R1 - WIMILLE","Qualifications","2017-2018",null,null,null,null,0,null,0]
["MARTEL Bruno","CAPLIEZ Bernard","G",2,1,169,155,"2018-02-24","T3 Qualification CD62 R1 - WIMILLE","1/2 Finale","2017-2018",null,null,null,null,0,null,0]
["MARTEL Bruno","DEPLECHIN Roland","G",2,0,120,78,"2018-02-24","T3 Qualification CD62 R1 - WIMILLE","Finale","2017-2018",null,null,null,null,0,null,0]
["MARTEL Bruno","RAMET Jacques","G",2,0,120,55,"2018-02-24","T3 Qualification CD62 R1 - WIMILLE","Qualifications","2017-2018",null,null,null,null,0,null,0]
["MARTEL Bruno","RAMET Jacques","G",2,1,165,139,"2018-02-24","T3 Qualification CD62 R1 - WIMILLE","Qualifications","2017-2018",null,null,null,null,0,null,0]
["MARTEL Bruno","CAPLIEZ Bernard","G",2,0,120,71,"2018-03-18","T4 Qualification CD62 R1 - CUCQ","1/2 Finale","2017-2018",null,null,null,null,0,null,0]
["MARTEL Bruno","CARTIERE André","G",2,0,120,81,"2018-03-18","T4 Qualification CD62 R1 - CUCQ","Qualifications","2017-2018",null,null,null,null,0,null,0]
["MARTEL Bruno","DEPLECHIN Roland","G",2,0,120,103,"2018-03-18","T4 Qualification CD62 R1 - CUCQ","Finale","2017-2018",null,null,null,null,0,null,0]
["MARTEL Bruno","TIZON Alain","P",0,2,108,120,"2018-03-18","T4 Qualification CD62 R1 - CUCQ","Qualifications","2017-2018",null,null,null,null,0,null,0]
["MARTEL Bruno","CARTIERE André","G",2,0,120,96,"2019-01-13","T3 Qualification CD62 R1 - WIMILLE","Qualifications","2018-2019",null,null,null,null,0,null,0]
["MARTEL Bruno","MONTADOR Ludovic","P",0,2,83,120,"2019-01-13","T3 Qualification CD62 R1 - WIMILLE","1/2 Finale","2018-2019",null,null,null,null,0,null,0]
["MARTEL Bruno","SAISON Bertrand","G",2,1,163,141,"2019-01-13","T3 Qualification CD62 R1 - WIMILLE","Qualifications","2018-2019",null,null,null,null,0,null,0]
["MARTEL Bruno","FLAHAUT Ghislain","P",0,2,72,120,"2018-12-01","T2 Qualification CD62 R1 - WIMILLE","Qualifications","2018-2019",null,null,null,null,0,null,0]
["MARTEL Bruno","RAMET Jacques","G",2,1,166,111,"2018-12-01","T2 Qualification CD62 R1 - WIMILLE","Qualifications","2018-2019",null,null,null,null,0,null,0]
["MARTEL Bruno","CARTIERE André","G",2,0,120,74,"2018-11-03","T1 Qualification CD62 R1 - CUCQ","Qualifications","2018-2019",null,null,null,null,0,null,0]
["MARTEL Bruno","FLAHAUT Ghislain","G",2,0,120,96,"2018-11-03","T1 Qualification CD62 R1 - CUCQ","Qualifications","2018-2019",null,null,null,null,0,null,0]
["MARTEL Bruno","MONTADOR Christophe","G",2,1,159,111,"2018-11-03","T1 Qualification CD62 R1 - CUCQ","1/2 Finale","2018-2019",null,null,null,null,0,null,0]
["MARTEL Bruno","MONTADOR Ludovic","P",1,2,141,172,"2018-11-03","T1 Qualification CD62 R1 - CUCQ","Finale","2018-2019",null,null,null,null,0,null,0]
["MARTEL Bruno","DEPLECHIN Roland","G",3,0,180,139,"2019-02-24","Finale CD62 R1 - Wimille","Poule unique","2018-2019",null,null,null,null,0,null,0]
["MARTEL Bruno","MONTADOR Christophe","P",0,3,144,180,"2019-02-24","Finale CD62 R1 - Wimille","Poule unique","2018-2019",null,null,null,null,0,null,0]
["MARTEL Bruno","MONTADOR Ludovic","G",3,2,294,268,"2019-02-24","Finale CD62 R1 - Wimille","Poule unique","2018-2019",null,null,null,null,0,null,0]
["MARTEL Bruno","DEPLECHIN Roland","P",1,2,141,177,"2019-01-27","T4 Qualification CD62 R1 - CUCQ","Qualifications","2018-2019",null,null,null,null,0,null,0]
["MARTEL Bruno","DEPLECHIN Roland","G",2,1,168,150,"2019-01-27","T4 Qualification CD62 R1 - CUCQ","Qualifications","2018-2019",null,null,null,null,0,null,0]
["MARTEL Bruno","MONTADOR Ludovic","P",1,2,143,174,"2019-01-27","T4 Qualification CD62 R1 - CUCQ","1/2 Finale","2018-2019",null,null,null,null,0,null,0]
["Fin des données",null,null,null,null,null,null,null,null,null,"",null,null,null,null,{"$f":"IF($K185=P$1,COUNTIF($C185,\"G\"),0)","v":0},null,{"$f":"IF($K185=R$1,COUNTIF($C185,\"G\"),0)","v":0}]

{"sheet":"MARTEL Michel","index":110,"n_rows":46,"n_cols":22,"rows_kept":46,"cut":false,"hidden":false,"merged":[]}
["MARTEL Michel",null,null,null,null,null,null,null,null,null,null,null,null,null,null,{"$f":"SaisonDeb","v":"2021-2022"},null,{"$f":"SaisonFin","v":"2022-2023"},null,"Toutes saisons"]
[{"$error":"#N/A"},null,null,null,null,null,null,null,null,null,null,null,null,null,null,"Nombre","%age","Nombre","%age","Nombre","%age"]
[{"$error":"#N/A"},null,null,null,null,null,null,null,null,null,null,null,null,"Matchs","Gagnés",{"$f":"SUM(P$15:P$46)","v":0},{"$f":"IF(P$3+P$4>0,P3/(P$3+P$4),\"\")","v":""},{"$f":"SUM(R$15:R$46)","v":0},{"$f":"IF(R$3+R$4>0,R3/(R$3+R$4),\"\")","v":""},{"$f":"COUNTIF($C$15:$C$46,\"G\")","v":5},{"$f":"IF(T$3+T$4>0,T3/(T$3+T$4),\"\")","v":0.16666666666666666}]
[{"$error":"#N/A"},null,null,null,null,null,null,null,null,null,null,null,null,null,"Perdus",{"$f":"COUNTIF($K$15:$K$46,SaisonDeb)-P3","v":0},{"$f":"IF(P$3+P$4>0,P4/(P$3+P$4),\"\")","v":""},{"$f":"COUNTIF($K$15:$K$46,SaisonFin)-R3","v":0},{"$f":"IF(R$3+R$4>0,R4/(R$3+R$4),\"\")","v":""},{"$f":"COUNTIF($C$15:$C$46,\"P\")","v":25},{"$f":"IF(T$3+T$4>0,T4/(T$3+T$4),\"\")","v":0.83333333333333337}]
[{"$error":"#N/A"},null,null,null,null,null,null,null,null,null,null,null,null,null,"Total / Moy.",{"$f":"SUM(P3:P4)","v":0},{"$f":"IF(SUMIF($K$15:$K$46,SaisonDeb,$G$15:$G$46)>0,SUMIF($K$15:$K$46,SaisonDeb,$F$15:$F$46)/SUMIF($K$15:$K$46,SaisonDeb,$G$15:$G$46),\"\")","v":""},{"$f":"SUM(R3:R4)","v":0},{"$f":"IF(SUMIF($K$15:$K$46,SaisonFin,$G$15:$G$46)>0,SUMIF($K$15:$K$46,SaisonFin,$F$15:$F$46)/SUMIF($K$15:$K$46,SaisonFin,$G$15:$G$46),\"\")","v":""},{"$f":"SUM(T3:T4)","v":30},{"$f":"IF(SUM($G$15:$G$46)>0,SUM($F$15:$F$46)/SUM($G$15:$G$46),\"\")","v":0.76822544414947924},{"$f":"IF(SUMIF($K$15:$K$46,SaisonDeb,$G$15:$G$46)+SUMIF($K$15:$K$46,SaisonFin,$G$15:$G$46)>0,(SUMIF($K$15:$K$46,SaisonDeb,$F$15:$F$46)+SUMIF($K$15:$K$46,SaisonFin,$F$15:$F$46))/(SUMIF($K$15:$K$46,SaisonDeb,$G$15:$G$46)+SUMIF($K$15:$K$46,SaisonFin,$G$15:$G$46)),\"\")","v":""}]
[null,null,null,null,null,null,null,null,null,null,null,null,null,"Sets","Gagnés",{"$f":"SUMIF($K$15:$K$46,SaisonDeb,$D$15:$D$46)","v":0},{"$f":"IF(P$6+P$7>0,P6/(P$6+P$7),\"\")","v":""},{"$f":"SUMIF($K$15:$K$46,SaisonFin,$D$15:$D$46)","v":0},{"$f":"IF(R$6+R$7>0,R6/(R$6+R$7),\"\")","v":""},{"$f":"SUM($D$15:$D$46)","v":28},{"$f":"IF(T$6+T$7>0,T6/(T$6+T$7),\"\")","v":0.28282828282828282}]
[null,null,null,null,null,null,null,null,null,null,null,null,null,null,"Perdus",{"$f":"SUMIF($K$15:$K$46,SaisonDeb,$E$15:$E$46)","v":0},{"$f":"IF(P$6+P$7>0,P7/(P$6+P$7),\"\")","v":""},{"$f":"SUMIF($K$15:$K$46,SaisonFin,$E$15:$E$46)","v":0},{"$f":"IF(R$6+R$7>0,R7/(R$6+R$7),\"\")","v":""},{"$f":"SUM($E$15:$E$46)","v":71},{"$f":"IF(T$6+T$7>0,T7/(T$6+T$7),\"\")","v":0.71717171717171713}]
["Récapitulatif joueurs",null,null,null,null,null,null,null,null,null,null,null,null,null,"Total",{"$f":"SUM(P6:P7)","v":0},null,{"$f":"SUM(R6:R7)","v":0},null,{"$f":"SUM(T6:T7)","v":99}]
[]
[]
[]
[]
[]
[]
["Joueur","Adversaire","G/P","Sets gagnés","Sets perdus","pts marqués","pts subis","Date","Compétition","Phase","Saison"]
["MARTEL Michel","BLONDEEL Bruno","P",1,3,179,182,"2012-09-30","R1 CD62 T1 LE TOUQUET","Poules",{"$f":"IF(H16<>\"\",IF(MONTH(H16)>MoisRef,YEAR(H16)&\"-\"&YEAR(H16)+1,YEAR(H16)-1&\"-\"&YEAR(H16)),\"\")","v":"2012-2013"},null,null,null,null,{"$f":"IF($K16=P$1,COUNTIF($C16,\"G\"),0)","v":0},null,{"$f":"IF($K16=R$1,COUNTIF($C16,\"G\"),0)","v":0}]
["MARTEL Michel","CARTIERE André","P",1,3,126,190,"2012-09-30","R1 CD62 T1 LE TOUQUET","Poules","2012-2013",null,null,null,null,0,null,0]
["MARTEL Michel","PIERRU Didier","P",0,3,116,150,"2012-11-10","R1 CD62 T2 CUCQ","Poules","2012-2013",null,null,null,null,0,null,0]
["MARTEL Michel","DEPLECHIN Robert","P",0,3,70,150,"2012-11-10","R1 CD62 T2 CUCQ","Poules","2012-2013",null,null,null,null,0,null,0]
["MARTEL Michel","TRIPLET Gilbert","P",2,3,165,210,"2013-09-15","R1 CD62 T1 LE TOUQUET","Poules","2013-2014",null,null,null,null,0,null,0]
["MARTEL Michel","PIERRU Didier","P",1,3,164,193,"2013-09-15","R1 CD62 T1 LE TOUQUET","Poules","2013-2014",null,null,null,null,0,null,0]
["MARTEL Michel","MONTADOR Christophe","P",1,3,{"$f":"50+49+43+37","v":179},180,"2013-12-21","R1 CD62 T2 WIMILLE","Poules","2013-2014",null,null,null,null,0,null,0]
["MARTEL Michel","CAPLIEZ Bernard","G",3,1,{"$f":"150+42+23","v":215},{"$f":"100+46+47+40","v":233},"2013-12-21","R1 CD62 T2 WIMILLE","Poules","2013-2014",null,null,null,null,0,null,0]
["MARTEL Michel","BLONDEEL Bruno","P",1,3,154,180,"2014-10-26","R1 CD62 T1 CUCQ","Poules","2014-2015",null,null,null,null,0,null,0]
["MARTEL Michel","TRIPLET Eddy","G",3,2,180,193,"2014-10-26","R1 CD62 T1 CUCQ","Poules","2014-2015",null,null,null,null,0,null,0]
["MARTEL Michel","MARTEL Bruno","P",2,3,204,237,"2014-12-28","R1 CD62 T3 CUCQ","Poules","2014-2015",null,null,null,null,0,null,0]
["MARTEL Michel","CAPLIEZ Bernard","P",0,3,86,150,"2014-12-28","R1 CD62 T3 CUCQ","Poules","2014-2015",null,null,null,null,0,null,0]
["MARTEL Michel","CAPLIEZ Bernard","P",0,3,91,150,"2016-01-17","T1 Qualifications CD62 R1 Maritime - CUCQ","Qualifications","2015-2016",null,null,null,null,0,null,0]
["MARTEL Michel","TIZON Alain","P",1,3,141,186,"2016-01-17","T1 Qualifications CD62 R1 Maritime - CUCQ","Qualifications","2015-2016",null,null,null,null,0,null,0]
["MARTEL Michel","CAPLIEZ Bernard","P",0,3,91,150,"2016-01-17","T1 Qualifications CD62 R1 Maritime - CUCQ","Qualifications","2015-2016",null,null,null,null,0,null,0]
["MARTEL Michel","TIZON Alain","P",1,3,141,186,"2016-01-17","T1 Qualifications CD62 R1 Maritime - CUCQ","Qualifications","2015-2016",null,null,null,null,0,null,0]
["MARTEL Michel","MARTEL Bruno","P",0,3,75,150,"2016-12-11","T1 Qualification CD62 R1 Maritime - CUCQ","Qualifications","2016-2017",null,null,null,null,0,null,0]
["MARTEL Michel","RAMET Jacques","G",3,0,150,136,"2016-12-11","T1 Qualification CD62 R1 Maritime - CUCQ","Qualifications","2016-2017",null,null,null,null,0,null,0]
["MARTEL Michel","BOUBET Jean","P",2,3,206,238,"2017-02-11","T3 Qualification CD62 R1 Maritime - CUCQ","Qualifications","2016-2017",null,null,null,null,0,null,0]
["MARTEL Michel","LEBECQ Jean-Pierre","P",0,3,91,150,"2017-02-11","T3 Qualification CD62 R1 Maritime - CUCQ","Qualifications","2016-2017",null,null,null,null,0,null,0]
["MARTEL Michel","DEPLECHIN Roland","P",0,2,51,120,"2017-12-10","T1 Qualification CD62 R1 - CUCQ","Qualifications","2017-2018",null,null,null,null,0,null,0]
["MARTEL Michel","DEPLECHIN Roland","P",0,2,56,120,"2017-12-10","T1 Qualification CD62 R1 - CUCQ","Qualifications","2017-2018",null,null,null,null,0,null,0]
["MARTEL Michel","DEPLECHIN Roland","P",0,2,51,120,"2018-01-06","T2 Qualification CD62 R1 - xxxx","Qualifications","2017-2018",null,null,null,null,0,null,0]
["MARTEL Michel","DEPLECHIN Roland","P",0,2,56,120,"2018-01-06","T2 Qualification CD62 R1 - xxxx","Qualifications","2017-2018",null,null,null,null,0,null,0]
["MARTEL Michel","COFFRE Frédéric","P",0,2,89,120,"2018-01-13","T2 Qualification CD62 R1 - WIMILLE","Qualifications","2017-2018",null,null,null,null,0,null,0]
["MARTEL Michel","MARTEL Bruno","G",2,0,120,107,"2018-01-13","T2 Qualification CD62 R1 - WIMILLE","Qualifications","2017-2018",null,null,null,null,0,null,0]
["MARTEL Michel","CAPLIEZ Bernard","P",0,2,85,120,"2018-02-24","T3 Qualification CD62 R1 - WIMILLE","Qualifications","2017-2018",null,null,null,null,0,null,0]
["MARTEL Michel","TIZON Alain","P",1,2,145,161,"2018-02-24","T3 Qualification CD62 R1 - WIMILLE","Qualifications","2017-2018",null,null,null,null,0,null,0]
["MARTEL Michel","DEPLECHIN Roland","P",1,2,111,174,"2018-03-18","T4 Qualification CD62 R1 - CUCQ","Qualifications","2017-2018",null,null,null,null,0,null,0]
["MARTEL Michel","FLAHAUT Ghislain","G",2,1,174,141,"2018-03-18","T4 Qualification CD62 R1 - CUCQ","Qualifications","2017-2018",null,null,null,null,0,null,0]
["Fin des données",null,null,null,null,null,null,null,null,null,"",null,null,null,null,0,null,0]

{"sheet":"MARTIN Denis","index":111,"n_rows":18,"n_cols":22,"rows_kept":18,"cut":false,"hidden":false,"merged":[]}
["MARTIN Denis",null,null,null,null,null,null,null,null,null,null,null,null,null,null,{"$f":"SaisonDeb","v":"2021-2022"},null,{"$f":"SaisonFin","v":"2022-2023"},null,"Toutes saisons"]
[{"$error":"#N/A"},null,null,null,null,null,null,null,null,null,null,null,null,null,null,"Nombre","%age","Nombre","%age","Nombre","%age"]
[{"$error":"#N/A"},null,null,null,null,null,null,null,null,null,null,null,null,"Matchs","Gagnés",{"$f":"SUM(P$15:P$114)","v":0},{"$f":"IF(P$3+P$4>0,P3/(P$3+P$4),\"\")","v":0},{"$f":"SUM(R$15:R$114)","v":0},{"$f":"IF(R$3+R$4>0,R3/(R$3+R$4),\"\")","v":""},{"$f":"COUNTIF($C$15:$C$114,\"G\")","v":0},{"$f":"IF(T$3+T$4>0,T3/(T$3+T$4),\"\")","v":0}]
[{"$error":"#N/A"},null,null,null,null,null,null,null,null,null,null,null,null,null,"Perdus",{"$f":"COUNTIF($K$15:$M$114,SaisonDeb)-P3","v":2},{"$f":"IF(P$3+P$4>0,P4/(P$3+P$4),\"\")","v":1},{"$f":"COUNTIF($K$15:$K$114,SaisonFin)-R3","v":0},{"$f":"IF(R$3+R$4>0,R4/(R$3+R$4),\"\")","v":""},{"$f":"COUNTIF($C$15:$C$114,\"P\")","v":2},{"$f":"IF(T$3+T$4>0,T4/(T$3+T$4),\"\")","v":1}]
[{"$error":"#N/A"},null,null,null,null,null,null,null,null,null,null,null,null,null,"Total / Moy.",{"$f":"SUM(P3:P4)","v":2},{"$f":"IF(SUMIF($K$15:$K$114,SaisonDeb,$G$15:$G$114)>0,SUMIF($K$15:$K$114,SaisonDeb,$F$15:$F$114)/SUMIF($K$15:$K$114,SaisonDeb,$G$15:$G$114),\"\")","v":0.73333333333333328},{"$f":"SUM(R3:R4)","v":0},{"$f":"IF(SUMIF($K$15:$K$114,SaisonFin,$G$15:$G$114)>0,SUMIF($K$15:$K$114,SaisonFin,$F$15:$F$114)/SUMIF($K$15:$K$114,SaisonFin,$G$15:$G$114),\"\")","v":""},{"$f":"SUM(T3:T4)","v":2},{"$f":"IF(SUM($G$15:$G$114)>0,SUM($F$15:$F$114)/SUM($G$15:$G$114),\"\")","v":0.73333333333333328},{"$f":"IF(SUMIF($K$15:$K$18,SaisonDeb,$G$15:$G$18)+SUMIF($K$15:$K$18,SaisonFin,$G$15:$G$18)>0,(SUMIF($K$15:$K$18,SaisonDeb,$F$15:$F$18)+SUMIF($K$15:$K$18,SaisonFin,$F$15:$F$18))/(SUMIF($K$15:$K$18,SaisonDeb,$G$15:$G$18)+SUMIF($K$15:$K$18,SaisonFin,$G$15:$G$18)),\"\")","v":0.73333333333333328}]
[null,null,null,null,null,null,null,null,null,null,null,null,null,"Sets","Gagnés",{"$f":"SUMIF($K$15:$K$114,SaisonDeb,$D$15:$D$114)","v":0},{"$f":"IF(P$6+P$7>0,P6/(P$6+P$7),\"\")","v":0},{"$f":"SUMIF($K$15:$K$114,SaisonFin,$D$15:$D$114)","v":0},{"$f":"IF(R$6+R$7>0,R6/(R$6+R$7),\"\")","v":""},{"$f":"SUM($D$15:$D$114)","v":0},{"$f":"IF(T$6+T$7>0,T6/(T$6+T$7),\"\")","v":0}]
[null,null,null,null,null,null,null,null,null,null,null,null,null,null,"Perdus",{"$f":"SUMIF($K$15:$K$114,SaisonDeb,$E$15:$E$114)","v":2},{"$f":"IF(P$6+P$7>0,P7/(P$6+P$7),\"\")","v":1},{"$f":"SUMIF($K$15:$K$114,SaisonFin,$E$15:$E$114)","v":0},{"$f":"IF(R$6+R$7>0,R7/(R$6+R$7),\"\")","v":""},{"$f":"SUM($E$15:$E$114)","v":2},{"$f":"IF(T$6+T$7>0,T7/(T$6+T$7),\"\")","v":1}]
["Récapitulatif joueurs",null,null,null,null,null,null,null,null,null,null,null,null,null,"Total",{"$f":"SUM(P6:P7)","v":2},null,{"$f":"SUM(R6:R7)","v":0},null,{"$f":"SUM(T6:T7)","v":2}]
[]
[]
[]
[]
[]
[]
["Joueur","Adversaire","G/P","Sets gagnés","Sets perdus","pts marqués","pts subis","Date","Compétition","Phase","Saison"]
["MARTIN Denis","BOZON Robert","P",0,1,82,120,"2021-10-02","T 1 OISE - Qualifications R 1 - Tour principal - MERU","Qualifications",{"$f":"IF(H16<>\"\",IF(MONTH(H16)>MoisRef,YEAR(H16)&\"-\"&YEAR(H16)+1,YEAR(H16)-1&\"-\"&YEAR(H16)),\"\")","v":"2021-2022"},null,null,null,null,{"$f":"IF($K16=P$1,COUNTIF($C16,\"G\"),0)","v":0},null,{"$f":"IF($K16=R$1,COUNTIF($C16,\"G\"),0)","v":0}]
["MARTIN Denis","NAHIRNYJ Alexi","P",0,1,94,120,"2021-10-02","T 1 OISE - Qualifications R 1 - Tour principal - MERU","Qualifications",{"$f":"IF(H17<>\"\",IF(MONTH(H17)>MoisRef,YEAR(H17)&\"-\"&YEAR(H17)+1,YEAR(H17)-1&\"-\"&YEAR(H17)),\"\")","v":"2021-2022"},null,null,null,null,{"$f":"IF($K17=P$1,COUNTIF($C17,\"G\"),0)","v":0},null,{"$f":"IF($K17=R$1,COUNTIF($C17,\"G\"),0)","v":0}]
["Fin des données",null,null,null,null,null,null,null,null,null,{"$f":"IF(H18<>\"\",IF(MONTH(H18)>MoisRef,YEAR(H18)&\"-\"&YEAR(H18)+1,YEAR(H18)-1&\"-\"&YEAR(H18)),\"\")","v":""},null,null,null,null,{"$f":"IF($K18=P$1,COUNTIF($C18,\"G\"),0)","v":0},null,{"$f":"IF($K18=R$1,COUNTIF($C18,\"G\"),0)","v":0}]

{"sheet":"MASSARD Patrick","index":112,"n_rows":31,"n_cols":22,"rows_kept":31,"cut":false,"hidden":false,"merged":[]}
["MASSARD Patrick",null,null,null,null,null,null,null,null,null,null,null,null,null,null,{"$f":"SaisonDeb","v":"2021-2022"},null,{"$f":"SaisonFin","v":"2022-2023"},null,"Toutes saisons"]
[{"$error":"#N/A"},null,null,null,null,null,null,null,null,null,null,null,null,null,null,"Nombre","%age","Nombre","%age","Nombre","%age"]
[{"$error":"#N/A"},null,null,null,null,null,null,null,null,null,null,null,null,"Matchs","Gagnés",{"$f":"SUM(P$15:P$127)","v":2},{"$f":"IF(P$3+P$4>0,P3/(P$3+P$4),\"\")","v":0.33333333333333331},{"$f":"SUM(R$15:R$127)","v":4},{"$f":"IF(R$3+R$4>0,R3/(R$3+R$4),\"\")","v":0.44444444444444442},{"$f":"COUNTIF($C$15:$C$127,\"G\")","v":6},{"$f":"IF(T$3+T$4>0,T3/(T$3+T$4),\"\")","v":0.4}]
[{"$error":"#N/A"},null,null,null,null,null,null,null,null,null,null,null,null,null,"Perdus",{"$f":"COUNTIF($K$15:$M$127,SaisonDeb)-P3","v":4},{"$f":"IF(P$3+P$4>0,P4/(P$3+P$4),\"\")","v":0.66666666666666663},{"$f":"COUNTIF($K$15:$K$127,SaisonFin)-R3","v":5},{"$f":"IF(R$3+R$4>0,R4/(R$3+R$4),\"\")","v":0.55555555555555558},{"$f":"COUNTIF($C$15:$C$127,\"P\")","v":9},{"$f":"IF(T$3+T$4>0,T4/(T$3+T$4),\"\")","v":0.6}]
[{"$error":"#N/A"},null,null,null,null,null,null,null,null,null,null,null,null,null,"Total / Moy.",{"$f":"SUM(P3:P4)","v":6},{"$f":"IF(SUMIF($K$15:$K$127,SaisonDeb,$G$15:$G$127)>0,SUMIF($K$15:$K$127,SaisonDeb,$F$15:$F$127)/SUMIF($K$15:$K$127,SaisonDeb,$G$15:$G$127),\"\")","v":0.93481717011128773},{"$f":"SUM(R3:R4)","v":9},{"$f":"IF(SUMIF($K$15:$K$127,SaisonFin,$G$15:$G$127)>0,SUMIF($K$15:$K$127,SaisonFin,$F$15:$F$127)/SUMIF($K$15:$K$127,SaisonFin,$G$15:$G$127),\"\")","v":0.89577187807276304},{"$f":"SUM(T3:T4)","v":15},{"$f":"IF(SUM($G$15:$G$127)>0,SUM($F$15:$F$127)/SUM($G$15:$G$127),\"\")","v":0.9106925880923451},{"$f":"IF(SUMIF($K$15:$K$31,SaisonDeb,$G$15:$G$31)+SUMIF($K$15:$K$31,SaisonFin,$G$15:$G$31)>0,(SUMIF($K$15:$K$31,SaisonDeb,$F$15:$F$31)+SUMIF($K$15:$K$31,SaisonFin,$F$15:$F$31))/(SUMIF($K$15:$K$31,SaisonDeb,$G$15:$G$31)+SUMIF($K$15:$K$31,SaisonFin,$G$15:$G$31)),\"\")","v":0.9106925880923451}]
[null,null,null,null,null,null,null,null,null,null,null,null,null,"Sets","Gagnés",{"$f":"SUMIF($K$15:$K$127,SaisonDeb,$D$15:$D$127)","v":2},{"$f":"IF(P$6+P$7>0,P6/(P$6+P$7),\"\")","v":0.33333333333333331},{"$f":"SUMIF($K$15:$K$127,SaisonFin,$D$15:$D$127)","v":4},{"$f":"IF(R$6+R$7>0,R6/(R$6+R$7),\"\")","v":0.44444444444444442},{"$f":"SUM($D$15:$D$127)","v":6},{"$f":"IF(T$6+T$7>0,T6/(T$6+T$7),\"\")","v":0.4}]
[null,null,null,null,null,null,null,null,null,null,null,null,null,null,"Perdus",{"$f":"SUMIF($K$15:$K$127,SaisonDeb,$E$15:$E$127)","v":4},{"$f":"IF(P$6+P$7>0,P7/(P$6+P$7),\"\")","v":0.66666666666666663},{"$f":"SUMIF($K$15:$K$127,SaisonFin,$E$15:$E$127)","v":5},{"$f":"IF(R$6+R$7>0,R7/(R$6+R$7),\"\")","v":0.55555555555555558},{"$f":"SUM($E$15:$E$127)","v":9},{"$f":"IF(T$6+T$7>0,T7/(T$6+T$7),\"\")","v":0.6}]
["Récapitulatif joueurs",null,null,null,null,null,null,null,null,null,null,null,null,null,"Total",{"$f":"SUM(P6:P7)","v":6},null,{"$f":"SUM(R6:R7)","v":9},null,{"$f":"SUM(T6:T7)","v":15}]
[]
[]
[]
[]
[]
[]
["Joueur","Adversaire","G/P","Sets gagnés","Sets perdus","pts marqués","pts subis","Date","Compétition","Phase","Saison"]
["MASSARD Patrick","CHENAL Gérard","G",1,0,120,102,"2021-12-18","T 2 OISE - Qualifications R 1 - Tour principal - CREPY","Qualifications",{"$f":"IF(H16<>\"\",IF(MONTH(H16)>MoisRef,YEAR(H16)&\"-\"&YEAR(H16)+1,YEAR(H16)-1&\"-\"&YEAR(H16)),\"\")","v":"2021-2022"},null,null,null,null,{"$f":"IF($K16=P$1,COUNTIF($C16,\"G\"),0)","v":1},null,{"$f":"IF($K16=R$1,COUNTIF($C16,\"G\"),0)","v":0}]
["MASSARD Patrick","DESCLAIR Guy","P",0,1,89,120,"2021-12-18","T 2 OISE - Qualifications R 1 - Tour principal - CREPY","1/2 Finale","2021-2022",null,null,null,null,0,null,0]
["MASSARD Patrick","LAMARQUE Yves","P",0,1,104,120,"2021-12-18","T 2 OISE - Qualifications R 1 - Tour principal - CREPY","Qualifications","2021-2022",null,null,null,null,0,null,0]
["MASSARD Patrick","LAMARQUE Yves","G",1,0,120,47,"2021-12-18","T 2 OISE - Qualifications R 1 - Tour principal - CREPY","1/4 Finale","2021-2022",null,null,null,null,1,null,0]
["MASSARD Patrick","BOZON Robert","G",1,0,120,89,"2022-12-29","T 3 OISE - Qualifications R 1 - Tour principal - SENLIS","Qualifications","2022-2023",null,null,null,null,0,null,1]
["MASSARD Patrick","LAMARQUE Yves","P",0,1,88,120,"2022-12-29","T 3 OISE - Qualifications R 1 - Tour principal - SENLIS","1/4 Finale","2022-2023",null,null,null,null,0,null,0]
["MASSARD Patrick","ZANOTTI Michel","G",1,0,120,95,"2022-12-29","T 3 OISE - Qualifications R 1 - Tour principal - SENLIS","Qualifications","2022-2023",null,null,null,null,0,null,1]
["MASSARD Patrick","DESCLAIR Guy","P",0,1,81,120,"2022-04-16","T 4 OISE - Qualifications R 1 - Tour Principal - BEAUVAIS","Qualifications","2021-2022",null,null,null,null,0,null,0]
["MASSARD Patrick","LAMARQUE Yves","P",0,1,74,120,"2022-04-16","T 4 OISE - Qualifications R 1 - Tour Principal - BEAUVAIS","Qualifications","2021-2022",null,null,null,null,0,null,0]
["MASSARD Patrick","MURIOT Jean-Pierre","P",0,1,112,120,"2023-02-18","T 3 OISE - Qualifications R 1 - Tour Principal - BEAUVAIS","Qualifications","2022-2023",null,null,null,null,0,null,0]
["MASSARD Patrick","ZANOTTI Michel","P",0,1,83,120,"2023-02-18","T 3 OISE - Qualifications R 1 - Tour Principal - BEAUVAIS","Qualifications","2022-2023",null,null,null,null,0,null,0]
["MASSARD Patrick","DESCLAIR Guy","P",0,1,59,120,"2023-03-18","T 4 OISE - Qualifications R 1 - Tour Principal - CREPY","Qualifications","2022-2023",null,null,null,null,0,null,0]
["MASSARD Patrick","LAMARQUE Yves","G",1,0,120,115,"2023-03-18","T 4 OISE - Qualifications R 1 - Tour Principal - CREPY","Qualifications","2022-2023",null,null,null,null,0,null,1]
["MASSARD Patrick","CHENAL Gérard","G",1,0,120,118,"2022-10-29","T 1 OISE - Qualifications R 1 - Tour Principal - MERU","Qualifications","2022-2023",null,null,null,null,0,null,1]
["MASSARD Patrick","CHENAL Gérard","P",0,1,89,120,"2022-10-29","T 1 OISE - Qualifications R 1 - Tour Principal - MERU","Qualifications","2022-2023",null,null,null,null,0,null,0]
["Fin des données",null,null,null,null,null,null,null,null,null,"",null,null,null,null,{"$f":"IF($K31=P$1,COUNTIF($C31,\"G\"),0)","v":0},null,{"$f":"IF($K31=R$1,COUNTIF($C31,\"G\"),0)","v":0}]

{"sheet":"MAUGER Jean-Paul","index":113,"n_rows":29,"n_cols":22,"rows_kept":29,"cut":false,"hidden":false,"merged":[]}
["MAUGER Jean-Paul",null,null,null,null,null,null,null,null,null,null,null,null,null,null,{"$f":"SaisonDeb","v":"2021-2022"},null,{"$f":"SaisonFin","v":"2022-2023"},null,"Toutes saisons"]
[{"$error":"#N/A"},null,null,null,null,null,null,null,null,null,null,null,null,null,null,"Nombre","%age","Nombre","%age","Nombre","%age"]
[{"$error":"#N/A"},null,null,null,null,null,null,null,null,null,null,null,null,"Matchs","Gagnés",{"$f":"SUM(P$15:P$125)","v":3},{"$f":"IF(P$3+P$4>0,P3/(P$3+P$4),\"\")","v":0.75},{"$f":"SUM(R$15:R$125)","v":1},{"$f":"IF(R$3+R$4>0,R3/(R$3+R$4),\"\")","v":0.33333333333333331},{"$f":"COUNTIF($C$15:$C$125,\"G\")","v":7},{"$f":"IF(T$3+T$4>0,T3/(T$3+T$4),\"\")","v":0.53846153846153844}]
[{"$error":"#N/A"},null,null,null,null,null,null,null,null,null,null,null,null,null,"Perdus",{"$f":"COUNTIF($K$15:$M$125,SaisonDeb)-P3","v":1},{"$f":"IF(P$3+P$4>0,P4/(P$3+P$4),\"\")","v":0.25},{"$f":"COUNTIF($K$15:$K$125,SaisonFin)-R3","v":2},{"$f":"IF(R$3+R$4>0,R4/(R$3+R$4),\"\")","v":0.66666666666666663},{"$f":"COUNTIF($C$15:$C$125,\"P\")","v":6},{"$f":"IF(T$3+T$4>0,T4/(T$3+T$4),\"\")","v":0.46153846153846156}]
[{"$error":"#N/A"},null,null,null,null,null,null,null,null,null,null,null,null,null,"Total / Moy.",{"$f":"SUM(P3:P4)","v":4},{"$f":"IF(SUMIF($K$15:$K$125,SaisonDeb,$G$15:$G$125)>0,SUMIF($K$15:$K$125,SaisonDeb,$F$15:$F$125)/SUMIF($K$15:$K$125,SaisonDeb,$G$15:$G$125),\"\")","v":1.4213649851632046},{"$f":"SUM(R3:R4)","v":3},{"$f":"IF(SUMIF($K$15:$K$125,SaisonFin,$G$15:$G$125)>0,SUMIF($K$15:$K$125,SaisonFin,$F$15:$F$125)/SUMIF($K$15:$K$125,SaisonFin,$G$15:$G$125),\"\")","v":0.99358974358974361},{"$f":"SUM(T3:T4)","v":13},{"$f":"IF(SUM($G$15:$G$125)>0,SUM($F$15:$F$125)/SUM($G$15:$G$125),\"\")","v":1.1658163265306123},{"$f":"IF(SUMIF($K$15:$K$29,SaisonDeb,$G$15:$G$29)+SUMIF($K$15:$K$29,SaisonFin,$G$15:$G$29)>0,(SUMIF($K$15:$K$29,SaisonDeb,$F$15:$F$29)+SUMIF($K$15:$K$29,SaisonFin,$F$15:$F$29))/(SUMIF($K$15:$K$29,SaisonDeb,$G$15:$G$29)+SUMIF($K$15:$K$29,SaisonFin,$G$15:$G$29)),\"\")","v":1.2157164869029276}]
[null,null,null,null,null,null,null,null,null,null,null,null,null,"Sets","Gagnés",{"$f":"SUMIF($K$15:$K$125,SaisonDeb,$D$15:$D$125)","v":3},{"$f":"IF(P$6+P$7>0,P6/(P$6+P$7),\"\")","v":0.75},{"$f":"SUMIF($K$15:$K$125,SaisonFin,$D$15:$D$125)","v":1},{"$f":"IF(R$6+R$7>0,R6/(R$6+R$7),\"\")","v":0.33333333333333331},{"$f":"SUM($D$15:$D$125)","v":10},{"$f":"IF(T$6+T$7>0,T6/(T$6+T$7),\"\")","v":0.52631578947368418}]
[null,null,null,null,null,null,null,null,null,null,null,null,null,null,"Perdus",{"$f":"SUMIF($K$15:$K$125,SaisonDeb,$E$15:$E$125)","v":1},{"$f":"IF(P$6+P$7>0,P7/(P$6+P$7),\"\")","v":0.25},{"$f":"SUMIF($K$15:$K$125,SaisonFin,$E$15:$E$125)","v":2},{"$f":"IF(R$6+R$7>0,R7/(R$6+R$7),\"\")","v":0.66666666666666663},{"$f":"SUM($E$15:$E$125)","v":9},{"$f":"IF(T$6+T$7>0,T7/(T$6+T$7),\"\")","v":0.47368421052631576}]
["Récapitulatif joueurs",null,null,null,null,null,null,null,null,null,null,null,null,null,"Total",{"$f":"SUM(P6:P7)","v":4},null,{"$f":"SUM(R6:R7)","v":3},null,{"$f":"SUM(T6:T7)","v":19}]
[]
[]
[]
[]
[]
[]
["Joueur","Adversaire","G/P","Sets gagnés","Sets perdus","pts marqués","pts subis","Date","Compétition","Phase","Saison"]
["MAUGER Jean-Paul","ALAZARD Philippe","P",0,2,79,120,"2019-10-19","CD60  R1 - T1 - Tour Principal - BEAUVAIS","1/2 Finale",{"$f":"IF(H16<>\"\",IF(MONTH(H16)>MoisRef,YEAR(H16)&\"-\"&YEAR(H16)+1,YEAR(H16)-1&\"-\"&YEAR(H16)),\"\")","v":"2019-2020"},null,null,null,null,{"$f":"IF($K16=P$1,COUNTIF($C16,\"G\"),0)","v":0},null,{"$f":"IF($K16=R$1,COUNTIF($C16,\"G\"),0)","v":0}]
["MAUGER Jean-Paul","BARTHON Aurélie","G",2,0,120,38,"2019-10-19","CD60  R1 - T1 - Tour Principal - BEAUVAIS","Qualifications","2019-2020",null,null,null,null,0,null,0]
["MAUGER Jean-Paul","DUCHATEAU Jean-Pierre","G",2,0,120,83,"2019-10-19","CD60  R1 - T1 - Tour Principal - BEAUVAIS","Qualifications","2019-2020",null,null,null,null,0,null,0]
["MAUGER Jean-Paul","DUCHATEAU Jean-Pierre","G",2,0,120,46,"2019-10-19","CD60  R1 - T1 - Tour Principal - BEAUVAIS","1/4 Finale","2019-2020",null,null,null,null,0,null,0]
["MAUGER Jean-Paul","CHENAL Gérard","P",0,2,71,120,"2019-11-23","CD60  R1 - T2 - Tour Principal - MERU","Qualifications","2019-2020",null,null,null,null,0,null,0]
["MAUGER Jean-Paul","DESCLAIR Guy","P",0,2,72,120,"2019-11-23","CD60  R1 - T2 - Tour Principal - MERU","Qualifications","2019-2020",null,null,null,null,0,null,0]
["MAUGER Jean-Paul","AZRIA Aaron","G",1,0,120,30,"2021-10-02","T 1 OISE - Qualifications R 1 - Tour principal - MERU","Qualifications","2021-2022",null,null,null,null,1,null,0]
["MAUGER Jean-Paul","BOZON Robert","P",0,1,119,120,"2021-10-02","T 1 OISE - Qualifications R 1 - Tour principal - MERU","1/2 Finale","2021-2022",null,null,null,null,0,null,0]
["MAUGER Jean-Paul","CHARLES Dominique","G",1,0,120,107,"2021-10-02","T 1 OISE - Qualifications R 1 - Tour principal - MERU","Qualifications","2021-2022",null,null,null,null,1,null,0]
["MAUGER Jean-Paul","NAHIRNYJ Alexi","G",1,0,120,80,"2021-10-02","T 1 OISE - Qualifications R 1 - Tour principal - MERU","1/4 Finale","2021-2022",null,null,null,null,1,null,0]
["MAUGER Jean-Paul","DESCLAIR Guy","P",0,1,118,120,"2022-10-29","T 1 OISE - Qualifications R 1 - Tour Principal - MERU","Qualifications","2022-2023",null,null,null,null,0,null,0]
["MAUGER Jean-Paul","GRANGER Pascal","P",0,1,72,120,"2022-10-29","T 1 OISE - Qualifications R 1 - Tour Principal - MERU","1/4 Finale","2022-2023",null,null,null,null,0,null,0]
["MAUGER Jean-Paul","RAFFY Alain","G",1,0,120,72,"2022-10-29","T 1 OISE - Qualifications R 1 - Tour Principal - MERU","Qualifications","2022-2023",null,null,null,null,0,null,1]
["Fin des données",null,null,null,null,null,null,null,null,null,"",null,null,null,null,0,null,0]

{"sheet":"MINET Lionel","index":114,"n_rows":32,"n_cols":22,"rows_kept":32,"cut":false,"hidden":false,"merged":[]}
["MINET Lionel",null,null,null,null,null,null,null,null,null,null,null,null,null,null,{"$f":"SaisonDeb","v":"2021-2022"},null,{"$f":"SaisonFin","v":"2022-2023"},null,"Toutes saisons"]
[{"$error":"#N/A"},null,null,null,null,null,null,null,null,null,null,null,null,null,null,"Nombre","%age","Nombre","%age","Nombre","%age"]
[{"$error":"#N/A"},null,null,null,null,null,null,null,null,null,null,null,null,"Matchs","Gagnés",{"$f":"SUM(P$15:P$128)","v":0},{"$f":"IF(P$3+P$4>0,P3/(P$3+P$4),\"\")","v":""},{"$f":"SUM(R$15:R$128)","v":10},{"$f":"IF(R$3+R$4>0,R3/(R$3+R$4),\"\")","v":0.625},{"$f":"COUNTIF($C$15:$C$128,\"G\")","v":10},{"$f":"IF(T$3+T$4>0,T3/(T$3+T$4),\"\")","v":0.625}]
[{"$error":"#N/A"},null,null,null,null,null,null,null,null,null,null,null,null,null,"Perdus",{"$f":"COUNTIF($K$15:$M$128,SaisonDeb)-P3","v":0},{"$f":"IF(P$3+P$4>0,P4/(P$3+P$4),\"\")","v":""},{"$f":"COUNTIF($K$15:$K$128,SaisonFin)-R3","v":6},{"$f":"IF(R$3+R$4>0,R4/(R$3+R$4),\"\")","v":0.375},{"$f":"COUNTIF($C$15:$C$128,\"P\")","v":6},{"$f":"IF(T$3+T$4>0,T4/(T$3+T$4),\"\")","v":0.375}]
[{"$error":"#N/A"},null,null,null,null,null,null,null,null,null,null,null,null,null,"Total / Moy.",{"$f":"SUM(P3:P4)","v":0},{"$f":"IF(SUMIF($K$15:$K$128,SaisonDeb,$G$15:$G$128)>0,SUMIF($K$15:$K$128,SaisonDeb,$F$15:$F$128)/SUMIF($K$15:$K$128,SaisonDeb,$G$15:$G$128),\"\")","v":""},{"$f":"SUM(R3:R4)","v":16},{"$f":"IF(SUMIF($K$15:$K$128,SaisonFin,$G$15:$G$128)>0,SUMIF($K$15:$K$128,SaisonFin,$F$15:$F$128)/SUMIF($K$15:$K$128,SaisonFin,$G$15:$G$128),\"\")","v":1.027355623100304},{"$f":"SUM(T3:T4)","v":16},{"$f":"IF(SUM($G$15:$G$128)>0,SUM($F$15:$F$128)/SUM($G$15:$G$128),\"\")","v":1.027355623100304},{"$f":"IF(SUMIF($K$15:$K$32,SaisonDeb,$G$15:$G$32)+SUMIF($K$15:$K$32,SaisonFin,$G$15:$G$32)>0,(SUMIF($K$15:$K$32,SaisonDeb,$F$15:$F$32)+SUMIF($K$15:$K$32,SaisonFin,$F$15:$F$32))/(SUMIF($K$15:$K$32,SaisonDeb,$G$15:$G$32)+SUMIF($K$15:$K$32,SaisonFin,$G$15:$G$32)),\"\")","v":1.027355623100304}]
[null,null,null,null,null,null,null,null,null,null,null,null,null,"Sets","Gagnés",{"$f":"SUMIF($K$15:$K$128,SaisonDeb,$D$15:$D$128)","v":0},{"$f":"IF(P$6+P$7>0,P6/(P$6+P$7),\"\")","v":""},{"$f":"SUMIF($K$15:$K$128,SaisonFin,$D$15:$D$128)","v":21},{"$f":"IF(R$6+R$7>0,R6/(R$6+R$7),\"\")","v":0.51219512195121952},{"$f":"SUM($D$15:$D$128)","v":21},{"$f":"IF(T$6+T$7>0,T6/(T$6+T$7),\"\")","v":0.51219512195121952}]
[null,null,null,null,null,null,null,null,null,null,null,null,null,null,"Perdus",{"$f":"SUMIF($K$15:$K$128,SaisonDeb,$E$15:$E$128)","v":0},{"$f":"IF(P$6+P$7>0,P7/(P$6+P$7),\"\")","v":""},{"$f":"SUMIF($K$15:$K$128,SaisonFin,$E$15:$E$128)","v":20},{"$f":"IF(R$6+R$7>0,R7/(R$6+R$7),\"\")","v":0.48780487804878048},{"$f":"SUM($E$15:$E$128)","v":20},{"$f":"IF(T$6+T$7>0,T7/(T$6+T$7),\"\")","v":0.48780487804878048}]
["Récapitulatif joueurs",null,null,null,null,null,null,null,null,null,null,null,null,null,"Total",{"$f":"SUM(P6:P7)","v":0},null,{"$f":"SUM(R6:R7)","v":41},null,{"$f":"SUM(T6:T7)","v":41}]
[]
[]
[]
[]
[]
[]
["Joueur","Adversaire","G/P","Sets gagnés","Sets perdus","pts marqués","pts subis","Date","Compétition","Phase","Saison"]
["MINET Lionel","CARTIERE André","G",2,1,170,111,"2023-04-15","Finale CD62 R1 DIVION  - DIVION","Qualifications",{"$f":"IF(H16<>\"\",IF(MONTH(H16)>MoisRef,YEAR(H16)&\"-\"&YEAR(H16)+1,YEAR(H16)-1&\"-\"&YEAR(H16)),\"\")","v":"2022-2023"},null,null,null,null,{"$f":"IF($K16=P$1,COUNTIF($C16,\"G\"),0)","v":0},null,{"$f":"IF($K16=R$1,COUNTIF($C16,\"G\"),0)","v":1}]
["MINET Lionel","LANCRY  Bruno","P",0,2,30,120,"2023-04-15","Finale CD62 R1 DIVION  - DIVION","Qualifications","2022-2023",null,null,null,null,0,null,0]
["MINET Lionel","TILLIETTE Michel","G",2,1,174,130,"2023-04-15","Finale CD62 R1 DIVION  - DIVION","Qualifications","2022-2023",null,null,null,null,0,null,1]
["MINET Lionel","CARTIERE André","G",2,0,120,63,"2023-02-12","T3 CD62 5Q R1 - CUCQ","Qualifications","2022-2023",null,null,null,null,0,null,1]
["MINET Lionel","DUCROCQ  Joël","P",0,2,108,120,"2023-02-12","T3 CD62 5Q R1 - CUCQ","Qualifications","2022-2023",null,null,null,null,0,null,0]
["MINET Lionel","LANCRY  Bruno","P",1,2,141,176,"2023-02-12","T3 CD62 5Q R1 - CUCQ","Qualifications","2022-2023",null,null,null,null,0,null,0]
["MINET Lionel","TILLIETTE Michel","G",2,1,177,120,"2023-02-12","T3 CD62 5Q R1 - CUCQ","Qualifications","2022-2023",null,null,null,null,0,null,1]
["MINET Lionel","CARTIERE André","G",2,0,120,66,"2023-02-25","T4 CD62 5Q R1 - DIVION","Qualifications","2022-2023",null,null,null,null,0,null,1]
["MINET Lionel","LANCRY  Bruno","P",0,2,50,120,"2023-02-25","T4 CD62 5Q R1 - DIVION","Qualifications","2022-2023",null,null,null,null,0,null,0]
["MINET Lionel","TILLIETTE Michel","G",2,1,151,146,"2023-02-25","T4 CD62 5Q R1 - DIVION","Qualifications","2022-2023",null,null,null,null,0,null,1]
["MINET Lionel","CARTIERE André","G",2,1,148,120,"2023-01-15","T2 CD62 5Q R1 - DIVION","Qualifications","2022-2023",null,null,null,null,0,null,1]
["MINET Lionel","LANCRY  Bruno","P",0,2,61,120,"2023-01-15","T2 CD62 5Q R1 - DIVION","Qualifications","2022-2023",null,null,null,null,0,null,0]
["MINET Lionel","CARTIERE André","G",2,1,172,119,"2022-11-05","T1 CD62 5Q R1 - WIMILLE","Qualifications","2022-2023",null,null,null,null,0,null,1]
["MINET Lionel","DUCROCQ  Joël","G",2,1,167,157,"2022-11-05","T1 CD62 5Q R1 - WIMILLE","1/2 Finale","2022-2023",null,null,null,null,0,null,1]
["MINET Lionel","LANCRY  Bruno","G",2,1,145,166,"2022-11-05","T1 CD62 5Q R1 - WIMILLE","Qualifications","2022-2023",null,null,null,null,0,null,1]
["MINET Lionel","LANCRY  Bruno","P",0,2,94,120,"2022-11-05","T1 CD62 5Q R1 - WIMILLE","Finale","2022-2023",null,null,null,null,0,null,0]
["Fin des données",null,null,null,null,null,null,null,null,null,"",null,null,null,null,{"$f":"IF($K32=P$1,COUNTIF($C32,\"G\"),0)","v":0},null,{"$f":"IF($K32=R$1,COUNTIF($C32,\"G\"),0)","v":0}]

{"sheet":"MIQUEE Florine","index":115,"n_rows":34,"n_cols":22,"rows_kept":34,"cut":false,"hidden":false,"merged":[]}
["MIQUEE Florine",null,null,null,null,null,null,null,null,null,null,null,null,null,null,{"$f":"SaisonDeb","v":"2021-2022"},null,{"$f":"SaisonFin","v":"2022-2023"},null,"Toutes saisons"]
[{"$error":"#N/A"},null,null,null,null,null,null,null,null,null,null,null,null,null,null,"Nombre","%age","Nombre","%age","Nombre","%age"]
[{"$error":"#N/A"},null,null,null,null,null,null,null,null,null,null,null,null,"Matchs","Gagnés",{"$f":"SUM(P$15:P$130)","v":0},{"$f":"IF(P$3+P$4>0,P3/(P$3+P$4),\"\")","v":""},{"$f":"SUM(R$15:R$130)","v":0},{"$f":"IF(R$3+R$4>0,R3/(R$3+R$4),\"\")","v":""},{"$f":"COUNTIF($C$15:$C$130,\"G\")","v":12},{"$f":"IF(T$3+T$4>0,T3/(T$3+T$4),\"\")","v":0.66666666666666663}]
[{"$error":"#N/A"},null,null,null,null,null,null,null,null,null,null,null,null,null,"Perdus",{"$f":"COUNTIF($K$15:$M$130,SaisonDeb)-P3","v":0},{"$f":"IF(P$3+P$4>0,P4/(P$3+P$4),\"\")","v":""},{"$f":"COUNTIF($K$15:$K$130,SaisonFin)-R3","v":0},{"$f":"IF(R$3+R$4>0,R4/(R$3+R$4),\"\")","v":""},{"$f":"COUNTIF($C$15:$C$130,\"P\")","v":6},{"$f":"IF(T$3+T$4>0,T4/(T$3+T$4),\"\")","v":0.33333333333333331}]
[{"$error":"#N/A"},null,null,null,null,null,null,null,null,null,null,null,null,null,"Total / Moy.",{"$f":"SUM(P3:P4)","v":0},{"$f":"IF(SUMIF($K$15:$K$130,SaisonDeb,$G$15:$G$130)>0,SUMIF($K$15:$K$130,SaisonDeb,$F$15:$F$130)/SUMIF($K$15:$K$130,SaisonDeb,$G$15:$G$130),\"\")","v":""},{"$f":"SUM(R3:R4)","v":0},{"$f":"IF(SUMIF($K$15:$K$130,SaisonFin,$G$15:$G$130)>0,SUMIF($K$15:$K$130,SaisonFin,$F$15:$F$130)/SUMIF($K$15:$K$130,SaisonFin,$G$15:$G$130),\"\")","v":""},{"$f":"SUM(T3:T4)","v":18},{"$f":"IF(SUM($G$15:$G$130)>0,SUM($F$15:$F$130)/SUM($G$15:$G$130),\"\")","v":1.0790797987059668},{"$f":"IF(SUMIF($K$15:$K$34,SaisonDeb,$G$15:$G$34)+SUMIF($K$15:$K$34,SaisonFin,$G$15:$G$34)>0,(SUMIF($K$15:$K$34,SaisonDeb,$F$15:$F$34)+SUMIF($K$15:$K$34,SaisonFin,$F$15:$F$34))/(SUMIF($K$15:$K$34,SaisonDeb,$G$15:$G$34)+SUMIF($K$15:$K$34,SaisonFin,$G$15:$G$34)),\"\")","v":""}]
[null,null,null,null,null,null,null,null,null,null,null,null,null,"Sets","Gagnés",{"$f":"SUMIF($K$15:$K$130,SaisonDeb,$D$15:$D$130)","v":0},{"$f":"IF(P$6+P$7>0,P6/(P$6+P$7),\"\")","v":""},{"$f":"SUMIF($K$15:$K$130,SaisonFin,$D$15:$D$130)","v":0},{"$f":"IF(R$6+R$7>0,R6/(R$6+R$7),\"\")","v":""},{"$f":"SUM($D$15:$D$130)","v":33},{"$f":"IF(T$6+T$7>0,T6/(T$6+T$7),\"\")","v":0.5892857142857143}]
[null,null,null,null,null,null,null,null,null,null,null,null,null,null,"Perdus",{"$f":"SUMIF($K$15:$K$130,SaisonDeb,$E$15:$E$130)","v":0},{"$f":"IF(P$6+P$7>0,P7/(P$6+P$7),\"\")","v":""},{"$f":"SUMIF($K$15:$K$130,SaisonFin,$E$15:$E$130)","v":0},{"$f":"IF(R$6+R$7>0,R7/(R$6+R$7),\"\")","v":""},{"$f":"SUM($E$15:$E$130)","v":23},{"$f":"IF(T$6+T$7>0,T7/(T$6+T$7),\"\")","v":0.4107142857142857}]
["Récapitulatif joueurs",null,null,null,null,null,null,null,null,null,null,null,null,null,"Total",{"$f":"SUM(P6:P7)","v":0},null,{"$f":"SUM(R6:R7)","v":0},null,{"$f":"SUM(T6:T7)","v":56}]
[]
[]
[]
[]
[]
[]
["Joueur","Adversaire","G/P","Sets gagnés","Sets perdus","pts marqués","pts subis","Date","Compétition","Phase","Saison"]
["MIQUEE Florine","CHOUX André","P",1,2,152,167,"2016-11-19","5Q  R1 CD02 - T1 - SOISSONS","Qualifications",{"$f":"IF(H16<>\"\",IF(MONTH(H16)>MoisRef,YEAR(H16)&\"-\"&YEAR(H16)+1,YEAR(H16)-1&\"-\"&YEAR(H16)),\"\")","v":"2016-2017"},null,null,null,null,{"$f":"IF($K16=P$1,COUNTIF($C16,\"G\"),0)","v":0},null,{"$f":"IF($K16=R$1,COUNTIF($C16,\"G\"),0)","v":0}]
["MIQUEE Florine","CHOUX André","G",2,0,120,105,"2016-11-19","5Q  R1 CD02 - T1 - SOISSONS","Qualifications","2016-2017",null,null,null,null,0,null,0]
["MIQUEE Florine","BUTTI Bertrand","G",2,1,172,113,"2017-01-21","5Q  R1 CD02 - T3 - st quentin","Qualifications","2016-2017",null,null,null,null,0,null,0]
["MIQUEE Florine","BUTTI Bertrand","G",2,1,161,147,"2017-01-21","5Q  R1 CD02 - T3 - st quentin","Qualifications","2016-2017",null,null,null,null,0,null,0]
["MIQUEE Florine","BUTTI EmIlie","P",0,2,112,120,"2016-12-17","5Q  R1 CD02 - T2 - LA FERRE","Qualifications","2016-2017",null,null,null,null,0,null,0]
["MIQUEE Florine","BUTTI EmIlie","P",1,2,124,163,"2016-12-17","5Q  R1 CD02 - T2 - LA FERRE","Qualifications","2016-2017",null,null,null,null,0,null,0]
["MIQUEE Florine","BUTTI EmIlie","P",2,3,236,283,"2017-03-04","5Q  R1 CD02 -  FINALE CD - SOISSONS","Qualifications","2016-2017",null,null,null,null,0,null,0]
["MIQUEE Florine","DA SILVA José","P",1,3,200,238,"2017-03-04","5Q  R1 CD02 -  FINALE CD - SOISSONS","Qualifications","2016-2017",null,null,null,null,0,null,0]
["MIQUEE Florine","DECHAMPS Enguerrand","G",2,1,168,133,"2017-11-18","qualification AISNE R1 - St Q uentin","Qualifications","2017-2018",null,null,null,null,0,null,0]
["MIQUEE Florine","HECQ Anthony","G",2,1,175,124,"2017-11-18","qualification AISNE R1 - St Q uentin","Qualifications","2017-2018",null,null,null,null,0,null,0]
["MIQUEE Florine","DECHAMPS Enguerrand","G",2,0,120,54,"2018-01-27","Qualifications AISNE R1 - guignicourt","Qualifications","2017-2018",null,null,null,null,0,null,0]
["MIQUEE Florine","DURTETTE Daniel","G",2,0,120,64,"2018-01-27","Qualifications AISNE R1 - guignicourt","Qualifications","2017-2018",null,null,null,null,0,null,0]
["MIQUEE Florine","BUTTI Bertrand","P",1,3,169,227,"2018-03-03","FINALE AISNE  R1 - guignicourt","Finale","2017-2018",null,null,null,null,0,null,0]
["MIQUEE Florine","CORRE Maxime","G",3,0,180,159,"2018-03-03","FINALE AISNE  R1 - guignicourt","Qualifications","2017-2018",null,null,null,null,0,null,0]
["MIQUEE Florine","HECQ Anthony","G",3,2,284,268,"2018-03-03","FINALE AISNE  R1 - guignicourt","Qualifications","2017-2018",null,null,null,null,0,null,0]
["MIQUEE Florine","HECQ Anthony","G",3,0,180,130,"2018-03-03","FINALE AISNE  R1 - guignicourt","1/2 Finale","2017-2018",null,null,null,null,0,null,0]
["MIQUEE Florine","BOLLINNE Simon","G",2,1,163,148,"2017-12-16","Qualifications AISNE R1 - SOISSONS","Qualifications","2017-2018",null,null,null,null,0,null,0]
["MIQUEE Florine","DECHAMPS Enguerrand","G",2,1,166,139,"2017-12-16","Qualifications AISNE R1 - SOISSONS","Qualifications","2017-2018",null,null,null,null,0,null,0]
["Fin des données",null,null,null,null,null,null,null,null,null,"",null,null,null,null,{"$f":"IF($K34=P$1,COUNTIF($C34,\"G\"),0)","v":0},null,{"$f":"IF($K34=R$1,COUNTIF($C34,\"G\"),0)","v":0}]

{"sheet":"MONFLIER Francis","index":116,"n_rows":126,"n_cols":22,"rows_kept":126,"cut":false,"hidden":false,"merged":[]}
["MONFLIER Francis",null,null,null,null,null,null,null,null,null,null,null,null,null,null,{"$f":"SaisonDeb","v":"2021-2022"},null,{"$f":"SaisonFin","v":"2022-2023"},null,"Toutes saisons"]
[{"$error":"#N/A"},null,null,null,null,null,null,null,null,null,null,null,null,null,null,"Nombre","%age","Nombre","%age","Nombre","%age"]
[{"$error":"#N/A"},null,null,null,null,null,null,null,null,null,null,null,null,"Matchs","Gagnés",{"$f":"SUM(P$15:P$126)","v":4},{"$f":"IF(P$3+P$4>0,P3/(P$3+P$4),\"\")","v":0.5714285714285714},{"$f":"SUM(R$15:R$126)","v":0},{"$f":"IF(R$3+R$4>0,R3/(R$3+R$4),\"\")","v":""},{"$f":"COUNTIF($C$15:$C$126,\"G\")","v":57},{"$f":"IF(T$3+T$4>0,T3/(T$3+T$4),\"\")","v":0.51818181818181819}]
[{"$error":"#N/A"},null,null,null,null,null,null,null,null,null,null,null,null,null,"Perdus",{"$f":"COUNTIF($K$15:$K$126,SaisonDeb)-P3","v":3},{"$f":"IF(P$3+P$4>0,P4/(P$3+P$4),\"\")","v":0.42857142857142855},{"$f":"COUNTIF($K$15:$K$126,SaisonFin)-R3","v":0},{"$f":"IF(R$3+R$4>0,R4/(R$3+R$4),\"\")","v":""},{"$f":"COUNTIF($C$15:$C$126,\"P\")","v":53},{"$f":"IF(T$3+T$4>0,T4/(T$3+T$4),\"\")","v":0.48181818181818181}]
[{"$error":"#N/A"},null,null,null,null,null,null,null,null,null,null,null,null,null,"Total / Moy.",{"$f":"SUM(P3:P4)","v":7},{"$f":"IF(SUMIF($K$15:$K$126,SaisonDeb,$G$15:$G$126)>0,SUMIF($K$15:$K$126,SaisonDeb,$F$15:$F$126)/SUMIF($K$15:$K$126,SaisonDeb,$G$15:$G$126),\"\")","v":0.97394136807817588},{"$f":"SUM(R3:R4)","v":0},{"$f":"IF(SUMIF($K$15:$K$126,SaisonFin,$G$15:$G$126)>0,SUMIF($K$15:$K$126,SaisonFin,$F$15:$F$126)/SUMIF($K$15:$K$126,SaisonFin,$G$15:$G$126),\"\")","v":""},{"$f":"SUM(T3:T4)","v":110},{"$f":"IF(SUM($G$15:$G$126)>0,SUM($F$15:$F$126)/SUM($G$15:$G$126),\"\")","v":0.9994301588432225},{"$f":"IF(SUMIF($K$15:$K$126,SaisonDeb,$G$15:$G$126)+SUMIF($K$15:$K$126,SaisonFin,$G$15:$G$126)>0,(SUMIF($K$15:$K$126,SaisonDeb,$F$15:$F$126)+SUMIF($K$15:$K$126,SaisonFin,$F$15:$F$126))/(SUMIF($K$15:$K$126,SaisonDeb,$G$15:$G$126)+SUMIF($K$15:$K$126,SaisonFin,$G$15:$G$126)),\"\")","v":0.97394136807817588}]
[null,null,null,null,null,null,null,null,null,null,null,null,null,"Sets","Gagnés",{"$f":"SUMIF($K$15:$K$126,SaisonDeb,$D$15:$D$126)","v":4},{"$f":"IF(P$6+P$7>0,P6/(P$6+P$7),\"\")","v":0.5714285714285714},{"$f":"SUMIF($K$15:$K$126,SaisonFin,$D$15:$D$126)","v":0},{"$f":"IF(R$6+R$7>0,R6/(R$6+R$7),\"\")","v":""},{"$f":"SUM($D$15:$D$126)","v":133},{"$f":"IF(T$6+T$7>0,T6/(T$6+T$7),\"\")","v":0.49442379182156132}]
[null,null,null,null,null,null,null,null,null,null,null,null,null,null,"Perdus",{"$f":"SUMIF($K$15:$K$126,SaisonDeb,$E$15:$E$126)","v":3},{"$f":"IF(P$6+P$7>0,P7/(P$6+P$7),\"\")","v":0.42857142857142855},{"$f":"SUMIF($K$15:$K$126,SaisonFin,$E$15:$E$126)","v":0},{"$f":"IF(R$6+R$7>0,R7/(R$6+R$7),\"\")","v":""},{"$f":"SUM($E$15:$E$126)","v":136},{"$f":"IF(T$6+T$7>0,T7/(T$6+T$7),\"\")","v":0.50557620817843862}]
["Récapitulatif joueurs",null,null,null,null,null,null,null,null,null,null,null,null,null,"Total",{"$f":"SUM(P6:P7)","v":7},null,{"$f":"SUM(R6:R7)","v":0},null,{"$f":"SUM(T6:T7)","v":269}]
[]
[]
[]
[]
[]
[]
["Joueur","Adversaire","G/P","Sets gagnés","Sets perdus","pts marqués","pts subis","Date","Compétition","Phase","Saison"]
["MONFLIER Francis","MERVAILLE Jean","P",1,2,155,170,"2010-10-16","R1 CD59 T1 ST POL SUR MER","Poules",{"$f":"IF(H16<>\"\",IF(MONTH(H16)>MoisRef,YEAR(H16)&\"-\"&YEAR(H16)+1,YEAR(H16)-1&\"-\"&YEAR(H16)),\"\")","v":"2010-2011"},null,null,null,null,{"$f":"IF($K16=P$1,COUNTIF($C16,\"G\"),0)","v":0},null,{"$f":"IF($K16=R$1,COUNTIF($C16,\"G\"),0)","v":0}]
["MONFLIER Francis","LUBREZ Pierre","P",0,2,53,120,"2010-10-16","R1 CD59 T1 ST POL SUR MER","Poules","2010-2011",null,null,null,null,0,null,0]
["MONFLIER Francis","VEREECQUE Bernard","P",0,2,105,120,"2010-11-13","R1 CD59 T2 ST POL SUR MER","Poules","2010-2011",null,null,null,null,0,null,0]
["MONFLIER Francis","MANTEN Paul","P",0,2,102,120,"2010-11-13","R1 CD59 T2 ST POL SUR MER","Poules","2010-2011",null,null,null,null,0,null,0]
["MONFLIER Francis","MANTEN Paul","P",0,2,72,120,"2010-11-13","R1 CD59 T2 ST POL SUR MER","1/4 Finale","2010-2011",null,null,null,null,0,null,0]
["MONFLIER Francis","VEREECQUE Bernard","P",1,2,138,177,"2011-10-15","R1 CD59 T1 ST POL sur MER","Poules","2011-2012",null,null,null,null,0,null,0]
["MONFLIER Francis","VEREECQUE Bernard","P",1,2,142,179,"2011-10-15","R1 CD59 T1 ST POL sur MER","Poules","2011-2012",null,null,null,null,0,null,0]
["MONFLIER Francis","BOUCHART Christophe","P",1,2,132,158,"2011-10-15","R1 CD59 T1 ST POL sur MER","1/4 Finale","2011-2012",null,null,null,null,0,null,0]
["MONFLIER Francis","PARISIS Francis","P",1,2,153,156,"2012-10-27","R1 CD59 T2 GRAVELINES","Poules","2012-2013",null,null,null,null,0,null,0]
["MONFLIER Francis","HOCHART James","G",2,1,168,116,"2012-10-27","R1 CD59 T2 GRAVELINES","Poules","2012-2013",null,null,null,null,0,null,0]
["MONFLIER Francis","FLEURANT Alexandre","P",0,2,68,120,"2012-10-27","R1 CD59 T2 GRAVELINES","1/4 Finale","2012-2013",null,null,null,null,0,null,0]
["MONFLIER Francis","PARISIS Francis","G",2,0,120,23,"2014-01-04","R1 CD59 T1 RONCHIN","Poules","2013-2014",null,null,null,null,0,null,0]
["MONFLIER Francis","MANTEN Paul","P",1,2,170,168,"2014-01-04","R1 CD59 T1 RONCHIN","Poules","2013-2014",null,null,null,null,0,null,0]
["MONFLIER Francis","MANTEN Paul","P",0,2,108,120,"2014-01-04","R1 CD59 T1 RONCHIN","1/2 finale","2013-2014",null,null,null,null,0,null,0]
["MONFLIER Francis","ST MAXENT Stéphane","G",2,1,178,148,"2014-01-04","R1 CD59 T1 RONCHIN","3ème 4ème","2013-2014",null,null,null,null,0,null,0]
["MONFLIER Francis","VERPOORT José","G",2,0,120,86,"2014-02-22","R1 CD59 T2 GRANDE SYNTHE","Poules","2013-2014",null,null,null,null,0,null,0]
["MONFLIER Francis","ST MAXENT Stéphane","P",1,2,158,147,"2014-02-22","R1 CD59 T2 GRANDE SYNTHE","Poules","2013-2014",null,null,null,null,0,null,0]
["MONFLIER Francis","MANTEN Paul","P",0,2,67,120,"2014-02-22","R1 CD59 T2 GRANDE SYNTHE","1/4 Finale","2013-2014",null,null,null,null,0,null,0]
["MONFLIER Francis","LANVIN Jean-Luc","P",0,1,82,100,"2014-02-24","R1 CD59 T2 GRANDE SYNTHE","Consolante","2013-2014",null,null,null,null,0,null,0]
["MONFLIER Francis","MANTEN Paul","P",2,3,259,277,"2014-04-18","Finale CD59 R1 ST POL SUR MER","Poules","2013-2014",null,null,null,null,0,null,0]
["MONFLIER Francis","ALDEGUER Lionel","P",0,3,135,180,"2014-04-18","Finale CD59 R1 ST POL SUR MER","Poules","2013-2014",null,null,null,null,0,null,0]
["MONFLIER Francis","LANVIN Jean-Luc","G",3,2,274,260,"2014-04-18","Finale CD59 R1 ST POL SUR MER","5ème 6ème","2013-2014",null,null,null,null,0,null,0]
["MONFLIER Francis","HERREBRECHT Erian","G",2,1,157,155,"2015-01-17","R1 CD59 T1 ST POL sur MER","Poules","2014-2015",null,null,null,null,0,null,0]
["MONFLIER Francis","PAILLARD Bertrand","G",2,0,120,63,"2015-01-17","R1 CD59 T1 ST POL sur MER","Poules","2014-2015",null,null,null,null,0,null,0]
["MONFLIER Francis","LECROART Serge","P",0,2,53,120,"2015-01-17","R1 CD59 T1 ST POL sur MER","1/4 Finale","2014-2015",null,null,null,null,0,null,0]
["MONFLIER Francis","HERREBRECHT Emerick","G",2,1,161,130,"2015-02-07","R1 CD59 T2 GRAVELINES","Poules","2014-2015",null,null,null,null,0,null,0]
["MONFLIER Francis","HERREBRECHT Emerick","P",1,2,140,179,"2015-02-07","R1 CD59 T2 GRAVELINES","Poules","2014-2015",null,null,null,null,0,null,0]
["MONFLIER Francis","HINGRAND Tony","P",1,2,151,168,"2015-02-07","R1 CD59 T2 GRAVELINES","1/4 Finale","2014-2015",null,null,null,null,0,null,0]
["MONFLIER Francis","PARISIS Francis","G",2,0,120,99,"2015-03-14","R1 CD59 T3 VILLENEUVE D'ASCQ","Poules","2014-2015",null,null,null,null,0,null,0]
["MONFLIER Francis","ST MAXENT Stéphane","G",2,1,148,169,"2015-03-14","R1 CD59 T3 VILLENEUVE D'ASCQ","Poules","2014-2015",null,null,null,null,0,null,0]
["MONFLIER Francis","PARISIS Francis","G",2,1,162,100,"2015-03-14","R1 CD59 T3 VILLENEUVE D'ASCQ","1/4 Finale","2014-2015",null,null,null,null,0,null,0]
["MONFLIER Francis","PAILLARD Bertrand","G",2,0,120,95,"2015-03-14","R1 CD59 T3 VILLENEUVE D'ASCQ","1/2 Finale","2014-2015",null,null,null,null,0,null,0]
["MONFLIER Francis","LECROART Serge","P",0,2,82,120,"2015-03-14","R1 CD59 T3 VILLENEUVE D'ASCQ","Finale","2014-2015",null,null,null,null,0,null,0]
["MONFLIER Francis","ST MAXENT Stéphane","G",3,1,211,179,"2015-04-05","FINALE CD59 R1 FACHES THUMESNIL","Poules","2014-2015",null,null,null,null,0,null,0]
["MONFLIER Francis","KERKHOF Hervé","P",0,3,125,180,"2015-04-05","FINALE CD59 R1 FACHES THUMESNIL","Poules","2014-2015",null,null,null,null,0,null,0]
["MONFLIER Francis","HINGRAND Tony","P",2,3,237,267,"2015-04-05","FINALE CD59 R1 FACHES THUMESNIL","1/2 Finale","2014-2015",null,null,null,null,0,null,0]
["MONFLIER Francis","LECROART Serge","P",0,3,117,180,"2015-04-05","FINALE CD59 R1 FACHES THUMESNIL","3ème 4ème","2014-2015",null,null,null,null,0,null,0]
["MONFLIER Francis","ST MAXENT Stéphane","P",1,2,137,162,"2015-12-05","T1 CD59 5 QUILLES R1 - VILLENEUVE D'ASCQ","Qualifications","2015-2016",null,null,null,null,0,null,0]
["MONFLIER Francis","ST MAXENT Stéphane","P",0,2,80,120,"2015-12-05","T1 CD59 5 QUILLES R1 - VILLENEUVE D'ASCQ","Qualifications","2015-2016",null,null,null,null,0,null,0]
["MONFLIER Francis","PAILLARD Bertrand","P",1,2,146,144,"2015-12-05","T1 CD59 5 QUILLES R1 - VILLENEUVE D'ASCQ","1/4 Finale","2015-2016",null,null,null,null,0,null,0]
["MONFLIER Francis","WASYLYSZYN Jean-pierre","G",1,0,100,91,"2016-01-23","CONSOLANTE T3 R1 CD59 - ST POL SUR MER","Qualifications","2015-2016",null,null,null,null,0,null,0]
["MONFLIER Francis","LUBREZ Pierre","P",0,2,101,120,"2016-01-23","T3 CD59 5 QUILLES R1 - ST POL SUR MER","Qualifications","2015-2016",null,null,null,null,0,null,0]
["MONFLIER Francis","LUBREZ Pierre","P",0,2,71,120,"2016-01-23","T3 CD59 5 QUILLES R1 - ST POL SUR MER","Qualifications","2015-2016",null,null,null,null,0,null,0]
["MONFLIER Francis","HERREBRECHT Emerick","P",0,3,100,180,"2016-03-26","Finale CD59 5 QUILLES R1 - GRAVELINES","Qualifications","2015-2016",null,null,null,null,0,null,0]
["MONFLIER Francis","ST MAXENT Stéphane","G",3,2,274,232,"2016-03-26","Finale CD59 5 QUILLES R1 - GRAVELINES","Qualifications","2015-2016",null,null,null,null,0,null,0]
["MONFLIER Francis","SEINGIER Claude","P",1,2,153,152,"2016-01-09","T2 CD59 5 QUILLES R1 - DUNKERQUE","Qualifications","2015-2016",null,null,null,null,0,null,0]
["MONFLIER Francis","ST MAXENT Stéphane","P",1,2,171,170,"2016-01-09","T2 CD59 5 QUILLES R1 - DUNKERQUE","Qualifications","2015-2016",null,null,null,null,0,null,0]
["MONFLIER Francis","PAILLARD Bertrand","G",2,1,176,164,"2016-01-09","T2 CD59 5 QUILLES R1 - DUNKERQUE","1/4 Finale","2015-2016",null,null,null,null,0,null,0]
["MONFLIER Francis","ST MAXENT Stéphane","G",2,0,120,79,"2016-01-09","T2 CD59 5 QUILLES R1 - DUNKERQUE","1/2 Finale","2015-2016",null,null,null,null,0,null,0]
["MONFLIER Francis","SEINGIER Claude","P",0,2,76,120,"2016-01-09","T2 CD59 5 QUILLES R1 - DUNKERQUE","Finale","2015-2016",null,null,null,null,0,null,0]
["MONFLIER Francis","BEGHIN Nicolas","G",2,0,120,70,"2016-01-14","T1 Qualifications CD59 R1 - DUNKERQUE","1/4 Finale","2015-2016",null,null,null,null,0,null,0]
["MONFLIER Francis","DELATTRE Gregory","P",0,2,82,120,"2016-01-14","T1 Qualifications CD59 R1 - DUNKERQUE","Finale","2015-2016",null,null,null,null,0,null,0]
["MONFLIER Francis","DUTAILLY Michel","G",2,0,120,76,"2016-01-14","T1 Qualifications CD59 R1 - DUNKERQUE","Qualifications","2015-2016",null,null,null,null,0,null,0]
["MONFLIER Francis","NOYER Pascal","G",2,1,157,163,"2016-01-14","T1 Qualifications CD59 R1 - DUNKERQUE","Qualifications","2015-2016",null,null,null,null,0,null,0]
["MONFLIER Francis","VEREECQUE Bernard","G",2,0,120,57,"2016-01-14","T1 Qualifications CD59 R1 - DUNKERQUE","1/2 Finale","2015-2016",null,null,null,null,0,null,0]
["MONFLIER Francis","BEGHIN Nicolas","G",2,0,120,74,"2017-02-25","T2 Qualifications CD59 R1 - VILLENEUVE D'ASCQ","Qualifications","2016-2017",null,null,null,null,0,null,0]
["MONFLIER Francis","BEGHIN Nicolas","G",2,1,131,162,"2017-02-25","T2 Qualifications CD59 R1 - VILLENEUVE D'ASCQ","1/2 Finale","2016-2017",null,null,null,null,0,null,0]
["MONFLIER Francis","DUTAILLY Michel","G",2,0,120,83,"2017-02-25","T2 Qualifications CD59 R1 - VILLENEUVE D'ASCQ","Qualifications","2016-2017",null,null,null,null,0,null,0]
["MONFLIER Francis","VEREECQUE Bernard","G",2,0,120,69,"2017-02-25","T2 Qualifications CD59 R1 - VILLENEUVE D'ASCQ","Finale","2016-2017",null,null,null,null,0,null,0]
["MONFLIER Francis","DUTAILLY Michel","G",2,0,120,37,"2017-03-11","T3 Qualifications CD59 R1 - ST POL SUR MER","Qualifications","2016-2017",null,null,null,null,0,null,0]
["MONFLIER Francis","ESTERMANS Bernard","P",1,2,146,175,"2017-03-11","T3 Qualifications CD59 R1 - ST POL SUR MER","Finale","2016-2017",null,null,null,null,0,null,0]
["MONFLIER Francis","MANTEN Paul","G",2,0,120,98,"2017-03-11","T3 Qualifications CD59 R1 - ST POL SUR MER","1/4 Finale","2016-2017",null,null,null,null,0,null,0]
["MONFLIER Francis","PAILLARD Bertrand","P",0,2,83,120,"2017-03-11","T3 Qualifications CD59 R1 - ST POL SUR MER","Qualifications","2016-2017",null,null,null,null,0,null,0]
["MONFLIER Francis","SZWARC Patrick","G",2,0,120,86,"2017-03-11","T3 Qualifications CD59 R1 - ST POL SUR MER","1/2 Finale","2016-2017",null,null,null,null,0,null,0]
["MONFLIER Francis","BEGHIN Benjamin","P",2,3,228,277,"2017-03-19","FINALE CD59 R1 - ST POL SUR MER","Qualifications","2016-2017",null,null,null,null,0,null,0]
["MONFLIER Francis","BEGHIN Nicolas","P",1,3,208,219,"2017-03-19","FINALE CD59 R1 - ST POL SUR MER","Qualifications","2016-2017",null,null,null,null,0,null,0]
["MONFLIER Francis","ESTERMANS Bernard","P",0,2,102,120,"2017-09-30","T1 Qualifications R1 CD59 - GRAVELINES","1/4 Finale","2017-2018",null,null,null,null,0,null,0]
["MONFLIER Francis","VEREECQUE Bernard","G",2,1,163,141,"2017-09-30","T1 Qualifications R1 CD59 - GRAVELINES","Qualifications","2017-2018",null,null,null,null,0,null,0]
["MONFLIER Francis","VEREECQUE Bernard","G",2,1,179,125,"2017-09-30","T1 Qualifications R1 CD59 - GRAVELINES","Qualifications","2017-2018",null,null,null,null,0,null,0]
["MONFLIER Francis","CAUX Frédéric","P",0,2,71,120,"2018-10-20","T1 5Q R1 CD59 - DUNKERQUE","Qualifications","2018-2019",null,null,null,null,0,null,0]
["MONFLIER Francis","MANTEN Paul","P",1,2,108,171,"2018-10-20","T1 5Q R1 CD59 - DUNKERQUE","Qualifications","2018-2019",null,null,null,null,0,null,0]
["MONFLIER Francis","KERKHOF Hervé","G",1,0,100,92,"2018-10-20","T1 5Q R1 CD59 - CONSOLANTE - DUNKERQUE","Qualifications","2018-2019",null,null,null,null,0,null,0]
["MONFLIER Francis","LECROART Serge","P",0,1,82,100,"2018-10-20","T1 5Q R1 CD59 - CONSOLANTE - DUNKERQUE","Qualifications","2018-2019",null,null,null,null,0,null,0]
["MONFLIER Francis","LORTHIOIR Jean-Luc","G",1,0,100,46,"2018-10-20","T1 5Q R1 CD59 - CONSOLANTE - DUNKERQUE","Qualifications","2018-2019",null,null,null,null,0,null,0]
["MONFLIER Francis","MANTEN Paul","G",1,0,100,39,"2018-10-20","T1 5Q R1 CD59 - CONSOLANTE - DUNKERQUE","Qualifications","2018-2019",null,null,null,null,0,null,0]
["MONFLIER Francis","BEGHIN Nicolas","G",2,0,120,66,"2018-11-24","T2 5Q R1 CD59  - DOUAI","Finale","2018-2019",null,null,null,null,0,null,0]
["MONFLIER Francis","CAUX Frédéric","G",2,1,136,117,"2018-11-24","T2 5Q R1 CD59  - DOUAI","Qualifications","2018-2019",null,null,null,null,0,null,0]
["MONFLIER Francis","LORTHIOIR Jean-Luc","G",2,0,120,93,"2018-11-24","T2 5Q R1 CD59  - DOUAI","Qualifications","2018-2019",null,null,null,null,0,null,0]
["MONFLIER Francis","PAILLARD Bertrand","G",2,1,157,145,"2018-11-24","T2 5Q R1 CD59  - DOUAI","1/2 Finale","2018-2019",null,null,null,null,0,null,0]
["MONFLIER Francis","CAUX Frédéric","P",0,2,45,120,"2018-12-16","T3 5Q R1 CD59  - DUNKERQUE","1/2 Finale","2018-2019",null,null,null,null,0,null,0]
["MONFLIER Francis","DEREUDDRE Dominique","G",2,1,177,117,"2018-12-16","T3 5Q R1 CD59  - DUNKERQUE","Qualifications","2018-2019",null,null,null,null,0,null,0]
["MONFLIER Francis","LECROART Serge","G",2,1,150,150,"2018-12-16","T3 5Q R1 CD59  - DUNKERQUE","Qualifications","2018-2019",null,null,null,null,0,null,0]
["MONFLIER Francis","BEGHIN Nicolas","G",2,0,120,47,"2019-01-19","T4 5Q R1 CD59  - VILLENEUVE D'ASCQ","Qualifications","2018-2019",null,null,null,null,0,null,0]
["MONFLIER Francis","ESTERMANS Bernard","P",0,2,101,120,"2019-01-19","T4 5Q R1 CD59  - VILLENEUVE D'ASCQ","1/2 Finale","2018-2019",null,null,null,null,0,null,0]
["MONFLIER Francis","HOCHART James","G",2,1,151,144,"2019-01-19","T4 5Q R1 CD59  - VILLENEUVE D'ASCQ","Qualifications","2018-2019",null,null,null,null,0,null,0]
["MONFLIER Francis","CAUX Frédéric","G",2,1,144,149,"2019-03-02","Finale CD59 R1 - GRAVELINES","Qualifications","2018-2019",null,null,null,null,0,null,0]
["MONFLIER Francis","LORTHIOIR Jean-Luc","P",0,2,103,120,"2019-03-02","Finale CD59 R1 - GRAVELINES","Qualifications","2018-2019",null,null,null,null,0,null,0]
["MONFLIER Francis","CAUX Frédéric","G",2,0,120,108,"2019-11-24","T2 5Q R1 CD59 - GRAVELINES ","1/4 Finale","2019-2020",null,null,null,null,0,null,0]
["MONFLIER Francis","DEREUDDRE Dominique","G",2,0,120,78,"2019-11-24","T2 5Q R1 CD59 - GRAVELINES ","Qualifications","2019-2020",null,null,null,null,0,null,0]
["MONFLIER Francis","HORNAIN Denis","P",0,2,57,120,"2019-11-24","T2 5Q R1 CD59 - GRAVELINES ","1/2 Finale","2019-2020",null,null,null,null,0,null,0]
["MONFLIER Francis","MANTEN Paul","P",0,2,90,120,"2019-11-24","T2 5Q R1 CD59 - GRAVELINES ","Qualifications","2019-2020",null,null,null,null,0,null,0]
["MONFLIER Francis","DEVOS Jackie","P",0,2,75,120,"2020-01-04","T3 5Q R1 CD59 - GRAVELINES - Convocation 8h30 -","Finale","2019-2020",null,null,null,null,0,null,0]
["MONFLIER Francis","LORTHIOIR Jean-Luc","G",2,1,157,163,"2020-01-04","T3 5Q R1 CD59 - GRAVELINES - Convocation 8h30 -","1/2 Finale","2019-2020",null,null,null,null,0,null,0]
["MONFLIER Francis","NOYER Pascal","G",2,1,171,123,"2020-01-04","T3 5Q R1 CD59 - GRAVELINES - Convocation 8h30 -","Qualifications","2019-2020",null,null,null,null,0,null,0]
["MONFLIER Francis","NOYER Pascal","G",2,0,120,73,"2020-01-04","T3 5Q R1 CD59 - GRAVELINES - Convocation 8h30 -","1/4 Finale","2019-2020",null,null,null,null,0,null,0]
["MONFLIER Francis","VEREECQUE Esteban","G",2,0,120,67,"2020-01-04","T3 5Q R1 CD59 - GRAVELINES - Convocation 8h30 -","Qualifications","2019-2020",null,null,null,null,0,null,0]
["MONFLIER Francis","HOCHART James","G",2,0,120,96,"2020-02-22","T4 5Q R1 CD59 - ANNOEULLIN","1/4 Finale","2019-2020",null,null,null,null,0,null,0]
["MONFLIER Francis","HORNAIN Denis","P",0,2,98,120,"2020-02-22","T4 5Q R1 CD59 - ANNOEULLIN","1/2 Finale","2019-2020",null,null,null,null,0,null,0]
["MONFLIER Francis","LECROART Serge","G",2,0,120,105,"2020-02-22","T4 5Q R1 CD59 - ANNOEULLIN","Qualifications","2019-2020",null,null,null,null,0,null,0]
["MONFLIER Francis","NOYER Pascal","G",2,0,120,91,"2020-02-22","T4 5Q R1 CD59 - ANNOEULLIN","Qualifications","2019-2020",null,null,null,null,0,null,0]
["MONFLIER Francis","HORNAIN Denis","G",3,2,256,266,"2020-03-08","Finale 5Q R1 CD59 - GRANDE SYNTHE","Qualifications","2019-2020",null,null,null,null,0,null,0]
["MONFLIER Francis","LORTHIOIR Jean-Luc","P",0,3,97,180,"2020-03-08","Finale 5Q R1 CD59 - GRANDE SYNTHE","1/2 Finale","2019-2020",null,null,null,null,0,null,0]
["MONFLIER Francis","MANTEN Paul","G",3,0,180,124,"2020-03-08","Finale 5Q R1 CD59 - GRANDE SYNTHE","Qualifications","2019-2020",null,null,null,null,0,null,0]
["MONFLIER Francis","KERKHOF Hervé","P",0,1,53,100,"2021-12-18","T2 5Q R1 - GRAVELINES - CONVOCATON 8h30","Qualifications","2021-2022",null,null,null,null,0,null,0]
["MONFLIER Francis","KERKHOF Hervé","P",0,1,94,100,"2021-12-18","T2 5Q R1 - GRAVELINES - CONVOCATON 8h30","1/4 Finale","2021-2022",null,null,null,null,0,null,0]
["MONFLIER Francis","LE GOHEBEL Jacques","G",1,0,100,42,"2021-12-18","T2 5Q R1 - GRAVELINES - CONVOCATON 8h30","Qualifications","2021-2022",null,null,null,null,1,null,0]
["MONFLIER Francis","BEGHIN Nicolas","G",1,0,100,89,"2022-02-26","T3 5Q R1 - GRAVELINES ","Qualifications","2021-2022",null,null,null,null,1,null,0]
["MONFLIER Francis","BELLENS Antoine","P",0,1,51,100,"2022-02-26","T3 5Q R1 - GRAVELINES ","1/2 Finale","2021-2022",null,null,null,null,0,null,0]
["MONFLIER Francis","DUTAILLY Michel","G",1,0,100,89,"2022-02-26","T3 5Q R1 - GRAVELINES ","Qualifications","2021-2022",null,null,null,null,1,null,0]
["MONFLIER Francis","MANTEN Paul","G",1,0,100,94,"2022-02-26","T3 5Q R1 - GRAVELINES ","1/4 Finale","2021-2022",null,null,null,null,1,null,0]
["Fin des données",null,null,null,null,null,null,null,null,null,"",null,null,null,null,0,null,0]

{"sheet":"MONTADOR Christophe","index":117,"n_rows":96,"n_cols":22,"rows_kept":96,"cut":false,"hidden":false,"merged":[]}
["MONTADOR Christophe",null,null,null,null,null,null,null,null,null,null,null,null,null,null,{"$f":"SaisonDeb","v":"2021-2022"},null,{"$f":"SaisonFin","v":"2022-2023"},null,"Toutes saisons"]
[{"$error":"#N/A"},null,null,null,null,null,null,null,null,null,null,null,null,null,null,"Nombre","%age","Nombre","%age","Nombre","%age"]
[{"$error":"#N/A"},null,null,null,null,null,null,null,null,null,null,null,null,"Matchs","Gagnés",{"$f":"SUM(P$15:P$96)","v":7},{"$f":"IF(P$3+P$4>0,P3/(P$3+P$4),\"\")","v":0.7},{"$f":"SUM(R$15:R$96)","v":0},{"$f":"IF(R$3+R$4>0,R3/(R$3+R$4),\"\")","v":""},{"$f":"COUNTIF($C$15:$C$96,\"G\")","v":45},{"$f":"IF(T$3+T$4>0,T3/(T$3+T$4),\"\")","v":0.5625}]
[{"$error":"#N/A"},null,null,null,null,null,null,null,null,null,null,null,null,null,"Perdus",{"$f":"COUNTIF($K$15:$K$96,SaisonDeb)-P3","v":3},{"$f":"IF(P$3+P$4>0,P4/(P$3+P$4),\"\")","v":0.3},{"$f":"COUNTIF($K$15:$K$96,SaisonFin)-R3","v":0},{"$f":"IF(R$3+R$4>0,R4/(R$3+R$4),\"\")","v":""},{"$f":"COUNTIF($C$15:$C$96,\"P\")","v":35},{"$f":"IF(T$3+T$4>0,T4/(T$3+T$4),\"\")","v":0.4375}]
[{"$error":"#N/A"},null,null,null,null,null,null,null,null,null,null,null,null,null,"Total / Moy.",{"$f":"SUM(P3:P4)","v":10},{"$f":"IF(SUMIF($K$15:$K$96,SaisonDeb,$G$15:$G$96)>0,SUMIF($K$15:$K$96,SaisonDeb,$F$15:$F$96)/SUMIF($K$15:$K$96,SaisonDeb,$G$15:$G$96),\"\")","v":1.1599587203302373},{"$f":"SUM(R3:R4)","v":0},{"$f":"IF(SUMIF($K$15:$K$96,SaisonFin,$G$15:$G$96)>0,SUMIF($K$15:$K$96,SaisonFin,$F$15:$F$96)/SUMIF($K$15:$K$96,SaisonFin,$G$15:$G$96),\"\")","v":""},{"$f":"SUM(T3:T4)","v":80},{"$f":"IF(SUM($G$15:$G$96)>0,SUM($F$15:$F$96)/SUM($G$15:$G$96),\"\")","v":1.0344950530350299},{"$f":"IF(SUMIF($K$15:$K$96,SaisonDeb,$G$15:$G$96)+SUMIF($K$15:$K$96,SaisonFin,$G$15:$G$96)>0,(SUMIF($K$15:$K$96,SaisonDeb,$F$15:$F$96)+SUMIF($K$15:$K$96,SaisonFin,$F$15:$F$96))/(SUMIF($K$15:$K$96,SaisonDeb,$G$15:$G$96)+SUMIF($K$15:$K$96,SaisonFin,$G$15:$G$96)),\"\")","v":1.1599587203302373}]
[null,null,null,null,null,null,null,null,null,null,null,null,null,"Sets","Gagnés",{"$f":"SUMIF($K$15:$K$96,SaisonDeb,$D$15:$D$96)","v":14},{"$f":"IF(P$6+P$7>0,P6/(P$6+P$7),\"\")","v":0.66666666666666663},{"$f":"SUMIF($K$15:$K$96,SaisonFin,$D$15:$D$96)","v":0},{"$f":"IF(R$6+R$7>0,R6/(R$6+R$7),\"\")","v":""},{"$f":"SUM($D$15:$D$96)","v":135},{"$f":"IF(T$6+T$7>0,T6/(T$6+T$7),\"\")","v":0.53784860557768921}]
[null,null,null,null,null,null,null,null,null,null,null,null,null,null,"Perdus",{"$f":"SUMIF($K$15:$K$96,SaisonDeb,$E$15:$E$96)","v":7},{"$f":"IF(P$6+P$7>0,P7/(P$6+P$7),\"\")","v":0.33333333333333331},{"$f":"SUMIF($K$15:$K$96,SaisonFin,$E$15:$E$96)","v":0},{"$f":"IF(R$6+R$7>0,R7/(R$6+R$7),\"\")","v":""},{"$f":"SUM($E$15:$E$96)","v":116},{"$f":"IF(T$6+T$7>0,T7/(T$6+T$7),\"\")","v":0.46215139442231074}]
["Récapitulatif joueurs",null,null,null,null,null,null,null,null,null,null,null,null,null,"Total",{"$f":"SUM(P6:P7)","v":21},null,{"$f":"SUM(R6:R7)","v":0},null,{"$f":"SUM(T6:T7)","v":251}]
[]
[]
[]
[]
[]
[]
["Joueur","Adversaire","G/P","Sets gagnés","Sets perdus","pts marqués","pts subis","Date","Compétition","Phase","Saison"]
["MONTADOR Christophe","TRIPLET Gilbert","P",2,3,217,236,"2012-01-07","R1 CD62 T2 LE TOUQUET","Poules",{"$f":"IF(H16<>\"\",IF(MONTH(H16)>MoisRef,YEAR(H16)&\"-\"&YEAR(H16)+1,YEAR(H16)-1&\"-\"&YEAR(H16)),\"\")","v":"2011-2012"},null,null,null,null,{"$f":"IF($K16=P$1,COUNTIF($C16,\"G\"),0)","v":0},null,{"$f":"IF($K16=R$1,COUNTIF($C16,\"G\"),0)","v":0}]
["MONTADOR Christophe","BLONDEEL Bruno","P",2,3,196,210,"2012-01-07","R1 CD62 T2 LE TOUQUET","Poules","2011-2012",null,null,null,null,{"$f":"IF($K17=P$1,COUNTIF($C17,\"G\"),0)","v":0},null,{"$f":"IF($K17=R$1,COUNTIF($C17,\"G\"),0)","v":0}]
["MONTADOR Christophe","TRIPLET Gilbert","P",0,3,105,150,"2012-09-30","R1 CD62 T1 LE TOUQUET","Poules","2012-2013",null,null,null,null,{"$f":"IF($K18=P$1,COUNTIF($C18,\"G\"),0)","v":0},null,{"$f":"IF($K18=R$1,COUNTIF($C18,\"G\"),0)","v":0}]
["MONTADOR Christophe","BOUBET Jean","P",1,3,137,190,"2012-09-30","R1 CD62 T1 LE TOUQUET","Poules","2012-2013",null,null,null,null,0,null,0]
["MONTADOR Christophe","BOUBET Jean","G",3,2,217,196,"2012-11-10","R1 CD62 T2 CUCQ","Poules","2012-2013",null,null,null,null,0,null,0]
["MONTADOR Christophe","MARTEL Bruno","P",2,3,175,182,"2012-11-10","R1 CD62 T2 CUCQ","Poules","2012-2013",null,null,null,null,0,null,0]
["MONTADOR Christophe","MARTEL Bruno","G",3,0,150,116,"2013-01-06","R1 CD62 T3 CUCQ","Poules","2012-2013",null,null,null,null,0,null,0]
["MONTADOR Christophe","BOUBET Jean","P",0,3,110,150,"2013-01-06","R1 CD62 T3 CUCQ","Poules","2012-2013",null,null,null,null,0,null,0]
["MONTADOR Christophe","MARTEL Bruno","G",3,1,183,{"$f":"50+33+32+36","v":151},"2013-09-15","R1 CD62 T1 LE TOUQUET","Poules","2013-2014",null,null,null,null,0,null,0]
["MONTADOR Christophe","MARTEL Bruno","G",3,2,{"$f":"150+29+4","v":183},{"$f":"100+12+33+46","v":191},"2013-09-15","R1 CD62 T1 LE TOUQUET","Poules","2013-2014",null,null,null,null,0,null,0]
["MONTADOR Christophe","MERLIN CHRISTIAN","G",3,0,150,{"$f":"46+42+19","v":107},"2013-09-15","R1 CD62 T1 LE TOUQUET","1/2 Finales","2013-2014",null,null,null,null,0,null,0]
["MONTADOR Christophe","BOUBET Jean","P",2,3,{"$f":"100+17+41+45","v":203},{"$f":"150+46+9","v":205},"2013-09-15","R1 CD62 T1 LE TOUQUET","Finale","2013-2014",null,null,null,null,0,null,0]
["MONTADOR Christophe","CAPLIEZ Bernard","G",3,0,150,{"$f":"36+49+45","v":130},"2013-12-21","R1 CD62 T2 WIMILLE","Poules","2013-2014",null,null,null,null,0,null,0]
["MONTADOR Christophe","MARTEL Michel","G",3,1,180,{"$f":"50+43+49+37","v":179},"2013-12-21","R1 CD62 T2 WIMILLE","Poules","2013-2014",null,null,null,null,0,null,0]
["MONTADOR Christophe","MARTEL Bruno","P",0,3,{"$f":"40+39+25","v":104},150,"2013-12-21","R1 CD62 T2 WIMILLE","1/2 Finales","2013-2014",null,null,null,null,0,null,0]
["MONTADOR Christophe","TRIPLET FREDDY","P",2,3,{"$f":"100+12+19+39","v":170},{"$f":"150+29+42","v":221},"2013-12-21","R1 CD62 T2 WIMILLE","3ème/4ème","2013-2014",null,null,null,null,0,null,0]
["MONTADOR Christophe","MARTEL Bruno","P",1,3,{"$f":"50+33+40+45","v":168},172,"2014-03-30","R1 CD62 T3 CUCQ","Poules","2013-2014",null,null,null,null,0,null,0]
["MONTADOR Christophe","MARTEL Bruno","P",1,3,{"$f":"50+44+46+45","v":185},192,"2014-03-30","R1 CD62 T3 CUCQ","Poules","2013-2014",null,null,null,null,0,null,0]
["MONTADOR Christophe","CARTIERE André","G",3,2,194,152,"2014-10-26","R1 CD62 T1 CUCQ","Poules","2014-2015",null,null,null,null,0,null,0]
["MONTADOR Christophe","TRIPLET Freddy","G",3,2,206,222,"2014-10-26","R1 CD62 T1 CUCQ","Poules","2014-2015",null,null,null,null,0,null,0]
["MONTADOR Christophe","PIERRU Didier","P",1,3,166,188,"2014-10-26","R1 CD62 T1 CUCQ","1/2 finale","2014-2015",null,null,null,null,0,null,0]
["MONTADOR Christophe","TRIPLET Freddy","P",1,3,127,191,"2014-10-26","R1 CD62 T1 CUCQ","3ème 4ème","2014-2015",null,null,null,null,0,null,0]
["MONTADOR Christophe","CARTIERE André","G",3,2,242,194,"2014-11-30","R1 CD62 T2 WIMILLE","Poules","2014-2015",null,null,null,null,0,null,0]
["MONTADOR Christophe","CARTIERE André","P",0,3,126,150,"2014-11-30","R1 CD62 T2 WIMILLE","Poules","2014-2015",null,null,null,null,0,null,0]
["MONTADOR Christophe","BLONDEEL Bruno","P",0,3,86,150,"2016-12-11","T1 Qualification CD62 R1 Maritime - CUCQ","Qualifications","2016-2017",null,null,null,null,0,null,0]
["MONTADOR Christophe","DEPLECHIN Roland","G",3,0,150,85,"2016-12-11","T1 Qualification CD62 R1 Maritime - CUCQ","Qualifications","2016-2017",null,null,null,null,0,null,0]
["MONTADOR Christophe","BLONDEEL Bruno","P",1,3,145,192,"2017-01-08","T2 Qualification CD62 R1 Maritime - Wimille","1/2 Finale","2016-2017",null,null,null,null,0,null,0]
["MONTADOR Christophe","MARTEL Bruno","P",2,3,203,206,"2017-01-08","T2 Qualification CD62 R1 Maritime - Wimille","Qualifications","2016-2017",null,null,null,null,0,null,0]
["MONTADOR Christophe","MARTEL Bruno","G",3,1,191,168,"2017-01-08","T2 Qualification CD62 R1 Maritime - Wimille","Qualifications","2016-2017",null,null,null,null,0,null,0]
["MONTADOR Christophe","DEPLECHIN Roland","P",0,3,112,150,"2017-02-11","T3 Qualification CD62 R1 Maritime - CUCQ","Qualifications","2016-2017",null,null,null,null,0,null,0]
["MONTADOR Christophe","MERLIN Christian","G",3,1,195,164,"2017-02-11","T3 Qualification CD62 R1 Maritime - CUCQ","Qualifications","2016-2017",null,null,null,null,0,null,0]
["MONTADOR Christophe","DEPLECHIN Roland","G",3,0,150,108,"2017-02-11","Barrage CD62 R1 Maritime - Cucq","Poule unique","2016-2017",null,null,null,null,0,null,0]
["MONTADOR Christophe","LEBECQ Jean-Pierre","G",3,2,199,176,"2017-02-11","Barrage CD62 R1 Maritime - Cucq","Poule unique","2016-2017",null,null,null,null,0,null,0]
["MONTADOR Christophe","MARTEL Bruno","P",1,3,143,189,"2017-02-11","Barrage CD62 R1 Maritime - Cucq","Poule unique","2016-2017",null,null,null,null,0,null,0]
["MONTADOR Christophe","COFFRE Frédéric","G",2,0,120,78,"2017-12-10","T1 Qualification CD62 R1 - CUCQ","Qualifications","2017-2018",null,null,null,null,0,null,0]
["MONTADOR Christophe","MARTEL Bruno","P",0,2,113,120,"2017-12-10","T1 Qualification CD62 R1 - CUCQ","1/2 Finale","2017-2018",null,null,null,null,0,null,0]
["MONTADOR Christophe","MONTADOR Ludovic","G",2,0,120,97,"2017-12-10","T1 Qualification CD62 R1 - CUCQ","Qualifications","2017-2018",null,null,null,null,0,null,0]
["MONTADOR Christophe","COFFRE Frédéric","G",2,0,120,78,"2018-01-06","T2 Qualification CD62 R1 - xxxx","Qualifications","2017-2018",null,null,null,null,0,null,0]
["MONTADOR Christophe","MARTEL Bruno","P",0,2,113,120,"2018-01-06","T2 Qualification CD62 R1 - xxxx","1/2 Finale","2017-2018",null,null,null,null,0,null,0]
["MONTADOR Christophe","MONTADOR Ludovic","G",2,0,120,97,"2018-01-06","T2 Qualification CD62 R1 - xxxx","Qualifications","2017-2018",null,null,null,null,0,null,0]
["MONTADOR Christophe","DEPLECHIN Roland","P",0,2,103,120,"2018-02-24","T3 Qualification CD62 R1 - WIMILLE","Qualifications","2017-2018",null,null,null,null,0,null,0]
["MONTADOR Christophe","FLAHAUT Ghislain","G",2,0,120,56,"2018-02-24","T3 Qualification CD62 R1 - WIMILLE","Qualifications","2017-2018",null,null,null,null,0,null,0]
["MONTADOR Christophe","FLAHAUT Ghislain","G",2,0,120,74,"2019-01-13","T3 Qualification CD62 R1 - WIMILLE","Qualifications","2018-2019",null,null,null,null,0,null,0]
["MONTADOR Christophe","MONTADOR Ludovic","P",0,2,47,120,"2019-01-13","T3 Qualification CD62 R1 - WIMILLE","Finale","2018-2019",null,null,null,null,0,null,0]
["MONTADOR Christophe","RAMET Jacques","G",2,0,120,81,"2019-01-13","T3 Qualification CD62 R1 - WIMILLE","Qualifications","2018-2019",null,null,null,null,0,null,0]
["MONTADOR Christophe","SAISON Bertrand","G",2,0,120,68,"2019-01-13","T3 Qualification CD62 R1 - WIMILLE","1/2 Finale","2018-2019",null,null,null,null,0,null,0]
["MONTADOR Christophe","CARTIERE André","G",2,1,162,142,"2018-12-01","T2 Qualification CD62 R1 - WIMILLE","Finale","2018-2019",null,null,null,null,0,null,0]
["MONTADOR Christophe","DEPLECHIN Roland","P",1,2,134,168,"2018-12-01","T2 Qualification CD62 R1 - WIMILLE","Qualifications","2018-2019",null,null,null,null,0,null,0]
["MONTADOR Christophe","DEPLECHIN Roland","G",2,0,120,72,"2018-12-01","T2 Qualification CD62 R1 - WIMILLE","Qualifications","2018-2019",null,null,null,null,0,null,0]
["MONTADOR Christophe","FLAHAUT Ghislain","G",2,0,120,96,"2018-12-01","T2 Qualification CD62 R1 - WIMILLE","1/2 Finale","2018-2019",null,null,null,null,0,null,0]
["MONTADOR Christophe","DEPLECHIN Roland","P",1,2,154,153,"2018-11-03","T1 Qualification CD62 R1 - CUCQ","Qualifications","2018-2019",null,null,null,null,0,null,0]
["MONTADOR Christophe","MARTEL Bruno","P",1,2,111,159,"2018-11-03","T1 Qualification CD62 R1 - CUCQ","1/2 Finale","2018-2019",null,null,null,null,0,null,0]
["MONTADOR Christophe","RAMET Jacques","G",2,0,120,69,"2018-11-03","T1 Qualification CD62 R1 - CUCQ","Qualifications","2018-2019",null,null,null,null,0,null,0]
["MONTADOR Christophe","DEPLECHIN Roland","P",2,3,222,281,"2019-02-24","Finale CD62 R1 - Wimille","Poule unique","2018-2019",null,null,null,null,0,null,0]
["MONTADOR Christophe","MARTEL Bruno","G",3,0,180,144,"2019-02-24","Finale CD62 R1 - Wimille","Poule unique","2018-2019",null,null,null,null,0,null,0]
["MONTADOR Christophe","MONTADOR Ludovic","P",2,3,233,257,"2019-02-24","Finale CD62 R1 - Wimille","Poule unique","2018-2019",null,null,null,null,0,null,0]
["MONTADOR Christophe","CARTIERE André","P",1,2,152,164,"2019-01-27","T4 Qualification CD62 R1 - CUCQ","Qualifications","2018-2019",null,null,null,null,0,null,0]
["MONTADOR Christophe","DEPLECHIN Roland","G",2,1,164,128,"2019-01-27","T4 Qualification CD62 R1 - CUCQ","1/2 Finale","2018-2019",null,null,null,null,0,null,0]
["MONTADOR Christophe","MONTADOR Ludovic","P",1,2,138,167,"2019-01-27","T4 Qualification CD62 R1 - CUCQ","Finale","2018-2019",null,null,null,null,0,null,0]
["MONTADOR Christophe","TIZON Alain","G",2,1,178,121,"2019-01-27","T4 Qualification CD62 R1 - CUCQ","Qualifications","2018-2019",null,null,null,null,0,null,0]
["MONTADOR Christophe","RAMET Jacques","P",0,2,99,120,"2020-01-12","T1 Qualifications CD 62 R1 - CUCQ","Qualifications","2019-2020",null,null,null,null,0,null,0]
["MONTADOR Christophe","RAMET Jacques","G",2,1,143,161,"2020-01-12","T1 Qualifications CD 62 R1 - CUCQ","Qualifications","2019-2020",null,null,null,null,0,null,0]
["MONTADOR Christophe","CYFFERS Jean Bernard","G",2,1,158,132,"2020-02-02","T2 Qualifications CD62 R1 - WIMILLE","1/2 Finale","2019-2020",null,null,null,null,0,null,0]
["MONTADOR Christophe","DUCROCQ  Joël","G",2,1,179,146,"2020-02-02","T2 Qualifications CD62 R1 - WIMILLE","Qualifications","2019-2020",null,null,null,null,0,null,0]
["MONTADOR Christophe","TRIPLET  Gilbert","G",2,1,124,117,"2020-02-02","T2 Qualifications CD62 R1 - WIMILLE","Qualifications","2019-2020",null,null,null,null,0,null,0]
["MONTADOR Christophe","TRIPLET  Gilbert","G",2,0,120,85,"2020-02-02","T2 Qualifications CD62 R1 - WIMILLE","Finale","2019-2020",null,null,null,null,0,null,0]
["MONTADOR Christophe","CYFFERS Jean Bernard","G",2,1,134,141,"2020-02-15","T3 Qualifications CD62 R1 - WIMILLE","1/2 Finale","2019-2020",null,null,null,null,{"$f":"IF($K82=P$1,COUNTIF($C82,\"G\"),0)","v":0},null,{"$f":"IF($K82=R$1,COUNTIF($C82,\"G\"),0)","v":0}]
["MONTADOR Christophe","FLAHAUT Ghislain","G",2,0,120,83,"2020-02-15","T3 Qualifications CD62 R1 - WIMILLE","Qualifications","2019-2020",null,null,null,null,{"$f":"IF($K83=P$1,COUNTIF($C83,\"G\"),0)","v":0},null,{"$f":"IF($K83=R$1,COUNTIF($C83,\"G\"),0)","v":0}]
["MONTADOR Christophe","RAMET Jacques","G",2,0,120,64,"2020-02-15","T3 Qualifications CD62 R1 - WIMILLE","Qualifications","2019-2020",null,null,null,null,{"$f":"IF($K84=P$1,COUNTIF($C84,\"G\"),0)","v":0},null,{"$f":"IF($K84=R$1,COUNTIF($C84,\"G\"),0)","v":0}]
["MONTADOR Christophe","TIZON Alain","P",1,2,143,158,"2020-02-15","T3 Qualifications CD62 R1 - WIMILLE","Finale","2019-2020",null,null,null,null,{"$f":"IF($K85=P$1,COUNTIF($C85,\"G\"),0)","v":0},null,{"$f":"IF($K85=R$1,COUNTIF($C85,\"G\"),0)","v":0}]
["MONTADOR Christophe","DUCROCQ  Joël","G",2,1,175,173,"2021-10-24","T1 CD62 5Q R1 - CUCQ","1/2 Finale","2021-2022",null,null,null,null,{"$f":"IF($K86=P$1,COUNTIF($C86,\"G\"),0)","v":1},null,{"$f":"IF($K86=R$1,COUNTIF($C86,\"G\"),0)","v":0}]
["MONTADOR Christophe","FLAHAUT Ghislain","P",0,2,107,120,"2021-10-24","T1 CD62 5Q R1 - CUCQ","Qualifications","2021-2022",null,null,null,null,0,null,0]
["MONTADOR Christophe","LEBECQ Jean Pierre","G",2,0,120,88,"2021-10-24","T1 CD62 5Q R1 - CUCQ","Qualifications","2021-2022",null,null,null,null,1,null,0]
["MONTADOR Christophe","TIZON Alain","P",0,2,95,120,"2021-10-24","T1 CD62 5Q R1 - CUCQ","Finale","2021-2022",null,null,null,null,0,null,0]
["MONTADOR Christophe","CYFFERS Jean Bernard","G",2,0,120,79,"2021-12-18","T3 CD62 5Q R1 - CUCQ","1/2 Finale","2021-2022",null,null,null,null,1,null,0]
["MONTADOR Christophe","LEBECQ Jean Pierre","P",0,2,27,120,"2021-12-18","T3 CD62 5Q R1 - CUCQ","Finale","2021-2022",null,null,null,null,0,null,0]
["MONTADOR Christophe","RAMET Jacques","G",2,0,120,75,"2021-12-18","T3 CD62 5Q R1 - CUCQ","Qualifications","2021-2022",null,null,null,null,1,null,0]
["MONTADOR Christophe","TRIPLET Eddie","G",2,0,120,79,"2021-12-18","T3 CD62 5Q R1 - CUCQ","Qualifications","2021-2022",null,null,null,null,1,null,0]
["MONTADOR Christophe","LIMOSINO Jacques","G",2,0,120,46,"2021-11-27","T2 CD62 5Q R1 - WIMILLE","Qualifications","2021-2022",null,null,null,null,1,null,0]
["MONTADOR Christophe","TRIPLET Eddie","G",2,0,120,69,"2021-11-27","T2 CD62 5Q R1 - WIMILLE","Qualifications","2021-2022",null,null,null,null,1,null,0]
["Fin des données",null,null,null,null,null,null,null,null,null,"",null,null,null,null,{"$f":"IF($K96=P$1,COUNTIF($C96,\"G\"),0)","v":0},null,{"$f":"IF($K96=R$1,COUNTIF($C96,\"G\"),0)","v":0}]

{"sheet":"MONTADOR Ludovic","index":118,"n_rows":47,"n_cols":22,"rows_kept":47,"cut":false,"hidden":false,"merged":[]}
["MONTADOR Ludovic",null,null,null,null,null,null,null,null,null,null,null,null,null,null,{"$f":"SaisonDeb","v":"2021-2022"},null,{"$f":"SaisonFin","v":"2022-2023"},null,"Toutes saisons"]
[{"$error":"#N/A"},null,null,null,null,null,null,null,null,null,null,null,null,null,null,"Nombre","%age","Nombre","%age","Nombre","%age"]
[{"$error":"#N/A"},null,null,null,null,null,null,null,null,null,null,null,null,"Matchs","Gagnés",{"$f":"SUM(P$15:P$143)","v":0},{"$f":"IF(P$3+P$4>0,P3/(P$3+P$4),\"\")","v":""},{"$f":"SUM(R$15:R$143)","v":0},{"$f":"IF(R$3+R$4>0,R3/(R$3+R$4),\"\")","v":""},{"$f":"COUNTIF($C$15:$C$143,\"G\")","v":23},{"$f":"IF(T$3+T$4>0,T3/(T$3+T$4),\"\")","v":0.74193548387096775}]
[{"$error":"#N/A"},null,null,null,null,null,null,null,null,null,null,null,null,null,"Perdus",{"$f":"COUNTIF($K$15:$M$143,SaisonDeb)-P3","v":0},{"$f":"IF(P$3+P$4>0,P4/(P$3+P$4),\"\")","v":""},{"$f":"COUNTIF($K$15:$K$143,SaisonFin)-R3","v":0},{"$f":"IF(R$3+R$4>0,R4/(R$3+R$4),\"\")","v":""},{"$f":"COUNTIF($C$15:$C$143,\"P\")","v":8},{"$f":"IF(T$3+T$4>0,T4/(T$3+T$4),\"\")","v":0.25806451612903225}]
[{"$error":"#N/A"},null,null,null,null,null,null,null,null,null,null,null,null,null,"Total / Moy.",{"$f":"SUM(P3:P4)","v":0},{"$f":"IF(SUMIF($K$15:$K$143,SaisonDeb,$G$15:$G$143)>0,SUMIF($K$15:$K$143,SaisonDeb,$F$15:$F$143)/SUMIF($K$15:$K$143,SaisonDeb,$G$15:$G$143),\"\")","v":""},{"$f":"SUM(R3:R4)","v":0},{"$f":"IF(SUMIF($K$15:$K$143,SaisonFin,$G$15:$G$143)>0,SUMIF($K$15:$K$143,SaisonFin,$F$15:$F$143)/SUMIF($K$15:$K$143,SaisonFin,$G$15:$G$143),\"\")","v":""},{"$f":"SUM(T3:T4)","v":31},{"$f":"IF(SUM($G$15:$G$143)>0,SUM($F$15:$F$143)/SUM($G$15:$G$143),\"\")","v":1.1621164532495771},{"$f":"IF(SUMIF($K$15:$K$47,SaisonDeb,$G$15:$G$47)+SUMIF($K$15:$K$47,SaisonFin,$G$15:$G$47)>0,(SUMIF($K$15:$K$47,SaisonDeb,$F$15:$F$47)+SUMIF($K$15:$K$47,SaisonFin,$F$15:$F$47))/(SUMIF($K$15:$K$47,SaisonDeb,$G$15:$G$47)+SUMIF($K$15:$K$47,SaisonFin,$G$15:$G$47)),\"\")","v":""}]
[null,null,null,null,null,null,null,null,null,null,null,null,null,"Sets","Gagnés",{"$f":"SUMIF($K$15:$K$143,SaisonDeb,$D$15:$D$143)","v":0},{"$f":"IF(P$6+P$7>0,P6/(P$6+P$7),\"\")","v":""},{"$f":"SUMIF($K$15:$K$143,SaisonFin,$D$15:$D$143)","v":0},{"$f":"IF(R$6+R$7>0,R6/(R$6+R$7),\"\")","v":""},{"$f":"SUM($D$15:$D$143)","v":56},{"$f":"IF(T$6+T$7>0,T6/(T$6+T$7),\"\")","v":0.6292134831460674}]
[null,null,null,null,null,null,null,null,null,null,null,null,null,null,"Perdus",{"$f":"SUMIF($K$15:$K$143,SaisonDeb,$E$15:$E$143)","v":0},{"$f":"IF(P$6+P$7>0,P7/(P$6+P$7),\"\")","v":""},{"$f":"SUMIF($K$15:$K$143,SaisonFin,$E$15:$E$143)","v":0},{"$f":"IF(R$6+R$7>0,R7/(R$6+R$7),\"\")","v":""},{"$f":"SUM($E$15:$E$143)","v":33},{"$f":"IF(T$6+T$7>0,T7/(T$6+T$7),\"\")","v":0.3707865168539326}]
["Récapitulatif joueurs",null,null,null,null,null,null,null,null,null,null,null,null,null,"Total",{"$f":"SUM(P6:P7)","v":0},null,{"$f":"SUM(R6:R7)","v":0},null,{"$f":"SUM(T6:T7)","v":89}]
[]
[]
[]
[]
[]
[]
["Joueur","Adversaire","G/P","Sets gagnés","Sets perdus","pts marqués","pts subis","Date","Compétition","Phase","Saison"]
["MONTADOR Ludovic","COFFRE Frédéric","G",2,1,172,104,"2017-12-10","T1 Qualification CD62 R1 - CUCQ","Qualifications",{"$f":"IF(H16<>\"\",IF(MONTH(H16)>MoisRef,YEAR(H16)&\"-\"&YEAR(H16)+1,YEAR(H16)-1&\"-\"&YEAR(H16)),\"\")","v":"2017-2018"},null,null,null,null,{"$f":"IF($K16=P$1,COUNTIF($C16,\"G\"),0)","v":0},null,{"$f":"IF($K16=R$1,COUNTIF($C16,\"G\"),0)","v":0}]
["MONTADOR Ludovic","MONTADOR Christophe","P",0,2,97,120,"2017-12-10","T1 Qualification CD62 R1 - CUCQ","Qualifications","2017-2018",null,null,null,null,0,null,0]
["MONTADOR Ludovic","COFFRE Frédéric","G",2,1,172,104,"2018-01-06","T2 Qualification CD62 R1 - xxxx","Qualifications","2017-2018",null,null,null,null,0,null,0]
["MONTADOR Ludovic","MONTADOR Christophe","P",0,2,97,120,"2018-01-06","T2 Qualification CD62 R1 - xxxx","Qualifications","2017-2018",null,null,null,null,0,null,0]
["MONTADOR Ludovic","CAPLIEZ Bernard","P",0,2,84,120,"2018-01-13","T2 Qualification CD62 R1 - WIMILLE","1/2 Finale","2017-2018",null,null,null,null,0,null,0]
["MONTADOR Ludovic","RAMET Jacques","G",2,1,156,113,"2018-01-13","T2 Qualification CD62 R1 - WIMILLE","Qualifications","2017-2018",null,null,null,null,0,null,0]
["MONTADOR Ludovic","RAMET Jacques","G",2,0,120,86,"2018-01-13","T2 Qualification CD62 R1 - WIMILLE","Qualifications","2017-2018",null,null,null,null,0,null,0]
["MONTADOR Ludovic","CARTIERE André","G",2,0,120,106,"2018-02-24","T3 Qualification CD62 R1 - WIMILLE","Qualifications","2017-2018",null,null,null,null,0,null,0]
["MONTADOR Ludovic","CARTIERE André","G",2,0,120,89,"2018-02-24","T3 Qualification CD62 R1 - WIMILLE","Qualifications","2017-2018",null,null,null,null,0,null,0]
["MONTADOR Ludovic","DEPLECHIN Roland","P",1,2,146,167,"2018-02-24","T3 Qualification CD62 R1 - WIMILLE","1/2 Finale","2017-2018",null,null,null,null,0,null,0]
["MONTADOR Ludovic","DEPLECHIN Roland","G",2,1,177,111,"2019-01-13","T3 Qualification CD62 R1 - WIMILLE","Qualifications","2018-2019",null,null,null,null,0,null,0]
["MONTADOR Ludovic","MARTEL Bruno","G",2,0,120,83,"2019-01-13","T3 Qualification CD62 R1 - WIMILLE","1/2 Finale","2018-2019",null,null,null,null,0,null,0]
["MONTADOR Ludovic","MONTADOR Christophe","G",2,0,120,47,"2019-01-13","T3 Qualification CD62 R1 - WIMILLE","Finale","2018-2019",null,null,null,null,0,null,0]
["MONTADOR Ludovic","TIZON Alain","G",2,0,120,78,"2019-01-13","T3 Qualification CD62 R1 - WIMILLE","Qualifications","2018-2019",null,null,null,null,0,null,0]
["MONTADOR Ludovic","CARTIERE André","G",2,1,165,154,"2018-12-01","T2 Qualification CD62 R1 - WIMILLE","Qualifications","2018-2019",null,null,null,null,0,null,0]
["MONTADOR Ludovic","TIZON Alain","P",1,2,128,172,"2018-12-01","T2 Qualification CD62 R1 - WIMILLE","Qualifications","2018-2019",null,null,null,null,0,null,0]
["MONTADOR Ludovic","DEPLECHIN Roland","G",2,0,120,43,"2018-11-03","T1 Qualification CD62 R1 - CUCQ","1/2 Finale","2018-2019",null,null,null,null,0,null,0]
["MONTADOR Ludovic","MARTEL Bruno","G",2,1,172,141,"2018-11-03","T1 Qualification CD62 R1 - CUCQ","Finale","2018-2019",null,null,null,null,0,null,0]
["MONTADOR Ludovic","SAISON Bertrand","G",2,1,175,141,"2018-11-03","T1 Qualification CD62 R1 - CUCQ","Qualifications","2018-2019",null,null,null,null,0,null,0]
["MONTADOR Ludovic","TIZON Alain","G",2,0,120,90,"2018-11-03","T1 Qualification CD62 R1 - CUCQ","Qualifications","2018-2019",null,null,null,null,0,null,0]
["MONTADOR Ludovic","DEPLECHIN Roland","G",3,0,180,128,"2019-02-24","Finale CD62 R1 - Wimille","Poule unique","2018-2019",null,null,null,null,0,null,0]
["MONTADOR Ludovic","MARTEL Bruno","P",2,3,268,294,"2019-02-24","Finale CD62 R1 - Wimille","Poule unique","2018-2019",null,null,null,null,0,null,0]
["MONTADOR Ludovic","MONTADOR Christophe","G",3,2,257,233,"2019-02-24","Finale CD62 R1 - Wimille","Poule unique","2018-2019",null,null,null,null,0,null,0]
["MONTADOR Ludovic","FLAHAUT Ghislain","G",2,0,120,62,"2019-01-27","T4 Qualification CD62 R1 - CUCQ","Qualifications","2018-2019",null,null,null,null,0,null,0]
["MONTADOR Ludovic","MARTEL Bruno","G",2,1,174,143,"2019-01-27","T4 Qualification CD62 R1 - CUCQ","1/2 Finale","2018-2019",null,null,null,null,0,null,0]
["MONTADOR Ludovic","MONTADOR Christophe","G",2,1,167,138,"2019-01-27","T4 Qualification CD62 R1 - CUCQ","Finale","2018-2019",null,null,null,null,0,null,0]
["MONTADOR Ludovic","RAMET Jacques","G",2,0,120,29,"2019-01-27","T4 Qualification CD62 R1 - CUCQ","Qualifications","2018-2019",null,null,null,null,0,null,0]
["MONTADOR Ludovic","CHAIGNES Gilles","G",3,1,224,221,"2019-03-17","FINALE LIGUE R1 - WIMILLE","Poule unique","2018-2019",null,null,null,null,0,null,0]
["MONTADOR Ludovic","DELFOSSE Fabien","P",2,3,248,279,"2019-03-17","FINALE LIGUE R1 - WIMILLE","Poule unique","2018-2019",null,null,null,null,0,null,0]
["MONTADOR Ludovic","PAILLARD Bertrand","P",0,3,85,180,"2019-03-17","FINALE LIGUE R1 - WIMILLE","Poule unique","2018-2019",null,null,null,null,0,null,0]
["MONTADOR Ludovic","STEINMANN Sebastien","G",3,2,266,243,"2019-03-17","FINALE LIGUE R1 - WIMILLE","Poule unique","2018-2019",null,null,null,null,0,null,0]
["Fin des données",null,null,null,null,null,null,null,null,null,"",null,null,null,null,{"$f":"IF($K47=P$1,COUNTIF($C47,\"G\"),0)","v":0},null,{"$f":"IF($K47=R$1,COUNTIF($C47,\"G\"),0)","v":0}]

{"sheet":"MURIOT Jean-Pierre","index":119,"n_rows":46,"n_cols":22,"rows_kept":46,"cut":false,"hidden":false,"merged":[]}
["MURIOT Jean-Pierre",null,null,null,null,null,null,null,null,null,null,null,null,null,null,{"$f":"SaisonDeb","v":"2021-2022"},null,{"$f":"SaisonFin","v":"2022-2023"},null,"Toutes saisons"]
[{"$error":"#N/A"},null,null,null,null,null,null,null,null,null,null,null,null,null,null,"Nombre","%age","Nombre","%age","Nombre","%age"]
[{"$error":"#N/A"},null,null,null,null,null,null,null,null,null,null,null,null,"Matchs","Gagnés",{"$f":"SUM(P$15:P$142)","v":0},{"$f":"IF(P$3+P$4>0,P3/(P$3+P$4),\"\")","v":0},{"$f":"SUM(R$15:R$142)","v":5},{"$f":"IF(R$3+R$4>0,R3/(R$3+R$4),\"\")","v":0.7142857142857143},{"$f":"COUNTIF($C$15:$C$142,\"G\")","v":15},{"$f":"IF(T$3+T$4>0,T3/(T$3+T$4),\"\")","v":0.5}]
[{"$error":"#N/A"},null,null,null,null,null,null,null,null,null,null,null,null,null,"Perdus",{"$f":"COUNTIF($K$15:$M$142,SaisonDeb)-P3","v":2},{"$f":"IF(P$3+P$4>0,P4/(P$3+P$4),\"\")","v":1},{"$f":"COUNTIF($K$15:$K$142,SaisonFin)-R3","v":2},{"$f":"IF(R$3+R$4>0,R4/(R$3+R$4),\"\")","v":0.2857142857142857},{"$f":"COUNTIF($C$15:$C$142,\"P\")","v":15},{"$f":"IF(T$3+T$4>0,T4/(T$3+T$4),\"\")","v":0.5}]
[{"$error":"#N/A"},null,null,null,null,null,null,null,null,null,null,null,null,null,"Total / Moy.",{"$f":"SUM(P3:P4)","v":2},{"$f":"IF(SUMIF($K$15:$K$142,SaisonDeb,$G$15:$G$142)>0,SUMIF($K$15:$K$142,SaisonDeb,$F$15:$F$142)/SUMIF($K$15:$K$142,SaisonDeb,$G$15:$G$142),\"\")","v":0.53749999999999998},{"$f":"SUM(R3:R4)","v":7},{"$f":"IF(SUMIF($K$15:$K$142,SaisonFin,$G$15:$G$142)>0,SUMIF($K$15:$K$142,SaisonFin,$F$15:$F$142)/SUMIF($K$15:$K$142,SaisonFin,$G$15:$G$142),\"\")","v":1.0880758807588076},{"$f":"SUM(T3:T4)","v":30},{"$f":"IF(SUM($G$15:$G$142)>0,SUM($F$15:$F$142)/SUM($G$15:$G$142),\"\")","v":0.93541728103804189},{"$f":"IF(SUMIF($K$15:$K$46,SaisonDeb,$G$15:$G$46)+SUMIF($K$15:$K$46,SaisonFin,$G$15:$G$46)>0,(SUMIF($K$15:$K$46,SaisonDeb,$F$15:$F$46)+SUMIF($K$15:$K$46,SaisonFin,$F$15:$F$46))/(SUMIF($K$15:$K$46,SaisonDeb,$G$15:$G$46)+SUMIF($K$15:$K$46,SaisonFin,$G$15:$G$46)),\"\")","v":0.95296523517382414}]
[null,null,null,null,null,null,null,null,null,null,null,null,null,"Sets","Gagnés",{"$f":"SUMIF($K$15:$K$142,SaisonDeb,$D$15:$D$142)","v":0},{"$f":"IF(P$6+P$7>0,P6/(P$6+P$7),\"\")","v":0},{"$f":"SUMIF($K$15:$K$142,SaisonFin,$D$15:$D$142)","v":5},{"$f":"IF(R$6+R$7>0,R6/(R$6+R$7),\"\")","v":0.7142857142857143},{"$f":"SUM($D$15:$D$142)","v":24},{"$f":"IF(T$6+T$7>0,T6/(T$6+T$7),\"\")","v":0.46153846153846156}]
[null,null,null,null,null,null,null,null,null,null,null,null,null,null,"Perdus",{"$f":"SUMIF($K$15:$K$142,SaisonDeb,$E$15:$E$142)","v":2},{"$f":"IF(P$6+P$7>0,P7/(P$6+P$7),\"\")","v":1},{"$f":"SUMIF($K$15:$K$142,SaisonFin,$E$15:$E$142)","v":2},{"$f":"IF(R$6+R$7>0,R7/(R$6+R$7),\"\")","v":0.2857142857142857},{"$f":"SUM($E$15:$E$142)","v":28},{"$f":"IF(T$6+T$7>0,T7/(T$6+T$7),\"\")","v":0.53846153846153844}]
["Récapitulatif joueurs",null,null,null,null,null,null,null,null,null,null,null,null,null,"Total",{"$f":"SUM(P6:P7)","v":2},null,{"$f":"SUM(R6:R7)","v":7},null,{"$f":"SUM(T6:T7)","v":52}]
[]
[]
[]
[]
[]
[]
["Joueur","Adversaire","G/P","Sets gagnés","Sets perdus","pts marqués","pts subis","Date","Compétition","Phase","Saison"]
["MURIOT Jean-Pierre","BOUIGES Armelle","G",1,0,100,37,"2016-10-22","5Q  CD60 R1 - T 1 -CREPY","Tour 3",{"$f":"IF(H16<>\"\",IF(MONTH(H16)>MoisRef,YEAR(H16)&\"-\"&YEAR(H16)+1,YEAR(H16)-1&\"-\"&YEAR(H16)),\"\")","v":"2016-2017"},null,null,null,null,{"$f":"IF($K16=P$1,COUNTIF($C16,\"G\"),0)","v":0},null,{"$f":"IF($K16=R$1,COUNTIF($C16,\"G\"),0)","v":0}]
["MURIOT Jean-Pierre","VANDEPUTTE Laurent","G",1,0,100,72,"2017-01-21","5Q  CD60 R1 - T 3 - MERU","Tour 1","2016-2017",null,null,null,null,{"$f":"IF($K17=P$1,COUNTIF($C17,\"G\"),0)","v":0},null,{"$f":"IF($K17=R$1,COUNTIF($C17,\"G\"),0)","v":0}]
["MURIOT Jean-Pierre","DESCLAIR Guy","P",1,2,125,169,"2017-10-21","T 2 OISE - SENLIS","Qualifications","2017-2018",null,null,null,null,{"$f":"IF($K18=P$1,COUNTIF($C18,\"G\"),0)","v":0},null,{"$f":"IF($K18=R$1,COUNTIF($C18,\"G\"),0)","v":0}]
["MURIOT Jean-Pierre","LALOT Gérard","P",1,2,130,173,"2017-10-21","T 2 OISE - SENLIS","Qualifications","2017-2018",null,null,null,null,0,null,0]
["MURIOT Jean-Pierre","LAMARQUE Yves","G",2,1,160,146,"2017-10-21","T 2 OISE - SENLIS","Qualifications","2017-2018",null,null,null,null,0,null,0]
["MURIOT Jean-Pierre","BOUIGES Armelle","G",1,0,100,94,43029,"T 2 OISE Consolante - SENLIS","Qualifications","2017-2018",null,null,null,null,0,null,0]
["MURIOT Jean-Pierre","LAMARQUE Yves","P",0,1,74,100,43029,"T 2 OISE Consolante - SENLIS","Qualifications","2017-2018",null,null,null,null,0,null,0]
["MURIOT Jean-Pierre","DESCLAIR Guy","G",2,1,148,160,"2018-01-06","T 4 OISE - VILLERS","1/2 Finale","2017-2018",null,null,null,null,0,null,0]
["MURIOT Jean-Pierre","FAURE Stéphane","P",0,2,77,120,"2018-01-06","T 4 OISE - VILLERS","Finale","2017-2018",null,null,null,null,0,null,0]
["MURIOT Jean-Pierre","LALOT Gérard","G",2,1,165,118,"2018-01-06","T 4 OISE - VILLERS","Qualifications","2017-2018",null,null,null,null,0,null,0]
["MURIOT Jean-Pierre","LAMARQUE Yves","G",2,1,174,119,"2018-01-06","T 4 OISE - VILLERS","1/4 Finale","2017-2018",null,null,null,null,0,null,0]
["MURIOT Jean-Pierre","TALEC Pierre","G",2,0,120,77,"2018-01-06","T 4 OISE - VILLERS","Qualifications","2017-2018",null,null,null,null,0,null,0]
["MURIOT Jean-Pierre","LE FRIEC Daniel","P",0,2,65,120,"2018-11-24","5 Q - T 3 OISE 2018-19 - R 1 - TOURNOI PRINCIPAL  - MERU","Qualifications","2018-2019",null,null,null,null,0,null,0]
["MURIOT Jean-Pierre","STEINMANN Sébastien","P",0,2,50,120,"2018-11-24","5 Q - T 3 OISE 2018-19 - R 1 - TOURNOI PRINCIPAL  - MERU","Qualifications","2018-2019",null,null,null,null,0,null,0]
["MURIOT Jean-Pierre","DESCLAIR Guy","P",0,2,94,120,"2019-01-19","5 Q - T 4 OISE 2018-19 - R 1 - TOURNOI PRINCIPAL  - CHAMBLY","Qualifications","2018-2019",null,null,null,null,0,null,0]
["MURIOT Jean-Pierre","VANDEPUTTE Laurent","P",1,2,151,167,"2019-01-19","5 Q - T 4 OISE 2018-19 - R 1 - TOURNOI PRINCIPAL  - CHAMBLY","Qualifications","2018-2019",null,null,null,null,0,null,0]
["MURIOT Jean-Pierre","GEOFFROY Florent","G",1,0,100,80,"2020-02-15","CD60  R1 - T 4 - Tour Principal - SENLIS","Qualifications","2019-2020",null,null,null,null,0,null,0]
["MURIOT Jean-Pierre","VASSEUR Francis","P",0,1,76,100,"2020-02-15","CD60  R1 - T 4 - Tour Principal - SENLIS","Qualifications","2019-2020",null,null,null,null,0,null,0]
["MURIOT Jean-Pierre","ALAZARD Philippe","P",0,2,36,120,"2019-11-23","CD60  R1 - T2 - Tour Principal - MERU","1/4 Finale","2019-2020",null,null,null,null,0,null,0]
["MURIOT Jean-Pierre","BOUIGES Armelle","G",2,0,120,81,"2019-11-23","CD60  R1 - T2 - Tour Principal - MERU","Qualifications","2019-2020",null,null,null,null,0,null,0]
["MURIOT Jean-Pierre","BOURGOGNE Claude","P",0,2,75,120,"2019-11-23","CD60  R1 - T2 - Tour Principal - MERU","Qualifications","2019-2020",null,null,null,null,0,null,0]
["MURIOT Jean-Pierre","BOUTON Gérard","P",0,1,82,120,"2021-12-18","T 2 OISE - Qualifications R 1 - Tour principal - CREPY","Qualifications","2021-2022",null,null,null,null,0,null,0]
["MURIOT Jean-Pierre","DESCLAIR Guy","P",0,1,47,120,"2021-12-18","T 2 OISE - Qualifications R 1 - Tour principal - CREPY","Qualifications","2021-2022",null,null,null,null,0,null,0]
["MURIOT Jean-Pierre","GRANGER Pascal","P",0,1,84,120,"2023-02-18","T 3 OISE - Qualifications R 1 - Tour Principal - BEAUVAIS","1/4 Finale","2022-2023",null,null,null,null,0,null,0]
["MURIOT Jean-Pierre","MASSARD Patrick","G",1,0,120,112,"2023-02-18","T 3 OISE - Qualifications R 1 - Tour Principal - BEAUVAIS","Qualifications","2022-2023",null,null,null,null,0,null,1]
["MURIOT Jean-Pierre","ZANOTTI Michel","G",1,0,120,82,"2023-02-18","T 3 OISE - Qualifications R 1 - Tour Principal - BEAUVAIS","Qualifications","2022-2023",null,null,null,null,0,null,1]
["MURIOT Jean-Pierre","CUNIN Mickael","P",0,1,119,120,"2023-03-18","T 4 OISE - Qualifications R 1 - Tour Principal - CREPY","1/2 Finale","2022-2023",null,null,null,null,0,null,0]
["MURIOT Jean-Pierre","LAMARQUE Yves","G",1,0,120,83,"2023-03-18","T 4 OISE - Qualifications R 1 - Tour Principal - CREPY","1/4 Finale","2022-2023",null,null,null,null,0,null,1]
["MURIOT Jean-Pierre","ZANOTTI Michel","G",1,0,120,104,"2023-03-18","T 4 OISE - Qualifications R 1 - Tour Principal - CREPY","Qualifications","2022-2023",null,null,null,null,0,null,1]
["MURIOT Jean-Pierre","ZANOTTI Michel","G",1,0,120,117,"2023-03-18","T 4 OISE - Qualifications R 1 - Tour Principal - CREPY","Qualifications","2022-2023",null,null,null,null,0,null,1]
["Fin des données",null,null,null,null,null,null,null,null,null,"",null,null,null,null,{"$f":"IF($K46=P$1,COUNTIF($C46,\"G\"),0)","v":0},null,{"$f":"IF($K46=R$1,COUNTIF($C46,\"G\"),0)","v":0}]

{"sheet":"NAHIRNYJ Alexi","index":120,"n_rows":62,"n_cols":22,"rows_kept":62,"cut":false,"hidden":false,"merged":[]}
["NAHIRNYJ Alexi",null,null,null,null,null,null,null,null,null,null,null,null,null,null,{"$f":"SaisonDeb","v":"2021-2022"},null,{"$f":"SaisonFin","v":"2022-2023"},null,"Toutes saisons"]
[{"$error":"#N/A"},null,null,null,null,null,null,null,null,null,null,null,null,null,null,"Nombre","%age","Nombre","%age","Nombre","%age"]
[{"$error":"#N/A"},null,null,null,null,null,null,null,null,null,null,null,null,"Matchs","Gagnés",{"$f":"SUM(P$15:P$158)","v":10},{"$f":"IF(P$3+P$4>0,P3/(P$3+P$4),\"\")","v":0.66666666666666663},{"$f":"SUM(R$15:R$158)","v":16},{"$f":"IF(R$3+R$4>0,R3/(R$3+R$4),\"\")","v":0.72727272727272729},{"$f":"COUNTIF($C$15:$C$158,\"G\")","v":31},{"$f":"IF(T$3+T$4>0,T3/(T$3+T$4),\"\")","v":0.67391304347826086}]
[{"$error":"#N/A"},null,null,null,null,null,null,null,null,null,null,null,null,null,"Perdus",{"$f":"COUNTIF($K$15:$M$158,SaisonDeb)-P3","v":5},{"$f":"IF(P$3+P$4>0,P4/(P$3+P$4),\"\")","v":0.33333333333333331},{"$f":"COUNTIF($K$15:$K$158,SaisonFin)-R3","v":6},{"$f":"IF(R$3+R$4>0,R4/(R$3+R$4),\"\")","v":0.27272727272727271},{"$f":"COUNTIF($C$15:$C$158,\"P\")","v":15},{"$f":"IF(T$3+T$4>0,T4/(T$3+T$4),\"\")","v":0.32608695652173914}]
[{"$error":"#N/A"},null,null,null,null,null,null,null,null,null,null,null,null,null,"Total / Moy.",{"$f":"SUM(P3:P4)","v":15},{"$f":"IF(SUMIF($K$15:$K$158,SaisonDeb,$G$15:$G$158)>0,SUMIF($K$15:$K$158,SaisonDeb,$F$15:$F$158)/SUMIF($K$15:$K$158,SaisonDeb,$G$15:$G$158),\"\")","v":1.2207702888583218},{"$f":"SUM(R3:R4)","v":22},{"$f":"IF(SUMIF($K$15:$K$158,SaisonFin,$G$15:$G$158)>0,SUMIF($K$15:$K$158,SaisonFin,$F$15:$F$158)/SUMIF($K$15:$K$158,SaisonFin,$G$15:$G$158),\"\")","v":1.1764705882352942},{"$f":"SUM(T3:T4)","v":46},{"$f":"IF(SUM($G$15:$G$158)>0,SUM($F$15:$F$158)/SUM($G$15:$G$158),\"\")","v":1.1522419186652764},{"$f":"IF(SUMIF($K$15:$K$62,SaisonDeb,$G$15:$G$62)+SUMIF($K$15:$K$62,SaisonFin,$G$15:$G$62)>0,(SUMIF($K$15:$K$62,SaisonDeb,$F$15:$F$62)+SUMIF($K$15:$K$62,SaisonFin,$F$15:$F$62))/(SUMIF($K$15:$K$62,SaisonDeb,$G$15:$G$62)+SUMIF($K$15:$K$62,SaisonFin,$G$15:$G$62)),\"\")","v":1.1938885884261763}]
[null,null,null,null,null,null,null,null,null,null,null,null,null,"Sets","Gagnés",{"$f":"SUMIF($K$15:$K$158,SaisonDeb,$D$15:$D$158)","v":14},{"$f":"IF(P$6+P$7>0,P6/(P$6+P$7),\"\")","v":0.66666666666666663},{"$f":"SUMIF($K$15:$K$158,SaisonFin,$D$15:$D$158)","v":20},{"$f":"IF(R$6+R$7>0,R6/(R$6+R$7),\"\")","v":0.68965517241379315},{"$f":"SUM($D$15:$D$158)","v":45},{"$f":"IF(T$6+T$7>0,T6/(T$6+T$7),\"\")","v":0.6428571428571429}]
[null,null,null,null,null,null,null,null,null,null,null,null,null,null,"Perdus",{"$f":"SUMIF($K$15:$K$158,SaisonDeb,$E$15:$E$158)","v":7},{"$f":"IF(P$6+P$7>0,P7/(P$6+P$7),\"\")","v":0.33333333333333331},{"$f":"SUMIF($K$15:$K$158,SaisonFin,$E$15:$E$158)","v":9},{"$f":"IF(R$6+R$7>0,R7/(R$6+R$7),\"\")","v":0.31034482758620691},{"$f":"SUM($E$15:$E$158)","v":25},{"$f":"IF(T$6+T$7>0,T7/(T$6+T$7),\"\")","v":0.35714285714285715}]
["Récapitulatif joueurs",null,null,null,null,null,null,null,null,null,null,null,null,null,"Total",{"$f":"SUM(P6:P7)","v":21},null,{"$f":"SUM(R6:R7)","v":29},null,{"$f":"SUM(T6:T7)","v":70}]
[]
[]
[]
[]
[]
[]
["Joueur","Adversaire","G/P","Sets gagnés","Sets perdus","pts marqués","pts subis","Date","Compétition","Phase","Saison"]
["NAHIRNYJ Alexi","BLOUIN Nicolas","G",2,1,165,136,"2018-05-23","FINALE OISE JUNIORS - CHAMBLY","Qualifications",{"$f":"IF(H16<>\"\",IF(MONTH(H16)>MoisRef,YEAR(H16)&\"-\"&YEAR(H16)+1,YEAR(H16)-1&\"-\"&YEAR(H16)),\"\")","v":"2017-2018"},null,null,null,null,{"$f":"IF($K16=P$1,COUNTIF($C16,\"G\"),0)","v":0},null,{"$f":"IF($K16=R$1,COUNTIF($C16,\"G\"),0)","v":0}]
["NAHIRNYJ Alexi","POLIN Thibault","G",2,1,176,136,"2018-05-23","FINALE OISE JUNIORS - CHAMBLY","Qualifications","2017-2018",null,null,null,null,0,null,0]
["NAHIRNYJ Alexi","AZRIA Aaron","G",2,1,178,143,"2019-03-30","FINALE OISE JUNIORS - CHAMBLY","Poule unique","2018-2019",null,null,null,null,0,null,0]
["NAHIRNYJ Alexi","POLIN Thibault","G",2,0,120,104,"2019-03-30","FINALE OISE JUNIORS - CHAMBLY","Poule unique","2018-2019",null,null,null,null,0,null,0]
["NAHIRNYJ Alexi","BOURGOGNE Claude","P",0,1,28,100,"2020-01-11","CD60  R1 - T3 - Tour Principal - CREPY","Qualifications","2019-2020",null,null,null,null,0,null,0]
["NAHIRNYJ Alexi","GEOFFROY Florent","P",0,1,90,100,"2020-01-11","CD60  R1 - T3 - Tour Principal - CREPY","Qualifications","2019-2020",null,null,null,null,0,null,0]
["NAHIRNYJ Alexi","BOURGOGNE Claude","P",1,2,127,153,"2019-11-23","CD60  R1 - T2 - Tour Principal - MERU","1/4 Finale","2019-2020",null,null,null,null,0,null,0]
["NAHIRNYJ Alexi","DUCHATEAU Jean-Pierre","G",2,0,120,105,"2019-11-23","CD60  R1 - T2 - Tour Principal - MERU","Qualifications","2019-2020",null,null,null,null,0,null,0]
["NAHIRNYJ Alexi","LAMARQUE Yves","P",0,2,106,120,"2019-11-23","CD60  R1 - T2 - Tour Principal - MERU","Qualifications","2019-2020",null,null,null,null,0,null,0]
["NAHIRNYJ Alexi","BOZON Robert","P",0,1,107,120,"2021-10-02","T 1 OISE - Qualifications R 1 - Tour principal - MERU","Qualifications","2021-2022",null,null,null,null,0,null,0]
["NAHIRNYJ Alexi","MARTIN Denis","G",1,0,120,94,"2021-10-02","T 1 OISE - Qualifications R 1 - Tour principal - MERU","Qualifications","2021-2022",null,null,null,null,1,null,0]
["NAHIRNYJ Alexi","MAUGER Jean-Paul","P",0,1,80,120,"2021-10-02","T 1 OISE - Qualifications R 1 - Tour principal - MERU","1/4 Finale","2021-2022",null,null,null,null,0,null,0]
["NAHIRNYJ Alexi","BARBE Logan","G",1,0,120,38,"2021-12-18","T 2 OISE - Qualifications R 1 - Tour principal - CREPY","Qualifications","2021-2022",null,null,null,null,1,null,0]
["NAHIRNYJ Alexi","BARTHON Aurélie","G",1,0,120,57,"2021-12-18","T 2 OISE - Qualifications R 1 - Tour principal - CREPY","Qualifications","2021-2022",null,null,null,null,1,null,0]
["NAHIRNYJ Alexi","BARTHON Aurélie","G",1,0,120,28,"2021-12-18","T 2 OISE - Qualifications R 1 - Tour principal - CREPY","1/4 Finale","2021-2022",null,null,null,null,1,null,0]
["NAHIRNYJ Alexi","HERTOUX Didier","P",0,1,113,120,"2021-12-18","T 2 OISE - Qualifications R 1 - Tour principal - CREPY","1/2 Finale","2021-2022",null,null,null,null,0,null,0]
["NAHIRNYJ Alexi","BOZON Robert","G",1,0,120,116,"2022-12-29","T 3 OISE - Qualifications R 1 - Tour principal - SENLIS","1/2 Finale","2022-2023",null,null,null,null,0,null,1]
["NAHIRNYJ Alexi","DESCLAIR Guy","P",0,1,96,120,"2022-12-29","T 3 OISE - Qualifications R 1 - Tour principal - SENLIS","Finale","2022-2023",null,null,null,null,0,null,0]
["NAHIRNYJ Alexi","DUCHATEAU Jean-Pierre","G",1,0,120,78,"2022-12-29","T 3 OISE - Qualifications R 1 - Tour principal - SENLIS","Qualifications","2022-2023",null,null,null,null,0,null,1]
["NAHIRNYJ Alexi","DUCHATEAU Jean-Pierre","G",1,0,120,94,"2022-12-29","T 3 OISE - Qualifications R 1 - Tour principal - SENLIS","1/4 Finale","2022-2023",null,null,null,null,0,null,1]
["NAHIRNYJ Alexi","LAMARQUE Yves","G",1,0,120,70,"2022-12-29","T 3 OISE - Qualifications R 1 - Tour principal - SENLIS","Qualifications","2022-2023",null,null,null,null,0,null,1]
["NAHIRNYJ Alexi","BARBE Philippe","G",1,0,120,89,"2022-04-16","T 4 OISE - Qualifications R 1 - Tour Principal - BEAUVAIS","Qualifications","2021-2022",null,null,null,null,1,null,0]
["NAHIRNYJ Alexi","BOUIGES Armelle","G",1,0,120,108,"2022-04-16","T 4 OISE - Qualifications R 1 - Tour Principal - BEAUVAIS","Qualifications","2021-2022",null,null,null,null,1,null,0]
["NAHIRNYJ Alexi","BOUTON Gérard","G",1,0,120,104,"2022-04-16","T 4 OISE - Qualifications R 1 - Tour Principal - BEAUVAIS","1/4 Finale","2021-2022",null,null,null,null,1,null,0]
["NAHIRNYJ Alexi","HERTOUX Didier","P",0,1,118,120,"2022-04-16","T 4 OISE - Qualifications R 1 - Tour Principal - BEAUVAIS","1/2 Finale","2021-2022",null,null,null,null,0,null,0]
["NAHIRNYJ Alexi","BARBE Philippe","P",1,2,110,138,"2022-05-14","FINALE OISE R 1 - SAISON 21-22 - SENLIS","Qualifications","2021-2022",null,null,null,null,0,null,0]
["NAHIRNYJ Alexi","BOZON Robert","G",2,1,167,143,"2022-05-14","FINALE OISE R 1 - SAISON 21-22 - SENLIS","1/2 Finale","2021-2022",null,null,null,null,1,null,0]
["NAHIRNYJ Alexi","DESCLAIR Guy","G",2,0,120,76,"2022-05-14","FINALE OISE R 1 - SAISON 21-22 - SENLIS","Qualifications","2021-2022",null,null,null,null,1,null,0]
["NAHIRNYJ Alexi","HERTOUX Didier","G",2,0,120,99,"2022-05-14","FINALE OISE R 1 - SAISON 21-22 - SENLIS","Finale","2021-2022",null,null,null,null,1,null,0]
["NAHIRNYJ Alexi","CUNIN Mickael","G",2,1,172,163,"2023-04-15","FINALE OISE  - R 1 - BEAUVAIS","Qualifications","2022-2023",null,null,null,null,0,null,1]
["NAHIRNYJ Alexi","GRANGER Pascal","G",2,0,120,60,"2023-04-15","FINALE OISE  - R 1 - BEAUVAIS","1/2 Finale","2022-2023",null,null,null,null,0,null,1]
["NAHIRNYJ Alexi","HERTOUX Didier","P",1,2,150,159,"2023-04-15","FINALE OISE  - R 1 - BEAUVAIS","Qualifications","2022-2023",null,null,null,null,0,null,0]
["NAHIRNYJ Alexi","HERTOUX Didier","G",2,1,170,129,"2023-04-15","FINALE OISE  - R 1 - BEAUVAIS","Finale","2022-2023",null,null,null,null,0,null,1]
["NAHIRNYJ Alexi","GRANGER Pascal","P",0,1,57,120,"2023-02-18","T 3 OISE - Qualifications R 1 - Tour Principal - BEAUVAIS","Finale","2022-2023",null,null,null,null,0,null,0]
["NAHIRNYJ Alexi","LAMARQUE Yves","G",1,0,120,111,"2023-02-18","T 3 OISE - Qualifications R 1 - Tour Principal - BEAUVAIS","Qualifications","2022-2023",null,null,null,null,0,null,1]
["NAHIRNYJ Alexi","LAMARQUE Yves","G",1,0,120,65,"2023-02-18","T 3 OISE - Qualifications R 1 - Tour Principal - BEAUVAIS","1/2 Finale","2022-2023",null,null,null,null,0,null,1]
["NAHIRNYJ Alexi","PORQUIER Gérard","G",1,0,120,61,"2023-02-18","T 3 OISE - Qualifications R 1 - Tour Principal - BEAUVAIS","Qualifications","2022-2023",null,null,null,null,0,null,1]
["NAHIRNYJ Alexi","ZANOTTI Michel","G",1,0,120,100,"2023-02-18","T 3 OISE - Qualifications R 1 - Tour Principal - BEAUVAIS","1/4 Finale","2022-2023",null,null,null,null,0,null,1]
["NAHIRNYJ Alexi","BOUTON Gérard","G",1,0,120,78,"2023-03-18","T 4 OISE - Qualifications R 1 - Tour Principal - CREPY","Qualifications","2022-2023",null,null,null,null,0,null,1]
["NAHIRNYJ Alexi","CHENAL Gérard","G",1,0,120,63,"2023-03-18","T 4 OISE - Qualifications R 1 - Tour Principal - CREPY","Qualifications","2022-2023",null,null,null,null,0,null,1]
["NAHIRNYJ Alexi","CUNIN Mickael","P",0,1,85,120,"2023-03-18","T 4 OISE - Qualifications R 1 - Tour Principal - CREPY","Finale","2022-2023",null,null,null,null,0,null,0]
["NAHIRNYJ Alexi","GRANGER Pascal","G",1,0,120,114,"2023-03-18","T 4 OISE - Qualifications R 1 - Tour Principal - CREPY","1/2 Finale","2022-2023",null,null,null,null,0,null,1]
["NAHIRNYJ Alexi","ZANOTTI Michel","G",1,0,120,73,"2023-03-18","T 4 OISE - Qualifications R 1 - Tour Principal - CREPY","1/4 Finale","2022-2023",null,null,null,null,0,null,1]
["NAHIRNYJ Alexi","CREDOT Gérald","G",1,0,120,110,"2022-10-29","T 1 OISE - Qualifications R 1 - Tour Principal - MERU","Qualifications","2022-2023",null,null,null,null,0,null,1]
["NAHIRNYJ Alexi","GRANGER Pascal","P",0,1,115,120,"2022-10-29","T 1 OISE - Qualifications R 1 - Tour Principal - MERU","Qualifications","2022-2023",null,null,null,null,0,null,0]
["NAHIRNYJ Alexi","ZANOTTI Michel","P",0,1,115,120,"2022-10-29","T 1 OISE - Qualifications R 1 - Tour Principal - MERU","1/4 Finale","2022-2023",null,null,null,null,0,null,0]
["Fin des données",null,null,null,null,null,null,null,null,null,"",null,null,null,null,0,null,0]

{"sheet":"NOYER Pascal","index":121,"n_rows":86,"n_cols":22,"rows_kept":86,"cut":false,"hidden":false,"merged":[]}
["NOYER Pascal",null,null,null,null,null,null,null,null,null,null,null,null,null,null,{"$f":"SaisonDeb","v":"2021-2022"},null,{"$f":"SaisonFin","v":"2022-2023"},null,"Toutes saisons"]
[{"$error":"#N/A"},null,null,null,null,null,null,null,null,null,null,null,null,null,null,"Nombre","%age","Nombre","%age","Nombre","%age"]
[{"$error":"#N/A"},null,null,null,null,null,null,null,null,null,null,null,null,"Matchs","Gagnés",{"$f":"SUM(P$15:P$182)","v":6},{"$f":"IF(P$3+P$4>0,P3/(P$3+P$4),\"\")","v":0.54545454545454541},{"$f":"SUM(R$15:R$182)","v":5},{"$f":"IF(R$3+R$4>0,R3/(R$3+R$4),\"\")","v":0.5},{"$f":"COUNTIF($C$15:$C$182,\"G\")","v":37},{"$f":"IF(T$3+T$4>0,T3/(T$3+T$4),\"\")","v":0.52857142857142858}]
[{"$error":"#N/A"},null,null,null,null,null,null,null,null,null,null,null,null,null,"Perdus",{"$f":"COUNTIF($K$15:$M$182,SaisonDeb)-P3","v":5},{"$f":"IF(P$3+P$4>0,P4/(P$3+P$4),\"\")","v":0.45454545454545453},{"$f":"COUNTIF($K$15:$K$182,SaisonFin)-R3","v":5},{"$f":"IF(R$3+R$4>0,R4/(R$3+R$4),\"\")","v":0.5},{"$f":"COUNTIF($C$15:$C$182,\"P\")","v":33},{"$f":"IF(T$3+T$4>0,T4/(T$3+T$4),\"\")","v":0.47142857142857142}]
[{"$error":"#N/A"},null,null,null,null,null,null,null,null,null,null,null,null,null,"Total / Moy.",{"$f":"SUM(P3:P4)","v":11},{"$f":"IF(SUMIF($K$15:$K$182,SaisonDeb,$G$15:$G$182)>0,SUMIF($K$15:$K$182,SaisonDeb,$F$15:$F$182)/SUMIF($K$15:$K$182,SaisonDeb,$G$15:$G$182),\"\")","v":1.0689655172413792},{"$f":"SUM(R3:R4)","v":10},{"$f":"IF(SUMIF($K$15:$K$182,SaisonFin,$G$15:$G$182)>0,SUMIF($K$15:$K$182,SaisonFin,$F$15:$F$182)/SUMIF($K$15:$K$182,SaisonFin,$G$15:$G$182),\"\")","v":0.97111111111111115},{"$f":"SUM(T3:T4)","v":70},{"$f":"IF(SUM($G$15:$G$182)>0,SUM($F$15:$F$182)/SUM($G$15:$G$182),\"\")","v":0.99565887130653974},{"$f":"IF(SUMIF($K$15:$K$86,SaisonDeb,$G$15:$G$86)+SUMIF($K$15:$K$86,SaisonFin,$G$15:$G$86)>0,(SUMIF($K$15:$K$86,SaisonDeb,$F$15:$F$86)+SUMIF($K$15:$K$86,SaisonFin,$F$15:$F$86))/(SUMIF($K$15:$K$86,SaisonDeb,$G$15:$G$86)+SUMIF($K$15:$K$86,SaisonFin,$G$15:$G$86)),\"\")","v":1.0215401184706516}]
[null,null,null,null,null,null,null,null,null,null,null,null,null,"Sets","Gagnés",{"$f":"SUMIF($K$15:$K$182,SaisonDeb,$D$15:$D$182)","v":6},{"$f":"IF(P$6+P$7>0,P6/(P$6+P$7),\"\")","v":0.54545454545454541},{"$f":"SUMIF($K$15:$K$182,SaisonFin,$D$15:$D$182)","v":5},{"$f":"IF(R$6+R$7>0,R6/(R$6+R$7),\"\")","v":0.5},{"$f":"SUM($D$15:$D$182)","v":57},{"$f":"IF(T$6+T$7>0,T6/(T$6+T$7),\"\")","v":0.50442477876106195}]
[null,null,null,null,null,null,null,null,null,null,null,null,null,null,"Perdus",{"$f":"SUMIF($K$15:$K$182,SaisonDeb,$E$15:$E$182)","v":5},{"$f":"IF(P$6+P$7>0,P7/(P$6+P$7),\"\")","v":0.45454545454545453},{"$f":"SUMIF($K$15:$K$182,SaisonFin,$E$15:$E$182)","v":5},{"$f":"IF(R$6+R$7>0,R7/(R$6+R$7),\"\")","v":0.5},{"$f":"SUM($E$15:$E$182)","v":56},{"$f":"IF(T$6+T$7>0,T7/(T$6+T$7),\"\")","v":0.49557522123893805}]
["Récapitulatif joueurs",null,null,null,null,null,null,null,null,null,null,null,null,null,"Total",{"$f":"SUM(P6:P7)","v":11},null,{"$f":"SUM(R6:R7)","v":10},null,{"$f":"SUM(T6:T7)","v":113}]
[]
[]
[]
[]
[]
[]
["Joueur","Adversaire","G/P","Sets gagnés","Sets perdus","pts marqués","pts subis","Date","Compétition","Phase","Saison"]
["NOYER Pascal","BEGHIN Benjamin","P",0,2,61,120,"2016-01-14","T1 Qualifications CD59 R1 - DUNKERQUE","1/4 Finale",{"$f":"IF(H16<>\"\",IF(MONTH(H16)>MoisRef,YEAR(H16)&\"-\"&YEAR(H16)+1,YEAR(H16)-1&\"-\"&YEAR(H16)),\"\")","v":"2015-2016"},null,null,null,null,{"$f":"IF($K16=P$1,COUNTIF($C16,\"G\"),0)","v":0},null,{"$f":"IF($K16=R$1,COUNTIF($C16,\"G\"),0)","v":0}]
["NOYER Pascal","DUTAILLY Michel","G",2,1,177,171,"2016-01-14","T1 Qualifications CD59 R1 - DUNKERQUE","Qualifications","2015-2016",null,null,null,null,0,null,0]
["NOYER Pascal","MONFLIER Francis","P",1,2,163,157,"2016-01-14","T1 Qualifications CD59 R1 - DUNKERQUE","Qualifications","2015-2016",null,null,null,null,0,null,0]
["NOYER Pascal","ESTERMANS Bernard","P",1,2,149,157,"2017-03-11","T3 Qualifications CD59 R1 - ST POL SUR MER","Qualifications","2016-2017",null,null,null,null,0,null,0]
["NOYER Pascal","SZWARC Patrick","P",0,2,102,120,"2017-03-11","T3 Qualifications CD59 R1 - ST POL SUR MER","1/4 Finale","2016-2017",null,null,null,null,0,null,0]
["NOYER Pascal","VEREECQUE Bernard","G",2,0,120,94,"2017-03-11","T3 Qualifications CD59 R1 - ST POL SUR MER","Qualifications","2016-2017",null,null,null,null,0,null,0]
["NOYER Pascal","BEGHIN Benjamin","P",0,1,73,100,"2017-09-30","T1 Qualifications R1 CD59 - GRAVELINES","Qualifications","2017-2018",null,null,null,null,0,null,0]
["NOYER Pascal","DEREUDDRE Dominique","G",1,0,100,60,"2017-09-30","T1 Qualifications R1 CD59 - GRAVELINES","Qualifications","2017-2018",null,null,null,null,0,null,0]
["NOYER Pascal","VEREECQUE Bernard","P",0,1,54,100,"2017-09-30","T1 Qualifications R1 CD59 - GRAVELINES","Qualifications","2017-2018",null,null,null,null,0,null,0]
["NOYER Pascal","WASYLYSZYN Jean-Pierre","G",1,0,100,62,"2017-09-30","T1 Qualifications R1 CD59 - GRAVELINES","Qualifications","2017-2018",null,null,null,null,0,null,0]
["NOYER Pascal","ESTERMANS Bernard","P",0,2,85,120,"2017-09-30","T1 Qualifications R1 CD59 - GRAVELINES","Qualifications","2017-2018",null,null,null,null,0,null,0]
["NOYER Pascal","LEFORT Pierre","G",2,1,131,138,"2017-09-30","T1 Qualifications R1 CD59 - GRAVELINES","Qualifications","2017-2018",null,null,null,null,0,null,0]
["NOYER Pascal","DEREUDDRE Dominique","G",1,0,100,85,"2018-03-10","T4 Qualifications R1 CD59 - CONSOLANTE - VILLENEUVE D'ASCQ","Qualifications","2017-2018",null,null,null,null,0,null,0]
["NOYER Pascal","DUTAILLY Michel","P",0,1,97,100,"2018-03-10","T4 Qualifications R1 CD59 - CONSOLANTE - VILLENEUVE D'ASCQ","Qualifications","2017-2018",null,null,null,null,0,null,0]
["NOYER Pascal","DUTAILLY Michel","P",0,0,0,0,"2018-03-10","T4 Qualifications R1 CD59 - CONSOLANTE - VILLENEUVE D'ASCQ","1/2 Finale","2017-2018",null,null,null,null,0,null,0]
["NOYER Pascal","PARISIS Francis","G",1,0,100,59,"2018-03-10","T4 Qualifications R1 CD59 - CONSOLANTE - VILLENEUVE D'ASCQ","Qualifications","2017-2018",null,null,null,null,0,null,0]
["NOYER Pascal","VEREECQUE Bernard","G",1,0,100,83,"2018-03-10","T4 Qualifications R1 CD59 - CONSOLANTE - VILLENEUVE D'ASCQ","Qualifications","2017-2018",null,null,null,null,0,null,0]
["NOYER Pascal","DUTAILLY Michel","P",0,2,44,120,"2018-03-10","T4 Qualifications R1 CD59 - VILLENEUVE D'ASCQ","Qualifications","2017-2018",null,null,null,null,0,null,0]
["NOYER Pascal","ESTERMANS Bernard","P",0,2,56,120,"2018-03-10","T4 Qualifications R1 CD59 - VILLENEUVE D'ASCQ","Qualifications","2017-2018",null,null,null,null,0,null,0]
["NOYER Pascal","DEREUDDRE Dominique","G",2,1,142,168,"2018-10-20","T1 5Q R2 CD59 - ST POL SUR MER","Qualifications","2018-2019",null,null,null,null,0,null,0]
["NOYER Pascal","DUTAILLY Michel","G",2,1,156,165,"2018-10-20","T1 5Q R2 CD59 - ST POL SUR MER","1/2 Finale","2018-2019",null,null,null,null,0,null,0]
["NOYER Pascal","SZWARC Johann","G",2,1,155,150,"2018-10-20","T1 5Q R2 CD59 - ST POL SUR MER","Qualifications","2018-2019",null,null,null,null,0,null,0]
["NOYER Pascal","VEREECQUE Bernard","P",0,2,76,120,"2018-10-20","T1 5Q R2 CD59 - ST POL SUR MER","Finale","2018-2019",null,null,null,null,0,null,0]
["NOYER Pascal","BEGUIN Jean-Luc","P",1,2,109,147,"2018-11-24","T2 5Q R2 CD59 - GRAVELINES","Qualifications","2018-2019",null,null,null,null,0,null,0]
["NOYER Pascal","DEREUDDRE Dominique","G",2,1,149,152,"2018-11-24","T2 5Q R2 CD59 - GRAVELINES","Finale","2018-2019",null,null,null,null,0,null,0]
["NOYER Pascal","DUTAILLY Michel","G",2,0,120,109,"2018-11-24","T2 5Q R2 CD59 - GRAVELINES","Qualifications","2018-2019",null,null,null,null,0,null,0]
["NOYER Pascal","VEREECQUE Bernard","G",2,0,120,74,"2018-11-24","T2 5Q R2 CD59 - GRAVELINES","1/2 Finale","2018-2019",null,null,null,null,0,null,0]
["NOYER Pascal","DEREUDDRE Dominique","P",1,2,160,159,"2019-03-02","Finale CD59 R2 - GRAVELINES","1/2 Finale","2018-2019",null,null,null,null,0,null,0]
["NOYER Pascal","DUTAILLY Michel","G",2,0,120,70,"2019-03-02","Finale CD59 R2 - GRAVELINES","Qualifications","2018-2019",null,null,null,null,0,null,0]
["NOYER Pascal","SZWARC Patrick","G",2,0,120,78,"2019-03-02","Finale CD59 R2 - GRAVELINES","Qualifications","2018-2019",null,null,null,null,0,null,0]
["NOYER Pascal","SZWARC Johann","G",1,0,100,85,"2019-10-26","T1 5Q R1 CD59 - CONSOLANTE - - VILLENEUVE D'ASCQ","Qualifications","2019-2020",null,null,null,null,0,null,0]
["NOYER Pascal","SZWARC Johann","G",1,0,100,91,"2019-10-26","T1 5Q R1 CD59 - CONSOLANTE - - VILLENEUVE D'ASCQ","Qualifications","2019-2020",null,null,null,null,0,null,0]
["NOYER Pascal","CAUX Frédéric","P",0,2,85,120,"2019-10-26","T1 5Q R1 CD59 - VILLENEUVE D'ASCQ","Qualifications","2019-2020",null,null,null,null,0,null,0]
["NOYER Pascal","VEREECQUE Bernard","P",1,2,166,173,"2019-10-26","T1 5Q R1 CD59 - VILLENEUVE D'ASCQ","Qualifications","2019-2020",null,null,null,null,0,null,0]
["NOYER Pascal","DEREUDDRE Dominique","P",0,1,77,100,"2019-11-24","T2 5Q R1 CD59  - GRAVELINES - CONSOLANTE","Qualifications","2019-2020",null,null,null,null,0,null,0]
["NOYER Pascal","DEREUDDRE Dominique","G",1,0,100,85,"2019-11-24","T2 5Q R1 CD59  - GRAVELINES - CONSOLANTE","1/2 Finale","2019-2020",null,null,null,null,0,null,0]
["NOYER Pascal","SZWARC Johann","G",1,0,100,57,"2019-11-24","T2 5Q R1 CD59  - GRAVELINES - CONSOLANTE","Qualifications","2019-2020",null,null,null,null,0,null,0]
["NOYER Pascal","VEREECQUE Esteban","G",1,0,100,77,"2019-11-24","T2 5Q R1 CD59  - GRAVELINES - CONSOLANTE","Qualifications","2019-2020",null,null,null,null,0,null,0]
["NOYER Pascal","WASYLYSZYN Jean-Pierre","G",1,0,100,35,"2019-11-24","T2 5Q R1 CD59  - GRAVELINES - CONSOLANTE","Qualifications","2019-2020",null,null,null,null,0,null,0]
["NOYER Pascal","DUTAILLY Michel","P",1,2,154,153,"2019-11-24","T2 5Q R1 CD59 - GRAVELINES ","Qualifications","2019-2020",null,null,null,null,0,null,0]
["NOYER Pascal","LORTHIOIR Jean-Luc","P",0,2,87,120,"2019-11-24","T2 5Q R1 CD59 - GRAVELINES ","Qualifications","2019-2020",null,null,null,null,0,null,0]
["NOYER Pascal","MONFLIER Francis","P",1,2,123,171,"2020-01-04","T3 5Q R1 CD59 - GRAVELINES - Convocation 8h30 -","Qualifications","2019-2020",null,null,null,null,0,null,0]
["NOYER Pascal","MONFLIER Francis","P",0,2,73,120,"2020-01-04","T3 5Q R1 CD59 - GRAVELINES - Convocation 8h30 -","1/4 Finale","2019-2020",null,null,null,null,0,null,0]
["NOYER Pascal","VEREECQUE Esteban","G",2,0,120,44,"2020-01-04","T3 5Q R1 CD59 - GRAVELINES - Convocation 8h30 -","Qualifications","2019-2020",null,null,null,null,0,null,0]
["NOYER Pascal","LECROART Serge","P",0,1,60,100,"2020-02-22","T4 5Q R1 CD59 - ANNOEULLIN - CONSOLANTE","Qualifications","2019-2020",null,null,null,null,0,null,0]
["NOYER Pascal","SZWARC Patrick","G",1,0,100,83,"2020-02-22","T4 5Q R1 CD59 - ANNOEULLIN - CONSOLANTE","1/2 Finale","2019-2020",null,null,null,null,0,null,0]
["NOYER Pascal","VEREECQUE Esteban","G",1,0,100,38,"2020-02-22","T4 5Q R1 CD59 - ANNOEULLIN - CONSOLANTE","Qualifications","2019-2020",null,null,null,null,0,null,0]
["NOYER Pascal","LECROART Serge","G",2,1,138,154,"2020-02-22","T4 5Q R1 CD59 - ANNOEULLIN","Qualifications","2019-2020",null,null,null,null,0,null,0]
["NOYER Pascal","MONFLIER Francis","P",0,2,91,120,"2020-02-22","T4 5Q R1 CD59 - ANNOEULLIN","Qualifications","2019-2020",null,null,null,null,0,null,0]
["NOYER Pascal","DUC Stéphane","G",1,0,100,75,"2021-10-16","T1 5Q R1 - VILLENEUVE D'ASCQ","Qualifications","2021-2022",null,null,null,null,1,null,0]
["NOYER Pascal","HOCHART James","P",0,1,95,100,"2021-10-16","T1 5Q R1 - VILLENEUVE D'ASCQ","1/4 Finale","2021-2022",null,null,null,null,0,null,0]
["NOYER Pascal","LE GOHEBEL Jacques","G",1,0,100,91,"2021-10-16","T1 5Q R1 - VILLENEUVE D'ASCQ","Qualifications","2021-2022",null,null,null,null,1,null,0]
["NOYER Pascal","BELLENS Antoine","P",0,1,90,100,"2022-02-26","T3 5Q R1 - GRAVELINES ","Qualifications","2021-2022",null,null,null,null,0,null,0]
["NOYER Pascal","BELLENS Antoine","P",0,1,90,100,"2022-02-26","T3 5Q R1 - GRAVELINES ","1/4 Finale","2021-2022",null,null,null,null,0,null,0]
["NOYER Pascal","SZWARC Johann","G",1,0,100,55,"2022-02-26","T3 5Q R1 - GRAVELINES ","Qualifications","2021-2022",null,null,null,null,1,null,0]
["NOYER Pascal","BLONDEL Jean","G",1,0,100,85,"2022-04-02","T4 5Q R1 - ANNOEULLIN - CONSOLANTE","Qualifications","2021-2022",null,null,null,null,1,null,0]
["NOYER Pascal","MACAREZ Guy","P",0,1,86,100,"2022-04-02","T4 5Q R1 - ANNOEULLIN - CONSOLANTE","Qualifications","2021-2022",null,null,null,null,0,null,0]
["NOYER Pascal","WALGRAEF Pascal","G",1,0,100,53,"2022-04-02","T4 5Q R1 - ANNOEULLIN - CONSOLANTE","Qualifications","2021-2022",null,null,null,null,1,null,0]
["NOYER Pascal","BEGHIN Benjamin","P",0,1,62,100,"2022-04-02","T4 5Q R1 - ANNOEULLIN","Qualifications","2021-2022",null,null,null,null,0,null,0]
["NOYER Pascal","BERRIER François","G",1,0,100,98,"2022-04-02","T4 5Q R1 - ANNOEULLIN","Qualifications","2021-2022",null,null,null,null,1,null,0]
["NOYER Pascal","DUC Stéphane","P",0,1,91,100,"2022-09-24","T1 5Q R1 - VILLENEUVE D'ASCQ - CONVOCATION 8h30","Qualifications","2022-2023",null,null,null,null,0,null,0]
["NOYER Pascal","DUC Stéphane","P",0,1,83,100,"2022-09-24","T1 5Q R1 - VILLENEUVE D'ASCQ - CONVOCATION 8h30","1/2 Finale","2022-2023",null,null,null,null,0,null,0]
["NOYER Pascal","LE GOHEBEL Jacques","G",1,0,100,60,"2022-09-24","T1 5Q R1 - VILLENEUVE D'ASCQ - CONVOCATION 8h30","Qualifications","2022-2023",null,null,null,null,0,null,1]
["NOYER Pascal","LE GOHEBEL Jacques","P",0,1,72,100,"2022-09-24","T1 5Q R1 - VILLENEUVE D'ASCQ - CONVOCATION 8h30","3ème 4ème place","2022-2023",null,null,null,null,0,null,0]
["NOYER Pascal","SZWARC Johann","P",0,1,63,100,"2022-09-24","T1 5Q R1 - VILLENEUVE D'ASCQ - CONVOCATION 8h30","Qualifications","2022-2023",null,null,null,null,{"$f":"IF($K80=P$1,COUNTIF($C80,\"G\"),0)","v":0},null,{"$f":"IF($K80=R$1,COUNTIF($C80,\"G\"),0)","v":0}]
["NOYER Pascal","DUC Stéphane","G",1,0,100,86,"2023-02-04","T3 5Q R1 - GRAVELINES","Qualifications","2022-2023",null,null,null,null,0,null,1]
["NOYER Pascal","LECROART Serge","P",0,1,65,100,"2023-02-04","T3 5Q R1 - GRAVELINES","Finale","2022-2023",null,null,null,null,0,null,0]
["NOYER Pascal","MANTEN Paul","G",1,0,100,93,"2023-02-04","T3 5Q R1 - GRAVELINES","Qualifications","2022-2023",null,null,null,null,0,null,1]
["NOYER Pascal","PAILLARD Bertrand","G",1,0,100,68,"2023-02-04","T3 5Q R1 - GRAVELINES","1/2 Finale","2022-2023",null,null,null,null,0,null,1]
["NOYER Pascal","PARENT Jean-René","G",1,0,100,93,"2023-02-04","T3 5Q R1 - GRAVELINES","1/4 Finale","2022-2023",null,null,null,null,0,null,1]
["Fin des données",null,null,null,null,null,null,null,null,null,"",null,null,null,null,{"$f":"IF($K86=P$1,COUNTIF($C86,\"G\"),0)","v":0},null,{"$f":"IF($K86=R$1,COUNTIF($C86,\"G\"),0)","v":0}]

{"sheet":"PAILLARD Bertrand","index":122,"n_rows":103,"n_cols":22,"rows_kept":103,"cut":false,"hidden":false,"merged":[]}
["PAILLARD Bertrand",null,null,null,null,null,null,null,null,null,null,null,null,null,null,{"$f":"SaisonDeb","v":"2021-2022"},null,{"$f":"SaisonFin","v":"2022-2023"},null,"Toutes saisons"]
[{"$error":"#N/A"},null,null,null,null,null,null,null,null,null,null,null,null,null,null,"Nombre","%age","Nombre","%age","Nombre","%age"]
[{"$error":"#N/A"},null,null,null,null,null,null,null,null,null,null,null,null,"Matchs","Gagnés",{"$f":"SUM(P$15:P$199)","v":0},{"$f":"IF(P$3+P$4>0,P3/(P$3+P$4),\"\")","v":""},{"$f":"SUM(R$15:R$199)","v":9},{"$f":"IF(R$3+R$4>0,R3/(R$3+R$4),\"\")","v":0.69230769230769229},{"$f":"COUNTIF($C$15:$C$199,\"G\")","v":55},{"$f":"IF(T$3+T$4>0,T3/(T$3+T$4),\"\")","v":0.63218390804597702}]
[{"$error":"#N/A"},null,null,null,null,null,null,null,null,null,null,null,null,null,"Perdus",{"$f":"COUNTIF($K$15:$M$199,SaisonDeb)-P3","v":0},{"$f":"IF(P$3+P$4>0,P4/(P$3+P$4),\"\")","v":""},{"$f":"COUNTIF($K$15:$K$199,SaisonFin)-R3","v":4},{"$f":"IF(R$3+R$4>0,R4/(R$3+R$4),\"\")","v":0.30769230769230771},{"$f":"COUNTIF($C$15:$C$199,\"P\")","v":32},{"$f":"IF(T$3+T$4>0,T4/(T$3+T$4),\"\")","v":0.36781609195402298}]
[{"$error":"#N/A"},null,null,null,null,null,null,null,null,null,null,null,null,null,"Total / Moy.",{"$f":"SUM(P3:P4)","v":0},{"$f":"IF(SUMIF($K$15:$K$199,SaisonDeb,$G$15:$G$199)>0,SUMIF($K$15:$K$199,SaisonDeb,$F$15:$F$199)/SUMIF($K$15:$K$199,SaisonDeb,$G$15:$G$199),\"\")","v":""},{"$f":"SUM(R3:R4)","v":13},{"$f":"IF(SUMIF($K$15:$K$199,SaisonFin,$G$15:$G$199)>0,SUMIF($K$15:$K$199,SaisonFin,$F$15:$F$199)/SUMIF($K$15:$K$199,SaisonFin,$G$15:$G$199),\"\")","v":1.0981996726677579},{"$f":"SUM(T3:T4)","v":87},{"$f":"IF(SUM($G$15:$G$199)>0,SUM($F$15:$F$199)/SUM($G$15:$G$199),\"\")","v":1.0772630834512023},{"$f":"IF(SUMIF($K$15:$K$103,SaisonDeb,$G$15:$G$103)+SUMIF($K$15:$K$103,SaisonFin,$G$15:$G$103)>0,(SUMIF($K$15:$K$103,SaisonDeb,$F$15:$F$103)+SUMIF($K$15:$K$103,SaisonFin,$F$15:$F$103))/(SUMIF($K$15:$K$103,SaisonDeb,$G$15:$G$103)+SUMIF($K$15:$K$103,SaisonFin,$G$15:$G$103)),\"\")","v":1.0981996726677579}]
[null,null,null,null,null,null,null,null,null,null,null,null,null,"Sets","Gagnés",{"$f":"SUMIF($K$15:$K$199,SaisonDeb,$D$15:$D$199)","v":0},{"$f":"IF(P$6+P$7>0,P6/(P$6+P$7),\"\")","v":""},{"$f":"SUMIF($K$15:$K$199,SaisonFin,$D$15:$D$199)","v":12},{"$f":"IF(R$6+R$7>0,R6/(R$6+R$7),\"\")","v":0.63157894736842102},{"$f":"SUM($D$15:$D$199)","v":129},{"$f":"IF(T$6+T$7>0,T6/(T$6+T$7),\"\")","v":0.58371040723981904}]
[null,null,null,null,null,null,null,null,null,null,null,null,null,null,"Perdus",{"$f":"SUMIF($K$15:$K$199,SaisonDeb,$E$15:$E$199)","v":0},{"$f":"IF(P$6+P$7>0,P7/(P$6+P$7),\"\")","v":""},{"$f":"SUMIF($K$15:$K$199,SaisonFin,$E$15:$E$199)","v":7},{"$f":"IF(R$6+R$7>0,R7/(R$6+R$7),\"\")","v":0.36842105263157893},{"$f":"SUM($E$15:$E$199)","v":92},{"$f":"IF(T$6+T$7>0,T7/(T$6+T$7),\"\")","v":0.41628959276018102}]
["Récapitulatif joueurs",null,null,null,null,null,null,null,null,null,null,null,null,null,"Total",{"$f":"SUM(P6:P7)","v":0},null,{"$f":"SUM(R6:R7)","v":19},null,{"$f":"SUM(T6:T7)","v":221}]
[]
[]
[]
[]
[]
[]
["Joueur","Adversaire","G/P","Sets gagnés","Sets perdus","pts marqués","pts subis","Date","Compétition","Phase","Saison"]
["PAILLARD Bertrand","PARISIS Francis","G",2,1,164,130,"2014-02-22","R1 CD59 T2 GRANDE SYNTHE","Poules",{"$f":"IF(H16<>\"\",IF(MONTH(H16)>MoisRef,YEAR(H16)&\"-\"&YEAR(H16)+1,YEAR(H16)-1&\"-\"&YEAR(H16)),\"\")","v":"2013-2014"},null,null,null,null,{"$f":"IF($K16=P$1,COUNTIF($C16,\"G\"),0)","v":0},null,{"$f":"IF($K16=R$1,COUNTIF($C16,\"G\"),0)","v":0}]
["PAILLARD Bertrand","MANTEN Paul","G",2,1,171,166,"2014-02-22","R1 CD59 T2 GRANDE SYNTHE","Poules","2013-2014",null,null,null,null,0,null,0]
["PAILLARD Bertrand","VEREECQUE Bernard","P",1,2,147,177,"2014-02-22","R1 CD59 T2 GRANDE SYNTHE","1/4 Finale","2013-2014",null,null,null,null,0,null,0]
["PAILLARD Bertrand","PARISIS Francis","G",1,0,100,79,"2014-02-23","R1 CD59 T2 GRANDE SYNTHE","Consolante","2013-2014",null,null,null,null,0,null,0]
["PAILLARD Bertrand","LANVIN Jean-Luc","G",1,0,100,83,"2014-02-27","R1 CD59 T2 GRANDE SYNTHE","Consolante","2013-2014",null,null,null,null,0,null,0]
["PAILLARD Bertrand","HERREBRECHT Erian","G",2,0,120,53,"2015-01-17","R1 CD59 T1 ST POL sur MER","Poules","2014-2015",null,null,null,null,0,null,0]
["PAILLARD Bertrand","MONFLIER Francis","P",0,2,63,120,"2015-01-17","R1 CD59 T1 ST POL sur MER","Poules","2014-2015",null,null,null,null,0,null,0]
["PAILLARD Bertrand","HINGRAND Tony","P",0,2,93,120,"2015-01-17","R1 CD59 T1 ST POL sur MER","1/4 Finale","2014-2015",null,null,null,null,0,null,0]
["PAILLARD Bertrand","VEREECQUE Bernard","G",1,0,100,68,"2015-02-07","R1 CD59 T2 GRAVELINES","Poules Consolante","2014-2015",null,null,null,null,0,null,0]
["PAILLARD Bertrand","PARISIS Francis","G",1,0,100,40,"2015-02-07","R1 CD59 T2 GRAVELINES","Poules Consolante","2014-2015",null,null,null,null,0,null,0]
["PAILLARD Bertrand","VERPOORT José","P",0,1,90,100,"2015-02-07","R1 CD59 T2 GRAVELINES","Finale Consolante","2014-2015",null,null,null,null,0,null,0]
["PAILLARD Bertrand","DELATTRE Gregory","P",1,2,148,144,"2015-02-07","R1 CD59 T2 GRAVELINES","Poules","2014-2015",null,null,null,null,0,null,0]
["PAILLARD Bertrand","LECROART Serge","P",1,2,122,176,"2015-02-07","R1 CD59 T2 GRAVELINES","Poules","2014-2015",null,null,null,null,0,null,0]
["PAILLARD Bertrand","HERREBRECHT Erian","G",2,1,141,138,"2015-03-14","R1 CD59 T3 VILLENEUVE D'ASCQ","Poules","2014-2015",null,null,null,null,0,null,0]
["PAILLARD Bertrand","LECROART Serge","G",2,1,161,139,"2015-03-14","R1 CD59 T3 VILLENEUVE D'ASCQ","Poules","2014-2015",null,null,null,null,0,null,0]
["PAILLARD Bertrand","VEREECQUE Bernard","G",2,0,120,61,"2015-03-14","R1 CD59 T3 VILLENEUVE D'ASCQ","1/4 Finale","2014-2015",null,null,null,null,0,null,0]
["PAILLARD Bertrand","MONFLIER Francis","P",0,2,95,120,"2015-03-14","R1 CD59 T3 VILLENEUVE D'ASCQ","1/2 Finale","2014-2015",null,null,null,null,0,null,0]
["PAILLARD Bertrand","HINGRAND Tony","P",0,3,132,180,"2015-04-05","FINALE CD59 R1 FACHES THUMESNIL","Poules","2014-2015",null,null,null,null,0,null,0]
["PAILLARD Bertrand","LECROART Serge","G",3,1,225,183,"2015-04-05","FINALE CD59 R1 FACHES THUMESNIL","Poules","2014-2015",null,null,null,null,0,null,0]
["PAILLARD Bertrand","ST MAXENT Stéphane","P",0,0,0,0,"2015-04-05","FINALE CD59 R1 FACHES THUMESNIL","5ème 6ème","2014-2015",null,null,null,null,0,null,0]
["PAILLARD Bertrand","HOCHART James","G",2,0,120,82,"2015-12-05","T1 CD59 5 QUILLES R1 - VILLENEUVE D'ASCQ","Qualifications","2015-2016",null,null,null,null,0,null,0]
["PAILLARD Bertrand","HOCHART James","G",2,0,120,64,"2015-12-05","T1 CD59 5 QUILLES R1 - VILLENEUVE D'ASCQ","Qualifications","2015-2016",null,null,null,null,0,null,0]
["PAILLARD Bertrand","MONFLIER Francis","G",2,1,144,146,"2015-12-05","T1 CD59 5 QUILLES R1 - VILLENEUVE D'ASCQ","1/4 Finale","2015-2016",null,null,null,null,0,null,0]
["PAILLARD Bertrand","ST MAXENT Stéphane","G",2,0,120,74,"2015-12-05","T1 CD59 5 QUILLES R1 - VILLENEUVE D'ASCQ","1/2 Finale","2015-2016",null,null,null,null,0,null,0]
["PAILLARD Bertrand","HOCHART James","G",2,0,120,89,"2015-12-05","T1 CD59 5 QUILLES R1 - VILLENEUVE D'ASCQ","Finale","2015-2016",null,null,null,null,0,null,0]
["PAILLARD Bertrand","ESTERMANS Bernard","G",2,1,179,146,"2016-01-23","T3 CD59 5 QUILLES R1 - ST POL SUR MER","Qualifications","2015-2016",null,null,null,null,0,null,0]
["PAILLARD Bertrand","HERREBRECHT Emerick","P",0,2,88,120,"2016-01-23","T3 CD59 5 QUILLES R1 - ST POL SUR MER","1/2 Finale","2015-2016",null,null,null,null,0,null,0]
["PAILLARD Bertrand","HOCHART James","G",2,1,174,113,"2016-01-23","T3 CD59 5 QUILLES R1 - ST POL SUR MER","Qualifications","2015-2016",null,null,null,null,0,null,0]
["PAILLARD Bertrand","ST MAXENT Stéphane","G",2,0,120,84,"2016-01-23","T3 CD59 5 QUILLES R1 - ST POL SUR MER","1/4 Finale","2015-2016",null,null,null,null,0,null,0]
["PAILLARD Bertrand","ESTERMANS Bernard","G",3,1,238,194,"2016-03-26","Finale CD59 5 QUILLES R1 - GRAVELINES","Qualifications","2015-2016",null,null,null,null,0,null,0]
["PAILLARD Bertrand","HERREBRECHT Emerick","P",1,3,151,229,"2016-03-26","Finale CD59 5 QUILLES R1 - GRAVELINES","Finale","2015-2016",null,null,null,null,0,null,0]
["PAILLARD Bertrand","HERREBRECHT Erian","G",3,2,273,246,"2016-03-26","Finale CD59 5 QUILLES R1 - GRAVELINES","Qualifications","2015-2016",null,null,null,null,0,null,0]
["PAILLARD Bertrand","ST MAXENT Stéphane","G",3,0,180,140,"2016-03-26","Finale CD59 5 QUILLES R1 - GRAVELINES","1/2 Finale","2015-2016",null,null,null,null,0,null,0]
["PAILLARD Bertrand","WASYLYSZYN Jean-pierre","G",2,0,120,76,"2016-01-09","T2 CD59 5 QUILLES R1 - DUNKERQUE","Qualifications","2015-2016",null,null,null,null,0,null,0]
["PAILLARD Bertrand","VEREECQUE Bernard","G",2,1,177,157,"2016-01-09","T2 CD59 5 QUILLES R1 - DUNKERQUE","Qualifications","2015-2016",null,null,null,null,0,null,0]
["PAILLARD Bertrand","MONFLIER Francis","P",1,2,164,176,"2016-01-09","T2 CD59 5 QUILLES R1 - DUNKERQUE","1/4 Finale","2015-2016",null,null,null,null,0,null,0]
["PAILLARD Bertrand","HERREBRECHT Emerick","G",3,0,180,127,"2016-04-24","5Q R1 - Finale LIGUE Nord-Pas de Calais - CUCQ","Qualifications","2015-2016",null,null,null,null,0,null,0]
["PAILLARD Bertrand","HERREBRECHT Erian","P",1,3,194,233,"2016-04-24","5Q R1 - Finale LIGUE Nord-Pas de Calais - CUCQ","1/2 Finale","2015-2016",null,null,null,null,0,null,0]
["PAILLARD Bertrand","TRIPLET Gilbert","G",3,1,216,190,"2016-04-24","5Q R1 - Finale LIGUE Nord-Pas de Calais - CUCQ","Qualifications","2015-2016",null,null,null,null,0,null,0]
["PAILLARD Bertrand","RAOULT Damien","P",2,3,199,236,"2016-04-24","5Q R1 - Finale LIGUE Nord-Pas de Calais - CUCQ","3ème - 4ème","2015-2016",null,null,null,null,0,null,0]
["PAILLARD Bertrand","BEGHIN Benjamin","G",2,1,164,155,"2016-01-14","T1 Qualifications CD59 R1 - DUNKERQUE","Qualifications","2015-2016",null,null,null,null,0,null,0]
["PAILLARD Bertrand","DELATTRE Gregory","P",1,2,131,157,"2016-01-14","T1 Qualifications CD59 R1 - DUNKERQUE","Qualifications","2015-2016",null,null,null,null,0,null,0]
["PAILLARD Bertrand","VEREECQUE Bernard","P",0,2,81,120,"2016-01-14","T1 Qualifications CD59 R1 - DUNKERQUE","1/4 Finale","2015-2016",null,null,null,null,0,null,0]
["PAILLARD Bertrand","DUTAILLY Michel","G",2,1,160,131,"2017-02-25","T2 CD59 R1 - CONSOLANTE - VILLENEUVE D'ASCQ","Qualifications","2016-2017",null,null,null,null,0,null,0]
["PAILLARD Bertrand","ESTERMANS Bernard","P",0,2,54,120,"2017-02-25","T2 CD59 R1 - CONSOLANTE - VILLENEUVE D'ASCQ","Qualifications","2016-2017",null,null,null,null,0,null,0]
["PAILLARD Bertrand","VEREECQUE Bernard","P",1,2,121,158,"2017-02-25","T2 Qualifications CD59 R1 - VILLENEUVE D'ASCQ","Qualifications","2016-2017",null,null,null,null,0,null,0]
["PAILLARD Bertrand","VEREECQUE Bernard","G",2,1,170,150,"2017-02-25","T2 Qualifications CD59 R1 - VILLENEUVE D'ASCQ","Qualifications","2016-2017",null,null,null,null,0,null,0]
["PAILLARD Bertrand","BEGHIN Nicolas","P",1,2,156,162,"2017-03-11","T3 Qualifications CD59 R1 - ST POL SUR MER","1/4 Finale","2016-2017",null,null,null,null,0,null,0]
["PAILLARD Bertrand","DUTAILLY Michel","G",2,0,120,75,"2017-03-11","T3 Qualifications CD59 R1 - ST POL SUR MER","Qualifications","2016-2017",null,null,null,null,0,null,0]
["PAILLARD Bertrand","MONFLIER Francis","G",2,0,120,83,"2017-03-11","T3 Qualifications CD59 R1 - ST POL SUR MER","Qualifications","2016-2017",null,null,null,null,0,null,0]
["PAILLARD Bertrand","BEGHIN Nicolas","P",0,3,129,180,"2017-03-19","FINALE CD59 R1 - ST POL SUR MER","1/2 Finale","2016-2017",null,null,null,null,0,null,0]
["PAILLARD Bertrand","ESTERMANS Bernard","G",3,0,180,162,"2017-03-19","FINALE CD59 R1 - ST POL SUR MER","Qualifications","2016-2017",null,null,null,null,0,null,0]
["PAILLARD Bertrand","VEREECQUE Bernard","G",3,0,180,166,"2017-03-19","FINALE CD59 R1 - ST POL SUR MER","Qualifications","2016-2017",null,null,null,null,0,null,0]
["PAILLARD Bertrand","BEGHIN Nicolas","G",2,1,167,131,"2018-10-20","T1 5Q R1 CD59 - DUNKERQUE","Qualifications","2018-2019",null,null,null,null,0,null,0]
["PAILLARD Bertrand","BEGHIN Nicolas","G",2,1,166,128,"2018-10-20","T1 5Q R1 CD59 - DUNKERQUE","Finale","2018-2019",null,null,null,null,0,null,0]
["PAILLARD Bertrand","ESTERMANS Bernard","G",2,1,176,133,"2018-10-20","T1 5Q R1 CD59 - DUNKERQUE","1/2 Finale","2018-2019",null,null,null,null,0,null,0]
["PAILLARD Bertrand","LORTHIOIR Jean-Luc","G",2,0,120,112,"2018-10-20","T1 5Q R1 CD59 - DUNKERQUE","Qualifications","2018-2019",null,null,null,null,0,null,0]
["PAILLARD Bertrand","MONFLIER Francis","P",1,2,145,157,"2018-11-24","T2 5Q R1 CD59  - DOUAI","1/2 Finale","2018-2019",null,null,null,null,0,null,0]
["PAILLARD Bertrand","CAUX Frédéric","P",0,2,93,120,"2018-12-16","T3 5Q R1 CD59  - DUNKERQUE","Finale","2018-2019",null,null,null,null,0,null,0]
["PAILLARD Bertrand","KERKHOF Hervé","G",2,0,120,79,"2018-12-16","T3 5Q R1 CD59  - DUNKERQUE","Qualifications","2018-2019",null,null,null,null,0,null,0]
["PAILLARD Bertrand","LECROART Serge","G",2,1,159,126,"2018-12-16","T3 5Q R1 CD59  - DUNKERQUE","1/2 Finale","2018-2019",null,null,null,null,0,null,0]
["PAILLARD Bertrand","LORTHIOIR Jean-Luc","G",2,0,120,108,"2018-12-16","T3 5Q R1 CD59  - DUNKERQUE","Qualifications","2018-2019",null,null,null,null,0,null,0]
["PAILLARD Bertrand","LORTHIOIR Jean-Luc","P",0,2,56,120,"2019-01-19","T4 5Q R1 CD59  - VILLENEUVE D'ASCQ","Qualifications","2018-2019",null,null,null,null,0,null,0]
["PAILLARD Bertrand","MANTEN Paul","P",1,2,150,162,"2019-01-19","T4 5Q R1 CD59  - VILLENEUVE D'ASCQ","Qualifications","2018-2019",null,null,null,null,0,null,0]
["PAILLARD Bertrand","BEGHIN Nicolas","G",1,0,100,78,"2019-01-19","T4 5Q R1 CD59  - VILLENEUVE D'ASCQ - CONSOLANTE -","Qualifications","2018-2019",null,null,null,null,0,null,0]
["PAILLARD Bertrand","HOCHART James","P",0,1,77,100,"2019-01-19","T4 5Q R1 CD59  - VILLENEUVE D'ASCQ - CONSOLANTE -","Qualifications","2018-2019",null,null,null,null,0,null,0]
["PAILLARD Bertrand","BEGHIN Nicolas","G",2,1,176,172,"2019-03-02","Finale CD59 R1 - GRAVELINES","Qualifications","2018-2019",null,null,null,null,0,null,0]
["PAILLARD Bertrand","CAUX Frédéric","G",3,1,221,163,"2019-03-02","Finale CD59 R1 - GRAVELINES","Finale","2018-2019",null,null,null,null,0,null,0]
["PAILLARD Bertrand","ESTERMANS Bernard","P",1,2,139,136,"2019-03-02","Finale CD59 R1 - GRAVELINES","Qualifications","2018-2019",null,null,null,null,0,null,0]
["PAILLARD Bertrand","LORTHIOIR Jean-Luc","G",3,2,285,236,"2019-03-02","Finale CD59 R1 - GRAVELINES","1/2 Finale","2018-2019",null,null,null,null,0,null,0]
["PAILLARD Bertrand","CHAIGNES Gilles","P",2,3,255,255,"2019-03-17","FINALE LIGUE R1 - WIMILLE","Poule unique","2018-2019",null,null,null,null,0,null,0]
["PAILLARD Bertrand","DELFOSSE Fabien","G",3,2,278,250,"2019-03-17","FINALE LIGUE R1 - WIMILLE","Poule unique","2018-2019",null,null,null,null,0,null,0]
["PAILLARD Bertrand","MONTADOR Ludovic","G",3,0,180,85,"2019-03-17","FINALE LIGUE R1 - WIMILLE","Poule unique","2018-2019",null,null,null,null,0,null,0]
["PAILLARD Bertrand","STEINMANN Sebastien","P",2,3,226,221,"2019-03-17","FINALE LIGUE R1 - WIMILLE","Poule unique","2018-2019",null,null,null,null,0,null,0]
["PAILLARD Bertrand","HOCHART James","P",0,2,99,120,"2023-04-16","Finale CD59 5Q R1 - RONCHIN","Qualifications","2022-2023",null,null,null,null,0,null,0]
["PAILLARD Bertrand","HOCHART James","P",1,2,144,177,"2023-04-16","Finale CD59 5Q R1 - RONCHIN","Finale","2022-2023",null,null,null,null,0,null,0]
["PAILLARD Bertrand","PARENT Jean-René","G",2,1,151,137,"2023-04-16","Finale CD59 5Q R1 - RONCHIN","1/2 Finale","2022-2023",null,null,null,null,0,null,1]
["PAILLARD Bertrand","SZWARC Johann","G",2,0,120,114,"2023-04-16","Finale CD59 5Q R1 - RONCHIN","Qualifications","2022-2023",null,null,null,null,0,null,1]
["PAILLARD Bertrand","CAVITTE Jean-Pierre","G",1,0,100,67,"2022-10-30","T2 5Q R1 - GRAVELINES","Qualifications","2022-2023",null,null,null,null,0,null,1]
["PAILLARD Bertrand","HOCHART James","G",1,0,100,64,"2022-10-30","T2 5Q R1 - GRAVELINES","Finale","2022-2023",null,null,null,null,0,null,1]
["PAILLARD Bertrand","KERKHOF Hervé","P",0,1,60,100,"2022-10-30","T2 5Q R1 - GRAVELINES","Qualifications","2022-2023",null,null,null,null,0,null,0]
["PAILLARD Bertrand","KERKHOF Hervé","G",1,0,100,93,"2022-10-30","T2 5Q R1 - GRAVELINES","1/4 Finale","2022-2023",null,null,null,null,0,null,1]
["PAILLARD Bertrand","LE GOHEBEL Jacques","G",1,0,100,83,"2022-10-30","T2 5Q R1 - GRAVELINES","1/2 Finale","2022-2023",null,null,null,null,0,null,1]
["PAILLARD Bertrand","HOCHART James","G",1,0,100,61,"2023-02-04","T3 5Q R1 - GRAVELINES","Qualifications","2022-2023",null,null,null,null,0,null,1]
["PAILLARD Bertrand","HOCHART James","G",1,0,100,78,"2023-02-04","T3 5Q R1 - GRAVELINES","1/4 Finale","2022-2023",null,null,null,null,0,null,1]
["PAILLARD Bertrand","LEVECQUE Jean-Bernard","G",1,0,100,28,"2023-02-04","T3 5Q R1 - GRAVELINES","Qualifications","2022-2023",null,null,null,null,0,null,1]
["PAILLARD Bertrand","NOYER Pascal","P",0,1,68,100,"2023-02-04","T3 5Q R1 - GRAVELINES","1/2 Finale","2022-2023",null,null,null,null,0,null,0]
["Fin des données",null,null,null,null,null,null,null,null,null,"",null,null,null,null,0,null,0]

{"sheet":"PARENT Jean-René","index":123,"n_rows":37,"n_cols":22,"rows_kept":37,"cut":false,"hidden":false,"merged":[]}
["PARENT Jean-René",null,null,null,null,null,null,null,null,null,null,null,null,null,null,{"$f":"SaisonDeb","v":"2021-2022"},null,{"$f":"SaisonFin","v":"2022-2023"},null,"Toutes saisons"]
[{"$error":"#N/A"},null,null,null,null,null,null,null,null,null,null,null,null,null,null,"Nombre","%age","Nombre","%age","Nombre","%age"]
[{"$error":"#N/A"},null,null,null,null,null,null,null,null,null,null,null,null,"Matchs","Gagnés",{"$f":"SUM(P$15:P$133)","v":3},{"$f":"IF(P$3+P$4>0,P3/(P$3+P$4),\"\")","v":0.375},{"$f":"SUM(R$15:R$133)","v":5},{"$f":"IF(R$3+R$4>0,R3/(R$3+R$4),\"\")","v":0.38461538461538464},{"$f":"COUNTIF($C$15:$C$133,\"G\")","v":8},{"$f":"IF(T$3+T$4>0,T3/(T$3+T$4),\"\")","v":0.38095238095238093}]
[{"$error":"#N/A"},null,null,null,null,null,null,null,null,null,null,null,null,null,"Perdus",{"$f":"COUNTIF($K$15:$M$133,SaisonDeb)-P3","v":5},{"$f":"IF(P$3+P$4>0,P4/(P$3+P$4),\"\")","v":0.625},{"$f":"COUNTIF($K$15:$K$133,SaisonFin)-R3","v":8},{"$f":"IF(R$3+R$4>0,R4/(R$3+R$4),\"\")","v":0.61538461538461542},{"$f":"COUNTIF($C$15:$C$133,\"P\")","v":13},{"$f":"IF(T$3+T$4>0,T4/(T$3+T$4),\"\")","v":0.61904761904761907}]
[{"$error":"#N/A"},null,null,null,null,null,null,null,null,null,null,null,null,null,"Total / Moy.",{"$f":"SUM(P3:P4)","v":8},{"$f":"IF(SUMIF($K$15:$K$133,SaisonDeb,$G$15:$G$133)>0,SUMIF($K$15:$K$133,SaisonDeb,$F$15:$F$133)/SUMIF($K$15:$K$133,SaisonDeb,$G$15:$G$133),\"\")","v":0.81233243967828417},{"$f":"SUM(R3:R4)","v":13},{"$f":"IF(SUMIF($K$15:$K$133,SaisonFin,$G$15:$G$133)>0,SUMIF($K$15:$K$133,SaisonFin,$F$15:$F$133)/SUMIF($K$15:$K$133,SaisonFin,$G$15:$G$133),\"\")","v":1.0548054011119936},{"$f":"SUM(T3:T4)","v":21},{"$f":"IF(SUM($G$15:$G$133)>0,SUM($F$15:$F$133)/SUM($G$15:$G$133),\"\")","v":0.96458852867830425},{"$f":"IF(SUMIF($K$15:$K$37,SaisonDeb,$G$15:$G$37)+SUMIF($K$15:$K$37,SaisonFin,$G$15:$G$37)>0,(SUMIF($K$15:$K$37,SaisonDeb,$F$15:$F$37)+SUMIF($K$15:$K$37,SaisonFin,$F$15:$F$37))/(SUMIF($K$15:$K$37,SaisonDeb,$G$15:$G$37)+SUMIF($K$15:$K$37,SaisonFin,$G$15:$G$37)),\"\")","v":0.96458852867830425}]
[null,null,null,null,null,null,null,null,null,null,null,null,null,"Sets","Gagnés",{"$f":"SUMIF($K$15:$K$133,SaisonDeb,$D$15:$D$133)","v":3},{"$f":"IF(P$6+P$7>0,P6/(P$6+P$7),\"\")","v":0.375},{"$f":"SUMIF($K$15:$K$133,SaisonFin,$D$15:$D$133)","v":8},{"$f":"IF(R$6+R$7>0,R6/(R$6+R$7),\"\")","v":0.44444444444444442},{"$f":"SUM($D$15:$D$133)","v":11},{"$f":"IF(T$6+T$7>0,T6/(T$6+T$7),\"\")","v":0.42307692307692307}]
[null,null,null,null,null,null,null,null,null,null,null,null,null,null,"Perdus",{"$f":"SUMIF($K$15:$K$133,SaisonDeb,$E$15:$E$133)","v":5},{"$f":"IF(P$6+P$7>0,P7/(P$6+P$7),\"\")","v":0.625},{"$f":"SUMIF($K$15:$K$133,SaisonFin,$E$15:$E$133)","v":10},{"$f":"IF(R$6+R$7>0,R7/(R$6+R$7),\"\")","v":0.55555555555555558},{"$f":"SUM($E$15:$E$133)","v":15},{"$f":"IF(T$6+T$7>0,T7/(T$6+T$7),\"\")","v":0.57692307692307687}]
["Récapitulatif joueurs",null,null,null,null,null,null,null,null,null,null,null,null,null,"Total",{"$f":"SUM(P6:P7)","v":8},null,{"$f":"SUM(R6:R7)","v":18},null,{"$f":"SUM(T6:T7)","v":26}]
[]
[]
[]
[]
[]
[]
["Joueur","Adversaire","G/P","Sets gagnés","Sets perdus","pts marqués","pts subis","Date","Compétition","Phase","Saison"]
["PARENT Jean-René","DUC Stéphane","P",0,1,82,100,"2022-02-26","T3 5Q R1 - GRAVELINES - CONSOLANTE","Qualifications",{"$f":"IF(H16<>\"\",IF(MONTH(H16)>MoisRef,YEAR(H16)&\"-\"&YEAR(H16)+1,YEAR(H16)-1&\"-\"&YEAR(H16)),\"\")","v":"2021-2022"},null,null,null,null,{"$f":"IF($K16=P$1,COUNTIF($C16,\"G\"),0)","v":0},null,{"$f":"IF($K16=R$1,COUNTIF($C16,\"G\"),0)","v":0}]
["PARENT Jean-René","LE GOHEBEL Jacques","G",1,0,100,84,"2022-02-26","T3 5Q R1 - GRAVELINES - CONSOLANTE","Qualifications","2021-2022",null,null,null,null,1,null,0]
["PARENT Jean-René","KERKHOF Hervé","P",0,1,39,100,"2022-02-26","T3 5Q R1 - GRAVELINES ","Qualifications","2021-2022",null,null,null,null,0,null,0]
["PARENT Jean-René","LORTHIOIR Jean-Luc","G",1,0,100,89,"2022-02-26","T3 5Q R1 - GRAVELINES ","Qualifications","2021-2022",null,null,null,null,1,null,0]
["PARENT Jean-René","BERRIER François","G",1,0,100,73,"2022-04-02","T4 5Q R1 - ANNOEULLIN - CONSOLANTE","Qualifications","2021-2022",null,null,null,null,1,null,0]
["PARENT Jean-René","HOCHART James","P",0,1,78,100,"2022-04-02","T4 5Q R1 - ANNOEULLIN - CONSOLANTE","Qualifications","2021-2022",null,null,null,null,0,null,0]
["PARENT Jean-René","BEGHIN Nicolas","P",0,1,44,100,"2022-04-02","T4 5Q R1 - ANNOEULLIN","Qualifications","2021-2022",null,null,null,null,0,null,0]
["PARENT Jean-René","LECROART Serge","P",0,1,63,100,"2022-04-02","T4 5Q R1 - ANNOEULLIN","Qualifications","2021-2022",null,null,null,null,0,null,0]
["PARENT Jean-René","DUC Stéphane","G",2,1,164,135,"2023-04-16","Finale CD59 5Q R1 - RONCHIN","Qualifications","2022-2023",null,null,null,null,0,null,1]
["PARENT Jean-René","LE GOHEBEL Jacques","G",2,0,120,44,"2023-04-16","Finale CD59 5Q R1 - RONCHIN","Qualifications","2022-2023",null,null,null,null,0,null,1]
["PARENT Jean-René","PAILLARD Bertrand","P",1,2,137,151,"2023-04-16","Finale CD59 5Q R1 - RONCHIN","1/2 Finale","2022-2023",null,null,null,null,0,null,0]
["PARENT Jean-René","MACAREZ Guy","P",0,1,96,100,"2022-10-30","T2 5Q R1 - GRAVELINES","Qualifications","2022-2023",null,null,null,null,0,null,0]
["PARENT Jean-René","SZWARC Johann","P",0,1,74,100,"2022-10-30","T2 5Q R1 - GRAVELINES","Qualifications","2022-2023",null,null,null,null,0,null,0]
["PARENT Jean-René","BERRIER François","P",0,1,94,100,"2022-10-30","T2 5Q R1 - GRAVELINES - CONSOLANTE","Qualifications","2022-2023",null,null,null,null,0,null,0]
["PARENT Jean-René","CAVITTE Jean-Pierre","G",1,0,100,70,"2022-10-30","T2 5Q R1 - GRAVELINES - CONSOLANTE","Qualifications","2022-2023",null,null,null,null,0,null,1]
["PARENT Jean-René","MACAREZ Guy","G",1,0,100,85,"2023-02-04","T3 5Q R1 - GRAVELINES","Qualifications","2022-2023",null,null,null,null,0,null,1]
["PARENT Jean-René","NOYER Pascal","P",0,1,93,100,"2023-02-04","T3 5Q R1 - GRAVELINES","1/4 Finale","2022-2023",null,null,null,null,0,null,0]
["PARENT Jean-René","SZWARC Johann","P",0,1,89,100,"2023-02-04","T3 5Q R1 - GRAVELINES","Qualifications","2022-2023",null,null,null,null,0,null,0]
["PARENT Jean-René","LE GOHEBEL Jacques","P",0,1,83,100,"2023-03-04","T4 5Q R1 - DOUAI","Qualifications","2022-2023",null,null,null,null,0,null,0]
["PARENT Jean-René","LE GOHEBEL Jacques","G",1,0,100,74,"2023-03-04","T4 5Q R1 - DOUAI","Qualifications","2022-2023",null,null,null,null,0,null,1]
["PARENT Jean-René","LECROART Serge","P",0,1,78,100,"2023-03-04","T4 5Q R1 - DOUAI","1/2 Finale","2022-2023",null,null,null,null,0,null,0]
["Fin des données",null,null,null,null,null,null,null,null,null,"",null,null,null,null,{"$f":"IF($K37=P$1,COUNTIF($C37,\"G\"),0)","v":0},null,{"$f":"IF($K37=R$1,COUNTIF($C37,\"G\"),0)","v":0}]

{"sheet":"PARISIS Francis","index":124,"n_rows":57,"n_cols":22,"rows_kept":57,"cut":false,"hidden":false,"merged":[]}
["PARISIS Francis",null,null,null,null,null,null,null,null,null,null,null,null,null,null,{"$f":"SaisonDeb","v":"2021-2022"},null,{"$f":"SaisonFin","v":"2022-2023"},null,"Toutes saisons"]
[{"$error":"#N/A"},null,null,null,null,null,null,null,null,null,null,null,null,null,null,"Nombre","%age","Nombre","%age","Nombre","%age"]
[{"$error":"#N/A"},null,null,null,null,null,null,null,null,null,null,null,null,"Matchs","Gagnés",{"$f":"SUM(P$15:P$57)","v":0},{"$f":"IF(P$3+P$4>0,P3/(P$3+P$4),\"\")","v":""},{"$f":"SUM(R$15:R$57)","v":0},{"$f":"IF(R$3+R$4>0,R3/(R$3+R$4),\"\")","v":""},{"$f":"COUNTIF($C$15:$C$57,\"G\")","v":7},{"$f":"IF(T$3+T$4>0,T3/(T$3+T$4),\"\")","v":0.17073170731707318}]
[{"$error":"#N/A"},null,null,null,null,null,null,null,null,null,null,null,null,null,"Perdus",{"$f":"COUNTIF($K$15:$K$57,SaisonDeb)-P3","v":0},{"$f":"IF(P$3+P$4>0,P4/(P$3+P$4),\"\")","v":""},{"$f":"COUNTIF($K$15:$K$57,SaisonFin)-R3","v":0},{"$f":"IF(R$3+R$4>0,R4/(R$3+R$4),\"\")","v":""},{"$f":"COUNTIF($C$15:$C$57,\"P\")","v":34},{"$f":"IF(T$3+T$4>0,T4/(T$3+T$4),\"\")","v":0.82926829268292679}]
[{"$error":"#N/A"},null,null,null,null,null,null,null,null,null,null,null,null,null,"Total / Moy.",{"$f":"SUM(P3:P4)","v":0},{"$f":"IF(SUMIF($K$15:$K$57,SaisonDeb,$G$15:$G$57)>0,SUMIF($K$15:$K$57,SaisonDeb,$F$15:$F$57)/SUMIF($K$15:$K$57,SaisonDeb,$G$15:$G$57),\"\")","v":""},{"$f":"SUM(R3:R4)","v":0},{"$f":"IF(SUMIF($K$15:$K$57,SaisonFin,$G$15:$G$57)>0,SUMIF($K$15:$K$57,SaisonFin,$F$15:$F$57)/SUMIF($K$15:$K$57,SaisonFin,$G$15:$G$57),\"\")","v":""},{"$f":"SUM(T3:T4)","v":41},{"$f":"IF(SUM($G$15:$G$57)>0,SUM($F$15:$F$57)/SUM($G$15:$G$57),\"\")","v":0.7242569511025887},{"$f":"IF(SUMIF($K$15:$K$57,SaisonDeb,$G$15:$G$57)+SUMIF($K$15:$K$57,SaisonFin,$G$15:$G$57)>0,(SUMIF($K$15:$K$57,SaisonDeb,$F$15:$F$57)+SUMIF($K$15:$K$57,SaisonFin,$F$15:$F$57))/(SUMIF($K$15:$K$57,SaisonDeb,$G$15:$G$57)+SUMIF($K$15:$K$57,SaisonFin,$G$15:$G$57)),\"\")","v":""}]
[null,null,null,null,null,null,null,null,null,null,null,null,null,"Sets","Gagnés",{"$f":"SUMIF($K$15:$K$57,SaisonDeb,$D$15:$D$57)","v":0},{"$f":"IF(P$6+P$7>0,P6/(P$6+P$7),\"\")","v":""},{"$f":"SUMIF($K$15:$K$57,SaisonFin,$D$15:$D$57)","v":0},{"$f":"IF(R$6+R$7>0,R6/(R$6+R$7),\"\")","v":""},{"$f":"SUM($D$15:$D$57)","v":22},{"$f":"IF(T$6+T$7>0,T6/(T$6+T$7),\"\")","v":0.2558139534883721}]
[null,null,null,null,null,null,null,null,null,null,null,null,null,null,"Perdus",{"$f":"SUMIF($K$15:$K$57,SaisonDeb,$E$15:$E$57)","v":0},{"$f":"IF(P$6+P$7>0,P7/(P$6+P$7),\"\")","v":""},{"$f":"SUMIF($K$15:$K$57,SaisonFin,$E$15:$E$57)","v":0},{"$f":"IF(R$6+R$7>0,R7/(R$6+R$7),\"\")","v":""},{"$f":"SUM($E$15:$E$57)","v":64},{"$f":"IF(T$6+T$7>0,T7/(T$6+T$7),\"\")","v":0.7441860465116279}]
["Récapitulatif joueurs",null,null,null,null,null,null,null,null,null,null,null,null,null,"Total",{"$f":"SUM(P6:P7)","v":0},null,{"$f":"SUM(R6:R7)","v":0},null,{"$f":"SUM(T6:T7)","v":86}]
[]
[]
[]
[]
[]
[]
["Joueur","Adversaire","G/P","Sets gagnés","Sets perdus","pts marqués","pts subis","Date","Compétition","Phase","Saison"]
["PARISIS Francis","MONFLIER Francis","G",2,1,156,153,"2012-10-27","R1 CD59 T2 GRAVELINES","Poules",{"$f":"IF(H16<>\"\",IF(MONTH(H16)>MoisRef,YEAR(H16)&\"-\"&YEAR(H16)+1,YEAR(H16)-1&\"-\"&YEAR(H16)),\"\")","v":"2012-2013"},null,null,null,null,{"$f":"IF($K16=P$1,COUNTIF($C16,\"G\"),0)","v":0},null,{"$f":"IF($K16=R$1,COUNTIF($C16,\"G\"),0)","v":0}]
["PARISIS Francis","HOCHART James","P",0,2,48,120,"2012-10-27","R1 CD59 T2 GRAVELINES","Poules","2012-2013",null,null,null,null,{"$f":"IF($K17=P$1,COUNTIF($C17,\"G\"),0)","v":0},null,{"$f":"IF($K17=R$1,COUNTIF($C17,\"G\"),0)","v":0}]
["PARISIS Francis","WASYLYZYN Jean-Pierre","P",0,1,97,100,"2012-10-27","R1 CD59 T2 GRAVELINES","Poules Consolante","2012-2013",null,null,null,null,{"$f":"IF($K18=P$1,COUNTIF($C18,\"G\"),0)","v":0},null,{"$f":"IF($K18=R$1,COUNTIF($C18,\"G\"),0)","v":0}]
["PARISIS Francis","SAINT MAXENT Stephane","P",0,1,96,100,"2012-10-27","R1 CD59 T2 GRAVELINES","Poules Consolante","2012-2013",null,null,null,null,{"$f":"IF($K19=P$1,COUNTIF($C19,\"G\"),0)","v":0},null,{"$f":"IF($K19=R$1,COUNTIF($C19,\"G\"),0)","v":0}]
["PARISIS Francis","MONFLIER Francis","P",0,2,23,120,"2014-01-04","R1 CD59 T1 RONCHIN","Poules","2013-2014",null,null,null,null,{"$f":"IF($K20=P$1,COUNTIF($C20,\"G\"),0)","v":0},null,{"$f":"IF($K20=R$1,COUNTIF($C20,\"G\"),0)","v":0}]
["PARISIS Francis","MANTEN Paul","P",0,2,33,120,"2014-01-04","R1 CD59 T1 RONCHIN","Poules","2013-2014",null,null,null,null,0,null,0]
["PARISIS Francis","LANVIN Jean-Luc","P",0,2,53,120,"2014-01-04","R1 CD59 T1 RONCHIN","5ème 6ème","2013-2014",null,null,null,null,0,null,0]
["PARISIS Francis","PAILLARD Bertrand","P",1,2,130,164,"2014-02-22","R1 CD59 T2 GRANDE SYNTHE","Poules","2013-2014",null,null,null,null,0,null,0]
["PARISIS Francis","MANTEN Paul","P",1,2,117,178,"2014-02-22","R1 CD59 T2 GRANDE SYNTHE","Poules","2013-2014",null,null,null,null,0,null,0]
["PARISIS Francis","ST MAXENT Stéphane","P",1,2,101,179,"2014-02-22","R1 CD59 T2 GRANDE SYNTHE","1/4 Finale","2013-2014",null,null,null,null,0,null,0]
["PARISIS Francis","PAILLARD Bertrand","P",0,1,79,100,"2014-02-22","R1 CD59 T2 GRANDE SYNTHE","Consolante","2013-2014",null,null,null,null,0,null,0]
["PARISIS Francis","WASYLYSZYN Jean-pierre","P",0,1,81,100,"2015-01-17","R1 CD59 T1 ST POL SUR MER","1/2 Finale Consolante","2014-2015",null,null,null,null,0,null,0]
["PARISIS Francis","HERREBRECHT Erian","P",0,1,77,100,"2015-01-17","R1 CD59 T1 ST POL SUR MER","3ème 4ème Consolante","2014-2015",null,null,null,null,0,null,0]
["PARISIS Francis","HINGRAND Tony","P",0,2,62,120,"2015-01-17","R1 CD59 T1 ST POL sur MER","Poules","2014-2015",null,null,null,null,0,null,0]
["PARISIS Francis","LECROART Serge","P",0,2,70,120,"2015-01-17","R1 CD59 T1 ST POL sur MER","Poules","2014-2015",null,null,null,null,0,null,0]
["PARISIS Francis","VEREECQUE Bernard","G",1,0,100,76,"2015-02-07","R1 CD59 T2 GRAVELINES","Poules Consolante","2014-2015",null,null,null,null,0,null,0]
["PARISIS Francis","PAILLARD Bertrand","P",0,1,40,100,"2015-02-07","R1 CD59 T2 GRAVELINES","Poules Consolante","2014-2015",null,null,null,null,0,null,0]
["PARISIS Francis","WASYLYSZYN Jean-pierre","G",2,0,120,95,"2015-02-07","R1 CD59 T2 GRAVELINES","Poules","2014-2015",null,null,null,null,0,null,0]
["PARISIS Francis","KERKHOF Hervé","P",0,2,60,120,"2015-02-07","R1 CD59 T2 GRAVELINES","Poules","2014-2015",null,null,null,null,0,null,0]
["PARISIS Francis","MONFLIER Francis","P",0,2,99,120,"2015-03-14","R1 CD59 T3 VILLENEUVE D'ASCQ","Poules","2014-2015",null,null,null,null,0,null,0]
["PARISIS Francis","ST MAXENT Stéphane","P",1,2,158,164,"2015-03-14","R1 CD59 T3 VILLENEUVE D'ASCQ","Poules","2014-2015",null,null,null,null,0,null,0]
["PARISIS Francis","MONFLIER Francis","P",1,2,100,162,"2015-03-14","R1 CD59 T3 VILLENEUVE D'ASCQ","1/4 Finale","2014-2015",null,null,null,null,0,null,0]
["PARISIS Francis","DUTAILLY Michel","P",0,1,86,100,"2016-01-14","T1 Qualifications CD59 R1 - CONSOLANTE - DUNKERQUE","Qualifications","2015-2016",null,null,null,null,0,null,0]
["PARISIS Francis","BEGHIN Nicolas","P",0,2,79,120,"2016-01-14","T1 Qualifications CD59 R1 - DUNKERQUE","Qualifications","2015-2016",null,null,null,null,0,null,0]
["PARISIS Francis","ESTERMANS Bernard","P",0,2,106,120,"2016-01-14","T1 Qualifications CD59 R1 - DUNKERQUE","Qualifications","2015-2016",null,null,null,null,0,null,0]
["PARISIS Francis","BEGHIN Nicolas","P",1,3,177,221,"2018-04-15","Finale R1 CD59 - VILLENEUVE D'ASCQ","Qualifications","2017-2018",null,null,null,null,0,null,0]
["PARISIS Francis","ESTERMANS Bernard","P",1,3,139,217,"2018-04-15","Finale R1 CD59 - VILLENEUVE D'ASCQ","Qualifications","2017-2018",null,null,null,null,0,null,0]
["PARISIS Francis","MANTEN Paul","P",0,2,54,120,"2017-09-30","T1 Qualifications R1 CD59 - GRAVELINES","Qualifications","2017-2018",null,null,null,null,0,null,0]
["PARISIS Francis","MANTEN Paul","P",1,2,115,134,"2017-09-30","T1 Qualifications R1 CD59 - GRAVELINES","1/4 Finale","2017-2018",null,null,null,null,0,null,0]
["PARISIS Francis","WASYLYSZYN Jean-Pierre","G",2,1,171,141,"2017-09-30","T1 Qualifications R1 CD59 - GRAVELINES","Qualifications","2017-2018",null,null,null,null,0,null,0]
["PARISIS Francis","BEGHIN Nicolas","G",2,1,124,150,"2018-01-20","T2 Qualifications R1 CD59 - ST POL SUR MER","Qualifications","2017-2018",null,null,null,null,0,null,0]
["PARISIS Francis","BEGHIN Nicolas","P",0,2,49,120,"2018-01-20","T2 Qualifications R1 CD59 - ST POL SUR MER","1/4 Finale","2017-2018",null,null,null,null,0,null,0]
["PARISIS Francis","WASYLYSZYN Jean-Pierre","G",2,1,166,124,"2018-01-20","T2 Qualifications R1 CD59 - ST POL SUR MER","Qualifications","2017-2018",null,null,null,null,0,null,0]
["PARISIS Francis","MANTEN Paul","P",1,2,122,168,"2018-02-04","T3 Qualifications R1 CD59 - GRAVELINES","Qualifications","2017-2018",null,null,null,null,0,null,0]
["PARISIS Francis","MANTEN Paul","P",1,2,121,163,"2018-02-04","T3 Qualifications R1 CD59 - GRAVELINES","Qualifications","2017-2018",null,null,null,null,0,null,0]
["PARISIS Francis","DEREUDDRE Dominique","P",0,1,57,100,"2018-03-10","T4 Qualifications R1 CD59 - CONSOLANTE - VILLENEUVE D'ASCQ","Qualifications","2017-2018",null,null,null,null,0,null,0]
["PARISIS Francis","DUTAILLY Michel","G",0,0,0,0,"2018-03-10","T4 Qualifications R1 CD59 - CONSOLANTE - VILLENEUVE D'ASCQ","Qualifications","2017-2018",null,null,null,null,0,null,0]
["PARISIS Francis","NOYER Pascal","P",0,1,59,100,"2018-03-10","T4 Qualifications R1 CD59 - CONSOLANTE - VILLENEUVE D'ASCQ","Qualifications","2017-2018",null,null,null,null,0,null,0]
["PARISIS Francis","VEREECQUE Bernard","P",0,1,66,100,"2018-03-10","T4 Qualifications R1 CD59 - CONSOLANTE - VILLENEUVE D'ASCQ","Qualifications","2017-2018",null,null,null,null,0,null,0]
["PARISIS Francis","MANTEN Paul","P",0,2,86,120,"2018-03-10","T4 Qualifications R1 CD59 - VILLENEUVE D'ASCQ","Qualifications","2017-2018",null,null,null,null,0,null,0]
["PARISIS Francis","VEREECQUE Bernard","P",1,2,100,166,"2018-03-10","T4 Qualifications R1 CD59 - VILLENEUVE D'ASCQ","Qualifications","2017-2018",null,null,null,null,0,null,0]
["Fin des données",null,null,null,null,null,null,null,null,null,"",null,null,null,null,{"$f":"IF($K57=P$1,COUNTIF($C57,\"G\"),0)","v":0},null,{"$f":"IF($K57=R$1,COUNTIF($C57,\"G\"),0)","v":0}]

{"sheet":"PELLETIER Steeve","index":125,"n_rows":25,"n_cols":22,"rows_kept":25,"cut":false,"hidden":false,"merged":[]}
["PELLETIER Steeve",null,null,null,null,null,null,null,null,null,null,null,null,null,null,{"$f":"SaisonDeb","v":"2021-2022"},null,{"$f":"SaisonFin","v":"2022-2023"},null,"Toutes saisons"]
[{"$error":"#N/A"},null,null,null,null,null,null,null,null,null,null,null,null,null,null,"Nombre","%age","Nombre","%age","Nombre","%age"]
[{"$error":"#N/A"},null,null,null,null,null,null,null,null,null,null,null,null,"Matchs","Gagnés",{"$f":"SUM(P$15:P$121)","v":0},{"$f":"IF(P$3+P$4>0,P3/(P$3+P$4),\"\")","v":""},{"$f":"SUM(R$15:R$121)","v":1},{"$f":"IF(R$3+R$4>0,R3/(R$3+R$4),\"\")","v":0.1111111111111111},{"$f":"COUNTIF($C$15:$C$121,\"G\")","v":1},{"$f":"IF(T$3+T$4>0,T3/(T$3+T$4),\"\")","v":0.1111111111111111}]
[{"$error":"#N/A"},null,null,null,null,null,null,null,null,null,null,null,null,null,"Perdus",{"$f":"COUNTIF($K$15:$M$121,SaisonDeb)-P3","v":0},{"$f":"IF(P$3+P$4>0,P4/(P$3+P$4),\"\")","v":""},{"$f":"COUNTIF($K$15:$K$121,SaisonFin)-R3","v":8},{"$f":"IF(R$3+R$4>0,R4/(R$3+R$4),\"\")","v":0.88888888888888884},{"$f":"COUNTIF($C$15:$C$121,\"P\")","v":8},{"$f":"IF(T$3+T$4>0,T4/(T$3+T$4),\"\")","v":0.88888888888888884}]
[{"$error":"#N/A"},null,null,null,null,null,null,null,null,null,null,null,null,null,"Total / Moy.",{"$f":"SUM(P3:P4)","v":0},{"$f":"IF(SUMIF($K$15:$K$121,SaisonDeb,$G$15:$G$121)>0,SUMIF($K$15:$K$121,SaisonDeb,$F$15:$F$121)/SUMIF($K$15:$K$121,SaisonDeb,$G$15:$G$121),\"\")","v":""},{"$f":"SUM(R3:R4)","v":9},{"$f":"IF(SUMIF($K$15:$K$121,SaisonFin,$G$15:$G$121)>0,SUMIF($K$15:$K$121,SaisonFin,$F$15:$F$121)/SUMIF($K$15:$K$121,SaisonFin,$G$15:$G$121),\"\")","v":0.60408921933085502},{"$f":"SUM(T3:T4)","v":9},{"$f":"IF(SUM($G$15:$G$121)>0,SUM($F$15:$F$121)/SUM($G$15:$G$121),\"\")","v":0.60408921933085502},{"$f":"IF(SUMIF($K$15:$K$25,SaisonDeb,$G$15:$G$25)+SUMIF($K$15:$K$25,SaisonFin,$G$15:$G$25)>0,(SUMIF($K$15:$K$25,SaisonDeb,$F$15:$F$25)+SUMIF($K$15:$K$25,SaisonFin,$F$15:$F$25))/(SUMIF($K$15:$K$25,SaisonDeb,$G$15:$G$25)+SUMIF($K$15:$K$25,SaisonFin,$G$15:$G$25)),\"\")","v":0.60408921933085502}]
[null,null,null,null,null,null,null,null,null,null,null,null,null,"Sets","Gagnés",{"$f":"SUMIF($K$15:$K$121,SaisonDeb,$D$15:$D$121)","v":0},{"$f":"IF(P$6+P$7>0,P6/(P$6+P$7),\"\")","v":""},{"$f":"SUMIF($K$15:$K$121,SaisonFin,$D$15:$D$121)","v":1},{"$f":"IF(R$6+R$7>0,R6/(R$6+R$7),\"\")","v":0.1111111111111111},{"$f":"SUM($D$15:$D$121)","v":1},{"$f":"IF(T$6+T$7>0,T6/(T$6+T$7),\"\")","v":0.1111111111111111}]
[null,null,null,null,null,null,null,null,null,null,null,null,null,null,"Perdus",{"$f":"SUMIF($K$15:$K$121,SaisonDeb,$E$15:$E$121)","v":0},{"$f":"IF(P$6+P$7>0,P7/(P$6+P$7),\"\")","v":""},{"$f":"SUMIF($K$15:$K$121,SaisonFin,$E$15:$E$121)","v":8},{"$f":"IF(R$6+R$7>0,R7/(R$6+R$7),\"\")","v":0.88888888888888884},{"$f":"SUM($E$15:$E$121)","v":8},{"$f":"IF(T$6+T$7>0,T7/(T$6+T$7),\"\")","v":0.88888888888888884}]
["Récapitulatif joueurs",null,null,null,null,null,null,null,null,null,null,null,null,null,"Total",{"$f":"SUM(P6:P7)","v":0},null,{"$f":"SUM(R6:R7)","v":9},null,{"$f":"SUM(T6:T7)","v":9}]
[]
[]
[]
[]
[]
[]
["Joueur","Adversaire","G/P","Sets gagnés","Sets perdus","pts marqués","pts subis","Date","Compétition","Phase","Saison"]
["PELLETIER Steeve","BOUTON Gérard","P",0,1,26,120,"2022-12-03","T 2 OISE - Qualifications R 1 - Tour Principal - SENLIS","Qualifications",{"$f":"IF(H16<>\"\",IF(MONTH(H16)>MoisRef,YEAR(H16)&\"-\"&YEAR(H16)+1,YEAR(H16)-1&\"-\"&YEAR(H16)),\"\")","v":"2022-2023"},null,null,null,null,{"$f":"IF($K16=P$1,COUNTIF($C16,\"G\"),0)","v":0},null,{"$f":"IF($K16=R$1,COUNTIF($C16,\"G\"),0)","v":0}]
["PELLETIER Steeve","HERTOUX Didier","G",1,0,120,116,"2022-12-03","T 2 OISE - Qualifications R 1 - Tour Principal - SENLIS","Qualifications","2022-2023",null,null,null,null,0,null,1]
["PELLETIER Steeve","ZANOTTI Michel","P",0,1,79,120,"2022-12-03","T 2 OISE - Qualifications R 1 - Tour Principal - SENLIS","1/4 Finale","2022-2023",null,null,null,null,0,null,0]
["PELLETIER Steeve","GERARD Mickael","P",0,1,116,120,"2023-02-18","T 3 OISE - Qualifications R 1 - Tour Principal - BEAUVAIS","Qualifications","2022-2023",null,null,null,null,0,null,0]
["PELLETIER Steeve","HERTOUX Didier","P",0,1,84,120,"2023-02-18","T 3 OISE - Qualifications R 1 - Tour Principal - BEAUVAIS","Qualifications","2022-2023",null,null,null,null,0,null,0]
["PELLETIER Steeve","CUNIN Mickael","P",0,1,62,120,"2023-03-18","T 4 OISE - Qualifications R 1 - Tour Principal - CREPY","Qualifications","2022-2023",null,null,null,null,0,null,0]
["PELLETIER Steeve","GRANGER Pascal","P",0,1,72,120,"2023-03-18","T 4 OISE - Qualifications R 1 - Tour Principal - CREPY","Qualifications","2022-2023",null,null,null,null,0,null,0]
["PELLETIER Steeve","HERTOUX Didier","P",0,1,49,120,"2022-10-29","T 1 OISE - Qualifications R 1 - Tour Principal - MERU","Qualifications","2022-2023",null,null,null,null,0,null,0]
["PELLETIER Steeve","ZANOTTI Michel","P",0,1,42,120,"2022-10-29","T 1 OISE - Qualifications R 1 - Tour Principal - MERU","Qualifications","2022-2023",null,null,null,null,0,null,0]
["Fin des données",null,null,null,null,null,null,null,null,null,"",null,null,null,null,{"$f":"IF($K25=P$1,COUNTIF($C25,\"G\"),0)","v":0},null,{"$f":"IF($K25=R$1,COUNTIF($C25,\"G\"),0)","v":0}]

{"sheet":"POINTIN Régis","index":126,"n_rows":30,"n_cols":22,"rows_kept":30,"cut":false,"hidden":false,"merged":[]}
["POINTIN Régis",null,null,null,null,null,null,null,null,null,null,null,null,null,null,{"$f":"SaisonDeb","v":"2021-2022"},null,{"$f":"SaisonFin","v":"2022-2023"},null,"Toutes saisons"]
[{"$error":"#N/A"},null,null,null,null,null,null,null,null,null,null,null,null,null,null,"Nombre","%age","Nombre","%age","Nombre","%age"]
[{"$error":"#N/A"},null,null,null,null,null,null,null,null,null,null,null,null,"Matchs","Gagnés",{"$f":"SUM(P$15:P$126)","v":0},{"$f":"IF(P$3+P$4>0,P3/(P$3+P$4),\"\")","v":""},{"$f":"SUM(R$15:R$126)","v":0},{"$f":"IF(R$3+R$4>0,R3/(R$3+R$4),\"\")","v":""},{"$f":"COUNTIF($C$15:$C$126,\"G\")","v":7},{"$f":"IF(T$3+T$4>0,T3/(T$3+T$4),\"\")","v":0.5}]
[{"$error":"#N/A"},null,null,null,null,null,null,null,null,null,null,null,null,null,"Perdus",{"$f":"COUNTIF($K$15:$M$126,SaisonDeb)-P3","v":0},{"$f":"IF(P$3+P$4>0,P4/(P$3+P$4),\"\")","v":""},{"$f":"COUNTIF($K$15:$K$126,SaisonFin)-R3","v":0},{"$f":"IF(R$3+R$4>0,R4/(R$3+R$4),\"\")","v":""},{"$f":"COUNTIF($C$15:$C$126,\"P\")","v":7},{"$f":"IF(T$3+T$4>0,T4/(T$3+T$4),\"\")","v":0.5}]
[{"$error":"#N/A"},null,null,null,null,null,null,null,null,null,null,null,null,null,"Total / Moy.",{"$f":"SUM(P3:P4)","v":0},{"$f":"IF(SUMIF($K$15:$K$126,SaisonDeb,$G$15:$G$126)>0,SUMIF($K$15:$K$126,SaisonDeb,$F$15:$F$126)/SUMIF($K$15:$K$126,SaisonDeb,$G$15:$G$126),\"\")","v":""},{"$f":"SUM(R3:R4)","v":0},{"$f":"IF(SUMIF($K$15:$K$126,SaisonFin,$G$15:$G$126)>0,SUMIF($K$15:$K$126,SaisonFin,$F$15:$F$126)/SUMIF($K$15:$K$126,SaisonFin,$G$15:$G$126),\"\")","v":""},{"$f":"SUM(T3:T4)","v":14},{"$f":"IF(SUM($G$15:$G$126)>0,SUM($F$15:$F$126)/SUM($G$15:$G$126),\"\")","v":1.0360490266762798},{"$f":"IF(SUMIF($K$15:$K$30,SaisonDeb,$G$15:$G$30)+SUMIF($K$15:$K$30,SaisonFin,$G$15:$G$30)>0,(SUMIF($K$15:$K$30,SaisonDeb,$F$15:$F$30)+SUMIF($K$15:$K$30,SaisonFin,$F$15:$F$30))/(SUMIF($K$15:$K$30,SaisonDeb,$G$15:$G$30)+SUMIF($K$15:$K$30,SaisonFin,$G$15:$G$30)),\"\")","v":""}]
[null,null,null,null,null,null,null,null,null,null,null,null,null,"Sets","Gagnés",{"$f":"SUMIF($K$15:$K$126,SaisonDeb,$D$15:$D$126)","v":0},{"$f":"IF(P$6+P$7>0,P6/(P$6+P$7),\"\")","v":""},{"$f":"SUMIF($K$15:$K$126,SaisonFin,$D$15:$D$126)","v":0},{"$f":"IF(R$6+R$7>0,R6/(R$6+R$7),\"\")","v":""},{"$f":"SUM($D$15:$D$126)","v":13},{"$f":"IF(T$6+T$7>0,T6/(T$6+T$7),\"\")","v":0.48148148148148145}]
[null,null,null,null,null,null,null,null,null,null,null,null,null,null,"Perdus",{"$f":"SUMIF($K$15:$K$126,SaisonDeb,$E$15:$E$126)","v":0},{"$f":"IF(P$6+P$7>0,P7/(P$6+P$7),\"\")","v":""},{"$f":"SUMIF($K$15:$K$126,SaisonFin,$E$15:$E$126)","v":0},{"$f":"IF(R$6+R$7>0,R7/(R$6+R$7),\"\")","v":""},{"$f":"SUM($E$15:$E$126)","v":14},{"$f":"IF(T$6+T$7>0,T7/(T$6+T$7),\"\")","v":0.51851851851851849}]
["Récapitulatif joueurs",null,null,null,null,null,null,null,null,null,null,null,null,null,"Total",{"$f":"SUM(P6:P7)","v":0},null,{"$f":"SUM(R6:R7)","v":0},null,{"$f":"SUM(T6:T7)","v":27}]
[]
[]
[]
[]
[]
[]
["Joueur","Adversaire","G/P","Sets gagnés","Sets perdus","pts marqués","pts subis","Date","Compétition","Phase","Saison"]
["POINTIN Régis","HERSELIN Jean-Claude","G",1,0,80,40,"2018-02-17","T3 5 QUILLES R1 CD80 - CONSOLANTE - MOREUIL","Qualifications",{"$f":"IF(H16<>\"\",IF(MONTH(H16)>MoisRef,YEAR(H16)&\"-\"&YEAR(H16)+1,YEAR(H16)-1&\"-\"&YEAR(H16)),\"\")","v":"2017-2018"},null,null,null,null,{"$f":"IF($K16=P$1,COUNTIF($C16,\"G\"),0)","v":0},null,{"$f":"IF($K16=R$1,COUNTIF($C16,\"G\"),0)","v":0}]
["POINTIN Régis","MALET Eric","P",0,1,78,80,"2018-02-17","T3 5 QUILLES R1 CD80 - CONSOLANTE - MOREUIL","Qualifications","2017-2018",null,null,null,null,{"$f":"IF($K17=P$1,COUNTIF($C17,\"G\"),0)","v":0},null,{"$f":"IF($K17=R$1,COUNTIF($C17,\"G\"),0)","v":0}]
["POINTIN Régis","CUVILLIER François","P",0,2,91,120,"2018-02-17","T3 5 QUILLES R1 CD80 - MOREUIL","Qualifications","2017-2018",null,null,null,null,{"$f":"IF($K18=P$1,COUNTIF($C18,\"G\"),0)","v":0},null,{"$f":"IF($K18=R$1,COUNTIF($C18,\"G\"),0)","v":0}]
["POINTIN Régis","MALET Eric","P",0,2,103,120,"2018-02-17","T3 5 QUILLES R1 CD80 - MOREUIL","Qualifications","2017-2018",null,null,null,null,{"$f":"IF($K19=P$1,COUNTIF($C19,\"G\"),0)","v":0},null,{"$f":"IF($K19=R$1,COUNTIF($C19,\"G\"),0)","v":0}]
["POINTIN Régis","CABUZEL Denis","G",2,0,120,80,"2018-10-20","T1 R1 CD80 - MOREUIL","Qualifications","2018-2019",null,null,null,null,{"$f":"IF($K20=P$1,COUNTIF($C20,\"G\"),0)","v":0},null,{"$f":"IF($K20=R$1,COUNTIF($C20,\"G\"),0)","v":0}]
["POINTIN Régis","DIEU Jean-Charles","G",2,1,147,130,"2018-10-20","T1 R1 CD80 - MOREUIL","Qualifications","2018-2019",null,null,null,null,0,null,0]
["POINTIN Régis","DUMEIGE Similien","P",0,2,109,120,"2018-10-20","T1 R1 CD80 - MOREUIL","1/4 Finale","2018-2019",null,null,null,null,0,null,0]
["POINTIN Régis","DIEU Jean-Charles","G",2,0,120,75,"2018-11-24","T2 R1 CD80 - ","1/8 Finale","2018-2019",null,null,null,null,0,null,0]
["POINTIN Régis","DUMEIGE Stéphane","P",0,2,74,120,"2018-11-24","T2 R1 CD80 - ","Qualifications","2018-2019",null,null,null,null,0,null,0]
["POINTIN Régis","ROUTHIER David","P",0,2,67,120,"2018-11-24","T2 R1 CD80 - ","1/4 Finale","2018-2019",null,null,null,null,0,null,0]
["POINTIN Régis","THUILLIER Jean-François","G",2,0,120,75,"2018-11-24","T2 R1 CD80 - ","Qualifications","2018-2019",null,null,null,null,0,null,0]
["POINTIN Régis","BETTEFORT Clémence","G",2,0,120,101,"2019-01-05","T3 R1 CD80 - MOREUIL","Qualifications","2018-2019",null,null,null,null,0,null,0]
["POINTIN Régis","DIEU Jean-Charles","G",2,0,120,86,"2019-01-05","T3 R1 CD80 - MOREUIL","Qualifications","2018-2019",null,null,null,null,0,null,0]
["POINTIN Régis","DUHAMEL Eddy","P",0,2,88,120,"2019-01-05","T3 R1 CD80 - MOREUIL","1/4 Finale","2018-2019",null,null,null,null,0,null,0]
["Fin des données",null,null,null,null,null,null,null,null,null,"",null,null,null,null,{"$f":"IF($K30=P$1,COUNTIF($C30,\"G\"),0)","v":0},null,{"$f":"IF($K30=R$1,COUNTIF($C30,\"G\"),0)","v":0}]

{"sheet":"POLIN Thibault","index":127,"n_rows":20,"n_cols":22,"rows_kept":20,"cut":false,"hidden":false,"merged":[]}
["POLIN Thibault",null,null,null,null,null,null,null,null,null,null,null,null,null,null,{"$f":"SaisonDeb","v":"2021-2022"},null,{"$f":"SaisonFin","v":"2022-2023"},null,"Toutes saisons"]
[{"$error":"#N/A"},null,null,null,null,null,null,null,null,null,null,null,null,null,null,"Nombre","%age","Nombre","%age","Nombre","%age"]
[{"$error":"#N/A"},null,null,null,null,null,null,null,null,null,null,null,null,"Matchs","Gagnés",{"$f":"SUM(P$15:P$116)","v":0},{"$f":"IF(P$3+P$4>0,P3/(P$3+P$4),\"\")","v":""},{"$f":"SUM(R$15:R$116)","v":0},{"$f":"IF(R$3+R$4>0,R3/(R$3+R$4),\"\")","v":""},{"$f":"COUNTIF($C$15:$C$116,\"G\")","v":2},{"$f":"IF(T$3+T$4>0,T3/(T$3+T$4),\"\")","v":0.5}]
[{"$error":"#N/A"},null,null,null,null,null,null,null,null,null,null,null,null,null,"Perdus",{"$f":"COUNTIF($K$15:$M$116,SaisonDeb)-P3","v":0},{"$f":"IF(P$3+P$4>0,P4/(P$3+P$4),\"\")","v":""},{"$f":"COUNTIF($K$15:$K$116,SaisonFin)-R3","v":0},{"$f":"IF(R$3+R$4>0,R4/(R$3+R$4),\"\")","v":""},{"$f":"COUNTIF($C$15:$C$116,\"P\")","v":2},{"$f":"IF(T$3+T$4>0,T4/(T$3+T$4),\"\")","v":0.5}]
[{"$error":"#N/A"},null,null,null,null,null,null,null,null,null,null,null,null,null,"Total / Moy.",{"$f":"SUM(P3:P4)","v":0},{"$f":"IF(SUMIF($K$15:$K$116,SaisonDeb,$G$15:$G$116)>0,SUMIF($K$15:$K$116,SaisonDeb,$F$15:$F$116)/SUMIF($K$15:$K$116,SaisonDeb,$G$15:$G$116),\"\")","v":""},{"$f":"SUM(R3:R4)","v":0},{"$f":"IF(SUMIF($K$15:$K$116,SaisonFin,$G$15:$G$116)>0,SUMIF($K$15:$K$116,SaisonFin,$F$15:$F$116)/SUMIF($K$15:$K$116,SaisonFin,$G$15:$G$116),\"\")","v":""},{"$f":"SUM(T3:T4)","v":4},{"$f":"IF(SUM($G$15:$G$116)>0,SUM($F$15:$F$116)/SUM($G$15:$G$116),\"\")","v":1.2244897959183674},{"$f":"IF(SUMIF($K$15:$K$20,SaisonDeb,$G$15:$G$20)+SUMIF($K$15:$K$20,SaisonFin,$G$15:$G$20)>0,(SUMIF($K$15:$K$20,SaisonDeb,$F$15:$F$20)+SUMIF($K$15:$K$20,SaisonFin,$F$15:$F$20))/(SUMIF($K$15:$K$20,SaisonDeb,$G$15:$G$20)+SUMIF($K$15:$K$20,SaisonFin,$G$15:$G$20)),\"\")","v":""}]
[null,null,null,null,null,null,null,null,null,null,null,null,null,"Sets","Gagnés",{"$f":"SUMIF($K$15:$K$116,SaisonDeb,$D$15:$D$116)","v":0},{"$f":"IF(P$6+P$7>0,P6/(P$6+P$7),\"\")","v":""},{"$f":"SUMIF($K$15:$K$116,SaisonFin,$D$15:$D$116)","v":0},{"$f":"IF(R$6+R$7>0,R6/(R$6+R$7),\"\")","v":""},{"$f":"SUM($D$15:$D$116)","v":5},{"$f":"IF(T$6+T$7>0,T6/(T$6+T$7),\"\")","v":0.55555555555555558}]
[null,null,null,null,null,null,null,null,null,null,null,null,null,null,"Perdus",{"$f":"SUMIF($K$15:$K$116,SaisonDeb,$E$15:$E$116)","v":0},{"$f":"IF(P$6+P$7>0,P7/(P$6+P$7),\"\")","v":""},{"$f":"SUMIF($K$15:$K$116,SaisonFin,$E$15:$E$116)","v":0},{"$f":"IF(R$6+R$7>0,R7/(R$6+R$7),\"\")","v":""},{"$f":"SUM($E$15:$E$116)","v":4},{"$f":"IF(T$6+T$7>0,T7/(T$6+T$7),\"\")","v":0.44444444444444442}]
["Récapitulatif joueurs",null,null,null,null,null,null,null,null,null,null,null,null,null,"Total",{"$f":"SUM(P6:P7)","v":0},null,{"$f":"SUM(R6:R7)","v":0},null,{"$f":"SUM(T6:T7)","v":9}]
[]
[]
[]
[]
[]
[]
["Joueur","Adversaire","G/P","Sets gagnés","Sets perdus","pts marqués","pts subis","Date","Compétition","Phase","Saison"]
["POLIN Thibault","BLOUIN Nicolas","G",2,0,120,33,"2018-05-23","FINALE OISE JUNIORS - CHAMBLY","Qualifications",{"$f":"IF(H16<>\"\",IF(MONTH(H16)>MoisRef,YEAR(H16)&\"-\"&YEAR(H16)+1,YEAR(H16)-1&\"-\"&YEAR(H16)),\"\")","v":"2017-2018"},null,null,null,null,{"$f":"IF($K16=P$1,COUNTIF($C16,\"G\"),0)","v":0},null,{"$f":"IF($K16=R$1,COUNTIF($C16,\"G\"),0)","v":0}]
["POLIN Thibault","NAHIRNYJ Alexi","P",1,2,136,176,"2018-05-23","FINALE OISE JUNIORS - CHAMBLY","Qualifications",{"$f":"IF(H17<>\"\",IF(MONTH(H17)>MoisRef,YEAR(H17)&\"-\"&YEAR(H17)+1,YEAR(H17)-1&\"-\"&YEAR(H17)),\"\")","v":"2017-2018"},null,null,null,null,{"$f":"IF($K17=P$1,COUNTIF($C17,\"G\"),0)","v":0},null,{"$f":"IF($K17=R$1,COUNTIF($C17,\"G\"),0)","v":0}]
["POLIN Thibault","AZRIA Aaron","G",2,0,120,63,"2019-03-30","FINALE OISE JUNIORS - CHAMBLY","Poule unique",{"$f":"IF(H18<>\"\",IF(MONTH(H18)>MoisRef,YEAR(H18)&\"-\"&YEAR(H18)+1,YEAR(H18)-1&\"-\"&YEAR(H18)),\"\")","v":"2018-2019"},null,null,null,null,{"$f":"IF($K18=P$1,COUNTIF($C18,\"G\"),0)","v":0},null,{"$f":"IF($K18=R$1,COUNTIF($C18,\"G\"),0)","v":0}]
["POLIN Thibault","NAHIRNYJ Alexi","P",0,2,104,120,"2019-03-30","FINALE OISE JUNIORS - CHAMBLY","Poule unique",{"$f":"IF(H19<>\"\",IF(MONTH(H19)>MoisRef,YEAR(H19)&\"-\"&YEAR(H19)+1,YEAR(H19)-1&\"-\"&YEAR(H19)),\"\")","v":"2018-2019"},null,null,null,null,{"$f":"IF($K19=P$1,COUNTIF($C19,\"G\"),0)","v":0},null,{"$f":"IF($K19=R$1,COUNTIF($C19,\"G\"),0)","v":0}]
["Fin des données",null,null,null,null,null,null,null,null,null,{"$f":"IF(H20<>\"\",IF(MONTH(H20)>MoisRef,YEAR(H20)&\"-\"&YEAR(H20)+1,YEAR(H20)-1&\"-\"&YEAR(H20)),\"\")","v":""},null,null,null,null,{"$f":"IF($K20=P$1,COUNTIF($C20,\"G\"),0)","v":0},null,{"$f":"IF($K20=R$1,COUNTIF($C20,\"G\"),0)","v":0}]

{"sheet":"PORQUIER Gérard","index":128,"n_rows":18,"n_cols":22,"rows_kept":18,"cut":false,"hidden":false,"merged":[]}
["PORQUIER Gérard",null,null,null,null,null,null,null,null,null,null,null,null,null,null,{"$f":"SaisonDeb","v":"2021-2022"},null,{"$f":"SaisonFin","v":"2022-2023"},null,"Toutes saisons"]
[{"$error":"#N/A"},null,null,null,null,null,null,null,null,null,null,null,null,null,null,"Nombre","%age","Nombre","%age","Nombre","%age"]
[{"$error":"#N/A"},null,null,null,null,null,null,null,null,null,null,null,null,"Matchs","Gagnés",{"$f":"SUM(P$15:P$114)","v":0},{"$f":"IF(P$3+P$4>0,P3/(P$3+P$4),\"\")","v":""},{"$f":"SUM(R$15:R$114)","v":0},{"$f":"IF(R$3+R$4>0,R3/(R$3+R$4),\"\")","v":0},{"$f":"COUNTIF($C$15:$C$114,\"G\")","v":0},{"$f":"IF(T$3+T$4>0,T3/(T$3+T$4),\"\")","v":0}]
[{"$error":"#N/A"},null,null,null,null,null,null,null,null,null,null,null,null,null,"Perdus",{"$f":"COUNTIF($K$15:$M$114,SaisonDeb)-P3","v":0},{"$f":"IF(P$3+P$4>0,P4/(P$3+P$4),\"\")","v":""},{"$f":"COUNTIF($K$15:$K$114,SaisonFin)-R3","v":2},{"$f":"IF(R$3+R$4>0,R4/(R$3+R$4),\"\")","v":1},{"$f":"COUNTIF($C$15:$C$114,\"P\")","v":2},{"$f":"IF(T$3+T$4>0,T4/(T$3+T$4),\"\")","v":1}]
[{"$error":"#N/A"},null,null,null,null,null,null,null,null,null,null,null,null,null,"Total / Moy.",{"$f":"SUM(P3:P4)","v":0},{"$f":"IF(SUMIF($K$15:$K$114,SaisonDeb,$G$15:$G$114)>0,SUMIF($K$15:$K$114,SaisonDeb,$F$15:$F$114)/SUMIF($K$15:$K$114,SaisonDeb,$G$15:$G$114),\"\")","v":""},{"$f":"SUM(R3:R4)","v":2},{"$f":"IF(SUMIF($K$15:$K$114,SaisonFin,$G$15:$G$114)>0,SUMIF($K$15:$K$114,SaisonFin,$F$15:$F$114)/SUMIF($K$15:$K$114,SaisonFin,$G$15:$G$114),\"\")","v":0.68333333333333335},{"$f":"SUM(T3:T4)","v":2},{"$f":"IF(SUM($G$15:$G$114)>0,SUM($F$15:$F$114)/SUM($G$15:$G$114),\"\")","v":0.68333333333333335},{"$f":"IF(SUMIF($K$15:$K$18,SaisonDeb,$G$15:$G$18)+SUMIF($K$15:$K$18,SaisonFin,$G$15:$G$18)>0,(SUMIF($K$15:$K$18,SaisonDeb,$F$15:$F$18)+SUMIF($K$15:$K$18,SaisonFin,$F$15:$F$18))/(SUMIF($K$15:$K$18,SaisonDeb,$G$15:$G$18)+SUMIF($K$15:$K$18,SaisonFin,$G$15:$G$18)),\"\")","v":0.68333333333333335}]
[null,null,null,null,null,null,null,null,null,null,null,null,null,"Sets","Gagnés",{"$f":"SUMIF($K$15:$K$114,SaisonDeb,$D$15:$D$114)","v":0},{"$f":"IF(P$6+P$7>0,P6/(P$6+P$7),\"\")","v":""},{"$f":"SUMIF($K$15:$K$114,SaisonFin,$D$15:$D$114)","v":0},{"$f":"IF(R$6+R$7>0,R6/(R$6+R$7),\"\")","v":0},{"$f":"SUM($D$15:$D$114)","v":0},{"$f":"IF(T$6+T$7>0,T6/(T$6+T$7),\"\")","v":0}]
[null,null,null,null,null,null,null,null,null,null,null,null,null,null,"Perdus",{"$f":"SUMIF($K$15:$K$114,SaisonDeb,$E$15:$E$114)","v":0},{"$f":"IF(P$6+P$7>0,P7/(P$6+P$7),\"\")","v":""},{"$f":"SUMIF($K$15:$K$114,SaisonFin,$E$15:$E$114)","v":2},{"$f":"IF(R$6+R$7>0,R7/(R$6+R$7),\"\")","v":1},{"$f":"SUM($E$15:$E$114)","v":2},{"$f":"IF(T$6+T$7>0,T7/(T$6+T$7),\"\")","v":1}]
["Récapitulatif joueurs",null,null,null,null,null,null,null,null,null,null,null,null,null,"Total",{"$f":"SUM(P6:P7)","v":0},null,{"$f":"SUM(R6:R7)","v":2},null,{"$f":"SUM(T6:T7)","v":2}]
[]
[]
[]
[]
[]
[]
["Joueur","Adversaire","G/P","Sets gagnés","Sets perdus","pts marqués","pts subis","Date","Compétition","Phase","Saison"]
["PORQUIER Gérard","LAMARQUE Yves","P",0,1,103,120,"2023-02-18","T 3 OISE - Qualifications R 1 - Tour Principal - BEAUVAIS","Qualifications",{"$f":"IF(H16<>\"\",IF(MONTH(H16)>MoisRef,YEAR(H16)&\"-\"&YEAR(H16)+1,YEAR(H16)-1&\"-\"&YEAR(H16)),\"\")","v":"2022-2023"},null,null,null,null,{"$f":"IF($K16=P$1,COUNTIF($C16,\"G\"),0)","v":0},null,{"$f":"IF($K16=R$1,COUNTIF($C16,\"G\"),0)","v":0}]
["PORQUIER Gérard","NAHIRNYJ Alexi","P",0,1,61,120,"2023-02-18","T 3 OISE - Qualifications R 1 - Tour Principal - BEAUVAIS","Qualifications",{"$f":"IF(H17<>\"\",IF(MONTH(H17)>MoisRef,YEAR(H17)&\"-\"&YEAR(H17)+1,YEAR(H17)-1&\"-\"&YEAR(H17)),\"\")","v":"2022-2023"},null,null,null,null,{"$f":"IF($K17=P$1,COUNTIF($C17,\"G\"),0)","v":0},null,{"$f":"IF($K17=R$1,COUNTIF($C17,\"G\"),0)","v":0}]
["Fin des données",null,null,null,null,null,null,null,null,null,{"$f":"IF(H18<>\"\",IF(MONTH(H18)>MoisRef,YEAR(H18)&\"-\"&YEAR(H18)+1,YEAR(H18)-1&\"-\"&YEAR(H18)),\"\")","v":""},null,null,null,null,{"$f":"IF($K18=P$1,COUNTIF($C18,\"G\"),0)","v":0},null,{"$f":"IF($K18=R$1,COUNTIF($C18,\"G\"),0)","v":0}]

{"sheet":"RAFFY Alain","index":129,"n_rows":18,"n_cols":22,"rows_kept":18,"cut":false,"hidden":false,"merged":[]}
["RAFFY Alain",null,null,null,null,null,null,null,null,null,null,null,null,null,null,{"$f":"SaisonDeb","v":"2021-2022"},null,{"$f":"SaisonFin","v":"2022-2023"},null,"Toutes saisons"]
[{"$error":"#N/A"},null,null,null,null,null,null,null,null,null,null,null,null,null,null,"Nombre","%age","Nombre","%age","Nombre","%age"]
[{"$error":"#N/A"},null,null,null,null,null,null,null,null,null,null,null,null,"Matchs","Gagnés",{"$f":"SUM(P$15:P$114)","v":0},{"$f":"IF(P$3+P$4>0,P3/(P$3+P$4),\"\")","v":""},{"$f":"SUM(R$15:R$114)","v":0},{"$f":"IF(R$3+R$4>0,R3/(R$3+R$4),\"\")","v":0},{"$f":"COUNTIF($C$15:$C$114,\"G\")","v":0},{"$f":"IF(T$3+T$4>0,T3/(T$3+T$4),\"\")","v":0}]
[{"$error":"#N/A"},null,null,null,null,null,null,null,null,null,null,null,null,null,"Perdus",{"$f":"COUNTIF($K$15:$M$114,SaisonDeb)-P3","v":0},{"$f":"IF(P$3+P$4>0,P4/(P$3+P$4),\"\")","v":""},{"$f":"COUNTIF($K$15:$K$114,SaisonFin)-R3","v":2},{"$f":"IF(R$3+R$4>0,R4/(R$3+R$4),\"\")","v":1},{"$f":"COUNTIF($C$15:$C$114,\"P\")","v":2},{"$f":"IF(T$3+T$4>0,T4/(T$3+T$4),\"\")","v":1}]
[{"$error":"#N/A"},null,null,null,null,null,null,null,null,null,null,null,null,null,"Total / Moy.",{"$f":"SUM(P3:P4)","v":0},{"$f":"IF(SUMIF($K$15:$K$114,SaisonDeb,$G$15:$G$114)>0,SUMIF($K$15:$K$114,SaisonDeb,$F$15:$F$114)/SUMIF($K$15:$K$114,SaisonDeb,$G$15:$G$114),\"\")","v":""},{"$f":"SUM(R3:R4)","v":2},{"$f":"IF(SUMIF($K$15:$K$114,SaisonFin,$G$15:$G$114)>0,SUMIF($K$15:$K$114,SaisonFin,$F$15:$F$114)/SUMIF($K$15:$K$114,SaisonFin,$G$15:$G$114),\"\")","v":0.70833333333333337},{"$f":"SUM(T3:T4)","v":2},{"$f":"IF(SUM($G$15:$G$114)>0,SUM($F$15:$F$114)/SUM($G$15:$G$114),\"\")","v":0.70833333333333337},{"$f":"IF(SUMIF($K$15:$K$18,SaisonDeb,$G$15:$G$18)+SUMIF($K$15:$K$18,SaisonFin,$G$15:$G$18)>0,(SUMIF($K$15:$K$18,SaisonDeb,$F$15:$F$18)+SUMIF($K$15:$K$18,SaisonFin,$F$15:$F$18))/(SUMIF($K$15:$K$18,SaisonDeb,$G$15:$G$18)+SUMIF($K$15:$K$18,SaisonFin,$G$15:$G$18)),\"\")","v":0.70833333333333337}]
[null,null,null,null,null,null,null,null,null,null,null,null,null,"Sets","Gagnés",{"$f":"SUMIF($K$15:$K$114,SaisonDeb,$D$15:$D$114)","v":0},{"$f":"IF(P$6+P$7>0,P6/(P$6+P$7),\"\")","v":""},{"$f":"SUMIF($K$15:$K$114,SaisonFin,$D$15:$D$114)","v":0},{"$f":"IF(R$6+R$7>0,R6/(R$6+R$7),\"\")","v":0},{"$f":"SUM($D$15:$D$114)","v":0},{"$f":"IF(T$6+T$7>0,T6/(T$6+T$7),\"\")","v":0}]
[null,null,null,null,null,null,null,null,null,null,null,null,null,null,"Perdus",{"$f":"SUMIF($K$15:$K$114,SaisonDeb,$E$15:$E$114)","v":0},{"$f":"IF(P$6+P$7>0,P7/(P$6+P$7),\"\")","v":""},{"$f":"SUMIF($K$15:$K$114,SaisonFin,$E$15:$E$114)","v":2},{"$f":"IF(R$6+R$7>0,R7/(R$6+R$7),\"\")","v":1},{"$f":"SUM($E$15:$E$114)","v":2},{"$f":"IF(T$6+T$7>0,T7/(T$6+T$7),\"\")","v":1}]
["Récapitulatif joueurs",null,null,null,null,null,null,null,null,null,null,null,null,null,"Total",{"$f":"SUM(P6:P7)","v":0},null,{"$f":"SUM(R6:R7)","v":2},null,{"$f":"SUM(T6:T7)","v":2}]
[]
[]
[]
[]
[]
[]
["Joueur","Adversaire","G/P","Sets gagnés","Sets perdus","pts marqués","pts subis","Date","Compétition","Phase","Saison"]
["RAFFY Alain","DESCLAIR Guy","P",0,1,98,120,"2022-10-29","T 1 OISE - Qualifications R 1 - Tour Principal - MERU","Qualifications",{"$f":"IF(H16<>\"\",IF(MONTH(H16)>MoisRef,YEAR(H16)&\"-\"&YEAR(H16)+1,YEAR(H16)-1&\"-\"&YEAR(H16)),\"\")","v":"2022-2023"},null,null,null,null,{"$f":"IF($K16=P$1,COUNTIF($C16,\"G\"),0)","v":0},null,{"$f":"IF($K16=R$1,COUNTIF($C16,\"G\"),0)","v":0}]
["RAFFY Alain","MAUGER Jean-Paul","P",0,1,72,120,"2022-10-29","T 1 OISE - Qualifications R 1 - Tour Principal - MERU","Qualifications",{"$f":"IF(H17<>\"\",IF(MONTH(H17)>MoisRef,YEAR(H17)&\"-\"&YEAR(H17)+1,YEAR(H17)-1&\"-\"&YEAR(H17)),\"\")","v":"2022-2023"},null,null,null,null,{"$f":"IF($K17=P$1,COUNTIF($C17,\"G\"),0)","v":0},null,{"$f":"IF($K17=R$1,COUNTIF($C17,\"G\"),0)","v":0}]
["Fin des données",null,null,null,null,null,null,null,null,null,{"$f":"IF(H18<>\"\",IF(MONTH(H18)>MoisRef,YEAR(H18)&\"-\"&YEAR(H18)+1,YEAR(H18)-1&\"-\"&YEAR(H18)),\"\")","v":""},null,null,null,null,{"$f":"IF($K18=P$1,COUNTIF($C18,\"G\"),0)","v":0},null,{"$f":"IF($K18=R$1,COUNTIF($C18,\"G\"),0)","v":0}]

{"sheet":"RAMET Jacques","index":130,"n_rows":67,"n_cols":22,"rows_kept":67,"cut":false,"hidden":false,"merged":[]}
["RAMET Jacques",null,null,null,null,null,null,null,null,null,null,null,null,null,null,{"$f":"SaisonDeb","v":"2021-2022"},null,{"$f":"SaisonFin","v":"2022-2023"},null,"Toutes saisons"]
[{"$error":"#N/A"},null,null,null,null,null,null,null,null,null,null,null,null,null,null,"Nombre","%age","Nombre","%age","Nombre","%age"]
[{"$error":"#N/A"},null,null,null,null,null,null,null,null,null,null,null,null,"Matchs","Gagnés",{"$f":"SUM(P$15:P$163)","v":2},{"$f":"IF(P$3+P$4>0,P3/(P$3+P$4),\"\")","v":0.2},{"$f":"SUM(R$15:R$163)","v":0},{"$f":"IF(R$3+R$4>0,R3/(R$3+R$4),\"\")","v":0},{"$f":"COUNTIF($C$15:$C$163,\"G\")","v":10},{"$f":"IF(T$3+T$4>0,T3/(T$3+T$4),\"\")","v":0.19607843137254902}]
[{"$error":"#N/A"},null,null,null,null,null,null,null,null,null,null,null,null,null,"Perdus",{"$f":"COUNTIF($K$15:$M$163,SaisonDeb)-P3","v":8},{"$f":"IF(P$3+P$4>0,P4/(P$3+P$4),\"\")","v":0.8},{"$f":"COUNTIF($K$15:$K$163,SaisonFin)-R3","v":2},{"$f":"IF(R$3+R$4>0,R4/(R$3+R$4),\"\")","v":1},{"$f":"COUNTIF($C$15:$C$163,\"P\")","v":41},{"$f":"IF(T$3+T$4>0,T4/(T$3+T$4),\"\")","v":0.80392156862745101}]
[{"$error":"#N/A"},null,null,null,null,null,null,null,null,null,null,null,null,null,"Total / Moy.",{"$f":"SUM(P3:P4)","v":10},{"$f":"IF(SUMIF($K$15:$K$163,SaisonDeb,$G$15:$G$163)>0,SUMIF($K$15:$K$163,SaisonDeb,$F$15:$F$163)/SUMIF($K$15:$K$163,SaisonDeb,$G$15:$G$163),\"\")","v":0.88446824789594491},{"$f":"SUM(R3:R4)","v":2},{"$f":"IF(SUMIF($K$15:$K$163,SaisonFin,$G$15:$G$163)>0,SUMIF($K$15:$K$163,SaisonFin,$F$15:$F$163)/SUMIF($K$15:$K$163,SaisonFin,$G$15:$G$163),\"\")","v":0.57499999999999996},{"$f":"SUM(T3:T4)","v":51},{"$f":"IF(SUM($G$15:$G$163)>0,SUM($F$15:$F$163)/SUM($G$15:$G$163),\"\")","v":0.7751116071428571},{"$f":"IF(SUMIF($K$15:$K$67,SaisonDeb,$G$15:$G$67)+SUMIF($K$15:$K$67,SaisonFin,$G$15:$G$67)>0,(SUMIF($K$15:$K$67,SaisonDeb,$F$15:$F$67)+SUMIF($K$15:$K$67,SaisonFin,$F$15:$F$67))/(SUMIF($K$15:$K$67,SaisonDeb,$G$15:$G$67)+SUMIF($K$15:$K$67,SaisonFin,$G$15:$G$67)),\"\")","v":0.83645765998707178}]
[null,null,null,null,null,null,null,null,null,null,null,null,null,"Sets","Gagnés",{"$f":"SUMIF($K$15:$K$163,SaisonDeb,$D$15:$D$163)","v":9},{"$f":"IF(P$6+P$7>0,P6/(P$6+P$7),\"\")","v":0.375},{"$f":"SUMIF($K$15:$K$163,SaisonFin,$D$15:$D$163)","v":0},{"$f":"IF(R$6+R$7>0,R6/(R$6+R$7),\"\")","v":0},{"$f":"SUM($D$15:$D$163)","v":40},{"$f":"IF(T$6+T$7>0,T6/(T$6+T$7),\"\")","v":0.28985507246376813}]
[null,null,null,null,null,null,null,null,null,null,null,null,null,null,"Perdus",{"$f":"SUMIF($K$15:$K$163,SaisonDeb,$E$15:$E$163)","v":15},{"$f":"IF(P$6+P$7>0,P7/(P$6+P$7),\"\")","v":0.625},{"$f":"SUMIF($K$15:$K$163,SaisonFin,$E$15:$E$163)","v":4},{"$f":"IF(R$6+R$7>0,R7/(R$6+R$7),\"\")","v":1},{"$f":"SUM($E$15:$E$163)","v":98},{"$f":"IF(T$6+T$7>0,T7/(T$6+T$7),\"\")","v":0.71014492753623193}]
["Récapitulatif joueurs",null,null,null,null,null,null,null,null,null,null,null,null,null,"Total",{"$f":"SUM(P6:P7)","v":24},null,{"$f":"SUM(R6:R7)","v":4},null,{"$f":"SUM(T6:T7)","v":138}]
[]
[]
[]
[]
[]
[]
["Joueur","Adversaire","G/P","Sets gagnés","Sets perdus","pts marqués","pts subis","Date","Compétition","Phase","Saison"]
["RAMET Jacques","COFFRE Frédéric","P",1,3,129,194,"2016-01-17","T1 Qualifications CD62 R1 Maritime - CUCQ","Qualifications",{"$f":"IF(H16<>\"\",IF(MONTH(H16)>MoisRef,YEAR(H16)&\"-\"&YEAR(H16)+1,YEAR(H16)-1&\"-\"&YEAR(H16)),\"\")","v":"2015-2016"},null,null,null,null,{"$f":"IF($K16=P$1,COUNTIF($C16,\"G\"),0)","v":0},null,{"$f":"IF($K16=R$1,COUNTIF($C16,\"G\"),0)","v":0}]
["RAMET Jacques","PIERRU Didier","P",0,3,91,150,"2016-01-17","T1 Qualifications CD62 R1 Maritime - CUCQ","Qualifications","2015-2016",null,null,null,null,0,null,0]
["RAMET Jacques","COFFRE Frédéric","P",1,3,129,194,"2016-01-17","T1 Qualifications CD62 R1 Maritime - CUCQ","Qualifications","2015-2016",null,null,null,null,0,null,0]
["RAMET Jacques","PIERRU Didier","P",0,3,91,150,"2016-01-17","T1 Qualifications CD62 R1 Maritime - CUCQ","Qualifications","2015-2016",null,null,null,null,0,null,0]
["RAMET Jacques","CAPLIEZ Bernard","G",3,2,217,203,"2016-03-13","T3 Qualifications CD62 R1 Maritime - Cucq","Qualifications","2015-2016",null,null,null,null,0,null,0]
["RAMET Jacques","PIERRU Didier","P",0,3,77,150,"2016-03-13","T3 Qualifications CD62 R1 Maritime - Cucq","Qualifications","2015-2016",null,null,null,null,0,null,0]
["RAMET Jacques","TRIPLET Gilbert","P",2,3,169,227,"2016-03-13","T3 Qualifications CD62 R1 Maritime - Cucq","1/4 Finale","2015-2016",null,null,null,null,0,null,0]
["RAMET Jacques","MARTEL Bruno","P",1,3,138,199,"2016-12-11","T1 Qualification CD62 R1 Maritime - CUCQ","Qualifications","2016-2017",null,null,null,null,0,null,0]
["RAMET Jacques","MARTEL Michel","P",0,3,136,150,"2016-12-11","T1 Qualification CD62 R1 Maritime - CUCQ","Qualifications","2016-2017",null,null,null,null,0,null,0]
["RAMET Jacques","BLONDEEL Bruno","P",0,3,103,150,"2017-01-08","T2 Qualification CD62 R1 Maritime - Wimille","Qualifications","2016-2017",null,null,null,null,0,null,0]
["RAMET Jacques","DEPLECHIN Roland","P",0,3,93,150,"2017-01-08","T2 Qualification CD62 R1 Maritime - Wimille","Qualifications","2016-2017",null,null,null,null,0,null,0]
["RAMET Jacques","BLONDEEL Bruno","P",2,3,199,209,"2017-02-11","T3 Qualification CD62 R1 Maritime - CUCQ","Qualifications","2016-2017",null,null,null,null,0,null,0]
["RAMET Jacques","TRIPLET Eddy","P",0,3,105,150,"2017-02-11","T3 Qualification CD62 R1 Maritime - CUCQ","Qualifications","2016-2017",null,null,null,null,0,null,0]
["RAMET Jacques","FLAHAUT Ghislain","G",2,1,149,136,"2017-12-10","T1 Qualification CD62 R1 - CUCQ","Qualifications","2017-2018",null,null,null,null,0,null,0]
["RAMET Jacques","MARTEL Bruno","P",1,2,121,174,"2017-12-10","T1 Qualification CD62 R1 - CUCQ","Qualifications","2017-2018",null,null,null,null,0,null,0]
["RAMET Jacques","FLAHAUT Ghislain","G",2,1,149,136,"2018-01-06","T2 Qualification CD62 R1 - xxxx","Qualifications","2017-2018",null,null,null,null,0,null,0]
["RAMET Jacques","MARTEL Bruno","P",1,2,121,174,"2018-01-06","T2 Qualification CD62 R1 - xxxx","Qualifications","2017-2018",null,null,null,null,0,null,0]
["RAMET Jacques","MONTADOR Ludovic","P",1,2,113,156,"2018-01-13","T2 Qualification CD62 R1 - WIMILLE","Qualifications","2017-2018",null,null,null,null,0,null,0]
["RAMET Jacques","MONTADOR Ludovic","P",0,2,86,120,"2018-01-13","T2 Qualification CD62 R1 - WIMILLE","Qualifications","2017-2018",null,null,null,null,0,null,0]
["RAMET Jacques","MARTEL Bruno","P",0,2,55,120,"2018-02-24","T3 Qualification CD62 R1 - WIMILLE","Qualifications","2017-2018",null,null,null,null,0,null,0]
["RAMET Jacques","MARTEL Bruno","P",1,2,139,165,"2018-02-24","T3 Qualification CD62 R1 - WIMILLE","Qualifications","2017-2018",null,null,null,null,0,null,0]
["RAMET Jacques","CAPLIEZ Bernard","P",0,2,73,120,"2018-03-18","T4 Qualification CD62 R1 - CUCQ","Qualifications","2017-2018",null,null,null,null,0,null,0]
["RAMET Jacques","CAPLIEZ Bernard","P",0,2,62,120,"2018-03-18","T4 Qualification CD62 R1 - CUCQ","Qualifications","2017-2018",null,null,null,null,0,null,0]
["RAMET Jacques","FLAHAUT Ghislain","G",2,1,144,116,"2019-01-13","T3 Qualification CD62 R1 - WIMILLE","Qualifications","2018-2019",null,null,null,null,0,null,0]
["RAMET Jacques","MONTADOR Christophe","P",0,2,81,120,"2019-01-13","T3 Qualification CD62 R1 - WIMILLE","Qualifications","2018-2019",null,null,null,null,0,null,0]
["RAMET Jacques","CARTIERE André","P",0,2,62,120,"2018-12-01","T2 Qualification CD62 R1 - WIMILLE","1/2 Finale","2018-2019",null,null,null,null,0,null,0]
["RAMET Jacques","FLAHAUT Ghislain","G",2,0,120,96,"2018-12-01","T2 Qualification CD62 R1 - WIMILLE","Qualifications","2018-2019",null,null,null,null,0,null,0]
["RAMET Jacques","MARTEL Bruno","P",1,2,111,166,"2018-12-01","T2 Qualification CD62 R1 - WIMILLE","Qualifications","2018-2019",null,null,null,null,0,null,0]
["RAMET Jacques","DEPLECHIN Roland","P",0,2,41,120,"2018-11-03","T1 Qualification CD62 R1 - CUCQ","Qualifications","2018-2019",null,null,null,null,0,null,0]
["RAMET Jacques","MONTADOR Christophe","P",0,2,69,120,"2018-11-03","T1 Qualification CD62 R1 - CUCQ","Qualifications","2018-2019",null,null,null,null,0,null,0]
["RAMET Jacques","FLAHAUT Ghislain","G",2,0,120,89,"2019-01-27","T4 Qualification CD62 R1 - CUCQ","Qualifications","2018-2019",null,null,null,null,0,null,0]
["RAMET Jacques","MONTADOR Ludovic","P",0,2,29,120,"2019-01-27","T4 Qualification CD62 R1 - CUCQ","Qualifications","2018-2019",null,null,null,null,0,null,0]
["RAMET Jacques","MONTADOR Christophe","G",2,0,120,99,"2020-01-12","T1 Qualifications CD 62 R1 - CUCQ","Qualifications","2019-2020",null,null,null,null,0,null,0]
["RAMET Jacques","MONTADOR Christophe","P",1,2,161,143,"2020-01-12","T1 Qualifications CD 62 R1 - CUCQ","Qualifications","2019-2020",null,null,null,null,0,null,0]
["RAMET Jacques","TRIPLET  Gilbert","P",0,2,64,120,"2020-01-12","T1 Qualifications CD 62 R1 - CUCQ","1/2 Finale","2019-2020",null,null,null,null,0,null,0]
["RAMET Jacques","CYFFERS Jean Bernard","P",1,2,128,160,"2020-02-02","T2 Qualifications CD62 R1 - WIMILLE","Qualifications","2019-2020",null,null,null,null,0,null,0]
["RAMET Jacques","FLAHAUT Ghislain","P",0,2,83,120,"2020-02-02","T2 Qualifications CD62 R1 - WIMILLE","Qualifications","2019-2020",null,null,null,null,0,null,0]
["RAMET Jacques","FLAHAUT Ghislain","G",2,0,120,95,"2020-02-15","T3 Qualifications CD62 R1 - WIMILLE","Qualifications","2019-2020",null,null,null,null,0,null,0]
["RAMET Jacques","MONTADOR Christophe","P",0,2,64,120,"2020-02-15","T3 Qualifications CD62 R1 - WIMILLE","Qualifications","2019-2020",null,null,null,null,0,null,0]
["RAMET Jacques","DUCROCQ  Joël","P",1,2,121,178,"2021-10-24","T1 CD62 5Q R1 - CUCQ","Qualifications","2021-2022",null,null,null,null,0,null,0]
["RAMET Jacques","DUCROCQ  Joël","P",1,2,137,165,"2021-10-24","T1 CD62 5Q R1 - CUCQ","Qualifications","2021-2022",null,null,null,null,0,null,0]
["RAMET Jacques","LEBECQ Jean Pierre","P",1,2,120,158,"2021-12-18","T3 CD62 5Q R1 - CUCQ","1/2 Finale","2021-2022",null,null,null,null,0,null,0]
["RAMET Jacques","MONTADOR Christophe","P",0,2,75,120,"2021-12-18","T3 CD62 5Q R1 - CUCQ","Qualifications","2021-2022",null,null,null,null,0,null,0]
["RAMET Jacques","TRIPLET Eddie","G",2,0,120,67,"2021-12-18","T3 CD62 5Q R1 - CUCQ","Qualifications","2021-2022",null,null,null,null,1,null,0]
["RAMET Jacques","FLAHAUT Ghislain","P",1,1,152,154,"2022-01-29","T4 CD62 5Q R1 - CUCQ","Qualifications","2021-2022",null,null,null,null,0,null,0]
["RAMET Jacques","FLAHAUT Ghislain","G",2,0,120,62,"2022-01-29","T4 CD62 5Q R1 - CUCQ","Qualifications","2021-2022",null,null,null,null,1,null,0]
["RAMET Jacques","FLAHAUT Ghislain","P",1,2,159,163,"2022-01-29","T4 CD62 5Q R1 - CUCQ","1/2 Finale","2021-2022",null,null,null,null,0,null,0]
["RAMET Jacques","DUCROCQ  Joël","P",0,2,80,120,"2021-11-27","T2 CD62 5Q R1 - WIMILLE","Qualifications","2021-2022",null,null,null,null,0,null,0]
["RAMET Jacques","DUCROCQ  Joël","P",0,2,72,120,"2021-11-27","T2 CD62 5Q R1 - WIMILLE","Qualifications","2021-2022",null,null,null,null,0,null,0]
["RAMET Jacques","TILLIETTE Michel","P",0,2,79,120,"2022-11-05","T1 CD62 5Q R1 - WIMILLE","Qualifications","2022-2023",null,null,null,null,0,null,0]
["RAMET Jacques","TILLIETTE Michel","P",0,2,59,120,"2022-11-05","T1 CD62 5Q R1 - WIMILLE","Qualifications","2022-2023",null,null,null,null,0,null,0]
["Fin des données",null,null,null,null,null,null,null,null,null,"",null,null,null,null,{"$f":"IF($K67=P$1,COUNTIF($C67,\"G\"),0)","v":0},null,{"$f":"IF($K67=R$1,COUNTIF($C67,\"G\"),0)","v":0}]

{"sheet":"RENAULT Marius","index":131,"n_rows":48,"n_cols":22,"rows_kept":48,"cut":false,"hidden":false,"merged":[]}
["RENAULT Marius",null,null,null,null,null,null,null,null,null,null,null,null,null,null,{"$f":"SaisonDeb","v":"2021-2022"},null,{"$f":"SaisonFin","v":"2022-2023"},null,"Toutes saisons"]
[{"$error":"#N/A"},null,null,null,null,null,null,null,null,null,null,null,null,null,null,"Nombre","%age","Nombre","%age","Nombre","%age"]
[{"$error":"#N/A"},null,null,null,null,null,null,null,null,null,null,null,null,"Matchs","Gagnés",{"$f":"SUM(P$15:P$144)","v":0},{"$f":"IF(P$3+P$4>0,P3/(P$3+P$4),\"\")","v":""},{"$f":"SUM(R$15:R$144)","v":0},{"$f":"IF(R$3+R$4>0,R3/(R$3+R$4),\"\")","v":""},{"$f":"COUNTIF($C$15:$C$144,\"G\")","v":16},{"$f":"IF(T$3+T$4>0,T3/(T$3+T$4),\"\")","v":0.5}]
[{"$error":"#N/A"},null,null,null,null,null,null,null,null,null,null,null,null,null,"Perdus",{"$f":"COUNTIF($K$15:$M$144,SaisonDeb)-P3","v":0},{"$f":"IF(P$3+P$4>0,P4/(P$3+P$4),\"\")","v":""},{"$f":"COUNTIF($K$15:$K$144,SaisonFin)-R3","v":0},{"$f":"IF(R$3+R$4>0,R4/(R$3+R$4),\"\")","v":""},{"$f":"COUNTIF($C$15:$C$144,\"P\")","v":16},{"$f":"IF(T$3+T$4>0,T4/(T$3+T$4),\"\")","v":0.5}]
[{"$error":"#N/A"},null,null,null,null,null,null,null,null,null,null,null,null,null,"Total / Moy.",{"$f":"SUM(P3:P4)","v":0},{"$f":"IF(SUMIF($K$15:$K$144,SaisonDeb,$G$15:$G$144)>0,SUMIF($K$15:$K$144,SaisonDeb,$F$15:$F$144)/SUMIF($K$15:$K$144,SaisonDeb,$G$15:$G$144),\"\")","v":""},{"$f":"SUM(R3:R4)","v":0},{"$f":"IF(SUMIF($K$15:$K$144,SaisonFin,$G$15:$G$144)>0,SUMIF($K$15:$K$144,SaisonFin,$F$15:$F$144)/SUMIF($K$15:$K$144,SaisonFin,$G$15:$G$144),\"\")","v":""},{"$f":"SUM(T3:T4)","v":32},{"$f":"IF(SUM($G$15:$G$144)>0,SUM($F$15:$F$144)/SUM($G$15:$G$144),\"\")","v":0.95947592931139547},{"$f":"IF(SUMIF($K$15:$K$48,SaisonDeb,$G$15:$G$48)+SUMIF($K$15:$K$48,SaisonFin,$G$15:$G$48)>0,(SUMIF($K$15:$K$48,SaisonDeb,$F$15:$F$48)+SUMIF($K$15:$K$48,SaisonFin,$F$15:$F$48))/(SUMIF($K$15:$K$48,SaisonDeb,$G$15:$G$48)+SUMIF($K$15:$K$48,SaisonFin,$G$15:$G$48)),\"\")","v":""}]
[null,null,null,null,null,null,null,null,null,null,null,null,null,"Sets","Gagnés",{"$f":"SUMIF($K$15:$K$144,SaisonDeb,$D$15:$D$144)","v":0},{"$f":"IF(P$6+P$7>0,P6/(P$6+P$7),\"\")","v":""},{"$f":"SUMIF($K$15:$K$144,SaisonFin,$D$15:$D$144)","v":0},{"$f":"IF(R$6+R$7>0,R6/(R$6+R$7),\"\")","v":""},{"$f":"SUM($D$15:$D$144)","v":28},{"$f":"IF(T$6+T$7>0,T6/(T$6+T$7),\"\")","v":0.50909090909090904}]
[null,null,null,null,null,null,null,null,null,null,null,null,null,null,"Perdus",{"$f":"SUMIF($K$15:$K$144,SaisonDeb,$E$15:$E$144)","v":0},{"$f":"IF(P$6+P$7>0,P7/(P$6+P$7),\"\")","v":""},{"$f":"SUMIF($K$15:$K$144,SaisonFin,$E$15:$E$144)","v":0},{"$f":"IF(R$6+R$7>0,R7/(R$6+R$7),\"\")","v":""},{"$f":"SUM($E$15:$E$144)","v":27},{"$f":"IF(T$6+T$7>0,T7/(T$6+T$7),\"\")","v":0.49090909090909091}]
["Récapitulatif joueurs",null,null,null,null,null,null,null,null,null,null,null,null,null,"Total",{"$f":"SUM(P6:P7)","v":0},null,{"$f":"SUM(R6:R7)","v":0},null,{"$f":"SUM(T6:T7)","v":55}]
[]
[]
[]
[]
[]
[]
["Joueur","Adversaire","G/P","Sets gagnés","Sets perdus","pts marqués","pts subis","Date","Compétition","Phase","Saison"]
["RENAULT Marius","HERSELIN Jean-Claude","G",1,0,100,77,"2016-11-26","5Q  R1 CD80 - T1 ","Qualifications",{"$f":"IF(H16<>\"\",IF(MONTH(H16)>MoisRef,YEAR(H16)&\"-\"&YEAR(H16)+1,YEAR(H16)-1&\"-\"&YEAR(H16)),\"\")","v":"2016-2017"},null,null,null,null,{"$f":"IF($K16=P$1,COUNTIF($C16,\"G\"),0)","v":0},null,{"$f":"IF($K16=R$1,COUNTIF($C16,\"G\"),0)","v":0}]
["RENAULT Marius","WANQUETIN Sylvain","G",1,0,100,58,"2016-11-26","5Q  R1 CD80 - T1 ","Qualifications","2016-2017",null,null,null,null,0,null,0]
["RENAULT Marius","VASSEUR Gaëtan","G",1,0,100,85,"2016-11-26","5Q  R1 CD80 - T1 ","Qualifications","2016-2017",null,null,null,null,0,null,0]
["RENAULT Marius","CABUZEL Denis","P",0,1,78,100,"2016-11-26","5Q  R1 CD80 - T1 ","Qualifications","2016-2017",null,null,null,null,0,null,0]
["RENAULT Marius","BETTEFORT Mickael","P",0,1,54,100,"2017-01-21","5Q  R1 CD80 - T2 - ABBEVILLE","Qualifications","2016-2017",null,null,null,null,0,null,0]
["RENAULT Marius","DELAFOSSE Gilles","G",1,0,100,88,"2017-01-21","5Q  R1 CD80 - T2 - ABBEVILLE","Qualifications","2016-2017",null,null,null,null,0,null,0]
["RENAULT Marius","HERSELIN  Jean-Claude","G",1,0,100,45,"2017-01-21","5Q  R1 CD80 - T2 - ABBEVILLE","Qualifications","2016-2017",null,null,null,null,0,null,0]
["RENAULT Marius","MALET Eric","P",0,1,63,100,"2017-01-21","5Q  R1 CD80 - T2 - ABBEVILLE","Qualifications","2016-2017",null,null,null,null,0,null,0]
["RENAULT Marius","DELAFOSSE Gilles","G",1,0,100,99,"2017-02-25","5Q  R1 CD80 - T3 - MOREUIL","Qualifications","2016-2017",null,null,null,null,0,null,0]
["RENAULT Marius","HERSELIN Jean-claude","P",0,1,75,100,"2017-02-25","5Q  R1 CD80 - T3 - MOREUIL","Qualifications","2016-2017",null,null,null,null,0,null,0]
["RENAULT Marius","CUVILLIER Francois","P",0,1,69,100,"2017-02-25","5Q  R1 CD80 - T3 - MOREUIL","Qualifications","2016-2017",null,null,null,null,0,null,0]
["RENAULT Marius","CABUZEL Denis","P",0,1,86,100,"2017-02-25","5Q  R1 CD80 - T3 - MOREUIL","Qualifications","2016-2017",null,null,null,null,0,null,0]
["RENAULT Marius","DELRUE Céline","G",2,0,120,32,"2017-11-25","T1 5 QUILLES R1 CD80 - ABBEVILLE","Qualifications","2017-2018",null,null,null,null,0,null,0]
["RENAULT Marius","DUBOIS Jean-Bernard","P",1,2,150,170,"2017-11-25","T1 5 QUILLES R1 CD80 - ABBEVILLE","1/4 Finale","2017-2018",null,null,null,null,0,null,0]
["RENAULT Marius","MALET Eric","P",0,2,90,120,"2017-11-25","T1 5 QUILLES R1 CD80 - ABBEVILLE","Qualifications","2017-2018",null,null,null,null,0,null,0]
["RENAULT Marius","DELRUE Céline","G",2,1,168,126,"2018-01-06","T2 5 QUILLES R1 CD80 - ABBEVILLE","Qualifications","2017-2018",null,null,null,null,0,null,0]
["RENAULT Marius","DUHAMEL Eddy","P",0,2,63,120,"2018-01-06","T2 5 QUILLES R1 CD80 - ABBEVILLE","Qualifications","2017-2018",null,null,null,null,0,null,0]
["RENAULT Marius","WARIN Yannick","P",0,2,43,120,"2018-01-06","T2 5 QUILLES R1 CD80 - ABBEVILLE","1/4 Finale","2017-2018",null,null,null,null,0,null,0]
["RENAULT Marius","GUERIN Isabelle","G",1,0,80,45,"2018-02-17","T3 5 QUILLES R1 CD80 - CONSOLANTE - MOREUIL","Qualifications","2017-2018",null,null,null,null,0,null,0]
["RENAULT Marius","VACAVANT Michel","P",0,1,61,80,"2018-02-17","T3 5 QUILLES R1 CD80 - CONSOLANTE - MOREUIL","Qualifications","2017-2018",null,null,null,null,0,null,0]
["RENAULT Marius","HENRY Tony","P",0,2,66,120,"2018-02-17","T3 5 QUILLES R1 CD80 - MOREUIL","Qualifications","2017-2018",null,null,null,null,0,null,0]
["RENAULT Marius","HENRY Tony","P",1,2,113,175,"2018-02-17","T3 5 QUILLES R1 CD80 - MOREUIL","Qualifications","2017-2018",null,null,null,null,0,null,0]
["RENAULT Marius","DIEU Jean-Charles","G",2,0,120,96,"2018-10-20","T1 R1 CD80 - MOREUIL","1/4 Finale","2018-2019",null,null,null,null,0,null,0]
["RENAULT Marius","DUHAMEL Eddy","P",1,2,114,161,"2018-10-20","T1 R1 CD80 - MOREUIL","1/2 Finale","2018-2019",null,null,null,null,0,null,0]
["RENAULT Marius","HERSELIN Jean-Claude","G",2,0,120,90,"2018-10-20","T1 R1 CD80 - MOREUIL","Qualifications","2018-2019",null,null,null,null,0,null,0]
["RENAULT Marius","HERSELIN Jean-Claude","G",2,0,120,93,"2018-10-20","T1 R1 CD80 - MOREUIL","Qualifications","2018-2019",null,null,null,null,0,null,0]
["RENAULT Marius","CABUZEL Denis","G",2,0,120,108,"2018-11-24","T2 R1 CD80 - ","Qualifications","2018-2019",null,null,null,null,0,null,0]
["RENAULT Marius","DUHAMEL Eddy","P",0,2,62,120,"2018-11-24","T2 R1 CD80 - ","1/4 Finale","2018-2019",null,null,null,null,0,null,0]
["RENAULT Marius","DUHAMEL Marcellin","G",2,0,120,75,"2018-11-24","T2 R1 CD80 - ","1/8 Finale","2018-2019",null,null,null,null,0,null,0]
["RENAULT Marius","VACAVANT Michel","G",2,0,120,108,"2018-11-24","T2 R1 CD80 - ","Qualifications","2018-2019",null,null,null,null,0,null,0]
["RENAULT Marius","CABUZEL Denis","P",0,2,98,120,"2019-01-05","T3 R1 CD80 - MOREUIL","Qualifications","2018-2019",null,null,null,null,0,null,0]
["RENAULT Marius","DELRUE Céline","G",2,1,176,151,"2019-01-05","T3 R1 CD80 - MOREUIL","Qualifications","2018-2019",null,null,null,null,0,null,0]
["Fin des données",null,null,null,null,null,null,null,null,null,"",null,null,null,null,{"$f":"IF($K48=P$1,COUNTIF($C48,\"G\"),0)","v":0},null,{"$f":"IF($K48=R$1,COUNTIF($C48,\"G\"),0)","v":0}]

{"sheet":"ROUTHIER David","index":132,"n_rows":36,"n_cols":22,"rows_kept":36,"cut":false,"hidden":false,"merged":[]}
["ROUTHIER David",null,null,null,null,null,null,null,null,null,null,null,null,null,null,{"$f":"SaisonDeb","v":"2021-2022"},null,{"$f":"SaisonFin","v":"2022-2023"},null,"Toutes saisons"]
[{"$error":"#N/A"},null,null,null,null,null,null,null,null,null,null,null,null,null,null,"Nombre","%age","Nombre","%age","Nombre","%age"]
[{"$error":"#N/A"},null,null,null,null,null,null,null,null,null,null,null,null,"Matchs","Gagnés",{"$f":"SUM(P$15:P$132)","v":3},{"$f":"IF(P$3+P$4>0,P3/(P$3+P$4),\"\")","v":0.6},{"$f":"SUM(R$15:R$132)","v":0},{"$f":"IF(R$3+R$4>0,R3/(R$3+R$4),\"\")","v":""},{"$f":"COUNTIF($C$15:$C$132,\"G\")","v":10},{"$f":"IF(T$3+T$4>0,T3/(T$3+T$4),\"\")","v":0.5}]
[{"$error":"#N/A"},null,null,null,null,null,null,null,null,null,null,null,null,null,"Perdus",{"$f":"COUNTIF($K$15:$M$132,SaisonDeb)-P3","v":2},{"$f":"IF(P$3+P$4>0,P4/(P$3+P$4),\"\")","v":0.4},{"$f":"COUNTIF($K$15:$K$132,SaisonFin)-R3","v":0},{"$f":"IF(R$3+R$4>0,R4/(R$3+R$4),\"\")","v":""},{"$f":"COUNTIF($C$15:$C$132,\"P\")","v":10},{"$f":"IF(T$3+T$4>0,T4/(T$3+T$4),\"\")","v":0.5}]
[{"$error":"#N/A"},null,null,null,null,null,null,null,null,null,null,null,null,null,"Total / Moy.",{"$f":"SUM(P3:P4)","v":5},{"$f":"IF(SUMIF($K$15:$K$132,SaisonDeb,$G$15:$G$132)>0,SUMIF($K$15:$K$132,SaisonDeb,$F$15:$F$132)/SUMIF($K$15:$K$132,SaisonDeb,$G$15:$G$132),\"\")","v":1.0094451003541913},{"$f":"SUM(R3:R4)","v":0},{"$f":"IF(SUMIF($K$15:$K$132,SaisonFin,$G$15:$G$132)>0,SUMIF($K$15:$K$132,SaisonFin,$F$15:$F$132)/SUMIF($K$15:$K$132,SaisonFin,$G$15:$G$132),\"\")","v":""},{"$f":"SUM(T3:T4)","v":20},{"$f":"IF(SUM($G$15:$G$132)>0,SUM($F$15:$F$132)/SUM($G$15:$G$132),\"\")","v":0.99874581939799334},{"$f":"IF(SUMIF($K$15:$K$36,SaisonDeb,$G$15:$G$36)+SUMIF($K$15:$K$36,SaisonFin,$G$15:$G$36)>0,(SUMIF($K$15:$K$36,SaisonDeb,$F$15:$F$36)+SUMIF($K$15:$K$36,SaisonFin,$F$15:$F$36))/(SUMIF($K$15:$K$36,SaisonDeb,$G$15:$G$36)+SUMIF($K$15:$K$36,SaisonFin,$G$15:$G$36)),\"\")","v":1.0094451003541913}]
[null,null,null,null,null,null,null,null,null,null,null,null,null,"Sets","Gagnés",{"$f":"SUMIF($K$15:$K$132,SaisonDeb,$D$15:$D$132)","v":9},{"$f":"IF(P$6+P$7>0,P6/(P$6+P$7),\"\")","v":0.5625},{"$f":"SUMIF($K$15:$K$132,SaisonFin,$D$15:$D$132)","v":0},{"$f":"IF(R$6+R$7>0,R6/(R$6+R$7),\"\")","v":""},{"$f":"SUM($D$15:$D$132)","v":24},{"$f":"IF(T$6+T$7>0,T6/(T$6+T$7),\"\")","v":0.52173913043478259}]
[null,null,null,null,null,null,null,null,null,null,null,null,null,null,"Perdus",{"$f":"SUMIF($K$15:$K$132,SaisonDeb,$E$15:$E$132)","v":7},{"$f":"IF(P$6+P$7>0,P7/(P$6+P$7),\"\")","v":0.4375},{"$f":"SUMIF($K$15:$K$132,SaisonFin,$E$15:$E$132)","v":0},{"$f":"IF(R$6+R$7>0,R7/(R$6+R$7),\"\")","v":""},{"$f":"SUM($E$15:$E$132)","v":22},{"$f":"IF(T$6+T$7>0,T7/(T$6+T$7),\"\")","v":0.47826086956521741}]
["Récapitulatif joueurs",null,null,null,null,null,null,null,null,null,null,null,null,null,"Total",{"$f":"SUM(P6:P7)","v":16},null,{"$f":"SUM(R6:R7)","v":0},null,{"$f":"SUM(T6:T7)","v":46}]
[]
[]
[]
[]
[]
[]
["Joueur","Adversaire","G/P","Sets gagnés","Sets perdus","pts marqués","pts subis","Date","Compétition","Phase","Saison"]
["ROUTHIER David","DUHAMEL Marcellin","G",1,0,100,84,"2017-11-25","CONSOLANTE 5 QUILLES R1 CD80 - ABBEVILLE","Qualifications",{"$f":"IF(H16<>\"\",IF(MONTH(H16)>MoisRef,YEAR(H16)&\"-\"&YEAR(H16)+1,YEAR(H16)-1&\"-\"&YEAR(H16)),\"\")","v":"2017-2018"},null,null,null,null,{"$f":"IF($K16=P$1,COUNTIF($C16,\"G\"),0)","v":0},null,{"$f":"IF($K16=R$1,COUNTIF($C16,\"G\"),0)","v":0}]
["ROUTHIER David","HERSELIN Jean-Claude","P",0,1,76,100,"2017-11-25","CONSOLANTE 5 QUILLES R1 CD80 - ABBEVILLE","Qualifications","2017-2018",null,null,null,null,0,null,0]
["ROUTHIER David","CUVILLIER François","P",0,2,77,120,"2017-11-25","T1 5 QUILLES R1 CD80 - ABBEVILLE","Qualifications","2017-2018",null,null,null,null,0,null,0]
["ROUTHIER David","DUHAMEL Marcellin","G",2,0,120,88,"2017-11-25","T1 5 QUILLES R1 CD80 - ABBEVILLE","Qualifications","2017-2018",null,null,null,null,0,null,0]
["ROUTHIER David","DUBOIS Jean-Bernard","P",0,2,78,120,"2018-01-06","T2 5 QUILLES R1 CD80 - ABBEVILLE","Qualifications","2017-2018",null,null,null,null,0,null,0]
["ROUTHIER David","DUHAMEL Eddy","P",0,2,78,120,"2018-01-06","T2 5 QUILLES R1 CD80 - ABBEVILLE","1/4 Finale","2017-2018",null,null,null,null,0,null,0]
["ROUTHIER David","DUHAMEL Marcellin","G",2,0,120,101,"2018-01-06","T2 5 QUILLES R1 CD80 - ABBEVILLE","Qualifications","2017-2018",null,null,null,null,0,null,0]
["ROUTHIER David","CHAIGNE Gilles","P",0,2,54,120,"2018-11-24","T2 R1 CD80 - ","1/2 Finale","2018-2019",null,null,null,null,0,null,0]
["ROUTHIER David","DUFRESNOY Michel","P",1,2,154,156,"2018-11-24","T2 R1 CD80 - ","Qualifications","2018-2019",null,null,null,null,0,null,0]
["ROUTHIER David","DUMEIGE Similien","G",2,0,120,55,"2018-11-24","T2 R1 CD80 - ","1/8 Finale","2018-2019",null,null,null,null,0,null,0]
["ROUTHIER David","GUERIN Astrid","G",2,0,120,87,"2018-11-24","T2 R1 CD80 - ","Qualifications","2018-2019",null,null,null,null,0,null,0]
["ROUTHIER David","POINTIN Régis","G",2,0,120,67,"2018-11-24","T2 R1 CD80 - ","1/4 Finale","2018-2019",null,null,null,null,0,null,0]
["ROUTHIER David","DUHAMEL Eddy","P",1,2,119,154,"2019-01-05","T3 R1 CD80 - MOREUIL","Qualifications","2018-2019",null,null,null,null,0,null,0]
["ROUTHIER David","DUMEIGE Stéphane","P",0,2,78,120,"2019-01-05","T3 R1 CD80 - MOREUIL","1/4 Finale","2018-2019",null,null,null,null,0,null,0]
["ROUTHIER David","HERSELIN Jean-Claude","G",2,0,120,53,"2019-01-05","T3 R1 CD80 - MOREUIL","Qualifications","2018-2019",null,null,null,null,0,null,0]
["ROUTHIER David","AIT BRAHIM Abdellaziz","G",1,0,80,36,"2021-12-18","T2 5Q R1 CD80 - MOREUIL","Qualifications","2021-2022",null,null,null,null,1,null,0]
["ROUTHIER David","GUERIN Astrid","G",1,0,80,77,"2021-12-18","T2 5Q R1 CD80 - MOREUIL","Qualifications","2021-2022",null,null,null,null,1,null,0]
["ROUTHIER David","DUHAMEL Marcellin","P",2,3,258,270,"2022-04-02","Finale 5Q R1 CD80 - abbeville","Finale CD80","2021-2022",null,null,null,null,0,null,0]
["ROUTHIER David","GUERIN Astrid","G",3,1,234,192,"2022-04-02","Finale 5Q R1 CD80 - abbeville","Finale CD80","2021-2022",null,null,null,null,1,null,0]
["ROUTHIER David","JOLY Kenan","P",2,3,203,272,"2022-04-02","Finale 5Q R1 CD80 - abbeville","Finale CD80","2021-2022",null,null,null,null,0,null,0]
["Fin des données",null,null,null,null,null,null,null,null,null,"",null,null,null,null,{"$f":"IF($K36=P$1,COUNTIF($C36,\"G\"),0)","v":0},null,{"$f":"IF($K36=R$1,COUNTIF($C36,\"G\"),0)","v":0}]

{"sheet":"ROZE Dominique","index":133,"n_rows":23,"n_cols":22,"rows_kept":23,"cut":false,"hidden":false,"merged":[]}
["ROZE Dominique",null,null,null,null,null,null,null,null,null,null,null,null,null,null,{"$f":"SaisonDeb","v":"2021-2022"},null,{"$f":"SaisonFin","v":"2022-2023"},null,"Toutes saisons"]
[{"$error":"#N/A"},null,null,null,null,null,null,null,null,null,null,null,null,null,null,"Nombre","%age","Nombre","%age","Nombre","%age"]
[{"$error":"#N/A"},null,null,null,null,null,null,null,null,null,null,null,null,"Matchs","Gagnés",{"$f":"SUM(P$15:P$119)","v":3},{"$f":"IF(P$3+P$4>0,P3/(P$3+P$4),\"\")","v":1},{"$f":"SUM(R$15:R$119)","v":2},{"$f":"IF(R$3+R$4>0,R3/(R$3+R$4),\"\")","v":0.5},{"$f":"COUNTIF($C$15:$C$119,\"G\")","v":5},{"$f":"IF(T$3+T$4>0,T3/(T$3+T$4),\"\")","v":0.7142857142857143}]
[{"$error":"#N/A"},null,null,null,null,null,null,null,null,null,null,null,null,null,"Perdus",{"$f":"COUNTIF($K$15:$M$119,SaisonDeb)-P3","v":0},{"$f":"IF(P$3+P$4>0,P4/(P$3+P$4),\"\")","v":0},{"$f":"COUNTIF($K$15:$K$119,SaisonFin)-R3","v":2},{"$f":"IF(R$3+R$4>0,R4/(R$3+R$4),\"\")","v":0.5},{"$f":"COUNTIF($C$15:$C$119,\"P\")","v":2},{"$f":"IF(T$3+T$4>0,T4/(T$3+T$4),\"\")","v":0.2857142857142857}]
[{"$error":"#N/A"},null,null,null,null,null,null,null,null,null,null,null,null,null,"Total / Moy.",{"$f":"SUM(P3:P4)","v":3},{"$f":"IF(SUMIF($K$15:$K$119,SaisonDeb,$G$15:$G$119)>0,SUMIF($K$15:$K$119,SaisonDeb,$F$15:$F$119)/SUMIF($K$15:$K$119,SaisonDeb,$G$15:$G$119),\"\")","v":1.1242937853107344},{"$f":"SUM(R3:R4)","v":4},{"$f":"IF(SUMIF($K$15:$K$119,SaisonFin,$G$15:$G$119)>0,SUMIF($K$15:$K$119,SaisonFin,$F$15:$F$119)/SUMIF($K$15:$K$119,SaisonFin,$G$15:$G$119),\"\")","v":0.86403508771929827},{"$f":"SUM(T3:T4)","v":7},{"$f":"IF(SUM($G$15:$G$119)>0,SUM($F$15:$F$119)/SUM($G$15:$G$119),\"\")","v":0.95279383429672448},{"$f":"IF(SUMIF($K$15:$K$23,SaisonDeb,$G$15:$G$23)+SUMIF($K$15:$K$23,SaisonFin,$G$15:$G$23)>0,(SUMIF($K$15:$K$23,SaisonDeb,$F$15:$F$23)+SUMIF($K$15:$K$23,SaisonFin,$F$15:$F$23))/(SUMIF($K$15:$K$23,SaisonDeb,$G$15:$G$23)+SUMIF($K$15:$K$23,SaisonFin,$G$15:$G$23)),\"\")","v":0.95279383429672448}]
[null,null,null,null,null,null,null,null,null,null,null,null,null,"Sets","Gagnés",{"$f":"SUMIF($K$15:$K$119,SaisonDeb,$D$15:$D$119)","v":6},{"$f":"IF(P$6+P$7>0,P6/(P$6+P$7),\"\")","v":1},{"$f":"SUMIF($K$15:$K$119,SaisonFin,$D$15:$D$119)","v":6},{"$f":"IF(R$6+R$7>0,R6/(R$6+R$7),\"\")","v":0.5},{"$f":"SUM($D$15:$D$119)","v":12},{"$f":"IF(T$6+T$7>0,T6/(T$6+T$7),\"\")","v":0.66666666666666663}]
[null,null,null,null,null,null,null,null,null,null,null,null,null,null,"Perdus",{"$f":"SUMIF($K$15:$K$119,SaisonDeb,$E$15:$E$119)","v":0},{"$f":"IF(P$6+P$7>0,P7/(P$6+P$7),\"\")","v":0},{"$f":"SUMIF($K$15:$K$119,SaisonFin,$E$15:$E$119)","v":6},{"$f":"IF(R$6+R$7>0,R7/(R$6+R$7),\"\")","v":0.5},{"$f":"SUM($E$15:$E$119)","v":6},{"$f":"IF(T$6+T$7>0,T7/(T$6+T$7),\"\")","v":0.33333333333333331}]
["Récapitulatif joueurs",null,null,null,null,null,null,null,null,null,null,null,null,null,"Total",{"$f":"SUM(P6:P7)","v":6},null,{"$f":"SUM(R6:R7)","v":12},null,{"$f":"SUM(T6:T7)","v":18}]
[]
[]
[]
[]
[]
[]
["Joueur","Adversaire","G/P","Sets gagnés","Sets perdus","pts marqués","pts subis","Date","Compétition","Phase","Saison"]
["ROZE Dominique","BABOLEIN Clément","G",2,0,120,82,"2022-01-29","T3 CD02 TOUTE CATEGORIE - Saint-Quentin","Qualifications",{"$f":"IF(H16<>\"\",IF(MONTH(H16)>MoisRef,YEAR(H16)&\"-\"&YEAR(H16)+1,YEAR(H16)-1&\"-\"&YEAR(H16)),\"\")","v":"2021-2022"},null,null,null,null,{"$f":"IF($K16=P$1,COUNTIF($C16,\"G\"),0)","v":1},null,{"$f":"IF($K16=R$1,COUNTIF($C16,\"G\"),0)","v":0}]
["ROZE Dominique","BUTTI Bertrand","G",2,0,158,187,"2022-01-29","T3 CD02 R1 N1- Billard Club de Saint-Quentin","Qualifications","2021-2022",null,null,null,null,1,null,0]
["ROZE Dominique","BUTTI EmIlie","G",2,0,120,85,"2022-01-29","T3 CD02 TOUTE CATEGORIE - Saint-Quentin","Qualifications","2021-2022",null,null,null,null,1,null,0]
["ROZE Dominique","BUTTI EmIlie","G",3,0,180,157,"2022-12-03","T1 CD02 R1 - saint quentin","Qualifications","2022-2023",null,null,null,null,0,null,1]
["ROZE Dominique","FRANCOIS  Bernard","P",1,3,188,238,"2022-12-03","T1 CD02 R1 - saint quentin","Qualifications","2022-2023",null,null,null,null,0,null,0]
["ROZE Dominique","FRANCOIS Bernard","G",2,1,140,169,"2023-01-28","T2 CD02 R1   poule 1 - SAINT QUENTIN","Qualifications","2022-2023",null,null,null,null,0,null,1]
["ROZE Dominique","LEFEVRE  Alexandre","P",0,2,83,120,"2023-01-28","T2 CD02 R1   poule 1 - SAINT QUENTIN","Qualifications","2022-2023",null,null,null,null,0,null,0]
["Fin des données",null,null,null,null,null,null,null,null,null,"",null,null,null,null,0,null,0]

{"sheet":"ROZE Roger","index":134,"n_rows":17,"n_cols":22,"rows_kept":17,"cut":false,"hidden":false,"merged":[]}
["ROZE Roger",null,null,null,null,null,null,null,null,null,null,null,null,null,null,{"$f":"SaisonDeb","v":"2021-2022"},null,{"$f":"SaisonFin","v":"2022-2023"},null,"Toutes saisons"]
[{"$error":"#N/A"},null,null,null,null,null,null,null,null,null,null,null,null,null,null,"Nombre","%age","Nombre","%age","Nombre","%age"]
[{"$error":"#N/A"},null,null,null,null,null,null,null,null,null,null,null,null,"Matchs","Gagnés",{"$f":"SUM(P$15:P$113)","v":0},{"$f":"IF(P$3+P$4>0,P3/(P$3+P$4),\"\")","v":0},{"$f":"SUM(R$15:R$113)","v":0},{"$f":"IF(R$3+R$4>0,R3/(R$3+R$4),\"\")","v":""},{"$f":"COUNTIF($C$15:$C$113,\"G\")","v":0},{"$f":"IF(T$3+T$4>0,T3/(T$3+T$4),\"\")","v":0}]
[{"$error":"#N/A"},null,null,null,null,null,null,null,null,null,null,null,null,null,"Perdus",{"$f":"COUNTIF($K$15:$M$113,SaisonDeb)-P3","v":1},{"$f":"IF(P$3+P$4>0,P4/(P$3+P$4),\"\")","v":1},{"$f":"COUNTIF($K$15:$K$113,SaisonFin)-R3","v":0},{"$f":"IF(R$3+R$4>0,R4/(R$3+R$4),\"\")","v":""},{"$f":"COUNTIF($C$15:$C$113,\"P\")","v":1},{"$f":"IF(T$3+T$4>0,T4/(T$3+T$4),\"\")","v":1}]
[{"$error":"#N/A"},null,null,null,null,null,null,null,null,null,null,null,null,null,"Total / Moy.",{"$f":"SUM(P3:P4)","v":1},{"$f":"IF(SUMIF($K$15:$K$113,SaisonDeb,$G$15:$G$113)>0,SUMIF($K$15:$K$113,SaisonDeb,$F$15:$F$113)/SUMIF($K$15:$K$113,SaisonDeb,$G$15:$G$113),\"\")","v":0.55833333333333335},{"$f":"SUM(R3:R4)","v":0},{"$f":"IF(SUMIF($K$15:$K$113,SaisonFin,$G$15:$G$113)>0,SUMIF($K$15:$K$113,SaisonFin,$F$15:$F$113)/SUMIF($K$15:$K$113,SaisonFin,$G$15:$G$113),\"\")","v":""},{"$f":"SUM(T3:T4)","v":1},{"$f":"IF(SUM($G$15:$G$113)>0,SUM($F$15:$F$113)/SUM($G$15:$G$113),\"\")","v":0.55833333333333335},{"$f":"IF(SUMIF($K$15:$K$17,SaisonDeb,$G$15:$G$17)+SUMIF($K$15:$K$17,SaisonFin,$G$15:$G$17)>0,(SUMIF($K$15:$K$17,SaisonDeb,$F$15:$F$17)+SUMIF($K$15:$K$17,SaisonFin,$F$15:$F$17))/(SUMIF($K$15:$K$17,SaisonDeb,$G$15:$G$17)+SUMIF($K$15:$K$17,SaisonFin,$G$15:$G$17)),\"\")","v":0.55833333333333335}]
[null,null,null,null,null,null,null,null,null,null,null,null,null,"Sets","Gagnés",{"$f":"SUMIF($K$15:$K$113,SaisonDeb,$D$15:$D$113)","v":0},{"$f":"IF(P$6+P$7>0,P6/(P$6+P$7),\"\")","v":0},{"$f":"SUMIF($K$15:$K$113,SaisonFin,$D$15:$D$113)","v":0},{"$f":"IF(R$6+R$7>0,R6/(R$6+R$7),\"\")","v":""},{"$f":"SUM($D$15:$D$113)","v":0},{"$f":"IF(T$6+T$7>0,T6/(T$6+T$7),\"\")","v":0}]
[null,null,null,null,null,null,null,null,null,null,null,null,null,null,"Perdus",{"$f":"SUMIF($K$15:$K$113,SaisonDeb,$E$15:$E$113)","v":2},{"$f":"IF(P$6+P$7>0,P7/(P$6+P$7),\"\")","v":1},{"$f":"SUMIF($K$15:$K$113,SaisonFin,$E$15:$E$113)","v":0},{"$f":"IF(R$6+R$7>0,R7/(R$6+R$7),\"\")","v":""},{"$f":"SUM($E$15:$E$113)","v":2},{"$f":"IF(T$6+T$7>0,T7/(T$6+T$7),\"\")","v":1}]
["Récapitulatif joueurs",null,null,null,null,null,null,null,null,null,null,null,null,null,"Total",{"$f":"SUM(P6:P7)","v":2},null,{"$f":"SUM(R6:R7)","v":0},null,{"$f":"SUM(T6:T7)","v":2}]
[]
[]
[]
[]
[]
[]
["Joueur","Adversaire","G/P","Sets gagnés","Sets perdus","pts marqués","pts subis","Date","Compétition","Phase","Saison"]
["ROZE Roger","DURAND Jéremy","P",0,2,67,120,"2022-02-26","T4 CD02 R1 - Billard Club de Saint-Quentin","Qualifications",{"$f":"IF(H16<>\"\",IF(MONTH(H16)>MoisRef,YEAR(H16)&\"-\"&YEAR(H16)+1,YEAR(H16)-1&\"-\"&YEAR(H16)),\"\")","v":"2021-2022"},null,null,null,null,{"$f":"IF($K16=P$1,COUNTIF($C16,\"G\"),0)","v":0},null,{"$f":"IF($K16=R$1,COUNTIF($C16,\"G\"),0)","v":0}]
["Fin des données",null,null,null,null,null,null,null,null,null,{"$f":"IF(H17<>\"\",IF(MONTH(H17)>MoisRef,YEAR(H17)&\"-\"&YEAR(H17)+1,YEAR(H17)-1&\"-\"&YEAR(H17)),\"\")","v":""},null,null,null,null,{"$f":"IF($K17=P$1,COUNTIF($C17,\"G\"),0)","v":0},null,{"$f":"IF($K17=R$1,COUNTIF($C17,\"G\"),0)","v":0}]

{"sheet":"SAISON Bertrand","index":135,"n_rows":21,"n_cols":22,"rows_kept":21,"cut":false,"hidden":false,"merged":[]}
["SAISON Bertrand",null,null,null,null,null,null,null,null,null,null,null,null,null,null,{"$f":"SaisonDeb","v":"2021-2022"},null,{"$f":"SaisonFin","v":"2022-2023"},null,"Toutes saisons"]
[{"$error":"#N/A"},null,null,null,null,null,null,null,null,null,null,null,null,null,null,"Nombre","%age","Nombre","%age","Nombre","%age"]
[{"$error":"#N/A"},null,null,null,null,null,null,null,null,null,null,null,null,"Matchs","Gagnés",{"$f":"SUM(P$15:P$117)","v":0},{"$f":"IF(P$3+P$4>0,P3/(P$3+P$4),\"\")","v":""},{"$f":"SUM(R$15:R$117)","v":0},{"$f":"IF(R$3+R$4>0,R3/(R$3+R$4),\"\")","v":""},{"$f":"COUNTIF($C$15:$C$117,\"G\")","v":2},{"$f":"IF(T$3+T$4>0,T3/(T$3+T$4),\"\")","v":0.4}]
[{"$error":"#N/A"},null,null,null,null,null,null,null,null,null,null,null,null,null,"Perdus",{"$f":"COUNTIF($K$15:$M$117,SaisonDeb)-P3","v":0},{"$f":"IF(P$3+P$4>0,P4/(P$3+P$4),\"\")","v":""},{"$f":"COUNTIF($K$15:$K$117,SaisonFin)-R3","v":0},{"$f":"IF(R$3+R$4>0,R4/(R$3+R$4),\"\")","v":""},{"$f":"COUNTIF($C$15:$C$117,\"P\")","v":3},{"$f":"IF(T$3+T$4>0,T4/(T$3+T$4),\"\")","v":0.6}]
[{"$error":"#N/A"},null,null,null,null,null,null,null,null,null,null,null,null,null,"Total / Moy.",{"$f":"SUM(P3:P4)","v":0},{"$f":"IF(SUMIF($K$15:$K$117,SaisonDeb,$G$15:$G$117)>0,SUMIF($K$15:$K$117,SaisonDeb,$F$15:$F$117)/SUMIF($K$15:$K$117,SaisonDeb,$G$15:$G$117),\"\")","v":""},{"$f":"SUM(R3:R4)","v":0},{"$f":"IF(SUMIF($K$15:$K$117,SaisonFin,$G$15:$G$117)>0,SUMIF($K$15:$K$117,SaisonFin,$F$15:$F$117)/SUMIF($K$15:$K$117,SaisonFin,$G$15:$G$117),\"\")","v":""},{"$f":"SUM(T3:T4)","v":5},{"$f":"IF(SUM($G$15:$G$117)>0,SUM($F$15:$F$117)/SUM($G$15:$G$117),\"\")","v":0.91331269349845201},{"$f":"IF(SUMIF($K$15:$K$21,SaisonDeb,$G$15:$G$21)+SUMIF($K$15:$K$21,SaisonFin,$G$15:$G$21)>0,(SUMIF($K$15:$K$21,SaisonDeb,$F$15:$F$21)+SUMIF($K$15:$K$21,SaisonFin,$F$15:$F$21))/(SUMIF($K$15:$K$21,SaisonDeb,$G$15:$G$21)+SUMIF($K$15:$K$21,SaisonFin,$G$15:$G$21)),\"\")","v":""}]
[null,null,null,null,null,null,null,null,null,null,null,null,null,"Sets","Gagnés",{"$f":"SUMIF($K$15:$K$117,SaisonDeb,$D$15:$D$117)","v":0},{"$f":"IF(P$6+P$7>0,P6/(P$6+P$7),\"\")","v":""},{"$f":"SUMIF($K$15:$K$117,SaisonFin,$D$15:$D$117)","v":0},{"$f":"IF(R$6+R$7>0,R6/(R$6+R$7),\"\")","v":""},{"$f":"SUM($D$15:$D$117)","v":6},{"$f":"IF(T$6+T$7>0,T6/(T$6+T$7),\"\")","v":0.5}]
[null,null,null,null,null,null,null,null,null,null,null,null,null,null,"Perdus",{"$f":"SUMIF($K$15:$K$117,SaisonDeb,$E$15:$E$117)","v":0},{"$f":"IF(P$6+P$7>0,P7/(P$6+P$7),\"\")","v":""},{"$f":"SUMIF($K$15:$K$117,SaisonFin,$E$15:$E$117)","v":0},{"$f":"IF(R$6+R$7>0,R7/(R$6+R$7),\"\")","v":""},{"$f":"SUM($E$15:$E$117)","v":6},{"$f":"IF(T$6+T$7>0,T7/(T$6+T$7),\"\")","v":0.5}]
["Récapitulatif joueurs",null,null,null,null,null,null,null,null,null,null,null,null,null,"Total",{"$f":"SUM(P6:P7)","v":0},null,{"$f":"SUM(R6:R7)","v":0},null,{"$f":"SUM(T6:T7)","v":12}]
[]
[]
[]
[]
[]
[]
["Joueur","Adversaire","G/P","Sets gagnés","Sets perdus","pts marqués","pts subis","Date","Compétition","Phase","Saison"]
["SAISON Bertrand","CARTIERE André","G",2,0,120,86,"2019-01-13","T3 Qualification CD62 R1 - WIMILLE","Qualifications",{"$f":"IF(H16<>\"\",IF(MONTH(H16)>MoisRef,YEAR(H16)&\"-\"&YEAR(H16)+1,YEAR(H16)-1&\"-\"&YEAR(H16)),\"\")","v":"2018-2019"},null,null,null,null,{"$f":"IF($K16=P$1,COUNTIF($C16,\"G\"),0)","v":0},null,{"$f":"IF($K16=R$1,COUNTIF($C16,\"G\"),0)","v":0}]
["SAISON Bertrand","MARTEL Bruno","P",1,2,141,163,"2019-01-13","T3 Qualification CD62 R1 - WIMILLE","Qualifications","2018-2019",null,null,null,null,0,null,0]
["SAISON Bertrand","MONTADOR Christophe","P",0,2,68,120,"2019-01-13","T3 Qualification CD62 R1 - WIMILLE","1/2 Finale","2018-2019",null,null,null,null,0,null,0]
["SAISON Bertrand","MONTADOR Ludovic","P",1,2,141,175,"2018-11-03","T1 Qualification CD62 R1 - CUCQ","Qualifications","2018-2019",null,null,null,null,0,null,0]
["SAISON Bertrand","TIZON Alain","G",2,0,120,102,"2018-11-03","T1 Qualification CD62 R1 - CUCQ","Qualifications","2018-2019",null,null,null,null,0,null,0]
["Fin des données",null,null,null,null,null,null,null,null,null,"",null,null,null,null,0,null,0]

{"sheet":"SAUVAGE Maxime","index":136,"n_rows":19,"n_cols":22,"rows_kept":19,"cut":false,"hidden":false,"merged":[]}
["SAUVAGE Maxime",null,null,null,null,null,null,null,null,null,null,null,null,null,null,{"$f":"SaisonDeb","v":"2021-2022"},null,{"$f":"SaisonFin","v":"2022-2023"},null,"Toutes saisons"]
[{"$error":"#N/A"},null,null,null,null,null,null,null,null,null,null,null,null,null,null,"Nombre","%age","Nombre","%age","Nombre","%age"]
[{"$error":"#N/A"},null,null,null,null,null,null,null,null,null,null,null,null,"Matchs","Gagnés",{"$f":"SUM(P$15:P$115)","v":0},{"$f":"IF(P$3+P$4>0,P3/(P$3+P$4),\"\")","v":""},{"$f":"SUM(R$15:R$115)","v":0},{"$f":"IF(R$3+R$4>0,R3/(R$3+R$4),\"\")","v":""},{"$f":"COUNTIF($C$15:$C$115,\"G\")","v":2},{"$f":"IF(T$3+T$4>0,T3/(T$3+T$4),\"\")","v":0.66666666666666663}]
[{"$error":"#N/A"},null,null,null,null,null,null,null,null,null,null,null,null,null,"Perdus",{"$f":"COUNTIF($K$15:$M$115,SaisonDeb)-P3","v":0},{"$f":"IF(P$3+P$4>0,P4/(P$3+P$4),\"\")","v":""},{"$f":"COUNTIF($K$15:$K$115,SaisonFin)-R3","v":0},{"$f":"IF(R$3+R$4>0,R4/(R$3+R$4),\"\")","v":""},{"$f":"COUNTIF($C$15:$C$115,\"P\")","v":1},{"$f":"IF(T$3+T$4>0,T4/(T$3+T$4),\"\")","v":0.33333333333333331}]
[{"$error":"#N/A"},null,null,null,null,null,null,null,null,null,null,null,null,null,"Total / Moy.",{"$f":"SUM(P3:P4)","v":0},{"$f":"IF(SUMIF($K$15:$K$115,SaisonDeb,$G$15:$G$115)>0,SUMIF($K$15:$K$115,SaisonDeb,$F$15:$F$115)/SUMIF($K$15:$K$115,SaisonDeb,$G$15:$G$115),\"\")","v":""},{"$f":"SUM(R3:R4)","v":0},{"$f":"IF(SUMIF($K$15:$K$115,SaisonFin,$G$15:$G$115)>0,SUMIF($K$15:$K$115,SaisonFin,$F$15:$F$115)/SUMIF($K$15:$K$115,SaisonFin,$G$15:$G$115),\"\")","v":""},{"$f":"SUM(T3:T4)","v":3},{"$f":"IF(SUM($G$15:$G$115)>0,SUM($F$15:$F$115)/SUM($G$15:$G$115),\"\")","v":0.89567430025445294},{"$f":"IF(SUMIF($K$15:$K$19,SaisonDeb,$G$15:$G$19)+SUMIF($K$15:$K$19,SaisonFin,$G$15:$G$19)>0,(SUMIF($K$15:$K$19,SaisonDeb,$F$15:$F$19)+SUMIF($K$15:$K$19,SaisonFin,$F$15:$F$19))/(SUMIF($K$15:$K$19,SaisonDeb,$G$15:$G$19)+SUMIF($K$15:$K$19,SaisonFin,$G$15:$G$19)),\"\")","v":""}]
[null,null,null,null,null,null,null,null,null,null,null,null,null,"Sets","Gagnés",{"$f":"SUMIF($K$15:$K$115,SaisonDeb,$D$15:$D$115)","v":0},{"$f":"IF(P$6+P$7>0,P6/(P$6+P$7),\"\")","v":""},{"$f":"SUMIF($K$15:$K$115,SaisonFin,$D$15:$D$115)","v":0},{"$f":"IF(R$6+R$7>0,R6/(R$6+R$7),\"\")","v":""},{"$f":"SUM($D$15:$D$115)","v":4},{"$f":"IF(T$6+T$7>0,T6/(T$6+T$7),\"\")","v":0.5714285714285714}]
[null,null,null,null,null,null,null,null,null,null,null,null,null,null,"Perdus",{"$f":"SUMIF($K$15:$K$115,SaisonDeb,$E$15:$E$115)","v":0},{"$f":"IF(P$6+P$7>0,P7/(P$6+P$7),\"\")","v":""},{"$f":"SUMIF($K$15:$K$115,SaisonFin,$E$15:$E$115)","v":0},{"$f":"IF(R$6+R$7>0,R7/(R$6+R$7),\"\")","v":""},{"$f":"SUM($E$15:$E$115)","v":3},{"$f":"IF(T$6+T$7>0,T7/(T$6+T$7),\"\")","v":0.42857142857142855}]
["Récapitulatif joueurs",null,null,null,null,null,null,null,null,null,null,null,null,null,"Total",{"$f":"SUM(P6:P7)","v":0},null,{"$f":"SUM(R6:R7)","v":0},null,{"$f":"SUM(T6:T7)","v":7}]
[]
[]
[]
[]
[]
[]
["Joueur","Adversaire","G/P","Sets gagnés","Sets perdus","pts marqués","pts subis","Date","Compétition","Phase","Saison"]
["SAUVAGE Maxime","DEVOS Jackie","P",0,2,62,120,"2020-01-04","T3 5Q R1 CD59 - GRAVELINES - Convocation 8h30 -","1/4 Finale",{"$f":"IF(H16<>\"\",IF(MONTH(H16)>MoisRef,YEAR(H16)&\"-\"&YEAR(H16)+1,YEAR(H16)-1&\"-\"&YEAR(H16)),\"\")","v":"2019-2020"},null,null,null,null,{"$f":"IF($K16=P$1,COUNTIF($C16,\"G\"),0)","v":0},null,{"$f":"IF($K16=R$1,COUNTIF($C16,\"G\"),0)","v":0}]
["SAUVAGE Maxime","SZWARC Johann","G",2,0,120,114,"2020-01-04","T3 5Q R1 CD59 - GRAVELINES - Convocation 8h30 -","Qualifications",{"$f":"IF(H17<>\"\",IF(MONTH(H17)>MoisRef,YEAR(H17)&\"-\"&YEAR(H17)+1,YEAR(H17)-1&\"-\"&YEAR(H17)),\"\")","v":"2019-2020"},null,null,null,null,{"$f":"IF($K17=P$1,COUNTIF($C17,\"G\"),0)","v":0},null,{"$f":"IF($K17=R$1,COUNTIF($C17,\"G\"),0)","v":0}]
["SAUVAGE Maxime","SZWARC Patrick","G",2,1,170,159,"2020-01-04","T3 5Q R1 CD59 - GRAVELINES - Convocation 8h30 -","Qualifications",{"$f":"IF(H18<>\"\",IF(MONTH(H18)>MoisRef,YEAR(H18)&\"-\"&YEAR(H18)+1,YEAR(H18)-1&\"-\"&YEAR(H18)),\"\")","v":"2019-2020"},null,null,null,null,{"$f":"IF($K18=P$1,COUNTIF($C18,\"G\"),0)","v":0},null,{"$f":"IF($K18=R$1,COUNTIF($C18,\"G\"),0)","v":0}]
["Fin des données",null,null,null,null,null,null,null,null,null,{"$f":"IF(H19<>\"\",IF(MONTH(H19)>MoisRef,YEAR(H19)&\"-\"&YEAR(H19)+1,YEAR(H19)-1&\"-\"&YEAR(H19)),\"\")","v":""},null,null,null,null,{"$f":"IF($K19=P$1,COUNTIF($C19,\"G\"),0)","v":0},null,{"$f":"IF($K19=R$1,COUNTIF($C19,\"G\"),0)","v":0}]

{"sheet":"SCHERER Didier","index":137,"n_rows":29,"n_cols":22,"rows_kept":29,"cut":false,"hidden":false,"merged":[]}
["SCHERER Didier",null,null,null,null,null,null,null,null,null,null,null,null,null,null,{"$f":"SaisonDeb","v":"2021-2022"},null,{"$f":"SaisonFin","v":"2022-2023"},null,"Toutes saisons"]
[{"$error":"#N/A"},null,null,null,null,null,null,null,null,null,null,null,null,null,null,"Nombre","%age","Nombre","%age","Nombre","%age"]
[{"$error":"#N/A"},null,null,null,null,null,null,null,null,null,null,null,null,"Matchs","Gagnés",{"$f":"SUM(P$15:P$125)","v":0},{"$f":"IF(P$3+P$4>0,P3/(P$3+P$4),\"\")","v":""},{"$f":"SUM(R$15:R$125)","v":5},{"$f":"IF(R$3+R$4>0,R3/(R$3+R$4),\"\")","v":0.38461538461538464},{"$f":"COUNTIF($C$15:$C$125,\"G\")","v":5},{"$f":"IF(T$3+T$4>0,T3/(T$3+T$4),\"\")","v":0.38461538461538464}]
[{"$error":"#N/A"},null,null,null,null,null,null,null,null,null,null,null,null,null,"Perdus",{"$f":"COUNTIF($K$15:$M$125,SaisonDeb)-P3","v":0},{"$f":"IF(P$3+P$4>0,P4/(P$3+P$4),\"\")","v":""},{"$f":"COUNTIF($K$15:$K$125,SaisonFin)-R3","v":8},{"$f":"IF(R$3+R$4>0,R4/(R$3+R$4),\"\")","v":0.61538461538461542},{"$f":"COUNTIF($C$15:$C$125,\"P\")","v":8},{"$f":"IF(T$3+T$4>0,T4/(T$3+T$4),\"\")","v":0.61538461538461542}]
[{"$error":"#N/A"},null,null,null,null,null,null,null,null,null,null,null,null,null,"Total / Moy.",{"$f":"SUM(P3:P4)","v":0},{"$f":"IF(SUMIF($K$15:$K$125,SaisonDeb,$G$15:$G$125)>0,SUMIF($K$15:$K$125,SaisonDeb,$F$15:$F$125)/SUMIF($K$15:$K$125,SaisonDeb,$G$15:$G$125),\"\")","v":""},{"$f":"SUM(R3:R4)","v":13},{"$f":"IF(SUMIF($K$15:$K$125,SaisonFin,$G$15:$G$125)>0,SUMIF($K$15:$K$125,SaisonFin,$F$15:$F$125)/SUMIF($K$15:$K$125,SaisonFin,$G$15:$G$125),\"\")","v":0.87447033898305082},{"$f":"SUM(T3:T4)","v":13},{"$f":"IF(SUM($G$15:$G$125)>0,SUM($F$15:$F$125)/SUM($G$15:$G$125),\"\")","v":0.87447033898305082},{"$f":"IF(SUMIF($K$15:$K$29,SaisonDeb,$G$15:$G$29)+SUMIF($K$15:$K$29,SaisonFin,$G$15:$G$29)>0,(SUMIF($K$15:$K$29,SaisonDeb,$F$15:$F$29)+SUMIF($K$15:$K$29,SaisonFin,$F$15:$F$29))/(SUMIF($K$15:$K$29,SaisonDeb,$G$15:$G$29)+SUMIF($K$15:$K$29,SaisonFin,$G$15:$G$29)),\"\")","v":0.87447033898305082}]
[null,null,null,null,null,null,null,null,null,null,null,null,null,"Sets","Gagnés",{"$f":"SUMIF($K$15:$K$125,SaisonDeb,$D$15:$D$125)","v":0},{"$f":"IF(P$6+P$7>0,P6/(P$6+P$7),\"\")","v":""},{"$f":"SUMIF($K$15:$K$125,SaisonFin,$D$15:$D$125)","v":14},{"$f":"IF(R$6+R$7>0,R6/(R$6+R$7),\"\")","v":0.4},{"$f":"SUM($D$15:$D$125)","v":14},{"$f":"IF(T$6+T$7>0,T6/(T$6+T$7),\"\")","v":0.4}]
[null,null,null,null,null,null,null,null,null,null,null,null,null,null,"Perdus",{"$f":"SUMIF($K$15:$K$125,SaisonDeb,$E$15:$E$125)","v":0},{"$f":"IF(P$6+P$7>0,P7/(P$6+P$7),\"\")","v":""},{"$f":"SUMIF($K$15:$K$125,SaisonFin,$E$15:$E$125)","v":21},{"$f":"IF(R$6+R$7>0,R7/(R$6+R$7),\"\")","v":0.6},{"$f":"SUM($E$15:$E$125)","v":21},{"$f":"IF(T$6+T$7>0,T7/(T$6+T$7),\"\")","v":0.6}]
["Récapitulatif joueurs",null,null,null,null,null,null,null,null,null,null,null,null,null,"Total",{"$f":"SUM(P6:P7)","v":0},null,{"$f":"SUM(R6:R7)","v":35},null,{"$f":"SUM(T6:T7)","v":35}]
[]
[]
[]
[]
[]
[]
["Joueur","Adversaire","G/P","Sets gagnés","Sets perdus","pts marqués","pts subis","Date","Compétition","Phase","Saison"]
["SCHERER Didier","BUTTI EmIlie","G",2,1,129,157,"2023-01-28","T2 CD02 R1   poule 2 - SAINT QUENTIN","Qualifications",{"$f":"IF(H16<>\"\",IF(MONTH(H16)>MoisRef,YEAR(H16)&\"-\"&YEAR(H16)+1,YEAR(H16)-1&\"-\"&YEAR(H16)),\"\")","v":"2022-2023"},null,null,null,null,{"$f":"IF($K16=P$1,COUNTIF($C16,\"G\"),0)","v":0},null,{"$f":"IF($K16=R$1,COUNTIF($C16,\"G\"),0)","v":1}]
["SCHERER Didier","KUZMA Régis","P",0,2,91,168,"2023-01-28","T2 CD02 R1   poule 2 - SAINT QUENTIN","Qualifications","2022-2023",null,null,null,null,0,null,0]
["SCHERER Didier","BUTTI EmIlie","P",1,2,102,138,"2023-03-25","T3 CD02 R1 - SAINT QUENTIN","Qualifications","2022-2023",null,null,null,null,0,null,0]
["SCHERER Didier","FRANCOIS Bernard","G",2,1,168,158,"2023-03-25","T3 CD02 R1 - SAINT QUENTIN","Qualifications","2022-2023",null,null,null,null,0,null,1]
["SCHERER Didier","KUZMA Régis","G",2,1,148,136,"2023-03-25","T3 CD02 R1 - SAINT QUENTIN","Qualifications","2022-2023",null,null,null,null,0,null,1]
["SCHERER Didier","LEFEVRE  Alexandre","P",0,2,88,120,"2023-03-25","T3 CD02 R1 - SAINT QUENTIN","Qualifications","2022-2023",null,null,null,null,0,null,0]
["SCHERER Didier","BUTTI EmIlie","P",1,3,189,219,"2023-04-22","FINALE CD02 R1 - SAINT QUENTIN","Qualifications","2022-2023",null,null,null,null,0,null,0]
["SCHERER Didier","FRANCOIS Bernard","G",3,0,180,121,"2023-04-22","FINALE CD02 R1 - SAINT QUENTIN","Qualifications","2022-2023",null,null,null,null,0,null,1]
["SCHERER Didier","LEFEVRE  Alexandre","G",3,1,226,191,"2023-04-22","FINALE CD02 R1 - SAINT QUENTIN","Qualifications","2022-2023",null,null,null,null,0,null,1]
["SCHERER Didier","BETTEFORT Mickael","P",0,2,104,120,"2023-05-14","Finale Ligue 5Q R1 - DENAIN","Poule unique","2022-2023",null,null,null,null,0,null,0]
["SCHERER Didier","HERTOUX Didier","P",0,2,85,120,"2023-05-14","Finale Ligue 5Q R1 - DENAIN","Poule unique","2022-2023",null,null,null,null,0,null,0]
["SCHERER Didier","HOCHART James","P",0,2,45,120,"2023-05-14","Finale Ligue 5Q R1 - DENAIN","Poule unique","2022-2023",null,null,null,null,0,null,0]
["SCHERER Didier","LANCRY Bruno","P",0,2,96,120,"2023-05-14","Finale Ligue 5Q R1 - DENAIN","Poule unique","2022-2023",null,null,null,null,0,null,0]
["Fin des données",null,null,null,null,null,null,null,null,null,"",null,null,null,null,{"$f":"IF($K29=P$1,COUNTIF($C29,\"G\"),0)","v":0},null,{"$f":"IF($K29=R$1,COUNTIF($C29,\"G\"),0)","v":0}]

{"sheet":"SIMON Philippe","index":138,"n_rows":38,"n_cols":22,"rows_kept":38,"cut":false,"hidden":false,"merged":[]}
["SIMON Philippe",null,null,null,null,null,null,null,null,null,null,null,null,null,null,{"$f":"SaisonDeb","v":"2021-2022"},null,{"$f":"SaisonFin","v":"2022-2023"},null,"Toutes saisons"]
[{"$error":"#N/A"},null,null,null,null,null,null,null,null,null,null,null,null,null,null,"Nombre","%age","Nombre","%age","Nombre","%age"]
[{"$error":"#N/A"},null,null,null,null,null,null,null,null,null,null,null,null,"Matchs","Gagnés",{"$f":"SUM(P$15:P$134)","v":12},{"$f":"IF(P$3+P$4>0,P3/(P$3+P$4),\"\")","v":0.66666666666666663},{"$f":"SUM(R$15:R$134)","v":0},{"$f":"IF(R$3+R$4>0,R3/(R$3+R$4),\"\")","v":""},{"$f":"COUNTIF($C$15:$C$134,\"G\")","v":15},{"$f":"IF(T$3+T$4>0,T3/(T$3+T$4),\"\")","v":0.68181818181818177}]
[{"$error":"#N/A"},null,null,null,null,null,null,null,null,null,null,null,null,null,"Perdus",{"$f":"COUNTIF($K$15:$M$134,SaisonDeb)-P3","v":6},{"$f":"IF(P$3+P$4>0,P4/(P$3+P$4),\"\")","v":0.33333333333333331},{"$f":"COUNTIF($K$15:$K$134,SaisonFin)-R3","v":0},{"$f":"IF(R$3+R$4>0,R4/(R$3+R$4),\"\")","v":""},{"$f":"COUNTIF($C$15:$C$134,\"P\")","v":7},{"$f":"IF(T$3+T$4>0,T4/(T$3+T$4),\"\")","v":0.31818181818181818}]
[{"$error":"#N/A"},null,null,null,null,null,null,null,null,null,null,null,null,null,"Total / Moy.",{"$f":"SUM(P3:P4)","v":18},{"$f":"IF(SUMIF($K$15:$K$134,SaisonDeb,$G$15:$G$134)>0,SUMIF($K$15:$K$134,SaisonDeb,$F$15:$F$134)/SUMIF($K$15:$K$134,SaisonDeb,$G$15:$G$134),\"\")","v":1.0482221139795422},{"$f":"SUM(R3:R4)","v":0},{"$f":"IF(SUMIF($K$15:$K$134,SaisonFin,$G$15:$G$134)>0,SUMIF($K$15:$K$134,SaisonFin,$F$15:$F$134)/SUMIF($K$15:$K$134,SaisonFin,$G$15:$G$134),\"\")","v":""},{"$f":"SUM(T3:T4)","v":22},{"$f":"IF(SUM($G$15:$G$134)>0,SUM($F$15:$F$134)/SUM($G$15:$G$134),\"\")","v":1.0562822037257233},{"$f":"IF(SUMIF($K$15:$K$38,SaisonDeb,$G$15:$G$38)+SUMIF($K$15:$K$38,SaisonFin,$G$15:$G$38)>0,(SUMIF($K$15:$K$38,SaisonDeb,$F$15:$F$38)+SUMIF($K$15:$K$38,SaisonFin,$F$15:$F$38))/(SUMIF($K$15:$K$38,SaisonDeb,$G$15:$G$38)+SUMIF($K$15:$K$38,SaisonFin,$G$15:$G$38)),\"\")","v":1.0482221139795422}]
[null,null,null,null,null,null,null,null,null,null,null,null,null,"Sets","Gagnés",{"$f":"SUMIF($K$15:$K$134,SaisonDeb,$D$15:$D$134)","v":28},{"$f":"IF(P$6+P$7>0,P6/(P$6+P$7),\"\")","v":0.66666666666666663},{"$f":"SUMIF($K$15:$K$134,SaisonFin,$D$15:$D$134)","v":0},{"$f":"IF(R$6+R$7>0,R6/(R$6+R$7),\"\")","v":""},{"$f":"SUM($D$15:$D$134)","v":35},{"$f":"IF(T$6+T$7>0,T6/(T$6+T$7),\"\")","v":0.67307692307692313}]
[null,null,null,null,null,null,null,null,null,null,null,null,null,null,"Perdus",{"$f":"SUMIF($K$15:$K$134,SaisonDeb,$E$15:$E$134)","v":14},{"$f":"IF(P$6+P$7>0,P7/(P$6+P$7),\"\")","v":0.33333333333333331},{"$f":"SUMIF($K$15:$K$134,SaisonFin,$E$15:$E$134)","v":0},{"$f":"IF(R$6+R$7>0,R7/(R$6+R$7),\"\")","v":""},{"$f":"SUM($E$15:$E$134)","v":17},{"$f":"IF(T$6+T$7>0,T7/(T$6+T$7),\"\")","v":0.32692307692307693}]
["Récapitulatif joueurs",null,null,null,null,null,null,null,null,null,null,null,null,null,"Total",{"$f":"SUM(P6:P7)","v":42},null,{"$f":"SUM(R6:R7)","v":0},null,{"$f":"SUM(T6:T7)","v":52}]
[]
[]
[]
[]
[]
[]
["Joueur","Adversaire","G/P","Sets gagnés","Sets perdus","pts marqués","pts subis","Date","Compétition","Phase","Saison"]
["SIMON Philippe","BOULINGUEZ Yves","G",2,0,120,79,"2019-10-19","T1 CD02 R1 - Billard Club de Soissons","Qualifications",{"$f":"IF(H16<>\"\",IF(MONTH(H16)>MoisRef,YEAR(H16)&\"-\"&YEAR(H16)+1,YEAR(H16)-1&\"-\"&YEAR(H16)),\"\")","v":"2019-2020"},null,null,null,null,{"$f":"IF($K16=P$1,COUNTIF($C16,\"G\"),0)","v":0},null,{"$f":"IF($K16=R$1,COUNTIF($C16,\"G\"),0)","v":0}]
["SIMON Philippe","COUSIN Francis","G",2,1,144,127,"2019-10-19","T1 CD02 R1 - Billard Club de Soissons","Qualifications","2019-2020",null,null,null,null,{"$f":"IF($K17=P$1,COUNTIF($C17,\"G\"),0)","v":0},null,{"$f":"IF($K17=R$1,COUNTIF($C17,\"G\"),0)","v":0}]
["SIMON Philippe","BABOLEIN Clément","G",2,0,120,99,"2019-12-07","T2 CD02 R1 - Saint-Quentin","Qualifications","2019-2020",null,null,null,null,{"$f":"IF($K18=P$1,COUNTIF($C18,\"G\"),0)","v":0},null,{"$f":"IF($K18=R$1,COUNTIF($C18,\"G\"),0)","v":0}]
["SIMON Philippe","BUTTI Bertrand","P",1,2,129,165,"2019-12-07","T2 CD02 R1 - Saint-Quentin","Qualifications","2019-2020",null,null,null,null,{"$f":"IF($K19=P$1,COUNTIF($C19,\"G\"),0)","v":0},null,{"$f":"IF($K19=R$1,COUNTIF($C19,\"G\"),0)","v":0}]
["SIMON Philippe","BUTTI EmIlie","G",2,1,157,165,"2021-11-27","T2 CD02 R1 - Billard Club de Soissons","Qualifications","2021-2022",null,null,null,null,{"$f":"IF($K20=P$1,COUNTIF($C20,\"G\"),0)","v":1},null,{"$f":"IF($K20=R$1,COUNTIF($C20,\"G\"),0)","v":0}]
["SIMON Philippe","COUSIN Francis","G",2,0,120,81,"2021-11-27","T2 CD02 R1 - Billard Club de Soissons","Qualifications","2021-2022",null,null,null,null,1,null,0]
["SIMON Philippe","BABOLEIN Clément","P",0,2,58,120,"2021-10-16","T1 CD02 R1 - Billard Club de Saint-Quentin","Qualifications","2021-2022",null,null,null,null,0,null,0]
["SIMON Philippe","BUTTI EmIlie","G",2,0,120,69,"2021-10-16","T1 CD02 R1 - Billard Club de Saint-Quentin","Qualifications","2021-2022",null,null,null,null,1,null,0]
["SIMON Philippe","COUSIN Francis","P",1,2,147,145,"2021-10-16","T1 CD02 R1 - Billard Club de Saint-Quentin","Qualifications","2021-2022",null,null,null,null,0,null,0]
["SIMON Philippe","CASIER Philippe","G",2,0,120,61,"2022-01-29","T3 CD02 TOUTE CATEGORIE - Saint-Quentin","Qualifications","2021-2022",null,null,null,null,1,null,0]
["SIMON Philippe","COUSIN Francis","P",0,2,37,120,"2022-01-29","T3 CD02 TOUTE CATEGORIE - Saint-Quentin","Qualifications","2021-2022",null,null,null,null,0,null,0]
["SIMON Philippe","DURAND Jéremy","P",1,2,159,178,"2022-01-29","T3 CD02 TOUTE CATEGORIE - Saint-Quentin","Qualifications","2021-2022",null,null,null,null,0,null,0]
["SIMON Philippe","CASIER Philippe","G",2,0,120,64,"2022-02-26","T4 CD02 R1 - Billard Club de Saint-Quentin","Qualifications","2021-2022",null,null,null,null,1,null,0]
["SIMON Philippe","BUTTI Bertrand","G",2,0,120,124,"2022-02-26","T4 CD02 R1 N1- Billard Club de Saint-Quentin","Qualifications","2021-2022",null,null,null,null,1,null,0]
["SIMON Philippe","BUTTI Bertrand","G",2,0,120,137,"2022-02-26","T5 CD02 R1 N1- Billard Club de Saint-Quentin","Qualifications","2021-2022",null,null,null,null,1,null,0]
["SIMON Philippe","BUTTI EmIlie","G",2,0,120,103,"2022-02-26","T5 CD02 R1 N1- Billard Club de Saint-Quentin","Qualifications","2021-2022",null,null,null,null,1,null,0]
["SIMON Philippe","CASIER Philippe","G",2,0,120,86,"2022-02-26","T5 CD02 R1 N1- Billard Club de Saint-Quentin","Qualifications","2021-2022",null,null,null,null,1,null,0]
["SIMON Philippe","DURAND Jéremy","P",1,2,126,153,"2022-02-26","T5 CD02 R1 N1- Billard Club de Saint-Quentin","Qualifications","2021-2022",null,null,null,null,0,null,0]
["SIMON Philippe","DURAND Jéremy","P",1,2,127,162,"2022-02-26","Finale CD02- Billard Club de Saint-Quentin","Finale","2021-2022",null,null,null,null,0,null,0]
["SIMON Philippe","BABOLEIN Clément","G",2,0,120,62,"2022-04-24","Finale CD02- Billard Club de Saint-Quentin","1/4 Finale","2021-2022",null,null,null,null,1,null,0]
["SIMON Philippe","COUSIN Francis","G",2,1,141,135,"2022-04-24","Finale CD02- Billard Club de Saint-Quentin","1/4 Finale","2021-2022",null,null,null,null,1,null,0]
["SIMON Philippe","BUTTI EmIlie","G",2,0,120,88,"2022-04-24","Finale CD02- Billard Club de Saint-Quentin","1/2 Finale","2021-2022",null,null,null,null,1,null,0]
["Fin des données",null,null,null,null,null,null,null,null,null,"",null,null,null,null,{"$f":"IF($K38=P$1,COUNTIF($C38,\"G\"),0)","v":0},null,{"$f":"IF($K38=R$1,COUNTIF($C38,\"G\"),0)","v":0}]

{"sheet":"STEINMANN Sébastien","index":139,"n_rows":53,"n_cols":22,"rows_kept":53,"cut":false,"hidden":false,"merged":[]}
["STEINMANN Sébastien",null,null,null,null,null,null,null,null,null,null,null,null,null,null,{"$f":"SaisonDeb","v":"2021-2022"},null,{"$f":"SaisonFin","v":"2022-2023"},null,"Toutes saisons"]
[{"$error":"#N/A"},null,null,null,null,null,null,null,null,null,null,null,null,null,null,"Nombre","%age","Nombre","%age","Nombre","%age"]
[{"$error":"#N/A"},null,null,null,null,null,null,null,null,null,null,null,null,"Matchs","Gagnés",{"$f":"SUM(P$15:P$149)","v":0},{"$f":"IF(P$3+P$4>0,P3/(P$3+P$4),\"\")","v":""},{"$f":"SUM(R$15:R$149)","v":0},{"$f":"IF(R$3+R$4>0,R3/(R$3+R$4),\"\")","v":""},{"$f":"COUNTIF($C$15:$C$149,\"G\")","v":32},{"$f":"IF(T$3+T$4>0,T3/(T$3+T$4),\"\")","v":0.86486486486486491}]
[{"$error":"#N/A"},null,null,null,null,null,null,null,null,null,null,null,null,null,"Perdus",{"$f":"COUNTIF($K$15:$M$149,SaisonDeb)-P3","v":0},{"$f":"IF(P$3+P$4>0,P4/(P$3+P$4),\"\")","v":""},{"$f":"COUNTIF($K$15:$K$149,SaisonFin)-R3","v":0},{"$f":"IF(R$3+R$4>0,R4/(R$3+R$4),\"\")","v":""},{"$f":"COUNTIF($C$15:$C$149,\"P\")","v":5},{"$f":"IF(T$3+T$4>0,T4/(T$3+T$4),\"\")","v":0.13513513513513514}]
[{"$error":"#N/A"},null,null,null,null,null,null,null,null,null,null,null,null,null,"Total / Moy.",{"$f":"SUM(P3:P4)","v":0},{"$f":"IF(SUMIF($K$15:$K$149,SaisonDeb,$G$15:$G$149)>0,SUMIF($K$15:$K$149,SaisonDeb,$F$15:$F$149)/SUMIF($K$15:$K$149,SaisonDeb,$G$15:$G$149),\"\")","v":""},{"$f":"SUM(R3:R4)","v":0},{"$f":"IF(SUMIF($K$15:$K$149,SaisonFin,$G$15:$G$149)>0,SUMIF($K$15:$K$149,SaisonFin,$F$15:$F$149)/SUMIF($K$15:$K$149,SaisonFin,$G$15:$G$149),\"\")","v":""},{"$f":"SUM(T3:T4)","v":37},{"$f":"IF(SUM($G$15:$G$149)>0,SUM($F$15:$F$149)/SUM($G$15:$G$149),\"\")","v":1.3488372093023255},{"$f":"IF(SUMIF($K$15:$K$53,SaisonDeb,$G$15:$G$53)+SUMIF($K$15:$K$53,SaisonFin,$G$15:$G$53)>0,(SUMIF($K$15:$K$53,SaisonDeb,$F$15:$F$53)+SUMIF($K$15:$K$53,SaisonFin,$F$15:$F$53))/(SUMIF($K$15:$K$53,SaisonDeb,$G$15:$G$53)+SUMIF($K$15:$K$53,SaisonFin,$G$15:$G$53)),\"\")","v":""}]
[null,null,null,null,null,null,null,null,null,null,null,null,null,"Sets","Gagnés",{"$f":"SUMIF($K$15:$K$149,SaisonDeb,$D$15:$D$149)","v":0},{"$f":"IF(P$6+P$7>0,P6/(P$6+P$7),\"\")","v":""},{"$f":"SUMIF($K$15:$K$149,SaisonFin,$D$15:$D$149)","v":0},{"$f":"IF(R$6+R$7>0,R6/(R$6+R$7),\"\")","v":""},{"$f":"SUM($D$15:$D$149)","v":68},{"$f":"IF(T$6+T$7>0,T6/(T$6+T$7),\"\")","v":0.7816091954022989}]
[null,null,null,null,null,null,null,null,null,null,null,null,null,null,"Perdus",{"$f":"SUMIF($K$15:$K$149,SaisonDeb,$E$15:$E$149)","v":0},{"$f":"IF(P$6+P$7>0,P7/(P$6+P$7),\"\")","v":""},{"$f":"SUMIF($K$15:$K$149,SaisonFin,$E$15:$E$149)","v":0},{"$f":"IF(R$6+R$7>0,R7/(R$6+R$7),\"\")","v":""},{"$f":"SUM($E$15:$E$149)","v":19},{"$f":"IF(T$6+T$7>0,T7/(T$6+T$7),\"\")","v":0.21839080459770116}]
["Récapitulatif joueurs",null,null,null,null,null,null,null,null,null,null,null,null,null,"Total",{"$f":"SUM(P6:P7)","v":0},null,{"$f":"SUM(R6:R7)","v":0},null,{"$f":"SUM(T6:T7)","v":87}]
[]
[]
[]
[]
[]
[]
["Joueur","Adversaire","G/P","Sets gagnés","Sets perdus","pts marqués","pts subis","Date","Compétition","Phase","Saison"]
["STEINMANN Sébastien","MURIOT Jean-Pierre","G",1,0,100,80,"2016-11-26","5Q  CD60 R1 - T 2 - SENLIS","Tour 2",{"$f":"IF(H16<>\"\",IF(MONTH(H16)>MoisRef,YEAR(H16)&\"-\"&YEAR(H16)+1,YEAR(H16)-1&\"-\"&YEAR(H16)),\"\")","v":"2016-2017"},null,null,null,null,{"$f":"IF($K16=P$1,COUNTIF($C16,\"G\"),0)","v":0},null,{"$f":"IF($K16=R$1,COUNTIF($C16,\"G\"),0)","v":0}]
["STEINMANN Sébastien","MURIOT Jean-Pierre","G",1,0,100,70,"2016-11-26","5Q  CD60 R1 - T 2 - SENLIS","Tour 3","2016-2017",null,null,null,null,0,null,0]
["STEINMANN Sébastien","MURIOT Jean-Pierre","G",1,0,100,60,"2016-11-26","5Q  CD60 R1 - T 2 - SENLIS","Tour 4","2016-2017",null,null,null,null,0,null,0]
["STEINMANN Sébastien","BOUIGES Armelle","G",1,0,100,67,"2017-02-25","5Q  CD60 R1 - T 2 - SENLIS","Tour 2","2016-2017",null,null,null,null,0,null,0]
["STEINMANN Sébastien","LAMARQUE Yves","G",1,0,100,33,"2017-02-25","5Q  CD60 R1 - T 2 - SENLIS","Tour 4","2016-2017",null,null,null,null,0,null,0]
["STEINMANN Sébastien","LALOT Gérard","G",2,0,120,78,"2017-03-18","5Q  CD60 R1 - Finale R1","Poule unique","2016-2017",null,null,null,null,0,null,0]
["STEINMANN Sébastien","DIOT Alain","G",2,0,120,68,"2017-03-18","5Q  CD60 R1 - Finale R1","Poule unique","2016-2017",null,null,null,null,0,null,0]
["STEINMANN Sébastien","DUCHATEAU Jean-Pierre","G",2,0,120,57,"2017-03-18","5Q  CD60 R1 - Finale R1","Poule unique","2016-2017",null,null,null,null,0,null,0]
["STEINMANN Sébastien","DIOT Alain","G",1,0,100,37,"2017-01-21","5Q  CD60 R1 - T 3 - MERU","Tour 2","2016-2017",null,null,null,null,0,null,0]
["STEINMANN Sébastien","ESTERMANS Bernard","G",3,0,180,139,"2017-04-02","FINALE LIGUE HAUTS DE FRANCE 5 QUILLES R1 - GRAVELINES","Poule unique",{"$f":"IF(H25<>\"\",IF(MONTH(H25)>MoisRef,YEAR(H25)&\"-\"&YEAR(H25)+1,YEAR(H25)-1&\"-\"&YEAR(H25)),\"\")","v":"2016-2017"},null,null,null,null,0,null,0]
["STEINMANN Sébastien","FRISON Michel","G",3,1,220,213,"2017-04-02","FINALE LIGUE HAUTS DE FRANCE 5 QUILLES R1 - GRAVELINES","Poule unique",{"$f":"IF(H26<>\"\",IF(MONTH(H26)>MoisRef,YEAR(H26)&\"-\"&YEAR(H26)+1,YEAR(H26)-1&\"-\"&YEAR(H26)),\"\")","v":"2016-2017"},null,null,null,null,0,null,0]
["STEINMANN Sébastien","MARTEL Bruno","G",3,0,180,136,"2017-04-02","FINALE LIGUE HAUTS DE FRANCE 5 QUILLES R1 - GRAVELINES","Poule unique",{"$f":"IF(H27<>\"\",IF(MONTH(H27)>MoisRef,YEAR(H27)&\"-\"&YEAR(H27)+1,YEAR(H27)-1&\"-\"&YEAR(H27)),\"\")","v":"2016-2017"},null,null,null,null,0,null,0]
["STEINMANN Sébastien","VASSEUR Gaëtan","P",1,3,208,220,"2017-04-02","FINALE LIGUE HAUTS DE FRANCE 5 QUILLES R1 - GRAVELINES","Poule unique",{"$f":"IF(H28<>\"\",IF(MONTH(H28)>MoisRef,YEAR(H28)&\"-\"&YEAR(H28)+1,YEAR(H28)-1&\"-\"&YEAR(H28)),\"\")","v":"2016-2017"},null,null,null,null,0,null,0]
["STEINMANN Sébastien","DIOT Alain","G",2,0,120,53,"2018-09-29","5 Q - T 1 OISE 2018-19 - R 1 - TOURNOI PRINCIPAL  - CREPY","Qualifications","2018-2019",null,null,null,null,0,null,0]
["STEINMANN Sébastien","DIOT Alain","P",1,2,154,156,"2018-09-29","5 Q - T 1 OISE 2018-19 - R 1 - TOURNOI PRINCIPAL  - CREPY","1/4 Finale","2018-2019",null,null,null,null,0,null,0]
["STEINMANN Sébastien","VANEME Sophie","G",2,1,163,121,"2018-09-29","5 Q - T 1 OISE 2018-19 - R 1 - TOURNOI PRINCIPAL  - CREPY","Qualifications","2018-2019",null,null,null,null,0,null,0]
["STEINMANN Sébastien","DIOT Alain","G",2,0,120,53,"2018-10-27","5 Q - T 2 OISE 2018-19 - R 1 - TOURNOI PRINCIPAL  - VILLERS","Qualifications","2018-2019",null,null,null,null,0,null,0]
["STEINMANN Sébastien","DIOT Alain","G",2,0,120,52,"2018-10-27","5 Q - T 2 OISE 2018-19 - R 1 - TOURNOI PRINCIPAL  - VILLERS","Qualifications","2018-2019",null,null,null,null,0,null,0]
["STEINMANN Sébastien","GROSS Xavier","G",2,0,120,71,"2018-10-27","5 Q - T 2 OISE 2018-19 - R 1 - TOURNOI PRINCIPAL  - VILLERS","1/2 Finale","2018-2019",null,null,null,null,0,null,0]
["STEINMANN Sébastien","LAMARQUE Yves","G",2,0,120,59,"2018-10-27","5 Q - T 2 OISE 2018-19 - R 1 - TOURNOI PRINCIPAL  - VILLERS","1/4 Finale","2018-2019",null,null,null,null,0,null,0]
["STEINMANN Sébastien","VANDEPUTTE Laurent","G",2,0,120,56,"2018-10-27","5 Q - T 2 OISE 2018-19 - R 1 - TOURNOI PRINCIPAL  - VILLERS","Finale","2018-2019",null,null,null,null,0,null,0]
["STEINMANN Sébastien","LALOT Gérard","P",1,2,148,167,"2018-11-24","5 Q - T 3 OISE 2018-19 - R 1 - TOURNOI PRINCIPAL  - MERU","Finale","2018-2019",null,null,null,null,0,null,0]
["STEINMANN Sébastien","LAMARQUE Yves","G",2,0,120,93,"2018-11-24","5 Q - T 3 OISE 2018-19 - R 1 - TOURNOI PRINCIPAL  - MERU","1/2 Finale","2018-2019",null,null,null,null,0,null,0]
["STEINMANN Sébastien","LE FRIEC Daniel","G",2,0,120,52,"2018-11-24","5 Q - T 3 OISE 2018-19 - R 1 - TOURNOI PRINCIPAL  - MERU","Qualifications","2018-2019",null,null,null,null,0,null,0]
["STEINMANN Sébastien","LE FRIEC Daniel","G",2,0,120,78,"2018-11-24","5 Q - T 3 OISE 2018-19 - R 1 - TOURNOI PRINCIPAL  - MERU","1/4 Finale","2018-2019",null,null,null,null,0,null,0]
["STEINMANN Sébastien","MURIOT Jean-Pierre","G",2,0,120,50,"2018-11-24","5 Q - T 3 OISE 2018-19 - R 1 - TOURNOI PRINCIPAL  - MERU","Qualifications","2018-2019",null,null,null,null,0,null,0]
["STEINMANN Sébastien","ALAZARD Philippe","G",2,1,141,121,"2019-01-19","5 Q - T 4 OISE 2018-19 - R 1 - TOURNOI PRINCIPAL  - CHAMBLY","Qualifications","2018-2019",null,null,null,null,0,null,0]
["STEINMANN Sébastien","ALAZARD Philippe","G",2,0,120,82,"2019-01-19","5 Q - T 4 OISE 2018-19 - R 1 - TOURNOI PRINCIPAL  - CHAMBLY","Finale","2018-2019",null,null,null,null,0,null,0]
["STEINMANN Sébastien","LAMARQUE Yves","G",2,1,162,130,"2019-01-19","5 Q - T 4 OISE 2018-19 - R 1 - TOURNOI PRINCIPAL  - CHAMBLY","Qualifications","2018-2019",null,null,null,null,0,null,0]
["STEINMANN Sébastien","VANDEPUTTE Laurent","G",2,0,120,85,"2019-01-19","5 Q - T 4 OISE 2018-19 - R 1 - TOURNOI PRINCIPAL  - CHAMBLY","1/2 Finale","2018-2019",null,null,null,null,0,null,0]
["STEINMANN Sébastien","DESCLAIR Guy","G",2,0,120,102,"2019-02-23","FINALE OISE 2018-19 - R 1 - SENLIS","Poule unique","2018-2019",null,null,null,null,0,null,0]
["STEINMANN Sébastien","LALOT Gérard","G",2,0,120,104,"2019-02-23","FINALE OISE 2018-19 - R 1 - SENLIS","Poule unique","2018-2019",null,null,null,null,0,null,0]
["STEINMANN Sébastien","VANDEPUTTE Laurent","G",2,0,120,92,"2019-02-23","FINALE OISE 2018-19 - R 1 - SENLIS","Poule unique","2018-2019",null,null,null,null,0,null,0]
["STEINMANN Sébastien","CHAIGNE Gilles","G",3,0,180,77,"2019-03-17","FINALE LIGUE R1 - WIMILLE","Poule unique","2018-2019",null,null,null,null,0,null,0]
["STEINMANN Sébastien","DELFOSSE Fabien","P",0,3,144,180,"2019-03-17","FINALE LIGUE R1 - WIMILLE","Poule unique","2018-2019",null,null,null,null,0,null,0]
["STEINMANN Sébastien","MONTADOR Ludovic","P",2,3,243,266,"2019-03-17","FINALE LIGUE R1 - WIMILLE","Poule unique","2018-2019",null,null,null,null,0,null,0]
["STEINMANN Sébastien","PAILLARD Bertrand","G",3,2,221,226,"2019-03-17","FINALE LIGUE R1 - WIMILLE","Poule unique","2018-2019",null,null,null,null,0,null,0]
["Fin des données",null,null,null,null,null,null,null,null,null,"",null,null,null,null,{"$f":"IF($K53=P$1,COUNTIF($C53,\"G\"),0)","v":0},null,{"$f":"IF($K53=R$1,COUNTIF($C53,\"G\"),0)","v":0}]

{"sheet":"SZWARC Johann","index":140,"n_rows":67,"n_cols":22,"rows_kept":67,"cut":false,"hidden":false,"merged":[]}
["SZWARC Johann",null,null,null,null,null,null,null,null,null,null,null,null,null,null,{"$f":"SaisonDeb","v":"2021-2022"},null,{"$f":"SaisonFin","v":"2022-2023"},null,"Toutes saisons"]
[{"$error":"#N/A"},null,null,null,null,null,null,null,null,null,null,null,null,null,null,"Nombre","%age","Nombre","%age","Nombre","%age"]
[{"$error":"#N/A"},null,null,null,null,null,null,null,null,null,null,null,null,"Matchs","Gagnés",{"$f":"SUM(P$15:P$163)","v":3},{"$f":"IF(P$3+P$4>0,P3/(P$3+P$4),\"\")","v":0.27272727272727271},{"$f":"SUM(R$15:R$163)","v":9},{"$f":"IF(R$3+R$4>0,R3/(R$3+R$4),\"\")","v":0.6428571428571429},{"$f":"COUNTIF($C$15:$C$163,\"G\")","v":17},{"$f":"IF(T$3+T$4>0,T3/(T$3+T$4),\"\")","v":0.33333333333333331}]
[{"$error":"#N/A"},null,null,null,null,null,null,null,null,null,null,null,null,null,"Perdus",{"$f":"COUNTIF($K$15:$M$163,SaisonDeb)-P3","v":8},{"$f":"IF(P$3+P$4>0,P4/(P$3+P$4),\"\")","v":0.72727272727272729},{"$f":"COUNTIF($K$15:$K$163,SaisonFin)-R3","v":5},{"$f":"IF(R$3+R$4>0,R4/(R$3+R$4),\"\")","v":0.35714285714285715},{"$f":"COUNTIF($C$15:$C$163,\"P\")","v":34},{"$f":"IF(T$3+T$4>0,T4/(T$3+T$4),\"\")","v":0.66666666666666663}]
[{"$error":"#N/A"},null,null,null,null,null,null,null,null,null,null,null,null,null,"Total / Moy.",{"$f":"SUM(P3:P4)","v":11},{"$f":"IF(SUMIF($K$15:$K$163,SaisonDeb,$G$15:$G$163)>0,SUMIF($K$15:$K$163,SaisonDeb,$F$15:$F$163)/SUMIF($K$15:$K$163,SaisonDeb,$G$15:$G$163),\"\")","v":0.81377303588748784},{"$f":"SUM(R3:R4)","v":14},{"$f":"IF(SUMIF($K$15:$K$163,SaisonFin,$G$15:$G$163)>0,SUMIF($K$15:$K$163,SaisonFin,$F$15:$F$163)/SUMIF($K$15:$K$163,SaisonFin,$G$15:$G$163),\"\")","v":1.1722408026755853},{"$f":"SUM(T3:T4)","v":51},{"$f":"IF(SUM($G$15:$G$163)>0,SUM($F$15:$F$163)/SUM($G$15:$G$163),\"\")","v":0.89555890101618363},{"$f":"IF(SUMIF($K$15:$K$67,SaisonDeb,$G$15:$G$67)+SUMIF($K$15:$K$67,SaisonFin,$G$15:$G$67)>0,(SUMIF($K$15:$K$67,SaisonDeb,$F$15:$F$67)+SUMIF($K$15:$K$67,SaisonFin,$F$15:$F$67))/(SUMIF($K$15:$K$67,SaisonDeb,$G$15:$G$67)+SUMIF($K$15:$K$67,SaisonFin,$G$15:$G$67)),\"\")","v":1.0062864840592725}]
[null,null,null,null,null,null,null,null,null,null,null,null,null,"Sets","Gagnés",{"$f":"SUMIF($K$15:$K$163,SaisonDeb,$D$15:$D$163)","v":3},{"$f":"IF(P$6+P$7>0,P6/(P$6+P$7),\"\")","v":0.27272727272727271},{"$f":"SUMIF($K$15:$K$163,SaisonFin,$D$15:$D$163)","v":10},{"$f":"IF(R$6+R$7>0,R6/(R$6+R$7),\"\")","v":0.58823529411764708},{"$f":"SUM($D$15:$D$163)","v":25},{"$f":"IF(T$6+T$7>0,T6/(T$6+T$7),\"\")","v":0.33333333333333331}]
[null,null,null,null,null,null,null,null,null,null,null,null,null,null,"Perdus",{"$f":"SUMIF($K$15:$K$163,SaisonDeb,$E$15:$E$163)","v":8},{"$f":"IF(P$6+P$7>0,P7/(P$6+P$7),\"\")","v":0.72727272727272729},{"$f":"SUMIF($K$15:$K$163,SaisonFin,$E$15:$E$163)","v":7},{"$f":"IF(R$6+R$7>0,R7/(R$6+R$7),\"\")","v":0.41176470588235292},{"$f":"SUM($E$15:$E$163)","v":50},{"$f":"IF(T$6+T$7>0,T7/(T$6+T$7),\"\")","v":0.66666666666666663}]
["Récapitulatif joueurs",null,null,null,null,null,null,null,null,null,null,null,null,null,"Total",{"$f":"SUM(P6:P7)","v":11},null,{"$f":"SUM(R6:R7)","v":17},null,{"$f":"SUM(T6:T7)","v":75}]
[]
[]
[]
[]
[]
[]
["Joueur","Adversaire","G/P","Sets gagnés","Sets perdus","pts marqués","pts subis","Date","Compétition","Phase","Saison"]
["SZWARC Johann","DEREUDDRE Dominique","P",0,2,47,120,"2018-10-20","T1 5Q R2 CD59 - ST POL SUR MER","Qualifications",{"$f":"IF(H16<>\"\",IF(MONTH(H16)>MoisRef,YEAR(H16)&\"-\"&YEAR(H16)+1,YEAR(H16)-1&\"-\"&YEAR(H16)),\"\")","v":"2018-2019"},null,null,null,null,{"$f":"IF($K16=P$1,COUNTIF($C16,\"G\"),0)","v":0},null,{"$f":"IF($K16=R$1,COUNTIF($C16,\"G\"),0)","v":0}]
["SZWARC Johann","NOYER Pascal","P",1,2,150,155,"2018-10-20","T1 5Q R2 CD59 - ST POL SUR MER","Qualifications","2018-2019",null,null,null,null,0,null,0]
["SZWARC Johann","BEGUIN Jean-Luc","G",1,0,100,68,"2018-10-20","T1 5Q R2 CD59 - CONSOLANTE - ST POL SUR MER","Qualifications","2018-2019",null,null,null,null,0,null,0]
["SZWARC Johann","DEREUDDRE Dominique","P",0,1,68,100,"2018-10-20","T1 5Q R2 CD59 - CONSOLANTE - ST POL SUR MER","Qualifications","2018-2019",null,null,null,null,0,null,0]
["SZWARC Johann","DEREUDDRE Dominique","P",0,2,69,120,"2018-11-24","T2 5Q R2 CD59 - GRAVELINES","Qualifications","2018-2019",null,null,null,null,0,null,0]
["SZWARC Johann","VEREECQUE Bernard","P",0,2,61,120,"2018-11-24","T2 5Q R2 CD59 - GRAVELINES","Qualifications","2018-2019",null,null,null,null,0,null,0]
["SZWARC Johann","BEGUIN Jean-Luc","G",1,0,100,97,"2018-11-24","T2 5Q R2 CD59 - CONSOLANTE - GRAVELINES","Qualifications","2018-2019",null,null,null,null,0,null,0]
["SZWARC Johann","BEGUIN Jean-Luc","P",1,2,162,175,"2019-03-02","Finale CD59 R2 - GRAVELINES","Qualifications","2018-2019",null,null,null,null,0,null,0]
["SZWARC Johann","DEREUDDRE Dominique","P",0,2,58,120,"2019-03-02","Finale CD59 R2 - GRAVELINES","Qualifications","2018-2019",null,null,null,null,0,null,0]
["SZWARC Johann","NOYER Pascal","P",0,1,85,100,"2019-10-26","T1 5Q R1 CD59 - CONSOLANTE - - VILLENEUVE D'ASCQ","Qualifications","2019-2020",null,null,null,null,0,null,0]
["SZWARC Johann","NOYER Pascal","P",0,1,91,100,"2019-10-26","T1 5Q R1 CD59 - CONSOLANTE - - VILLENEUVE D'ASCQ","Qualifications","2019-2020",null,null,null,null,0,null,0]
["SZWARC Johann","BEGUIN Jean-Luc","P",1,2,151,176,"2019-10-26","T1 5Q R1 CD59 - VILLENEUVE D'ASCQ","Qualifications","2019-2020",null,null,null,null,0,null,0]
["SZWARC Johann","HORNAIN Denis","P",1,2,133,177,"2019-10-26","T1 5Q R1 CD59 - VILLENEUVE D'ASCQ","Qualifications","2019-2020",null,null,null,null,0,null,0]
["SZWARC Johann","DEREUDDRE Dominique","P",0,1,25,100,"2019-11-24","T2 5Q R1 CD59  - GRAVELINES - CONSOLANTE","Qualifications","2019-2020",null,null,null,null,0,null,0]
["SZWARC Johann","NOYER Pascal","P",0,1,57,100,"2019-11-24","T2 5Q R1 CD59  - GRAVELINES - CONSOLANTE","Qualifications","2019-2020",null,null,null,null,0,null,0]
["SZWARC Johann","VEREECQUE Esteban","P",0,1,96,100,"2019-11-24","T2 5Q R1 CD59  - GRAVELINES - CONSOLANTE","Qualifications","2019-2020",null,null,null,null,0,null,0]
["SZWARC Johann","WASYLYSZYN Jean-Pierre","G",1,0,100,63,"2019-11-24","T2 5Q R1 CD59  - GRAVELINES - CONSOLANTE","Qualifications","2019-2020",null,null,null,null,0,null,0]
["SZWARC Johann","SZWARC Patrick","P",0,2,106,120,"2019-11-24","T2 5Q R1 CD59 - GRAVELINES ","Qualifications","2019-2020",null,null,null,null,0,null,0]
["SZWARC Johann","VEREECQUE Bernard","G",2,1,145,160,"2019-11-24","T2 5Q R1 CD59 - GRAVELINES ","Qualifications","2019-2020",null,null,null,null,0,null,0]
["SZWARC Johann","LORTHIOIR Jean-Luc","P",1,2,148,178,"2020-01-04","T3 5Q R1 CD59 - GRAVELINES - Convocation 8h30 -","1/4 Finale","2019-2020",null,null,null,null,0,null,0]
["SZWARC Johann","SAUVAGE Maxime","P",0,2,114,120,"2020-01-04","T3 5Q R1 CD59 - GRAVELINES - Convocation 8h30 -","Qualifications","2019-2020",null,null,null,null,0,null,0]
["SZWARC Johann","SZWARC Patrick","G",2,0,120,78,"2020-01-04","T3 5Q R1 CD59 - GRAVELINES - Convocation 8h30 -","Qualifications","2019-2020",null,null,null,null,0,null,0]
["SZWARC Johann","DEREUDDRE Dominique","P",0,1,98,100,"2020-02-22","T4 5Q R1 CD59 - ANNOEULLIN - CONSOLANTE","Qualifications","2019-2020",null,null,null,null,0,null,0]
["SZWARC Johann","SZWARC Patrick","P",0,1,97,100,"2020-02-22","T4 5Q R1 CD59 - ANNOEULLIN - CONSOLANTE","Qualifications","2019-2020",null,null,null,null,0,null,0]
["SZWARC Johann","DEVOS Jackie","P",0,2,55,120,"2020-02-22","T4 5Q R1 CD59 - ANNOEULLIN","Qualifications","2019-2020",null,null,null,null,0,null,0]
["SZWARC Johann","LE GOHEBEL Jacques","P",0,2,82,120,"2020-02-22","T4 5Q R1 CD59 - ANNOEULLIN","Qualifications","2019-2020",null,null,null,null,0,null,0]
["SZWARC Johann","BEGHIN Benjamin","P",0,1,53,100,"2021-10-16","T1 5Q R1 - VILLENEUVE D'ASCQ","Qualifications","2021-2022",null,null,null,null,0,null,0]
["SZWARC Johann","BEGHIN Benjamin","P",0,1,79,100,"2021-10-16","T1 5Q R1 - VILLENEUVE D'ASCQ","Qualifications","2021-2022",null,null,null,null,0,null,0]
["SZWARC Johann","BARKUT Volkan","G",1,0,100,95,"2021-10-16","T1 5Q R1 - VILLENEUVE D'ASCQ - CONSOLANTE","Qualifications","2021-2022",null,null,null,null,1,null,0]
["SZWARC Johann","BLONDEL Jean","G",1,0,100,60,"2021-10-16","T1 5Q R1 - VILLENEUVE D'ASCQ - CONSOLANTE","Qualifications","2021-2022",null,null,null,null,1,null,0]
["SZWARC Johann","BEGHIN Nicolas","P",0,1,54,100,"2022-02-26","T3 5Q R1 - GRAVELINES - CONSOLANTE","Qualifications","2021-2022",null,null,null,null,0,null,0]
["SZWARC Johann","DUTAILLY Michel","P",0,1,77,100,"2022-02-26","T3 5Q R1 - GRAVELINES - CONSOLANTE","Qualifications","2021-2022",null,null,null,null,0,null,0]
["SZWARC Johann","BELLENS Antoine","P",0,1,92,100,"2022-02-26","T3 5Q R1 - GRAVELINES ","Qualifications","2021-2022",null,null,null,null,0,null,0]
["SZWARC Johann","NOYER Pascal","P",0,1,55,100,"2022-02-26","T3 5Q R1 - GRAVELINES ","Qualifications","2021-2022",null,null,null,null,0,null,0]
["SZWARC Johann","BEGHIN Benjamin","P",0,1,45,100,"2022-04-02","T4 5Q R1 - ANNOEULLIN","1/4 Finale","2021-2022",null,null,null,null,0,null,0]
["SZWARC Johann","BELLENS Antoine","P",0,1,84,100,"2022-04-02","T4 5Q R1 - ANNOEULLIN","Qualifications","2021-2022",null,null,null,null,0,null,0]
["SZWARC Johann","BLONDEL Jean","G",1,0,100,76,"2022-04-02","T4 5Q R1 - ANNOEULLIN","Qualifications","2021-2022",null,null,null,null,1,null,0]
["SZWARC Johann","HOCHART James","P",1,2,157,166,"2023-04-16","Finale CD59 5Q R1 - RONCHIN","Qualifications","2022-2023",null,null,null,null,0,null,0]
["SZWARC Johann","PAILLARD Bertrand","P",0,2,114,120,"2023-04-16","Finale CD59 5Q R1 - RONCHIN","Qualifications","2022-2023",null,null,null,null,0,null,0]
["SZWARC Johann","DUC Stéphane","P",0,1,69,100,"2022-09-24","T1 5Q R1 - VILLENEUVE D'ASCQ - CONVOCATION 8h30","Qualifications","2022-2023",null,null,null,null,0,null,0]
["SZWARC Johann","DUC Stéphane","G",1,0,100,88,"2022-09-24","T1 5Q R1 - VILLENEUVE D'ASCQ - CONVOCATION 8h30","Finale","2022-2023",null,null,null,null,0,null,1]
["SZWARC Johann","LE GOHEBEL Jacques","G",1,0,100,91,"2022-09-24","T1 5Q R1 - VILLENEUVE D'ASCQ - CONVOCATION 8h30","Qualifications","2022-2023",null,null,null,null,0,null,1]
["SZWARC Johann","LE GOHEBEL Jacques","G",1,0,100,69,"2022-09-24","T1 5Q R1 - VILLENEUVE D'ASCQ - CONVOCATION 8h30","1/2 Finale","2022-2023",null,null,null,null,0,null,1]
["SZWARC Johann","NOYER Pascal","G",1,0,100,63,"2022-09-24","T1 5Q R1 - VILLENEUVE D'ASCQ - CONVOCATION 8h30","Qualifications","2022-2023",null,null,null,null,0,null,1]
["SZWARC Johann","HOCHART James","P",0,1,89,100,"2022-10-30","T2 5Q R1 - GRAVELINES","1/2 Finale","2022-2023",null,null,null,null,0,null,0]
["SZWARC Johann","MACAREZ Guy","G",1,0,100,16,"2022-10-30","T2 5Q R1 - GRAVELINES","Qualifications","2022-2023",null,null,null,null,0,null,1]
["SZWARC Johann","MACAREZ Guy","G",1,0,100,75,"2022-10-30","T2 5Q R1 - GRAVELINES","1/4 Finale","2022-2023",null,null,null,null,0,null,1]
["SZWARC Johann","PARENT Jean-René","G",1,0,100,74,"2022-10-30","T2 5Q R1 - GRAVELINES","Qualifications","2022-2023",null,null,null,null,0,null,1]
["SZWARC Johann","DUC Stéphane","P",0,1,73,100,"2023-02-04","T3 5Q R1 - GRAVELINES","1/4 Finale","2022-2023",null,null,null,null,0,null,0]
["SZWARC Johann","MACAREZ Guy","G",1,0,100,45,"2023-02-04","T3 5Q R1 - GRAVELINES","Qualifications","2022-2023",null,null,null,null,0,null,1]
["SZWARC Johann","PARENT Jean-René","G",1,0,100,89,"2023-02-04","T3 5Q R1 - GRAVELINES","Qualifications","2022-2023",null,null,null,null,0,null,1]
["Fin des données",null,null,null,null,null,null,null,null,null,"",null,null,null,null,{"$f":"IF($K67=P$1,COUNTIF($C67,\"G\"),0)","v":0},null,{"$f":"IF($K67=R$1,COUNTIF($C67,\"G\"),0)","v":0}]

{"sheet":"SZWARC Patrick","index":141,"n_rows":55,"n_cols":22,"rows_kept":55,"cut":false,"hidden":false,"merged":[]}
["SZWARC Patrick",null,null,null,null,null,null,null,null,null,null,null,null,null,null,{"$f":"SaisonDeb","v":"2021-2022"},null,{"$f":"SaisonFin","v":"2022-2023"},null,"Toutes saisons"]
[{"$error":"#N/A"},null,null,null,null,null,null,null,null,null,null,null,null,null,null,"Nombre","%age","Nombre","%age","Nombre","%age"]
[{"$error":"#N/A"},null,null,null,null,null,null,null,null,null,null,null,null,"Matchs","Gagnés",{"$f":"SUM(P$15:P$151)","v":2},{"$f":"IF(P$3+P$4>0,P3/(P$3+P$4),\"\")","v":0.5},{"$f":"SUM(R$15:R$151)","v":0},{"$f":"IF(R$3+R$4>0,R3/(R$3+R$4),\"\")","v":""},{"$f":"COUNTIF($C$15:$C$151,\"G\")","v":22},{"$f":"IF(T$3+T$4>0,T3/(T$3+T$4),\"\")","v":0.5641025641025641}]
[{"$error":"#N/A"},null,null,null,null,null,null,null,null,null,null,null,null,null,"Perdus",{"$f":"COUNTIF($K$15:$M$151,SaisonDeb)-P3","v":2},{"$f":"IF(P$3+P$4>0,P4/(P$3+P$4),\"\")","v":0.5},{"$f":"COUNTIF($K$15:$K$151,SaisonFin)-R3","v":0},{"$f":"IF(R$3+R$4>0,R4/(R$3+R$4),\"\")","v":""},{"$f":"COUNTIF($C$15:$C$151,\"P\")","v":17},{"$f":"IF(T$3+T$4>0,T4/(T$3+T$4),\"\")","v":0.4358974358974359}]
[{"$error":"#N/A"},null,null,null,null,null,null,null,null,null,null,null,null,null,"Total / Moy.",{"$f":"SUM(P3:P4)","v":4},{"$f":"IF(SUMIF($K$15:$K$151,SaisonDeb,$G$15:$G$151)>0,SUMIF($K$15:$K$151,SaisonDeb,$F$15:$F$151)/SUMIF($K$15:$K$151,SaisonDeb,$G$15:$G$151),\"\")","v":1.338235294117647},{"$f":"SUM(R3:R4)","v":0},{"$f":"IF(SUMIF($K$15:$K$151,SaisonFin,$G$15:$G$151)>0,SUMIF($K$15:$K$151,SaisonFin,$F$15:$F$151)/SUMIF($K$15:$K$151,SaisonFin,$G$15:$G$151),\"\")","v":""},{"$f":"SUM(T3:T4)","v":39},{"$f":"IF(SUM($G$15:$G$151)>0,SUM($F$15:$F$151)/SUM($G$15:$G$151),\"\")","v":1.038564803514767},{"$f":"IF(SUMIF($K$15:$K$55,SaisonDeb,$G$15:$G$55)+SUMIF($K$15:$K$55,SaisonFin,$G$15:$G$55)>0,(SUMIF($K$15:$K$55,SaisonDeb,$F$15:$F$55)+SUMIF($K$15:$K$55,SaisonFin,$F$15:$F$55))/(SUMIF($K$15:$K$55,SaisonDeb,$G$15:$G$55)+SUMIF($K$15:$K$55,SaisonFin,$G$15:$G$55)),\"\")","v":1.338235294117647}]
[null,null,null,null,null,null,null,null,null,null,null,null,null,"Sets","Gagnés",{"$f":"SUMIF($K$15:$K$151,SaisonDeb,$D$15:$D$151)","v":2},{"$f":"IF(P$6+P$7>0,P6/(P$6+P$7),\"\")","v":0.5},{"$f":"SUMIF($K$15:$K$151,SaisonFin,$D$15:$D$151)","v":0},{"$f":"IF(R$6+R$7>0,R6/(R$6+R$7),\"\")","v":""},{"$f":"SUM($D$15:$D$151)","v":40},{"$f":"IF(T$6+T$7>0,T6/(T$6+T$7),\"\")","v":0.54054054054054057}]
[null,null,null,null,null,null,null,null,null,null,null,null,null,null,"Perdus",{"$f":"SUMIF($K$15:$K$151,SaisonDeb,$E$15:$E$151)","v":2},{"$f":"IF(P$6+P$7>0,P7/(P$6+P$7),\"\")","v":0.5},{"$f":"SUMIF($K$15:$K$151,SaisonFin,$E$15:$E$151)","v":0},{"$f":"IF(R$6+R$7>0,R7/(R$6+R$7),\"\")","v":""},{"$f":"SUM($E$15:$E$151)","v":34},{"$f":"IF(T$6+T$7>0,T7/(T$6+T$7),\"\")","v":0.45945945945945948}]
["Récapitulatif joueurs",null,null,null,null,null,null,null,null,null,null,null,null,null,"Total",{"$f":"SUM(P6:P7)","v":4},null,{"$f":"SUM(R6:R7)","v":0},null,{"$f":"SUM(T6:T7)","v":74}]
[]
[]
[]
[]
[]
[]
["Joueur","Adversaire","G/P","Sets gagnés","Sets perdus","pts marqués","pts subis","Date","Compétition","Phase","Saison"]
["SZWARC Patrick","WASYLYSZYN Jean-Pierre","G",1,0,100,41,"2016-01-14","T1 Qualifications CD59 R1 - CONSOLANTE - DUNKERQUE","Qualifications",{"$f":"IF(H16<>\"\",IF(MONTH(H16)>MoisRef,YEAR(H16)&\"-\"&YEAR(H16)+1,YEAR(H16)-1&\"-\"&YEAR(H16)),\"\")","v":"2015-2016"},null,null,null,null,{"$f":"IF($K16=P$1,COUNTIF($C16,\"G\"),0)","v":0},null,{"$f":"IF($K16=R$1,COUNTIF($C16,\"G\"),0)","v":0}]
["SZWARC Patrick","VEREECQUE Bernard","P",0,2,51,120,"2016-01-14","T1 Qualifications CD59 R1 - DUNKERQUE","Qualifications","2015-2016",null,null,null,null,0,null,0]
["SZWARC Patrick","WASYLYSZYN Jean-Pierre","G",2,1,154,158,"2016-01-14","T1 Qualifications CD59 R1 - DUNKERQUE","Qualifications","2015-2016",null,null,null,null,0,null,0]
["SZWARC Patrick","BEGHIN Benjamin","G",2,0,120,111,"2017-03-11","T3 Qualifications CD59 R1 - ST POL SUR MER","Qualifications","2016-2017",null,null,null,null,0,null,0]
["SZWARC Patrick","BEGHIN Nicolas","G",2,1,173,166,"2017-03-11","T3 Qualifications CD59 R1 - ST POL SUR MER","Qualifications","2016-2017",null,null,null,null,0,null,0]
["SZWARC Patrick","MONFLIER Francis","P",0,2,86,120,"2017-03-11","T3 Qualifications CD59 R1 - ST POL SUR MER","1/2 Finale","2016-2017",null,null,null,null,0,null,0]
["SZWARC Patrick","NOYER Pascal","G",2,0,120,102,"2017-03-11","T3 Qualifications CD59 R1 - ST POL SUR MER","1/4 Finale","2016-2017",null,null,null,null,0,null,0]
["SZWARC Patrick","BEGHIN Nicolas","P",1,2,124,172,"2017-09-30","T1 Qualifications R1 CD59 - GRAVELINES","Qualifications","2017-2018",null,null,null,null,0,null,0]
["SZWARC Patrick","BEGHIN Nicolas","P",0,2,110,120,"2017-09-30","T1 Qualifications R1 CD59 - GRAVELINES","1/2 Finale","2017-2018",null,null,null,null,0,null,0]
["SZWARC Patrick","DEREUDDRE Dominique","G",2,0,120,32,"2017-09-30","T1 Qualifications R1 CD59 - GRAVELINES","Qualifications","2017-2018",null,null,null,null,0,null,0]
["SZWARC Patrick","DUTAILLY Michel","G",2,0,120,92,"2017-09-30","T1 Qualifications R1 CD59 - GRAVELINES","1/4 Finale","2017-2018",null,null,null,null,0,null,0]
["SZWARC Patrick","ESTERMANS Bernard","P",0,2,99,120,"2018-01-20","T2 Qualifications R1 CD59 - ST POL SUR MER","Qualifications","2017-2018",null,null,null,null,0,null,0]
["SZWARC Patrick","ESTERMANS Bernard","P",1,2,124,154,"2018-01-20","T2 Qualifications R1 CD59 - ST POL SUR MER","Qualifications","2017-2018",null,null,null,null,0,null,0]
["SZWARC Patrick","BEGUIN Jean-Luc","G",2,1,179,136,"2018-10-20","T1 5Q R2 CD59 - ST POL SUR MER","Qualifications","2018-2019",null,null,null,null,0,null,0]
["SZWARC Patrick","VEREECQUE Bernard","P",0,2,108,120,"2018-10-20","T1 5Q R2 CD59 - ST POL SUR MER","1/2 Finale","2018-2019",null,null,null,null,0,null,0]
["SZWARC Patrick","WASYLYSZYN Jean-Pierre","G",2,0,120,71,"2018-10-20","T1 5Q R2 CD59 - ST POL SUR MER","Qualifications","2018-2019",null,null,null,null,0,null,0]
["SZWARC Patrick","BEGUIN Jean-Luc","G",2,0,120,86,"2019-03-02","Finale CD59 R2 - GRAVELINES","1/2 Finale","2018-2019",null,null,null,null,0,null,0]
["SZWARC Patrick","DEREUDDRE Dominique","G",2,0,120,91,"2019-03-02","Finale CD59 R2 - GRAVELINES","Finale","2018-2019",null,null,null,null,0,null,0]
["SZWARC Patrick","DUTAILLY Michel","G",2,0,120,118,"2019-03-02","Finale CD59 R2 - GRAVELINES","Qualifications","2018-2019",null,null,null,null,0,null,0]
["SZWARC Patrick","NOYER Pascal","P",0,2,78,120,"2019-03-02","Finale CD59 R2 - GRAVELINES","Qualifications","2018-2019",null,null,null,null,0,null,0]
["SZWARC Patrick","DEVOS Jackie","G",2,1,173,140,"2019-11-24","T2 5Q R1 CD59 - GRAVELINES ","1/4 Finale","2019-2020",null,null,null,null,0,null,0]
["SZWARC Patrick","LORTHIOIR Jean-Luc","P",0,2,62,120,"2019-11-24","T2 5Q R1 CD59 - GRAVELINES ","1/2 Finale","2019-2020",null,null,null,null,0,null,0]
["SZWARC Patrick","SZWARC Johann","G",2,0,120,106,"2019-11-24","T2 5Q R1 CD59 - GRAVELINES ","Qualifications","2019-2020",null,null,null,null,0,null,0]
["SZWARC Patrick","VEREECQUE Bernard","G",2,0,120,31,"2019-11-24","T2 5Q R1 CD59 - GRAVELINES ","Qualifications","2019-2020",null,null,null,null,0,null,0]
["SZWARC Patrick","DUTAILLY Michel","P",0,1,79,100,"2020-01-04","T3 5Q R1 CD59 - GRAVELINES - CONSOLANTE -","Qualifications","2019-2020",null,null,null,null,0,null,0]
["SZWARC Patrick","LECROART Serge","P",0,1,64,100,"2020-01-04","T3 5Q R1 CD59 - GRAVELINES - CONSOLANTE -","Qualifications","2019-2020",null,null,null,null,0,null,0]
["SZWARC Patrick","VEREECQUE Bernard","G",1,0,100,69,"2020-01-04","T3 5Q R1 CD59 - GRAVELINES - CONSOLANTE -","Qualifications","2019-2020",null,null,null,null,0,null,0]
["SZWARC Patrick","VEREECQUE Esteban","G",1,0,100,62,"2020-01-04","T3 5Q R1 CD59 - GRAVELINES - CONSOLANTE -","Qualifications","2019-2020",null,null,null,null,0,null,0]
["SZWARC Patrick","SAUVAGE Maxime","P",1,2,159,170,"2020-01-04","T3 5Q R1 CD59 - GRAVELINES - Convocation 8h30 -","Qualifications","2019-2020",null,null,null,null,0,null,0]
["SZWARC Patrick","SZWARC Johann","P",0,2,78,120,"2020-01-04","T3 5Q R1 CD59 - GRAVELINES - Convocation 8h30 -","Qualifications","2019-2020",null,null,null,null,0,null,0]
["SZWARC Patrick","DEREUDDRE Dominique","G",1,0,100,87,"2020-02-22","T4 5Q R1 CD59 - ANNOEULLIN - CONSOLANTE","Qualifications","2019-2020",null,null,null,null,0,null,0]
["SZWARC Patrick","NOYER Pascal","P",0,1,83,100,"2020-02-22","T4 5Q R1 CD59 - ANNOEULLIN - CONSOLANTE","1/2 Finale","2019-2020",null,null,null,null,0,null,0]
["SZWARC Patrick","SZWARC Johann","G",1,0,100,97,"2020-02-22","T4 5Q R1 CD59 - ANNOEULLIN - CONSOLANTE","Qualifications","2019-2020",null,null,null,null,0,null,0]
["SZWARC Patrick","HOCHART James","G",2,1,175,153,"2020-02-22","T4 5Q R1 CD59 - ANNOEULLIN","Qualifications","2019-2020",null,null,null,null,0,null,0]
["SZWARC Patrick","LORTHIOIR Jean-Luc","P",0,2,32,120,"2020-02-22","T4 5Q R1 CD59 - ANNOEULLIN","Qualifications","2019-2020",null,null,null,null,0,null,0]
["SZWARC Patrick","BEGHIN Benjamin","G",1,0,100,52,"2021-10-16","T1 5Q R1 - VILLENEUVE D'ASCQ","1/4 Finale","2021-2022",null,null,null,null,1,null,0]
["SZWARC Patrick","BEGHIN Nicolas","P",0,1,68,100,"2021-10-16","T1 5Q R1 - VILLENEUVE D'ASCQ","Qualifications","2021-2022",null,null,null,null,0,null,0]
["SZWARC Patrick","BELLENS Antoine","P",0,1,96,100,"2021-10-16","T1 5Q R1 - VILLENEUVE D'ASCQ","1/2 Finale","2021-2022",null,null,null,null,0,null,0]
["SZWARC Patrick","BLONDEL Jean","G",1,0,100,20,"2021-10-16","T1 5Q R1 - VILLENEUVE D'ASCQ","Qualifications","2021-2022",null,null,null,null,1,null,0]
["Fin des données",null,null,null,null,null,null,null,null,null,"",null,null,null,null,{"$f":"IF($K55=P$1,COUNTIF($C55,\"G\"),0)","v":0},null,{"$f":"IF($K55=R$1,COUNTIF($C55,\"G\"),0)","v":0}]

{"sheet":"TALEC Pierre","index":142,"n_rows":42,"n_cols":22,"rows_kept":42,"cut":false,"hidden":false,"merged":[]}
["TALEC Pierre",null,null,null,null,null,null,null,null,null,null,null,null,null,null,{"$f":"SaisonDeb","v":"2021-2022"},null,{"$f":"SaisonFin","v":"2022-2023"},null,"Toutes saisons"]
[{"$error":"#N/A"},null,null,null,null,null,null,null,null,null,null,null,null,null,null,"Nombre","%age","Nombre","%age","Nombre","%age"]
[{"$error":"#N/A"},null,null,null,null,null,null,null,null,null,null,null,null,"Matchs","Gagnés",{"$f":"SUM(P$15:P$138)","v":0},{"$f":"IF(P$3+P$4>0,P3/(P$3+P$4),\"\")","v":""},{"$f":"SUM(R$15:R$138)","v":0},{"$f":"IF(R$3+R$4>0,R3/(R$3+R$4),\"\")","v":""},{"$f":"COUNTIF($C$15:$C$138,\"G\")","v":5},{"$f":"IF(T$3+T$4>0,T3/(T$3+T$4),\"\")","v":0.19230769230769232}]
[{"$error":"#N/A"},null,null,null,null,null,null,null,null,null,null,null,null,null,"Perdus",{"$f":"COUNTIF($K$15:$M$138,SaisonDeb)-P3","v":0},{"$f":"IF(P$3+P$4>0,P4/(P$3+P$4),\"\")","v":""},{"$f":"COUNTIF($K$15:$K$138,SaisonFin)-R3","v":0},{"$f":"IF(R$3+R$4>0,R4/(R$3+R$4),\"\")","v":""},{"$f":"COUNTIF($C$15:$C$138,\"P\")","v":21},{"$f":"IF(T$3+T$4>0,T4/(T$3+T$4),\"\")","v":0.80769230769230771}]
[{"$error":"#N/A"},null,null,null,null,null,null,null,null,null,null,null,null,null,"Total / Moy.",{"$f":"SUM(P3:P4)","v":0},{"$f":"IF(SUMIF($K$15:$K$138,SaisonDeb,$G$15:$G$138)>0,SUMIF($K$15:$K$138,SaisonDeb,$F$15:$F$138)/SUMIF($K$15:$K$138,SaisonDeb,$G$15:$G$138),\"\")","v":""},{"$f":"SUM(R3:R4)","v":0},{"$f":"IF(SUMIF($K$15:$K$138,SaisonFin,$G$15:$G$138)>0,SUMIF($K$15:$K$138,SaisonFin,$F$15:$F$138)/SUMIF($K$15:$K$138,SaisonFin,$G$15:$G$138),\"\")","v":""},{"$f":"SUM(T3:T4)","v":26},{"$f":"IF(SUM($G$15:$G$138)>0,SUM($F$15:$F$138)/SUM($G$15:$G$138),\"\")","v":0.77202937249666226},{"$f":"IF(SUMIF($K$15:$K$42,SaisonDeb,$G$15:$G$42)+SUMIF($K$15:$K$42,SaisonFin,$G$15:$G$42)>0,(SUMIF($K$15:$K$42,SaisonDeb,$F$15:$F$42)+SUMIF($K$15:$K$42,SaisonFin,$F$15:$F$42))/(SUMIF($K$15:$K$42,SaisonDeb,$G$15:$G$42)+SUMIF($K$15:$K$42,SaisonFin,$G$15:$G$42)),\"\")","v":""}]
[null,null,null,null,null,null,null,null,null,null,null,null,null,"Sets","Gagnés",{"$f":"SUMIF($K$15:$K$138,SaisonDeb,$D$15:$D$138)","v":0},{"$f":"IF(P$6+P$7>0,P6/(P$6+P$7),\"\")","v":""},{"$f":"SUMIF($K$15:$K$138,SaisonFin,$D$15:$D$138)","v":0},{"$f":"IF(R$6+R$7>0,R6/(R$6+R$7),\"\")","v":""},{"$f":"SUM($D$15:$D$138)","v":12},{"$f":"IF(T$6+T$7>0,T6/(T$6+T$7),\"\")","v":0.24}]
[null,null,null,null,null,null,null,null,null,null,null,null,null,null,"Perdus",{"$f":"SUMIF($K$15:$K$138,SaisonDeb,$E$15:$E$138)","v":0},{"$f":"IF(P$6+P$7>0,P7/(P$6+P$7),\"\")","v":""},{"$f":"SUMIF($K$15:$K$138,SaisonFin,$E$15:$E$138)","v":0},{"$f":"IF(R$6+R$7>0,R7/(R$6+R$7),\"\")","v":""},{"$f":"SUM($E$15:$E$138)","v":38},{"$f":"IF(T$6+T$7>0,T7/(T$6+T$7),\"\")","v":0.76}]
["Récapitulatif joueurs",null,null,null,null,null,null,null,null,null,null,null,null,null,"Total",{"$f":"SUM(P6:P7)","v":0},null,{"$f":"SUM(R6:R7)","v":0},null,{"$f":"SUM(T6:T7)","v":50}]
[]
[]
[]
[]
[]
[]
["Joueur","Adversaire","G/P","Sets gagnés","Sets perdus","pts marqués","pts subis","Date","Compétition","Phase","Saison"]
["TALEC Pierre","BARTHON Aurélie","G",1,0,100,97,"2017-09-30","T 1 OISE - Consolante - CREPY","Qualifications",{"$f":"IF(H16<>\"\",IF(MONTH(H16)>MoisRef,YEAR(H16)&\"-\"&YEAR(H16)+1,YEAR(H16)-1&\"-\"&YEAR(H16)),\"\")","v":"2017-2018"},null,null,null,null,{"$f":"IF($K16=P$1,COUNTIF($C16,\"G\"),0)","v":0},null,{"$f":"IF($K16=R$1,COUNTIF($C16,\"G\"),0)","v":0}]
["TALEC Pierre","BOUIGES Armelle","G",1,0,100,35,"2017-09-30","T 1 OISE - Consolante - CREPY","Qualifications","2017-2018",null,null,null,null,0,null,0]
["TALEC Pierre","FAURE Stéphane","P",0,2,86,120,"2017-09-30","T 1 OISE - CREPY","Qualifications","2017-2018",null,null,null,null,0,null,0]
["TALEC Pierre","LALOT Gérard","P",0,2,57,120,"2017-09-30","T 1 OISE - CREPY","Qualifications","2017-2018",null,null,null,null,0,null,0]
["TALEC Pierre","BOUIGES Armelle","G",2,1,178,145,"2017-10-21","T 2 OISE - SENLIS","Qualifications","2017-2018",null,null,null,null,0,null,0]
["TALEC Pierre","FAURE Stéphane","P",0,2,59,120,"2017-10-21","T 2 OISE - SENLIS","Qualifications","2017-2018",null,null,null,null,0,null,0]
["TALEC Pierre","FAURE Stéphane","P",0,2,59,120,"2017-10-21","T 2 OISE - SENLIS","1/2 Finale","2017-2018",null,null,null,null,0,null,0]
["TALEC Pierre","LAMARQUE Yves","P",0,1,58,100,"2017-11-25","T 3 OISE - Consolante - MERU","Qualifications","2017-2018",null,null,null,null,0,null,0]
["TALEC Pierre","VANDEPUTTE Laurent","P",0,0,0,0,"2017-11-25","T 3 OISE - Consolante - MERU","Qualifications","2017-2018",null,null,null,null,0,null,0]
["TALEC Pierre","LALOT Gérard","P",0,2,45,120,"2017-11-25","T 3 OISE - MERU","Qualifications","2017-2018",null,null,null,null,0,null,0]
["TALEC Pierre","MARTIN Denis","P",1,2,154,170,"2017-11-25","T 3 OISE - MERU","Qualifications","2017-2018",null,null,null,null,0,null,0]
["TALEC Pierre","VANDEPUTTE Laurent","P",0,2,64,120,"2017-11-25","T 3 OISE - MERU","Qualifications","2017-2018",null,null,null,null,0,null,0]
["TALEC Pierre","VANEME Sophie","P",0,1,94,100,"2018-01-06","T 4 OISE - CONSOLANTE - VILLERS","Qualifications","2017-2018",null,null,null,null,0,null,0]
["TALEC Pierre","VANEME Sophie","P",0,1,94,100,"2018-01-06","T 4 OISE - CONSOLANTE - VILLERS","Finale","2017-2018",null,null,null,null,0,null,0]
["TALEC Pierre","LALOT Gérard","P",0,2,90,120,"2018-01-06","T 4 OISE - VILLERS","Qualifications","2017-2018",null,null,null,null,0,null,0]
["TALEC Pierre","MURIOT Jean-Pierre","P",0,2,77,120,"2018-01-06","T 4 OISE - VILLERS","Qualifications","2017-2018",null,null,null,null,0,null,0]
["TALEC Pierre","LAMARQUE Yves","P",0,2,60,120,"2018-09-29","5 Q - T 1 OISE 2018-19 - R 1 - TOURNOI PRINCIPAL  - CREPY","Qualifications","2018-2019",null,null,null,null,0,null,0]
["TALEC Pierre","LAMARQUE Yves","P",1,2,116,152,"2018-09-29","5 Q - T 1 OISE 2018-19 - R 1 - TOURNOI PRINCIPAL  - CREPY","Qualifications","2018-2019",null,null,null,null,0,null,0]
["TALEC Pierre","VANDEPUTTE Laurent","P",0,2,59,120,"2018-09-29","5 Q - T 1 OISE 2018-19 - R 1 - TOURNOI PRINCIPAL  - CREPY","1/4 Finale","2018-2019",null,null,null,null,0,null,0]
["TALEC Pierre","AZRIA  Aaron","G",2,0,120,83,"2018-10-27","5 Q - T 2 OISE 2018-19 - R 1 - TOURNOI PRINCIPAL  - VILLERS","Qualifications","2018-2019",null,null,null,null,0,null,0]
["TALEC Pierre","VANDEPUTTE Laurent","P",0,2,61,120,"2018-10-27","5 Q - T 2 OISE 2018-19 - R 1 - TOURNOI PRINCIPAL  - VILLERS","Qualifications","2018-2019",null,null,null,null,0,null,0]
["TALEC Pierre","VANDEPUTTE Laurent","P",0,2,82,120,"2018-10-27","5 Q - T 2 OISE 2018-19 - R 1 - TOURNOI PRINCIPAL  - VILLERS","1/4 Finale","2018-2019",null,null,null,null,0,null,0]
["TALEC Pierre","BOZON Robert","P",0,2,99,120,"2018-11-24","5 Q - T 3 OISE 2018-19 - R 1 - TOURNOI PRINCIPAL  - MERU","Qualifications","2018-2019",null,null,null,null,0,null,0]
["TALEC Pierre","DESCLAIR Guy","P",1,2,132,177,"2018-11-24","5 Q - T 3 OISE 2018-19 - R 1 - TOURNOI PRINCIPAL  - MERU","Qualifications","2018-2019",null,null,null,null,0,null,0]
["TALEC Pierre","BOUIGES Armelle","G",2,0,120,110,"2019-01-19","5 Q - T 4 OISE 2018-19 - R 1 - TOURNOI PRINCIPAL  - CHAMBLY","Qualifications","2018-2019",null,null,null,null,0,null,0]
["TALEC Pierre","LALOT Gérard","P",1,2,149,167,"2019-01-19","5 Q - T 4 OISE 2018-19 - R 1 - TOURNOI PRINCIPAL  - CHAMBLY","Qualifications","2018-2019",null,null,null,null,0,null,0]
["Fin des données",null,null,null,null,null,null,null,null,null,"",null,null,null,null,{"$f":"IF($K42=P$1,COUNTIF($C42,\"G\"),0)","v":0},null,{"$f":"IF($K42=R$1,COUNTIF($C42,\"G\"),0)","v":0}]

{"sheet":"THUILLIER Jean-François","index":143,"n_rows":18,"n_cols":22,"rows_kept":18,"cut":false,"hidden":false,"merged":[]}
["THUILLIER Jean-François",null,null,null,null,null,null,null,null,null,null,null,null,null,null,{"$f":"SaisonDeb","v":"2021-2022"},null,{"$f":"SaisonFin","v":"2022-2023"},null,"Toutes saisons"]
[{"$error":"#N/A"},null,null,null,null,null,null,null,null,null,null,null,null,null,null,"Nombre","%age","Nombre","%age","Nombre","%age"]
[{"$error":"#N/A"},null,null,null,null,null,null,null,null,null,null,null,null,"Matchs","Gagnés",{"$f":"SUM(P$15:P$114)","v":0},{"$f":"IF(P$3+P$4>0,P3/(P$3+P$4),\"\")","v":""},{"$f":"SUM(R$15:R$114)","v":0},{"$f":"IF(R$3+R$4>0,R3/(R$3+R$4),\"\")","v":""},{"$f":"COUNTIF($C$15:$C$114,\"G\")","v":0},{"$f":"IF(T$3+T$4>0,T3/(T$3+T$4),\"\")","v":0}]
[{"$error":"#N/A"},null,null,null,null,null,null,null,null,null,null,null,null,null,"Perdus",{"$f":"COUNTIF($K$15:$M$114,SaisonDeb)-P3","v":0},{"$f":"IF(P$3+P$4>0,P4/(P$3+P$4),\"\")","v":""},{"$f":"COUNTIF($K$15:$K$114,SaisonFin)-R3","v":0},{"$f":"IF(R$3+R$4>0,R4/(R$3+R$4),\"\")","v":""},{"$f":"COUNTIF($C$15:$C$114,\"P\")","v":2},{"$f":"IF(T$3+T$4>0,T4/(T$3+T$4),\"\")","v":1}]
[{"$error":"#N/A"},null,null,null,null,null,null,null,null,null,null,null,null,null,"Total / Moy.",{"$f":"SUM(P3:P4)","v":0},{"$f":"IF(SUMIF($K$15:$K$114,SaisonDeb,$G$15:$G$114)>0,SUMIF($K$15:$K$114,SaisonDeb,$F$15:$F$114)/SUMIF($K$15:$K$114,SaisonDeb,$G$15:$G$114),\"\")","v":""},{"$f":"SUM(R3:R4)","v":0},{"$f":"IF(SUMIF($K$15:$K$114,SaisonFin,$G$15:$G$114)>0,SUMIF($K$15:$K$114,SaisonFin,$F$15:$F$114)/SUMIF($K$15:$K$114,SaisonFin,$G$15:$G$114),\"\")","v":""},{"$f":"SUM(T3:T4)","v":2},{"$f":"IF(SUM($G$15:$G$114)>0,SUM($F$15:$F$114)/SUM($G$15:$G$114),\"\")","v":0.65277777777777779},{"$f":"IF(SUMIF($K$15:$K$18,SaisonDeb,$G$15:$G$18)+SUMIF($K$15:$K$18,SaisonFin,$G$15:$G$18)>0,(SUMIF($K$15:$K$18,SaisonDeb,$F$15:$F$18)+SUMIF($K$15:$K$18,SaisonFin,$F$15:$F$18))/(SUMIF($K$15:$K$18,SaisonDeb,$G$15:$G$18)+SUMIF($K$15:$K$18,SaisonFin,$G$15:$G$18)),\"\")","v":""}]
[null,null,null,null,null,null,null,null,null,null,null,null,null,"Sets","Gagnés",{"$f":"SUMIF($K$15:$K$114,SaisonDeb,$D$15:$D$114)","v":0},{"$f":"IF(P$6+P$7>0,P6/(P$6+P$7),\"\")","v":""},{"$f":"SUMIF($K$15:$K$114,SaisonFin,$D$15:$D$114)","v":0},{"$f":"IF(R$6+R$7>0,R6/(R$6+R$7),\"\")","v":""},{"$f":"SUM($D$15:$D$114)","v":1},{"$f":"IF(T$6+T$7>0,T6/(T$6+T$7),\"\")","v":0.2}]
[null,null,null,null,null,null,null,null,null,null,null,null,null,null,"Perdus",{"$f":"SUMIF($K$15:$K$114,SaisonDeb,$E$15:$E$114)","v":0},{"$f":"IF(P$6+P$7>0,P7/(P$6+P$7),\"\")","v":""},{"$f":"SUMIF($K$15:$K$114,SaisonFin,$E$15:$E$114)","v":0},{"$f":"IF(R$6+R$7>0,R7/(R$6+R$7),\"\")","v":""},{"$f":"SUM($E$15:$E$114)","v":4},{"$f":"IF(T$6+T$7>0,T7/(T$6+T$7),\"\")","v":0.8}]
["Récapitulatif joueurs",null,null,null,null,null,null,null,null,null,null,null,null,null,"Total",{"$f":"SUM(P6:P7)","v":0},null,{"$f":"SUM(R6:R7)","v":0},null,{"$f":"SUM(T6:T7)","v":5}]
[]
[]
[]
[]
[]
[]
["Joueur","Adversaire","G/P","Sets gagnés","Sets perdus","pts marqués","pts subis","Date","Compétition","Phase","Saison"]
["THUILLIER Jean-François","DUMEIGE Stéphane","P",1,2,113,168,"2018-11-24","T2 R1 CD80 - ","Qualifications",{"$f":"IF(H16<>\"\",IF(MONTH(H16)>MoisRef,YEAR(H16)&\"-\"&YEAR(H16)+1,YEAR(H16)-1&\"-\"&YEAR(H16)),\"\")","v":"2018-2019"},null,null,null,null,{"$f":"IF($K16=P$1,COUNTIF($C16,\"G\"),0)","v":0},null,{"$f":"IF($K16=R$1,COUNTIF($C16,\"G\"),0)","v":0}]
["THUILLIER Jean-François","POINTIN Régis","P",0,2,75,120,"2018-11-24","T2 R1 CD80 - ","Qualifications",{"$f":"IF(H17<>\"\",IF(MONTH(H17)>MoisRef,YEAR(H17)&\"-\"&YEAR(H17)+1,YEAR(H17)-1&\"-\"&YEAR(H17)),\"\")","v":"2018-2019"},null,null,null,null,{"$f":"IF($K17=P$1,COUNTIF($C17,\"G\"),0)","v":0},null,{"$f":"IF($K17=R$1,COUNTIF($C17,\"G\"),0)","v":0}]
["Fin des données",null,null,null,null,null,null,null,null,null,{"$f":"IF(H18<>\"\",IF(MONTH(H18)>MoisRef,YEAR(H18)&\"-\"&YEAR(H18)+1,YEAR(H18)-1&\"-\"&YEAR(H18)),\"\")","v":""},null,null,null,null,{"$f":"IF($K18=P$1,COUNTIF($C18,\"G\"),0)","v":0},null,{"$f":"IF($K18=R$1,COUNTIF($C18,\"G\"),0)","v":0}]

{"sheet":"TILLIETTE Michel","index":144,"n_rows":29,"n_cols":22,"rows_kept":29,"cut":false,"hidden":false,"merged":[]}
["TILLIETTE Michel",null,null,null,null,null,null,null,null,null,null,null,null,null,null,{"$f":"SaisonDeb","v":"2021-2022"},null,{"$f":"SaisonFin","v":"2022-2023"},null,"Toutes saisons"]
[{"$error":"#N/A"},null,null,null,null,null,null,null,null,null,null,null,null,null,null,"Nombre","%age","Nombre","%age","Nombre","%age"]
[{"$error":"#N/A"},null,null,null,null,null,null,null,null,null,null,null,null,"Matchs","Gagnés",{"$f":"SUM(P$15:P$125)","v":0},{"$f":"IF(P$3+P$4>0,P3/(P$3+P$4),\"\")","v":""},{"$f":"SUM(R$15:R$125)","v":5},{"$f":"IF(R$3+R$4>0,R3/(R$3+R$4),\"\")","v":0.38461538461538464},{"$f":"COUNTIF($C$15:$C$125,\"G\")","v":5},{"$f":"IF(T$3+T$4>0,T3/(T$3+T$4),\"\")","v":0.38461538461538464}]
[{"$error":"#N/A"},null,null,null,null,null,null,null,null,null,null,null,null,null,"Perdus",{"$f":"COUNTIF($K$15:$M$125,SaisonDeb)-P3","v":0},{"$f":"IF(P$3+P$4>0,P4/(P$3+P$4),\"\")","v":""},{"$f":"COUNTIF($K$15:$K$125,SaisonFin)-R3","v":8},{"$f":"IF(R$3+R$4>0,R4/(R$3+R$4),\"\")","v":0.61538461538461542},{"$f":"COUNTIF($C$15:$C$125,\"P\")","v":8},{"$f":"IF(T$3+T$4>0,T4/(T$3+T$4),\"\")","v":0.61538461538461542}]
[{"$error":"#N/A"},null,null,null,null,null,null,null,null,null,null,null,null,null,"Total / Moy.",{"$f":"SUM(P3:P4)","v":0},{"$f":"IF(SUMIF($K$15:$K$125,SaisonDeb,$G$15:$G$125)>0,SUMIF($K$15:$K$125,SaisonDeb,$F$15:$F$125)/SUMIF($K$15:$K$125,SaisonDeb,$G$15:$G$125),\"\")","v":""},{"$f":"SUM(R3:R4)","v":13},{"$f":"IF(SUMIF($K$15:$K$125,SaisonFin,$G$15:$G$125)>0,SUMIF($K$15:$K$125,SaisonFin,$F$15:$F$125)/SUMIF($K$15:$K$125,SaisonFin,$G$15:$G$125),\"\")","v":0.97027481772293889},{"$f":"SUM(T3:T4)","v":13},{"$f":"IF(SUM($G$15:$G$125)>0,SUM($F$15:$F$125)/SUM($G$15:$G$125),\"\")","v":0.97027481772293889},{"$f":"IF(SUMIF($K$15:$K$29,SaisonDeb,$G$15:$G$29)+SUMIF($K$15:$K$29,SaisonFin,$G$15:$G$29)>0,(SUMIF($K$15:$K$29,SaisonDeb,$F$15:$F$29)+SUMIF($K$15:$K$29,SaisonFin,$F$15:$F$29))/(SUMIF($K$15:$K$29,SaisonDeb,$G$15:$G$29)+SUMIF($K$15:$K$29,SaisonFin,$G$15:$G$29)),\"\")","v":0.97027481772293889}]
[null,null,null,null,null,null,null,null,null,null,null,null,null,"Sets","Gagnés",{"$f":"SUMIF($K$15:$K$125,SaisonDeb,$D$15:$D$125)","v":0},{"$f":"IF(P$6+P$7>0,P6/(P$6+P$7),\"\")","v":""},{"$f":"SUMIF($K$15:$K$125,SaisonFin,$D$15:$D$125)","v":17},{"$f":"IF(R$6+R$7>0,R6/(R$6+R$7),\"\")","v":0.48571428571428571},{"$f":"SUM($D$15:$D$125)","v":17},{"$f":"IF(T$6+T$7>0,T6/(T$6+T$7),\"\")","v":0.48571428571428571}]
[null,null,null,null,null,null,null,null,null,null,null,null,null,null,"Perdus",{"$f":"SUMIF($K$15:$K$125,SaisonDeb,$E$15:$E$125)","v":0},{"$f":"IF(P$6+P$7>0,P7/(P$6+P$7),\"\")","v":""},{"$f":"SUMIF($K$15:$K$125,SaisonFin,$E$15:$E$125)","v":18},{"$f":"IF(R$6+R$7>0,R7/(R$6+R$7),\"\")","v":0.51428571428571423},{"$f":"SUM($E$15:$E$125)","v":18},{"$f":"IF(T$6+T$7>0,T7/(T$6+T$7),\"\")","v":0.51428571428571423}]
["Récapitulatif joueurs",null,null,null,null,null,null,null,null,null,null,null,null,null,"Total",{"$f":"SUM(P6:P7)","v":0},null,{"$f":"SUM(R6:R7)","v":35},null,{"$f":"SUM(T6:T7)","v":35}]
[]
[]
[]
[]
[]
[]
["Joueur","Adversaire","G/P","Sets gagnés","Sets perdus","pts marqués","pts subis","Date","Compétition","Phase","Saison"]
["TILLIETTE Michel","CARTIERE André","G",2,0,120,84,"2023-04-15","Finale CD62 R1 DIVION  - DIVION","Qualifications",{"$f":"IF(H16<>\"\",IF(MONTH(H16)>MoisRef,YEAR(H16)&\"-\"&YEAR(H16)+1,YEAR(H16)-1&\"-\"&YEAR(H16)),\"\")","v":"2022-2023"},null,null,null,null,{"$f":"IF($K16=P$1,COUNTIF($C16,\"G\"),0)","v":0},null,{"$f":"IF($K16=R$1,COUNTIF($C16,\"G\"),0)","v":1}]
["TILLIETTE Michel","LANCRY  Bruno","P",1,2,141,158,"2023-04-15","Finale CD62 R1 DIVION  - DIVION","Qualifications","2022-2023",null,null,null,null,0,null,0]
["TILLIETTE Michel","MINET Lionel","P",1,2,130,174,"2023-04-15","Finale CD62 R1 DIVION  - DIVION","Qualifications","2022-2023",null,null,null,null,0,null,0]
["TILLIETTE Michel","CARTIERE André","P",1,2,153,179,"2023-02-12","T3 CD62 5Q R1 - CUCQ","Qualifications","2022-2023",null,null,null,null,0,null,0]
["TILLIETTE Michel","DUCROCQ  Joël","G",2,1,176,114,"2023-02-12","T3 CD62 5Q R1 - CUCQ","Qualifications","2022-2023",null,null,null,null,0,null,1]
["TILLIETTE Michel","LANCRY  Bruno","P",1,2,136,174,"2023-02-12","T3 CD62 5Q R1 - CUCQ","Qualifications","2022-2023",null,null,null,null,0,null,0]
["TILLIETTE Michel","MINET Lionel","P",1,2,120,177,"2023-02-12","T3 CD62 5Q R1 - CUCQ","Qualifications","2022-2023",null,null,null,null,0,null,0]
["TILLIETTE Michel","CARTIERE André","G",2,1,160,150,"2023-02-25","T4 CD62 5Q R1 - DIVION","Qualifications","2022-2023",null,null,null,null,0,null,1]
["TILLIETTE Michel","LANCRY  Bruno","P",1,2,127,164,"2023-02-25","T4 CD62 5Q R1 - DIVION","Qualifications","2022-2023",null,null,null,null,0,null,0]
["TILLIETTE Michel","MINET Lionel","P",1,2,146,151,"2023-02-25","T4 CD62 5Q R1 - DIVION","Qualifications","2022-2023",null,null,null,null,0,null,0]
["TILLIETTE Michel","LANCRY  Bruno","P",0,2,81,120,"2022-11-05","T1 CD62 5Q R1 - WIMILLE","1/2 Finale","2022-2023",null,null,null,null,0,null,0]
["TILLIETTE Michel","RAMET Jacques","G",2,0,120,79,"2022-11-05","T1 CD62 5Q R1 - WIMILLE","Qualifications","2022-2023",null,null,null,null,0,null,1]
["TILLIETTE Michel","RAMET Jacques","G",2,0,120,59,"2022-11-05","T1 CD62 5Q R1 - WIMILLE","Qualifications","2022-2023",null,null,null,null,0,null,1]
["Fin des données",null,null,null,null,null,null,null,null,null,"",null,null,null,null,{"$f":"IF($K29=P$1,COUNTIF($C29,\"G\"),0)","v":0},null,{"$f":"IF($K29=R$1,COUNTIF($C29,\"G\"),0)","v":0}]

{"sheet":"TIZON Alain","index":145,"n_rows":58,"n_cols":22,"rows_kept":58,"cut":false,"hidden":false,"merged":[]}
["TIZON Alain",null,null,null,null,null,null,null,null,null,null,null,null,null,null,{"$f":"SaisonDeb","v":"2021-2022"},null,{"$f":"SaisonFin","v":"2022-2023"},null,"Toutes saisons"]
[{"$error":"#N/A"},null,null,null,null,null,null,null,null,null,null,null,null,null,null,"Nombre","%age","Nombre","%age","Nombre","%age"]
[{"$error":"#N/A"},null,null,null,null,null,null,null,null,null,null,null,null,"Matchs","Gagnés",{"$f":"SUM(P$15:P$154)","v":4},{"$f":"IF(P$3+P$4>0,P3/(P$3+P$4),\"\")","v":1},{"$f":"SUM(R$15:R$154)","v":0},{"$f":"IF(R$3+R$4>0,R3/(R$3+R$4),\"\")","v":""},{"$f":"COUNTIF($C$15:$C$154,\"G\")","v":20},{"$f":"IF(T$3+T$4>0,T3/(T$3+T$4),\"\")","v":0.47619047619047616}]
[{"$error":"#N/A"},null,null,null,null,null,null,null,null,null,null,null,null,null,"Perdus",{"$f":"COUNTIF($K$15:$M$154,SaisonDeb)-P3","v":0},{"$f":"IF(P$3+P$4>0,P4/(P$3+P$4),\"\")","v":0},{"$f":"COUNTIF($K$15:$K$154,SaisonFin)-R3","v":0},{"$f":"IF(R$3+R$4>0,R4/(R$3+R$4),\"\")","v":""},{"$f":"COUNTIF($C$15:$C$154,\"P\")","v":22},{"$f":"IF(T$3+T$4>0,T4/(T$3+T$4),\"\")","v":0.52380952380952384}]
[{"$error":"#N/A"},null,null,null,null,null,null,null,null,null,null,null,null,null,"Total / Moy.",{"$f":"SUM(P3:P4)","v":4},{"$f":"IF(SUMIF($K$15:$K$154,SaisonDeb,$G$15:$G$154)>0,SUMIF($K$15:$K$154,SaisonDeb,$F$15:$F$154)/SUMIF($K$15:$K$154,SaisonDeb,$G$15:$G$154),\"\")","v":1.4414414414414414},{"$f":"SUM(R3:R4)","v":0},{"$f":"IF(SUMIF($K$15:$K$154,SaisonFin,$G$15:$G$154)>0,SUMIF($K$15:$K$154,SaisonFin,$F$15:$F$154)/SUMIF($K$15:$K$154,SaisonFin,$G$15:$G$154),\"\")","v":""},{"$f":"SUM(T3:T4)","v":42},{"$f":"IF(SUM($G$15:$G$154)>0,SUM($F$15:$F$154)/SUM($G$15:$G$154),\"\")","v":1.0047969847524414},{"$f":"IF(SUMIF($K$15:$K$58,SaisonDeb,$G$15:$G$58)+SUMIF($K$15:$K$58,SaisonFin,$G$15:$G$58)>0,(SUMIF($K$15:$K$58,SaisonDeb,$F$15:$F$58)+SUMIF($K$15:$K$58,SaisonFin,$F$15:$F$58))/(SUMIF($K$15:$K$58,SaisonDeb,$G$15:$G$58)+SUMIF($K$15:$K$58,SaisonFin,$G$15:$G$58)),\"\")","v":1.4414414414414414}]
[null,null,null,null,null,null,null,null,null,null,null,null,null,"Sets","Gagnés",{"$f":"SUMIF($K$15:$K$154,SaisonDeb,$D$15:$D$154)","v":8},{"$f":"IF(P$6+P$7>0,P6/(P$6+P$7),\"\")","v":1},{"$f":"SUMIF($K$15:$K$154,SaisonFin,$D$15:$D$154)","v":0},{"$f":"IF(R$6+R$7>0,R6/(R$6+R$7),\"\")","v":""},{"$f":"SUM($D$15:$D$154)","v":58},{"$f":"IF(T$6+T$7>0,T6/(T$6+T$7),\"\")","v":0.47540983606557374}]
[null,null,null,null,null,null,null,null,null,null,null,null,null,null,"Perdus",{"$f":"SUMIF($K$15:$K$154,SaisonDeb,$E$15:$E$154)","v":0},{"$f":"IF(P$6+P$7>0,P7/(P$6+P$7),\"\")","v":0},{"$f":"SUMIF($K$15:$K$154,SaisonFin,$E$15:$E$154)","v":0},{"$f":"IF(R$6+R$7>0,R7/(R$6+R$7),\"\")","v":""},{"$f":"SUM($E$15:$E$154)","v":64},{"$f":"IF(T$6+T$7>0,T7/(T$6+T$7),\"\")","v":0.52459016393442626}]
["Récapitulatif joueurs",null,null,null,null,null,null,null,null,null,null,null,null,null,"Total",{"$f":"SUM(P6:P7)","v":8},null,{"$f":"SUM(R6:R7)","v":0},null,{"$f":"SUM(T6:T7)","v":122}]
[]
[]
[]
[]
[]
[]
["Joueur","Adversaire","G/P","Sets gagnés","Sets perdus","pts marqués","pts subis","Date","Compétition","Phase","Saison"]
["TIZON Alain","CAPLIEZ Bernard","P",0,3,137,150,"2016-01-17","T1 Qualifications CD62 R1 Maritime - CUCQ","Qualifications",{"$f":"IF(H16<>\"\",IF(MONTH(H16)>MoisRef,YEAR(H16)&\"-\"&YEAR(H16)+1,YEAR(H16)-1&\"-\"&YEAR(H16)),\"\")","v":"2015-2016"},null,null,null,null,{"$f":"IF($K16=P$1,COUNTIF($C16,\"G\"),0)","v":0},null,{"$f":"IF($K16=R$1,COUNTIF($C16,\"G\"),0)","v":0}]
["TIZON Alain","CAPLIEZ Bernard","P",1,3,177,198,"2016-01-17","T1 Qualifications CD62 R1 Maritime - CUCQ","1/4 Finale","2015-2016",null,null,null,null,0,null,0]
["TIZON Alain","MARTEL Michel","G",3,1,186,141,"2016-01-17","T1 Qualifications CD62 R1 Maritime - CUCQ","Qualifications","2015-2016",null,null,null,null,0,null,0]
["TIZON Alain","CAPLIEZ Bernard","P",0,3,137,150,"2016-01-17","T1 Qualifications CD62 R1 Maritime - CUCQ","Qualifications","2015-2016",null,null,null,null,0,null,0]
["TIZON Alain","CAPLIEZ Bernard","P",1,3,177,198,"2016-01-17","T1 Qualifications CD62 R1 Maritime - CUCQ","1/4 Finale","2015-2016",null,null,null,null,0,null,0]
["TIZON Alain","MARTEL Michel","G",3,1,186,141,"2016-01-17","T1 Qualifications CD62 R1 Maritime - CUCQ","Qualifications","2015-2016",null,null,null,null,0,null,0]
["TIZON Alain","COFFRE Frédéric","G",3,1,186,173,"2016-03-13","T3 Qualifications CD62 R1 Maritime - Cucq","Qualifications","2015-2016",null,null,null,null,0,null,0]
["TIZON Alain","MARTEL Bruno","G",3,2,222,217,"2016-03-13","T3 Qualifications CD62 R1 Maritime - Cucq","Qualifications","2015-2016",null,null,null,null,0,null,0]
["TIZON Alain","MARTEL Bruno","P",0,3,89,150,"2016-03-13","T3 Qualifications CD62 R1 Maritime - Cucq","1/4 Finale","2015-2016",null,null,null,null,0,null,0]
["TIZON Alain","CARTIERE André","G",3,2,225,216,"2016-12-11","T1 Qualification CD62 R1 Maritime - CUCQ","Qualifications","2016-2017",null,null,null,null,0,null,0]
["TIZON Alain","LEBECQ Jean-Pierre","P",1,3,121,199,"2016-12-11","T1 Qualification CD62 R1 Maritime - CUCQ","Qualifications","2016-2017",null,null,null,null,0,null,0]
["TIZON Alain","CARTIERE André","P",2,3,198,214,"2017-02-11","T3 Qualification CD62 R1 Maritime - CUCQ","Qualifications","2016-2017",null,null,null,null,0,null,0]
["TIZON Alain","MARTEL Bruno","P",2,3,168,224,"2017-02-11","T3 Qualification CD62 R1 Maritime - CUCQ","Qualifications","2016-2017",null,null,null,null,0,null,0]
["TIZON Alain","CARTIERE André","P",1,2,151,145,"2018-01-13","T2 Qualification CD62 R1 - WIMILLE","Qualifications","2017-2018",null,null,null,null,0,null,0]
["TIZON Alain","DEPLECHIN Roland","P",1,2,145,172,"2018-01-13","T2 Qualification CD62 R1 - WIMILLE","Qualifications","2017-2018",null,null,null,null,0,null,0]
["TIZON Alain","CAPLIEZ Bernard","P",0,2,75,120,"2018-02-24","T3 Qualification CD62 R1 - WIMILLE","Qualifications","2017-2018",null,null,null,null,0,null,0]
["TIZON Alain","MARTEL Michel","G",2,1,161,145,"2018-02-24","T3 Qualification CD62 R1 - WIMILLE","Qualifications","2017-2018",null,null,null,null,0,null,0]
["TIZON Alain","CARTIERE André","G",2,0,120,72,"2018-03-18","T4 Qualification CD62 R1 - CUCQ","Qualifications","2017-2018",null,null,null,null,0,null,0]
["TIZON Alain","DEPLECHIN Roland","P",1,2,139,177,"2018-03-18","T4 Qualification CD62 R1 - CUCQ","1/2 Finale","2017-2018",null,null,null,null,0,null,0]
["TIZON Alain","MARTEL Bruno","G",2,0,120,108,"2018-03-18","T4 Qualification CD62 R1 - CUCQ","Qualifications","2017-2018",null,null,null,null,0,null,0]
["TIZON Alain","DEPLECHIN Roland","P",0,2,104,120,"2019-01-13","T3 Qualification CD62 R1 - WIMILLE","Qualifications","2018-2019",null,null,null,null,0,null,0]
["TIZON Alain","MONTADOR Ludovic","P",0,2,78,120,"2019-01-13","T3 Qualification CD62 R1 - WIMILLE","Qualifications","2018-2019",null,null,null,null,0,null,0]
["TIZON Alain","CARTIERE André","P",0,2,108,120,"2018-12-01","T2 Qualification CD62 R1 - WIMILLE","Qualifications","2018-2019",null,null,null,null,0,null,0]
["TIZON Alain","MONTADOR Ludovic","G",2,1,172,128,"2018-12-01","T2 Qualification CD62 R1 - WIMILLE","Qualifications","2018-2019",null,null,null,null,0,null,0]
["TIZON Alain","MONTADOR Ludovic","P",0,2,90,120,"2018-11-03","T1 Qualification CD62 R1 - CUCQ","Qualifications","2018-2019",null,null,null,null,0,null,0]
["TIZON Alain","SAISON Bertrand","P",0,2,102,120,"2018-11-03","T1 Qualification CD62 R1 - CUCQ","Qualifications","2018-2019",null,null,null,null,0,null,0]
["TIZON Alain","CARTIERE André","G",2,1,178,142,"2019-01-27","T4 Qualification CD62 R1 - CUCQ","Qualifications","2018-2019",null,null,null,null,0,null,0]
["TIZON Alain","MONTADOR Christophe","P",1,2,121,178,"2019-01-27","T4 Qualification CD62 R1 - CUCQ","Qualifications","2018-2019",null,null,null,null,0,null,0]
["TIZON Alain","CARTIERE André","G",2,0,120,49,"2020-01-12","T1 Qualifications CD 62 R1 - CUCQ","Qualifications","2019-2020",null,null,null,null,0,null,0]
["TIZON Alain","CARTIERE André","G",2,0,120,58,"2020-01-12","T1 Qualifications CD 62 R1 - CUCQ","Qualifications","2019-2020",null,null,null,null,0,null,0]
["TIZON Alain","GAMBIER Francis","G",2,0,120,78,"2020-01-12","T1 Qualifications CD 62 R1 - CUCQ","1/2 Finale","2019-2020",null,null,null,null,0,null,0]
["TIZON Alain","TRIPLET  Gilbert","P",1,2,144,175,"2020-01-12","T1 Qualifications CD 62 R1 - CUCQ","Finale","2019-2020",null,null,null,null,0,null,0]
["TIZON Alain","CARTIERE André","P",0,2,104,120,"2020-02-02","T2 Qualifications CD62 R1 - WIMILLE","Qualifications","2019-2020",null,null,null,null,0,null,0]
["TIZON Alain","GAMBIER Francis","P",0,2,107,120,"2020-02-02","T2 Qualifications CD62 R1 - WIMILLE","Qualifications","2019-2020",null,null,null,null,0,null,0]
["TIZON Alain","CARTIERE André","G",2,0,120,95,"2020-02-15","T3 Qualifications CD62 R1 - WIMILLE","Qualifications","2019-2020",null,null,null,null,0,null,0]
["TIZON Alain","CARTIERE André","P",1,2,145,174,"2020-02-15","T3 Qualifications CD62 R1 - WIMILLE","Qualifications","2019-2020",null,null,null,null,0,null,0]
["TIZON Alain","DUCROCQ  Joël","G",2,1,174,134,"2020-02-15","T3 Qualifications CD62 R1 - WIMILLE","1/2 Finale","2019-2020",null,null,null,null,0,null,0]
["TIZON Alain","MONTADOR Christophe","G",2,1,158,143,"2020-02-15","T3 Qualifications CD62 R1 - WIMILLE","Finale","2019-2020",null,null,null,null,0,null,0]
["TIZON Alain","CYFFERS Jean Bernard","G",2,0,120,85,"2021-10-24","T1 CD62 5Q R1 - CUCQ","Qualifications","2021-2022",null,null,null,null,1,null,0]
["TIZON Alain","FLAHAUT Ghislain","G",2,0,120,82,"2021-10-24","T1 CD62 5Q R1 - CUCQ","1/2 Finale","2021-2022",null,null,null,null,1,null,0]
["TIZON Alain","MONTADOR Christophe","G",2,0,120,95,"2021-10-24","T1 CD62 5Q R1 - CUCQ","Finale","2021-2022",null,null,null,null,1,null,0]
["TIZON Alain","TRIPLET Eddie","G",2,0,120,71,"2021-10-24","T1 CD62 5Q R1 - CUCQ","Qualifications","2021-2022",null,null,null,null,1,null,0]
["Fin des données",null,null,null,null,null,null,null,null,null,"",null,null,null,null,{"$f":"IF($K58=P$1,COUNTIF($C58,\"G\"),0)","v":0},null,{"$f":"IF($K58=R$1,COUNTIF($C58,\"G\"),0)","v":0}]

{"sheet":"TRIPLET Gilbert","index":146,"n_rows":26,"n_cols":22,"rows_kept":26,"cut":false,"hidden":false,"merged":[]}
["TRIPLET Gilbert",null,null,null,null,null,null,null,null,null,null,null,null,null,null,{"$f":"SaisonDeb","v":"2021-2022"},null,{"$f":"SaisonFin","v":"2022-2023"},null,"Toutes saisons"]
[{"$error":"#N/A"},null,null,null,null,null,null,null,null,null,null,null,null,null,null,"Nombre","%age","Nombre","%age","Nombre","%age"]
[{"$error":"#N/A"},null,null,null,null,null,null,null,null,null,null,null,null,"Matchs","Gagnés",{"$f":"SUM(P$15:P$122)","v":0},{"$f":"IF(P$3+P$4>0,P3/(P$3+P$4),\"\")","v":""},{"$f":"SUM(R$15:R$122)","v":0},{"$f":"IF(R$3+R$4>0,R3/(R$3+R$4),\"\")","v":""},{"$f":"COUNTIF($C$15:$C$122,\"G\")","v":7},{"$f":"IF(T$3+T$4>0,T3/(T$3+T$4),\"\")","v":0.7}]
[{"$error":"#N/A"},null,null,null,null,null,null,null,null,null,null,null,null,null,"Perdus",{"$f":"COUNTIF($K$15:$M$122,SaisonDeb)-P3","v":0},{"$f":"IF(P$3+P$4>0,P4/(P$3+P$4),\"\")","v":""},{"$f":"COUNTIF($K$15:$K$122,SaisonFin)-R3","v":0},{"$f":"IF(R$3+R$4>0,R4/(R$3+R$4),\"\")","v":""},{"$f":"COUNTIF($C$15:$C$122,\"P\")","v":3},{"$f":"IF(T$3+T$4>0,T4/(T$3+T$4),\"\")","v":0.3}]
[{"$error":"#N/A"},null,null,null,null,null,null,null,null,null,null,null,null,null,"Total / Moy.",{"$f":"SUM(P3:P4)","v":0},{"$f":"IF(SUMIF($K$15:$K$122,SaisonDeb,$G$15:$G$122)>0,SUMIF($K$15:$K$122,SaisonDeb,$F$15:$F$122)/SUMIF($K$15:$K$122,SaisonDeb,$G$15:$G$122),\"\")","v":""},{"$f":"SUM(R3:R4)","v":0},{"$f":"IF(SUMIF($K$15:$K$122,SaisonFin,$G$15:$G$122)>0,SUMIF($K$15:$K$122,SaisonFin,$F$15:$F$122)/SUMIF($K$15:$K$122,SaisonFin,$G$15:$G$122),\"\")","v":""},{"$f":"SUM(T3:T4)","v":10},{"$f":"IF(SUM($G$15:$G$122)>0,SUM($F$15:$F$122)/SUM($G$15:$G$122),\"\")","v":1.1730401529636711},{"$f":"IF(SUMIF($K$15:$K$26,SaisonDeb,$G$15:$G$26)+SUMIF($K$15:$K$26,SaisonFin,$G$15:$G$26)>0,(SUMIF($K$15:$K$26,SaisonDeb,$F$15:$F$26)+SUMIF($K$15:$K$26,SaisonFin,$F$15:$F$26))/(SUMIF($K$15:$K$26,SaisonDeb,$G$15:$G$26)+SUMIF($K$15:$K$26,SaisonFin,$G$15:$G$26)),\"\")","v":""}]
[null,null,null,null,null,null,null,null,null,null,null,null,null,"Sets","Gagnés",{"$f":"SUMIF($K$15:$K$122,SaisonDeb,$D$15:$D$122)","v":0},{"$f":"IF(P$6+P$7>0,P6/(P$6+P$7),\"\")","v":""},{"$f":"SUMIF($K$15:$K$122,SaisonFin,$D$15:$D$122)","v":0},{"$f":"IF(R$6+R$7>0,R6/(R$6+R$7),\"\")","v":""},{"$f":"SUM($D$15:$D$122)","v":15},{"$f":"IF(T$6+T$7>0,T6/(T$6+T$7),\"\")","v":0.625}]
[null,null,null,null,null,null,null,null,null,null,null,null,null,null,"Perdus",{"$f":"SUMIF($K$15:$K$122,SaisonDeb,$E$15:$E$122)","v":0},{"$f":"IF(P$6+P$7>0,P7/(P$6+P$7),\"\")","v":""},{"$f":"SUMIF($K$15:$K$122,SaisonFin,$E$15:$E$122)","v":0},{"$f":"IF(R$6+R$7>0,R7/(R$6+R$7),\"\")","v":""},{"$f":"SUM($E$15:$E$122)","v":9},{"$f":"IF(T$6+T$7>0,T7/(T$6+T$7),\"\")","v":0.375}]
["Récapitulatif joueurs",null,null,null,null,null,null,null,null,null,null,null,null,null,"Total",{"$f":"SUM(P6:P7)","v":0},null,{"$f":"SUM(R6:R7)","v":0},null,{"$f":"SUM(T6:T7)","v":24}]
[]
[]
[]
[]
[]
[]
["Joueur","Adversaire","G/P","Sets gagnés","Sets perdus","pts marqués","pts subis","Date","Compétition","Phase","Saison"]
["TRIPLET Gilbert","DUCROCQ  Joël","G",2,0,120,70,"2020-01-12","T1 Qualifications CD 62 R1 - CUCQ","Qualifications",{"$f":"IF(H16<>\"\",IF(MONTH(H16)>MoisRef,YEAR(H16)&\"-\"&YEAR(H16)+1,YEAR(H16)-1&\"-\"&YEAR(H16)),\"\")","v":"2019-2020"},null,null,null,null,{"$f":"IF($K16=P$1,COUNTIF($C16,\"G\"),0)","v":0},null,{"$f":"IF($K16=R$1,COUNTIF($C16,\"G\"),0)","v":0}]
["TRIPLET Gilbert","GAMBIER Francis","G",2,0,120,88,"2020-01-12","T1 Qualifications CD 62 R1 - CUCQ","Qualifications","2019-2020",null,null,null,null,0,null,0]
["TRIPLET Gilbert","RAMET Jacques","G",2,0,120,64,"2020-01-12","T1 Qualifications CD 62 R1 - CUCQ","1/2 Finale","2019-2020",null,null,null,null,0,null,0]
["TRIPLET Gilbert","TIZON Alain","G",2,1,175,144,"2020-01-12","T1 Qualifications CD 62 R1 - CUCQ","Finale","2019-2020",null,null,null,null,0,null,0]
["TRIPLET Gilbert","CARTIERE André","G",2,1,165,123,"2020-02-02","T2 Qualifications CD62 R1 - WIMILLE","1/2 Finale","2019-2020",null,null,null,null,0,null,0]
["TRIPLET Gilbert","DUCROCQ  Joël","G",2,0,120,84,"2020-02-02","T2 Qualifications CD62 R1 - WIMILLE","Qualifications","2019-2020",null,null,null,null,0,null,0]
["TRIPLET Gilbert","MONTADOR Christophe","P",1,2,117,124,"2020-02-02","T2 Qualifications CD62 R1 - WIMILLE","Qualifications","2019-2020",null,null,null,null,0,null,0]
["TRIPLET Gilbert","MONTADOR Christophe","P",0,2,85,120,"2020-02-02","T2 Qualifications CD62 R1 - WIMILLE","Finale","2019-2020",null,null,null,null,0,null,0]
["TRIPLET Gilbert","CYFFERS Jean Bernard","P",0,2,80,120,"2020-02-15","T3 Qualifications CD62 R1 - WIMILLE","Qualifications","2019-2020",null,null,null,null,0,null,0]
["TRIPLET Gilbert","DUCROCQ  Joël","G",2,1,125,109,"2020-02-15","T3 Qualifications CD62 R1 - WIMILLE","Qualifications","2019-2020",null,null,null,null,0,null,0]
["Fin des données",null,null,null,null,null,null,null,null,null,"",null,null,null,null,{"$f":"IF($K26=P$1,COUNTIF($C26,\"G\"),0)","v":0},null,{"$f":"IF($K26=R$1,COUNTIF($C26,\"G\"),0)","v":0}]

{"sheet":"TRIPLET Eddie","index":147,"n_rows":22,"n_cols":22,"rows_kept":22,"cut":false,"hidden":false,"merged":[]}
["TRIPLET Eddie",null,null,null,null,null,null,null,null,null,null,null,null,null,null,{"$f":"SaisonDeb","v":"2021-2022"},null,{"$f":"SaisonFin","v":"2022-2023"},null,"Toutes saisons"]
[{"$error":"#N/A"},null,null,null,null,null,null,null,null,null,null,null,null,null,null,"Nombre","%age","Nombre","%age","Nombre","%age"]
[{"$error":"#N/A"},null,null,null,null,null,null,null,null,null,null,null,null,"Matchs","Gagnés",{"$f":"SUM(P$15:P$118)","v":0},{"$f":"IF(P$3+P$4>0,P3/(P$3+P$4),\"\")","v":0},{"$f":"SUM(R$15:R$118)","v":0},{"$f":"IF(R$3+R$4>0,R3/(R$3+R$4),\"\")","v":""},{"$f":"COUNTIF($C$15:$C$118,\"G\")","v":0},{"$f":"IF(T$3+T$4>0,T3/(T$3+T$4),\"\")","v":0}]
[{"$error":"#N/A"},null,null,null,null,null,null,null,null,null,null,null,null,null,"Perdus",{"$f":"COUNTIF($K$15:$M$118,SaisonDeb)-P3","v":6},{"$f":"IF(P$3+P$4>0,P4/(P$3+P$4),\"\")","v":1},{"$f":"COUNTIF($K$15:$K$118,SaisonFin)-R3","v":0},{"$f":"IF(R$3+R$4>0,R4/(R$3+R$4),\"\")","v":""},{"$f":"COUNTIF($C$15:$C$118,\"P\")","v":6},{"$f":"IF(T$3+T$4>0,T4/(T$3+T$4),\"\")","v":1}]
[{"$error":"#N/A"},null,null,null,null,null,null,null,null,null,null,null,null,null,"Total / Moy.",{"$f":"SUM(P3:P4)","v":6},{"$f":"IF(SUMIF($K$15:$K$118,SaisonDeb,$G$15:$G$118)>0,SUMIF($K$15:$K$118,SaisonDeb,$F$15:$F$118)/SUMIF($K$15:$K$118,SaisonDeb,$G$15:$G$118),\"\")","v":0.64432989690721654},{"$f":"SUM(R3:R4)","v":0},{"$f":"IF(SUMIF($K$15:$K$118,SaisonFin,$G$15:$G$118)>0,SUMIF($K$15:$K$118,SaisonFin,$F$15:$F$118)/SUMIF($K$15:$K$118,SaisonFin,$G$15:$G$118),\"\")","v":""},{"$f":"SUM(T3:T4)","v":6},{"$f":"IF(SUM($G$15:$G$118)>0,SUM($F$15:$F$118)/SUM($G$15:$G$118),\"\")","v":0.64432989690721654},{"$f":"IF(SUMIF($K$15:$K$22,SaisonDeb,$G$15:$G$22)+SUMIF($K$15:$K$22,SaisonFin,$G$15:$G$22)>0,(SUMIF($K$15:$K$22,SaisonDeb,$F$15:$F$22)+SUMIF($K$15:$K$22,SaisonFin,$F$15:$F$22))/(SUMIF($K$15:$K$22,SaisonDeb,$G$15:$G$22)+SUMIF($K$15:$K$22,SaisonFin,$G$15:$G$22)),\"\")","v":0.64432989690721654}]
[null,null,null,null,null,null,null,null,null,null,null,null,null,"Sets","Gagnés",{"$f":"SUMIF($K$15:$K$118,SaisonDeb,$D$15:$D$118)","v":1},{"$f":"IF(P$6+P$7>0,P6/(P$6+P$7),\"\")","v":7.6923076923076927E-2},{"$f":"SUMIF($K$15:$K$118,SaisonFin,$D$15:$D$118)","v":0},{"$f":"IF(R$6+R$7>0,R6/(R$6+R$7),\"\")","v":""},{"$f":"SUM($D$15:$D$118)","v":1},{"$f":"IF(T$6+T$7>0,T6/(T$6+T$7),\"\")","v":7.6923076923076927E-2}]
[null,null,null,null,null,null,null,null,null,null,null,null,null,null,"Perdus",{"$f":"SUMIF($K$15:$K$118,SaisonDeb,$E$15:$E$118)","v":12},{"$f":"IF(P$6+P$7>0,P7/(P$6+P$7),\"\")","v":0.92307692307692313},{"$f":"SUMIF($K$15:$K$118,SaisonFin,$E$15:$E$118)","v":0},{"$f":"IF(R$6+R$7>0,R7/(R$6+R$7),\"\")","v":""},{"$f":"SUM($E$15:$E$118)","v":12},{"$f":"IF(T$6+T$7>0,T7/(T$6+T$7),\"\")","v":0.92307692307692313}]
["Récapitulatif joueurs",null,null,null,null,null,null,null,null,null,null,null,null,null,"Total",{"$f":"SUM(P6:P7)","v":13},null,{"$f":"SUM(R6:R7)","v":0},null,{"$f":"SUM(T6:T7)","v":13}]
[]
[]
[]
[]
[]
[]
["Joueur","Adversaire","G/P","Sets gagnés","Sets perdus","pts marqués","pts subis","Date","Compétition","Phase","Saison"]
["TRIPLET Eddie","CYFFERS Jean Bernard","P",1,2,110,176,"2021-10-24","T1 CD62 5Q R1 - CUCQ","Qualifications",{"$f":"IF(H16<>\"\",IF(MONTH(H16)>MoisRef,YEAR(H16)&\"-\"&YEAR(H16)+1,YEAR(H16)-1&\"-\"&YEAR(H16)),\"\")","v":"2021-2022"},null,null,null,null,{"$f":"IF($K16=P$1,COUNTIF($C16,\"G\"),0)","v":0},null,{"$f":"IF($K16=R$1,COUNTIF($C16,\"G\"),0)","v":0}]
["TRIPLET Eddie","TIZON Alain","P",0,2,71,120,"2021-10-24","T1 CD62 5Q R1 - CUCQ","Qualifications","2021-2022",null,null,null,null,0,null,0]
["TRIPLET Eddie","MONTADOR Christophe","P",0,2,79,120,"2021-12-18","T3 CD62 5Q R1 - CUCQ","Qualifications","2021-2022",null,null,null,null,0,null,0]
["TRIPLET Eddie","RAMET Jacques","P",0,2,67,120,"2021-12-18","T3 CD62 5Q R1 - CUCQ","Qualifications","2021-2022",null,null,null,null,0,null,0]
["TRIPLET Eddie","LIMOSINO Jacques","P",0,2,104,120,"2021-11-27","T2 CD62 5Q R1 - WIMILLE","Qualifications","2021-2022",null,null,null,null,0,null,0]
["TRIPLET Eddie","MONTADOR Christophe","P",0,2,69,120,"2021-11-27","T2 CD62 5Q R1 - WIMILLE","Qualifications","2021-2022",null,null,null,null,0,null,0]
["Fin des données",null,null,null,null,null,null,null,null,null,"",null,null,null,null,{"$f":"IF($K22=P$1,COUNTIF($C22,\"G\"),0)","v":0},null,{"$f":"IF($K22=R$1,COUNTIF($C22,\"G\"),0)","v":0}]

{"sheet":"VACAVANT Michel","index":148,"n_rows":22,"n_cols":22,"rows_kept":22,"cut":false,"hidden":false,"merged":[]}
["VACAVANT Michel",null,null,null,null,null,null,null,null,null,null,null,null,null,null,{"$f":"SaisonDeb","v":"2021-2022"},null,{"$f":"SaisonFin","v":"2022-2023"},null,"Toutes saisons"]
[{"$error":"#N/A"},null,null,null,null,null,null,null,null,null,null,null,null,null,null,"Nombre","%age","Nombre","%age","Nombre","%age"]
[{"$error":"#N/A"},null,null,null,null,null,null,null,null,null,null,null,null,"Matchs","Gagnés",{"$f":"SUM(P$15:P$118)","v":0},{"$f":"IF(P$3+P$4>0,P3/(P$3+P$4),\"\")","v":""},{"$f":"SUM(R$15:R$118)","v":0},{"$f":"IF(R$3+R$4>0,R3/(R$3+R$4),\"\")","v":""},{"$f":"COUNTIF($C$15:$C$118,\"G\")","v":3},{"$f":"IF(T$3+T$4>0,T3/(T$3+T$4),\"\")","v":0.5}]
[{"$error":"#N/A"},null,null,null,null,null,null,null,null,null,null,null,null,null,"Perdus",{"$f":"COUNTIF($K$15:$M$118,SaisonDeb)-P3","v":0},{"$f":"IF(P$3+P$4>0,P4/(P$3+P$4),\"\")","v":""},{"$f":"COUNTIF($K$15:$K$118,SaisonFin)-R3","v":0},{"$f":"IF(R$3+R$4>0,R4/(R$3+R$4),\"\")","v":""},{"$f":"COUNTIF($C$15:$C$118,\"P\")","v":3},{"$f":"IF(T$3+T$4>0,T4/(T$3+T$4),\"\")","v":0.5}]
[{"$error":"#N/A"},null,null,null,null,null,null,null,null,null,null,null,null,null,"Total / Moy.",{"$f":"SUM(P3:P4)","v":0},{"$f":"IF(SUMIF($K$15:$K$118,SaisonDeb,$G$15:$G$118)>0,SUMIF($K$15:$K$118,SaisonDeb,$F$15:$F$118)/SUMIF($K$15:$K$118,SaisonDeb,$G$15:$G$118),\"\")","v":""},{"$f":"SUM(R3:R4)","v":0},{"$f":"IF(SUMIF($K$15:$K$118,SaisonFin,$G$15:$G$118)>0,SUMIF($K$15:$K$118,SaisonFin,$F$15:$F$118)/SUMIF($K$15:$K$118,SaisonFin,$G$15:$G$118),\"\")","v":""},{"$f":"SUM(T3:T4)","v":6},{"$f":"IF(SUM($G$15:$G$118)>0,SUM($F$15:$F$118)/SUM($G$15:$G$118),\"\")","v":0.92507645259938842},{"$f":"IF(SUMIF($K$15:$K$22,SaisonDeb,$G$15:$G$22)+SUMIF($K$15:$K$22,SaisonFin,$G$15:$G$22)>0,(SUMIF($K$15:$K$22,SaisonDeb,$F$15:$F$22)+SUMIF($K$15:$K$22,SaisonFin,$F$15:$F$22))/(SUMIF($K$15:$K$22,SaisonDeb,$G$15:$G$22)+SUMIF($K$15:$K$22,SaisonFin,$G$15:$G$22)),\"\")","v":""}]
[null,null,null,null,null,null,null,null,null,null,null,null,null,"Sets","Gagnés",{"$f":"SUMIF($K$15:$K$118,SaisonDeb,$D$15:$D$118)","v":0},{"$f":"IF(P$6+P$7>0,P6/(P$6+P$7),\"\")","v":""},{"$f":"SUMIF($K$15:$K$118,SaisonFin,$D$15:$D$118)","v":0},{"$f":"IF(R$6+R$7>0,R6/(R$6+R$7),\"\")","v":""},{"$f":"SUM($D$15:$D$118)","v":5},{"$f":"IF(T$6+T$7>0,T6/(T$6+T$7),\"\")","v":0.41666666666666669}]
[null,null,null,null,null,null,null,null,null,null,null,null,null,null,"Perdus",{"$f":"SUMIF($K$15:$K$118,SaisonDeb,$E$15:$E$118)","v":0},{"$f":"IF(P$6+P$7>0,P7/(P$6+P$7),\"\")","v":""},{"$f":"SUMIF($K$15:$K$118,SaisonFin,$E$15:$E$118)","v":0},{"$f":"IF(R$6+R$7>0,R7/(R$6+R$7),\"\")","v":""},{"$f":"SUM($E$15:$E$118)","v":7},{"$f":"IF(T$6+T$7>0,T7/(T$6+T$7),\"\")","v":0.58333333333333337}]
["Récapitulatif joueurs",null,null,null,null,null,null,null,null,null,null,null,null,null,"Total",{"$f":"SUM(P6:P7)","v":0},null,{"$f":"SUM(R6:R7)","v":0},null,{"$f":"SUM(T6:T7)","v":12}]
[]
[]
[]
[]
[]
[]
["Joueur","Adversaire","G/P","Sets gagnés","Sets perdus","pts marqués","pts subis","Date","Compétition","Phase","Saison"]
["VACAVANT Michel","GUERIN Isabelle","G",1,0,80,42,"2018-02-17","T3 5 QUILLES R1 CD80 - CONSOLANTE - MOREUIL","Qualifications",{"$f":"IF(H16<>\"\",IF(MONTH(H16)>MoisRef,YEAR(H16)&\"-\"&YEAR(H16)+1,YEAR(H16)-1&\"-\"&YEAR(H16)),\"\")","v":"2017-2018"},null,null,null,null,{"$f":"IF($K16=P$1,COUNTIF($C16,\"G\"),0)","v":0},null,{"$f":"IF($K16=R$1,COUNTIF($C16,\"G\"),0)","v":0}]
["VACAVANT Michel","RENAULT Marius","G",1,0,80,61,"2018-02-17","T3 5 QUILLES R1 CD80 - CONSOLANTE - MOREUIL","Qualifications","2017-2018",null,null,null,null,0,null,0]
["VACAVANT Michel","DUBOIS Jean-Bernard","P",0,2,64,120,"2018-02-17","T3 5 QUILLES R1 CD80 - MOREUIL","Qualifications","2017-2018",null,null,null,null,0,null,0]
["VACAVANT Michel","DUHAMEL Marcellin","G",2,1,158,141,"2018-02-17","T3 5 QUILLES R1 CD80 - MOREUIL","Qualifications","2017-2018",null,null,null,null,0,null,0]
["VACAVANT Michel","CABUZEL Denis","P",1,2,115,170,"2018-11-24","T2 R1 CD80 - ","Qualifications","2018-2019",null,null,null,null,0,null,0]
["VACAVANT Michel","RENAULT Marius","P",0,2,108,120,"2018-11-24","T2 R1 CD80 - ","Qualifications","2018-2019",null,null,null,null,0,null,0]
["Fin des données",null,null,null,null,null,null,null,null,null,"",null,null,null,null,0,null,0]

{"sheet":"VANDEPUTTE Laurent","index":149,"n_rows":42,"n_cols":22,"rows_kept":42,"cut":false,"hidden":false,"merged":[]}
["VANDEPUTTE Laurent",null,null,null,null,null,null,null,null,null,null,null,null,null,null,{"$f":"SaisonDeb","v":"2021-2022"},null,{"$f":"SaisonFin","v":"2022-2023"},null,"Toutes saisons"]
[{"$error":"#N/A"},null,null,null,null,null,null,null,null,null,null,null,null,null,null,"Nombre","%age","Nombre","%age","Nombre","%age"]
[{"$error":"#N/A"},null,null,null,null,null,null,null,null,null,null,null,null,"Matchs","Gagnés",{"$f":"SUM(P$15:P$138)","v":0},{"$f":"IF(P$3+P$4>0,P3/(P$3+P$4),\"\")","v":""},{"$f":"SUM(R$15:R$138)","v":0},{"$f":"IF(R$3+R$4>0,R3/(R$3+R$4),\"\")","v":""},{"$f":"COUNTIF($C$15:$C$138,\"G\")","v":16},{"$f":"IF(T$3+T$4>0,T3/(T$3+T$4),\"\")","v":0.61538461538461542}]
[{"$error":"#N/A"},null,null,null,null,null,null,null,null,null,null,null,null,null,"Perdus",{"$f":"COUNTIF($K$15:$M$138,SaisonDeb)-P3","v":0},{"$f":"IF(P$3+P$4>0,P4/(P$3+P$4),\"\")","v":""},{"$f":"COUNTIF($K$15:$K$138,SaisonFin)-R3","v":0},{"$f":"IF(R$3+R$4>0,R4/(R$3+R$4),\"\")","v":""},{"$f":"COUNTIF($C$15:$C$138,\"P\")","v":10},{"$f":"IF(T$3+T$4>0,T4/(T$3+T$4),\"\")","v":0.38461538461538464}]
[{"$error":"#N/A"},null,null,null,null,null,null,null,null,null,null,null,null,null,"Total / Moy.",{"$f":"SUM(P3:P4)","v":0},{"$f":"IF(SUMIF($K$15:$K$138,SaisonDeb,$G$15:$G$138)>0,SUMIF($K$15:$K$138,SaisonDeb,$F$15:$F$138)/SUMIF($K$15:$K$138,SaisonDeb,$G$15:$G$138),\"\")","v":""},{"$f":"SUM(R3:R4)","v":0},{"$f":"IF(SUMIF($K$15:$K$138,SaisonFin,$G$15:$G$138)>0,SUMIF($K$15:$K$138,SaisonFin,$F$15:$F$138)/SUMIF($K$15:$K$138,SaisonFin,$G$15:$G$138),\"\")","v":""},{"$f":"SUM(T3:T4)","v":26},{"$f":"IF(SUM($G$15:$G$138)>0,SUM($F$15:$F$138)/SUM($G$15:$G$138),\"\")","v":1.1066872825666796},{"$f":"IF(SUMIF($K$15:$K$42,SaisonDeb,$G$15:$G$42)+SUMIF($K$15:$K$42,SaisonFin,$G$15:$G$42)>0,(SUMIF($K$15:$K$42,SaisonDeb,$F$15:$F$42)+SUMIF($K$15:$K$42,SaisonFin,$F$15:$F$42))/(SUMIF($K$15:$K$42,SaisonDeb,$G$15:$G$42)+SUMIF($K$15:$K$42,SaisonFin,$G$15:$G$42)),\"\")","v":""}]
[null,null,null,null,null,null,null,null,null,null,null,null,null,"Sets","Gagnés",{"$f":"SUMIF($K$15:$K$138,SaisonDeb,$D$15:$D$138)","v":0},{"$f":"IF(P$6+P$7>0,P6/(P$6+P$7),\"\")","v":""},{"$f":"SUMIF($K$15:$K$138,SaisonFin,$D$15:$D$138)","v":0},{"$f":"IF(R$6+R$7>0,R6/(R$6+R$7),\"\")","v":""},{"$f":"SUM($D$15:$D$138)","v":30},{"$f":"IF(T$6+T$7>0,T6/(T$6+T$7),\"\")","v":0.58823529411764708}]
[null,null,null,null,null,null,null,null,null,null,null,null,null,null,"Perdus",{"$f":"SUMIF($K$15:$K$138,SaisonDeb,$E$15:$E$138)","v":0},{"$f":"IF(P$6+P$7>0,P7/(P$6+P$7),\"\")","v":""},{"$f":"SUMIF($K$15:$K$138,SaisonFin,$E$15:$E$138)","v":0},{"$f":"IF(R$6+R$7>0,R7/(R$6+R$7),\"\")","v":""},{"$f":"SUM($E$15:$E$138)","v":21},{"$f":"IF(T$6+T$7>0,T7/(T$6+T$7),\"\")","v":0.41176470588235292}]
["Récapitulatif joueurs",null,null,null,null,null,null,null,null,null,null,null,null,null,"Total",{"$f":"SUM(P6:P7)","v":0},null,{"$f":"SUM(R6:R7)","v":0},null,{"$f":"SUM(T6:T7)","v":51}]
[]
[]
[]
[]
[]
[]
["Joueur","Adversaire","G/P","Sets gagnés","Sets perdus","pts marqués","pts subis","Date","Compétition","Phase","Saison"]
["VANDEPUTTE Laurent","MURIOT Jean-Pierre","P",0,1,72,100,"2017-01-21","5Q  CD60 R1 - T 3 - MERU","Tour 1",{"$f":"IF(H16<>\"\",IF(MONTH(H16)>MoisRef,YEAR(H16)&\"-\"&YEAR(H16)+1,YEAR(H16)-1&\"-\"&YEAR(H16)),\"\")","v":"2016-2017"},null,null,null,null,{"$f":"IF($K16=P$1,COUNTIF($C16,\"G\"),0)","v":0},null,{"$f":"IF($K16=R$1,COUNTIF($C16,\"G\"),0)","v":0}]
["VANDEPUTTE Laurent","CHENAL Gérard","G",1,0,100,90,"2017-01-21","5Q  CD60 R1 - T 3 - MERU","Tour 3","2016-2017",null,null,null,null,0,null,0]
["VANDEPUTTE Laurent","LAMARQUE Yves","P",0,1,81,100,"2017-01-21","5Q  CD60 R1 - T 3 - MERU","Tour 4","2016-2017",null,null,null,null,0,null,0]
["VANDEPUTTE Laurent","LAMARQUE Yves","G",1,0,100,91,"2017-11-25","T 3 OISE - Consolante - MERU","Qualifications","2017-2018",null,null,null,null,0,null,0]
["VANDEPUTTE Laurent","TALEC Pierre","P",0,0,0,0,"2017-11-25","T 3 OISE - Consolante - MERU","Qualifications","2017-2018",null,null,null,null,0,null,0]
["VANDEPUTTE Laurent","LALOT Gérard","P",0,2,86,120,"2017-11-25","T 3 OISE - MERU","Qualifications","2017-2018",null,null,null,null,0,null,0]
["VANDEPUTTE Laurent","MARTIN Denis","P",0,2,111,120,"2017-11-25","T 3 OISE - MERU","Qualifications","2017-2018",null,null,null,null,0,null,0]
["VANDEPUTTE Laurent","TALEC Pierre","G",2,0,120,64,"2017-11-25","T 3 OISE - MERU","Qualifications","2017-2018",null,null,null,null,0,null,0]
["VANDEPUTTE Laurent","DIOT Alain","G",2,0,120,86,"2018-09-29","5 Q - T 1 OISE 2018-19 - R 1 - TOURNOI PRINCIPAL  - CREPY","1/2 Finale","2018-2019",null,null,null,null,0,null,0]
["VANDEPUTTE Laurent","GROSS Xavier","G",2,0,120,37,"2018-09-29","5 Q - T 1 OISE 2018-19 - R 1 - TOURNOI PRINCIPAL  - CREPY","Qualifications","2018-2019",null,null,null,null,0,null,0]
["VANDEPUTTE Laurent","LALOT Gérard","G",2,0,120,90,"2018-09-29","5 Q - T 1 OISE 2018-19 - R 1 - TOURNOI PRINCIPAL  - CREPY","Qualifications","2018-2019",null,null,null,null,0,null,0]
["VANDEPUTTE Laurent","LALOT Gérard","P",0,2,79,120,"2018-09-29","5 Q - T 1 OISE 2018-19 - R 1 - TOURNOI PRINCIPAL  - CREPY","Finale","2018-2019",null,null,null,null,0,null,0]
["VANDEPUTTE Laurent","TALEC Pierre","G",2,0,120,59,"2018-09-29","5 Q - T 1 OISE 2018-19 - R 1 - TOURNOI PRINCIPAL  - CREPY","1/4 Finale","2018-2019",null,null,null,null,0,null,0]
["VANDEPUTTE Laurent","AZRIA  Aaron","G",2,0,120,88,"2018-10-27","5 Q - T 2 OISE 2018-19 - R 1 - TOURNOI PRINCIPAL  - VILLERS","Qualifications","2018-2019",null,null,null,null,0,null,0]
["VANDEPUTTE Laurent","LALOT Gérard","G",2,0,120,88,"2018-10-27","5 Q - T 2 OISE 2018-19 - R 1 - TOURNOI PRINCIPAL  - VILLERS","1/2 Finale","2018-2019",null,null,null,null,0,null,0]
["VANDEPUTTE Laurent","STEINMANN Sébastien","P",0,2,56,120,"2018-10-27","5 Q - T 2 OISE 2018-19 - R 1 - TOURNOI PRINCIPAL  - VILLERS","Finale","2018-2019",null,null,null,null,0,null,0]
["VANDEPUTTE Laurent","TALEC Pierre","G",2,0,120,61,"2018-10-27","5 Q - T 2 OISE 2018-19 - R 1 - TOURNOI PRINCIPAL  - VILLERS","Qualifications","2018-2019",null,null,null,null,0,null,0]
["VANDEPUTTE Laurent","TALEC Pierre","G",2,0,120,82,"2018-10-27","5 Q - T 2 OISE 2018-19 - R 1 - TOURNOI PRINCIPAL  - VILLERS","1/4 Finale","2018-2019",null,null,null,null,0,null,0]
["VANDEPUTTE Laurent","ALAZARD Philippe","P",0,2,82,120,"2018-11-24","5 Q - T 3 OISE 2018-19 - R 1 - TOURNOI PRINCIPAL  - MERU","Qualifications","2018-2019",null,null,null,null,0,null,0]
["VANDEPUTTE Laurent","BOUIGES Armelle","G",2,1,173,124,"2018-11-24","5 Q - T 3 OISE 2018-19 - R 1 - TOURNOI PRINCIPAL  - MERU","Qualifications","2018-2019",null,null,null,null,0,null,0]
["VANDEPUTTE Laurent","DESCLAIR Guy","G",2,1,156,155,"2019-01-19","5 Q - T 4 OISE 2018-19 - R 1 - TOURNOI PRINCIPAL  - CHAMBLY","Qualifications","2018-2019",null,null,null,null,0,null,0]
["VANDEPUTTE Laurent","MURIOT Jean-Pierre","G",2,1,167,151,"2019-01-19","5 Q - T 4 OISE 2018-19 - R 1 - TOURNOI PRINCIPAL  - CHAMBLY","Qualifications","2018-2019",null,null,null,null,0,null,0]
["VANDEPUTTE Laurent","STEINMANN Sébastien","P",0,2,85,120,"2019-01-19","5 Q - T 4 OISE 2018-19 - R 1 - TOURNOI PRINCIPAL  - CHAMBLY","1/2 Finale","2018-2019",null,null,null,null,0,null,0]
["VANDEPUTTE Laurent","DESCLAIR Guy","G",2,1,177,147,"2019-02-23","FINALE OISE 2018-19 - R 1 - SENLIS","Poule unique","2018-2019",null,null,null,null,0,null,0]
["VANDEPUTTE Laurent","LALOT Gérard","G",2,1,166,134,"2019-02-23","FINALE OISE 2018-19 - R 1 - SENLIS","Poule unique","2018-2019",null,null,null,null,0,null,0]
["VANDEPUTTE Laurent","STEINMANN Sébastien","P",0,2,92,120,"2019-02-23","FINALE OISE 2018-19 - R 1 - SENLIS","Poule unique","2018-2019",null,null,null,null,0,null,0]
["Fin des données",null,null,null,null,null,null,null,null,null,"",null,null,null,null,0,null,0]

{"sheet":"VANEME Sophie","index":150,"n_rows":27,"n_cols":22,"rows_kept":27,"cut":false,"hidden":false,"merged":[]}
["VANEME Sophie",null,null,null,null,null,null,null,null,null,null,null,null,null,null,{"$f":"SaisonDeb","v":"2021-2022"},null,{"$f":"SaisonFin","v":"2022-2023"},null,"Toutes saisons"]
[{"$error":"#N/A"},null,null,null,null,null,null,null,null,null,null,null,null,null,null,"Nombre","%age","Nombre","%age","Nombre","%age"]
[{"$error":"#N/A"},null,null,null,null,null,null,null,null,null,null,null,null,"Matchs","Gagnés",{"$f":"SUM(P$15:P$123)","v":0},{"$f":"IF(P$3+P$4>0,P3/(P$3+P$4),\"\")","v":""},{"$f":"SUM(R$15:R$123)","v":0},{"$f":"IF(R$3+R$4>0,R3/(R$3+R$4),\"\")","v":""},{"$f":"COUNTIF($C$15:$C$123,\"G\")","v":4},{"$f":"IF(T$3+T$4>0,T3/(T$3+T$4),\"\")","v":0.36363636363636365}]
[{"$error":"#N/A"},null,null,null,null,null,null,null,null,null,null,null,null,null,"Perdus",{"$f":"COUNTIF($K$15:$M$123,SaisonDeb)-P3","v":0},{"$f":"IF(P$3+P$4>0,P4/(P$3+P$4),\"\")","v":""},{"$f":"COUNTIF($K$15:$K$123,SaisonFin)-R3","v":0},{"$f":"IF(R$3+R$4>0,R4/(R$3+R$4),\"\")","v":""},{"$f":"COUNTIF($C$15:$C$123,\"P\")","v":7},{"$f":"IF(T$3+T$4>0,T4/(T$3+T$4),\"\")","v":0.63636363636363635}]
[{"$error":"#N/A"},null,null,null,null,null,null,null,null,null,null,null,null,null,"Total / Moy.",{"$f":"SUM(P3:P4)","v":0},{"$f":"IF(SUMIF($K$15:$K$123,SaisonDeb,$G$15:$G$123)>0,SUMIF($K$15:$K$123,SaisonDeb,$F$15:$F$123)/SUMIF($K$15:$K$123,SaisonDeb,$G$15:$G$123),\"\")","v":""},{"$f":"SUM(R3:R4)","v":0},{"$f":"IF(SUMIF($K$15:$K$123,SaisonFin,$G$15:$G$123)>0,SUMIF($K$15:$K$123,SaisonFin,$F$15:$F$123)/SUMIF($K$15:$K$123,SaisonFin,$G$15:$G$123),\"\")","v":""},{"$f":"SUM(T3:T4)","v":11},{"$f":"IF(SUM($G$15:$G$123)>0,SUM($F$15:$F$123)/SUM($G$15:$G$123),\"\")","v":0.83083003952569168},{"$f":"IF(SUMIF($K$15:$K$27,SaisonDeb,$G$15:$G$27)+SUMIF($K$15:$K$27,SaisonFin,$G$15:$G$27)>0,(SUMIF($K$15:$K$27,SaisonDeb,$F$15:$F$27)+SUMIF($K$15:$K$27,SaisonFin,$F$15:$F$27))/(SUMIF($K$15:$K$27,SaisonDeb,$G$15:$G$27)+SUMIF($K$15:$K$27,SaisonFin,$G$15:$G$27)),\"\")","v":""}]
[null,null,null,null,null,null,null,null,null,null,null,null,null,"Sets","Gagnés",{"$f":"SUMIF($K$15:$K$123,SaisonDeb,$D$15:$D$123)","v":0},{"$f":"IF(P$6+P$7>0,P6/(P$6+P$7),\"\")","v":""},{"$f":"SUMIF($K$15:$K$123,SaisonFin,$D$15:$D$123)","v":0},{"$f":"IF(R$6+R$7>0,R6/(R$6+R$7),\"\")","v":""},{"$f":"SUM($D$15:$D$123)","v":8},{"$f":"IF(T$6+T$7>0,T6/(T$6+T$7),\"\")","v":0.4}]
[null,null,null,null,null,null,null,null,null,null,null,null,null,null,"Perdus",{"$f":"SUMIF($K$15:$K$123,SaisonDeb,$E$15:$E$123)","v":0},{"$f":"IF(P$6+P$7>0,P7/(P$6+P$7),\"\")","v":""},{"$f":"SUMIF($K$15:$K$123,SaisonFin,$E$15:$E$123)","v":0},{"$f":"IF(R$6+R$7>0,R7/(R$6+R$7),\"\")","v":""},{"$f":"SUM($E$15:$E$123)","v":12},{"$f":"IF(T$6+T$7>0,T7/(T$6+T$7),\"\")","v":0.6}]
["Récapitulatif joueurs",null,null,null,null,null,null,null,null,null,null,null,null,null,"Total",{"$f":"SUM(P6:P7)","v":0},null,{"$f":"SUM(R6:R7)","v":0},null,{"$f":"SUM(T6:T7)","v":20}]
[]
[]
[]
[]
[]
[]
["Joueur","Adversaire","G/P","Sets gagnés","Sets perdus","pts marqués","pts subis","Date","Compétition","Phase","Saison"]
["VANEME Sophie","BOUIGES Armelle","P",0,1,80,100,"2016-11-26","5Q  CD60 R1 - T 2 - SENLIS","Tour 2",{"$f":"IF(H16<>\"\",IF(MONTH(H16)>MoisRef,YEAR(H16)&\"-\"&YEAR(H16)+1,YEAR(H16)-1&\"-\"&YEAR(H16)),\"\")","v":"2016-2017"},null,null,null,null,{"$f":"IF($K16=P$1,COUNTIF($C16,\"G\"),0)","v":0},null,{"$f":"IF($K16=R$1,COUNTIF($C16,\"G\"),0)","v":0}]
["VANEME Sophie","MURIOT Jean-Pierre","P",0,1,46,100,"2016-11-26","5Q  CD60 R1 - T 2 - SENLIS","Tour 4","2016-2017",null,null,null,null,{"$f":"IF($K17=P$1,COUNTIF($C17,\"G\"),0)","v":0},null,{"$f":"IF($K17=R$1,COUNTIF($C17,\"G\"),0)","v":0}]
["VANEME Sophie","BARTHON Aurélie","G",2,0,120,107,"2018-05-13","FINALE OISE FEMININES - SENLIS","Qualifications","2017-2018",null,null,null,null,{"$f":"IF($K18=P$1,COUNTIF($C18,\"G\"),0)","v":0},null,{"$f":"IF($K18=R$1,COUNTIF($C18,\"G\"),0)","v":0}]
["VANEME Sophie","BOUIGES Armelle","G",2,0,120,100,"2018-05-13","FINALE OISE FEMININES - SENLIS","Qualifications","2017-2018",null,null,null,null,0,null,0]
["VANEME Sophie","TALEC Pierre","G",1,0,100,94,"2018-01-06","T 4 OISE - CONSOLANTE - VILLERS","Qualifications","2017-2018",null,null,null,null,0,null,0]
["VANEME Sophie","TALEC Pierre","G",1,0,100,94,"2018-01-06","T 4 OISE - CONSOLANTE - VILLERS","Finale","2017-2018",null,null,null,null,0,null,0]
["VANEME Sophie","BOUIGES Armelle","P",0,2,105,120,"2018-01-06","T 4 OISE - VILLERS","Qualifications","2017-2018",null,null,null,null,0,null,0]
["VANEME Sophie","LEFEBVRE Gérard","P",1,2,116,147,"2018-01-06","T 4 OISE - VILLERS","Qualifications","2017-2018",null,null,null,null,0,null,0]
["VANEME Sophie","MARTIN Denis","P",0,2,41,120,"2018-01-06","T 4 OISE - VILLERS","Qualifications","2017-2018",null,null,null,null,0,null,0]
["VANEME Sophie","DIOT Alain","P",0,2,102,120,"2018-09-29","5 Q - T 1 OISE 2018-19 - R 1 - TOURNOI PRINCIPAL  - CREPY","Qualifications","2018-2019",null,null,null,null,0,null,0]
["VANEME Sophie","STEINMANN Sébastien","P",1,2,121,163,"2018-09-29","5 Q - T 1 OISE 2018-19 - R 1 - TOURNOI PRINCIPAL  - CREPY","Qualifications","2018-2019",null,null,null,null,0,null,0]
["Fin des données",null,null,null,null,null,null,null,null,null,"",null,null,null,null,{"$f":"IF($K27=P$1,COUNTIF($C27,\"G\"),0)","v":0},null,{"$f":"IF($K27=R$1,COUNTIF($C27,\"G\"),0)","v":0}]

{"sheet":"VASSEUR Francis","index":151,"n_rows":24,"n_cols":22,"rows_kept":24,"cut":false,"hidden":false,"merged":[]}
["VASSEUR Francis",null,null,null,null,null,null,null,null,null,null,null,null,null,null,{"$f":"SaisonDeb","v":"2021-2022"},null,{"$f":"SaisonFin","v":"2022-2023"},null,"Toutes saisons"]
[{"$error":"#N/A"},null,null,null,null,null,null,null,null,null,null,null,null,null,null,"Nombre","%age","Nombre","%age","Nombre","%age"]
[{"$error":"#N/A"},null,null,null,null,null,null,null,null,null,null,null,null,"Matchs","Gagnés",{"$f":"SUM(P$15:P$120)","v":0},{"$f":"IF(P$3+P$4>0,P3/(P$3+P$4),\"\")","v":""},{"$f":"SUM(R$15:R$120)","v":0},{"$f":"IF(R$3+R$4>0,R3/(R$3+R$4),\"\")","v":""},{"$f":"COUNTIF($C$15:$C$120,\"G\")","v":3},{"$f":"IF(T$3+T$4>0,T3/(T$3+T$4),\"\")","v":0.375}]
[{"$error":"#N/A"},null,null,null,null,null,null,null,null,null,null,null,null,null,"Perdus",{"$f":"COUNTIF($K$15:$M$120,SaisonDeb)-P3","v":0},{"$f":"IF(P$3+P$4>0,P4/(P$3+P$4),\"\")","v":""},{"$f":"COUNTIF($K$15:$K$120,SaisonFin)-R3","v":0},{"$f":"IF(R$3+R$4>0,R4/(R$3+R$4),\"\")","v":""},{"$f":"COUNTIF($C$15:$C$120,\"P\")","v":5},{"$f":"IF(T$3+T$4>0,T4/(T$3+T$4),\"\")","v":0.625}]
[{"$error":"#N/A"},null,null,null,null,null,null,null,null,null,null,null,null,null,"Total / Moy.",{"$f":"SUM(P3:P4)","v":0},{"$f":"IF(SUMIF($K$15:$K$120,SaisonDeb,$G$15:$G$120)>0,SUMIF($K$15:$K$120,SaisonDeb,$F$15:$F$120)/SUMIF($K$15:$K$120,SaisonDeb,$G$15:$G$120),\"\")","v":""},{"$f":"SUM(R3:R4)","v":0},{"$f":"IF(SUMIF($K$15:$K$120,SaisonFin,$G$15:$G$120)>0,SUMIF($K$15:$K$120,SaisonFin,$F$15:$F$120)/SUMIF($K$15:$K$120,SaisonFin,$G$15:$G$120),\"\")","v":""},{"$f":"SUM(T3:T4)","v":8},{"$f":"IF(SUM($G$15:$G$120)>0,SUM($F$15:$F$120)/SUM($G$15:$G$120),\"\")","v":0.80430107526881722},{"$f":"IF(SUMIF($K$15:$K$24,SaisonDeb,$G$15:$G$24)+SUMIF($K$15:$K$24,SaisonFin,$G$15:$G$24)>0,(SUMIF($K$15:$K$24,SaisonDeb,$F$15:$F$24)+SUMIF($K$15:$K$24,SaisonFin,$F$15:$F$24))/(SUMIF($K$15:$K$24,SaisonDeb,$G$15:$G$24)+SUMIF($K$15:$K$24,SaisonFin,$G$15:$G$24)),\"\")","v":""}]
[null,null,null,null,null,null,null,null,null,null,null,null,null,"Sets","Gagnés",{"$f":"SUMIF($K$15:$K$120,SaisonDeb,$D$15:$D$120)","v":0},{"$f":"IF(P$6+P$7>0,P6/(P$6+P$7),\"\")","v":""},{"$f":"SUMIF($K$15:$K$120,SaisonFin,$D$15:$D$120)","v":0},{"$f":"IF(R$6+R$7>0,R6/(R$6+R$7),\"\")","v":""},{"$f":"SUM($D$15:$D$120)","v":7},{"$f":"IF(T$6+T$7>0,T6/(T$6+T$7),\"\")","v":0.4375}]
[null,null,null,null,null,null,null,null,null,null,null,null,null,null,"Perdus",{"$f":"SUMIF($K$15:$K$120,SaisonDeb,$E$15:$E$120)","v":0},{"$f":"IF(P$6+P$7>0,P7/(P$6+P$7),\"\")","v":""},{"$f":"SUMIF($K$15:$K$120,SaisonFin,$E$15:$E$120)","v":0},{"$f":"IF(R$6+R$7>0,R7/(R$6+R$7),\"\")","v":""},{"$f":"SUM($E$15:$E$120)","v":9},{"$f":"IF(T$6+T$7>0,T7/(T$6+T$7),\"\")","v":0.5625}]
["Récapitulatif joueurs",null,null,null,null,null,null,null,null,null,null,null,null,null,"Total",{"$f":"SUM(P6:P7)","v":0},null,{"$f":"SUM(R6:R7)","v":0},null,{"$f":"SUM(T6:T7)","v":16}]
[]
[]
[]
[]
[]
[]
["Joueur","Adversaire","G/P","Sets gagnés","Sets perdus","pts marqués","pts subis","Date","Compétition","Phase","Saison"]
["VASSEUR Francis","BOUIGES Armelle","G",2,0,120,64,"2019-10-19","CD60  R1 - T1 - Tour Principal - BEAUVAIS","Qualifications",{"$f":"IF(H16<>\"\",IF(MONTH(H16)>MoisRef,YEAR(H16)&\"-\"&YEAR(H16)+1,YEAR(H16)-1&\"-\"&YEAR(H16)),\"\")","v":"2019-2020"},null,null,null,null,{"$f":"IF($K16=P$1,COUNTIF($C16,\"G\"),0)","v":0},null,{"$f":"IF($K16=R$1,COUNTIF($C16,\"G\"),0)","v":0}]
["VASSEUR Francis","BOURGOGNE Claude","P",0,2,61,120,"2019-10-19","CD60  R1 - T1 - Tour Principal - BEAUVAIS","Qualifications","2019-2020",null,null,null,null,0,null,0]
["VASSEUR Francis","BOURGOGNE Claude","P",1,2,136,175,"2019-10-19","CD60  R1 - T1 - Tour Principal - BEAUVAIS","1/2 Finale","2019-2020",null,null,null,null,0,null,0]
["VASSEUR Francis","LAMARQUE Yves","G",2,0,120,99,"2019-10-19","CD60  R1 - T1 - Tour Principal - BEAUVAIS","1/4 Finale","2019-2020",null,null,null,null,0,null,0]
["VASSEUR Francis","GEOFFROY Florent","P",0,1,31,100,"2020-02-15","CD60  R1 - T 4 - Tour Principal - SENLIS","Qualifications","2019-2020",null,null,null,null,0,null,0]
["VASSEUR Francis","MURIOT Jean-Pierre","G",1,0,100,76,"2020-02-15","CD60  R1 - T 4 - Tour Principal - SENLIS","Qualifications","2019-2020",null,null,null,null,0,null,0]
["VASSEUR Francis","LALOT Gérard","P",1,2,147,176,"2019-11-23","CD60  R1 - T2 - Tour Principal - MERU","Qualifications","2019-2020",null,null,null,null,0,null,0]
["VASSEUR Francis","LE FRIEC Daniel","P",0,2,33,120,"2019-11-23","CD60  R1 - T2 - Tour Principal - MERU","Qualifications","2019-2020",null,null,null,null,0,null,0]
["Fin des données",null,null,null,null,null,null,null,null,null,"",null,null,null,null,{"$f":"IF($K24=P$1,COUNTIF($C24,\"G\"),0)","v":0},null,{"$f":"IF($K24=R$1,COUNTIF($C24,\"G\"),0)","v":0}]

{"sheet":"VEREECQUE Bernard","index":152,"n_rows":162,"n_cols":22,"rows_kept":162,"cut":false,"hidden":false,"merged":[]}
["VEREECQUE Bernard",null,null,null,null,null,null,null,null,null,null,null,null,null,null,{"$f":"SaisonDeb","v":"2021-2022"},null,{"$f":"SaisonFin","v":"2022-2023"},null,"Toutes saisons"]
["ST POL SUR MER",null,null,null,null,null,null,null,null,null,null,null,null,null,null,"Nombre","%age","Nombre","%age","Nombre","%age"]
["001742-G",null,null,null,null,null,null,null,null,null,null,null,null,"Matchs","Gagnés",{"$f":"SUM(P$15:P$162)","v":0},{"$f":"IF(P$3+P$4>0,P3/(P$3+P$4),\"\")","v":""},{"$f":"SUM(R$15:R$162)","v":0},{"$f":"IF(R$3+R$4>0,R3/(R$3+R$4),\"\")","v":""},{"$f":"COUNTIF($C$15:$C$162,\"G\")","v":53},{"$f":"IF(T$3+T$4>0,T3/(T$3+T$4),\"\")","v":0.36301369863013699}]
[null,null,null,null,null,null,null,null,null,null,null,null,null,null,"Perdus",{"$f":"COUNTIF($K$15:$K$162,SaisonDeb)-P3","v":0},{"$f":"IF(P$3+P$4>0,P4/(P$3+P$4),\"\")","v":""},{"$f":"COUNTIF($K$15:$K$162,SaisonFin)-R3","v":0},{"$f":"IF(R$3+R$4>0,R4/(R$3+R$4),\"\")","v":""},{"$f":"COUNTIF($C$15:$C$162,\"P\")","v":93},{"$f":"IF(T$3+T$4>0,T4/(T$3+T$4),\"\")","v":0.63698630136986301}]
["verbernard@live.fr",null,null,null,null,null,null,null,null,null,null,null,null,null,"Total / Moy.",{"$f":"SUM(P3:P4)","v":0},{"$f":"IF(SUMIF($K$15:$K$162,SaisonDeb,$G$15:$G$162)>0,SUMIF($K$15:$K$162,SaisonDeb,$F$15:$F$162)/SUMIF($K$15:$K$162,SaisonDeb,$G$15:$G$162),\"\")","v":""},{"$f":"SUM(R3:R4)","v":0},{"$f":"IF(SUMIF($K$15:$K$162,SaisonFin,$G$15:$G$162)>0,SUMIF($K$15:$K$162,SaisonFin,$F$15:$F$162)/SUMIF($K$15:$K$162,SaisonFin,$G$15:$G$162),\"\")","v":""},{"$f":"SUM(T3:T4)","v":146},{"$f":"IF(SUM($G$15:$G$162)>0,SUM($F$15:$F$162)/SUM($G$15:$G$162),\"\")","v":0.89673340358271869},{"$f":"IF(SUMIF($K$15:$K$162,SaisonDeb,$G$15:$G$162)+SUMIF($K$15:$K$162,SaisonFin,$G$15:$G$162)>0,(SUMIF($K$15:$K$162,SaisonDeb,$F$15:$F$162)+SUMIF($K$15:$K$162,SaisonFin,$F$15:$F$162))/(SUMIF($K$15:$K$162,SaisonDeb,$G$15:$G$162)+SUMIF($K$15:$K$162,SaisonFin,$G$15:$G$162)),\"\")","v":""}]
[null,null,null,null,null,null,null,null,null,null,null,null,null,"Sets","Gagnés",{"$f":"SUMIF($K$15:$K$162,SaisonDeb,$D$15:$D$162)","v":0},{"$f":"IF(P$6+P$7>0,P6/(P$6+P$7),\"\")","v":""},{"$f":"SUMIF($K$15:$K$162,SaisonFin,$D$15:$D$162)","v":0},{"$f":"IF(R$6+R$7>0,R6/(R$6+R$7),\"\")","v":""},{"$f":"SUM($D$15:$D$162)","v":142},{"$f":"IF(T$6+T$7>0,T6/(T$6+T$7),\"\")","v":0.40571428571428569}]
[null,null,null,null,null,null,null,null,null,null,null,null,null,null,"Perdus",{"$f":"SUMIF($K$15:$K$162,SaisonDeb,$E$15:$E$162)","v":0},{"$f":"IF(P$6+P$7>0,P7/(P$6+P$7),\"\")","v":""},{"$f":"SUMIF($K$15:$K$162,SaisonFin,$E$15:$E$162)","v":0},{"$f":"IF(R$6+R$7>0,R7/(R$6+R$7),\"\")","v":""},{"$f":"SUM($E$15:$E$162)","v":208},{"$f":"IF(T$6+T$7>0,T7/(T$6+T$7),\"\")","v":0.59428571428571431}]
["Récapitulatif joueurs",null,null,null,null,null,null,null,null,null,null,null,null,null,"Total",{"$f":"SUM(P6:P7)","v":0},null,{"$f":"SUM(R6:R7)","v":0},null,{"$f":"SUM(T6:T7)","v":350}]
[]
[]
[]
[]
[]
[]
["Joueur","Adversaire","G/P","Sets gagnés","Sets perdus","pts marqués","pts subis","Date","Compétition","Phase","Saison"]
["VEREECQUE Bernard","CARRU Bruno","P",1,2,140,170,"2009-12-12","R1 CD59 T1 SAINT POL SUR MER","Poules",{"$f":"IF(H16<>\"\",IF(MONTH(H16)>MoisRef,YEAR(H16)&\"-\"&YEAR(H16)+1,YEAR(H16)-1&\"-\"&YEAR(H16)),\"\")","v":"2009-2010"},null,null,null,null,{"$f":"IF($K16=P$1,COUNTIF($C16,\"G\"),0)","v":0},null,{"$f":"IF($K16=R$1,COUNTIF($C16,\"G\"),0)","v":0}]
["VEREECQUE Bernard","MANTEN Paul","P",0,2,78,120,"2009-12-12","R1 CD59 T1 SAINT POL SUR MER","Poules","2009-2010",null,null,null,null,0,null,0]
["VEREECQUE Bernard","DELRUE André","P",0,2,60,120,"2009-12-12","R1 CD59 T1 SAINT POL SUR MER","Poules Consolante","2009-2010",null,null,null,null,0,null,0]
["VEREECQUE Bernard","DELRUE André","P",1,2,133,160,"2009-12-12","R1 CD59 T1 SAINT POL SUR MER","Poules Consolante","2009-2010",null,null,null,null,0,null,0]
["VEREECQUE Bernard","LUBREZ Pierre","P",0,2,87,120,"2009-01-16","R1 CD59 T2 VILLENEUVE D'ASCQ","Poules","2008-2009",null,null,null,null,0,null,0]
["VEREECQUE Bernard","LEMÂTRE Jérémy","P",0,2,89,120,"2009-01-16","R1 CD59 T2 VILLENEUVE D'ASCQ","Poules","2008-2009",null,null,null,null,0,null,0]
["VEREECQUE Bernard","DELRUE André","P",0,2,59,120,"2009-01-16","R1 CD59 T2 VILLENEUVE D'ASCQ","Poules consolante","2008-2009",null,null,null,null,0,null,0]
["VEREECQUE Bernard","ST MAXENT Stéphane","G",2,1,137,130,"2009-01-16","R1 CD59 T2 VILLENEUVE D'ASCQ","Poules consolante","2008-2009",null,null,null,null,0,null,0]
["VEREECQUE Bernard","ST MAXENT Stéphane","G",2,0,120,77,"2010-03-13","R1 CD59 T3 VILLENEUVE D'ASCQ","Poules","2009-2010",null,null,null,null,0,null,0]
["VEREECQUE Bernard","VANLERBERGHE Nicolas","P",0,2,52,120,"2010-03-13","R1 CD59 T3 VILLENEUVE D'ASCQ","Poules","2009-2010",null,null,null,null,0,null,0]
["VEREECQUE Bernard","DEVOS Jackie","P",1,2,145,141,"2010-03-13","R1 CD59 T3 VILLENEUVE D'ASCQ","1/4 Finale","2009-2010",null,null,null,null,0,null,0]
["VEREECQUE Bernard","HENNEUSE Patrick","P",0,2,69,120,"2010-03-27","R1 CD59 T4 BRUAY SUR ESCAUT","Poules","2009-2010",null,null,null,null,0,null,0]
["VEREECQUE Bernard","FLEURANT Richard","P",1,2,135,147,"2010-03-27","R1 CD59 T4 BRUAY SUR ESCAUT","Poules","2009-2010",null,null,null,null,0,null,0]
["VEREECQUE Bernard","FRADET Noël","G",2,1,168,134,"2010-03-27","R1 CD59 T4 BRUAY SUR ESCAUT","Poules Consolante","2009-2010",null,null,null,null,0,null,0]
["VEREECQUE Bernard","ST MAXENT Stéphane","P",0,2,70,120,"2010-03-27","R1 CD59 T4 BRUAY SUR ESCAUT","Poules Consolante","2009-2010",null,null,null,null,0,null,0]
["VEREECQUE Bernard","ST MAXENT Stéphane","P",0,2,75,120,"2010-10-16","R1 CD59 T1 ST POL SUR MER","Poules","2010-2011",null,null,null,null,0,null,0]
["VEREECQUE Bernard","ST MAXENT Stéphane","G",2,1,160,129,"2010-10-16","R1 CD59 T1 ST POL SUR MER","Poules","2010-2011",null,null,null,null,0,null,0]
["VEREECQUE Bernard","ESTERMANS Bernard","P",0,2,83,120,"2010-10-16","R1 CD59 T1 ST POL SUR MER","1/4 Finale","2010-2011",null,null,null,null,0,null,0]
["VEREECQUE Bernard","MONFLIER Francis","G",2,0,120,105,"2010-11-13","R1 CD59 T2 ST POL SUR MER","Poules","2010-2011",null,null,null,null,0,null,0]
["VEREECQUE Bernard","MANTEN Paul","P",0,2,52,120,"2010-11-13","R1 CD59 T2 ST POL SUR MER","Poules","2010-2011",null,null,null,null,0,null,0]
["VEREECQUE Bernard","HOCHART James","P",1,2,146,142,"2010-11-13","R1 CD59 T2 ST POL SUR MER","1/4 Finale","2010-2011",null,null,null,null,0,null,0]
["VEREECQUE Bernard","ST MAXENT Stéphane","P",1,2,173,175,"2010-12-12","R1 CD59 T3 BRUAY SUR ESCAUT","Poules","2010-2011",null,null,null,null,0,null,0]
["VEREECQUE Bernard","MARONNIER Jean-Luc","P",0,2,91,120,"2010-12-12","R1 CD59 T3 BRUAY SUR ESCAUT","Poules","2010-2011",null,null,null,null,0,null,0]
["VEREECQUE Bernard","ST MAXENT Stéphane","P",1,2,130,135,"2010-12-12","R1 CD59 T3 BRUAY SUR ESCAUT","Consolante","2010-2011",null,null,null,null,0,null,0]
["VEREECQUE Bernard","PRUVOST Franck","P",0,2,108,120,"2010-12-12","R1 CD59 T3 BRUAY SUR ESCAUT","Consolante","2010-2011",null,null,null,null,0,null,0]
["VEREECQUE Bernard","PRUVOST Franck","P",1,2,148,171,"2011-01-15","R1 CD59 T1 ST POL sur MER","Poules","2010-2011",null,null,null,null,0,null,0]
["VEREECQUE Bernard","MANTEN Paul","P",0,2,38,120,"2011-01-15","R1 CD59 T1 ST POL sur MER","Poules","2010-2011",null,null,null,null,0,null,0]
["VEREECQUE Bernard","MANTEN Paul","P",1,2,96,178,"2011-01-15","R1 CD59 T1 ST POL sur MER","1/4 Finale","2010-2011",null,null,null,null,0,null,0]
["VEREECQUE Bernard","MONFLIER Francis","G",2,1,177,138,"2011-10-15","R1 CD59 T1 ST POL sur MER","Poules","2011-2012",null,null,null,null,0,null,0]
["VEREECQUE Bernard","MONFLIER Francis","G",2,1,179,142,"2011-10-15","R1 CD59 T1 ST POL sur MER","Poules","2011-2012",null,null,null,null,0,null,0]
["VEREECQUE Bernard","MERVAILLE Jean","G",2,0,120,115,"2011-10-15","R1 CD59 T1 ST POL sur MER","1/4 Finale","2011-2012",null,null,null,null,0,null,0]
["VEREECQUE Bernard","HOCHART James","P",0,2,76,120,"2011-10-15","R1 CD59 T1 ST POL sur MER","1/2 Finale","2011-2012",null,null,null,null,0,null,0]
["VEREECQUE Bernard","HILAIRE Jimmy","P",0,2,63,120,"2011-11-19","R1 CD59 T2 VILLENEUVE D'ASCQ","Poules","2011-2012",null,null,null,null,0,null,0]
["VEREECQUE Bernard","MERVAILLE Jean","P",0,2,74,120,"2011-11-19","R1 CD59 T2 VILLENEUVE D'ASCQ","Poules","2011-2012",null,null,null,null,0,null,0]
["VEREECQUE Bernard","MERVAILLE Jean","G",2,1,168,141,"2011-11-23","R1 CD59 T2 VILLENEUVE D'ASCQ","Consolante","2011-2012",null,null,null,null,0,null,0]
["VEREECQUE Bernard","FLEURANT Alexandre","G",2,0,120,95,"2011-11-24","R1 CD59 T2 VILLENEUVE D'ASCQ","Consolante","2011-2012",null,null,null,null,0,null,0]
["VEREECQUE Bernard","ST MAXENT Stéphane","P",0,2,85,120,"2012-01-07","R1 CD59 T3 DENAIN","Poules","2011-2012",null,null,null,null,0,null,0]
["VEREECQUE Bernard","MARONNIER Jean-Luc","G",2,1,133,137,"2012-01-07","R1 CD59 T3 DENAIN","Poules","2011-2012",null,null,null,null,0,null,0]
["VEREECQUE Bernard","HOCHART James","G",2,1,153,131,"2012-01-07","R1 CD59 T3 DENAIN","1/4 Finale","2011-2012",null,null,null,null,0,null,0]
["VEREECQUE Bernard","ST MAXENT Stéphane","P",0,2,86,120,"2012-01-07","R1 CD59 T3 DENAIN","1/2 Finale","2011-2012",null,null,null,null,0,null,0]
["VEREECQUE Bernard","ST MAXENT Stéphane","G",3,2,270,256,"2012-01-29","Finale CD59 R1 ANNOEULLIN","Poules","2011-2012",null,null,null,null,0,null,0]
["VEREECQUE Bernard","MERVAILLE Jean","P",1,3,191,208,"2012-01-29","Finale CD59 R1 ANNOEULLIN","Poules","2011-2012",null,null,null,null,0,null,0]
["VEREECQUE Bernard","HOCHART James","G",3,2,261,253,"2012-01-29","Finale CD59 R1 ANNOEULLIN","1/2 Finale","2011-2012",null,null,null,null,0,null,0]
["VEREECQUE Bernard","FLEURANT Richard","P",1,3,170,232,"2012-01-29","Finale CD59 R1 ANNOEULLIN","Finale","2011-2012",null,null,null,null,0,null,0]
["VEREECQUE Bernard","MERVAILLE Jean","P",1,3,146,204,"2012-06-10","Finale ligue CD62 R1 COURRIERES","Poules","2011-2012",null,null,null,null,0,null,0]
["VEREECQUE Bernard","STOLLER Jean-Luc","P",2,3,232,269,"2012-06-10","Finale ligue CD62 R1 COURRIERES","Poules","2011-2012",null,null,null,null,0,null,0]
["VEREECQUE Bernard","BARNO Cassandre","G",2,0,120,66,"2012-09-29","R1 CD59 T1 DOUAI","Poules","2012-2013",null,null,null,null,0,null,0]
["VEREECQUE Bernard","ST MAXENT Stéphane","G",2,0,120,103,"2012-09-29","R1 CD59 T1 DOUAI","Poules","2012-2013",null,null,null,null,0,null,0]
["VEREECQUE Bernard","LUBREZ Pierre","P",0,2,73,120,"2012-09-29","R1 CD59 T1 DOUAI","1/2 Finale","2012-2013",null,null,null,null,0,null,0]
["VEREECQUE Bernard","LECROART Serge","G",2,0,120,69,"2012-10-27","R1 CD59 T2 GRAVELINES","Poules","2012-2013",null,null,null,null,0,null,0]
["VEREECQUE Bernard","ST MAXENT Stéphane","P",1,2,166,177,"2012-10-27","R1 CD59 T2 GRAVELINES","Poules","2012-2013",null,null,null,null,0,null,0]
["VEREECQUE Bernard","LECROART Serge","G",2,0,120,81,"2012-10-27","R1 CD59 T2 GRAVELINES","1/4 Finale","2012-2013",null,null,null,null,0,null,0]
["VEREECQUE Bernard","LUBREZ Pierre","P",0,2,51,120,"2012-10-27","R1 CD59 T2 GRAVELINES","1/2 Finale","2012-2013",null,null,null,null,0,null,0]
["VEREECQUE Bernard","BARNO Cassandre","G",2,1,160,110,"2012-11-24","R1 CD59 T3 RONCHIN","Poules","2012-2013",null,null,null,null,0,null,0]
["VEREECQUE Bernard","BARNO Cassandre","G",2,0,120,104,"2012-11-24","R1 CD59 T3 RONCHIN","Poules","2012-2013",null,null,null,null,0,null,0]
["VEREECQUE Bernard","FLEURANT Alexandre","P",0,2,98,120,"2012-11-24","R1 CD59 T3 RONCHIN","1/2 Finale","2012-2013",null,null,null,null,0,null,0]
["VEREECQUE Bernard","ST MAXENT STEPHANE","P",1,3,196,212,"2012-12-16","FINALE CD59 R1 DUNKERQUE ","Poules","2012-2013",null,null,null,null,0,null,0]
["VEREECQUE Bernard","FLEURANT Alexandre","P",1,3,155,191,"2012-12-16","FINALE CD59 R1 DUNKERQUE ","Poules","2012-2013",null,null,null,null,0,null,0]
["VEREECQUE Bernard","HOCHART JAMES","G",3,1,139,227,"2012-12-16","FINALE CD59 R1 DUNKERQUE ","5ème 6ème place","2012-2013",null,null,null,null,0,null,0]
["VEREECQUE Bernard","LANVIN Jean-Luc","G",2,0,120,75,"2014-01-04","R1 CD59 T1 RONCHIN","Poules","2013-2014",null,null,null,null,0,null,0]
["VEREECQUE Bernard","ST MAXENT Stéphane","G",2,0,120,104,"2014-01-04","R1 CD59 T1 RONCHIN","Poules","2013-2014",null,null,null,null,0,null,0]
["VEREECQUE Bernard","ST MAXENT Stéphane","G",2,0,120,90,"2014-01-04","R1 CD59 T1 RONCHIN","1/2 finale","2013-2014",null,null,null,null,0,null,0]
["VEREECQUE Bernard","MANTEN Paul","P",0,2,71,120,"2014-01-04","R1 CD59 T1 RONCHIN","Finale","2013-2014",null,null,null,null,0,null,0]
["VEREECQUE Bernard","ALDEGUER Lionel","P",1,2,116,168,"2014-02-22","R1 CD59 T2 GRANDE SYNTHE","Poules","2013-2014",null,null,null,null,0,null,0]
["VEREECQUE Bernard","LANVIN Jean-Luc","P",1,2,153,138,"2014-02-22","R1 CD59 T2 GRANDE SYNTHE","Poules","2013-2014",null,null,null,null,{"$f":"IF($K80=P$1,COUNTIF($C80,\"G\"),0)","v":0},null,{"$f":"IF($K80=R$1,COUNTIF($C80,\"G\"),0)","v":0}]
["VEREECQUE Bernard","PAILLARD Bertrand","G",2,1,177,147,"2014-02-22","R1 CD59 T2 GRANDE SYNTHE","1/4 Finale","2013-2014",null,null,null,null,0,null,0]
["VEREECQUE Bernard","ALDEGUER Lionel","P",0,2,40,120,"2014-02-22","R1 CD59 T2 GRANDE SYNTHE","1/2 Finale","2013-2014",null,null,null,null,0,null,0]
["VEREECQUE Bernard","ST MAXENT Stéphane","P",2,3,205,277,"2014-04-18","Finale CD59 R1 ST POL SUR MER","Poules","2013-2014",null,null,null,null,0,null,0]
["VEREECQUE Bernard","LANVIN Jean-Luc","G",3,0,180,139,"2014-04-18","Finale CD59 R1 ST POL SUR MER","Poules","2013-2014",null,null,null,null,0,null,0]
["VEREECQUE Bernard","ALDEGUER Lionel","P",0,3,97,180,"2014-04-18","Finale CD59 R1 ST POL SUR MER","1/2 Finale","2013-2014",null,null,null,null,0,null,0]
["VEREECQUE Bernard","ST MAXENT Stéphane","P",2,3,217,251,"2014-04-18","Finale CD59 R1 ST POL SUR MER","3ème 4ème","2013-2014",null,null,null,null,0,null,0]
["VEREECQUE Bernard","HERREBRECHT Erian","G",1,0,100,60,"2015-01-17","R1 CD59 T1 ST POL SUR MER","1/2 Finale Consolante","2014-2015",null,null,null,null,0,null,0]
["VEREECQUE Bernard","WASYLYSZYN Jean-pierre","P",0,1,73,100,"2015-01-17","R1 CD59 T1 ST POL SUR MER","Finale Consolante","2014-2015",null,null,null,null,0,null,0]
["VEREECQUE Bernard","HERREBRECHT Emerick","P",0,2,87,120,"2015-01-17","R1 CD59 T1 ST POL sur MER","Poules","2014-2015",null,null,null,null,0,null,0]
["VEREECQUE Bernard","VERPOORT José","P",1,2,156,152,"2015-01-17","R1 CD59 T1 ST POL sur MER","Poules","2014-2015",null,null,null,null,0,null,0]
["VEREECQUE Bernard","PAILLARD Bertrand","P",0,1,68,100,"2015-02-07","R1 CD59 T2 GRAVELINES","Poules Consolante","2014-2015",null,null,null,null,0,null,0]
["VEREECQUE Bernard","PARISIS Francis","P",0,1,76,100,"2015-02-07","R1 CD59 T2 GRAVELINES","Poules Consolante","2014-2015",null,null,null,null,0,null,0]
["VEREECQUE Bernard","HERREBRECHT Erian","P",1,2,145,160,"2015-02-07","R1 CD59 T2 GRAVELINES","Poules","2014-2015",null,null,null,null,0,null,0]
["VEREECQUE Bernard","HINGRAND Tony","P",0,2,69,120,"2015-02-07","R1 CD59 T2 GRAVELINES","Poules","2014-2015",null,null,null,null,0,null,0]
["VEREECQUE Bernard","WASYLYSZYN Jean-pierre","G",2,1,147,149,"2015-03-14","R1 CD59 T3 VILLENEUVE D'ASCQ","Poules","2014-2015",null,null,null,null,0,null,0]
["VEREECQUE Bernard","KERKHOF Hervé","P",0,2,68,120,"2015-03-14","R1 CD59 T3 VILLENEUVE D'ASCQ","Poules","2014-2015",null,null,null,null,0,null,0]
["VEREECQUE Bernard","PAILLARD Bertrand","P",0,2,61,120,"2015-03-14","R1 CD59 T3 VILLENEUVE D'ASCQ","1/4 Finale","2014-2015",null,null,null,null,0,null,0]
["VEREECQUE Bernard","HERREBRECHT Erian","P",1,2,168,159,"2015-12-05","T1 CD59 5 QUILLES R1 - VILLENEUVE D'ASCQ","Qualifications","2015-2016",null,null,null,null,0,null,0]
["VEREECQUE Bernard","LUBREZ Pierre","P",0,2,72,120,"2015-12-05","T1 CD59 5 QUILLES R1 - VILLENEUVE D'ASCQ","Qualifications","2015-2016",null,null,null,null,0,null,0]
["VEREECQUE Bernard","HERREBRECHT Emerick","P",0,2,61,120,"2016-01-23","T3 CD59 5 QUILLES R1 - ST POL SUR MER","1/4 Finale","2015-2016",null,null,null,null,0,null,0]
["VEREECQUE Bernard","ST MAXENT Stéphane","G",2,1,167,130,"2016-01-23","T3 CD59 5 QUILLES R1 - ST POL SUR MER","Qualifications","2015-2016",null,null,null,null,0,null,0]
["VEREECQUE Bernard","WASYLYSZYN Jean-pierre","G",2,0,120,93,"2016-01-23","T3 CD59 5 QUILLES R1 - ST POL SUR MER","Qualifications","2015-2016",null,null,null,null,0,null,0]
["VEREECQUE Bernard","WASYLYSZYN Jean-pierre","G",2,1,171,148,"2016-01-09","T2 CD59 5 QUILLES R1 - DUNKERQUE","Qualifications","2015-2016",null,null,null,null,0,null,0]
["VEREECQUE Bernard","PAILLARD Bertrand","P",1,2,157,177,"2016-01-09","T2 CD59 5 QUILLES R1 - DUNKERQUE","Qualifications","2015-2016",null,null,null,null,0,null,0]
["VEREECQUE Bernard","LUBREZ Pierre","G",2,1,153,158,"2016-01-09","T2 CD59 5 QUILLES R1 - DUNKERQUE","1/4 Finale","2015-2016",null,null,null,null,0,null,0]
["VEREECQUE Bernard","SEINGIER Claude","P",1,2,139,165,"2016-01-09","T2 CD59 5 QUILLES R1 - DUNKERQUE","1/2 Finale","2015-2016",null,null,null,null,0,null,0]
["VEREECQUE Bernard","MONFLIER Francis","P",0,2,57,120,"2016-01-14","T1 Qualifications CD59 R1 - DUNKERQUE","1/2 Finale","2015-2016",null,null,null,null,0,null,0]
["VEREECQUE Bernard","PAILLARD Bertrand","G",2,0,120,81,"2016-01-14","T1 Qualifications CD59 R1 - DUNKERQUE","1/4 Finale","2015-2016",null,null,null,null,0,null,0]
["VEREECQUE Bernard","SZWARC Patrick","G",2,0,120,51,"2016-01-14","T1 Qualifications CD59 R1 - DUNKERQUE","Qualifications","2015-2016",null,null,null,null,0,null,0]
["VEREECQUE Bernard","WASYLYSZYN Jean-Pierre","G",2,1,170,131,"2016-01-14","T1 Qualifications CD59 R1 - DUNKERQUE","Qualifications","2015-2016",null,null,null,null,0,null,0]
["VEREECQUE Bernard","BEGHIN Benjamin","G",2,0,120,97,"2017-02-25","T2 Qualifications CD59 R1 - VILLENEUVE D'ASCQ","1/2 Finale","2016-2017",null,null,null,null,0,null,0]
["VEREECQUE Bernard","MONFLIER Francis","P",0,2,69,120,"2017-02-25","T2 Qualifications CD59 R1 - VILLENEUVE D'ASCQ","Finale","2016-2017",null,null,null,null,0,null,0]
["VEREECQUE Bernard","PAILLARD Bertrand","G",2,1,158,121,"2017-02-25","T2 Qualifications CD59 R1 - VILLENEUVE D'ASCQ","Qualifications","2016-2017",null,null,null,null,0,null,0]
["VEREECQUE Bernard","PAILLARD Bertrand","P",1,2,150,170,"2017-02-25","T2 Qualifications CD59 R1 - VILLENEUVE D'ASCQ","Qualifications","2016-2017",null,null,null,null,0,null,0]
["VEREECQUE Bernard","TOP Alexis","P",0,1,59,100,"2017-03-11","T3  CD59 R1 - CONSOLANTE - ST POL SUR MER","1/2 Finale","2016-2017",null,null,null,null,0,null,0]
["VEREECQUE Bernard","ESTERMANS Bernard","P",1,2,124,177,"2017-03-11","T3 Qualifications CD59 R1 - ST POL SUR MER","Qualifications","2016-2017",null,null,null,null,0,null,0]
["VEREECQUE Bernard","NOYER Pascal","P",0,2,94,120,"2017-03-11","T3 Qualifications CD59 R1 - ST POL SUR MER","Qualifications","2016-2017",null,null,null,null,0,null,0]
["VEREECQUE Bernard","ESTERMANS Bernard","P",2,3,243,245,"2017-03-19","FINALE CD59 R1 - ST POL SUR MER","Qualifications","2016-2017",null,null,null,null,0,null,0]
["VEREECQUE Bernard","PAILLARD Bertrand","P",0,3,166,180,"2017-03-19","FINALE CD59 R1 - ST POL SUR MER","Qualifications","2016-2017",null,null,null,null,0,null,0]
["VEREECQUE Bernard","BEGHIN Benjamin","P",0,1,81,100,"2017-09-30","T1 Qualifications R1 CD59 - GRAVELINES","Qualifications","2017-2018",null,null,null,null,0,null,0]
["VEREECQUE Bernard","DEREUDDRE Dominique","G",1,0,100,61,"2017-09-30","T1 Qualifications R1 CD59 - GRAVELINES","Qualifications","2017-2018",null,null,null,null,0,null,0]
["VEREECQUE Bernard","NOYER Pascal","G",1,0,100,54,"2017-09-30","T1 Qualifications R1 CD59 - GRAVELINES","Qualifications","2017-2018",null,null,null,null,0,null,0]
["VEREECQUE Bernard","WASYLYSZYN Jean-Pierre","P",0,1,75,100,"2017-09-30","T1 Qualifications R1 CD59 - GRAVELINES","Qualifications","2017-2018",null,null,null,null,0,null,0]
["VEREECQUE Bernard","MONFLIER Francis","P",1,2,141,163,"2017-09-30","T1 Qualifications R1 CD59 - GRAVELINES","Qualifications","2017-2018",null,null,null,null,0,null,0]
["VEREECQUE Bernard","MONFLIER Francis","P",1,2,125,179,"2017-09-30","T1 Qualifications R1 CD59 - GRAVELINES","Qualifications","2017-2018",null,null,null,null,0,null,0]
["VEREECQUE Bernard","BEGHIN Benjamin","P",0,2,54,120,"2018-01-20","T2 Qualifications R1 CD59 - ST POL SUR MER","Qualifications","2017-2018",null,null,null,null,0,null,0]
["VEREECQUE Bernard","LECROART Serge","P",0,2,61,120,"2018-01-20","T2 Qualifications R1 CD59 - ST POL SUR MER","1/4 Finale","2017-2018",null,null,null,null,0,null,0]
["VEREECQUE Bernard","MANTEN Paul","G",2,1,161,152,"2018-01-20","T2 Qualifications R1 CD59 - ST POL SUR MER","Qualifications","2017-2018",null,null,null,null,0,null,0]
["VEREECQUE Bernard","DEREUDDRE Dominique","P",0,1,78,100,"2018-03-10","T4 Qualifications R1 CD59 - CONSOLANTE - VILLENEUVE D'ASCQ","Qualifications","2017-2018",null,null,null,null,0,null,0]
["VEREECQUE Bernard","DEREUDDRE Dominique","P",0,0,0,0,"2018-03-10","T4 Qualifications R1 CD59 - CONSOLANTE - VILLENEUVE D'ASCQ","1/2 Finale","2017-2018",null,null,null,null,0,null,0]
["VEREECQUE Bernard","DUTAILLY Michel","G",1,0,100,73,"2018-03-10","T4 Qualifications R1 CD59 - CONSOLANTE - VILLENEUVE D'ASCQ","Qualifications","2017-2018",null,null,null,null,0,null,0]
["VEREECQUE Bernard","NOYER Pascal","P",0,1,83,100,"2018-03-10","T4 Qualifications R1 CD59 - CONSOLANTE - VILLENEUVE D'ASCQ","Qualifications","2017-2018",null,null,null,null,0,null,0]
["VEREECQUE Bernard","PARISIS Francis","G",1,0,100,66,"2018-03-10","T4 Qualifications R1 CD59 - CONSOLANTE - VILLENEUVE D'ASCQ","Qualifications","2017-2018",null,null,null,null,0,null,0]
["VEREECQUE Bernard","MANTEN Paul","P",0,2,94,120,"2018-03-10","T4 Qualifications R1 CD59 - VILLENEUVE D'ASCQ","Qualifications","2017-2018",null,null,null,null,0,null,0]
["VEREECQUE Bernard","PARISIS Francis","G",2,1,166,100,"2018-03-10","T4 Qualifications R1 CD59 - VILLENEUVE D'ASCQ","Qualifications","2017-2018",null,null,null,null,0,null,0]
["VEREECQUE Bernard","NOYER Pascal","G",2,0,120,76,"2018-10-20","T1 5Q R2 CD59 - ST POL SUR MER","Finale","2018-2019",null,null,null,null,0,null,0]
["VEREECQUE Bernard","SZWARC Patrick","G",2,0,120,108,"2018-10-20","T1 5Q R2 CD59 - ST POL SUR MER","1/2 Finale","2018-2019",null,null,null,null,0,null,0]
["VEREECQUE Bernard","DEREUDDRE Dominique","P",1,2,138,160,"2018-11-24","T2 5Q R2 CD59 - GRAVELINES","Qualifications","2018-2019",null,null,null,null,0,null,0]
["VEREECQUE Bernard","NOYER Pascal","P",0,2,74,120,"2018-11-24","T2 5Q R2 CD59 - GRAVELINES","1/2 Finale","2018-2019",null,null,null,null,0,null,0]
["VEREECQUE Bernard","SZWARC Johann","G",2,0,120,61,"2018-11-24","T2 5Q R2 CD59 - GRAVELINES","Qualifications","2018-2019",null,null,null,null,0,null,0]
["VEREECQUE Bernard","BEGUIN Jean-Luc","G",2,0,120,67,"2019-01-19","T4 5Q R2 CD59 - ST POL SUR MER","Qualifications","2018-2019",null,null,null,null,0,null,0]
["VEREECQUE Bernard","DEREUDDRE Dominique","P",0,2,54,120,"2019-01-19","T4 5Q R2 CD59 - ST POL SUR MER","Qualifications","2018-2019",null,null,null,null,0,null,0]
["VEREECQUE Bernard","DUTAILLY Michel","G",2,1,178,139,"2019-01-19","T4 5Q R2 CD59 - ST POL SUR MER","Qualifications","2018-2019",null,null,null,null,0,null,0]
["VEREECQUE Bernard","CAUX Frédéric","P",0,2,74,120,"2019-10-26","T1 5Q R1 CD59 - VILLENEUVE D'ASCQ","Qualifications","2019-2020",null,null,null,null,{"$f":"IF($K144=P$1,COUNTIF($C144,\"G\"),0)","v":0},null,{"$f":"IF($K144=R$1,COUNTIF($C144,\"G\"),0)","v":0}]
["VEREECQUE Bernard","DEREUDDRE Dominique","P",1,2,109,179,"2019-10-26","T1 5Q R1 CD59 - VILLENEUVE D'ASCQ","1/2 Finale","2019-2020",null,null,null,null,0,null,0]
["VEREECQUE Bernard","HOCHART James","G",2,1,153,136,"2019-10-26","T1 5Q R1 CD59 - VILLENEUVE D'ASCQ","1/4 Finale","2019-2020",null,null,null,null,0,null,0]
["VEREECQUE Bernard","NOYER Pascal","G",2,1,173,166,"2019-10-26","T1 5Q R1 CD59 - VILLENEUVE D'ASCQ","Qualifications","2019-2020",null,null,null,null,0,null,0]
["VEREECQUE Bernard","BEGHIN Nicolas","P",0,1,53,100,"2019-11-24","T2 5Q R1 CD59  - GRAVELINES - CONSOLANTE","Qualifications","2019-2020",null,null,null,null,0,null,0]
["VEREECQUE Bernard","DUTAILLY Michel","P",0,1,66,100,"2019-11-24","T2 5Q R1 CD59  - GRAVELINES - CONSOLANTE","Qualifications","2019-2020",null,null,null,null,0,null,0]
["VEREECQUE Bernard","HOCHART James","G",1,0,100,55,"2019-11-24","T2 5Q R1 CD59  - GRAVELINES - CONSOLANTE","Qualifications","2019-2020",null,null,null,null,0,null,0]
["VEREECQUE Bernard","SZWARC Johann","P",1,2,160,145,"2019-11-24","T2 5Q R1 CD59 - GRAVELINES ","Qualifications","2019-2020",null,null,null,null,0,null,0]
["VEREECQUE Bernard","SZWARC Patrick","P",0,2,31,120,"2019-11-24","T2 5Q R1 CD59 - GRAVELINES ","Qualifications","2019-2020",null,null,null,null,0,null,0]
["VEREECQUE Bernard","DUTAILLY Michel","P",0,1,93,100,"2020-01-04","T3 5Q R1 CD59 - GRAVELINES - CONSOLANTE -","Qualifications","2019-2020",null,null,null,null,0,null,0]
["VEREECQUE Bernard","LECROART Serge","P",0,1,54,100,"2020-01-04","T3 5Q R1 CD59 - GRAVELINES - CONSOLANTE -","Qualifications","2019-2020",null,null,null,null,0,null,0]
["VEREECQUE Bernard","SZWARC Patrick","P",0,1,69,100,"2020-01-04","T3 5Q R1 CD59 - GRAVELINES - CONSOLANTE -","Qualifications","2019-2020",null,null,null,null,0,null,0]
["VEREECQUE Bernard","VEREECQUE Esteban","P",0,1,71,100,"2020-01-04","T3 5Q R1 CD59 - GRAVELINES - CONSOLANTE -","Qualifications","2019-2020",null,null,null,null,0,null,0]
["VEREECQUE Bernard","BEGHIN Nicolas","P",0,2,35,120,"2020-01-04","T3 5Q R1 CD59 - GRAVELINES - Convocation 8h30 -","Qualifications","2019-2020",null,null,null,null,0,null,0]
["VEREECQUE Bernard","MANTEN Paul","P",0,2,82,120,"2020-01-04","T3 5Q R1 CD59 - GRAVELINES - Convocation 8h30 -","Qualifications","2019-2020",null,null,null,null,0,null,0]
["VEREECQUE Bernard","DEREUDDRE Dominique","G",2,1,148,170,"2020-02-22","T4 5Q R1 CD59 - ANNOEULLIN","Qualifications","2019-2020",null,null,null,null,0,null,0]
["VEREECQUE Bernard","DEREUDDRE Dominique","G",2,0,120,59,"2020-02-22","T4 5Q R1 CD59 - ANNOEULLIN","Qualifications","2019-2020",null,null,null,null,0,null,0]
["VEREECQUE Bernard","LORTHIOIR Jean-Luc","P",1,2,158,143,"2020-02-22","T4 5Q R1 CD59 - ANNOEULLIN","1/4 Finale","2019-2020",null,null,null,null,0,null,0]
["Fin des données",null,null,null,null,null,null,null,null,null,"",null,null,null,null,{"$f":"IF($K162=P$1,COUNTIF($C162,\"G\"),0)","v":0},null,{"$f":"IF($K162=R$1,COUNTIF($C162,\"G\"),0)","v":0}]

{"sheet":"VEREECQUE Esteban","index":153,"n_rows":32,"n_cols":22,"rows_kept":32,"cut":false,"hidden":false,"merged":[]}
["VEREECQUE Esteban",null,null,null,null,null,null,null,null,null,null,null,null,null,null,{"$f":"SaisonDeb","v":"2021-2022"},null,{"$f":"SaisonFin","v":"2022-2023"},null,"Toutes saisons"]
[{"$error":"#N/A"},null,null,null,null,null,null,null,null,null,null,null,null,null,null,"Nombre","%age","Nombre","%age","Nombre","%age"]
[{"$error":"#N/A"},null,null,null,null,null,null,null,null,null,null,null,null,"Matchs","Gagnés",{"$f":"SUM(P$15:P$128)","v":0},{"$f":"IF(P$3+P$4>0,P3/(P$3+P$4),\"\")","v":""},{"$f":"SUM(R$15:R$128)","v":0},{"$f":"IF(R$3+R$4>0,R3/(R$3+R$4),\"\")","v":""},{"$f":"COUNTIF($C$15:$C$128,\"G\")","v":4},{"$f":"IF(T$3+T$4>0,T3/(T$3+T$4),\"\")","v":0.25}]
[{"$error":"#N/A"},null,null,null,null,null,null,null,null,null,null,null,null,null,"Perdus",{"$f":"COUNTIF($K$15:$M$128,SaisonDeb)-P3","v":0},{"$f":"IF(P$3+P$4>0,P4/(P$3+P$4),\"\")","v":""},{"$f":"COUNTIF($K$15:$K$128,SaisonFin)-R3","v":0},{"$f":"IF(R$3+R$4>0,R4/(R$3+R$4),\"\")","v":""},{"$f":"COUNTIF($C$15:$C$128,\"P\")","v":12},{"$f":"IF(T$3+T$4>0,T4/(T$3+T$4),\"\")","v":0.75}]
[{"$error":"#N/A"},null,null,null,null,null,null,null,null,null,null,null,null,null,"Total / Moy.",{"$f":"SUM(P3:P4)","v":0},{"$f":"IF(SUMIF($K$15:$K$128,SaisonDeb,$G$15:$G$128)>0,SUMIF($K$15:$K$128,SaisonDeb,$F$15:$F$128)/SUMIF($K$15:$K$128,SaisonDeb,$G$15:$G$128),\"\")","v":""},{"$f":"SUM(R3:R4)","v":0},{"$f":"IF(SUMIF($K$15:$K$128,SaisonFin,$G$15:$G$128)>0,SUMIF($K$15:$K$128,SaisonFin,$F$15:$F$128)/SUMIF($K$15:$K$128,SaisonFin,$G$15:$G$128),\"\")","v":""},{"$f":"SUM(T3:T4)","v":16},{"$f":"IF(SUM($G$15:$G$128)>0,SUM($F$15:$F$128)/SUM($G$15:$G$128),\"\")","v":0.70466321243523311},{"$f":"IF(SUMIF($K$15:$K$32,SaisonDeb,$G$15:$G$32)+SUMIF($K$15:$K$32,SaisonFin,$G$15:$G$32)>0,(SUMIF($K$15:$K$32,SaisonDeb,$F$15:$F$32)+SUMIF($K$15:$K$32,SaisonFin,$F$15:$F$32))/(SUMIF($K$15:$K$32,SaisonDeb,$G$15:$G$32)+SUMIF($K$15:$K$32,SaisonFin,$G$15:$G$32)),\"\")","v":""}]
[null,null,null,null,null,null,null,null,null,null,null,null,null,"Sets","Gagnés",{"$f":"SUMIF($K$15:$K$128,SaisonDeb,$D$15:$D$128)","v":0},{"$f":"IF(P$6+P$7>0,P6/(P$6+P$7),\"\")","v":""},{"$f":"SUMIF($K$15:$K$128,SaisonFin,$D$15:$D$128)","v":0},{"$f":"IF(R$6+R$7>0,R6/(R$6+R$7),\"\")","v":""},{"$f":"SUM($D$15:$D$128)","v":5},{"$f":"IF(T$6+T$7>0,T6/(T$6+T$7),\"\")","v":0.21739130434782608}]
[null,null,null,null,null,null,null,null,null,null,null,null,null,null,"Perdus",{"$f":"SUMIF($K$15:$K$128,SaisonDeb,$E$15:$E$128)","v":0},{"$f":"IF(P$6+P$7>0,P7/(P$6+P$7),\"\")","v":""},{"$f":"SUMIF($K$15:$K$128,SaisonFin,$E$15:$E$128)","v":0},{"$f":"IF(R$6+R$7>0,R7/(R$6+R$7),\"\")","v":""},{"$f":"SUM($E$15:$E$128)","v":18},{"$f":"IF(T$6+T$7>0,T7/(T$6+T$7),\"\")","v":0.78260869565217395}]
["Récapitulatif joueurs",null,null,null,null,null,null,null,null,null,null,null,null,null,"Total",{"$f":"SUM(P6:P7)","v":0},null,{"$f":"SUM(R6:R7)","v":0},null,{"$f":"SUM(T6:T7)","v":23}]
[]
[]
[]
[]
[]
[]
["Joueur","Adversaire","G/P","Sets gagnés","Sets perdus","pts marqués","pts subis","Date","Compétition","Phase","Saison"]
["VEREECQUE Esteban","DEREUDDRE Dominique","P",0,1,36,100,"2019-11-24","T2 5Q R1 CD59  - GRAVELINES - CONSOLANTE","Qualifications",{"$f":"IF(H16<>\"\",IF(MONTH(H16)>MoisRef,YEAR(H16)&\"-\"&YEAR(H16)+1,YEAR(H16)-1&\"-\"&YEAR(H16)),\"\")","v":"2019-2020"},null,null,null,null,{"$f":"IF($K16=P$1,COUNTIF($C16,\"G\"),0)","v":0},null,{"$f":"IF($K16=R$1,COUNTIF($C16,\"G\"),0)","v":0}]
["VEREECQUE Esteban","NOYER Pascal","P",0,1,77,100,"2019-11-24","T2 5Q R1 CD59  - GRAVELINES - CONSOLANTE","Qualifications","2019-2020",null,null,null,null,0,null,0]
["VEREECQUE Esteban","SZWARC Johann","G",1,0,100,96,"2019-11-24","T2 5Q R1 CD59  - GRAVELINES - CONSOLANTE","Qualifications","2019-2020",null,null,null,null,0,null,0]
["VEREECQUE Esteban","WASYLYSZYN Jean-Pierre","G",1,0,100,99,"2019-11-24","T2 5Q R1 CD59  - GRAVELINES - CONSOLANTE","Qualifications","2019-2020",null,null,null,null,0,null,0]
["VEREECQUE Esteban","BEGUIN Jean-Luc","P",0,2,87,120,"2019-11-24","T2 5Q R1 CD59 - GRAVELINES ","Qualifications","2019-2020",null,null,null,null,0,null,0]
["VEREECQUE Esteban","HOCHART James","P",0,2,59,120,"2019-11-24","T2 5Q R1 CD59 - GRAVELINES ","Qualifications","2019-2020",null,null,null,null,0,null,0]
["VEREECQUE Esteban","DUTAILLY Michel","P",0,1,72,100,"2020-01-04","T3 5Q R1 CD59 - GRAVELINES - CONSOLANTE -","Qualifications","2019-2020",null,null,null,null,0,null,0]
["VEREECQUE Esteban","LECROART Serge","P",0,1,68,100,"2020-01-04","T3 5Q R1 CD59 - GRAVELINES - CONSOLANTE -","Qualifications","2019-2020",null,null,null,null,0,null,0]
["VEREECQUE Esteban","SZWARC Patrick","P",0,1,62,100,"2020-01-04","T3 5Q R1 CD59 - GRAVELINES - CONSOLANTE -","Qualifications","2019-2020",null,null,null,null,0,null,0]
["VEREECQUE Esteban","VEREECQUE Bernard","G",1,0,100,71,"2020-01-04","T3 5Q R1 CD59 - GRAVELINES - CONSOLANTE -","Qualifications","2019-2020",null,null,null,null,0,null,0]
["VEREECQUE Esteban","MONFLIER Francis","P",0,2,67,120,"2020-01-04","T3 5Q R1 CD59 - GRAVELINES - Convocation 8h30 -","Qualifications","2019-2020",null,null,null,null,0,null,0]
["VEREECQUE Esteban","NOYER Pascal","P",0,2,44,120,"2020-01-04","T3 5Q R1 CD59 - GRAVELINES - Convocation 8h30 -","Qualifications","2019-2020",null,null,null,null,0,null,0]
["VEREECQUE Esteban","LECROART Serge","G",1,0,100,98,"2020-02-22","T4 5Q R1 CD59 - ANNOEULLIN - CONSOLANTE","Qualifications","2019-2020",null,null,null,null,0,null,0]
["VEREECQUE Esteban","NOYER Pascal","P",0,1,38,100,"2020-02-22","T4 5Q R1 CD59 - ANNOEULLIN - CONSOLANTE","Qualifications","2019-2020",null,null,null,null,0,null,0]
["VEREECQUE Esteban","HORNAIN Denis","P",0,2,58,120,"2020-02-22","T4 5Q R1 CD59 - ANNOEULLIN","Qualifications","2019-2020",null,null,null,null,0,null,0]
["VEREECQUE Esteban","MANTEN Paul","P",1,2,156,173,"2020-02-22","T4 5Q R1 CD59 - ANNOEULLIN","Qualifications","2019-2020",null,null,null,null,0,null,0]
["Fin des données",null,null,null,null,null,null,null,null,null,"",null,null,null,null,{"$f":"IF($K32=P$1,COUNTIF($C32,\"G\"),0)","v":0},null,{"$f":"IF($K32=R$1,COUNTIF($C32,\"G\"),0)","v":0}]

{"sheet":"WALGRAEF Pascal","index":154,"n_rows":21,"n_cols":22,"rows_kept":21,"cut":false,"hidden":false,"merged":[]}
["WALGRAEF Pascal",null,null,null,null,null,null,null,null,null,null,null,null,null,null,{"$f":"SaisonDeb","v":"2021-2022"},null,{"$f":"SaisonFin","v":"2022-2023"},null,"Toutes saisons"]
[{"$error":"#N/A"},null,null,null,null,null,null,null,null,null,null,null,null,null,null,"Nombre","%age","Nombre","%age","Nombre","%age"]
[{"$error":"#N/A"},null,null,null,null,null,null,null,null,null,null,null,null,"Matchs","Gagnés",{"$f":"SUM(P$15:P$117)","v":3},{"$f":"IF(P$3+P$4>0,P3/(P$3+P$4),\"\")","v":0.6},{"$f":"SUM(R$15:R$117)","v":0},{"$f":"IF(R$3+R$4>0,R3/(R$3+R$4),\"\")","v":""},{"$f":"COUNTIF($C$15:$C$117,\"G\")","v":3},{"$f":"IF(T$3+T$4>0,T3/(T$3+T$4),\"\")","v":0.6}]
[{"$error":"#N/A"},null,null,null,null,null,null,null,null,null,null,null,null,null,"Perdus",{"$f":"COUNTIF($K$15:$M$117,SaisonDeb)-P3","v":2},{"$f":"IF(P$3+P$4>0,P4/(P$3+P$4),\"\")","v":0.4},{"$f":"COUNTIF($K$15:$K$117,SaisonFin)-R3","v":0},{"$f":"IF(R$3+R$4>0,R4/(R$3+R$4),\"\")","v":""},{"$f":"COUNTIF($C$15:$C$117,\"P\")","v":2},{"$f":"IF(T$3+T$4>0,T4/(T$3+T$4),\"\")","v":0.4}]
[{"$error":"#N/A"},null,null,null,null,null,null,null,null,null,null,null,null,null,"Total / Moy.",{"$f":"SUM(P3:P4)","v":5},{"$f":"IF(SUMIF($K$15:$K$117,SaisonDeb,$G$15:$G$117)>0,SUMIF($K$15:$K$117,SaisonDeb,$F$15:$F$117)/SUMIF($K$15:$K$117,SaisonDeb,$G$15:$G$117),\"\")","v":0.96659242761692654},{"$f":"SUM(R3:R4)","v":0},{"$f":"IF(SUMIF($K$15:$K$117,SaisonFin,$G$15:$G$117)>0,SUMIF($K$15:$K$117,SaisonFin,$F$15:$F$117)/SUMIF($K$15:$K$117,SaisonFin,$G$15:$G$117),\"\")","v":""},{"$f":"SUM(T3:T4)","v":5},{"$f":"IF(SUM($G$15:$G$117)>0,SUM($F$15:$F$117)/SUM($G$15:$G$117),\"\")","v":0.96659242761692654},{"$f":"IF(SUMIF($K$15:$K$21,SaisonDeb,$G$15:$G$21)+SUMIF($K$15:$K$21,SaisonFin,$G$15:$G$21)>0,(SUMIF($K$15:$K$21,SaisonDeb,$F$15:$F$21)+SUMIF($K$15:$K$21,SaisonFin,$F$15:$F$21))/(SUMIF($K$15:$K$21,SaisonDeb,$G$15:$G$21)+SUMIF($K$15:$K$21,SaisonFin,$G$15:$G$21)),\"\")","v":0.96659242761692654}]
[null,null,null,null,null,null,null,null,null,null,null,null,null,"Sets","Gagnés",{"$f":"SUMIF($K$15:$K$117,SaisonDeb,$D$15:$D$117)","v":3},{"$f":"IF(P$6+P$7>0,P6/(P$6+P$7),\"\")","v":0.6},{"$f":"SUMIF($K$15:$K$117,SaisonFin,$D$15:$D$117)","v":0},{"$f":"IF(R$6+R$7>0,R6/(R$6+R$7),\"\")","v":""},{"$f":"SUM($D$15:$D$117)","v":3},{"$f":"IF(T$6+T$7>0,T6/(T$6+T$7),\"\")","v":0.6}]
[null,null,null,null,null,null,null,null,null,null,null,null,null,null,"Perdus",{"$f":"SUMIF($K$15:$K$117,SaisonDeb,$E$15:$E$117)","v":2},{"$f":"IF(P$6+P$7>0,P7/(P$6+P$7),\"\")","v":0.4},{"$f":"SUMIF($K$15:$K$117,SaisonFin,$E$15:$E$117)","v":0},{"$f":"IF(R$6+R$7>0,R7/(R$6+R$7),\"\")","v":""},{"$f":"SUM($E$15:$E$117)","v":2},{"$f":"IF(T$6+T$7>0,T7/(T$6+T$7),\"\")","v":0.4}]
["Récapitulatif joueurs",null,null,null,null,null,null,null,null,null,null,null,null,null,"Total",{"$f":"SUM(P6:P7)","v":5},null,{"$f":"SUM(R6:R7)","v":0},null,{"$f":"SUM(T6:T7)","v":5}]
[]
[]
[]
[]
[]
[]
["Joueur","Adversaire","G/P","Sets gagnés","Sets perdus","pts marqués","pts subis","Date","Compétition","Phase","Saison"]
["WALGRAEF Pascal","BLONDEL Jean","G",1,0,100,72,"2022-04-02","T4 5Q R1 - ANNOEULLIN - CONSOLANTE","Qualifications",{"$f":"IF(H16<>\"\",IF(MONTH(H16)>MoisRef,YEAR(H16)&\"-\"&YEAR(H16)+1,YEAR(H16)-1&\"-\"&YEAR(H16)),\"\")","v":"2021-2022"},null,null,null,null,{"$f":"IF($K16=P$1,COUNTIF($C16,\"G\"),0)","v":1},null,{"$f":"IF($K16=R$1,COUNTIF($C16,\"G\"),0)","v":0}]
["WALGRAEF Pascal","MACAREZ Guy","G",1,0,100,84,"2022-04-02","T4 5Q R1 - ANNOEULLIN - CONSOLANTE","Qualifications","2021-2022",null,null,null,null,1,null,0]
["WALGRAEF Pascal","NOYER Pascal","P",0,1,53,100,"2022-04-02","T4 5Q R1 - ANNOEULLIN - CONSOLANTE","Qualifications","2021-2022",null,null,null,null,0,null,0]
["WALGRAEF Pascal","DUC Stéphane","G",1,0,100,93,"2022-04-02","T4 5Q R1 - ANNOEULLIN","Qualifications","2021-2022",null,null,null,null,1,null,0]
["WALGRAEF Pascal","HOCHART James","P",0,1,81,100,"2022-04-02","T4 5Q R1 - ANNOEULLIN","Qualifications","2021-2022",null,null,null,null,0,null,0]
["Fin des données",null,null,null,null,null,null,null,null,null,"",null,null,null,null,0,null,0]

{"sheet":"WASYLYSZYN Jean-Pierre","index":155,"n_rows":65,"n_cols":22,"rows_kept":65,"cut":false,"hidden":false,"merged":[]}
["WASYLYSZYN Jean-Pierre",null,null,null,null,null,null,null,null,null,null,null,null,null,null,{"$f":"SaisonDeb","v":"2021-2022"},null,{"$f":"SaisonFin","v":"2022-2023"},null,"Toutes saisons"]
[{"$error":"#N/A"},null,null,null,null,null,null,null,null,null,null,null,null,null,null,"Nombre","%age","Nombre","%age","Nombre","%age"]
[{"$error":"#N/A"},null,null,null,null,null,null,null,null,null,null,null,null,"Matchs","Gagnés",{"$f":"SUM(P$15:P$65)","v":0},{"$f":"IF(P$3+P$4>0,P3/(P$3+P$4),\"\")","v":""},{"$f":"SUM(R$15:R$65)","v":0},{"$f":"IF(R$3+R$4>0,R3/(R$3+R$4),\"\")","v":""},{"$f":"COUNTIF($C$15:$C$65,\"G\")","v":8},{"$f":"IF(T$3+T$4>0,T3/(T$3+T$4),\"\")","v":0.16326530612244897}]
[{"$error":"#N/A"},null,null,null,null,null,null,null,null,null,null,null,null,null,"Perdus",{"$f":"COUNTIF($K$15:$K$65,SaisonDeb)-P3","v":0},{"$f":"IF(P$3+P$4>0,P4/(P$3+P$4),\"\")","v":""},{"$f":"COUNTIF($K$15:$K$65,SaisonFin)-R3","v":0},{"$f":"IF(R$3+R$4>0,R4/(R$3+R$4),\"\")","v":""},{"$f":"COUNTIF($C$15:$C$65,\"P\")","v":41},{"$f":"IF(T$3+T$4>0,T4/(T$3+T$4),\"\")","v":0.83673469387755106}]
[{"$error":"#N/A"},null,null,null,null,null,null,null,null,null,null,null,null,null,"Total / Moy.",{"$f":"SUM(P3:P4)","v":0},{"$f":"IF(SUMIF($K$15:$K$65,SaisonDeb,$G$15:$G$65)>0,SUMIF($K$15:$K$65,SaisonDeb,$F$15:$F$65)/SUMIF($K$15:$K$65,SaisonDeb,$G$15:$G$65),\"\")","v":""},{"$f":"SUM(R3:R4)","v":0},{"$f":"IF(SUMIF($K$15:$K$65,SaisonFin,$G$15:$G$65)>0,SUMIF($K$15:$K$65,SaisonFin,$F$15:$F$65)/SUMIF($K$15:$K$65,SaisonFin,$G$15:$G$65),\"\")","v":""},{"$f":"SUM(T3:T4)","v":49},{"$f":"IF(SUM($G$15:$G$65)>0,SUM($F$15:$F$65)/SUM($G$15:$G$65),\"\")","v":0.73453919035314386},{"$f":"IF(SUMIF($K$15:$K$65,SaisonDeb,$G$15:$G$65)+SUMIF($K$15:$K$65,SaisonFin,$G$15:$G$65)>0,(SUMIF($K$15:$K$65,SaisonDeb,$F$15:$F$65)+SUMIF($K$15:$K$65,SaisonFin,$F$15:$F$65))/(SUMIF($K$15:$K$65,SaisonDeb,$G$15:$G$65)+SUMIF($K$15:$K$65,SaisonFin,$G$15:$G$65)),\"\")","v":""}]
[null,null,null,null,null,null,null,null,null,null,null,null,null,"Sets","Gagnés",{"$f":"SUMIF($K$15:$K$65,SaisonDeb,$D$15:$D$65)","v":0},{"$f":"IF(P$6+P$7>0,P6/(P$6+P$7),\"\")","v":""},{"$f":"SUMIF($K$15:$K$65,SaisonFin,$D$15:$D$65)","v":0},{"$f":"IF(R$6+R$7>0,R6/(R$6+R$7),\"\")","v":""},{"$f":"SUM($D$15:$D$65)","v":19},{"$f":"IF(T$6+T$7>0,T6/(T$6+T$7),\"\")","v":0.21348314606741572}]
[null,null,null,null,null,null,null,null,null,null,null,null,null,null,"Perdus",{"$f":"SUMIF($K$15:$K$65,SaisonDeb,$E$15:$E$65)","v":0},{"$f":"IF(P$6+P$7>0,P7/(P$6+P$7),\"\")","v":""},{"$f":"SUMIF($K$15:$K$65,SaisonFin,$E$15:$E$65)","v":0},{"$f":"IF(R$6+R$7>0,R7/(R$6+R$7),\"\")","v":""},{"$f":"SUM($E$15:$E$65)","v":70},{"$f":"IF(T$6+T$7>0,T7/(T$6+T$7),\"\")","v":0.7865168539325843}]
["Récapitulatif joueurs",null,null,null,null,null,null,null,null,null,null,null,null,null,"Total",{"$f":"SUM(P6:P7)","v":0},null,{"$f":"SUM(R6:R7)","v":0},null,{"$f":"SUM(T6:T7)","v":89}]
[]
[]
[]
[]
[]
[]
["Joueur","Adversaire","G/P","Sets gagnés","Sets perdus","pts marqués","pts subis","Date","Compétition","Phase","Saison"]
["WASYLYSZYN Jean-Pierre","FLEURANT Alexandre","P",0,1,82,100,"2011-10-15","R1 CD59 T1 ST POL sur MER","Poules Consolante",{"$f":"IF(H16<>\"\",IF(MONTH(H16)>MoisRef,YEAR(H16)&\"-\"&YEAR(H16)+1,YEAR(H16)-1&\"-\"&YEAR(H16)),\"\")","v":"2011-2012"},null,null,null,null,{"$f":"IF($K16=P$1,COUNTIF($C16,\"G\"),0)","v":0},null,{"$f":"IF($K16=R$1,COUNTIF($C16,\"G\"),0)","v":0}]
["WASYLYSZYN Jean-Pierre","BARNO Cassandre","P",0,2,68,120,"2011-10-15","R1 CD59 T1 ST POL sur MER","Poules","2011-2012",null,null,null,null,0,null,0]
["WASYLYSZYN Jean-Pierre","MARONNIER Jean-Luc","P",0,2,64,120,"2011-10-15","R1 CD59 T1 ST POL sur MER","Poules","2011-2012",null,null,null,null,0,null,0]
["WASYLYSZYN Jean-Pierre","LECLERCQ Alain","P",1,2,100,166,"2012-10-27","R1 CD59 T2 GRAVELINES","Poules","2012-2013",null,null,null,null,0,null,0]
["WASYLYSZYN Jean-Pierre","LUBREZ Pierre","P",0,2,57,120,"2012-10-27","R1 CD59 T2 GRAVELINES","Poules","2012-2013",null,null,null,null,0,null,0]
["WASYLYSZYN Jean-Pierre","PARISIS Francis","G",1,0,100,97,"2012-10-27","R1 CD59 T2 GRAVELINES","Poules Consolante","2012-2013",null,null,null,null,0,null,0]
["WASYLYSZYN Jean-Pierre","SAINT MAXENT Stephane","G",1,0,100,85,"2012-10-27","R1 CD59 T2 GRAVELINES","Poules Consolante","2012-2013",null,null,null,null,0,null,0]
["WASYLYSZYN Jean-Pierre","SAINT MAXENT Stephane","G",1,0,100,74,"2012-10-27","R1 CD59 T2 GRAVELINES","Finale consolante","2012-2013",null,null,null,null,0,null,0]
["WASYLYSZYN Jean-pierre","PARISIS Francis","G",1,0,100,81,"2015-01-17","R1 CD59 T1 ST POL SUR MER","1/2 Finale Consolante","2014-2015",null,null,null,null,0,null,0]
["WASYLYSZYN Jean-pierre","VEREECQUE Bernard","G",1,0,100,73,"2015-01-17","R1 CD59 T1 ST POL SUR MER","Finale Consolante","2014-2015",null,null,null,null,0,null,0]
["WASYLYSZYN Jean-pierre","KERKHOF Hervé","P",0,2,104,120,"2015-01-17","R1 CD59 T1 ST POL sur MER","Poules","2014-2015",null,null,null,null,0,null,0]
["WASYLYSZYN Jean-pierre","ST MAXENT Stéphane","P",1,2,148,162,"2015-01-17","R1 CD59 T1 ST POL sur MER","Poules","2014-2015",null,null,null,null,0,null,0]
["WASYLYSZYN Jean-pierre","VERPOORT José","P",0,1,73,100,"2015-02-07","R1 CD59 T2 GRAVELINES","Poules Consolante","2014-2015",null,null,null,null,0,null,0]
["WASYLYSZYN Jean-pierre","HERREBRECHT Erian","G",1,0,100,68,"2015-02-07","R1 CD59 T2 GRAVELINES","Poules Consolante","2014-2015",null,null,null,null,0,null,0]
["WASYLYSZYN Jean-pierre","PARISIS Francis","P",0,2,95,120,"2015-02-07","R1 CD59 T2 GRAVELINES","Poules","2014-2015",null,null,null,null,0,null,0]
["WASYLYSZYN Jean-pierre","KERKHOF Hervé","P",0,2,43,120,"2015-02-07","R1 CD59 T2 GRAVELINES","Poules","2014-2015",null,null,null,null,0,null,0]
["WASYLYSZYN Jean-pierre","VEREECQUE Bernard","P",1,2,149,147,"2015-03-14","R1 CD59 T3 VILLENEUVE D'ASCQ","Poules","2014-2015",null,null,null,null,0,null,0]
["WASYLYSZYN Jean-pierre","KERKHOF Hervé","P",0,2,58,120,"2015-03-14","R1 CD59 T3 VILLENEUVE D'ASCQ","Poules","2014-2015",null,null,null,null,0,null,0]
["WASYLYSZYN Jean-pierre","KERKHOF Hervé","P",0,2,67,120,"2015-03-14","R1 CD59 T3 VILLENEUVE D'ASCQ","1/4 Finale","2014-2015",null,null,null,null,0,null,0]
["WASYLYSZYN Jean-pierre","HERREBRECHT Emerick","P",0,2,47,120,"2015-12-05","T1 CD59 5 QUILLES R1 - VILLENEUVE D'ASCQ","Qualifications","2015-2016",null,null,null,null,0,null,0]
["WASYLYSZYN Jean-pierre","ESTERMANS Bernard","P",0,2,53,120,"2015-12-05","T1 CD59 5 QUILLES R1 - VILLENEUVE D'ASCQ","Qualifications","2015-2016",null,null,null,null,0,null,0]
["WASYLYSZYN Jean-pierre","MONFLIER Francis","P",0,1,91,100,"2016-01-23","CONSOLANTE T3 R1 CD59 - ST POL SUR MER","Qualifications","2015-2016",null,null,null,null,0,null,0]
["WASYLYSZYN Jean-pierre","ST MAXENT Stéphane","P",1,2,112,156,"2016-01-23","T3 CD59 5 QUILLES R1 - ST POL SUR MER","Qualifications","2015-2016",null,null,null,null,0,null,0]
["WASYLYSZYN Jean-pierre","VEREECQUE Bernard","P",0,2,93,120,"2016-01-23","T3 CD59 5 QUILLES R1 - ST POL SUR MER","Qualifications","2015-2016",null,null,null,null,0,null,0]
["WASYLYSZYN Jean-pierre","ESTERMANS Bernard","P",0,1,50,100,"2016-01-09","CONSOLANTE T2 CD59 5 QUILLES R1 - DUNKERQUE","Qualifications","2015-2016",null,null,null,null,0,null,0]
["WASYLYSZYN Jean-pierre","HERREBRECHT Emerick","P",0,1,89,100,"2016-01-09","CONSOLANTE T2 CD59 5 QUILLES R1 - DUNKERQUE","Qualifications","2015-2016",null,null,null,null,0,null,0]
["WASYLYSZYN Jean-pierre","VEREECQUE Bernard","P",1,2,148,171,"2016-01-09","T2 CD59 5 QUILLES R1 - DUNKERQUE","Qualifications","2015-2016",null,null,null,null,0,null,0]
["WASYLYSZYN Jean-pierre","PAILLARD Bertrand","P",0,2,76,120,"2016-01-09","T2 CD59 5 QUILLES R1 - DUNKERQUE","Qualifications","2015-2016",null,null,null,null,0,null,0]
["WASYLYSZYN Jean-Pierre","SZWARC Patrick","P",0,1,41,100,"2016-01-14","T1 Qualifications CD59 R1 - CONSOLANTE - DUNKERQUE","Qualifications","2015-2016",null,null,null,null,0,null,0]
["WASYLYSZYN Jean-Pierre","SZWARC Patrick","P",1,2,158,154,"2016-01-14","T1 Qualifications CD59 R1 - DUNKERQUE","Qualifications","2015-2016",null,null,null,null,0,null,0]
["WASYLYSZYN Jean-Pierre","VEREECQUE Bernard","P",1,2,131,170,"2016-01-14","T1 Qualifications CD59 R1 - DUNKERQUE","Qualifications","2015-2016",null,null,null,null,0,null,0]
["WASYLYSZYN Jean-Pierre","BEGHIN Benjamin","P",0,1,52,100,"2017-09-30","T1 Qualifications R1 CD59 - GRAVELINES","Qualifications","2017-2018",null,null,null,null,0,null,0]
["WASYLYSZYN Jean-Pierre","DEREUDDRE Dominique","G",1,0,100,90,"2017-09-30","T1 Qualifications R1 CD59 - GRAVELINES","Qualifications","2017-2018",null,null,null,null,0,null,0]
["WASYLYSZYN Jean-Pierre","NOYER Pascal","P",0,1,62,100,"2017-09-30","T1 Qualifications R1 CD59 - GRAVELINES","Qualifications","2017-2018",null,null,null,null,0,null,0]
["WASYLYSZYN Jean-Pierre","VEREECQUE Bernard","G",1,0,100,75,"2017-09-30","T1 Qualifications R1 CD59 - GRAVELINES","Qualifications","2017-2018",null,null,null,null,0,null,0]
["WASYLYSZYN Jean-Pierre","MANTEN Paul","P",1,2,98,164,"2017-09-30","T1 Qualifications R1 CD59 - GRAVELINES","Qualifications","2017-2018",null,null,null,null,0,null,0]
["WASYLYSZYN Jean-Pierre","PARISIS Francis","P",1,2,141,171,"2017-09-30","T1 Qualifications R1 CD59 - GRAVELINES","Qualifications","2017-2018",null,null,null,null,0,null,0]
["WASYLYSZYN Jean-Pierre","BEGHIN Nicolas","P",0,2,75,120,"2018-01-20","T2 Qualifications R1 CD59 - ST POL SUR MER","Qualifications","2017-2018",null,null,null,null,0,null,0]
["WASYLYSZYN Jean-Pierre","PARISIS Francis","P",1,2,124,166,"2018-01-20","T2 Qualifications R1 CD59 - ST POL SUR MER","Qualifications","2017-2018",null,null,null,null,0,null,0]
["WASYLYSZYN Jean-Pierre","BEGHIN Nicolas","P",0,2,71,120,"2018-02-04","T3 Qualifications R1 CD59 - GRAVELINES","Qualifications","2017-2018",null,null,null,null,0,null,0]
["WASYLYSZYN Jean-Pierre","LECROART Serge","P",0,2,92,120,"2018-02-04","T3 Qualifications R1 CD59 - GRAVELINES","Qualifications","2017-2018",null,null,null,null,0,null,0]
["WASYLYSZYN Jean-Pierre","BEGUIN Jean-Luc","P",1,2,133,175,"2018-10-20","T1 5Q R2 CD59 - ST POL SUR MER","Qualifications","2018-2019",null,null,null,null,0,null,0]
["WASYLYSZYN Jean-Pierre","SZWARC Patrick","P",0,2,71,120,"2018-10-20","T1 5Q R2 CD59 - ST POL SUR MER","Qualifications","2018-2019",null,null,null,null,0,null,0]
["WASYLYSZYN Jean-Pierre","DEREUDDRE Dominique","P",0,1,70,100,"2019-11-24","T2 5Q R1 CD59  - GRAVELINES - CONSOLANTE","Qualifications","2019-2020",null,null,null,null,0,null,0]
["WASYLYSZYN Jean-Pierre","NOYER Pascal","P",0,1,35,100,"2019-11-24","T2 5Q R1 CD59  - GRAVELINES - CONSOLANTE","Qualifications","2019-2020",null,null,null,null,0,null,0]
["WASYLYSZYN Jean-Pierre","SZWARC Johann","P",0,1,63,100,"2019-11-24","T2 5Q R1 CD59  - GRAVELINES - CONSOLANTE","Qualifications","2019-2020",null,null,null,null,0,null,0]
["WASYLYSZYN Jean-Pierre","VEREECQUE Esteban","P",0,1,99,100,"2019-11-24","T2 5Q R1 CD59  - GRAVELINES - CONSOLANTE","Qualifications","2019-2020",null,null,null,null,0,null,0]
["WASYLYSZYN Jean-Pierre","CAUX Frédéric","P",0,2,30,120,"2019-11-24","T2 5Q R1 CD59 - GRAVELINES ","Qualifications","2019-2020",null,null,null,null,0,null,0]
["WASYLYSZYN Jean-Pierre","DEVOS Jackie","P",0,2,51,120,"2019-11-24","T2 5Q R1 CD59 - GRAVELINES ","Qualifications","2019-2020",null,null,null,null,0,null,0]
["Fin des données",null,null,null,null,null,null,null,null,null,"",null,null,null,null,0,null,0]

{"sheet":"ZANOTTI Michel","index":156,"n_rows":37,"n_cols":22,"rows_kept":37,"cut":false,"hidden":false,"merged":[]}
["ZANOTTI Michel",null,null,null,null,null,null,null,null,null,null,null,null,null,null,{"$f":"SaisonDeb","v":"2021-2022"},null,{"$f":"SaisonFin","v":"2022-2023"},null,"Toutes saisons"]
[{"$error":"#N/A"},null,null,null,null,null,null,null,null,null,null,null,null,null,null,"Nombre","%age","Nombre","%age","Nombre","%age"]
[{"$error":"#N/A"},null,null,null,null,null,null,null,null,null,null,null,null,"Matchs","Gagnés",{"$f":"SUM(P$15:P$133)","v":0},{"$f":"IF(P$3+P$4>0,P3/(P$3+P$4),\"\")","v":""},{"$f":"SUM(R$15:R$133)","v":10},{"$f":"IF(R$3+R$4>0,R3/(R$3+R$4),\"\")","v":0.47619047619047616},{"$f":"COUNTIF($C$15:$C$133,\"G\")","v":10},{"$f":"IF(T$3+T$4>0,T3/(T$3+T$4),\"\")","v":0.47619047619047616}]
[{"$error":"#N/A"},null,null,null,null,null,null,null,null,null,null,null,null,null,"Perdus",{"$f":"COUNTIF($K$15:$M$133,SaisonDeb)-P3","v":0},{"$f":"IF(P$3+P$4>0,P4/(P$3+P$4),\"\")","v":""},{"$f":"COUNTIF($K$15:$K$133,SaisonFin)-R3","v":11},{"$f":"IF(R$3+R$4>0,R4/(R$3+R$4),\"\")","v":0.52380952380952384},{"$f":"COUNTIF($C$15:$C$133,\"P\")","v":11},{"$f":"IF(T$3+T$4>0,T4/(T$3+T$4),\"\")","v":0.52380952380952384}]
[{"$error":"#N/A"},null,null,null,null,null,null,null,null,null,null,null,null,null,"Total / Moy.",{"$f":"SUM(P3:P4)","v":0},{"$f":"IF(SUMIF($K$15:$K$133,SaisonDeb,$G$15:$G$133)>0,SUMIF($K$15:$K$133,SaisonDeb,$F$15:$F$133)/SUMIF($K$15:$K$133,SaisonDeb,$G$15:$G$133),\"\")","v":""},{"$f":"SUM(R3:R4)","v":21},{"$f":"IF(SUMIF($K$15:$K$133,SaisonFin,$G$15:$G$133)>0,SUMIF($K$15:$K$133,SaisonFin,$F$15:$F$133)/SUMIF($K$15:$K$133,SaisonFin,$G$15:$G$133),\"\")","v":0.98912097476066141},{"$f":"SUM(T3:T4)","v":21},{"$f":"IF(SUM($G$15:$G$133)>0,SUM($F$15:$F$133)/SUM($G$15:$G$133),\"\")","v":0.98912097476066141},{"$f":"IF(SUMIF($K$15:$K$37,SaisonDeb,$G$15:$G$37)+SUMIF($K$15:$K$37,SaisonFin,$G$15:$G$37)>0,(SUMIF($K$15:$K$37,SaisonDeb,$F$15:$F$37)+SUMIF($K$15:$K$37,SaisonFin,$F$15:$F$37))/(SUMIF($K$15:$K$37,SaisonDeb,$G$15:$G$37)+SUMIF($K$15:$K$37,SaisonFin,$G$15:$G$37)),\"\")","v":0.98912097476066141}]
[null,null,null,null,null,null,null,null,null,null,null,null,null,"Sets","Gagnés",{"$f":"SUMIF($K$15:$K$133,SaisonDeb,$D$15:$D$133)","v":0},{"$f":"IF(P$6+P$7>0,P6/(P$6+P$7),\"\")","v":""},{"$f":"SUMIF($K$15:$K$133,SaisonFin,$D$15:$D$133)","v":12},{"$f":"IF(R$6+R$7>0,R6/(R$6+R$7),\"\")","v":0.48},{"$f":"SUM($D$15:$D$133)","v":12},{"$f":"IF(T$6+T$7>0,T6/(T$6+T$7),\"\")","v":0.48}]
[null,null,null,null,null,null,null,null,null,null,null,null,null,null,"Perdus",{"$f":"SUMIF($K$15:$K$133,SaisonDeb,$E$15:$E$133)","v":0},{"$f":"IF(P$6+P$7>0,P7/(P$6+P$7),\"\")","v":""},{"$f":"SUMIF($K$15:$K$133,SaisonFin,$E$15:$E$133)","v":13},{"$f":"IF(R$6+R$7>0,R7/(R$6+R$7),\"\")","v":0.52},{"$f":"SUM($E$15:$E$133)","v":13},{"$f":"IF(T$6+T$7>0,T7/(T$6+T$7),\"\")","v":0.52}]
["Récapitulatif joueurs",null,null,null,null,null,null,null,null,null,null,null,null,null,"Total",{"$f":"SUM(P6:P7)","v":0},null,{"$f":"SUM(R6:R7)","v":25},null,{"$f":"SUM(T6:T7)","v":25}]
[]
[]
[]
[]
[]
[]
["Joueur","Adversaire","G/P","Sets gagnés","Sets perdus","pts marqués","pts subis","Date","Compétition","Phase","Saison"]
["ZANOTTI Michel","BOZON Robert","P",0,1,97,120,"2022-12-29","T 3 OISE - Qualifications R 1 - Tour principal - SENLIS","Qualifications",{"$f":"IF(H16<>\"\",IF(MONTH(H16)>MoisRef,YEAR(H16)&\"-\"&YEAR(H16)+1,YEAR(H16)-1&\"-\"&YEAR(H16)),\"\")","v":"2022-2023"},null,null,null,null,{"$f":"IF($K16=P$1,COUNTIF($C16,\"G\"),0)","v":0},null,{"$f":"IF($K16=R$1,COUNTIF($C16,\"G\"),0)","v":0}]
["ZANOTTI Michel","DESCLAIR Guy","P",0,1,95,120,"2022-12-29","T 3 OISE - Qualifications R 1 - Tour principal - SENLIS","1/4 Finale","2022-2023",null,null,null,null,{"$f":"IF($K17=P$1,COUNTIF($C17,\"G\"),0)","v":0},null,{"$f":"IF($K17=R$1,COUNTIF($C17,\"G\"),0)","v":0}]
["ZANOTTI Michel","MASSARD Patrick","P",0,1,95,120,"2022-12-29","T 3 OISE - Qualifications R 1 - Tour principal - SENLIS","Qualifications","2022-2023",null,null,null,null,{"$f":"IF($K18=P$1,COUNTIF($C18,\"G\"),0)","v":0},null,{"$f":"IF($K18=R$1,COUNTIF($C18,\"G\"),0)","v":0}]
["ZANOTTI Michel","GRANGER Pascal","P",0,2,87,120,"2023-04-15","FINALE OISE  - R 1 - BEAUVAIS","Qualifications","2022-2023",null,null,null,null,{"$f":"IF($K19=P$1,COUNTIF($C19,\"G\"),0)","v":0},null,{"$f":"IF($K19=R$1,COUNTIF($C19,\"G\"),0)","v":0}]
["ZANOTTI Michel","HERTOUX Didier","P",1,2,121,164,"2023-04-15","FINALE OISE  - R 1 - BEAUVAIS","1/2 Finale","2022-2023",null,null,null,null,0,null,0]
["ZANOTTI Michel","LAMARQUE Yves","G",2,0,120,78,"2023-04-15","FINALE OISE  - R 1 - BEAUVAIS","Qualifications","2022-2023",null,null,null,null,0,null,1]
["ZANOTTI Michel","BOUTON Gérard","G",1,0,120,89,"2022-12-03","T 2 OISE - Qualifications R 1 - Tour Principal - SENLIS","1/2 Finale","2022-2023",null,null,null,null,0,null,1]
["ZANOTTI Michel","CUNIN Mickael","G",1,0,120,109,"2022-12-03","T 2 OISE - Qualifications R 1 - Tour Principal - SENLIS","Qualifications","2022-2023",null,null,null,null,0,null,1]
["ZANOTTI Michel","HERTOUX Didier","G",1,0,120,104,"2022-12-03","T 2 OISE - Qualifications R 1 - Tour Principal - SENLIS","Finale","2022-2023",null,null,null,null,0,null,1]
["ZANOTTI Michel","LAMARQUE Yves","G",1,0,120,118,"2022-12-03","T 2 OISE - Qualifications R 1 - Tour Principal - SENLIS","Qualifications","2022-2023",null,null,null,null,0,null,1]
["ZANOTTI Michel","PELLETIER Steeve","G",1,0,120,79,"2022-12-03","T 2 OISE - Qualifications R 1 - Tour Principal - SENLIS","1/4 Finale","2022-2023",null,null,null,null,0,null,1]
["ZANOTTI Michel","MASSARD Patrick","G",1,0,120,83,"2023-02-18","T 3 OISE - Qualifications R 1 - Tour Principal - BEAUVAIS","Qualifications","2022-2023",null,null,null,null,0,null,1]
["ZANOTTI Michel","MURIOT Jean-Pierre","P",0,1,82,120,"2023-02-18","T 3 OISE - Qualifications R 1 - Tour Principal - BEAUVAIS","Qualifications","2022-2023",null,null,null,null,0,null,0]
["ZANOTTI Michel","NAHIRNYJ Alexi","P",0,1,100,120,"2023-02-18","T 3 OISE - Qualifications R 1 - Tour Principal - BEAUVAIS","1/4 Finale","2022-2023",null,null,null,null,0,null,0]
["ZANOTTI Michel","MURIOT Jean-Pierre","P",0,1,104,120,"2023-03-18","T 4 OISE - Qualifications R 1 - Tour Principal - CREPY","Qualifications","2022-2023",null,null,null,null,0,null,0]
["ZANOTTI Michel","MURIOT Jean-Pierre","P",0,1,117,120,"2023-03-18","T 4 OISE - Qualifications R 1 - Tour Principal - CREPY","Qualifications","2022-2023",null,null,null,null,0,null,0]
["ZANOTTI Michel","NAHIRNYJ Alexi","P",0,1,73,120,"2023-03-18","T 4 OISE - Qualifications R 1 - Tour Principal - CREPY","1/4 Finale","2022-2023",null,null,null,null,0,null,0]
["ZANOTTI Michel","DIOT Alain","P",0,1,102,120,"2022-10-29","T 1 OISE - Qualifications R 1 - Tour Principal - MERU","1/2 Finale","2022-2023",null,null,null,null,0,null,0]
["ZANOTTI Michel","HERTOUX Didier","G",1,0,120,117,"2022-10-29","T 1 OISE - Qualifications R 1 - Tour Principal - MERU","Qualifications","2022-2023",null,null,null,null,0,null,1]
["ZANOTTI Michel","NAHIRNYJ Alexi","G",1,0,120,115,"2022-10-29","T 1 OISE - Qualifications R 1 - Tour Principal - MERU","1/4 Finale","2022-2023",null,null,null,null,0,null,1]
["ZANOTTI Michel","PELLETIER Steeve","G",1,0,120,42,"2022-10-29","T 1 OISE - Qualifications R 1 - Tour Principal - MERU","Qualifications","2022-2023",null,null,null,null,0,null,1]
["Fin des données",null,null,null,null,null,null,null,null,null,"",null,null,null,null,{"$f":"IF($K37=P$1,COUNTIF($C37,\"G\"),0)","v":0},null,{"$f":"IF($K37=R$1,COUNTIF($C37,\"G\"),0)","v":0}]