{"text_format":"1","workbook":"xlsx","n_sheets":2,"sheets":["Feuille de Match","Joueurs"],"not_rendered":{"charts":0,"images":4,"macros":1,"external_links":0,"defined_names":67,"comments":0,"pivot_tables":0},"unopened":[],"bounds":{"document_bytes":16777216,"sheet_cells":100000,"rows_first":2000,"rows_last":500,"rows_between":2000,"halvings":0,"cell_chars":16384,"cell_head_chars":4096},"cells_cut":0,"cells_raw":0,"read":"whole","date_system":"1900"}

{"sheet":"Feuille de Match","index":0,"n_rows":73,"n_cols":35,"rows_kept":73,"cut":false,"hidden":false,"merged":[[0,4,0,10],[14,31,15,31],[14,32,15,32],[14,33,15,33],[14,34,15,34],[8,31,8,34],[9,28,9,29],[10,28,11,28],[12,31,13,31],[12,32,13,32],[12,33,13,33],[12,34,13,34],[9,31,9,32],[9,33,9,34],[10,31,11,31],[10,32,11,32],[10,33,11,33],[10,34,11,34],[10,29,11,29],[12,28,13,28],[12,29,13,29],[14,28,15,28],[14,29,15,29],[10,27,11,27],[14,27,15,27],[21,1,22,1],[14,2,15,2],[10,2,11,2],[8,3,8,9],[21,6,21,7],[16,1,16,3],[14,4,15,4],[12,4,13,4],[8,26,8,29],[19,3,19,8],[9,26,9,27],[10,17,11,17],[16,10,16,12],[10,4,11,4],[10,5,11,5],[10,7,11,7],[8,12,8,18],[10,18,11,18],[10,8,11,8],[10,9,11,9],[10,15,11,15],[14,17,15,17],[19,12,19,17],[10,0,11,0],[12,0,13,0],[14,0,15,0],[12,2,13,2],[10,26,11,26],[10,19,11,19],[12,19,13,19],[14,19,15,19],[14,11,15,11],[10,6,11,6],[14,5,15,5],[12,7,13,7],[14,26,15,26],[12,26,13,26],[12,18,13,18],[14,18,15,18],[12,16,13,16],[12,9,13,9],[14,9,15,9],[12,13,13,13],[14,15,15,15],[14,13,15,13],[14,14,15,14],[12,11,13,11],[12,15,13,15],[21,15,21,16],[12,17,13,17],[14,16,15,16],[2,11,2,16],[0,11,0,16],[4,11,4,16],[10,16,11,16],[10,11,11,11],[6,12,6,17],[10,14,11,14],[10,13,11,13],[30,27,32,29],[67,26,67,29],[39,27,40,29],[47,27,48,29],[54,27,55,29],[60,26,60,29],[33,1,33,16],[32,12,32,16],[12,5,13,5],[14,6,15,6],[27,19,28,19],[12,27,13,27],[37,5,37,10],[27,3,27,7],[12,14,13,14],[12,8,13,8],[36,5,36,10],[35,5,35,10],[12,6,13,6],[14,8,15,8],[14,7,15,7],[31,12,31,16],[22,15,22,16],[27,12,27,16]]}
[null,"COMITE DEPARTEMENTAL 62",null,null,"L'activation des macros est indispensable pour Continuez !!!",null,null,null,null,null,null,"Matches par équipes 62",null,null,null,null,null,null,null,null,"2022-2023",{"$f":"IF(Division=7,\"50\",\"\")","v":""}]
[null,null,null,null,null,null,null,null,null,null,null,null,null,null,null,null,null,null,null,null,"Plafond de la",null,null,null,null,null,null,null,"Choix de la"]
[null,{"$f":"IF($C$3<>\"\",VLOOKUP($C$3,$AC$4:$AD$7,2,FALSE),\"\")","v":""},null,null,null,null,null,null,null,null,null,{"$f":"\"Saison\"& \" \" &U1","v":"Saison 2022-2023"},null,null,null,null,null,null,null,null,"Division",null,null,null,null,null,null,null,"Division"]
[null,null,null,null,null,null,null,null,null,null,null,null,null,null,null,null,null,null,null,null,{"$f":"IF(C3=\"\",\"\",IF(C3=1,2000,IF(C3=2,1200,IF(C3=6,700,IF(C3=7,400)))))","v":""},null,null,null,null,null,null,{"$f":"'Feuille de Match'!AC4:AC7","v":1},1,"Triathlon"]
[null,null,null,null,null,null,null,null,null,null,null,{"$f":"IF(OR(D9=\"\"),\"\",VLOOKUP($D9,$B$39:$C$55,2,FALSE))","v":""},null,null,null,null,null,null,null,null,null,null,null,null,null,null,null,null,2,"Triathlon"]
[null,null,null,null,null,null,null,null,null,null,null,null,null,null,null,null,null,null,null,null,null,null,null,null,null,null,null,null,6,"Division"]
[null,null,null,null,null,null,null,null,null,null,"Date :",null,null,null,null,null,null,null,null,null,null,null,null,null,null,null,null,null,7,"Division"]
[]
[null,"CLUB RECEVEUR :",null,null,null,null,null,null,null,null,"CLUB VISITEUR :",null,null,null,null,null,null,null,null,null,null,null,null,null,null,null,"Division 1 et 2",null,null,null,null,"Division 6 et 7"]
[null,"NOM   PRENOM\nN° Licence","Mode de\nJeu","Catégorie\nDistance","Points réalisés","Rep.","M. G.","Série","%","Tot","NOM   PRENOM\nN° Licence",{"$f":"C10","v":"Mode de\nJeu"},"Catégorie\nDistance","Points réalisés","Rep.","M. G.","Série","%","Tot",null,null,null,null,null,null,null,"CLUB VISITE",null,"CLUB VISITEUR",null,null,"CLUB VISITE",null,"CLUB VISITEUR"]
[null,null,{"$f":"IF($C$3<>\"\",VLOOKUP($C$3,$AA$63:$AD$66,2,FALSE),\"\")","v":""},null,null,null,{"$f":"IF(F11=\"\",\"\",E11/F11)","v":""},null,{"$f":"IF(E11=0,\"\",E11/(LEFT(D12,3)))","v":""},{"$f":"IF(I11=\"\",\"\",IF(I11>R11,3,IF(I11=R11,2,1)))","v":""},null,{"$f":"IF($C$3<>\"\",VLOOKUP($C$3,$AA$63:$AD$66,2,FALSE),\"\")","v":""},null,null,{"$f":"IF(F11=\"\",\"\",F11)","v":""},{"$f":"IF(O11=\"\",\"\",N11/O11)","v":""},null,{"$f":"IF(N11=0,\"\",N11/(LEFT(M12,3)))","v":""},{"$f":"IF(R11=\"\",\"\",IF(R11>I11,3,IF(R11=I11,2,1)))","v":""},null,null,null,null,null,null,null,"Libre",{"$f":"IF($D11<>\"\",VLOOKUP($D11,$AA$24:$AD$30,2,FALSE),\"\")","v":""},"Libre",{"$f":"IF($M11<>\"\",VLOOKUP($M11,$AA$24:$AD$30,2,FALSE),\"\")","v":""},null,"Libre",{"$f":"IF($D11<>\"\",VLOOKUP($D11,$AA$24:$AB$30,2,FALSE),\"\")","v":""},"Libre",{"$f":"IF($M11<>\"\",VLOOKUP($M11,$AA$24:$AD$30,2,FALSE),\"\")","v":""}]
[null,{"$f":"IF($B11<>\"\",VLOOKUP($B11,Joueurs!$B$3:$F$496,4,FALSE),\"\")","v":""},null,{"$f":"IF($C$3<>\"\",VLOOKUP($C$3,$AA$70:$AD$73,2,FALSE),\"\")","v":""},null,null,null,null,null,null,{"$f":"IF($K11<>\"\",VLOOKUP($K11,Joueurs!$B$3:$F$496,4,FALSE),\"\")","v":""},null,{"$f":"IF($C$3<>\"\",VLOOKUP($C$3,$AA$70:$AD$73,2,FALSE),\"\")","v":""}]
[null,null,{"$f":"IF($C$3<>\"\",VLOOKUP($C$3,$AA$63:$AD$66,3,FALSE),\"\")","v":""},null,null,null,{"$f":"IF(F13=\"\",\"\",E13/F13)","v":""},null,{"$f":"IF(E13=0,\"\",E13/(LEFT(D14,3)))","v":""},{"$f":"IF(I13=\"\",\"\",IF(I13>R13,3,IF(I13=R13,2,1)))","v":""},null,{"$f":"IF($C$3<>\"\",VLOOKUP($C$3,$AA$63:$AD$66,3,FALSE),\"\")","v":""},null,null,{"$f":"IF(F13=\"\",\"\",F13)","v":""},{"$f":"IF(O13=\"\",\"\",N13/O13)","v":""},null,{"$f":"IF(N13=0,\"\",N13/(LEFT(M14,3)))","v":""},{"$f":"IF(R13=\"\",\"\",IF(R13>I13,3,IF(R13=I13,2,1)))","v":""},null,null,null,null,null,null,null,"Bande",{"$f":"IF($D13<>\"\",VLOOKUP($D13,$AA$24:$AD$30,3,FALSE),\"\")","v":""},"Bande",{"$f":"IF($M13<>\"\",VLOOKUP($M13,$AA$24:$AD$30,3,FALSE),\"\")","v":""},null,"Libre",{"$f":"IF($D13<>\"\",VLOOKUP($D13,$AA$24:$AD$30,2,FALSE),\"\")","v":""},"Libre",{"$f":"IF($M13<>\"\",VLOOKUP($M13,$AA$24:$AD$30,2,FALSE),\"\")","v":""}]
[null,{"$f":"IF($B13<>\"\",VLOOKUP($B13,Joueurs!$B$3:$F$496,4,FALSE),\"\")","v":""},null,{"$f":"IF($C$3<>\"\",VLOOKUP($C$3,$AA$70:$AD$73,3,FALSE),\"\")","v":""},null,null,null,null,null,null,{"$f":"IF($K13<>\"\",VLOOKUP($K13,Joueurs!$B$3:$F$496,4,FALSE),\"\")","v":""},null,{"$f":"IF($C$3<>\"\",VLOOKUP($C$3,$AA$70:$AD$73,3,FALSE),\"\")","v":""}]
[null,null,{"$f":"IF($C$3<>\"\",VLOOKUP($C$3,$AA$63:$AD$66,4,FALSE),\"\")","v":""},null,null,null,{"$f":"IF(F15=\"\",\"\",E15/F15)","v":""},null,{"$f":"IF(E15=0,\"\",E15/(LEFT(D16,3)))","v":""},{"$f":"IF(I15=\"\",\"\",IF(I15>R15,3,IF(I15=R15,2,1)))","v":""},null,{"$f":"IF($C$3<>\"\",VLOOKUP($C$3,$AA$63:$AD$66,4,FALSE),\"\")","v":""},null,null,{"$f":"IF(F15=\"\",\"\",F15)","v":""},{"$f":"IF(O15=\"\",\"\",N15/O15)","v":""},null,{"$f":"IF(N15=0,\"\",N15/(LEFT(M16,3)))","v":""},{"$f":"IF(R15=\"\",\"\",IF(R15>I15,3,IF(R15=I15,2,1)))","v":""},null,null,null,null,null,null,null,"3 Bandes",{"$f":"IF($D15<>\"\",VLOOKUP($D15,$AA$24:$AD$30,4,FALSE),\"\")","v":""},"3 Bandes",{"$f":"IF($M15<>\"\",VLOOKUP($M15,$AA$24:$AD$30,4,FALSE),\"\")","v":""},null,"Libre",{"$f":"IF($D15<>\"\",VLOOKUP($D15,$AA$24:$AD$30,2,FALSE),\"\")","v":""},"Libre",{"$f":"IF($M15<>\"\",VLOOKUP($M15,$AA$24:$AD$30,2,FALSE),\"\")","v":""}]
[null,{"$f":"IF($B15<>\"\",VLOOKUP($B15,Joueurs!$B$3:$F$496,4,FALSE),\"\")","v":""},null,{"$f":"IF($C$3<>\"\",VLOOKUP($C$3,$AA$70:$AD$73,4,FALSE),\"\")","v":""},null,null,null,null,null,null,{"$f":"IF($K15<>\"\",VLOOKUP($K15,Joueurs!$B$3:$F$496,4,FALSE),\"\")","v":""},null,{"$f":"IF($C$3<>\"\",VLOOKUP($C$3,$AA$70:$AD$73,4,FALSE),\"\")","v":""}]
[null,"RESULTATS",null,null,{"$f":"IF(OR($C$3=\"\"),\"\",SUM(E11:E16))","v":""},{"$f":"IF(OR($C$3=\"\"),\"\",SUM(F11:F16))","v":""},{"$f":"IF(OR($C$3=\"\"),\"\",IF(F17=0,\"\",E17/F17))","v":""},null,{"$f":"IF(OR($C$3=\"\"),\"\",SUM(I11:I16)/3)","v":""},{"$f":"IF(OR(C3=\"\"),\"\",SUM(J11:J16))","v":""},"RESULTATS",null,null,{"$f":"IF(OR($C$3=\"\"),\"\",SUM(N11:N16))","v":""},{"$f":"IF(OR($C$3=\"\"),\"\",SUM(O11:O16))","v":""},{"$f":"IF(OR($C$3=\"\"),\"\",IF(O17=0,\"\",N17/O17))","v":""},null,{"$f":"IF(OR($C$3=\"\"),\"\",SUM(R11:R16)/3)","v":""},{"$f":"IF(OR(C3=\"\"),\"\",SUM(S11:S16))","v":""},null,null,null,null,null,null,null,"TOTAL",{"$f":"IF(OR(D11=\"\",D13=\"\",D15=\"\"),\"\",AB11+AB13+AB15)","v":""},"TOTAL",{"$f":"IF(OR(AD11=\"\",AD13=\"\",AD15=\"\"),\"\",AD11+AD13+AD15)","v":""},null,"TOTAL",{"$f":"IF(OR(D11=\"\",D13=\"\",D15=\"\"),\"\",AG11+AG13+AG15)","v":""},"TOTAL",{"$f":"IF(OR(AI11=\"\",AI13=\"\",AI15=\"\"),\"\",AI11+AI13+AI15)","v":""}]
[null,null,null,{"$f":"IF(OR(D12=\"\",D14=\"\",D16=\"\"),\"\",LEFT(D14,3)+LEFT(D16,3)+LEFT(D12,3))","v":""},null,null,null,null,null,null,null,null,{"$f":"IF(OR(M12=\"\",M14=\"\",M16=\"\"),\"\",LEFT(M14,3)+LEFT(M16,3)+LEFT(M12,3))","v":""}]
[]
[null,null,null,{"$f":"IF(OR(C3=\"\"),\"\",IF(J17=0,\"\",IF(J17<S17,M9,IF(J17=S17,D9,D9))))","v":""},null,null,null,null,null,null,{"$f":"IF(OR(C3=\"\"),\"\",IF(J17=S17,\"EGALITE CONTRE\",\"BAT CONTRE\"))","v":""},null,{"$f":"IF(OR(C3=\"\"),\"\",IF(S17=0,\"\",IF(S17<J17,M9,IF(S17=J17,M9,D9))))","v":""}]
[]
[null,"Contrôle de la division :",null,{"$f":"IF($C$3=\"\",\"\",IF($C$3=1,$AB$17,IF($C$3=2,$AB$17,IF(C3=6,$AG$17,IF($C$3=7,$AG$17)))))","v":""},null,null,{"$f":"IF(J17<S17,S17,IF(J17=S17,J17,J17))","v":""},null,null,null,"à",null,{"$f":"IF(S17<J17,S17,IF(S17=J17,S17,J17))","v":""},null,null,{"$f":"IF($C$3=\"\",\"\",IF($C$3=1,$AD$17,IF($C$3=2,$AD$17,IF(C3=6,$AI$17,IF($C$3=7,$AI$17)))))","v":""},null,null,null,null,null,null,null,null,null,null,null,"Libre","Bande","3 Bandes"]
[null,null,null,{"$f":"IF(OR(C3=\"\"),\"\",IF(D22<=$U$4,\"OK\",\"NON VALIDE\"))","v":""},null,null,null,null,null,null,null,null,null,null,null,{"$f":"IF(OR(C3=\"\"),\"\",IF(P22<=$U$4,\"OK\",\"NON VALIDE\"))","v":""},null,null,null,null,null,null,null,null,null,null,"Cat"]
[null,"Je soussigné, Capitaine de l'équipe mentionnée ci-dessus, déclare sur",null,null,null,null,null,null,null,null,"Je soussigné, Capitaine de l'équipe mentionnée ci-dessus, déclare sur",null,null,null,null,null,null,null,null,null,null,null,null,null,null,null,"N1",800,800,800]
[null,"l'honneur que les joueurs précités répondent aux critères requis par le",null,null,null,null,null,null,null,null,"l'honneur que les joueurs précités répondent aux critères requis par le",null,null,null,null,null,null,null,null,null,null,null,null,null,null,null,"N2",null,null,700]
[null,"règlement des matches par équipes",null,null,null,null,null,null,null,null,"règlement des matches par équipes",null,null,null,null,null,null,null,null,null,null,null,null,null,null,null,"N3",600,600,600]
[null,null,null,null,null,null,null,null,null,null,null,null,null,null,null,null,null,null,null,null,null,null,null,null,null,null,"R1",400,400,400]
[null,"NOM - Prénom",null,null,null,null,null,null,null,null,"NOM - Prénom",null,null,null,null,null,null,null,null,null,null,null,null,null,null,null,"R2",300,300,300]
[null,"Signature :",null,null,null,null,null,null,null,null,"Signature :",null,null,null,null,null,null,null,null,null,null,null,null,null,null,null,"R3",200]
[null,null,null,null,null,null,null,null,null,null,null,null,null,null,null,null,null,null,null,null,null,null,null,null,null,null,"R4",100]
[null,"Les feuilles de résultats doivent à adresser dimanche midi au plus tard",null,null,null,null,null,null,null,null,null,null,null,null,null,null,null,null,null,null,null,null,null,null,null,null,null,"Catégories Possible par Mode de Jeu\nDivision 1"]
[null,"- au responsable format : Christian FONTAINE :",null,"mpe.artois@gmail.com",null,null,null,null,null,null,{"$f":"IF(OR(D9=\"\"),\"\",IF(L5=B37,D37,D38))","v":""},null,{"$f":"IF(OR(D9=\"\"),\"\",IF(K32=D37,F37,K38))","v":""}]
[null,"- au webmaster",null,null,null,null,null,null,null,null,{"$f":"IF(OR(D9=\"\"),\"\",D36)","v":""},null,{"$f":"IF(OR(D9=\"\"),\"\",F36)","v":""}]
[null,"Les résultats doivent être également saisis sur https://www.telemat.org/FFBI/sif/",null,null,null,null,null,null,null,null,null,null,null,null,null,null,null,null,null,null,null,null,null,null,null,null,{"$f":"'Feuille de Match'!AB34:AB38","v":"Cat"},"Cat","Cat","Cat"]
[null,null,null,null,null,null,null,null,null,null,null,null,null,null,null,null,null,null,null,null,null,null,null,null,null,null,null,"N1","N1","N1"]
[null,"1/2 CD",null,null,null,null,null,null,null,null,null,null,null,null,null,null,null,null,null,null,null,null,null,null,null,null,null,"R2",null,"R2"]
[null,"Artois",null,"FONTAINE CHRISTIAN",null,"mpe.artois@gmail.com",null,null,null,null,null,null,null,null,null,null,null,null,null,null,null,null,null,null,null,null,null,"R3"]
[null,"Maritime",null,"CARON Christian",null,"christian.caron62@orange.fr",null,null,null,null,null,null,null,null,null,null,null,null,null,null,null,null,null,null,null,null,null,"R4"]
[null,null,"Artois"]
[null,"Billy","Artois",null,null,null,null,null,null,null,null,null,null,null,null,null,null,null,null,null,null,null,null,null,null,null,null,"Catégories Possible par Mode de Jeu\nDivision 2"]
[null,"Carvin","Artois"]
[null,"Fouquières 1","Artois",null,null,null,null,null,null,null,null,null,null,null,null,null,null,null,null,null,null,null,null,null,null,null,null,"Cat","Cat","Cat"]
[null,"Fouquières 2","Artois",null,null,null,null,null,null,null,null,null,null,null,null,null,null,null,null,null,null,null,null,null,null,null,null,"R1","R1","R1"]
[null,"Divion","Artois",null,null,null,null,null,null,null,null,null,null,null,null,null,null,null,null,null,null,null,null,null,null,null,null,"R2","R2","R2"]
[null,"Lens","Artois",null,null,null,null,null,null,null,null,null,null,null,null,null,null,null,null,null,null,null,null,null,null,null,null,"R3"]
[null,null,"Artois",null,null,null,null,null,null,null,null,null,null,null,null,null,null,null,null,null,null,null,null,null,null,null,null,"R4"]
[null,null,"Artois"]
[null,null,"Artois",null,null,null,null,null,null,null,null,null,null,null,null,null,null,null,null,null,null,null,null,null,null,null,null,"Catégories Possible par Mode de Jeu\nDivision 6"]
[null,null,"Artois"]
[null,null,null,null,null,null,null,null,null,null,null,null,null,null,null,null,null,null,null,null,null,null,null,null,null,null,null,"Cat","Cat","Cat"]
[null,null,null,null,null,null,null,null,null,null,null,null,null,null,null,null,null,null,null,null,null,null,null,null,null,null,null,"R2","R2","R2"]
[null,null,null,null,null,null,null,null,null,null,null,null,null,null,null,null,null,null,null,null,null,null,null,null,null,null,null,"R3","R3","R3"]
[null,null,null,null,null,null,null,null,null,null,null,null,null,null,null,null,null,null,null,null,null,null,null,null,null,null,null,"R4","R4","R4"]
[]
[null,null,null,null,null,null,null,null,null,null,null,null,null,null,null,null,null,null,null,null,null,null,null,null,null,null,null,"Catégories Possible par Mode de Jeu\nDivision 7"]
[]
[null,null,null,null,null,null,null,null,null,null,null,null,null,null,null,null,null,null,null,null,null,null,null,null,null,null,null,"Cat","Cat","Cat"]
[null,null,null,null,null,null,null,null,null,null,null,null,null,null,null,null,null,null,null,null,null,null,null,null,null,null,null,"R3","R3","R3"]
[null,null,null,null,null,null,null,null,null,null,null,null,null,null,null,null,null,null,null,null,null,null,null,null,null,null,null,"R4","R4","R4"]
[]
[null,"Vérifier un numéro de licence",null,"Avant d'envoyer votre feuille, merci de bien vérifier les points suivants :",null,null,null,null,null,null,null,null,null,null,null,null,null,null,null,null,null,null,null,null,null,null,"Sélection Mode de Jeu Automatique"]
[null,"avec la lettre (clé)",null,null,null,null,null,null,null,null,null,null,null,null,null,null,null,null,null,null,null,null,null,null,null,null,"Division","Match 1","Match 2","Match 3"]
[null,"ex : 123456-A",null,"- Renseigner les \"Cat\"",null,null,null,null,null,null,null,null,null,null,null,null,null,null,null,null,null,null,null,null,null,null,1,"Libre","Bande","3 Bandes"]
[null,null,null,"- Mettre la date du jour",null,null,null,null,null,null,null,null,null,null,null,null,null,null,null,null,null,null,null,null,null,null,2,"Libre","Bande","3 Bandes"]
[null,null,null,"- Enregistrer le document de manière explicite (D6 - 25-09-10 - Avion-Billy1.xls)",null,null,null,null,null,null,null,null,null,null,null,null,null,null,null,null,null,null,null,null,null,null,6,"Libre","Libre","Libre"]
[null,null,null,"- Le seul format de document autorisé est xls. Pas de pdf, pas d'open office. Le format Office 2007 est toléré.",null,null,null,null,null,null,null,null,null,null,null,null,null,null,null,null,null,null,null,null,null,null,7,"Libre","Libre","Libre"]
[]
[null,{"$f":"IF(B66=\"\",\"\",IF(CHAR(65+MOD(LEFT(B66,6),26))=RIGHT(B66,1),\"OK\",\"Erreur-clé\"))","v":""},null,null,null,null,null,null,null,null,null,null,null,null,null,null,null,null,null,null,null,null,null,null,null,null,"Sélection Distance Automatique"]
[null,null,null,null,null,null,null,null,null,null,null,null,null,null,null,null,null,null,null,null,null,null,null,null,null,null,"Division","Match 1","Match 2","Match 3"]
[null,null,null,null,null,null,null,null,null,null,null,null,null,null,null,null,null,null,null,null,null,null,null,null,null,null,1,"200 Pts GC","80 Pts","25 Pts"]
[null,null,null,null,null,null,null,null,null,null,null,null,null,null,null,null,null,null,null,null,null,null,null,null,null,null,2,"120 Pts","60 Pts","20 Pts"]
[null,null,null,null,null,null,null,null,null,null,null,null,null,null,null,null,null,null,null,null,null,null,null,null,null,null,6,"80 Pts (50 rep.)","60 Pts (50 rep.)","60 Pts (50 rep.)"]
[null,null,null,null,null,null,null,null,null,null,null,null,null,null,null,null,null,null,null,null,null,null,null,null,null,null,7,"60 Pts (50 rep.)","40 Pts (50 rep.)","40 Pts (50 rep.)"]

{"sheet":"Joueurs","index":1,"n_rows":496,"n_cols":14,"rows_kept":496,"cut":false,"hidden":false,"merged":[[0,13,1,13],[0,1,0,5],[0,11,1,11],[0,12,1,12]]}
[null,"LES NOMS DOIVENT TOUJOURS ETRE DANS L'ORDRE ALPHABETIQUE\n(sélectionner les lignes complètes en cliquant sur le chiffre de la ligne)",null,null,null,null,null,null,null,null,null,"Recherche\nJoueurs","  ","<== Insérer les premières lettres de votre recherche"]
[null,"Nom Prenom","Nom","Prenom","Licence","Clubs",null,"Num de ligne","Recherche","Liste num"]
[null,{"$f":"C3 & \" \" &D3","v":"ABUCKI PASCAL"},"ABUCKI","PASCAL","016813R","COURRIERES",null,{"$f":"ROWS($B$3:B3)","v":1},{"$f":"IF(ISNUMBER(SEARCH($M$1,B3)),H3,\"\")","v":""},{"$f":"IFERROR(SMALL($I$3:$I$496,H3),\"\")","v":""},null,null,{"$f":"IFERROR(INDEX($B$3:$B$496,J3,1),\"\")","v":""}]
[null,"AMEYE CHRISTIAN","AMEYE","CHRISTIAN","138348C","CARVIN",null,{"$f":"ROWS($B$3:B4)","v":2},"","",null,null,{"$f":"IFERROR(INDEX($B$3:$B$496,J4,1),\"\")","v":""}]
[null,"ARAMINI SALVATORE","ARAMINI","SALVATORE","176849C","ARRAS",null,{"$f":"ROWS($B$3:B5)","v":3},"","",null,null,{"$f":"IFERROR(INDEX($B$3:$B$496,J5,1),\"\")","v":""}]
[null,"BAHEUX DAVID","BAHEUX","DAVID","107661V","OUTREAU",null,{"$f":"ROWS($B$3:B6)","v":4},"","",null,null,{"$f":"IFERROR(INDEX($B$3:$B$496,J6,1),\"\")","v":""}]
[null,"BAHEUX DANNY","BAHEUX","DANNY","151977S","OUTREAU",null,{"$f":"ROWS($B$3:B7)","v":5},"","",null,null,{"$f":"IFERROR(INDEX($B$3:$B$496,J7,1),\"\")","v":""}]
[null,"BAILLET BERNARD","BAILLET","BERNARD","147240T","CUCQ",null,{"$f":"ROWS($B$3:B8)","v":6},"","",null,null,{"$f":"IFERROR(INDEX($B$3:$B$496,J8,1),\"\")","v":""}]
[null,"BAILLEUX ALEXIS","BAILLEUX","ALEXIS","155087Y","ARRAS",null,{"$f":"ROWS($B$3:B9)","v":7},"","",null,null,{"$f":"IFERROR(INDEX($B$3:$B$496,J9,1),\"\")","v":""}]
[null,"BAILLEZ AIME","BAILLEZ","AIME","017295F","BILLY",null,{"$f":"ROWS($B$3:B10)","v":8},"","",null,null,{"$f":"IFERROR(INDEX($B$3:$B$496,J10,1),\"\")","v":""}]
[null,"BARBE JEAN MARC","BARBE","JEAN MARC","134146M","LE TOUQUET",null,{"$f":"ROWS($B$3:B11)","v":9},"","",null,null,{"$f":"IFERROR(INDEX($B$3:$B$496,J11,1),\"\")","v":""}]
[null,"BARMUTA PHILIPPE","BARMUTA","PHILIPPE","134074S","OUTREAU",null,{"$f":"ROWS($B$3:B12)","v":10},"","",null,null,{"$f":"IFERROR(INDEX($B$3:$B$496,J12,1),\"\")","v":""}]
[null,"BAYART PASCAL","BAYART","PASCAL","016982E","CARVIN",null,{"$f":"ROWS($B$3:B13)","v":11},"","",null,null,{"$f":"IFERROR(INDEX($B$3:$B$496,J13,1),\"\")","v":""}]
[null,"BEAUCHAMPS SAMUEL","BEAUCHAMPS","SAMUEL","176835M","FOUQUIERES",null,{"$f":"ROWS($B$3:B14)","v":12},"","",null,null,{"$f":"IFERROR(INDEX($B$3:$B$496,J14,1),\"\")","v":""}]
[null,"BEAUDUIN ADRIEN","BEAUDUIN","ADRIEN","166004P","BILLY",null,{"$f":"ROWS($B$3:B15)","v":13},"","",null,null,{"$f":"IFERROR(INDEX($B$3:$B$496,J15,1),\"\")","v":""}]
[null,"BEETS MARC","BEETS","MARC","101174I","DIVION",null,{"$f":"ROWS($B$3:B16)","v":14},"","",null,null,{"$f":"IFERROR(INDEX($B$3:$B$496,J16,1),\"\")","v":""}]
[null,"BENS MATHIEU","BENS","MATHIEU","168853L","ARRAS",null,{"$f":"ROWS($B$3:B17)","v":15},"","",null,null,{"$f":"IFERROR(INDEX($B$3:$B$496,J17,1),\"\")","v":""}]
[null,"BERNARD FRANCIS","BERNARD","FRANCIS","117728A","BILLY",null,{"$f":"ROWS($B$3:B18)","v":16},"","",null,null,{"$f":"IFERROR(INDEX($B$3:$B$496,J18,1),\"\")","v":""}]
[null,"BERNARD LAURENT","BERNARD","LAURENT","127738A","BILLY",null,{"$f":"ROWS($B$3:B19)","v":17},"","",null,null,{"$f":"IFERROR(INDEX($B$3:$B$496,J19,1),\"\")","v":""}]
[null,"BERRIER ANTOINE","BERRIER","ANTOINE","177234W","BILLY",null,{"$f":"ROWS($B$3:B20)","v":18},"","",null,null,{"$f":"IFERROR(INDEX($B$3:$B$496,J20,1),\"\")","v":""}]
[null,"BERTELOOT SYLVAIN","BERTELOOT","SYLVAIN","173590K","ARRAS",null,{"$f":"ROWS($B$3:B21)","v":19},"","",null,null,{"$f":"IFERROR(INDEX($B$3:$B$496,J21,1),\"\")","v":""}]
[null,"BERTOLOTTI BEATRICE","BERTOLOTTI","BEATRICE","016807L","CARVIN",null,{"$f":"ROWS($B$3:B22)","v":20},"","",null,null,{"$f":"IFERROR(INDEX($B$3:$B$496,J22,1),\"\")","v":""}]
[null,"BETRANCOURT PASCAL","BETRANCOURT","PASCAL","016746C","BILLY",null,{"$f":"ROWS($B$3:B23)","v":21},"","",null,null,{"$f":"IFERROR(INDEX($B$3:$B$496,J23,1),\"\")","v":""}]
[null,"BEUVELET JEAN MARIE","BEUVELET","JEAN MARIE","146362I","BILLY",null,{"$f":"ROWS($B$3:B24)","v":22},"","",null,null,{"$f":"IFERROR(INDEX($B$3:$B$496,J24,1),\"\")","v":""}]
[null,"BIGOT JEAN PIERRE","BIGOT","JEAN PIERRE","016942Q","CUCQ",null,{"$f":"ROWS($B$3:B25)","v":23},"","",null,null,{"$f":"IFERROR(INDEX($B$3:$B$496,J25,1),\"\")","v":""}]
[null,"BLANCKAERT ANDY","BLANCKAERT","ANDY","178200W","FOUQUIERES",null,{"$f":"ROWS($B$3:B26)","v":24},"","",null,null,{"$f":"IFERROR(INDEX($B$3:$B$496,J26,1),\"\")","v":""}]
[null,"BLONDEEL BRUNO","BLONDEEL","BRUNO","131428Y","OUTREAU",null,{"$f":"ROWS($B$3:B27)","v":25},"","",null,null,{"$f":"IFERROR(INDEX($B$3:$B$496,J27,1),\"\")","v":""}]
[null,"BLONDEEL FIRMIN","BLONDEEL","FIRMIN","133104K","OUTREAU",null,{"$f":"ROWS($B$3:B28)","v":26},"","",null,null,{"$f":"IFERROR(INDEX($B$3:$B$496,J28,1),\"\")","v":""}]
[null,"BOCQUET JEAN LUC","BOCQUET","JEAN LUC","016577P","BILLY",null,{"$f":"ROWS($B$3:B29)","v":27},"","",null,null,{"$f":"IFERROR(INDEX($B$3:$B$496,J29,1),\"\")","v":""}]
[null,"BON VINCENT","BON","VINCENT","017044O","BILLY",null,{"$f":"ROWS($B$3:B30)","v":28},"","",null,null,{"$f":"IFERROR(INDEX($B$3:$B$496,J30,1),\"\")","v":""}]
[null,"BONNET STEPHANE","BONNET","STEPHANE","148887J","OUTREAU",null,{"$f":"ROWS($B$3:B31)","v":29},"","",null,null,{"$f":"IFERROR(INDEX($B$3:$B$496,J31,1),\"\")","v":""}]
[null,"BORKOWSKI PATRICE","BORKOWSKI","PATRICE","171081H","BILLY",null,{"$f":"ROWS($B$3:B32)","v":30},"","",null,null,{"$f":"IFERROR(INDEX($B$3:$B$496,J32,1),\"\")","v":""}]
[null,"BOUBET JEAN","BOUBET","JEAN","121412S","CUCQ",null,{"$f":"ROWS($B$3:B33)","v":31},"","",null,null,{"$f":"IFERROR(INDEX($B$3:$B$496,J33,1),\"\")","v":""}]
[null,"BOUBET FRANCINE","BOUBET","FRANCINE","133115V","CUCQ",null,{"$f":"ROWS($B$3:B34)","v":32},"","",null,null,{"$f":"IFERROR(INDEX($B$3:$B$496,J34,1),\"\")","v":""}]
[null,"BRABANT DAVID","BRABANT","DAVID","171205S","ARRAS",null,{"$f":"ROWS($B$3:B35)","v":33},"","",null,null,{"$f":"IFERROR(INDEX($B$3:$B$496,J35,1),\"\")","v":""}]
[null,"BRASSEUR LUDOVIC","BRASSEUR","LUDOVIC","176867X","ARRAS",null,{"$f":"ROWS($B$3:B36)","v":34},"","",null,null,{"$f":"IFERROR(INDEX($B$3:$B$496,J36,1),\"\")","v":""}]
[null,"BRAZY ALAIN","BRAZY","ALAIN","102980U","CALAIS",null,{"$f":"ROWS($B$3:B37)","v":35},"","",null,null,{"$f":"IFERROR(INDEX($B$3:$B$496,J37,1),\"\")","v":""}]
[null,"BROCAIL PASCAL","BROCAIL","PASCAL","166006R","DIVION",null,{"$f":"ROWS($B$3:B38)","v":36},"","",null,null,{"$f":"IFERROR(INDEX($B$3:$B$496,J38,1),\"\")","v":""}]
[null,"BROUTIER BERTRAND","BROUTIER","BERTRAND","101241X","CUCQ",null,{"$f":"ROWS($B$3:B39)","v":37},"","",null,null,{"$f":"IFERROR(INDEX($B$3:$B$496,J39,1),\"\")","v":""}]
[null,"CABOCHE MARCEL","CABOCHE","MARCEL","017273J","BILLY",null,{"$f":"ROWS($B$3:B40)","v":38},"","",null,null,{"$f":"IFERROR(INDEX($B$3:$B$496,J40,1),\"\")","v":""}]
[null,"CALLEWAERT MATHEO","CALLEWAERT","MATHEO","178188H","BILLY",null,{"$f":"ROWS($B$3:B41)","v":39},"","",null,null,{"$f":"IFERROR(INDEX($B$3:$B$496,J41,1),\"\")","v":""}]
[null,"CALONNE JACQUES","CALONNE","JACQUES","174171R","LENS",null,{"$f":"ROWS($B$3:B42)","v":40},"","",null,null,{"$f":"IFERROR(INDEX($B$3:$B$496,J42,1),\"\")","v":""}]
[null,"CAMPAGNE CARINE","CAMPAGNE","CARINE","176850D","ARRAS",null,{"$f":"ROWS($B$3:B43)","v":41},"","",null,null,{"$f":"IFERROR(INDEX($B$3:$B$496,J43,1),\"\")","v":""}]
[null,"CANDEILLE JEAN LOUP","CANDEILLE","JEAN LOUP","157468L","LE TOUQUET",null,{"$f":"ROWS($B$3:B44)","v":42},"","",null,null,{"$f":"IFERROR(INDEX($B$3:$B$496,J44,1),\"\")","v":""}]
[null,"CAPLIEZ BERNARD","CAPLIEZ","BERNARD","143595X","LE TOUQUET",null,{"$f":"ROWS($B$3:B45)","v":43},"","",null,null,{"$f":"IFERROR(INDEX($B$3:$B$496,J45,1),\"\")","v":""}]
[null,"CAPRON JULIEN","CAPRON","JULIEN","176851E","ARRAS",null,{"$f":"ROWS($B$3:B46)","v":44},"","",null,null,{"$f":"IFERROR(INDEX($B$3:$B$496,J46,1),\"\")","v":""}]
[null,"CAPRON LAURENT","CAPRON","LAURENT","176852F","ARRAS",null,{"$f":"ROWS($B$3:B47)","v":45},"","",null,null,{"$f":"IFERROR(INDEX($B$3:$B$496,J47,1),\"\")","v":""}]
[null,"CARLI PATRICK","CARLI","PATRICK","017084C","BILLY",null,{"$f":"ROWS($B$3:B48)","v":46},"","",null,null,{"$f":"IFERROR(INDEX($B$3:$B$496,J48,1),\"\")","v":""}]
[null,"CARLIER QUENTIN","CARLIER","QUENTIN","162480J","ARRAS",null,{"$f":"ROWS($B$3:B49)","v":47},"","",null,null,{"$f":"IFERROR(INDEX($B$3:$B$496,J49,1),\"\")","v":""}]
[null,"CARON CHRISTIAN","CARON","CHRISTIAN","117742O","CUCQ",null,{"$f":"ROWS($B$3:B50)","v":48},"","",null,null,{"$f":"IFERROR(INDEX($B$3:$B$496,J50,1),\"\")","v":""}]
[null,"CARON MICHEL","CARON","MICHEL","129334K","FOUQUIERES",null,{"$f":"ROWS($B$3:B51)","v":49},"","",null,null,{"$f":"IFERROR(INDEX($B$3:$B$496,J51,1),\"\")","v":""}]
[null,"CARON JOEL","CARON","JOEL","171147E","CUCQ",null,{"$f":"ROWS($B$3:B52)","v":50},"","",null,null,{"$f":"IFERROR(INDEX($B$3:$B$496,J52,1),\"\")","v":""}]
[null,"CARTIERE ANDRE","CARTIERE","ANDRE","117749V","CUCQ",null,{"$f":"ROWS($B$3:B53)","v":51},"","",null,null,{"$f":"IFERROR(INDEX($B$3:$B$496,J53,1),\"\")","v":""}]
[null,"CATTEAU JEREMY","CATTEAU","JEREMY","173151H","ARRAS",null,{"$f":"ROWS($B$3:B54)","v":52},"","",null,null,{"$f":"IFERROR(INDEX($B$3:$B$496,J54,1),\"\")","v":""}]
[null,"CHAFI MAJID","CHAFI","MAJID","161278C","ARRAS",null,{"$f":"ROWS($B$3:B55)","v":53},"","",null,null,{"$f":"IFERROR(INDEX($B$3:$B$496,J55,1),\"\")","v":""}]
[null,"CHEVAILLIE JEAN PIERRE","CHEVAILLIE","JEAN PIERRE","126850W","CARVIN",null,{"$f":"ROWS($B$3:B56)","v":54},"","",null,null,{"$f":"IFERROR(INDEX($B$3:$B$496,J56,1),\"\")","v":""}]
[null,"CHUDZINSKI JEAN MARC","CHUDZINSKI","JEAN MARC","165787D","LE TOUQUET",null,{"$f":"ROWS($B$3:B57)","v":55},"","",null,null,{"$f":"IFERROR(INDEX($B$3:$B$496,J57,1),\"\")","v":""}]
[null,"CLEMENT ANNE","CLEMENT","ANNE","117760G","CUCQ",null,{"$f":"ROWS($B$3:B58)","v":56},"","",null,null,{"$f":"IFERROR(INDEX($B$3:$B$496,J58,1),\"\")","v":""}]
[null,"CLEMENT MICHAEL","CLEMENT","MICHAEL","176853G","ARRAS",null,{"$f":"ROWS($B$3:B59)","v":57},"","",null,null,{"$f":"IFERROR(INDEX($B$3:$B$496,J59,1),\"\")","v":""}]
[null,"COCHEZ PASCAL","COCHEZ","PASCAL","116585B","LE TOUQUET",null,{"$f":"ROWS($B$3:B60)","v":58},"","",null,null,{"$f":"IFERROR(INDEX($B$3:$B$496,J60,1),\"\")","v":""}]
[null,"COCHEZ QUENTIN","COCHEZ","QUENTIN","175077B","LE TOUQUET",null,{"$f":"ROWS($B$3:B61)","v":59},"","",null,null,{"$f":"IFERROR(INDEX($B$3:$B$496,J61,1),\"\")","v":""}]
[null,"COFFRE FREDERIC","COFFRE","FREDERIC","154322R","LE TOUQUET",null,{"$f":"ROWS($B$3:B62)","v":60},"","",null,null,{"$f":"IFERROR(INDEX($B$3:$B$496,J62,1),\"\")","v":""}]
[null,"COIN CLAUDE","COIN","CLAUDE","117751X","LE TOUQUET",null,{"$f":"ROWS($B$3:B63)","v":61},"","",null,null,{"$f":"IFERROR(INDEX($B$3:$B$496,J63,1),\"\")","v":""}]
[null,"COLYN STEEVE","COLYN","STEEVE","176556J","FOUQUIERES",null,{"$f":"ROWS($B$3:B64)","v":62},"","",null,null,{"$f":"IFERROR(INDEX($B$3:$B$496,J64,1),\"\")","v":""}]
[null,"COQUET PATRICK","COQUET","PATRICK","144417N","OUTREAU",null,{"$f":"ROWS($B$3:B65)","v":63},"","",null,null,{"$f":"IFERROR(INDEX($B$3:$B$496,J65,1),\"\")","v":""}]
[null,"CORBUSIE HUBERT","CORBUSIE","HUBERT","175117V","CUCQ",null,{"$f":"ROWS($B$3:B66)","v":64},"","",null,null,{"$f":"IFERROR(INDEX($B$3:$B$496,J66,1),\"\")","v":""}]
[null,{"$f":"C67 & \" \" &D67","v":"CORNOTE ROBERT"},"CORNOTE","ROBERT","136328K","OUTREAU",null,{"$f":"ROWS($B$3:B67)","v":65},{"$f":"IF(ISNUMBER(SEARCH($M$1,B67)),H67,\"\")","v":""},{"$f":"IFERROR(SMALL($I$3:$I$496,H67),\"\")","v":""},null,null,{"$f":"IFERROR(INDEX($B$3:$B$496,J67,1),\"\")","v":""}]
[null,"COSTEAUX DYLAN","COSTEAUX","DYLAN","154951A","FOUQUIERES",null,{"$f":"ROWS($B$3:B68)","v":66},"","",null,null,{"$f":"IFERROR(INDEX($B$3:$B$496,J68,1),\"\")","v":""}]
[null,"COTTON LUCILE","COTTON","LUCILE","159088X","ARRAS",null,{"$f":"ROWS($B$3:B69)","v":67},"","",null,null,{"$f":"IFERROR(INDEX($B$3:$B$496,J69,1),\"\")","v":""}]
[null,"COUVREUR MICHEL","COUVREUR","MICHEL","105371T","CALAIS",null,{"$f":"ROWS($B$3:B70)","v":68},"","",null,null,{"$f":"IFERROR(INDEX($B$3:$B$496,J70,1),\"\")","v":""}]
[null,"COUVREUR JEREMY","COUVREUR","JEREMY","105372U","CALAIS",null,{"$f":"ROWS($B$3:B71)","v":69},"","",null,null,{"$f":"IFERROR(INDEX($B$3:$B$496,J71,1),\"\")","v":""}]
[null,"CREPIN DIDIER","CREPIN","DIDIER","159367A","LENS",null,{"$f":"ROWS($B$3:B72)","v":70},"","",null,null,{"$f":"IFERROR(INDEX($B$3:$B$496,J72,1),\"\")","v":""}]
[null,"CRISSOVELONIS JEAN PAUL","CRISSOVELONIS","JEAN PAUL","178155X","WIZERNES",null,{"$f":"ROWS($B$3:B73)","v":71},"","",null,null,{"$f":"IFERROR(INDEX($B$3:$B$496,J73,1),\"\")","v":""}]
[null,"CROQUELOIS JEAN JACQUES","CROQUELOIS","JEAN JACQUES","017083B","BILLY",null,{"$f":"ROWS($B$3:B74)","v":72},"","",null,null,{"$f":"IFERROR(INDEX($B$3:$B$496,J74,1),\"\")","v":""}]
[null,"CYFFERS JEAN BERNARD","CYFFERS","JEAN BERNARD","156958G","CUCQ",null,{"$f":"ROWS($B$3:B75)","v":73},"","",null,null,{"$f":"IFERROR(INDEX($B$3:$B$496,J75,1),\"\")","v":""}]
[null,"DACHICOURT JEAN LUC","DACHICOURT","JEAN LUC","161503X","CUCQ",null,{"$f":"ROWS($B$3:B76)","v":74},"","",null,null,{"$f":"IFERROR(INDEX($B$3:$B$496,J76,1),\"\")","v":""}]
[null,"DARDENNE DAVID","DARDENNE","DAVID","177040K","FOUQUIERES",null,{"$f":"ROWS($B$3:B77)","v":75},"","",null,null,{"$f":"IFERROR(INDEX($B$3:$B$496,J77,1),\"\")","v":""}]
[null,"DAVESNES JOEL","DAVESNES","JOEL","176920E","CALAIS",null,{"$f":"ROWS($B$3:B78)","v":76},"","",null,null,{"$f":"IFERROR(INDEX($B$3:$B$496,J78,1),\"\")","v":""}]
[null,"DE RONNE ERIC","DE RONNE","ERIC","109157J","DIVION",null,{"$f":"ROWS($B$3:B79)","v":77},"","",null,null,{"$f":"IFERROR(INDEX($B$3:$B$496,J79,1),\"\")","v":""}]
[null,"DEBAETS PIERRE","DEBAETS","PIERRE","176235K","ARRAS",null,{"$f":"ROWS($B$3:B80)","v":78},"","",null,null,{"$f":"IFERROR(INDEX($B$3:$B$496,J80,1),\"\")","v":""}]
[null,"DECLETY ILAN","DECLETY","ILAN","177214Z","WIZERNES",null,{"$f":"ROWS($B$3:B81)","v":79},"","",null,null,{"$f":"IFERROR(INDEX($B$3:$B$496,J81,1),\"\")","v":""}]
[null,"DEGUINE VINCENT","DEGUINE","VINCENT","165976J","CALAIS",null,{"$f":"ROWS($B$3:B82)","v":80},"","",null,null,{"$f":"IFERROR(INDEX($B$3:$B$496,J82,1),\"\")","v":""}]
[null,"DELAPLACE LAURENT","DELAPLACE","LAURENT","177210V","ARRAS",null,{"$f":"ROWS($B$3:B83)","v":81},"","",null,null,{"$f":"IFERROR(INDEX($B$3:$B$496,J83,1),\"\")","v":""}]
[null,"DELATTRE CHRISTIAN","DELATTRE","CHRISTIAN","017030A","DIVION",null,{"$f":"ROWS($B$3:B84)","v":82},"","",null,null,{"$f":"IFERROR(INDEX($B$3:$B$496,J84,1),\"\")","v":""}]
[null,"DELATTRE PHILIPPE","DELATTRE","PHILIPPE","112747L","DIVION",null,{"$f":"ROWS($B$3:B85)","v":83},"","",null,null,{"$f":"IFERROR(INDEX($B$3:$B$496,J85,1),\"\")","v":""}]
[null,"DELBEY JULIEN","DELBEY","JULIEN","112719J","BILLY",null,{"$f":"ROWS($B$3:B86)","v":84},"","",null,null,{"$f":"IFERROR(INDEX($B$3:$B$496,J86,1),\"\")","v":""}]
[null,"DELOHEN FABRICE","DELOHEN","FABRICE","127667H","OUTREAU",null,{"$f":"ROWS($B$3:B87)","v":85},"","",null,null,{"$f":"IFERROR(INDEX($B$3:$B$496,J87,1),\"\")","v":""}]
[null,"DELSOL CLAUDE","DELSOL","CLAUDE","101150K","CARVIN",null,{"$f":"ROWS($B$3:B88)","v":86},"","",null,null,{"$f":"IFERROR(INDEX($B$3:$B$496,J88,1),\"\")","v":""}]
[null,"DEMARLE ELOISE","DEMARLE","ELOISE","171897V","ARRAS",null,{"$f":"ROWS($B$3:B89)","v":87},"","",null,null,{"$f":"IFERROR(INDEX($B$3:$B$496,J89,1),\"\")","v":""}]
[null,"DEMARTHE FABRICE","DEMARTHE","FABRICE","174704W","WIZERNES",null,{"$f":"ROWS($B$3:B90)","v":88},"","",null,null,{"$f":"IFERROR(INDEX($B$3:$B$496,J90,1),\"\")","v":""}]
[null,"DEPLECHIN ROBERT","DEPLECHIN","ROBERT","138329J","LE TOUQUET",null,{"$f":"ROWS($B$3:B91)","v":89},"","",null,null,{"$f":"IFERROR(INDEX($B$3:$B$496,J91,1),\"\")","v":""}]
[null,"DEPLECHIN ROLAND","DEPLECHIN","ROLAND","154167Y","LE TOUQUET",null,{"$f":"ROWS($B$3:B92)","v":90},"","",null,null,{"$f":"IFERROR(INDEX($B$3:$B$496,J92,1),\"\")","v":""}]
[null,"DERIS VINCENT","DERIS","VINCENT","161256D","DIVION",null,{"$f":"ROWS($B$3:B93)","v":91},"","",null,null,{"$f":"IFERROR(INDEX($B$3:$B$496,J93,1),\"\")","v":""}]
[null,"DERLIQUE JEAN CHARLES","DERLIQUE","JEAN CHARLES","157860M","ARRAS",null,{"$f":"ROWS($B$3:B94)","v":92},"","",null,null,{"$f":"IFERROR(INDEX($B$3:$B$496,J94,1),\"\")","v":""}]
[null,"DERYCKE THIERRY","DERYCKE","THIERRY","176854H","ARRAS",null,{"$f":"ROWS($B$3:B95)","v":93},"","",null,null,{"$f":"IFERROR(INDEX($B$3:$B$496,J95,1),\"\")","v":""}]
[null,"DESAILLY BERNARD","DESAILLY","BERNARD","157452T","CARVIN",null,{"$f":"ROWS($B$3:B96)","v":94},"","",null,null,{"$f":"IFERROR(INDEX($B$3:$B$496,J96,1),\"\")","v":""}]
[null,"DESBLEUMORTIERS ANDRE","DESBLEUMORTIERS","ANDRE","016530U","BILLY",null,{"$f":"ROWS($B$3:B97)","v":95},"","",null,null,{"$f":"IFERROR(INDEX($B$3:$B$496,J97,1),\"\")","v":""}]
[null,"DESCAMPS QUENTIN","DESCAMPS","QUENTIN","177825N","FOUQUIERES",null,{"$f":"ROWS($B$3:B98)","v":96},"","",null,null,{"$f":"IFERROR(INDEX($B$3:$B$496,J98,1),\"\")","v":""}]
[null,"DESCHACHT MAXIME","DESCHACHT","MAXIME","177086K","ARRAS",null,{"$f":"ROWS($B$3:B99)","v":97},"","",null,null,{"$f":"IFERROR(INDEX($B$3:$B$496,J99,1),\"\")","v":""}]
[null,"DESCHARLES DENIS","DESCHARLES","DENIS","142787V","OUTREAU",null,{"$f":"ROWS($B$3:B100)","v":98},"","",null,null,{"$f":"IFERROR(INDEX($B$3:$B$496,J100,1),\"\")","v":""}]
[null,"DESREUMAUX REGIS","DESREUMAUX","REGIS","016981D","CARVIN",null,{"$f":"ROWS($B$3:B101)","v":99},"","",null,null,{"$f":"IFERROR(INDEX($B$3:$B$496,J101,1),\"\")","v":""}]
[null,"DESSAINT ALAIN","DESSAINT","ALAIN","016757N","BILLY",null,{"$f":"ROWS($B$3:B102)","v":100},"","",null,null,{"$f":"IFERROR(INDEX($B$3:$B$496,J102,1),\"\")","v":""}]
[null,"DI LIBERTO ROSALIA","DI LIBERTO","ROSALIA","166045J","ARRAS",null,{"$f":"ROWS($B$3:B103)","v":101},"","",null,null,{"$f":"IFERROR(INDEX($B$3:$B$496,J103,1),\"\")","v":""}]
[null,"DIEVART GREGORY","DIEVART","GREGORY","176836N","FOUQUIERES",null,{"$f":"ROWS($B$3:B104)","v":102},"","",null,null,{"$f":"IFERROR(INDEX($B$3:$B$496,J104,1),\"\")","v":""}]
[null,"DILLY PASCAL","DILLY","PASCAL","176051K","FOUQUIERES",null,{"$f":"ROWS($B$3:B105)","v":103},"","",null,null,{"$f":"IFERROR(INDEX($B$3:$B$496,J105,1),\"\")","v":""}]
[null,"DJEBBAR SAMIR","DJEBBAR","SAMIR","175578W","FOUQUIERES",null,{"$f":"ROWS($B$3:B106)","v":104},"","",null,null,{"$f":"IFERROR(INDEX($B$3:$B$496,J106,1),\"\")","v":""}]
[null,"DUBOIS JEAN MARC","DUBOIS","JEAN MARC","124465D","WIZERNES",null,{"$f":"ROWS($B$3:B107)","v":105},"","",null,null,{"$f":"IFERROR(INDEX($B$3:$B$496,J107,1),\"\")","v":""}]
[null,"DUBOIS JEAN LOUIS","DUBOIS","JEAN LOUIS","172567Y","WIZERNES",null,{"$f":"ROWS($B$3:B108)","v":106},"","",null,null,{"$f":"IFERROR(INDEX($B$3:$B$496,J108,1),\"\")","v":""}]
[null,"DUBURQUE JOEL","DUBURQUE","JOEL","155678Q","CARVIN",null,{"$f":"ROWS($B$3:B109)","v":107},"","",null,null,{"$f":"IFERROR(INDEX($B$3:$B$496,J109,1),\"\")","v":""}]
[null,"DUCROCQ JOEL","DUCROCQ","JOEL","103017F","WIMILLE",null,{"$f":"ROWS($B$3:B110)","v":108},"","",null,null,{"$f":"IFERROR(INDEX($B$3:$B$496,J110,1),\"\")","v":""}]
[null,"DUCROCQ BENJAMIN","DUCROCQ","BENJAMIN","178469N","CUCQ",null,{"$f":"ROWS($B$3:B111)","v":109},"","",null,null,{"$f":"IFERROR(INDEX($B$3:$B$496,J111,1),\"\")","v":""}]
[null,"DUFAY YANNICK","DUFAY","YANNICK","121385R","WIZERNES",null,{"$f":"ROWS($B$3:B112)","v":110},"","",null,null,{"$f":"IFERROR(INDEX($B$3:$B$496,J112,1),\"\")","v":""}]
[null,"DUFLOS GEORGES","DUFLOS","GEORGES","121432M","OUTREAU",null,{"$f":"ROWS($B$3:B113)","v":111},"","",null,null,{"$f":"IFERROR(INDEX($B$3:$B$496,J113,1),\"\")","v":""}]
[null,"DUFRENNE GREGORY","DUFRENNE","GREGORY","127745H","OUTREAU",null,{"$f":"ROWS($B$3:B114)","v":112},"","",null,null,{"$f":"IFERROR(INDEX($B$3:$B$496,J114,1),\"\")","v":""}]
[null,"DUHAMEL LUC","DUHAMEL","LUC","016550O","CARVIN",null,{"$f":"ROWS($B$3:B115)","v":113},"","",null,null,{"$f":"IFERROR(INDEX($B$3:$B$496,J115,1),\"\")","v":""}]
[null,"DUHAMEL JEAN LOUIS","DUHAMEL","JEAN LOUIS","126839L","COURRIERES",null,{"$f":"ROWS($B$3:B116)","v":114},"","",null,null,{"$f":"IFERROR(INDEX($B$3:$B$496,J116,1),\"\")","v":""}]
[null,"DUMORTIER FREDDY","DUMORTIER","FREDDY","107643D","LE TOUQUET",null,{"$f":"ROWS($B$3:B117)","v":115},"","",null,null,{"$f":"IFERROR(INDEX($B$3:$B$496,J117,1),\"\")","v":""}]
[null,"DUPONT BERNARD","DUPONT","BERNARD","178264Q","CARVIN",null,{"$f":"ROWS($B$3:B118)","v":116},"","",null,null,{"$f":"IFERROR(INDEX($B$3:$B$496,J118,1),\"\")","v":""}]
[null,"DUQUENNE SYLVAIN","DUQUENNE","SYLVAIN","107613Z","CARVIN",null,{"$f":"ROWS($B$3:B119)","v":117},"","",null,null,{"$f":"IFERROR(INDEX($B$3:$B$496,J119,1),\"\")","v":""}]
[null,"DUQUESNOY JEAN CLAUDE","DUQUESNOY","JEAN CLAUDE","016758O","BILLY",null,{"$f":"ROWS($B$3:B120)","v":118},"","",null,null,{"$f":"IFERROR(INDEX($B$3:$B$496,J120,1),\"\")","v":""}]
[null,"DUQUESNOY JULIEN","DUQUESNOY","JULIEN","176201Y","ARRAS",null,{"$f":"ROWS($B$3:B121)","v":119},"","",null,null,{"$f":"IFERROR(INDEX($B$3:$B$496,J121,1),\"\")","v":""}]
[null,"ELLART JEAN CLAUDE","ELLART","JEAN CLAUDE","101125L","BILLY",null,{"$f":"ROWS($B$3:B122)","v":120},"","",null,null,{"$f":"IFERROR(INDEX($B$3:$B$496,J122,1),\"\")","v":""}]
[null,"EVRARD FRANCKY","EVRARD","FRANCKY","133051J","FOUQUIERES",null,{"$f":"ROWS($B$3:B123)","v":121},"","",null,null,{"$f":"IFERROR(INDEX($B$3:$B$496,J123,1),\"\")","v":""}]
[null,"FALSE CLAUDE","FALSE","CLAUDE","016903D","BILLY",null,{"$f":"ROWS($B$3:B124)","v":122},"","",null,null,{"$f":"IFERROR(INDEX($B$3:$B$496,J124,1),\"\")","v":""}]
[null,"FALSE FRANCK","FALSE","FRANCK","016907H","BILLY",null,{"$f":"ROWS($B$3:B125)","v":123},"","",null,null,{"$f":"IFERROR(INDEX($B$3:$B$496,J125,1),\"\")","v":""}]
[null,"FAMCHON FREDERIC","FAMCHON","FREDERIC","138704U","OUTREAU",null,{"$f":"ROWS($B$3:B126)","v":124},"","",null,null,{"$f":"IFERROR(INDEX($B$3:$B$496,J126,1),\"\")","v":""}]
[null,"FAUQUEMBERGUE RENAUD","FAUQUEMBERGUE","RENAUD","133043B","CARVIN",null,{"$f":"ROWS($B$3:B127)","v":125},"","",null,null,{"$f":"IFERROR(INDEX($B$3:$B$496,J127,1),\"\")","v":""}]
[null,"FERMAUT JEAN MARIE","FERMAUT","JEAN MARIE","016918S","DIVION",null,{"$f":"ROWS($B$3:B128)","v":126},"","",null,null,{"$f":"IFERROR(INDEX($B$3:$B$496,J128,1),\"\")","v":""}]
[null,"FLAHAUT PATRICE","FLAHAUT","PATRICE","127702Q","CALAIS",null,{"$f":"ROWS($B$3:B129)","v":127},"","",null,null,{"$f":"IFERROR(INDEX($B$3:$B$496,J129,1),\"\")","v":""}]
[null,"FLAHAUT GHISLAIN","FLAHAUT","GHISLAIN","159163D","CUCQ",null,{"$f":"ROWS($B$3:B130)","v":128},"","",null,null,{"$f":"IFERROR(INDEX($B$3:$B$496,J130,1),\"\")","v":""}]
[null,{"$f":"C131 & \" \" &D131","v":"FLORENT BERNARD"},"FLORENT","BERNARD","016852E","CUCQ",null,{"$f":"ROWS($B$3:B131)","v":129},{"$f":"IF(ISNUMBER(SEARCH($M$1,B131)),H131,\"\")","v":""},{"$f":"IFERROR(SMALL($I$3:$I$496,H131),\"\")","v":""},null,null,{"$f":"IFERROR(INDEX($B$3:$B$496,J131,1),\"\")","v":""}]
[null,"FONTAINE CHRISTIAN","FONTAINE","CHRISTIAN","112748M","DIVION",null,{"$f":"ROWS($B$3:B132)","v":130},"","",null,null,{"$f":"IFERROR(INDEX($B$3:$B$496,J132,1),\"\")","v":""}]
[null,"FOUCHARD FLORIAN","FOUCHARD","FLORIAN","177152G","FOUQUIERES",null,{"$f":"ROWS($B$3:B133)","v":131},"","",null,null,{"$f":"IFERROR(INDEX($B$3:$B$496,J133,1),\"\")","v":""}]
[null,"FOULON MIGUEL","FOULON","MIGUEL","133044C","FOUQUIERES",null,{"$f":"ROWS($B$3:B134)","v":132},"","",null,null,{"$f":"IFERROR(INDEX($B$3:$B$496,J134,1),\"\")","v":""}]
[null,"FOULON ROBIN","FOULON","ROBIN","135986G","FOUQUIERES",null,{"$f":"ROWS($B$3:B135)","v":133},"","",null,null,{"$f":"IFERROR(INDEX($B$3:$B$496,J135,1),\"\")","v":""}]
[null,"FOULON JEREMY","FOULON","JEREMY","138344Y","FOUQUIERES",null,{"$f":"ROWS($B$3:B136)","v":134},"","",null,null,{"$f":"IFERROR(INDEX($B$3:$B$496,J136,1),\"\")","v":""}]
[null,"FOULON LYLOO","FOULON","LYLOO","177902X","FOUQUIERES",null,{"$f":"ROWS($B$3:B137)","v":135},"","",null,null,{"$f":"IFERROR(INDEX($B$3:$B$496,J137,1),\"\")","v":""}]
[null,"FOURCROY ALAIN","FOURCROY","ALAIN","141331V","BILLY",null,{"$f":"ROWS($B$3:B138)","v":136},"","",null,null,{"$f":"IFERROR(INDEX($B$3:$B$496,J138,1),\"\")","v":""}]
[null,"FOURNIER JOEL","FOURNIER","JOEL","130180Y","OUTREAU",null,{"$f":"ROWS($B$3:B139)","v":137},"","",null,null,{"$f":"IFERROR(INDEX($B$3:$B$496,J139,1),\"\")","v":""}]
[null,"GAMBIER FRANCIS","GAMBIER","FRANCIS","165884J","CUCQ",null,{"$f":"ROWS($B$3:B140)","v":138},"","",null,null,{"$f":"IFERROR(INDEX($B$3:$B$496,J140,1),\"\")","v":""}]
[null,"GELEE ROHAN","GELEE","ROHAN","131083R","CUCQ",null,{"$f":"ROWS($B$3:B141)","v":139},"","",null,null,{"$f":"IFERROR(INDEX($B$3:$B$496,J141,1),\"\")","v":""}]
[null,"GENTILE WALTER","GENTILE","WALTER","017171L","BILLY",null,{"$f":"ROWS($B$3:B142)","v":140},"","",null,null,{"$f":"IFERROR(INDEX($B$3:$B$496,J142,1),\"\")","v":""}]
[null,"GERINECZ LOUIS","GERINECZ","LOUIS","126851X","CARVIN",null,{"$f":"ROWS($B$3:B143)","v":141},"","",null,null,{"$f":"IFERROR(INDEX($B$3:$B$496,J143,1),\"\")","v":""}]
[null,"GILLES ANDY","GILLES","ANDY","157863Q","ARRAS",null,{"$f":"ROWS($B$3:B144)","v":142},"","",null,null,{"$f":"IFERROR(INDEX($B$3:$B$496,J144,1),\"\")","v":""}]
[null,"GODART MICHEL","GODART","MICHEL","133054M","DIVION",null,{"$f":"ROWS($B$3:B145)","v":143},"","",null,null,{"$f":"IFERROR(INDEX($B$3:$B$496,J145,1),\"\")","v":""}]
[null,"GOETINCK FREDERIC","GOETINCK","FREDERIC","117692Q","BILLY",null,{"$f":"ROWS($B$3:B146)","v":144},"","",null,null,{"$f":"IFERROR(INDEX($B$3:$B$496,J146,1),\"\")","v":""}]
[null,"GORNICK JEAN PIERRE","GORNICK","JEAN PIERRE","126831D","BILLY",null,{"$f":"ROWS($B$3:B147)","v":145},"","",null,null,{"$f":"IFERROR(INDEX($B$3:$B$496,J147,1),\"\")","v":""}]
[null,"GORZELSKI ARNAUD","GORZELSKI","ARNAUD","017024U","BILLY",null,{"$f":"ROWS($B$3:B148)","v":146},"","",null,null,{"$f":"IFERROR(INDEX($B$3:$B$496,J148,1),\"\")","v":""}]
[null,"GOUBERT CHRISTOPHE","GOUBERT","CHRISTOPHE","129316S","CARVIN",null,{"$f":"ROWS($B$3:B149)","v":147},"","",null,null,{"$f":"IFERROR(INDEX($B$3:$B$496,J149,1),\"\")","v":""}]
[null,"GRADEL LAURENT","GRADEL","LAURENT","168292B","ARRAS",null,{"$f":"ROWS($B$3:B150)","v":148},"","",null,null,{"$f":"IFERROR(INDEX($B$3:$B$496,J150,1),\"\")","v":""}]
[null,"GREGOIRE PATRICK","GREGOIRE","PATRICK","170821A","LE TOUQUET",null,{"$f":"ROWS($B$3:B151)","v":149},"","",null,null,{"$f":"IFERROR(INDEX($B$3:$B$496,J151,1),\"\")","v":""}]
[null,"GRUDA JEAN LUC","GRUDA","JEAN LUC","174031P","ARRAS",null,{"$f":"ROWS($B$3:B152)","v":150},"","",null,null,{"$f":"IFERROR(INDEX($B$3:$B$496,J152,1),\"\")","v":""}]
[null,"GUBIC GERALD","GUBIC","GERALD","163224S","ARRAS",null,{"$f":"ROWS($B$3:B153)","v":151},"","",null,null,{"$f":"IFERROR(INDEX($B$3:$B$496,J153,1),\"\")","v":""}]
[null,"GUEUDRE GERARD","GUEUDRE","GERARD","169942V","CUCQ",null,{"$f":"ROWS($B$3:B154)","v":152},"","",null,null,{"$f":"IFERROR(INDEX($B$3:$B$496,J154,1),\"\")","v":""}]
[null,"GUY SEBASTIEN","GUY","SEBASTIEN","175246K","OUTREAU",null,{"$f":"ROWS($B$3:B155)","v":153},"","",null,null,{"$f":"IFERROR(INDEX($B$3:$B$496,J155,1),\"\")","v":""}]
[null,"GUYOT PIERRE","GUYOT","PIERRE","157520S","CUCQ",null,{"$f":"ROWS($B$3:B156)","v":154},"","",null,null,{"$f":"IFERROR(INDEX($B$3:$B$496,J156,1),\"\")","v":""}]
[null,"GWIZDALA GERARD","GWIZDALA","GERARD","138336Q","WIZERNES",null,{"$f":"ROWS($B$3:B157)","v":155},"","",null,null,{"$f":"IFERROR(INDEX($B$3:$B$496,J157,1),\"\")","v":""}]
[null,"HAGNERE DOMINIQUE","HAGNERE","DOMINIQUE","158319L","LE TOUQUET",null,{"$f":"ROWS($B$3:B158)","v":156},"","",null,null,{"$f":"IFERROR(INDEX($B$3:$B$496,J158,1),\"\")","v":""}]
[null,"HEBBEN PIERRE","HEBBEN","PIERRE","016518I","BILLY",null,{"$f":"ROWS($B$3:B159)","v":157},"","",null,null,{"$f":"IFERROR(INDEX($B$3:$B$496,J159,1),\"\")","v":""}]
[null,"HEBBEN LILIANE","HEBBEN","LILIANE","017164E","BILLY",null,{"$f":"ROWS($B$3:B160)","v":158},"","",null,null,{"$f":"IFERROR(INDEX($B$3:$B$496,J160,1),\"\")","v":""}]
[null,"HEMBERT ALAIN","HEMBERT","ALAIN","142782Q","CALAIS",null,{"$f":"ROWS($B$3:B161)","v":159},"","",null,null,{"$f":"IFERROR(INDEX($B$3:$B$496,J161,1),\"\")","v":""}]
[null,"HENNE ANDRE","HENNE","ANDRE","126830C","FOUQUIERES",null,{"$f":"ROWS($B$3:B162)","v":160},"","",null,null,{"$f":"IFERROR(INDEX($B$3:$B$496,J162,1),\"\")","v":""}]
[null,"HENRY GERARD","HENRY","GERARD","167467E","CUCQ",null,{"$f":"ROWS($B$3:B163)","v":161},"","",null,null,{"$f":"IFERROR(INDEX($B$3:$B$496,J163,1),\"\")","v":""}]
[null,"HENTGES CHARLES","HENTGES","CHARLES","154333D","LE TOUQUET",null,{"$f":"ROWS($B$3:B164)","v":162},"","",null,null,{"$f":"IFERROR(INDEX($B$3:$B$496,J164,1),\"\")","v":""}]
[null,"HENTZ COLETTE","HENTZ","COLETTE","158062G","BILLY",null,{"$f":"ROWS($B$3:B165)","v":163},"","",null,null,{"$f":"IFERROR(INDEX($B$3:$B$496,J165,1),\"\")","v":""}]
[null,"HERMANT PIERRE","HERMANT","PIERRE","166062C","ARRAS",null,{"$f":"ROWS($B$3:B166)","v":164},"","",null,null,{"$f":"IFERROR(INDEX($B$3:$B$496,J166,1),\"\")","v":""}]
[null,"HERMANT MAXIME","HERMANT","MAXIME","176855J","ARRAS",null,{"$f":"ROWS($B$3:B167)","v":165},"","",null,null,{"$f":"IFERROR(INDEX($B$3:$B$496,J167,1),\"\")","v":""}]
[null,"HEROGUEZ BERNARD","HEROGUEZ","BERNARD","147724V","LE TOUQUET",null,{"$f":"ROWS($B$3:B168)","v":166},"","",null,null,{"$f":"IFERROR(INDEX($B$3:$B$496,J168,1),\"\")","v":""}]
[null,"HIMBLOT LORENZO","HIMBLOT","LORENZO","171906E","ARRAS",null,{"$f":"ROWS($B$3:B169)","v":167},"","",null,null,{"$f":"IFERROR(INDEX($B$3:$B$496,J169,1),\"\")","v":""}]
[null,"HOROWICZ GEORGES","HOROWICZ","GEORGES","158210S","CUCQ",null,{"$f":"ROWS($B$3:B170)","v":168},"","",null,null,{"$f":"IFERROR(INDEX($B$3:$B$496,J170,1),\"\")","v":""}]
[null,"HOTTE JEAN LOUIS","HOTTE","JEAN LOUIS","016525P","COURRIERES",null,{"$f":"ROWS($B$3:B171)","v":169},"","",null,null,{"$f":"IFERROR(INDEX($B$3:$B$496,J171,1),\"\")","v":""}]
[null,"HUBERT OLIVIER","HUBERT","OLIVIER","016904E","BILLY",null,{"$f":"ROWS($B$3:B172)","v":170},"","",null,null,{"$f":"IFERROR(INDEX($B$3:$B$496,J172,1),\"\")","v":""}]
[null,"HUBERT FABRICE","HUBERT","FABRICE","016976Y","BILLY",null,{"$f":"ROWS($B$3:B173)","v":171},"","",null,null,{"$f":"IFERROR(INDEX($B$3:$B$496,J173,1),\"\")","v":""}]
[null,"HUBERT HERVE","HUBERT","HERVE","101140A","COURRIERES",null,{"$f":"ROWS($B$3:B174)","v":172},"","",null,null,{"$f":"IFERROR(INDEX($B$3:$B$496,J174,1),\"\")","v":""}]
[null,"HUBERT THOMAS","HUBERT","THOMAS","107597J","BILLY",null,{"$f":"ROWS($B$3:B175)","v":173},"","",null,null,{"$f":"IFERROR(INDEX($B$3:$B$496,J175,1),\"\")","v":""}]
[null,"HUBERT MAXIME","HUBERT","MAXIME","133038W","BILLY",null,{"$f":"ROWS($B$3:B176)","v":174},"","",null,null,{"$f":"IFERROR(INDEX($B$3:$B$496,J176,1),\"\")","v":""}]
[null,"ISAERT PATRICK","ISAERT","PATRICK","170606R","CUCQ",null,{"$f":"ROWS($B$3:B177)","v":175},"","",null,null,{"$f":"IFERROR(INDEX($B$3:$B$496,J177,1),\"\")","v":""}]
[null,"JACQUES LIONEL","JACQUES","LIONEL","020725D","BILLY",null,{"$f":"ROWS($B$3:B178)","v":176},"","",null,null,{"$f":"IFERROR(INDEX($B$3:$B$496,J178,1),\"\")","v":""}]
[null,"JOUINOT ISABELLE","JOUINOT","ISABELLE","171953F","ARRAS",null,{"$f":"ROWS($B$3:B179)","v":177},"","",null,null,{"$f":"IFERROR(INDEX($B$3:$B$496,J179,1),\"\")","v":""}]
[null,"JUSTIN CHRISTIAN","JUSTIN","CHRISTIAN","016688W","OUTREAU",null,{"$f":"ROWS($B$3:B180)","v":178},"","",null,null,{"$f":"IFERROR(INDEX($B$3:$B$496,J180,1),\"\")","v":""}]
[null,"KAYNDASZYK RAYMOND","KAYNDASZYK","RAYMOND","147475Z","LENS",null,{"$f":"ROWS($B$3:B181)","v":179},"","",null,null,{"$f":"IFERROR(INDEX($B$3:$B$496,J181,1),\"\")","v":""}]
[null,"KAYNDASZYK PIERRE","KAYNDASZYK","PIERRE","149449V","LENS",null,{"$f":"ROWS($B$3:B182)","v":180},"","",null,null,{"$f":"IFERROR(INDEX($B$3:$B$496,J182,1),\"\")","v":""}]
[null,"KERLEVEO ANDRE","KERLEVEO","ANDRE","171110P","CUCQ",null,{"$f":"ROWS($B$3:B183)","v":181},"","",null,null,{"$f":"IFERROR(INDEX($B$3:$B$496,J183,1),\"\")","v":""}]
[null,"KIMUS DAVID","KIMUS","DAVID","166012Y","ARRAS",null,{"$f":"ROWS($B$3:B184)","v":182},"","",null,null,{"$f":"IFERROR(INDEX($B$3:$B$496,J184,1),\"\")","v":""}]
[null,"KRAWCZYK FRANCOIS","KRAWCZYK","FRANCOIS","016555T","CARVIN",null,{"$f":"ROWS($B$3:B185)","v":183},"","",null,null,{"$f":"IFERROR(INDEX($B$3:$B$496,J185,1),\"\")","v":""}]
[null,"KURTI SAIMIR","KURTI","SAIMIR","172600J","FOUQUIERES",null,{"$f":"ROWS($B$3:B186)","v":184},"","",null,null,{"$f":"IFERROR(INDEX($B$3:$B$496,J186,1),\"\")","v":""}]
[null,"LAMARRE REGIS","LAMARRE","REGIS","158668Q","CALAIS",null,{"$f":"ROWS($B$3:B187)","v":185},"","",null,null,{"$f":"IFERROR(INDEX($B$3:$B$496,J187,1),\"\")","v":""}]
[null,"LANCRY BRUNO","LANCRY","BRUNO","159217M","CUCQ",null,{"$f":"ROWS($B$3:B188)","v":186},"","",null,null,{"$f":"IFERROR(INDEX($B$3:$B$496,J188,1),\"\")","v":""}]
[null,"LANDRY PATRICK","LANDRY","PATRICK","170849F","ARRAS",null,{"$f":"ROWS($B$3:B189)","v":187},"","",null,null,{"$f":"IFERROR(INDEX($B$3:$B$496,J189,1),\"\")","v":""}]
[null,"LARTISIEN JEAN PAUL","LARTISIEN","JEAN PAUL","139432U","CARVIN",null,{"$f":"ROWS($B$3:B190)","v":188},"","",null,null,{"$f":"IFERROR(INDEX($B$3:$B$496,J190,1),\"\")","v":""}]
[null,"LEBECQ JEAN PIERRE","LEBECQ","JEAN PIERRE","017236Y","CUCQ",null,{"$f":"ROWS($B$3:B191)","v":189},"","",null,null,{"$f":"IFERROR(INDEX($B$3:$B$496,J191,1),\"\")","v":""}]
[null,"LEBLANC JEAN NOEL","LEBLANC","JEAN NOEL","017175P","DIVION",null,{"$f":"ROWS($B$3:B192)","v":190},"","",null,null,{"$f":"IFERROR(INDEX($B$3:$B$496,J192,1),\"\")","v":""}]
[null,"LECIEUX GUY","LECIEUX","GUY","112750O","DIVION",null,{"$f":"ROWS($B$3:B193)","v":191},"","",null,null,{"$f":"IFERROR(INDEX($B$3:$B$496,J193,1),\"\")","v":""}]
[null,"LECLERCQ MICHEL","LECLERCQ","MICHEL","017185Z","DIVION",null,{"$f":"ROWS($B$3:B194)","v":192},"","",null,null,{"$f":"IFERROR(INDEX($B$3:$B$496,J194,1),\"\")","v":""}]
[null,{"$f":"C195 & \" \" &D195","v":"LEDEZ MICHAEL"},"LEDEZ","MICHAEL","166039C","OUTREAU",null,{"$f":"ROWS($B$3:B195)","v":193},{"$f":"IF(ISNUMBER(SEARCH($M$1,B195)),H195,\"\")","v":""},{"$f":"IFERROR(SMALL($I$3:$I$496,H195),\"\")","v":""},null,null,{"$f":"IFERROR(INDEX($B$3:$B$496,J195,1),\"\")","v":""}]
[null,"LEDOUX RENE","LEDOUX","RENE","158688M","CUCQ",null,{"$f":"ROWS($B$3:B196)","v":194},"","",null,null,{"$f":"IFERROR(INDEX($B$3:$B$496,J196,1),\"\")","v":""}]
[null,"LEDUC GUY","LEDUC","GUY","149667G","OUTREAU",null,{"$f":"ROWS($B$3:B197)","v":195},"","",null,null,{"$f":"IFERROR(INDEX($B$3:$B$496,J197,1),\"\")","v":""}]
[null,"LEDUC PASCAL","LEDUC","PASCAL","175759S","ARRAS",null,{"$f":"ROWS($B$3:B198)","v":196},"","",null,null,{"$f":"IFERROR(INDEX($B$3:$B$496,J198,1),\"\")","v":""}]
[null,"LEFEBVRE LUCAS","LEFEBVRE","LUCAS","150713T","FOUQUIERES",null,{"$f":"ROWS($B$3:B199)","v":197},"","",null,null,{"$f":"IFERROR(INDEX($B$3:$B$496,J199,1),\"\")","v":""}]
[null,"LEFEVRE PHILIPPE","LEFEVRE","PHILIPPE","177209T","ARRAS",null,{"$f":"ROWS($B$3:B200)","v":198},"","",null,null,{"$f":"IFERROR(INDEX($B$3:$B$496,J200,1),\"\")","v":""}]
[null,"LEGRAIN ALAIN","LEGRAIN","ALAIN","169473K","CUCQ",null,{"$f":"ROWS($B$3:B201)","v":199},"","",null,null,{"$f":"IFERROR(INDEX($B$3:$B$496,J201,1),\"\")","v":""}]
[null,"LEGRAND FRANCIS","LEGRAND","FRANCIS","016768Y","DIVION",null,{"$f":"ROWS($B$3:B202)","v":200},"","",null,null,{"$f":"IFERROR(INDEX($B$3:$B$496,J202,1),\"\")","v":""}]
[null,"LEGRAND ERIC","LEGRAND","ERIC","121391X","WIZERNES",null,{"$f":"ROWS($B$3:B203)","v":201},"","",null,null,{"$f":"IFERROR(INDEX($B$3:$B$496,J203,1),\"\")","v":""}]
[null,"LEMAIRE GILLES","LEMAIRE","GILLES","169167C","ARRAS",null,{"$f":"ROWS($B$3:B204)","v":202},"","",null,null,{"$f":"IFERROR(INDEX($B$3:$B$496,J204,1),\"\")","v":""}]
[null,"LEMAITRE MELANIE","LEMAITRE","MELANIE","168848F","ARRAS",null,{"$f":"ROWS($B$3:B205)","v":203},"","",null,null,{"$f":"IFERROR(INDEX($B$3:$B$496,J205,1),\"\")","v":""}]
[null,"LEMPEREUR ALAIN","LEMPEREUR","ALAIN","135985F","CARVIN",null,{"$f":"ROWS($B$3:B206)","v":204},"","",null,null,{"$f":"IFERROR(INDEX($B$3:$B$496,J206,1),\"\")","v":""}]
[null,"LENGOWSKI ALAIN","LENGOWSKI","ALAIN","177077A","FOUQUIERES",null,{"$f":"ROWS($B$3:B207)","v":205},"","",null,null,{"$f":"IFERROR(INDEX($B$3:$B$496,J207,1),\"\")","v":""}]
[null,"LENNE JEAN","LENNE","JEAN","149953S","LE TOUQUET",null,{"$f":"ROWS($B$3:B208)","v":206},"","",null,null,{"$f":"IFERROR(INDEX($B$3:$B$496,J208,1),\"\")","v":""}]
[null,"LEROUX DANY","LEROUX","DANY","176838Q","FOUQUIERES",null,{"$f":"ROWS($B$3:B209)","v":207},"","",null,null,{"$f":"IFERROR(INDEX($B$3:$B$496,J209,1),\"\")","v":""}]
[null,"LETALLE DIDIER","LETALLE","DIDIER","123709B","CARVIN",null,{"$f":"ROWS($B$3:B210)","v":208},"","",null,null,{"$f":"IFERROR(INDEX($B$3:$B$496,J210,1),\"\")","v":""}]
[null,"LHERMITTE PASCAL","LHERMITTE","PASCAL","016808M","CARVIN",null,{"$f":"ROWS($B$3:B211)","v":209},"","",null,null,{"$f":"IFERROR(INDEX($B$3:$B$496,J211,1),\"\")","v":""}]
[null,"LHOMME SYLVAIN","LHOMME","SYLVAIN","160905X","ARRAS",null,{"$f":"ROWS($B$3:B212)","v":210},"","",null,null,{"$f":"IFERROR(INDEX($B$3:$B$496,J212,1),\"\")","v":""}]
[null,"LIBERT MARC","LIBERT","MARC","144615D","OUTREAU",null,{"$f":"ROWS($B$3:B213)","v":211},"","",null,null,{"$f":"IFERROR(INDEX($B$3:$B$496,J213,1),\"\")","v":""}]
[null,"LIETARD OLIVIER","LIETARD","OLIVIER","173591L","ARRAS",null,{"$f":"ROWS($B$3:B214)","v":212},"","",null,null,{"$f":"IFERROR(INDEX($B$3:$B$496,J214,1),\"\")","v":""}]
[null,"LIETARD VALENTIN","LIETARD","VALENTIN","176856K","ARRAS",null,{"$f":"ROWS($B$3:B215)","v":213},"","",null,null,{"$f":"IFERROR(INDEX($B$3:$B$496,J215,1),\"\")","v":""}]
[null,"LIMOSINO JACQUES","LIMOSINO","JACQUES","169417Z","CUCQ",null,{"$f":"ROWS($B$3:B216)","v":214},"","",null,null,{"$f":"IFERROR(INDEX($B$3:$B$496,J216,1),\"\")","v":""}]
[null,"LUSSEAU MAXIME","LUSSEAU","MAXIME","169849T","BILLY",null,{"$f":"ROWS($B$3:B217)","v":215},"","",null,null,{"$f":"IFERROR(INDEX($B$3:$B$496,J217,1),\"\")","v":""}]
[null,"MACHEZ ALAIN","MACHEZ","ALAIN","016770A","DIVION",null,{"$f":"ROWS($B$3:B218)","v":216},"","",null,null,{"$f":"IFERROR(INDEX($B$3:$B$496,J218,1),\"\")","v":""}]
[null,"MAIRESSE CHRISTIAN","MAIRESSE","CHRISTIAN","134132Y","LE TOUQUET",null,{"$f":"ROWS($B$3:B219)","v":217},"","",null,null,{"$f":"IFERROR(INDEX($B$3:$B$496,J219,1),\"\")","v":""}]
[null,"MALO ALAIN","MALO","ALAIN","174621F","ARRAS",null,{"$f":"ROWS($B$3:B220)","v":218},"","",null,null,{"$f":"IFERROR(INDEX($B$3:$B$496,J220,1),\"\")","v":""}]
[null,"MARCHANDIER PHILIPPE","MARCHANDIER","PHILIPPE","112765D","WIZERNES",null,{"$f":"ROWS($B$3:B221)","v":219},"","",null,null,{"$f":"IFERROR(INDEX($B$3:$B$496,J221,1),\"\")","v":""}]
[null,"MARCHIONE JOSEPH","MARCHIONE","JOSEPH","112687D","COURRIERES",null,{"$f":"ROWS($B$3:B222)","v":220},"","",null,null,{"$f":"IFERROR(INDEX($B$3:$B$496,J222,1),\"\")","v":""}]
[null,"MARKOWSKI ALEXIA","MARKOWSKI","ALEXIA","177435P","COURRIERES",null,{"$f":"ROWS($B$3:B223)","v":221},"","",null,null,{"$f":"IFERROR(INDEX($B$3:$B$496,J223,1),\"\")","v":""}]
[null,"MARLARD LEOPOLD","MARLARD","LEOPOLD","107656Q","CALAIS",null,{"$f":"ROWS($B$3:B224)","v":222},"","",null,null,{"$f":"IFERROR(INDEX($B$3:$B$496,J224,1),\"\")","v":""}]
[null,"MARTEL MICHEL","MARTEL","MICHEL","131084S","CUCQ",null,{"$f":"ROWS($B$3:B225)","v":223},"","",null,null,{"$f":"IFERROR(INDEX($B$3:$B$496,J225,1),\"\")","v":""}]
[null,"MARTIN THIERRY","MARTIN","THIERRY","164908Y","ARRAS",null,{"$f":"ROWS($B$3:B226)","v":224},"","",null,null,{"$f":"IFERROR(INDEX($B$3:$B$496,J226,1),\"\")","v":""}]
[null,"MARTINS CARLOS","MARTINS","CARLOS","016579R","BILLY",null,{"$f":"ROWS($B$3:B227)","v":225},"","",null,null,{"$f":"IFERROR(INDEX($B$3:$B$496,J227,1),\"\")","v":""}]
[null,"MASSON ALAIN","MASSON","ALAIN","149526D","CARVIN",null,{"$f":"ROWS($B$3:B228)","v":226},"","",null,null,{"$f":"IFERROR(INDEX($B$3:$B$496,J228,1),\"\")","v":""}]
[null,"MAZURIER JEAN LOUIS","MAZURIER","JEAN LOUIS","013710I","OUTREAU",null,{"$f":"ROWS($B$3:B229)","v":227},"","",null,null,{"$f":"IFERROR(INDEX($B$3:$B$496,J229,1),\"\")","v":""}]
[null,"MEHIDI TIJANI","MEHIDI","TIJANI","177342N","BILLY",null,{"$f":"ROWS($B$3:B230)","v":228},"","",null,null,{"$f":"IFERROR(INDEX($B$3:$B$496,J230,1),\"\")","v":""}]
[null,"MELLIN GEORGES","MELLIN","GEORGES","154852S","LE TOUQUET",null,{"$f":"ROWS($B$3:B231)","v":229},"","",null,null,{"$f":"IFERROR(INDEX($B$3:$B$496,J231,1),\"\")","v":""}]
[null,"MENOUS FABRICE","MENOUS","FABRICE","107635V","DIVION",null,{"$f":"ROWS($B$3:B232)","v":230},"","",null,null,{"$f":"IFERROR(INDEX($B$3:$B$496,J232,1),\"\")","v":""}]
[null,"MERLIN CHRISTIAN","MERLIN","CHRISTIAN","016887N","LE TOUQUET",null,{"$f":"ROWS($B$3:B233)","v":231},"","",null,null,{"$f":"IFERROR(INDEX($B$3:$B$496,J233,1),\"\")","v":""}]
[null,"MERY NOA","MERY","NOA","178517Q","CALAIS",null,{"$f":"ROWS($B$3:B234)","v":232},"","",null,null,{"$f":"IFERROR(INDEX($B$3:$B$496,J234,1),\"\")","v":""}]
[null,"MICHEL PIERRE","MICHEL","PIERRE","123708A","CARVIN",null,{"$f":"ROWS($B$3:B235)","v":233},"","",null,null,{"$f":"IFERROR(INDEX($B$3:$B$496,J235,1),\"\")","v":""}]
[null,"MILAZZO CALOGERO","MILAZZO","CALOGERO","174305M","CARVIN",null,{"$f":"ROWS($B$3:B236)","v":234},"","",null,null,{"$f":"IFERROR(INDEX($B$3:$B$496,J236,1),\"\")","v":""}]
[null,"MINART ARNAUD","MINART","ARNAUD","165785B","LE TOUQUET",null,{"$f":"ROWS($B$3:B237)","v":235},"","",null,null,{"$f":"IFERROR(INDEX($B$3:$B$496,J237,1),\"\")","v":""}]
[null,"MINET LIONEL","MINET","LIONEL","155655Q","DIVION",null,{"$f":"ROWS($B$3:B238)","v":236},"","",null,null,{"$f":"IFERROR(INDEX($B$3:$B$496,J238,1),\"\")","v":""}]
[null,"MOGUEZ ALAIN","MOGUEZ","ALAIN","016714W","BILLY",null,{"$f":"ROWS($B$3:B239)","v":237},"","",null,null,{"$f":"IFERROR(INDEX($B$3:$B$496,J239,1),\"\")","v":""}]
[null,"MONNEYRAC SEBASTIEN","MONNEYRAC","SEBASTIEN","017277N","COURRIERES",null,{"$f":"ROWS($B$3:B240)","v":238},"","",null,null,{"$f":"IFERROR(INDEX($B$3:$B$496,J240,1),\"\")","v":""}]
[null,"MONTADOR LUDOVIC","MONTADOR","LUDOVIC","103019H","WIMILLE",null,{"$f":"ROWS($B$3:B241)","v":239},"","",null,null,{"$f":"IFERROR(INDEX($B$3:$B$496,J241,1),\"\")","v":""}]
[null,"MONTADOR JESSY","MONTADOR","JESSY","107663X","WIMILLE",null,{"$f":"ROWS($B$3:B242)","v":240},"","",null,null,{"$f":"IFERROR(INDEX($B$3:$B$496,J242,1),\"\")","v":""}]
[null,"MONTADOR CHRISTOPHE","MONTADOR","CHRISTOPHE","124468G","WIMILLE",null,{"$f":"ROWS($B$3:B243)","v":241},"","",null,null,{"$f":"IFERROR(INDEX($B$3:$B$496,J243,1),\"\")","v":""}]
[null,"MORELLE GEORGES","MORELLE","GEORGES","016558W","CARVIN",null,{"$f":"ROWS($B$3:B244)","v":242},"","",null,null,{"$f":"IFERROR(INDEX($B$3:$B$496,J244,1),\"\")","v":""}]
[null,"MORIEUX FRANCOIS","MORIEUX","FRANCOIS","155656R","ARRAS",null,{"$f":"ROWS($B$3:B245)","v":243},"","",null,null,{"$f":"IFERROR(INDEX($B$3:$B$496,J245,1),\"\")","v":""}]
[null,"MOSSE PATRICK","MOSSE","PATRICK","174166L","LENS",null,{"$f":"ROWS($B$3:B246)","v":244},"","",null,null,{"$f":"IFERROR(INDEX($B$3:$B$496,J246,1),\"\")","v":""}]
[null,"MOURGUES MARC","MOURGUES","MARC","127740C","OUTREAU",null,{"$f":"ROWS($B$3:B247)","v":245},"","",null,null,{"$f":"IFERROR(INDEX($B$3:$B$496,J247,1),\"\")","v":""}]
[null,"MOURGUES CHRISTIAN","MOURGUES","CHRISTIAN","142790Y","OUTREAU",null,{"$f":"ROWS($B$3:B248)","v":246},"","",null,null,{"$f":"IFERROR(INDEX($B$3:$B$496,J248,1),\"\")","v":""}]
[null,"MOUTON AUGUSTIN","MOUTON","AUGUSTIN","017088G","CARVIN",null,{"$f":"ROWS($B$3:B249)","v":247},"","",null,null,{"$f":"IFERROR(INDEX($B$3:$B$496,J249,1),\"\")","v":""}]
[null,"MUCCIANTE JOHAN","MUCCIANTE","JOHAN","177024S","FOUQUIERES",null,{"$f":"ROWS($B$3:B250)","v":248},"","",null,null,{"$f":"IFERROR(INDEX($B$3:$B$496,J250,1),\"\")","v":""}]
[null,"MURZIN MATTHIAS","MURZIN","MATTHIAS","177425D","FOUQUIERES",null,{"$f":"ROWS($B$3:B251)","v":249},"","",null,null,{"$f":"IFERROR(INDEX($B$3:$B$496,J251,1),\"\")","v":""}]
[null,"MUSTIN GUY","MUSTIN","GUY","169182T","ARRAS",null,{"$f":"ROWS($B$3:B252)","v":250},"","",null,null,{"$f":"IFERROR(INDEX($B$3:$B$496,J252,1),\"\")","v":""}]
[null,"NEIRYNCK VINCENT","NEIRYNCK","VINCENT","017386S","OUTREAU",null,{"$f":"ROWS($B$3:B253)","v":251},"","",null,null,{"$f":"IFERROR(INDEX($B$3:$B$496,J253,1),\"\")","v":""}]
[null,"OTTEVAERE ANDRE","OTTEVAERE","ANDRE","114094G","LE TOUQUET",null,{"$f":"ROWS($B$3:B254)","v":252},"","",null,null,{"$f":"IFERROR(INDEX($B$3:$B$496,J254,1),\"\")","v":""}]
[null,"PAVY MICHEL","PAVY","MICHEL","140950E","OUTREAU",null,{"$f":"ROWS($B$3:B255)","v":253},"","",null,null,{"$f":"IFERROR(INDEX($B$3:$B$496,J255,1),\"\")","v":""}]
[null,"PENIN OLIVIER","PENIN","OLIVIER","166014A","ARRAS",null,{"$f":"ROWS($B$3:B256)","v":254},"","",null,null,{"$f":"IFERROR(INDEX($B$3:$B$496,J256,1),\"\")","v":""}]
[null,"PERIN DAVID","PERIN","DAVID","159092B","FOUQUIERES",null,{"$f":"ROWS($B$3:B257)","v":255},"","",null,null,{"$f":"IFERROR(INDEX($B$3:$B$496,J257,1),\"\")","v":""}]
[null,"PERTUE DANIEL","PERTUE","DANIEL","168339C","CUCQ",null,{"$f":"ROWS($B$3:B258)","v":256},"","",null,null,{"$f":"IFERROR(INDEX($B$3:$B$496,J258,1),\"\")","v":""}]
[null,{"$f":"C259 & \" \" &D259","v":"PICQUET MAXIME"},"PICQUET","MAXIME","176944F","WIZERNES",null,{"$f":"ROWS($B$3:B259)","v":257},{"$f":"IF(ISNUMBER(SEARCH($M$1,B259)),H259,\"\")","v":""},{"$f":"IFERROR(SMALL($I$3:$I$496,H259),\"\")","v":""},null,null,{"$f":"IFERROR(INDEX($B$3:$B$496,J259,1),\"\")","v":""}]
[null,"PINGUET DANIEL","PINGUET","DANIEL","161418E","CUCQ",null,{"$f":"ROWS($B$3:B260)","v":258},"","",null,null,{"$f":"IFERROR(INDEX($B$3:$B$496,J260,1),\"\")","v":""}]
[null,"PIRLET VICTOR","PIRLET","VICTOR","157857J","ARRAS",null,{"$f":"ROWS($B$3:B261)","v":259},"","",null,null,{"$f":"IFERROR(INDEX($B$3:$B$496,J261,1),\"\")","v":""}]
[null,"PLASSIER PHILIPPE","PLASSIER","PHILIPPE","101166A","DIVION",null,{"$f":"ROWS($B$3:B262)","v":260},"","",null,null,{"$f":"IFERROR(INDEX($B$3:$B$496,J262,1),\"\")","v":""}]
[null,"POIDEVIN DANY","POIDEVIN","DANY","016760Q","CARVIN",null,{"$f":"ROWS($B$3:B263)","v":261},"","",null,null,{"$f":"IFERROR(INDEX($B$3:$B$496,J263,1),\"\")","v":""}]
[null,"POIDEVIN DANIEL","POIDEVIN","DANIEL","016809N","CARVIN",null,{"$f":"ROWS($B$3:B264)","v":262},"","",null,null,{"$f":"IFERROR(INDEX($B$3:$B$496,J264,1),\"\")","v":""}]
[null,"PONCHANT GREGORY","PONCHANT","GREGORY","016749F","FOUQUIERES",null,{"$f":"ROWS($B$3:B265)","v":263},"","",null,null,{"$f":"IFERROR(INDEX($B$3:$B$496,J265,1),\"\")","v":""}]
[null,"PONSEELE ROMAIN","PONSEELE","ROMAIN","177087L","ARRAS",null,{"$f":"ROWS($B$3:B266)","v":264},"","",null,null,{"$f":"IFERROR(INDEX($B$3:$B$496,J266,1),\"\")","v":""}]
[null,"PONTLEVOY JEAN LOUIS","PONTLEVOY","JEAN LOUIS","171358J","ARRAS",null,{"$f":"ROWS($B$3:B267)","v":265},"","",null,null,{"$f":"IFERROR(INDEX($B$3:$B$496,J267,1),\"\")","v":""}]
[null,"POPULAIRE GAETAN","POPULAIRE","GAETAN","159093C","FOUQUIERES",null,{"$f":"ROWS($B$3:B268)","v":266},"","",null,null,{"$f":"IFERROR(INDEX($B$3:$B$496,J268,1),\"\")","v":""}]
[null,"POSTEL ROGER","POSTEL","ROGER","156959H","CUCQ",null,{"$f":"ROWS($B$3:B269)","v":267},"","",null,null,{"$f":"IFERROR(INDEX($B$3:$B$496,J269,1),\"\")","v":""}]
[null,"PRUVOST MAXENCE","PRUVOST","MAXENCE","148411R","ARRAS",null,{"$f":"ROWS($B$3:B270)","v":268},"","",null,null,{"$f":"IFERROR(INDEX($B$3:$B$496,J270,1),\"\")","v":""}]
[null,"PRUVOST PATRICK","PRUVOST","PATRICK","164088G","DIVION",null,{"$f":"ROWS($B$3:B271)","v":269},"","",null,null,{"$f":"IFERROR(INDEX($B$3:$B$496,J271,1),\"\")","v":""}]
[null,"RAMBUR FREDDY","RAMBUR","FREDDY","159128Q","OUTREAU",null,{"$f":"ROWS($B$3:B272)","v":270},"","",null,null,{"$f":"IFERROR(INDEX($B$3:$B$496,J272,1),\"\")","v":""}]
[null,"RAMET JACQUES","RAMET","JACQUES","154166X","CUCQ",null,{"$f":"ROWS($B$3:B273)","v":271},"","",null,null,{"$f":"IFERROR(INDEX($B$3:$B$496,J273,1),\"\")","v":""}]
[null,"RAMETTE SEBASTIEN","RAMETTE","SEBASTIEN","177081E","FOUQUIERES",null,{"$f":"ROWS($B$3:B274)","v":272},"","",null,null,{"$f":"IFERROR(INDEX($B$3:$B$496,J274,1),\"\")","v":""}]
[null,"RAULT BERTRAND","RAULT","BERTRAND","016871X","COURRIERES",null,{"$f":"ROWS($B$3:B275)","v":273},"","",null,null,{"$f":"IFERROR(INDEX($B$3:$B$496,J275,1),\"\")","v":""}]
[null,"RAULT BAUDOUIN","RAULT","BAUDOUIN","145212C","COURRIERES",null,{"$f":"ROWS($B$3:B276)","v":274},"","",null,null,{"$f":"IFERROR(INDEX($B$3:$B$496,J276,1),\"\")","v":""}]
[null,"RAULT KARINE","RAULT","KARINE","168680Y","COURRIERES",null,{"$f":"ROWS($B$3:B277)","v":275},"","",null,null,{"$f":"IFERROR(INDEX($B$3:$B$496,J277,1),\"\")","v":""}]
[null,"RAUX JEAN LOUIS","RAUX","JEAN LOUIS","135993N","DIVION",null,{"$f":"ROWS($B$3:B278)","v":276},"","",null,null,{"$f":"IFERROR(INDEX($B$3:$B$496,J278,1),\"\")","v":""}]
[null,"RAUX JEAN FRANCOIS","RAUX","JEAN FRANCOIS","135994O","DIVION",null,{"$f":"ROWS($B$3:B279)","v":277},"","",null,null,{"$f":"IFERROR(INDEX($B$3:$B$496,J279,1),\"\")","v":""}]
[null,"REMY FREDERIC","REMY","FREDERIC","170303M","ARRAS",null,{"$f":"ROWS($B$3:B280)","v":278},"","",null,null,{"$f":"IFERROR(INDEX($B$3:$B$496,J280,1),\"\")","v":""}]
[null,"RICHARD SHENDY","RICHARD","SHENDY","173569M","FOUQUIERES",null,{"$f":"ROWS($B$3:B281)","v":279},"","",null,null,{"$f":"IFERROR(INDEX($B$3:$B$496,J281,1),\"\")","v":""}]
[null,"RIVALAIN JEAN LOUIS","RIVALAIN","JEAN LOUIS","138331L","CUCQ",null,{"$f":"ROWS($B$3:B282)","v":280},"","",null,null,{"$f":"IFERROR(INDEX($B$3:$B$496,J282,1),\"\")","v":""}]
[null,"ROBERVAL FRANCIS","ROBERVAL","FRANCIS","157979R","CUCQ",null,{"$f":"ROWS($B$3:B283)","v":281},"","",null,null,{"$f":"IFERROR(INDEX($B$3:$B$496,J283,1),\"\")","v":""}]
[null,"ROHART PHILIPPE","ROHART","PHILIPPE","149361Z","FOUQUIERES",null,{"$f":"ROWS($B$3:B284)","v":282},"","",null,null,{"$f":"IFERROR(INDEX($B$3:$B$496,J284,1),\"\")","v":""}]
[null,"ROLLAND JEAN MICHEL","ROLLAND","JEAN MICHEL","166065F","ARRAS",null,{"$f":"ROWS($B$3:B285)","v":283},"","",null,null,{"$f":"IFERROR(INDEX($B$3:$B$496,J285,1),\"\")","v":""}]
[null,"ROLLAND STEPHANE","ROLLAND","STEPHANE","171827T","FOUQUIERES",null,{"$f":"ROWS($B$3:B286)","v":284},"","",null,null,{"$f":"IFERROR(INDEX($B$3:$B$496,J286,1),\"\")","v":""}]
[null,"ROSSI XAVIER","ROSSI","XAVIER","174622G","ARRAS",null,{"$f":"ROWS($B$3:B287)","v":285},"","",null,null,{"$f":"IFERROR(INDEX($B$3:$B$496,J287,1),\"\")","v":""}]
[null,"RUCAR THEO","RUCAR","THEO","177106G","BILLY",null,{"$f":"ROWS($B$3:B288)","v":286},"","",null,null,{"$f":"IFERROR(INDEX($B$3:$B$496,J288,1),\"\")","v":""}]
[null,"RYBAK RAPHAEL","RYBAK","RAPHAEL","162465S","ARRAS",null,{"$f":"ROWS($B$3:B289)","v":287},"","",null,null,{"$f":"IFERROR(INDEX($B$3:$B$496,J289,1),\"\")","v":""}]
[null,"SAHARI MUSTAPHA","SAHARI","MUSTAPHA","174478A","FOUQUIERES",null,{"$f":"ROWS($B$3:B290)","v":288},"","",null,null,{"$f":"IFERROR(INDEX($B$3:$B$496,J290,1),\"\")","v":""}]
[null,"SAINT GEORGES CLAUDE","SAINT GEORGES","CLAUDE","017052W","CALAIS",null,{"$f":"ROWS($B$3:B291)","v":289},"","",null,null,{"$f":"IFERROR(INDEX($B$3:$B$496,J291,1),\"\")","v":""}]
[null,"SAISON BERTRAND","SAISON","BERTRAND","141319J","WIZERNES",null,{"$f":"ROWS($B$3:B292)","v":290},"","",null,null,{"$f":"IFERROR(INDEX($B$3:$B$496,J292,1),\"\")","v":""}]
[null,"SAISON DIDIER","SAISON","DIDIER","166639E","CUCQ",null,{"$f":"ROWS($B$3:B293)","v":291},"","",null,null,{"$f":"IFERROR(INDEX($B$3:$B$496,J293,1),\"\")","v":""}]
[null,"SARTORI MARC","SARTORI","MARC","173657H","ARRAS",null,{"$f":"ROWS($B$3:B294)","v":292},"","",null,null,{"$f":"IFERROR(INDEX($B$3:$B$496,J294,1),\"\")","v":""}]
[null,"SATTLER YVES MARIE","SATTLER","YVES MARIE","151652P","LE TOUQUET",null,{"$f":"ROWS($B$3:B295)","v":293},"","",null,null,{"$f":"IFERROR(INDEX($B$3:$B$496,J295,1),\"\")","v":""}]
[null,"SAUVAGE DENIS","SAUVAGE","DENIS","176131X","ARRAS",null,{"$f":"ROWS($B$3:B296)","v":294},"","",null,null,{"$f":"IFERROR(INDEX($B$3:$B$496,J296,1),\"\")","v":""}]
[null,"SAVOINI JEAN JOSEPH","SAVOINI","JEAN JOSEPH","166393M","OUTREAU",null,{"$f":"ROWS($B$3:B297)","v":295},"","",null,null,{"$f":"IFERROR(INDEX($B$3:$B$496,J297,1),\"\")","v":""}]
[null,"SELLIER FABRICE","SELLIER","FABRICE","124485X","OUTREAU",null,{"$f":"ROWS($B$3:B298)","v":296},"","",null,null,{"$f":"IFERROR(INDEX($B$3:$B$496,J298,1),\"\")","v":""}]
[null,"SGARD BERNARD","SGARD","BERNARD","133119Z","CALAIS",null,{"$f":"ROWS($B$3:B299)","v":297},"","",null,null,{"$f":"IFERROR(INDEX($B$3:$B$496,J299,1),\"\")","v":""}]
[null,"SNIATECKI PASCAL","SNIATECKI","PASCAL","017169J","BILLY",null,{"$f":"ROWS($B$3:B300)","v":298},"","",null,null,{"$f":"IFERROR(INDEX($B$3:$B$496,J300,1),\"\")","v":""}]
[null,"STEINMETZ JACQUES","STEINMETZ","JACQUES","163290P","BILLY",null,{"$f":"ROWS($B$3:B301)","v":299},"","",null,null,{"$f":"IFERROR(INDEX($B$3:$B$496,J301,1),\"\")","v":""}]
[null,"SURET DANIEL","SURET","DANIEL","133047F","CARVIN",null,{"$f":"ROWS($B$3:B302)","v":300},"","",null,null,{"$f":"IFERROR(INDEX($B$3:$B$496,J302,1),\"\")","v":""}]
[null,"SZWAREK GEORGES","SZWAREK","GEORGES","159169K","FOUQUIERES",null,{"$f":"ROWS($B$3:B303)","v":301},"","",null,null,{"$f":"IFERROR(INDEX($B$3:$B$496,J303,1),\"\")","v":""}]
[null,"SZYLAR AURELIEN","SZYLAR","AURELIEN","171895S","ARRAS",null,{"$f":"ROWS($B$3:B304)","v":302},"","",null,null,{"$f":"IFERROR(INDEX($B$3:$B$496,J304,1),\"\")","v":""}]
[null,"SZYNCZEWSKI PHILIPPE","SZYNCZEWSKI","PHILIPPE","158029W","ARRAS",null,{"$f":"ROWS($B$3:B305)","v":303},"","",null,null,{"$f":"IFERROR(INDEX($B$3:$B$496,J305,1),\"\")","v":""}]
[null,"THOMAS ANTHONY","THOMAS","ANTHONY","176598E","ARRAS",null,{"$f":"ROWS($B$3:B306)","v":304},"","",null,null,{"$f":"IFERROR(INDEX($B$3:$B$496,J306,1),\"\")","v":""}]
[null,"THOREL ALAIN","THOREL","ALAIN","168271D","ARRAS",null,{"$f":"ROWS($B$3:B307)","v":305},"","",null,null,{"$f":"IFERROR(INDEX($B$3:$B$496,J307,1),\"\")","v":""}]
[null,"TIEFENBACH FRANCIS","TIEFENBACH","FRANCIS","176011R","LE TOUQUET",null,{"$f":"ROWS($B$3:B308)","v":306},"","",null,null,{"$f":"IFERROR(INDEX($B$3:$B$496,J308,1),\"\")","v":""}]
[null,"TILLIETTE MICHEL","TILLIETTE","MICHEL","174068E","DIVION",null,{"$f":"ROWS($B$3:B309)","v":307},"","",null,null,{"$f":"IFERROR(INDEX($B$3:$B$496,J309,1),\"\")","v":""}]
[null,"TIZON ALAIN","TIZON","ALAIN","121424E","CUCQ",null,{"$f":"ROWS($B$3:B310)","v":308},"","",null,null,{"$f":"IFERROR(INDEX($B$3:$B$496,J310,1),\"\")","v":""}]
[null,"TRIPLET GILBERT","TRIPLET","GILBERT","136009D","CUCQ",null,{"$f":"ROWS($B$3:B311)","v":309},"","",null,null,{"$f":"IFERROR(INDEX($B$3:$B$496,J311,1),\"\")","v":""}]
[null,"TRIPLET EDDIE","TRIPLET","EDDIE","145206W","CUCQ",null,{"$f":"ROWS($B$3:B312)","v":310},"","",null,null,{"$f":"IFERROR(INDEX($B$3:$B$496,J312,1),\"\")","v":""}]
[null,"TRIPLET FREDDY","TRIPLET","FREDDY","145207X","CUCQ",null,{"$f":"ROWS($B$3:B313)","v":311},"","",null,null,{"$f":"IFERROR(INDEX($B$3:$B$496,J313,1),\"\")","v":""}]
[null,"TROVATI LOIC","TROVATI","LOIC","171896T","ARRAS",null,{"$f":"ROWS($B$3:B314)","v":312},"","",null,null,{"$f":"IFERROR(INDEX($B$3:$B$496,J314,1),\"\")","v":""}]
[null,"TURLOTTE OLIVIER","TURLOTTE","OLIVIER","017262Y","DIVION",null,{"$f":"ROWS($B$3:B315)","v":313},"","",null,null,{"$f":"IFERROR(INDEX($B$3:$B$496,J315,1),\"\")","v":""}]
[null,"VADUNTHUN PATRICK","VADUNTHUN","PATRICK","016753J","LE TOUQUET",null,{"$f":"ROWS($B$3:B316)","v":314},"","",null,null,{"$f":"IFERROR(INDEX($B$3:$B$496,J316,1),\"\")","v":""}]
[null,"VAN WYNENDAELE LIDWINE","VAN WYNENDAELE","LIDWINE","169165A","ARRAS",null,{"$f":"ROWS($B$3:B317)","v":315},"","",null,null,{"$f":"IFERROR(INDEX($B$3:$B$496,J317,1),\"\")","v":""}]
[null,"VANDEVYVERE JEAN CLAUDE","VANDEVYVERE","JEAN CLAUDE","151104T","CARVIN",null,{"$f":"ROWS($B$3:B318)","v":316},"","",null,null,{"$f":"IFERROR(INDEX($B$3:$B$496,J318,1),\"\")","v":""}]
[null,"VANHACK DIDIER","VANHACK","DIDIER","139591X","CUCQ",null,{"$f":"ROWS($B$3:B319)","v":317},"","",null,null,{"$f":"IFERROR(INDEX($B$3:$B$496,J319,1),\"\")","v":""}]
[null,"VANPEENE DIDIER","VANPEENE","DIDIER","134139F","OUTREAU",null,{"$f":"ROWS($B$3:B320)","v":318},"","",null,null,{"$f":"IFERROR(INDEX($B$3:$B$496,J320,1),\"\")","v":""}]
[null,"VANTOMME DANIEL","VANTOMME","DANIEL","112741F","WIMILLE",null,{"$f":"ROWS($B$3:B321)","v":319},"","",null,null,{"$f":"IFERROR(INDEX($B$3:$B$496,J321,1),\"\")","v":""}]
[null,"VASSALLE MARCEL","VASSALLE","MARCEL","117746S","CUCQ",null,{"$f":"ROWS($B$3:B322)","v":320},"","",null,null,{"$f":"IFERROR(INDEX($B$3:$B$496,J322,1),\"\")","v":""}]
[null,{"$f":"C323 & \" \" &D323","v":"VASSEUR JEAN FRANCOIS"},"VASSEUR","JEAN FRANCOIS","166477D","WIZERNES",null,{"$f":"ROWS($B$3:B323)","v":321},{"$f":"IF(ISNUMBER(SEARCH($M$1,B323)),H323,\"\")","v":""},{"$f":"IFERROR(SMALL($I$3:$I$496,H323),\"\")","v":""},null,null,{"$f":"IFERROR(INDEX($B$3:$B$496,J323,1),\"\")","v":""}]
[null,"VENDEVILLE DIDIER","VENDEVILLE","DIDIER","175687P","FOUQUIERES",null,{"$f":"ROWS($B$3:B324)","v":322},"","",null,null,{"$f":"IFERROR(INDEX($B$3:$B$496,J324,1),\"\")","v":""}]
[null,"VERCRUYSSE MICHEL","VERCRUYSSE","MICHEL","133118Y","LE TOUQUET",null,{"$f":"ROWS($B$3:B325)","v":323},"","",null,null,{"$f":"IFERROR(INDEX($B$3:$B$496,J325,1),\"\")","v":""}]
[null,"VERCRUYSSE NAEL","VERCRUYSSE","NAEL","178474T","CUCQ",null,{"$f":"ROWS($B$3:B326)","v":324},"","",null,null,{"$f":"IFERROR(INDEX($B$3:$B$496,J326,1),\"\")","v":""}]
[null,"VERMEERSCH PHILIPPE","VERMEERSCH","PHILIPPE","144418O","OUTREAU",null,{"$f":"ROWS($B$3:B327)","v":325},"","",null,null,{"$f":"IFERROR(INDEX($B$3:$B$496,J327,1),\"\")","v":""}]
[null,"VIEBAN JACQUES","VIEBAN","JACQUES","121356O","LENS",null,{"$f":"ROWS($B$3:B328)","v":326},"","",null,null,{"$f":"IFERROR(INDEX($B$3:$B$496,J328,1),\"\")","v":""}]
[null,"VIEILLARD DANIEL","VIEILLARD","DANIEL","124437B","CALAIS",null,{"$f":"ROWS($B$3:B329)","v":327},"","",null,null,{"$f":"IFERROR(INDEX($B$3:$B$496,J329,1),\"\")","v":""}]
[null,"VIENNE ALAIN","VIENNE","ALAIN","117711J","FOUQUIERES",null,{"$f":"ROWS($B$3:B330)","v":328},"","",null,null,{"$f":"IFERROR(INDEX($B$3:$B$496,J330,1),\"\")","v":""}]
[null,"VIGNERON REYNALD","VIGNERON","REYNALD","016794Y","WIMILLE",null,{"$f":"ROWS($B$3:B331)","v":329},"","",null,null,{"$f":"IFERROR(INDEX($B$3:$B$496,J331,1),\"\")","v":""}]
[null,"WAILLY CHRISTOPHE","WAILLY","CHRISTOPHE","171869P","ARRAS",null,{"$f":"ROWS($B$3:B332)","v":330},"","",null,null,{"$f":"IFERROR(INDEX($B$3:$B$496,J332,1),\"\")","v":""}]
[null,"WATRIN NICOLAS","WATRIN","NICOLAS","177063K","FOUQUIERES",null,{"$f":"ROWS($B$3:B333)","v":331},"","",null,null,{"$f":"IFERROR(INDEX($B$3:$B$496,J333,1),\"\")","v":""}]
[null,"WIART ESTELLE","WIART","ESTELLE","176834L","FOUQUIERES",null,{"$f":"ROWS($B$3:B334)","v":332},"","",null,null,{"$f":"IFERROR(INDEX($B$3:$B$496,J334,1),\"\")","v":""}]
[null,"WIART VINCENT","WIART","VINCENT","176837P","FOUQUIERES",null,{"$f":"ROWS($B$3:B335)","v":333},"","",null,null,{"$f":"IFERROR(INDEX($B$3:$B$496,J335,1),\"\")","v":""}]
[null,"WINTER JIMMY","WINTER","JIMMY","110542Q","FOUQUIERES",null,{"$f":"ROWS($B$3:B336)","v":334},"","",null,null,{"$f":"IFERROR(INDEX($B$3:$B$496,J336,1),\"\")","v":""}]
[null,"WINTER ROMANE","WINTER","ROMANE","178299D","FOUQUIERES",null,{"$f":"ROWS($B$3:B337)","v":335},"","",null,null,{"$f":"IFERROR(INDEX($B$3:$B$496,J337,1),\"\")","v":""}]
[null,"WINTER OCEANE","WINTER","OCEANE","178300E","FOUQUIERES",null,{"$f":"ROWS($B$3:B338)","v":336},"","",null,null,{"$f":"IFERROR(INDEX($B$3:$B$496,J338,1),\"\")","v":""}]
[null,"ZEIDEL CHRISTOPHE","ZEIDEL","CHRISTOPHE","016542G","BILLY",null,{"$f":"ROWS($B$3:B339)","v":337},"","",null,null,{"$f":"IFERROR(INDEX($B$3:$B$496,J339,1),\"\")","v":""}]
[null,"ZOONEKYND PIERRE","ZOONEKYND","PIERRE","168158F","OUTREAU",null,{"$f":"ROWS($B$3:B340)","v":338},"","",null,null,{"$f":"IFERROR(INDEX($B$3:$B$496,J340,1),\"\")","v":""}]
[null," ",null,null,null,null,null,{"$f":"ROWS($B$3:B341)","v":339},"","",null,null,{"$f":"IFERROR(INDEX($B$3:$B$496,J341,1),\"\")","v":""}]
[null," ",null,null,null,null,null,{"$f":"ROWS($B$3:B342)","v":340},"","",null,null,{"$f":"IFERROR(INDEX($B$3:$B$496,J342,1),\"\")","v":""}]
[null," ",null,null,null,null,null,{"$f":"ROWS($B$3:B343)","v":341},"","",null,null,{"$f":"IFERROR(INDEX($B$3:$B$496,J343,1),\"\")","v":""}]
[null," ",null,null,null,null,null,{"$f":"ROWS($B$3:B344)","v":342},"","",null,null,{"$f":"IFERROR(INDEX($B$3:$B$496,J344,1),\"\")","v":""}]
[null," ",null,null,null,null,null,{"$f":"ROWS($B$3:B345)","v":343},"","",null,null,{"$f":"IFERROR(INDEX($B$3:$B$496,J345,1),\"\")","v":""}]
[null," ",null,null,null,null,null,{"$f":"ROWS($B$3:B346)","v":344},"","",null,null,{"$f":"IFERROR(INDEX($B$3:$B$496,J346,1),\"\")","v":""}]
[null," ",null,null,null,null,null,{"$f":"ROWS($B$3:B347)","v":345},"","",null,null,{"$f":"IFERROR(INDEX($B$3:$B$496,J347,1),\"\")","v":""}]
[null," ",null,null,null,null,null,{"$f":"ROWS($B$3:B348)","v":346},"","",null,null,{"$f":"IFERROR(INDEX($B$3:$B$496,J348,1),\"\")","v":""}]
[null," ",null,null,null,null,null,{"$f":"ROWS($B$3:B349)","v":347},"","",null,null,{"$f":"IFERROR(INDEX($B$3:$B$496,J349,1),\"\")","v":""}]
[null," ",null,null,null,null,null,{"$f":"ROWS($B$3:B350)","v":348},"","",null,null,{"$f":"IFERROR(INDEX($B$3:$B$496,J350,1),\"\")","v":""}]
[null," ",null,null,null,null,null,{"$f":"ROWS($B$3:B351)","v":349},"","",null,null,{"$f":"IFERROR(INDEX($B$3:$B$496,J351,1),\"\")","v":""}]
[null," ",null,null,null,null,null,{"$f":"ROWS($B$3:B352)","v":350},"","",null,null,{"$f":"IFERROR(INDEX($B$3:$B$496,J352,1),\"\")","v":""}]
[null," ",null,null,null,null,null,{"$f":"ROWS($B$3:B353)","v":351},"","",null,null,{"$f":"IFERROR(INDEX($B$3:$B$496,J353,1),\"\")","v":""}]
[null," ",null,null,null,null,null,{"$f":"ROWS($B$3:B354)","v":352},"","",null,null,{"$f":"IFERROR(INDEX($B$3:$B$496,J354,1),\"\")","v":""}]
[null," ",null,null,null,null,null,{"$f":"ROWS($B$3:B355)","v":353},"","",null,null,{"$f":"IFERROR(INDEX($B$3:$B$496,J355,1),\"\")","v":""}]
[null," ",null,null,null,null,null,{"$f":"ROWS($B$3:B356)","v":354},"","",null,null,{"$f":"IFERROR(INDEX($B$3:$B$496,J356,1),\"\")","v":""}]
[null," ",null,null,null,null,null,{"$f":"ROWS($B$3:B357)","v":355},"","",null,null,{"$f":"IFERROR(INDEX($B$3:$B$496,J357,1),\"\")","v":""}]
[null," ",null,null,null,null,null,{"$f":"ROWS($B$3:B358)","v":356},"","",null,null,{"$f":"IFERROR(INDEX($B$3:$B$496,J358,1),\"\")","v":""}]
[null," ",null,null,null,null,null,{"$f":"ROWS($B$3:B359)","v":357},"","",null,null,{"$f":"IFERROR(INDEX($B$3:$B$496,J359,1),\"\")","v":""}]
[null," ",null,null,null,null,null,{"$f":"ROWS($B$3:B360)","v":358},"","",null,null,{"$f":"IFERROR(INDEX($B$3:$B$496,J360,1),\"\")","v":""}]
[null," ",null,null,null,null,null,{"$f":"ROWS($B$3:B361)","v":359},"","",null,null,{"$f":"IFERROR(INDEX($B$3:$B$496,J361,1),\"\")","v":""}]
[null," ",null,null,null,null,null,{"$f":"ROWS($B$3:B362)","v":360},"","",null,null,{"$f":"IFERROR(INDEX($B$3:$B$496,J362,1),\"\")","v":""}]
[null," ",null,null,null,null,null,{"$f":"ROWS($B$3:B363)","v":361},"","",null,null,{"$f":"IFERROR(INDEX($B$3:$B$496,J363,1),\"\")","v":""}]
[null," ",null,null,null,null,null,{"$f":"ROWS($B$3:B364)","v":362},"","",null,null,{"$f":"IFERROR(INDEX($B$3:$B$496,J364,1),\"\")","v":""}]
[null," ",null,null,null,null,null,{"$f":"ROWS($B$3:B365)","v":363},"","",null,null,{"$f":"IFERROR(INDEX($B$3:$B$496,J365,1),\"\")","v":""}]
[null," ",null,null,null,null,null,{"$f":"ROWS($B$3:B366)","v":364},"","",null,null,{"$f":"IFERROR(INDEX($B$3:$B$496,J366,1),\"\")","v":""}]
[null," ",null,null,null,null,null,{"$f":"ROWS($B$3:B367)","v":365},"","",null,null,{"$f":"IFERROR(INDEX($B$3:$B$496,J367,1),\"\")","v":""}]
[null," ",null,null,null,null,null,{"$f":"ROWS($B$3:B368)","v":366},"","",null,null,{"$f":"IFERROR(INDEX($B$3:$B$496,J368,1),\"\")","v":""}]
[null," ",null,null,null,null,null,{"$f":"ROWS($B$3:B369)","v":367},"","",null,null,{"$f":"IFERROR(INDEX($B$3:$B$496,J369,1),\"\")","v":""}]
[null," ",null,null,null,null,null,{"$f":"ROWS($B$3:B370)","v":368},"","",null,null,{"$f":"IFERROR(INDEX($B$3:$B$496,J370,1),\"\")","v":""}]
[null," ",null,null,null,null,null,{"$f":"ROWS($B$3:B371)","v":369},"","",null,null,{"$f":"IFERROR(INDEX($B$3:$B$496,J371,1),\"\")","v":""}]
[null," ",null,null,null,null,null,{"$f":"ROWS($B$3:B372)","v":370},"","",null,null,{"$f":"IFERROR(INDEX($B$3:$B$496,J372,1),\"\")","v":""}]
[null," ",null,null,null,null,null,{"$f":"ROWS($B$3:B373)","v":371},"","",null,null,{"$f":"IFERROR(INDEX($B$3:$B$496,J373,1),\"\")","v":""}]
[null," ",null,null,null,null,null,{"$f":"ROWS($B$3:B374)","v":372},"","",null,null,{"$f":"IFERROR(INDEX($B$3:$B$496,J374,1),\"\")","v":""}]
[null," ",null,null,null,null,null,{"$f":"ROWS($B$3:B375)","v":373},"","",null,null,{"$f":"IFERROR(INDEX($B$3:$B$496,J375,1),\"\")","v":""}]
[null," ",null,null,null,null,null,{"$f":"ROWS($B$3:B376)","v":374},"","",null,null,{"$f":"IFERROR(INDEX($B$3:$B$496,J376,1),\"\")","v":""}]
[null," ",null,null,null,null,null,{"$f":"ROWS($B$3:B377)","v":375},"","",null,null,{"$f":"IFERROR(INDEX($B$3:$B$496,J377,1),\"\")","v":""}]
[null," ",null,null,null,null,null,{"$f":"ROWS($B$3:B378)","v":376},"","",null,null,{"$f":"IFERROR(INDEX($B$3:$B$496,J378,1),\"\")","v":""}]
[null," ",null,null,null,null,null,{"$f":"ROWS($B$3:B379)","v":377},"","",null,null,{"$f":"IFERROR(INDEX($B$3:$B$496,J379,1),\"\")","v":""}]
[null," ",null,null,null,null,null,{"$f":"ROWS($B$3:B380)","v":378},"","",null,null,{"$f":"IFERROR(INDEX($B$3:$B$496,J380,1),\"\")","v":""}]
[null," ",null,null,null,null,null,{"$f":"ROWS($B$3:B381)","v":379},"","",null,null,{"$f":"IFERROR(INDEX($B$3:$B$496,J381,1),\"\")","v":""}]
[null," ",null,null,null,null,null,{"$f":"ROWS($B$3:B382)","v":380},"","",null,null,{"$f":"IFERROR(INDEX($B$3:$B$496,J382,1),\"\")","v":""}]
[null," ",null,null,null,null,null,{"$f":"ROWS($B$3:B383)","v":381},"","",null,null,{"$f":"IFERROR(INDEX($B$3:$B$496,J383,1),\"\")","v":""}]
[null," ",null,null,null,null,null,{"$f":"ROWS($B$3:B384)","v":382},"","",null,null,{"$f":"IFERROR(INDEX($B$3:$B$496,J384,1),\"\")","v":""}]
[null," ",null,null,null,null,null,{"$f":"ROWS($B$3:B385)","v":383},"","",null,null,{"$f":"IFERROR(INDEX($B$3:$B$496,J385,1),\"\")","v":""}]
[null," ",null,null,null,null,null,{"$f":"ROWS($B$3:B386)","v":384},"","",null,null,{"$f":"IFERROR(INDEX($B$3:$B$496,J386,1),\"\")","v":""}]
[null,{"$f":"C387 & \" \" &D387","v":" "},null,null,null,null,null,{"$f":"ROWS($B$3:B387)","v":385},{"$f":"IF(ISNUMBER(SEARCH($M$1,B387)),H387,\"\")","v":""},{"$f":"IFERROR(SMALL($I$3:$I$496,H387),\"\")","v":""},null,null,{"$f":"IFERROR(INDEX($B$3:$B$496,J387,1),\"\")","v":""}]
[null," ",null,null,null,null,null,{"$f":"ROWS($B$3:B388)","v":386},"","",null,null,{"$f":"IFERROR(INDEX($B$3:$B$496,J388,1),\"\")","v":""}]
[null," ",null,null,null,null,null,{"$f":"ROWS($B$3:B389)","v":387},"","",null,null,{"$f":"IFERROR(INDEX($B$3:$B$496,J389,1),\"\")","v":""}]
[null," ",null,null,null,null,null,{"$f":"ROWS($B$3:B390)","v":388},"","",null,null,{"$f":"IFERROR(INDEX($B$3:$B$496,J390,1),\"\")","v":""}]
[null," ",null,null,null,null,null,{"$f":"ROWS($B$3:B391)","v":389},"","",null,null,{"$f":"IFERROR(INDEX($B$3:$B$496,J391,1),\"\")","v":""}]
[null," ",null,null,null,null,null,{"$f":"ROWS($B$3:B392)","v":390},"","",null,null,{"$f":"IFERROR(INDEX($B$3:$B$496,J392,1),\"\")","v":""}]
[null," ",null,null,null,null,null,{"$f":"ROWS($B$3:B393)","v":391},"","",null,null,{"$f":"IFERROR(INDEX($B$3:$B$496,J393,1),\"\")","v":""}]
[null," ",null,null,null,null,null,{"$f":"ROWS($B$3:B394)","v":392},"","",null,null,{"$f":"IFERROR(INDEX($B$3:$B$496,J394,1),\"\")","v":""}]
[null," ",null,null,null,null,null,{"$f":"ROWS($B$3:B395)","v":393},"","",null,null,{"$f":"IFERROR(INDEX($B$3:$B$496,J395,1),\"\")","v":""}]
[null," ",null,null,null,null,null,{"$f":"ROWS($B$3:B396)","v":394},"","",null,null,{"$f":"IFERROR(INDEX($B$3:$B$496,J396,1),\"\")","v":""}]
[null," ",null,null,null,null,null,{"$f":"ROWS($B$3:B397)","v":395},"","",null,null,{"$f":"IFERROR(INDEX($B$3:$B$496,J397,1),\"\")","v":""}]
[null," ",null,null,null,null,null,{"$f":"ROWS($B$3:B398)","v":396},"","",null,null,{"$f":"IFERROR(INDEX($B$3:$B$496,J398,1),\"\")","v":""}]
[null," ",null,null,null,null,null,{"$f":"ROWS($B$3:B399)","v":397},"","",null,null,{"$f":"IFERROR(INDEX($B$3:$B$496,J399,1),\"\")","v":""}]
[null," ",null,null,null,null,null,{"$f":"ROWS($B$3:B400)","v":398},"","",null,null,{"$f":"IFERROR(INDEX($B$3:$B$496,J400,1),\"\")","v":""}]
[null," ",null,null,null,null,null,{"$f":"ROWS($B$3:B401)","v":399},"","",null,null,{"$f":"IFERROR(INDEX($B$3:$B$496,J401,1),\"\")","v":""}]
[null," ",null,null,null,null,null,{"$f":"ROWS($B$3:B402)","v":400},"","",null,null,{"$f":"IFERROR(INDEX($B$3:$B$496,J402,1),\"\")","v":""}]
[null," ",null,null,null,null,null,{"$f":"ROWS($B$3:B403)","v":401},"","",null,null,{"$f":"IFERROR(INDEX($B$3:$B$496,J403,1),\"\")","v":""}]
[null," ",null,null,null,null,null,{"$f":"ROWS($B$3:B404)","v":402},"","",null,null,{"$f":"IFERROR(INDEX($B$3:$B$496,J404,1),\"\")","v":""}]
[null," ",null,null,null,null,null,{"$f":"ROWS($B$3:B405)","v":403},"","",null,null,{"$f":"IFERROR(INDEX($B$3:$B$496,J405,1),\"\")","v":""}]
[null," ",null,null,null,null,null,{"$f":"ROWS($B$3:B406)","v":404},"","",null,null,{"$f":"IFERROR(INDEX($B$3:$B$496,J406,1),\"\")","v":""}]
[null," ",null,null,null,null,null,{"$f":"ROWS($B$3:B407)","v":405},"","",null,null,{"$f":"IFERROR(INDEX($B$3:$B$496,J407,1),\"\")","v":""}]
[null," ",null,null,null,null,null,{"$f":"ROWS($B$3:B408)","v":406},"","",null,null,{"$f":"IFERROR(INDEX($B$3:$B$496,J408,1),\"\")","v":""}]
[null," ",null,null,null,null,null,{"$f":"ROWS($B$3:B409)","v":407},"","",null,null,{"$f":"IFERROR(INDEX($B$3:$B$496,J409,1),\"\")","v":""}]
[null," ",null,null,null,null,null,{"$f":"ROWS($B$3:B410)","v":408},"","",null,null,{"$f":"IFERROR(INDEX($B$3:$B$496,J410,1),\"\")","v":""}]
[null," ",null,null,null,null,null,{"$f":"ROWS($B$3:B411)","v":409},"","",null,null,{"$f":"IFERROR(INDEX($B$3:$B$496,J411,1),\"\")","v":""}]
[null," ",null,null,null,null,null,{"$f":"ROWS($B$3:B412)","v":410},"","",null,null,{"$f":"IFERROR(INDEX($B$3:$B$496,J412,1),\"\")","v":""}]
[null," ",null,null,null,null,null,{"$f":"ROWS($B$3:B413)","v":411},"","",null,null,{"$f":"IFERROR(INDEX($B$3:$B$496,J413,1),\"\")","v":""}]
[null," ",null,null,null,null,null,{"$f":"ROWS($B$3:B414)","v":412},"","",null,null,{"$f":"IFERROR(INDEX($B$3:$B$496,J414,1),\"\")","v":""}]
[null," ",null,null,null,null,null,{"$f":"ROWS($B$3:B415)","v":413},"","",null,null,{"$f":"IFERROR(INDEX($B$3:$B$496,J415,1),\"\")","v":""}]
[null," ",null,null,null,null,null,{"$f":"ROWS($B$3:B416)","v":414},"","",null,null,{"$f":"IFERROR(INDEX($B$3:$B$496,J416,1),\"\")","v":""}]
[null," ",null,null,null,null,null,{"$f":"ROWS($B$3:B417)","v":415},"","",null,null,{"$f":"IFERROR(INDEX($B$3:$B$496,J417,1),\"\")","v":""}]
[null," ",null,null,null,null,null,{"$f":"ROWS($B$3:B418)","v":416},"","",null,null,{"$f":"IFERROR(INDEX($B$3:$B$496,J418,1),\"\")","v":""}]
[null," ",null,null,null,null,null,{"$f":"ROWS($B$3:B419)","v":417},"","",null,null,{"$f":"IFERROR(INDEX($B$3:$B$496,J419,1),\"\")","v":""}]
[null," ",null,null,null,null,null,{"$f":"ROWS($B$3:B420)","v":418},"","",null,null,{"$f":"IFERROR(INDEX($B$3:$B$496,J420,1),\"\")","v":""}]
[null," ",null,null,null,null,null,{"$f":"ROWS($B$3:B421)","v":419},"","",null,null,{"$f":"IFERROR(INDEX($B$3:$B$496,J421,1),\"\")","v":""}]
[null," ",null,null,null,null,null,{"$f":"ROWS($B$3:B422)","v":420},"","",null,null,{"$f":"IFERROR(INDEX($B$3:$B$496,J422,1),\"\")","v":""}]
[null," ",null,null,null,null,null,{"$f":"ROWS($B$3:B423)","v":421},"","",null,null,{"$f":"IFERROR(INDEX($B$3:$B$496,J423,1),\"\")","v":""}]
[null," ",null,null,null,null,null,{"$f":"ROWS($B$3:B424)","v":422},"","",null,null,{"$f":"IFERROR(INDEX($B$3:$B$496,J424,1),\"\")","v":""}]
[null," ",null,null,null,null,null,{"$f":"ROWS($B$3:B425)","v":423},"","",null,null,{"$f":"IFERROR(INDEX($B$3:$B$496,J425,1),\"\")","v":""}]
[null," ",null,null,null,null,null,{"$f":"ROWS($B$3:B426)","v":424},"","",null,null,{"$f":"IFERROR(INDEX($B$3:$B$496,J426,1),\"\")","v":""}]
[null," ",null,null,null,null,null,{"$f":"ROWS($B$3:B427)","v":425},"","",null,null,{"$f":"IFERROR(INDEX($B$3:$B$496,J427,1),\"\")","v":""}]
[null," ",null,null,null,null,null,{"$f":"ROWS($B$3:B428)","v":426},"","",null,null,{"$f":"IFERROR(INDEX($B$3:$B$496,J428,1),\"\")","v":""}]
[null," ",null,null,null,null,null,{"$f":"ROWS($B$3:B429)","v":427},"","",null,null,{"$f":"IFERROR(INDEX($B$3:$B$496,J429,1),\"\")","v":""}]
[null," ",null,null,null,null,null,{"$f":"ROWS($B$3:B430)","v":428},"","",null,null,{"$f":"IFERROR(INDEX($B$3:$B$496,J430,1),\"\")","v":""}]
[null," ",null,null,null,null,null,{"$f":"ROWS($B$3:B431)","v":429},"","",null,null,{"$f":"IFERROR(INDEX($B$3:$B$496,J431,1),\"\")","v":""}]
[null," ",null,null,null,null,null,{"$f":"ROWS($B$3:B432)","v":430},"","",null,null,{"$f":"IFERROR(INDEX($B$3:$B$496,J432,1),\"\")","v":""}]
[null," ",null,null,null,null,null,{"$f":"ROWS($B$3:B433)","v":431},"","",null,null,{"$f":"IFERROR(INDEX($B$3:$B$496,J433,1),\"\")","v":""}]
[null," ",null,null,null,null,null,{"$f":"ROWS($B$3:B434)","v":432},"","",null,null,{"$f":"IFERROR(INDEX($B$3:$B$496,J434,1),\"\")","v":""}]
[null," ",null,null,null,null,null,{"$f":"ROWS($B$3:B435)","v":433},"","",null,null,{"$f":"IFERROR(INDEX($B$3:$B$496,J435,1),\"\")","v":""}]
[null," ",null,null,null,null,null,{"$f":"ROWS($B$3:B436)","v":434},"","",null,null,{"$f":"IFERROR(INDEX($B$3:$B$496,J436,1),\"\")","v":""}]
[null," ",null,null,null,null,null,{"$f":"ROWS($B$3:B437)","v":435},"","",null,null,{"$f":"IFERROR(INDEX($B$3:$B$496,J437,1),\"\")","v":""}]
[null," ",null,null,null,null,null,{"$f":"ROWS($B$3:B438)","v":436},"","",null,null,{"$f":"IFERROR(INDEX($B$3:$B$496,J438,1),\"\")","v":""}]
[null," ",null,null,null,null,null,{"$f":"ROWS($B$3:B439)","v":437},"","",null,null,{"$f":"IFERROR(INDEX($B$3:$B$496,J439,1),\"\")","v":""}]
[null," ",null,null,null,null,null,{"$f":"ROWS($B$3:B440)","v":438},"","",null,null,{"$f":"IFERROR(INDEX($B$3:$B$496,J440,1),\"\")","v":""}]
[null," ",null,null,null,null,null,{"$f":"ROWS($B$3:B441)","v":439},"","",null,null,{"$f":"IFERROR(INDEX($B$3:$B$496,J441,1),\"\")","v":""}]
[null," ",null,null,null,null,null,{"$f":"ROWS($B$3:B442)","v":440},"","",null,null,{"$f":"IFERROR(INDEX($B$3:$B$496,J442,1),\"\")","v":""}]
[null," ",null,null,null,null,null,{"$f":"ROWS($B$3:B443)","v":441},"","",null,null,{"$f":"IFERROR(INDEX($B$3:$B$496,J443,1),\"\")","v":""}]
[null," ",null,null,null,null,null,{"$f":"ROWS($B$3:B444)","v":442},"","",null,null,{"$f":"IFERROR(INDEX($B$3:$B$496,J444,1),\"\")","v":""}]
[null," ",null,null,null,null,null,{"$f":"ROWS($B$3:B445)","v":443},"","",null,null,{"$f":"IFERROR(INDEX($B$3:$B$496,J445,1),\"\")","v":""}]
[null," ",null,null,null,null,null,{"$f":"ROWS($B$3:B446)","v":444},"","",null,null,{"$f":"IFERROR(INDEX($B$3:$B$496,J446,1),\"\")","v":""}]
[null," ",null,null,null,null,null,{"$f":"ROWS($B$3:B447)","v":445},"","",null,null,{"$f":"IFERROR(INDEX($B$3:$B$496,J447,1),\"\")","v":""}]
[null," ",null,null,null,null,null,{"$f":"ROWS($B$3:B448)","v":446},"","",null,null,{"$f":"IFERROR(INDEX($B$3:$B$496,J448,1),\"\")","v":""}]
[null," ",null,null,null,null,null,{"$f":"ROWS($B$3:B449)","v":447},"","",null,null,{"$f":"IFERROR(INDEX($B$3:$B$496,J449,1),\"\")","v":""}]
[null," ",null,null,null,null,null,{"$f":"ROWS($B$3:B450)","v":448},"","",null,null,{"$f":"IFERROR(INDEX($B$3:$B$496,J450,1),\"\")","v":""}]
[null,{"$f":"C451 & \" \" &D451","v":" "},null,null,null,null,null,{"$f":"ROWS($B$3:B451)","v":449},{"$f":"IF(ISNUMBER(SEARCH($M$1,B451)),H451,\"\")","v":""},{"$f":"IFERROR(SMALL($I$3:$I$496,H451),\"\")","v":""},null,null,{"$f":"IFERROR(INDEX($B$3:$B$496,J451,1),\"\")","v":""}]
[null," ",null,null,null,null,null,{"$f":"ROWS($B$3:B452)","v":450},"","",null,null,{"$f":"IFERROR(INDEX($B$3:$B$496,J452,1),\"\")","v":""}]
[null," ",null,null,null,null,null,{"$f":"ROWS($B$3:B453)","v":451},"","",null,null,{"$f":"IFERROR(INDEX($B$3:$B$496,J453,1),\"\")","v":""}]
[null," ",null,null,null,null,null,{"$f":"ROWS($B$3:B454)","v":452},"","",null,null,{"$f":"IFERROR(INDEX($B$3:$B$496,J454,1),\"\")","v":""}]
[null," ",null,null,null,null,null,{"$f":"ROWS($B$3:B455)","v":453},"","",null,null,{"$f":"IFERROR(INDEX($B$3:$B$496,J455,1),\"\")","v":""}]
[null," ",null,null,null,null,null,{"$f":"ROWS($B$3:B456)","v":454},"","",null,null,{"$f":"IFERROR(INDEX($B$3:$B$496,J456,1),\"\")","v":""}]
[null," ",null,null,null,null,null,{"$f":"ROWS($B$3:B457)","v":455},"","",null,null,{"$f":"IFERROR(INDEX($B$3:$B$496,J457,1),\"\")","v":""}]
[null," ",null,null,null,null,null,{"$f":"ROWS($B$3:B458)","v":456},"","",null,null,{"$f":"IFERROR(INDEX($B$3:$B$496,J458,1),\"\")","v":""}]
[null," ",null,null,null,null,null,{"$f":"ROWS($B$3:B459)","v":457},"","",null,null,{"$f":"IFERROR(INDEX($B$3:$B$496,J459,1),\"\")","v":""}]
[null," ",null,null,null,null,null,{"$f":"ROWS($B$3:B460)","v":458},"","",null,null,{"$f":"IFERROR(INDEX($B$3:$B$496,J460,1),\"\")","v":""}]
[null," ",null,null,null,null,null,{"$f":"ROWS($B$3:B461)","v":459},"","",null,null,{"$f":"IFERROR(INDEX($B$3:$B$496,J461,1),\"\")","v":""}]
[null," ",null,null,null,null,null,{"$f":"ROWS($B$3:B462)","v":460},"","",null,null,{"$f":"IFERROR(INDEX($B$3:$B$496,J462,1),\"\")","v":""}]
[null," ",null,null,null,null,null,{"$f":"ROWS($B$3:B463)","v":461},"","",null,null,{"$f":"IFERROR(INDEX($B$3:$B$496,J463,1),\"\")","v":""}]
[null," ",null,null,null,null,null,{"$f":"ROWS($B$3:B464)","v":462},"","",null,null,{"$f":"IFERROR(INDEX($B$3:$B$496,J464,1),\"\")","v":""}]
[null," ",null,null,null,null,null,{"$f":"ROWS($B$3:B465)","v":463},"","",null,null,{"$f":"IFERROR(INDEX($B$3:$B$496,J465,1),\"\")","v":""}]
[null," ",null,null,null,null,null,{"$f":"ROWS($B$3:B466)","v":464},"","",null,null,{"$f":"IFERROR(INDEX($B$3:$B$496,J466,1),\"\")","v":""}]
[null," ",null,null,null,null,null,{"$f":"ROWS($B$3:B467)","v":465},"","",null,null,{"$f":"IFERROR(INDEX($B$3:$B$496,J467,1),\"\")","v":""}]
[null," ",null,null,null,null,null,{"$f":"ROWS($B$3:B468)","v":466},"","",null,null,{"$f":"IFERROR(INDEX($B$3:$B$496,J468,1),\"\")","v":""}]
[null," ",null,null,null,null,null,{"$f":"ROWS($B$3:B469)","v":467},"","",null,null,{"$f":"IFERROR(INDEX($B$3:$B$496,J469,1),\"\")","v":""}]
[null," ",null,null,null,null,null,{"$f":"ROWS($B$3:B470)","v":468},"","",null,null,{"$f":"IFERROR(INDEX($B$3:$B$496,J470,1),\"\")","v":""}]
[null," ",null,null,null,null,null,{"$f":"ROWS($B$3:B471)","v":469},"","",null,null,{"$f":"IFERROR(INDEX($B$3:$B$496,J471,1),\"\")","v":""}]
[null," ",null,null,null,null,null,{"$f":"ROWS($B$3:B472)","v":470},"","",null,null,{"$f":"IFERROR(INDEX($B$3:$B$496,J472,1),\"\")","v":""}]
[null," ",null,null,null,null,null,{"$f":"ROWS($B$3:B473)","v":471},"","",null,null,{"$f":"IFERROR(INDEX($B$3:$B$496,J473,1),\"\")","v":""}]
[null," ",null,null,null,null,null,{"$f":"ROWS($B$3:B474)","v":472},"","",null,null,{"$f":"IFERROR(INDEX($B$3:$B$496,J474,1),\"\")","v":""}]
[null," ",null,null,null,null,null,{"$f":"ROWS($B$3:B475)","v":473},"","",null,null,{"$f":"IFERROR(INDEX($B$3:$B$496,J475,1),\"\")","v":""}]
[null," ",null,null,null,null,null,{"$f":"ROWS($B$3:B476)","v":474},"","",null,null,{"$f":"IFERROR(INDEX($B$3:$B$496,J476,1),\"\")","v":""}]
[null," ",null,null,null,null,null,{"$f":"ROWS($B$3:B477)","v":475},"","",null,null,{"$f":"IFERROR(INDEX($B$3:$B$496,J477,1),\"\")","v":""}]
[null," ",null,null,null,null,null,{"$f":"ROWS($B$3:B478)","v":476},"","",null,null,{"$f":"IFERROR(INDEX($B$3:$B$496,J478,1),\"\")","v":""}]
[null," ",null,null,null,null,null,{"$f":"ROWS($B$3:B479)","v":477},"","",null,null,{"$f":"IFERROR(INDEX($B$3:$B$496,J479,1),\"\")","v":""}]
[null," ",null,null,null,null,null,{"$f":"ROWS($B$3:B480)","v":478},"","",null,null,{"$f":"IFERROR(INDEX($B$3:$B$496,J480,1),\"\")","v":""}]
[null," ",null,null,null,null,null,{"$f":"ROWS($B$3:B481)","v":479},"","",null,null,{"$f":"IFERROR(INDEX($B$3:$B$496,J481,1),\"\")","v":""}]
[null," ",null,null,null,null,null,{"$f":"ROWS($B$3:B482)","v":480},"","",null,null,{"$f":"IFERROR(INDEX($B$3:$B$496,J482,1),\"\")","v":""}]
[null," ",null,null,null,null,null,{"$f":"ROWS($B$3:B483)","v":481},"","",null,null,{"$f":"IFERROR(INDEX($B$3:$B$496,J483,1),\"\")","v":""}]
[null," ",null,null,null,null,null,{"$f":"ROWS($B$3:B484)","v":482},"","",null,null,{"$f":"IFERROR(INDEX($B$3:$B$496,J484,1),\"\")","v":""}]
[null," ",null,null,null,null,null,{"$f":"ROWS($B$3:B485)","v":483},"","",null,null,{"$f":"IFERROR(INDEX($B$3:$B$496,J485,1),\"\")","v":""}]
[null," ",null,null,null,null,null,{"$f":"ROWS($B$3:B486)","v":484},"","",null,null,{"$f":"IFERROR(INDEX($B$3:$B$496,J486,1),\"\")","v":""}]
[null," ",null,null,null,null,null,{"$f":"ROWS($B$3:B487)","v":485},"","",null,null,{"$f":"IFERROR(INDEX($B$3:$B$496,J487,1),\"\")","v":""}]
[null," ",null,null,null,null,null,{"$f":"ROWS($B$3:B488)","v":486},"","",null,null,{"$f":"IFERROR(INDEX($B$3:$B$496,J488,1),\"\")","v":""}]
[null," ",null,null,null,null,null,{"$f":"ROWS($B$3:B489)","v":487},"","",null,null,{"$f":"IFERROR(INDEX($B$3:$B$496,J489,1),\"\")","v":""}]
[null," ",null,null,null,null,null,{"$f":"ROWS($B$3:B490)","v":488},"","",null,null,{"$f":"IFERROR(INDEX($B$3:$B$496,J490,1),\"\")","v":""}]
[null," ",null,null,null,null,null,{"$f":"ROWS($B$3:B491)","v":489},"","",null,null,{"$f":"IFERROR(INDEX($B$3:$B$496,J491,1),\"\")","v":""}]
[null," ",null,null,null,null,null,{"$f":"ROWS($B$3:B492)","v":490},"","",null,null,{"$f":"IFERROR(INDEX($B$3:$B$496,J492,1),\"\")","v":""}]
[null," ",null,null,null,null,null,{"$f":"ROWS($B$3:B493)","v":491},"","",null,null,{"$f":"IFERROR(INDEX($B$3:$B$496,J493,1),\"\")","v":""}]
[null," ",null,null,null,null,null,{"$f":"ROWS($B$3:B494)","v":492},"","",null,null,{"$f":"IFERROR(INDEX($B$3:$B$496,J494,1),\"\")","v":""}]
[null," ",null,null,null,null,null,{"$f":"ROWS($B$3:B495)","v":493},"","",null,null,{"$f":"IFERROR(INDEX($B$3:$B$496,J495,1),\"\")","v":""}]
[null," ",null,null,null,null,null,{"$f":"ROWS($B$3:B496)","v":494},"","",null,null,{"$f":"IFERROR(INDEX($B$3:$B$496,J496,1),\"\")","v":""}]