{"text_format":"1","workbook":"xlsx","n_sheets":96,"sheets":["Récapitulatif","ALDEGUER Lionel","BASTENIER Jean","BLONDEEL Firmin","BURY Alain","CAQUELOT Maurice","CARPENTIER Yohanne","CARTIERE André","CAUX Frédéric","CAUX Grégory","CLYNCKE Jean-Jacques","DECONINCK Franky","DELEPIERRE Patrick","DELFORGE Benjamin","DELRUE André","DELSOL Philippe","DEMILLY Dominique","DEPLECHIN Robert","DEROLEZ Jean-Pierre","DEVOS Jackie","ESTERMANS Bernard","FAUCOMPREZ Didier","FLEURANT Richard","FONTAINE Christian","FOULON Jeremy","FRADET David","GAUQUIE Serge","GEETS Patrice","GHEVART Jean","GREMAIN Gino","GROLLET Fabien","GUILLEMANT Alexandre","GUILLEMANT David","GUILLEMANT Jean-Marc","GUILLUY Jean-René","HENNEUSE Patrick","HERREBRECHT Emerick","HERREBRECHT Erian","HERREBRECHT Thierry","HINGRAND Tony","HOCHART James","HORNAIN Denis","HULOT Sophie","KAYA Turgul","KERKHOF Hervé","LAMBIASE Guiseppe","LEBLANC Jean-Noël","LECLERCQ Alain","LECROART Serge","LEFEBVRE Julien","LEMATRE Alexis","LEMATRE Jérémy","LEMÂTRE Alexis","LEMÂTRE Jérémy","LERICQUE Pierre","LHERMITTE Cédric","LORTHIOIR Jean-Luc","LOTHE Jean-Luc","LUBREZ Pierre","MAILLE Bernard","MANTEN Paul","MARRONNIER Jean-Luc","MARTEL Bruno","MASIERO Lorenzo","MAUPIN Patrick","MEUROT Philippe","MONFLIER Francis","PAILLARD Bertrand","PARISIS Francis","PIERRU Didier","PONCHANT Grégory","POULEYN André","PRUVOST Franck","RACARY Thibault","RAUX Jean-François","RENAUX Damien","SAINT-GEORGES Claude","SEINGIER Jean-Claude","SKORDILIS Christo","ST MAXENT Stéphane","STOPIN Gilles","THERY Jean-Pierre","TRIPLET Freddy","TRIPLET Gilbert","TRUQUET David","TURPIN Laurent","VANDIONANT Michel","VANLERBERGHE Nicolas","VANNUCCI Emilio","VEREECQUE Bernard","VEREECQUE Ludovic","VERHAGHE Dominique","VERPOORT José","WALLART Jean-Charles","WESTEEL Bruno","ZEUDE Alain"],"not_rendered":{"charts":0,"images":0,"macros":1,"external_links":1,"defined_names":222,"comments":0,"pivot_tables":0},"unopened":[],"bounds":{"document_bytes":16777216,"sheet_cells":100000,"rows_first":2000,"rows_last":500,"rows_between":2000,"halvings":0,"cell_chars":16384,"cell_head_chars":4096},"cells_cut":0,"cells_raw":0,"read":"whole","date_system":"1900"}

{"sheet":"Récapitulatif","index":0,"n_rows":106,"n_cols":29,"rows_kept":106,"cut":false,"hidden":false,"merged":[[0,8,1,20],[4,8,5,20],[2,8,3,20]]}
["Mois de référence pour chgt saison",8,null,null,null,null,null,null,"5 QUILLES"]
["Saison 1","2014-2015"]
["Saison 2","2015-2016",null,null,null,null,null,null,"Statistiques  N1 Ligue Nord-Pas de Calais"]
["Nb Match mini sur 2 saisons",10]
["%age mini matchs gagnés",0.33,null,null,null,null,null,null,{"$f":"Récapitulatif!$B$2 & \" / \" & Récapitulatif!$B$3","v":"2014-2015 / 2015-2016"}]
["%age mini sets gagnés",0.33]
[]
[]
[null,{"$f":"Récapitulatif!$B$2","v":"2014-2015"},null,null,null,null,null,null,{"$f":"Récapitulatif!$B$3","v":"2015-2016"},null,null,null,null,null,null,"Total 2 saisons",null,null,null,null,null,null,"Total toutes saisons confondues"]
[null,"Matchs",null,null,"Sets",null,null,"Moy.","Matchs",null,null,"Sets",null,null,"Moy.","Matchs",null,null,"Sets",null,null,"Moy.","Matchs",null,null,"Sets",null,null,"Moy."]
["Joueur","G","P","%age G","G","P","%age G","Gén.","G","P","%age G","G","P","%age G","Gén.","G","P","%age G","G","P","%age G","Gén.","G","P","%age G","G","P","%age G","Gén."]
["ALDEGUER Lionel",4,9,0.30769230769230771,6,16,0.27272727272727271,0.85272988505747127,4,12,0.25,11,26,0.29729729729729731,0.78540975840833727,8,21,0.27586206896551724,17,42,0.28813559322033899,0.81216100485298315,10,24,0.29411764705882354,19,47,0.2878787878787879,0.81521739130434778]
["BASTENIER Jean",0,0,null,0,0,null,null,0,0,null,0,0,null,null,0,0,null,0,0,null,null,57,50,0.53271028037383172,162,161,0.50154798761609909,0.99440381558028612]
["BLONDEEL Firmin",5,1,0.83333333333333337,15,7,0.68181818181818177,1.1675231243576567,0,6,0,1,12,7.6923076923076927E-2,0.75424836601307188,5,7,0.41666666666666669,16,19,0.45714285714285713,0.98561565017261221,5,7,0.41666666666666669,16,19,0.45714285714285713,0.98561565017261221]
["BURY Alain",0,0,null,0,0,null,null,0,0,null,0,0,null,null,0,0,null,0,0,null,null,0,3,0,1,6,0.14285714285714285,0.77372262773722633]
["CAQUELOT Maurice",0,0,null,0,0,null,null,0,0,null,0,0,null,null,0,0,null,0,0,null,null,0,4,0,1,8,0.1111111111111111,0.67428571428571427]
["CARPENTIER Yohanne",0,0,null,0,0,null,null,0,0,null,0,0,null,null,0,0,null,0,0,null,null,23,33,0.4107142857142857,63,79,0.44366197183098594,0.97503069995906677]
["CARTIERE André",0,0,null,0,0,null,null,0,0,null,0,0,null,null,0,0,null,0,0,null,null,1,4,0.2,3,8,0.27272727272727271,0.80254777070063699]
["CAUX Frédéric",16,20,0.44444444444444442,40,51,0.43956043956043955,0.95052784102670251,5,21,0.19230769230769232,14,39,0.26415094339622641,0.78745854687971062,21,41,0.33870967741935482,54,90,0.375,0.8841433480608738,97,190,0.33797909407665505,282,468,0.376,0.87846439628482975]
["CAUX Grégory",4,3,0.5714285714285714,8,9,0.47058823529411764,0.86726659167604048,0,0,null,0,0,null,null,4,3,0.5714285714285714,8,9,0.47058823529411764,0.86726659167604048,17,18,0.48571428571428571,41,45,0.47674418604651164,0.93448428508189463]
["CLYNCKE Jean-Jacques",11,15,0.42307692307692307,32,41,0.43835616438356162,0.99396929824561409,18,26,0.40909090909090912,50,72,0.4098360655737705,0.87402799377916018,29,41,0.41428571428571431,82,113,0.42051282051282052,0.91744393728914464,110,169,0.3942652329749104,331,458,0.41951837769328265,0.90982664612826725]
["DECONINCK Franky",11,5,0.6875,30,15,0.66666666666666663,1.1991172143207454,0,0,null,0,0,null,null,11,5,0.6875,30,15,0.66666666666666663,1.1991172143207454,17,12,0.58620689655172409,37,26,0.58730158730158732,1.0942709912094575]
["DELEPIERRE Patrick",0,0,null,0,0,null,null,0,0,null,0,0,null,null,0,0,null,0,0,null,null,14,35,0.2857142857142857,43,93,0.31617647058823528,0.77849636216653195]
["DELFORGE Benjamin",0,0,null,0,0,null,null,0,0,null,0,0,null,null,0,0,null,0,0,null,null,0,4,0,0,6,0,0.42499999999999999]
["DELRUE André",0,0,null,0,0,null,null,0,0,null,0,0,null,null,0,0,null,0,0,null,null,0,6,0,4,12,0.25,0.72578763127187862]
["DELSOL Philippe",10,9,0.52631578947368418,38,43,0.46913580246913578,0.95943008935039842,14,1,0.93333333333333335,33,9,0.7857142857142857,1.455513784461153,24,10,0.70588235294117652,71,52,0.57723577235772361,1.0974376852013248,144,36,0.8,368,156,0.70229007633587781,1.272205790086941]
["DEMILLY Dominique",0,0,null,0,0,null,null,0,0,null,0,0,null,null,0,0,null,0,0,null,null,0,3,0,0,6,0,0.45555555555555555]
["DEPLECHIN Robert",9,7,0.5625,18,21,0.46153846153846156,0.94681861348528018,0,2,0,1,4,0.2,0.66901408450704225,9,9,0.5,19,25,0.43181818181818182,0.9138075313807531,17,16,0.51515151515151514,33,38,0.46478873239436619,0.99208375893769152]
["DEROLEZ Jean-Pierre",9,16,0.36,28,39,0.41791044776119401,0.89295466957946479,18,10,0.6428571428571429,38,31,0.55072463768115942,1.042612064194798,27,26,0.50943396226415094,66,70,0.48529411764705882,0.96728971962616828,60,92,0.39473684210526316,152,211,0.41873278236914602,0.92979156075241487]
["DEVOS Jackie",6,2,0.75,12,6,0.66666666666666663,1.1922626025791325,2,1,0.66666666666666663,4,3,0.5714285714285714,1.0644257703081232,8,3,0.72727272727272729,16,9,0.64,1.1545454545454545,23,11,0.67647058823529416,46,28,0.6216216216216216,1.120774263904035]
["ESTERMANS Bernard",1,7,0.125,5,13,0.27777777777777779,0.84034416826003822,0,0,null,0,0,null,null,1,7,0.125,5,13,0.27777777777777779,0.84034416826003822,10,28,0.26315789473684209,25,52,0.32467532467532467,0.84983314794215792]
["FAUCOMPREZ Didier",0,0,null,0,0,null,null,0,0,null,0,0,null,null,0,0,null,0,0,null,null,30,24,0.55555555555555558,81,76,0.51592356687898089,1.0118752446822394]
["FLEURANT Richard",0,0,null,0,0,null,null,0,0,null,0,0,null,null,0,0,null,0,0,null,null,6,9,0.4,14,19,0.42424242424242425,0.98265249020705092]
["FONTAINE Christian",0,0,null,0,0,null,null,0,0,null,0,0,null,null,0,0,null,0,0,null,null,3,1,0.75,6,4,0.6,1.1004464285714286]
["FOULON Jeremy",0,3,0,4,9,0.30769230769230771,0.81690140845070425,0,0,null,0,0,null,null,0,3,0,4,9,0.30769230769230771,0.81690140845070425,0,3,0,4,9,0.30769230769230771,0.81690140845070425]
["FRADET David",0,3,0,1,6,0.14285714285714285,0.79753086419753083,0,0,null,0,0,null,null,0,3,0,1,6,0.14285714285714285,0.79753086419753083,0,3,0,1,6,0.14285714285714285,0.79753086419753083]
["GAUQUIE Serge",0,2,0,1,4,0.2,0.75524475524475521,0,0,null,0,0,null,null,0,2,0,1,4,0.2,0.75524475524475521,2,9,0.18181818181818182,8,19,0.29629629629629628,0.8169582772543742]
["GEETS Patrice",27,20,0.57446808510638303,81,63,0.5625,1.1167829054755898,30,15,0.66666666666666663,88,58,0.60273972602739723,1.1131462333825701,57,35,0.61956521739130432,169,121,0.58275862068965523,1.1149603967725221,165,100,0.62264150943396224,451,346,0.56587202007528226,1.0709829402780295]
["GHEVART Jean",3,12,0.2,15,29,0.34090909090909088,0.79003267973856206,7,26,0.21212121212121213,20,53,0.27397260273972601,0.77058411214988087,10,38,0.20833333333333334,35,82,0.29914529914529914,0.77766052318690404,10,45,0.18181818181818182,36,94,0.27692307692307694,0.75938489968340683]
["GREMAIN Gino",10,8,0.55555555555555558,33,28,0.54098360655737709,0.99898097826086951,0,0,null,0,0,null,null,10,8,0.55555555555555558,33,28,0.54098360655737709,0.99898097826086951,106,63,0.62721893491124259,308,231,0.5714285714285714,1.0824787694279763]
["GROLLET Fabien",0,0,null,0,0,null,null,0,0,null,0,0,null,null,0,0,null,0,0,null,null,4,6,0.4,10,14,0.41666666666666669,0.87860394537177544]
["GUILLEMANT Alexandre",0,0,null,0,0,null,null,0,0,null,0,0,null,null,0,0,null,0,0,null,null,113,13,0.89682539682539686,356,97,0.78587196467991172,1.4643535301225616]
["GUILLEMANT David",12,8,0.6,35,26,0.57377049180327866,1.1116678520625094,12,12,0.5,52,46,0.53061224489795922,0.98975974793225674,24,20,0.54545454545454541,87,72,0.54716981132075471,1.0332078580481339,138,79,0.63594470046082952,438,329,0.57105606258148633,1.0738810174828011]
["GUILLEMANT Jean-Marc",0,0,null,0,0,null,null,0,0,null,0,0,null,null,0,0,null,0,0,null,null,58,94,0.38157894736842107,191,272,0.41252699784017277,0.91460224583752059]
["GUILLUY Jean-René",0,0,null,0,0,null,null,0,0,null,0,0,null,null,0,0,null,0,0,null,null,0,3,0,0,3,0,0.47333333333333333]
["HENNEUSE Patrick",0,0,null,0,0,null,null,0,0,null,0,0,null,null,0,0,null,0,0,null,null,7,12,0.36842105263157893,22,29,0.43137254901960786,0.91682563906905756]
["HERREBRECHT Emerick",2,6,0.25,8,17,0.32,0.61822125813449025,0,5,0,4,12,0.25,0.67349137931034486,2,11,0.15384615384615385,12,29,0.29268292682926828,0.64041540458675894,3,14,0.17647058823529413,14,34,0.29166666666666669,0.65623876303487949]
["HERREBRECHT Erian",1,10,9.0909090909090912E-2,7,26,0.21212121212121213,0.64193548387096777,0,3,0,0,6,0,0.40833333333333333,1,13,7.1428571428571425E-2,7,32,0.17948717948717949,0.6040540540540541,3,19,0.13636363636363635,10,42,0.19230769230769232,0.65797195956961196]
["HERREBRECHT Thierry",21,9,0.7,61,34,0.64210526315789473,1.1995708154506437,0,0,null,0,0,null,null,21,9,0.7,61,34,0.64210526315789473,1.1995708154506437,136,52,0.72340425531914898,371,209,0.6396551724137931,1.1726956231107937]
["HINGRAND Tony",0,0,null,0,0,null,null,3,2,0.6,4,3,0.5714285714285714,0.99586776859504134,3,2,0.6,4,3,0.5714285714285714,0.99586776859504134,3,2,0.6,4,3,0.5714285714285714,0.99586776859504134]
["HOCHART James",0,0,null,0,0,null,null,0,0,null,0,0,null,null,0,0,null,0,0,null,null,4,9,0.30769230769230771,7,17,0.29166666666666669,0.75277234181343766]
["HORNAIN Denis",0,0,null,0,0,null,null,0,0,null,0,0,null,null,0,0,null,0,0,null,null,12,22,0.35294117647058826,32,45,0.41558441558441561,0.91675101214574894]
["HULOT Sophie",0,0,null,0,0,null,null,0,0,null,0,0,null,null,0,0,null,0,0,null,null,1,20,4.7619047619047616E-2,6,43,0.12244897959183673,0.65743073047858946]
["KAYA Turgul",0,0,null,0,0,null,null,0,0,null,0,0,null,null,0,0,null,0,0,null,null,8,10,0.44444444444444442,14,20,0.41176470588235292,0.90852190659605203]
["KERKHOF Hervé",0,0,null,0,0,null,null,2,4,0.33333333333333331,3,8,0.27272727272727271,0.92113095238095233,2,4,0.33333333333333331,3,8,0.27272727272727271,0.92113095238095233,2,4,0.33333333333333331,3,8,0.27272727272727271,0.92113095238095233]
["LAMBIASE Guiseppe",0,0,null,0,0,null,null,0,0,null,0,0,null,null,0,0,null,0,0,null,null,14,4,0.77777777777777779,34,13,0.72340425531914898,1.2608695652173914]
["LEBLANC Jean-Noël",0,0,null,0,0,null,null,1,2,0.33333333333333331,2,5,0.2857142857142857,0.87002652519893897,1,2,0.33333333333333331,2,5,0.2857142857142857,0.87002652519893897,3,5,0.375,5,10,0.33333333333333331,0.87977528089887636]
["LECLERCQ Alain",0,0,null,0,0,null,null,0,2,0,1,4,0.2,0.74319066147859925,0,2,0,1,4,0.2,0.74319066147859925,0,2,0,1,4,0.2,0.74319066147859925]
["LECROART Serge",0,0,null,0,0,null,null,4,9,0.30769230769230771,9,15,0.375,0.90489317711922812,4,9,0.30769230769230771,9,15,0.375,0.90489317711922812,17,38,0.30909090909090908,43,74,0.36752136752136755,0.82604022723783199]
["LEFEBVRE Julien",1,2,0.33333333333333331,4,6,0.4,0.73539518900343648,0,0,null,0,0,null,null,1,2,0.33333333333333331,4,6,0.4,0.73539518900343648,1,2,0.33333333333333331,4,6,0.4,0.73539518900343648]
["LEMATRE Alexis",0,0,null,0,0,null,null,6,4,0.6,21,16,0.56756756756756754,1.0478309232480534,6,4,0.6,21,16,0.56756756756756754,1.0478309232480534,6,4,0.6,21,16,0.56756756756756754,1.0478309232480534]
["LEMATRE Jérémy",1,2,0.33333333333333331,4,7,0.36363636363636365,0.88785046728971961,0,0,null,0,0,null,null,1,2,0.33333333333333331,4,7,0.36363636363636365,0.88785046728971961,1,2,0.33333333333333331,4,7,0.36363636363636365,0.88785046728971961]
["LEMÂTRE Alexis",16,7,0.69565217391304346,40,22,0.64516129032258063,1.1744345442083619,9,6,0.6,19,16,0.54285714285714282,1.0601265822784811,25,13,0.65789473684210531,59,38,0.60824742268041232,1.1294142085583714,25,13,0.65789473684210531,59,38,0.60824742268041232,1.1294142085583714]
["LEMÂTRE Jérémy",16,2,0.88888888888888884,38,12,0.76,1.2143170838823012,10,6,0.625,22,16,0.57894736842105265,1.0918141592920354,26,8,0.76470588235294112,60,28,0.68181818181818177,1.1600979192166463,48,25,0.65753424657534243,118,78,0.60204081632653061,1.0976456547683628]
["LERICQUE Pierre",0,0,null,0,0,null,null,0,0,null,0,0,null,null,0,0,null,0,0,null,null,3,4,0.42857142857142855,7,11,0.3888888888888889,0.79328436516264433]
["LHERMITTE Cédric",0,0,null,0,0,null,null,0,0,null,0,0,null,null,0,0,null,0,0,null,null,80,40,0.66666666666666663,197,128,0.60615384615384615,1.1200473092844472]
["LORTHIOIR Jean-Luc",7,15,0.31818181818181818,16,34,0.32,0.81072026800670016,4,12,0.25,7,21,0.25,0.74668874172185429,11,27,0.28947368421052633,23,55,0.29487179487179488,0.78653324994788409,60,155,0.27906976744186046,159,349,0.31299212598425197,0.78597042450735977]
["LOTHE Jean-Luc",2,6,0.25,9,17,0.34615384615384615,0.90707964601769908,0,0,null,0,0,null,null,2,6,0.25,9,17,0.34615384615384615,0.90707964601769908,2,10,0.16666666666666666,12,25,0.32432432432432434,0.87785862785862789]
["LUBREZ Pierre",3,11,0.21428571428571427,7,18,0.28000000000000003,0.86720698254364093,0,0,null,0,0,null,null,3,11,0.21428571428571427,7,18,0.28000000000000003,0.86720698254364093,9,31,0.22500000000000001,23,53,0.30263157894736842,0.83564192681414096]
["MAILLE Bernard",15,10,0.6,42,36,0.53846153846153844,1.0618666666666667,38,19,0.66666666666666663,102,70,0.59302325581395354,1.1354127044503612,53,29,0.64634146341463417,144,106,0.57599999999999996,1.1117126407149609,193,142,0.57611940298507458,552,461,0.54491609081934844,1.0592289378054385]
["MANTEN Paul",1,4,0.2,3,8,0.27272727272727271,0.81709401709401708,1,8,0.1111111111111111,5,15,0.25,0.75773195876288657,2,12,0.14285714285714285,8,23,0.25806451612903225,0.77758719268153231,10,31,0.24390243902439024,19,56,0.25333333333333335,0.82315880947208342]
["MARRONNIER Jean-Luc",0,0,null,0,0,null,null,0,0,null,0,0,null,null,0,0,null,0,0,null,null,0,4,0,0,6,0,0.47727272727272729]
["MARTEL Bruno",0,0,null,0,0,null,null,0,0,null,0,0,null,null,0,0,null,0,0,null,null,4,12,0.25,12,27,0.30769230769230771,0.85978209379441028]
["MASIERO Lorenzo",0,0,null,0,0,null,null,0,0,null,0,0,null,null,0,0,null,0,0,null,null,4,7,0.36363636363636365,11,17,0.39285714285714285,0.8332272437937619]
["MAUPIN Patrick",0,0,null,0,0,null,null,0,0,null,0,0,null,null,0,0,null,0,0,null,null,10,8,0.55555555555555558,23,19,0.54761904761904767,1.0282788883471476]
["MEUROT Philippe",0,0,null,0,0,null,null,0,0,null,0,0,null,null,0,0,null,0,0,null,null,2,2,0.5,5,5,0.5,0.92592592592592593]
["MONFLIER Francis",0,0,null,0,0,null,null,0,0,null,0,0,null,null,0,0,null,0,0,null,null,2,15,0.11764705882352941,6,26,0.1875,0.65747460087082732]
["PAILLARD Bertrand",0,0,null,0,0,null,null,0,0,null,0,0,null,null,0,0,null,0,0,null,null,0,4,0,2,6,0.25,0.68909090909090909]
["PARISIS Francis",0,0,null,0,0,null,null,0,0,null,0,0,null,null,0,0,null,0,0,null,null,1,8,0.1111111111111111,2,12,0.14285714285714285,0.53497942386831276]
["PIERRU Didier",0,0,null,0,0,null,null,1,7,0.125,5,17,0.22727272727272727,0.70756972111553784,1,7,0.125,5,17,0.22727272727272727,0.70756972111553784,1,7,0.125,5,17,0.22727272727272727,0.70756972111553784]
["PONCHANT Grégory",0,0,null,0,0,null,null,0,0,null,0,0,null,null,0,0,null,0,0,null,null,5,11,0.3125,17,28,0.37777777777777777,0.86890756302521011]
["POULEYN André",13,26,0.33333333333333331,40,67,0.37383177570093457,0.84592555332016939,13,23,0.3611111111111111,35,60,0.36842105263157893,0.85956644674835059,26,49,0.34666666666666668,75,127,0.37128712871287128,0.85234714704068593,66,121,0.35294117647058826,199,307,0.3932806324110672,0.88858568296934692]
["PRUVOST Franck",0,0,null,0,0,null,null,0,0,null,0,0,null,null,0,0,null,0,0,null,null,1,10,9.0909090909090912E-2,5,23,0.17857142857142858,0.55424674519528827]
["RACARY Thibault",12,5,0.70588235294117652,44,21,0.67692307692307696,1.2219554030874786,16,4,0.8,50,23,0.68493150684931503,1.2652120467117394,28,9,0.7567567567567568,94,44,0.6811594202898551,1.2447722483384664,126,46,0.73255813953488369,371,205,0.64409722222222221,1.1862906683554164]
["RAUX Jean-François",0,0,null,0,0,null,null,0,0,null,0,0,null,null,0,0,null,0,0,null,null,2,3,0.4,5,7,0.41666666666666669,0.86900958466453671]
["RENAUX Damien",0,0,null,0,0,null,null,0,0,null,0,0,null,null,0,0,null,0,0,null,null,1,3,0.25,2,5,0.2857142857142857,0.86956521739130432]
["SAINT-GEORGES Claude",32,17,0.65306122448979587,100,67,0.59880239520958078,1.1219512195121952,19,15,0.55882352941176472,56,51,0.52336448598130836,1.0719092482214958,51,32,0.61445783132530118,156,118,0.56934306569343063,1.1017894492214735,157,115,0.57720588235294112,445,382,0.53808948004836754,1.0308417814091895]
["SEINGIER Jean-Claude",1,2,0.33333333333333331,3,4,0.42857142857142855,0.82526881720430112,0,0,null,0,0,null,null,1,2,0.33333333333333331,3,4,0.42857142857142855,0.82526881720430112,7,18,0.28000000000000003,27,50,0.35064935064935066,0.88479721323712368]
["SKORDILIS Christo",0,0,null,0,0,null,null,0,0,null,0,0,null,null,0,0,null,0,0,null,null,12,19,0.38709677419354838,33,47,0.41249999999999998,0.8635840809753853]
["ST MAXENT Stéphane",0,0,null,0,0,null,null,0,0,null,0,0,null,null,0,0,null,0,0,null,null,1,4,0.2,2,6,0.25,0.75600739371534198]
["STOPIN Gilles",2,2,0.5,7,9,0.4375,0.94211822660098521,0,0,null,0,0,null,null,2,2,0.5,7,9,0.4375,0.94211822660098521,4,6,0.4,13,18,0.41935483870967744,0.94961734693877553]
["THERY Jean-Pierre",0,0,null,0,0,null,null,0,3,0,0,6,0,0.53888888888888886,0,3,0,0,6,0,0.53888888888888886,0,3,0,0,6,0,0.53888888888888886]
["TRIPLET Freddy",0,0,null,0,0,null,null,0,2,0,0,4,0,0.52500000000000002,0,2,0,0,4,0,0.52500000000000002,0,2,0,0,4,0,0.52500000000000002]
["TRIPLET Gilbert",1,10,9.0909090909090912E-2,3,16,0.15789473684210525,0.74779116465863449,1,2,0.33333333333333331,3,5,0.375,0.84210526315789469,2,12,0.14285714285714285,6,21,0.22222222222222221,0.77229488703923899,5,25,0.16666666666666666,17,48,0.26153846153846155,0.77572559366754612]
["TRUQUET David",0,0,null,0,0,null,null,0,0,null,0,0,null,null,0,0,null,0,0,null,null,4,5,0.44444444444444442,11,11,0.5,1.0192837465564739]
["TURPIN Laurent",0,0,null,0,0,null,null,0,0,null,0,0,null,null,0,0,null,0,0,null,null,34,26,0.56666666666666665,78,70,0.52702702702702697,1.0243638332430969]
["VANDIONANT Michel",0,0,null,0,0,null,null,0,0,null,0,0,null,null,0,0,null,0,0,null,null,0,6,0,0,12,0,0.44027777777777777]
["VANLERBERGHE Nicolas",0,0,null,0,0,null,null,0,0,null,0,0,null,null,0,0,null,0,0,null,null,5,7,0.41666666666666669,14,21,0.4,0.97058823529411764]
["VANNUCCI Emilio",0,0,null,0,0,null,null,0,0,null,0,0,null,null,0,0,null,0,0,null,null,23,11,0.67647058823529416,54,36,0.6,1.1018912529550828]
["VEREECQUE Bernard",0,0,null,0,0,null,null,0,0,null,0,0,null,null,0,0,null,0,0,null,null,2,3,0.4,3,6,0.33333333333333331,0.73833333333333329]
["VEREECQUE Ludovic",1,2,0.33333333333333331,3,5,0.375,0.85135135135135132,3,4,0.42857142857142855,8,10,0.44444444444444442,0.94597701149425284,4,6,0.4,11,15,0.42307692307692307,0.91400304414003042,37,38,0.49333333333333335,91,94,0.49189189189189192,0.99406047516198703]
["VERHAGHE Dominique",5,8,0.38461538461538464,18,23,0.43902439024390244,0.90337934316991908,0,0,null,0,0,null,null,5,8,0.38461538461538464,18,23,0.43902439024390244,0.90337934316991908,9,12,0.42857142857142855,28,33,0.45901639344262296,0.94180754226267882]
["VERPOORT José",0,0,null,0,0,null,null,0,0,null,0,0,null,null,0,0,null,0,0,null,null,1,3,0.25,2,5,0.2857142857142857,0.85682326621923932]
["WALLART Jean-Charles",21,15,0.58333333333333337,53,49,0.51960784313725494,1.0746,29,21,0.57999999999999996,85,64,0.57046979865771807,1.0976971388695045,50,36,0.58139534883720934,138,113,0.54980079681274896,1.0882038635429512,207,170,0.54907161803713533,584,531,0.52376681614349774,1.0470342304677294]
["WESTEEL Bruno",0,0,null,0,0,null,null,0,0,null,0,0,null,null,0,0,null,0,0,null,null,19,10,0.65517241379310343,55,38,0.59139784946236562,1.1058809963103067]
["ZEUDE Alain",0,0,null,0,0,null,null,0,0,null,0,0,null,null,0,0,null,0,0,null,null,3,19,0.13636363636363635,4,35,0.10256410256410256,0.57223340040241444]

{"sheet":"ALDEGUER Lionel","index":1,"n_rows":50,"n_cols":22,"rows_kept":50,"cut":false,"hidden":false,"merged":[]}
["ALDEGUER Lionel",null,null,null,null,null,null,null,null,null,null,null,null,null,null,{"$f":"Récapitulatif!$B$2","v":"2014-2015"},null,{"$f":"Récapitulatif!$B$3","v":"2015-2016"},null,"Toutes saisons"]
["<Club>",null,null,null,null,null,null,null,null,null,null,null,null,null,null,"Nombre","%age","Nombre","%age","Nombre","%age"]
["<Licence>",null,null,null,null,null,null,null,null,null,null,null,null,"Matchs","Gagnés",{"$f":"SUM(P$15:P$50)","v":4},{"$f":"IF(P$3+P$4>0,P3/(P$3+P$4),\"\")","v":0.30769230769230771},{"$f":"SUM(R$15:R$50)","v":4},{"$f":"IF(R$3+R$4>0,R3/(R$3+R$4),\"\")","v":0.25},{"$f":"COUNTIF($C$15:$C$50,\"G\")","v":10},{"$f":"IF(T$3+T$4>0,T3/(T$3+T$4),\"\")","v":0.29411764705882354}]
["<Tel>",null,null,null,null,null,null,null,null,null,null,null,null,null,"Perdus",{"$f":"COUNTIF($K$15:$K$50,Récapitulatif!$B$2)-P3","v":9},{"$f":"IF(P$3+P$4>0,P4/(P$3+P$4),\"\")","v":0.69230769230769229},{"$f":"COUNTIF($K$15:$K$50,Récapitulatif!$B$3)-R3","v":12},{"$f":"IF(R$3+R$4>0,R4/(R$3+R$4),\"\")","v":0.75},{"$f":"COUNTIF($C$15:$C$50,\"P\")","v":24},{"$f":"IF(T$3+T$4>0,T4/(T$3+T$4),\"\")","v":0.70588235294117652}]
["<email>",null,null,null,null,null,null,null,null,null,null,null,null,null,"Total / Moy.",{"$f":"SUM(P3:P4)","v":13},{"$f":"IF(SUMIF($K$15:$K$50,Récapitulatif!$B$2,$G$15:$G$50)>0,SUMIF($K$15:$K$50,Récapitulatif!$B$2,$F$15:$F$50)/SUMIF($K$15:$K$50,Récapitulatif!$B$2,$G$15:$G$50),\"\")","v":0.85272988505747127},{"$f":"SUM(R3:R4)","v":16},{"$f":"IF(SUMIF($K$15:$K$50,Récapitulatif!$B$3,$G$15:$G$50)>0,SUMIF($K$15:$K$50,Récapitulatif!$B$3,$F$15:$F$50)/SUMIF($K$15:$K$50,Récapitulatif!$B$3,$G$15:$G$50),\"\")","v":0.78540975840833727},{"$f":"SUM(T3:T4)","v":34},{"$f":"IF(SUM($G$15:$G$50)>0,SUM($F$15:$F$50)/SUM($G$15:$G$50),\"\")","v":0.81521739130434778},{"$f":"IF(SUMIF($K$15:$K$50,Récapitulatif!$B$2,$G$15:$G$50)+SUMIF($K$15:$K$50,Récapitulatif!$B$3,$G$15:$G$50)>0,(SUMIF($K$15:$K$50,Récapitulatif!$B$2,$F$15:$F$50)+SUMIF($K$15:$K$50,Récapitulatif!$B$3,$F$15:$F$50))/(SUMIF($K$15:$K$50,Récapitulatif!$B$2,$G$15:$G$50)+SUMIF($K$15:$K$50,Récapitulatif!$B$3,$G$15:$G$50)),\"\")","v":0.81216100485298315}]
[null,null,null,null,null,null,null,null,null,null,null,null,null,"Sets","Gagnés",{"$f":"SUMIF($K$15:$K$50,Récapitulatif!$B$2,$D$15:$D$50)","v":6},{"$f":"IF(P$6+P$7>0,P6/(P$6+P$7),\"\")","v":0.27272727272727271},{"$f":"SUMIF($K$15:$K$50,Récapitulatif!$B$3,$D$15:$D$50)","v":11},{"$f":"IF(R$6+R$7>0,R6/(R$6+R$7),\"\")","v":0.29729729729729731},{"$f":"SUM($D$15:$D$50)","v":19},{"$f":"IF(T$6+T$7>0,T6/(T$6+T$7),\"\")","v":0.2878787878787879}]
[null,null,null,null,null,null,null,null,null,null,null,null,null,null,"Perdus",{"$f":"SUMIF($K$15:$K$50,Récapitulatif!$B$2,$E$15:$E$50)","v":16},{"$f":"IF(P$6+P$7>0,P7/(P$6+P$7),\"\")","v":0.72727272727272729},{"$f":"SUMIF($K$15:$K$50,Récapitulatif!$B$3,$E$15:$E$50)","v":26},{"$f":"IF(R$6+R$7>0,R7/(R$6+R$7),\"\")","v":0.70270270270270274},{"$f":"SUM($E$15:$E$50)","v":47},{"$f":"IF(T$6+T$7>0,T7/(T$6+T$7),\"\")","v":0.71212121212121215}]
["Récapitulatif joueurs",null,null,null,null,null,null,null,null,null,null,null,null,null,"Total",{"$f":"SUM(P6:P7)","v":22},null,{"$f":"SUM(R6:R7)","v":37},null,{"$f":"SUM(T6:T7)","v":66}]
[]
[]
[]
[]
[]
[]
["Joueur","Adversaire","G/P","Sets gagnés","Sets perdus","pts marqués","pts subis","Date","Compétition","Phase","Saison"]
["ALDEGUER Lionel","DEVOS Jackie","P",0,2,70,120,"2014-04-05","N1 Ligue T3 GRAVELINES","Poules",{"$f":"IF(H16<>\"\",IF(MONTH(H16)>MoisRef,YEAR(H16)&\"-\"&YEAR(H16)+1,YEAR(H16)-1&\"-\"&YEAR(H16)),\"\")","v":"2013-2014"},null,null,null,null,{"$f":"IF($K16=P$1,COUNTIF($C16,\"G\"),0)","v":0},null,{"$f":"IF($K16=R$1,COUNTIF($C16,\"G\"),0)","v":0}]
["ALDEGUER Lionel","SAINT-GEORGES Claude","P",0,2,61,120,"2014-04-05","N1 Ligue T3 GRAVELINES","Poules","2013-2014",null,null,null,null,0,null,0]
["ALDEGUER Lionel","PARISIS Francis","G",1,0,100,48,"2014-04-05","N1 Ligue T3 GRAVELINES","Poules Consolante","2013-2014",null,null,null,null,0,null,0]
["ALDEGUER Lionel","VEREECQUE Bernard","G",1,0,100,65,"2014-04-05","N1 Ligue T3 GRAVELINES","Poules Consolante","2013-2014",null,null,null,null,0,null,0]
["ALDEGUER Lionel","DEROLEZ Jean-Pierre","P",0,1,49,100,"2014-04-05","N1 Ligue T3 GRAVELINES","1/2 Finale Consolante","2013-2014",null,null,null,null,0,null,0]
["ALDEGUER Lionel","POULEYN andré","P",0,1,96,100,"2015-01-17","N1 Ligue T1 DUNKERQUE","Poules Consolante","2014-2015",null,null,null,null,0,null,0]
["ALDEGUER Lionel","WALLART Jean-charles","P",0,1,59,100,"2015-01-17","N1 Ligue T1 DUNKERQUE","Poules Consolante","2014-2015",null,null,null,null,0,null,0]
["ALDEGUER Lionel","DEVOS Jackie","P",0,2,81,120,"2015-01-17","N1 Ligue T1 DUNKERQUE","Poules","2014-2015",null,null,null,null,0,null,0]
["ALDEGUER Lionel","SEINGIER Jean-Claude","P",0,2,88,120,"2015-01-17","N1 Ligue T1 DUNKERQUE","Poules","2014-2015",null,null,null,null,0,null,0]
["ALDEGUER Lionel","POULEYN andré","G",1,0,100,33,"2015-02-07","N1 Ligue T2 CALAIS","Poules Consolante","2014-2015",null,null,null,null,1,null,0]
["ALDEGUER Lionel","LUBREZ Pierre","G",1,0,100,91,"2015-02-07","N1 Ligue T2 CALAIS","Poules Consolante","2014-2015",null,null,null,null,1,null,0]
["ALDEGUER Lionel","POULEYN andré","P",0,1,85,100,"2015-02-07","N1 Ligue T2 CALAIS","1/2 finale Consolante","2014-2015",null,null,null,null,0,null,0]
["ALDEGUER Lionel","DEROLEZ Jean-pierre","P",0,2,80,120,"2015-02-07","N1 Ligue T2 CALAIS","Poules","2014-2015",null,null,null,null,0,null,0]
["ALDEGUER Lionel","CLYNCKE Jean-Jacques","G",2,1,147,158,"2015-02-07","N1 Ligue T2 CALAIS","Poules","2014-2015",null,null,null,null,1,null,0]
["ALDEGUER Lionel","LEMÂTRE Alexis","P",0,2,65,120,"2015-02-07","N1 Ligue T2 CALAIS","1/8 Finale","2014-2015",null,null,null,null,0,null,0]
["ALDEGUER Lionel","TRIPLET Gilbert","G",2,0,120,90,"2015-03-14","N1 Ligue T3 ANNOEULLIN","Poules","2014-2015",null,null,null,null,1,null,0]
["ALDEGUER Lionel","LEMÂTRE Jérémy","P",0,2,102,120,"2015-03-14","N1 Ligue T3 ANNOEULLIN","Poules","2014-2015",null,null,null,null,0,null,0]
["ALDEGUER Lionel","LEMÂTRE Alexis","P",0,2,64,120,"2015-03-14","N1 Ligue T3 ANNOEULLIN","1/4 Finale","2014-2015",null,null,null,null,0,null,0]
["ALDEGUER Lionel","RACARY Thibault","P",0,2,52,120,"2016-03-04","National T5 GRAVELINES","Préqualifs","2015-2016",null,null,null,null,0,null,0]
["ALDEGUER Lionel","BILLIARD Alain","G",2,1,135,153,"2016-03-04","National T5 GRAVELINES","Préqualifs","2015-2016",null,null,null,null,0,null,1]
["ALDEGUER Lionel","LHERMITTE Sylvain","P",0,2,78,120,"2016-03-04","National T5 GRAVELINES","Préqualifs","2015-2016",null,null,null,null,0,null,0]
["ALDEGUER Lionel","ZACCAGNINI Antoine","P",0,3,93,180,"2016-03-05","National T5 GRAVELINES","Qualifs promotion","2015-2016",null,null,null,null,0,null,0]
["ALDEGUER Lionel","WEBER Thierry","P",1,3,178,205,"2016-03-05","National T5 GRAVELINES","Qualifs promotion","2015-2016",null,null,null,null,0,null,0]
["ALDEGUER Lionel","LORTHIOIR Jean-Luc","G",1,0,100,64,"2015-12-05","CONSOLANTE T1 LIGUE 5 QUILLES N1 - FACHES-THUMESNIL","Poules","2015-2016",null,null,null,null,0,null,1]
["ALDEGUER Lionel","CLYNCKE Jean-Jacques","P",0,1,29,100,"2015-12-05","CONSOLANTE T1 LIGUE 5 QUILLES N1 - FACHES-THUMESNIL","Poules","2015-2016",null,null,null,null,0,null,0]
["ALDEGUER Lionel","LECROART Serge","G",2,1,176,139,"2015-12-04","T1 LIGUE 5 QUILLES N1 - FACHES-THUMESNIL","Poules","2015-2016",null,null,null,null,0,null,1]
["ALDEGUER Lionel","MAILLE Bernard","P",0,2,83,120,"2015-12-04","T1 LIGUE 5 QUILLES N1 - FACHES-THUMESNIL","Poules","2015-2016",null,null,null,null,0,null,0]
["ALDEGUER Lionel","LEMÂTRE Alexis","P",0,1,57,100,"2016-01-09","CONSOLANTE  T2 LIGUE 5 QUILLES N1 - GRAVELINES","Qualifications","2015-2016",null,null,null,null,0,null,0]
["ALDEGUER Lionel","GHEVART Jean","P",0,1,98,100,"2016-01-09","CONSOLANTE  T2 LIGUE 5 QUILLES N1 - GRAVELINES","Qualifications","2015-2016",null,null,null,null,0,null,0]
["ALDEGUER Lionel","TRIPLET Gilbert","P",1,2,140,138,"2016-01-09","T2  LIGUE 5 QUILLES N1 - GRAVELINES","Qualifications","2015-2016",null,null,null,null,0,null,0]
["ALDEGUER Lionel","SAINT-GEORGES Claude","P",1,2,117,156,"2016-01-09","T2  LIGUE 5 QUILLES N1 - GRAVELINES","Qualifications","2015-2016",null,null,null,null,0,null,0]
["ALDEGUER Lionel","GHEVART Jean","G",2,1,144,134,"2016-01-23","T3 Ligue 5 Quilles N1 - ANNOEULLIN","Qualifications","2015-2016",null,null,null,null,0,null,1]
["ALDEGUER Lionel","MAILLE Bernard","P",1,2,122,162,"2016-01-23","T3 Ligue 5 Quilles N1 - ANNOEULLIN","Qualifications","2015-2016",null,null,null,null,0,null,0]
["ALDEGUER Lionel","WALLART Jean-Charles","P",0,2,56,120,"2016-01-23","T3 Ligue 5 Quilles N1 - ANNOEULLIN","1/4 Finale","2015-2016",null,null,null,null,0,null,0]
["Fin des données",null,null,null,null,null,null,null,null,null,"",null,null,null,null,0,null,0]

{"sheet":"BASTENIER Jean","index":2,"n_rows":123,"n_cols":22,"rows_kept":123,"cut":false,"hidden":false,"merged":[]}
["BASTENIER Jean",null,null,null,null,null,null,null,null,null,null,null,null,null,null,{"$f":"Récapitulatif!$B$2","v":"2014-2015"},null,{"$f":"Récapitulatif!$B$3","v":"2015-2016"},null,"Toutes saisons"]
["FACHES-THUMESNIL",null,null,null,null,null,null,null,null,null,null,null,null,null,null,"Nombre","%age","Nombre","%age","Nombre","%age"]
["017360-S",null,null,null,null,null,null,null,null,null,null,null,null,"Matchs","Gagnés",{"$f":"SUM(P$15:P$123)","v":0},{"$f":"IF(P$3+P$4>0,P3/(P$3+P$4),\"\")","v":""},{"$f":"SUM(R$15:R$123)","v":0},{"$f":"IF(R$3+R$4>0,R3/(R$3+R$4),\"\")","v":""},{"$f":"COUNTIF($C$15:$C$123,\"G\")","v":57},{"$f":"IF(T$3+T$4>0,T3/(T$3+T$4),\"\")","v":0.53271028037383172}]
[null,null,null,null,null,null,null,null,null,null,null,null,null,null,"Perdus",{"$f":"COUNTIF($K$15:$K$123,Récapitulatif!$B$2)-P3","v":0},{"$f":"IF(P$3+P$4>0,P4/(P$3+P$4),\"\")","v":""},{"$f":"COUNTIF($K$15:$K$123,Récapitulatif!$B$3)-R3","v":0},{"$f":"IF(R$3+R$4>0,R4/(R$3+R$4),\"\")","v":""},{"$f":"COUNTIF($C$15:$C$123,\"P\")","v":50},{"$f":"IF(T$3+T$4>0,T4/(T$3+T$4),\"\")","v":0.46728971962616822}]
["jeanbastenier@hotmail.fr",null,null,null,null,null,null,null,null,null,null,null,null,null,"Total / Moy.",{"$f":"SUM(P3:P4)","v":0},{"$f":"IF(SUMIF($K$15:$K$123,Récapitulatif!$B$2,$G$15:$G$123)>0,SUMIF($K$15:$K$123,Récapitulatif!$B$2,$F$15:$F$123)/SUMIF($K$15:$K$123,Récapitulatif!$B$2,$G$15:$G$123),\"\")","v":""},{"$f":"SUM(R3:R4)","v":0},{"$f":"IF(SUMIF($K$15:$K$123,Récapitulatif!$B$3,$G$15:$G$123)>0,SUMIF($K$15:$K$123,Récapitulatif!$B$3,$F$15:$F$123)/SUMIF($K$15:$K$123,Récapitulatif!$B$3,$G$15:$G$123),\"\")","v":""},{"$f":"SUM(T3:T4)","v":107},{"$f":"IF(SUM($G$15:$G$123)>0,SUM($F$15:$F$123)/SUM($G$15:$G$123),\"\")","v":0.99440381558028612},{"$f":"IF(SUMIF($K$15:$K$123,Récapitulatif!$B$2,$G$15:$G$123)+SUMIF($K$15:$K$123,Récapitulatif!$B$3,$G$15:$G$123)>0,(SUMIF($K$15:$K$123,Récapitulatif!$B$2,$F$15:$F$123)+SUMIF($K$15:$K$123,Récapitulatif!$B$3,$F$15:$F$123))/(SUMIF($K$15:$K$123,Récapitulatif!$B$2,$G$15:$G$123)+SUMIF($K$15:$K$123,Récapitulatif!$B$3,$G$15:$G$123)),\"\")","v":""}]
[null,null,null,null,null,null,null,null,null,null,null,null,null,"Sets","Gagnés",{"$f":"SUMIF($K$15:$K$123,Récapitulatif!$B$2,$D$15:$D$123)","v":0},{"$f":"IF(P$6+P$7>0,P6/(P$6+P$7),\"\")","v":""},{"$f":"SUMIF($K$15:$K$123,Récapitulatif!$B$3,$D$15:$D$123)","v":0},{"$f":"IF(R$6+R$7>0,R6/(R$6+R$7),\"\")","v":""},{"$f":"SUM($D$15:$D$123)","v":162},{"$f":"IF(T$6+T$7>0,T6/(T$6+T$7),\"\")","v":0.50154798761609909}]
[null,null,null,null,null,null,null,null,null,null,null,null,null,null,"Perdus",{"$f":"SUMIF($K$15:$K$123,Récapitulatif!$B$2,$E$15:$E$123)","v":0},{"$f":"IF(P$6+P$7>0,P7/(P$6+P$7),\"\")","v":""},{"$f":"SUMIF($K$15:$K$123,Récapitulatif!$B$3,$E$15:$E$123)","v":0},{"$f":"IF(R$6+R$7>0,R7/(R$6+R$7),\"\")","v":""},{"$f":"SUM($E$15:$E$123)","v":161},{"$f":"IF(T$6+T$7>0,T7/(T$6+T$7),\"\")","v":0.49845201238390091}]
["Récapitulatif joueurs",null,null,null,null,null,null,null,null,null,null,null,null,null,"Total",{"$f":"SUM(P6:P7)","v":0},null,{"$f":"SUM(R6:R7)","v":0},null,{"$f":"SUM(T6:T7)","v":323}]
[]
[]
[]
[]
[]
[]
["Joueur","Adversaire","G/P","Sets gagnés","Sets perdus","pts marqués","pts subis","Date","Compétition","Phase","Saison"]
["BASTENIER Jean","BOUVIER Philippe","G",2,0,120,69,"2008-12-12","National T3 ANNOEULLIN","Préqualifs",{"$f":"IF(H16<>\"\",IF(MONTH(H16)>MoisRef,YEAR(H16)&\"-\"&YEAR(H16)+1,YEAR(H16)-1&\"-\"&YEAR(H16)),\"\")","v":"2008-2009"},null,null,null,null,{"$f":"IF($K16=P$1,COUNTIF($C16,\"G\"),0)","v":0},null,{"$f":"IF($K16=R$1,COUNTIF($C16,\"G\"),0)","v":0}]
["BASTENIER Jean","KERCRET Geneviève","G",2,0,120,47,"2008-12-12","National T3 ANNOEULLIN","Préqualifs","2008-2009",null,null,null,null,0,null,0]
["BASTENIER Jean","GONTHIER Arnaud","G",2,1,163,131,"2008-12-12","National T3 ANNOEULLIN","Préqualifs","2008-2009",null,null,null,null,0,null,0]
["BASTENIER Jean","HINGANT Matthieu","P",1,3,152,236,"2008-12-13","National T3 ANNOEULLIN","Qualifs Masters","2008-2009",null,null,null,null,0,null,0]
["BASTENIER Jean","TRIFAULT Amand","P",0,3,159,180,"2008-12-13","National T3 ANNOEULLIN","Qualifs Masters","2008-2009",null,null,null,null,0,null,0]
["BASTENIER Jean","PERRIN Thierry","G",2,0,120,58,"2009-02-06","National T4 LAXOU","Préqualifs","2008-2009",null,null,null,null,0,null,0]
["BASTENIER Jean","MORALES Luis","P",0,2,69,120,"2009-02-06","National T4 LAXOU","Préqualifs","2008-2009",null,null,null,null,0,null,0]
["BASTENIER Jean","J. BLANC","G",2,0,120,86,"2009-02-06","National T4 LAXOU","Préqualifs","2008-2009",null,null,null,null,0,null,0]
["BASTENIER Jean","DENIS Jean","G",3,1,227,204,"2009-02-07","National T4 LAXOU","Qualifs promotion","2008-2009",null,null,null,null,0,null,0]
["BASTENIER Jean","GUIBERT Philippe","P",0,3,120,180,"2009-02-07","National T4 LAXOU","Qualifs promotion","2008-2009",null,null,null,null,0,null,0]
["BASTENIER Jean","DENIS Jean","G",3,1,233,173,"2009-02-07","National T4 LAXOU","Qualifs promotion","2008-2009",null,null,null,null,0,null,0]
["BASTENIER Jean","GUILLEMANT Jean-Marc","G",3,1,235,195,"2009-02-08","National T4 LAXOU","1/8 finale promotion","2008-2009",null,null,null,null,0,null,0]
["BASTENIER Jean","QUENEY Damien","P",2,3,226,267,"2009-02-08","National T4 LAXOU"," 1/4 finale promotion","2008-2009",null,null,null,null,0,null,0]
["BASTENIER Jean","GEETS Patrice","G",2,0,120,112,"2009-03-07","N1 Ligue T2 ANNOEULLIN","Poules","2008-2009",null,null,null,null,0,null,0]
["BASTENIER Jean","VANNUCCI Emilio","G",2,0,120,70,"2009-03-07","N1 Ligue T2 ANNOEULLIN","Poules","2008-2009",null,null,null,null,0,null,0]
["BASTENIER Jean","GREMAIN Gino","P",1,2,127,169,"2009-03-07","N1 Ligue T2 ANNOEULLIN","1/4 Finale","2008-2009",null,null,null,null,0,null,0]
["BASTENIER Jean","WALLART Jean-Charles","P",1,2,163,178,"2009-03-20","National T5 ANDERNOS","Préqualifs","2008-2009",null,null,null,null,0,null,0]
["BASTENIER Jean","GREMAIN Gino","P",1,2,104,155,"2009-03-20","National T5 ANDERNOS","Préqualifs","2008-2009",null,null,null,null,0,null,0]
["BASTENIER Jean","PALOMBA Sergio","G",2,1,172,129,"2009-03-20","National T5 ANDERNOS","Préqualifs","2008-2009",null,null,null,null,0,null,0]
["BASTENIER Jean","WALLART Jean-Charles","G",3,2,237,224,"2009-03-21","National T5 ANDERNOS","Qualifs promotion","2008-2009",null,null,null,null,0,null,0]
["BASTENIER Jean","CLYNCKE Jean-Jacques","G",3,2,279,235,"2009-03-21","National T5 ANDERNOS","Qualifs promotion","2008-2009",null,null,null,null,0,null,0]
["BASTENIER Jean","BOUTET Laurent","P",1,3,178,215,"2009-03-22","National T5 ANDERNOS","1/8 finale promotion","2008-2009",null,null,null,null,0,null,0]
["BASTENIER Jean","CAUX Frédéric","G",2,1,143,144,"2009-04-11","N1 Ligue T3 DUNKERQUE","Poules","2008-2009",null,null,null,null,0,null,0]
["BASTENIER Jean","WALLART Jean-Charles","P",0,2,63,120,"2009-04-11","N1 Ligue T3 DUNKERQUE","Poules","2008-2009",null,null,null,null,0,null,0]
["BASTENIER Jean","LORTHIOIR Jean-Luc","G",2,0,120,70,"2009-04-11","N1 Ligue T3 DUNKERQUE","Poules Consolante","2008-2009",null,null,null,null,0,null,0]
["BASTENIER Jean","CARPENTIER Yohanne","G",2,1,135,119,"2009-04-11","N1 Ligue T3 DUNKERQUE","Poules Consolante","2008-2009",null,null,null,null,0,null,0]
["BASTENIER Jean","LECROART Serge","G",2,1,165,104,"2009-04-11","N1 Ligue T3 DUNKERQUE","Finale Consolante","2008-2009",null,null,null,null,0,null,0]
["BASTENIER Jean","SCHUB Philippe","G",2,0,120,55,"2009-04-17","National T6 CAUDAN","Préqualifs","2008-2009",null,null,null,null,0,null,0]
["BASTENIER Jean","TRIFAULT Amand","P",0,2,45,120,"2009-04-17","National T6 CAUDAN","Préqualifs","2008-2009",null,null,null,null,0,null,0]
["BASTENIER Jean","RETIF Jérôme","G",2,0,120,68,"2009-04-17","National T6 CAUDAN","Préqualifs","2008-2009",null,null,null,null,0,null,0]
["BASTENIER Jean","ROBIC Daniel","P",0,3,145,180,"2009-04-18","National T6 CAUDAN","Qualifs promotion","2008-2009",null,null,null,null,0,null,0]
["BASTENIER Jean","EVENOU Marie-Antoinette","G",3,0,180,78,"2009-04-18","National T6 CAUDAN","Qualifs promotion","2008-2009",null,null,null,null,0,null,0]
["BASTENIER Jean","MAILLE Bernard","G",3,2,246,246,"2009-04-18","National T6 CAUDAN","Qualifs promotion",{"$f":"IF(H48<>\"\",IF(MONTH(H48)>MoisRef,YEAR(H48)&\"-\"&YEAR(H48)+1,YEAR(H48)-1&\"-\"&YEAR(H48)),\"\")","v":"2008-2009"},null,null,null,null,0,null,0]
["BASTENIER Jean","ZACCAGNINI Antoine","P",1,3,197,232,"2009-04-19","National T6 CAUDAN","1/8 finale promotion","2008-2009",null,null,null,null,0,null,0]
["BASTENIER Jean","HULOT Sophie","G",2,0,120,83,"2009-11-06","National T1 SCHILTIGHEIM","Préqualifs","2009-2010",null,null,null,null,0,null,0]
["BASTENIER Jean","SORTAIS Claude","P",0,2,63,120,"2009-11-06","National T1 SCHILTIGHEIM","Préqualifs","2009-2010",null,null,null,null,0,null,0]
["BASTENIER Jean","MATHIS Jean","P",0,2,82,120,"2009-11-06","National T1 SCHILTIGHEIM","Préqualifs","2009-2010",null,null,null,null,0,null,0]
["BASTENIER Jean","COTTEN Jean-Pierre","P",0,3,118,180,"2009-11-07","National T1 SCHILTIGHEIM","Qualifs promotion","2009-2010",null,null,null,null,0,null,0]
["BASTENIER Jean","GANGLOFF Jean-Luc","G",3,2,257,209,"2009-11-07","National T1 SCHILTIGHEIM","Qualifs promotion","2009-2010",null,null,null,null,0,null,0]
["BASTENIER Jean","COTTEN Jean-Pierre","P",1,3,168,218,"2009-11-07","National T1 SCHILTIGHEIM","Qualifs promotion","2009-2010",null,null,null,null,0,null,0]
["BASTENIER Jean","REBELO Joaquim","P",0,2,106,120,"2009-12-04","National T2 ANNOEULLIN","Préqualifs","2009-2010",null,null,null,null,0,null,0]
["BASTENIER Jean","SORTAIS Claude","P",0,2,75,120,"2009-12-04","National T2 ANNOEULLIN","Préqualifs","2009-2010",null,null,null,null,0,null,0]
["BASTENIER Jean","DEVOGELAERE Mikael","P",0,2,76,120,"2009-12-04","National T2 ANNOEULLIN","Préqualifs","2009-2010",null,null,null,null,0,null,0]
["BASTENIER Jean","DEROLEZ Jean-Pierre","G",2,1,179,130,"2009-12-19","N1 Ligue T2 ANNOEULLIN","Poules","2009-2010",null,null,null,null,0,null,0]
["BASTENIER Jean","GREMAIN Gino","P",0,2,84,120,"2009-12-19","N1 Ligue T2 ANNOEULLIN","Poules","2009-2010",null,null,null,null,0,null,0]
["BASTENIER Jean","RACARY Thibault","G",2,1,178,140,"2009-12-19","N1 Ligue T2 ANNOEULLIN","Poules Consolante","2009-2010",null,null,null,null,0,null,0]
["BASTENIER Jean","HORNAIN Denis","G",2,1,148,129,"2009-12-19","N1 Ligue T2 ANNOEULLIN","Poules Consolante","2009-2010",null,null,null,null,0,null,0]
["BASTENIER Jean","MARTEL Jean-Pierre","P",0,2,102,120,"2010-01-16","N1 Ligue T3 ANNOEULLIN","Poules Consolante","2009-2010",null,null,null,null,0,null,0]
["BASTENIER Jean","HENNEUSE Patrick","G",2,1,165,163,"2010-01-16","N1 Ligue T3 ANNOEULLIN","Poules Consolante","2009-2010",null,null,null,null,0,null,0]
["BASTENIER Jean","HORNAIN Denis","G",2,0,120,47,"2010-01-16","N1 Ligue T3 ANNOEULLIN","Poules","2009-2010",null,null,null,null,0,null,0]
["BASTENIER Jean","LAMBIASE Guiseppe","P",0,2,60,120,"2010-01-16","N1 Ligue T3 ANNOEULLIN","Poules","2009-2010",null,null,null,null,0,null,0]
["BASTENIER Jean","WALLART Jean-Charles","G",2,1,156,129,"2010-01-29","National T3 ORLEANS","Préqualifs","2009-2010",null,null,null,null,0,null,0]
["BASTENIER Jean","BALLON Xavier","P",1,2,149,155,"2010-01-29","National T3 ORLEANS","Préqualifs","2009-2010",null,null,null,null,0,null,0]
["BASTENIER Jean","DUVERNOY Christophe","P",0,2,49,120,"2010-01-29","National T3 ORLEANS","Préqualifs","2009-2010",null,null,null,null,0,null,0]
["BASTENIER Jean","DEBRAY Alain","G",3,0,180,102,"2010-01-30","National T3 ORLEANS","Qualifs promotion","2009-2010",null,null,null,null,0,null,0]
["BASTENIER Jean","TRIFAULT Amand","P",1,3,120,235,"2010-01-30","National T3 ORLEANS","Qualifs promotion","2009-2010",null,null,null,null,0,null,0]
["BASTENIER Jean","BALLON Xavier","G",3,1,214,140,"2010-01-30","National T3 ORLEANS","Qualifs promotion","2009-2010",null,null,null,null,0,null,0]
["BASTENIER Jean","BOUVIER Philippe","P",1,3,209,231,"2010-01-31","National T3 ORLEANS","1/8 finale promotion","2009-2010",null,null,null,null,0,null,0]
["BASTENIER Jean","HENNEUSE Patrick","G",2,0,120,93,"2010-02-20","N1 Ligue T4 DOUAI","Poules","2009-2010",null,null,null,null,0,null,0]
["BASTENIER Jean","HENNEUSE Patrick","P",1,2,131,167,"2010-02-20","N1 Ligue T4 DOUAI","Poules","2009-2010",null,null,null,null,0,null,0]
["BASTENIER Jean","TURPIN Laurent","G",2,0,120,101,"2010-02-20","N1 Ligue T4 DOUAI","1/8 Finale","2009-2010",null,null,null,null,0,null,0]
["BASTENIER Jean","LHERMITTE Cédric","P",0,2,0,120,"2010-02-20","N1 Ligue T4 DOUAI","1/4 Finale","2009-2010",null,null,null,null,0,null,0]
["BASTENIER Jean","WALLART Jean-Charles","G",2,1,156,129,"2010-01-29","National T3 ORLEANS","Préqualifs","2009-2010",null,null,null,null,0,null,0]
["BASTENIER Jean","BALLON Xavier","P",1,2,149,155,"2010-01-29","National T3 ORLEANS","Préqualifs","2009-2010",null,null,null,null,0,null,0]
["BASTENIER Jean","DUVERNOY Christophe","P",0,2,49,120,"2010-01-29","National T3 ORLEANS","Préqualifs","2009-2010",null,null,null,null,{"$f":"IF($K80=P$1,COUNTIF($C80,\"G\"),0)","v":0},null,{"$f":"IF($K80=R$1,COUNTIF($C80,\"G\"),0)","v":0}]
["BASTENIER Jean","DEBRAY Alain","G",3,0,180,102,"2010-01-30","National T3 ORLEANS","Qualifs promotion","2009-2010",null,null,null,null,0,null,0]
["BASTENIER Jean","TRIFAULT Amand","P",1,3,120,235,"2010-01-30","National T3 ORLEANS","Qualifs promotion","2009-2010",null,null,null,null,0,null,0]
["BASTENIER Jean","BALLON Xavier","G",3,1,214,140,"2010-01-30","National T3 ORLEANS","Qualifs promotion","2009-2010",null,null,null,null,0,null,0]
["BASTENIER Jean","BOUVIER Philippe","P",1,3,209,231,"2010-01-31","National T3 ORLEANS","1/8 finale promotion","2009-2010",null,null,null,null,0,null,0]
["BASTENIER Jean","COTTEN Jean-Pierre","G",2,1,128,163,"2010-10-07","National T1 CESTAS","Préqualifs","2010-2011",null,null,null,null,0,null,0]
["BASTENIER Jean","DAMONNEVILLE Blandine","G",2,0,120,57,"2010-10-07","National T1 CESTAS","Préqualifs","2010-2011",null,null,null,null,0,null,0]
["BASTENIER Jean","FOURRE Cédric","P",1,2,103,164,"2010-10-07","National T1 CESTAS","Préqualifs","2010-2011",null,null,null,null,0,null,0]
["BASTENIER Jean","GUILLEMANT Jean-Marc","G",3,1,231,163,"2010-10-08","National T1 CESTAS","Qualifs promotion","2010-2011",null,null,null,null,0,null,0]
["BASTENIER Jean","DELATTRE Hervé","G",3,1,219,158,"2010-10-08","National T1 CESTAS","Qualifs promotion","2010-2011",null,null,null,null,0,null,0]
["BASTENIER Jean","ZILLIG Pierre","G",3,2,287,259,"2010-10-09","National T1 CESTAS","1/8 finale promotion","2010-2011",null,null,null,null,0,null,0]
["BASTENIER Jean","GUIBERT Philippe","P",1,3,121,233,"2010-10-09","National T1 CESTAS","1/4 finale promotion","2010-2011",null,null,null,null,0,null,0]
["BASTENIER Jean","LECROART Serge","G",2,0,120,49,"2010-11-13","N1 Ligue T2 FACHES THUMESNIL","Poules","2010-2011",null,null,null,null,0,null,0]
["BASTENIER Jean","GEETS Patrice","P",1,2,91,150,"2010-11-13","N1 Ligue T2 FACHES THUMESNIL","Poules","2010-2011",null,null,null,null,0,null,0]
["BASTENIER Jean","DELRUE André","G",2,1,152,119,"2010-11-13","N1 Ligue T2 FACHES THUMESNIL","Poules Consolante","2010-2011",null,null,null,null,0,null,0]
["BASTENIER Jean","FAUCOMPREZ Didier","G",2,1,176,145,"2010-11-13","N1 Ligue T2 FACHES THUMESNIL","Poules Consolante","2010-2011",null,null,null,null,0,null,0]
["BASTENIER Jean","FAUCOMPREZ Didier","P",0,2,102,120,"2010-11-05","National T2 LAXOU","Préqualifs","2010-2011",null,null,null,null,0,null,0]
["BASTENIER Jean","DUROYON Didier","P",0,2,87,120,"2010-11-05","National T2 LAXOU","Préqualifs","2010-2011",null,null,null,null,0,null,0]
["BASTENIER Jean","MORMICHE Michel","P",0,2,79,120,"2010-11-05","National T2 LAXOU","Préqualifs","2010-2011",null,null,null,null,0,null,0]
["BASTENIER Jean","EVENOU Marie-Antoinette","G",2,0,120,28,"2010-12-03","National T3 FACHES THUMESNIL - RONCHIN","Préqualifs","2010-2011",null,null,null,null,0,null,0]
["BASTENIER Jean","SORTAIS Claude","G",2,0,120,85,"2010-12-03","National T3 FACHES THUMESNIL - RONCHIN","Préqualifs","2010-2011",null,null,null,null,0,null,0]
["BASTENIER Jean","DEROLEZ Jean-Pierre","G",2,0,120,72,"2010-12-03","National T3 FACHES THUMESNIL - RONCHIN","Préqualifs","2010-2011",null,null,null,null,0,null,0]
["BASTENIER Jean","DAVOINE Bruno","P",1,3,137,230,"2010-12-04","National T3 FACHES THUMESNIL - RONCHIN","Qualifs Masters","2010-2011",null,null,null,null,0,null,0]
["BASTENIER Jean","PERRIN Eric","P",1,3,181,216,"2010-12-04","National T3 FACHES THUMESNIL - RONCHIN","Qualifs Masters","2010-2011",null,null,null,null,0,null,0]
["BASTENIER Jean","SEINGIER Jean-Claude","G",3,0,180,132,"2011-02-12","National T4 ROUEN","Qualifs promotion","2010-2011",null,null,null,null,0,null,0]
["BASTENIER Jean","DI PALMA Angelo","P",1,3,138,230,"2011-02-12","National T4 ROUEN","Qualifs promotion","2010-2011",null,null,null,null,0,null,0]
["BASTENIER Jean","ROBERGE Bruno","P",1,3,223,215,"2011-02-12","National T4 ROUEN","Qualifs promotion","2010-2011",null,null,null,null,0,null,0]
["BASTENIER Jean","ROBIC Daniel","P",0,2,67,120,"2011-03-25","National T5 BLOIS","Préqualifs","2010-2011",null,null,null,null,0,null,0]
["BASTENIER Jean","MAILLE Bernard","P",0,2,69,120,"2011-03-25","National T5 BLOIS","Préqualifs","2010-2011",null,null,null,null,0,null,0]
["BASTENIER Jean","LECLAIRE Michel","G",2,0,120,76,"2011-03-25","National T5 BLOIS","Préqualifs","2010-2011",null,null,null,null,0,null,0]
["BASTENIER Jean","COTTEN Jean-Pierre","G",3,0,180,118,"2011-03-26","National T5 BLOIS","Qualifs promotion","2010-2011",null,null,null,null,0,null,0]
["BASTENIER Jean","MORMICHE Michel","G",3,2,215,217,"2011-03-26","National T5 BLOIS","Qualifs promotion","2010-2011",null,null,null,null,0,null,0]
["BASTENIER Jean","FOURRE Cédric","P",1,3,149,231,"2011-03-27","National T5 BLOIS","1/8 finale promotion","2010-2011",null,null,null,null,0,null,0]
["BASTENIER Jean","EVENOU Marie-Antoinette","G",2,0,120,50,"2011-04-15","National T6 CHAMPAGNE sur SEINE / NANDY","Préqualifs","2010-2011",null,null,null,null,0,null,0]
["BASTENIER Jean","BOUVIER Philippe","G",2,0,120,68,"2011-04-15","National T6 CHAMPAGNE sur SEINE / NANDY","Préqualifs","2010-2011",null,null,null,null,0,null,0]
["BASTENIER Jean","BAYON Pascal","P",0,2,80,120,"2011-04-15","National T6 CHAMPAGNE sur SEINE / NANDY","Préqualifs","2010-2011",null,null,null,null,0,null,0]
["BASTENIER Jean","WEBER Thierry","G",3,1,220,188,"2011-04-16","National T6 CHAMPAGNE sur SEINE / NANDY","Qualifs promotion","2010-2011",null,null,null,null,0,null,0]
["BASTENIER Jean","MORMICHE Michel","G",3,2,257,229,"2011-04-16","National T6 CHAMPAGNE sur SEINE / NANDY","Qualifs promotion","2010-2011",null,null,null,null,0,null,0]
["BASTENIER Jean","ZACCAGNINI Antoine","G",3,1,210,199,"2011-04-17","National T6 CHAMPAGNE sur SEINE / NANDY","1/8 finale promotion","2010-2011",null,null,null,null,0,null,0]
["BASTENIER Jean","RACARY Thibault","P",0,3,97,180,"2011-04-17","National T6 CHAMPAGNE sur SEINE / NANDY","1/4 finale promotion","2010-2011",null,null,null,null,0,null,0]
["BASTENIER Jean","TRAGIN Laurent","P",2,3,246,235,"2011-05-14","National SCHILTIGHEIM","Qualifs","2010-2011",null,null,null,null,0,null,0]
["BASTENIER Jean","SCHUB Philippe","G",3,2,250,233,"2011-05-14","National SCHILTIGHEIM","Qualifs","2010-2011",null,null,null,null,0,null,0]
["BASTENIER Jean","TIRALONGO Sébastien","P",0,3,133,180,"2011-05-14","National SCHILTIGHEIM","Qualifs","2010-2011",null,null,null,null,0,null,0]
["Fin des données",null,null,null,null,null,null,null,null,null,"",null,null,null,null,0,null,0]

{"sheet":"BLONDEEL Firmin","index":3,"n_rows":28,"n_cols":22,"rows_kept":28,"cut":false,"hidden":false,"merged":[]}
["BLONDEEL Firmin",null,null,null,null,null,null,null,null,null,null,null,null,null,null,{"$f":"Récapitulatif!$B$2","v":"2014-2015"},null,{"$f":"Récapitulatif!$B$3","v":"2015-2016"},null,"Toutes saisons"]
["<Club>",null,null,null,null,null,null,null,null,null,null,null,null,null,null,"Nombre","%age","Nombre","%age","Nombre","%age"]
["<Licence>",null,null,null,null,null,null,null,null,null,null,null,null,"Matchs","Gagnés",{"$f":"SUM(P$15:P$28)","v":5},{"$f":"IF(P$3+P$4>0,P3/(P$3+P$4),\"\")","v":0.83333333333333337},{"$f":"SUM(R$15:R$28)","v":0},{"$f":"IF(R$3+R$4>0,R3/(R$3+R$4),\"\")","v":0},{"$f":"COUNTIF($C$15:$C$28,\"G\")","v":5},{"$f":"IF(T$3+T$4>0,T3/(T$3+T$4),\"\")","v":0.41666666666666669}]
["<Tel>",null,null,null,null,null,null,null,null,null,null,null,null,null,"Perdus",{"$f":"COUNTIF($K$15:$K$28,Récapitulatif!$B$2)-P3","v":1},{"$f":"IF(P$3+P$4>0,P4/(P$3+P$4),\"\")","v":0.16666666666666666},{"$f":"COUNTIF($K$15:$K$28,Récapitulatif!$B$3)-R3","v":6},{"$f":"IF(R$3+R$4>0,R4/(R$3+R$4),\"\")","v":1},{"$f":"COUNTIF($C$15:$C$28,\"P\")","v":7},{"$f":"IF(T$3+T$4>0,T4/(T$3+T$4),\"\")","v":0.58333333333333337}]
["<email>",null,null,null,null,null,null,null,null,null,null,null,null,null,"Total / Moy.",{"$f":"SUM(P3:P4)","v":6},{"$f":"IF(SUMIF($K$15:$K$28,Récapitulatif!$B$2,$G$15:$G$28)>0,SUMIF($K$15:$K$28,Récapitulatif!$B$2,$F$15:$F$28)/SUMIF($K$15:$K$28,Récapitulatif!$B$2,$G$15:$G$28),\"\")","v":1.1675231243576567},{"$f":"SUM(R3:R4)","v":6},{"$f":"IF(SUMIF($K$15:$K$28,Récapitulatif!$B$3,$G$15:$G$28)>0,SUMIF($K$15:$K$28,Récapitulatif!$B$3,$F$15:$F$28)/SUMIF($K$15:$K$28,Récapitulatif!$B$3,$G$15:$G$28),\"\")","v":0.75424836601307188},{"$f":"SUM(T3:T4)","v":12},{"$f":"IF(SUM($G$15:$G$28)>0,SUM($F$15:$F$28)/SUM($G$15:$G$28),\"\")","v":0.98561565017261221},{"$f":"IF(SUMIF($K$15:$K$28,Récapitulatif!$B$2,$G$15:$G$28)+SUMIF($K$15:$K$28,Récapitulatif!$B$3,$G$15:$G$28)>0,(SUMIF($K$15:$K$28,Récapitulatif!$B$2,$F$15:$F$28)+SUMIF($K$15:$K$28,Récapitulatif!$B$3,$F$15:$F$28))/(SUMIF($K$15:$K$28,Récapitulatif!$B$2,$G$15:$G$28)+SUMIF($K$15:$K$28,Récapitulatif!$B$3,$G$15:$G$28)),\"\")","v":0.98561565017261221}]
[null,null,null,null,null,null,null,null,null,null,null,null,null,"Sets","Gagnés",{"$f":"SUMIF($K$15:$K$28,Récapitulatif!$B$2,$D$15:$D$28)","v":15},{"$f":"IF(P$6+P$7>0,P6/(P$6+P$7),\"\")","v":0.68181818181818177},{"$f":"SUMIF($K$15:$K$28,Récapitulatif!$B$3,$D$15:$D$28)","v":1},{"$f":"IF(R$6+R$7>0,R6/(R$6+R$7),\"\")","v":7.6923076923076927E-2},{"$f":"SUM($D$15:$D$28)","v":16},{"$f":"IF(T$6+T$7>0,T6/(T$6+T$7),\"\")","v":0.45714285714285713}]
[null,null,null,null,null,null,null,null,null,null,null,null,null,null,"Perdus",{"$f":"SUMIF($K$15:$K$28,Récapitulatif!$B$2,$E$15:$E$28)","v":7},{"$f":"IF(P$6+P$7>0,P7/(P$6+P$7),\"\")","v":0.31818181818181818},{"$f":"SUMIF($K$15:$K$28,Récapitulatif!$B$3,$E$15:$E$28)","v":12},{"$f":"IF(R$6+R$7>0,R7/(R$6+R$7),\"\")","v":0.92307692307692313},{"$f":"SUM($E$15:$E$28)","v":19},{"$f":"IF(T$6+T$7>0,T7/(T$6+T$7),\"\")","v":0.54285714285714282}]
["Récapitulatif joueurs",null,null,null,null,null,null,null,null,null,null,null,null,null,"Total",{"$f":"SUM(P6:P7)","v":22},null,{"$f":"SUM(R6:R7)","v":13},null,{"$f":"SUM(T6:T7)","v":35}]
[]
[]
[]
[]
[]
[]
["Joueur","Adversaire","G/P","Sets gagnés","Sets perdus","pts marqués","pts subis","Date","Compétition","Phase","Saison"]
["BLONDEEL Firmin","LEFEBVRE Julien","G",3,0,180,87,"2014-12-27","CF Juniors","Poules",{"$f":"IF(H16<>\"\",IF(MONTH(H16)>MoisRef,YEAR(H16)&\"-\"&YEAR(H16)+1,YEAR(H16)-1&\"-\"&YEAR(H16)),\"\")","v":"2014-2015"},null,null,null,null,{"$f":"IF($K16=P$1,COUNTIF($C16,\"G\"),0)","v":1},null,{"$f":"IF($K16=R$1,COUNTIF($C16,\"G\"),0)","v":0}]
["BLONDEEL Firmin","TRIVELLIN Stéphane","G",3,1,212,171,"2014-12-27","CF Juniors","Poules","2014-2015",null,null,null,null,1,null,0]
["BLONDEEL Firmin","Joueur Blanc","G",3,0,180,105,"2014-12-27","CF Juniors","Poules","2014-2015",null,null,null,null,1,null,0]
["BLONDEEL Firmin","TRIVELLIN Stéphane","G",3,1,228,190,"2014-12-27","CF Juniors","1/4 finale","2014-2015",null,null,null,null,1,null,0]
["BLONDEEL Firmin","AUBERT Jordan","G",3,2,247,240,"2014-12-27","CF Juniors","1/2 finale","2014-2015",null,null,null,null,1,null,0]
["BLONDEEL Firmin","ROUBY Guillaume","P",0,3,89,180,"2014-12-27","CF Juniors","Finale","2014-2015",null,null,null,null,0,null,0]
["BLONDEEL Firmin","REBELO Joaquim","P",0,2,75,120,"2015-12-11","National T3 FACHES THUMESNIL - RONCHIN","Préqualifs","2015-2016",null,null,null,null,0,null,0]
["BLONDEEL Firmin","GOUTHIER Alain","P",1,2,165,165,"2015-12-11","National T3 FACHES THUMESNIL - RONCHIN","Préqualifs","2015-2016",null,null,null,null,0,null,0]
["BLONDEEL Firmin","LEGRAND Guy","P",0,2,98,120,"2015-12-11","National T3 FACHES THUMESNIL - RONCHIN","Préqualifs","2015-2016",null,null,null,null,0,null,0]
["BLONDEEL Firmin","BOUVIER Philippe","P",0,2,96,120,"2016-03-04","National T5 GRAVELINES","Préqualifs","2015-2016",null,null,null,null,0,null,0]
["BLONDEEL Firmin","BONNEAU Benoît","P",0,2,79,120,"2016-03-04","National T5 GRAVELINES","Préqualifs","2015-2016",null,null,null,null,0,null,0]
["BLONDEEL Firmin","SAINT-GEORGES Claude","P",0,2,64,120,"2016-03-04","National T5 GRAVELINES","Préqualifs","2015-2016",null,null,null,null,0,null,0]
["Fin des données",null,null,null,null,null,null,null,null,null,"",null,null,null,null,{"$f":"IF($K28=P$1,COUNTIF($C28,\"G\"),0)","v":0},null,{"$f":"IF($K28=R$1,COUNTIF($C28,\"G\"),0)","v":0}]

{"sheet":"BURY Alain","index":4,"n_rows":19,"n_cols":22,"rows_kept":19,"cut":false,"hidden":false,"merged":[]}
["BURY Alain",null,null,null,null,null,null,null,null,null,null,null,null,null,null,{"$f":"Récapitulatif!$B$2","v":"2014-2015"},null,{"$f":"Récapitulatif!$B$3","v":"2015-2016"},null,"Toutes saisons"]
[{"$error":"#N/A"},null,null,null,null,null,null,null,null,null,null,null,null,null,null,"Nombre","%age","Nombre","%age","Nombre","%age"]
[{"$error":"#N/A"},null,null,null,null,null,null,null,null,null,null,null,null,"Matchs","Gagnés",{"$f":"SUM(P$15:P$19)","v":0},{"$f":"IF(P$3+P$4>0,P3/(P$3+P$4),\"\")","v":""},{"$f":"SUM(R$15:R$19)","v":0},{"$f":"IF(R$3+R$4>0,R3/(R$3+R$4),\"\")","v":""},{"$f":"COUNTIF($C$15:$C$19,\"G\")","v":0},{"$f":"IF(T$3+T$4>0,T3/(T$3+T$4),\"\")","v":0}]
[{"$error":"#N/A"},null,null,null,null,null,null,null,null,null,null,null,null,null,"Perdus",{"$f":"COUNTIF($K$15:$K$19,Récapitulatif!$B$2)-P3","v":0},{"$f":"IF(P$3+P$4>0,P4/(P$3+P$4),\"\")","v":""},{"$f":"COUNTIF($K$15:$K$19,Récapitulatif!$B$3)-R3","v":0},{"$f":"IF(R$3+R$4>0,R4/(R$3+R$4),\"\")","v":""},{"$f":"COUNTIF($C$15:$C$19,\"P\")","v":3},{"$f":"IF(T$3+T$4>0,T4/(T$3+T$4),\"\")","v":1}]
[{"$error":"#N/A"},null,null,null,null,null,null,null,null,null,null,null,null,null,"Total / Moy.",{"$f":"SUM(P3:P4)","v":0},{"$f":"IF(SUMIF($K$15:$K$19,Récapitulatif!$B$2,$G$15:$G$19)>0,SUMIF($K$15:$K$19,Récapitulatif!$B$2,$F$15:$F$19)/SUMIF($K$15:$K$19,Récapitulatif!$B$2,$G$15:$G$19),\"\")","v":""},{"$f":"SUM(R3:R4)","v":0},{"$f":"IF(SUMIF($K$15:$K$19,Récapitulatif!$B$3,$G$15:$G$19)>0,SUMIF($K$15:$K$19,Récapitulatif!$B$3,$F$15:$F$19)/SUMIF($K$15:$K$19,Récapitulatif!$B$3,$G$15:$G$19),\"\")","v":""},{"$f":"SUM(T3:T4)","v":3},{"$f":"IF(SUM($G$15:$G$19)>0,SUM($F$15:$F$19)/SUM($G$15:$G$19),\"\")","v":0.77372262773722633},{"$f":"IF(SUMIF($K$15:$K$19,Récapitulatif!$B$2,$G$15:$G$19)+SUMIF($K$15:$K$19,Récapitulatif!$B$3,$G$15:$G$19)>0,(SUMIF($K$15:$K$19,Récapitulatif!$B$2,$F$15:$F$19)+SUMIF($K$15:$K$19,Récapitulatif!$B$3,$F$15:$F$19))/(SUMIF($K$15:$K$19,Récapitulatif!$B$2,$G$15:$G$19)+SUMIF($K$15:$K$19,Récapitulatif!$B$3,$G$15:$G$19)),\"\")","v":""}]
[null,null,null,null,null,null,null,null,null,null,null,null,null,"Sets","Gagnés",{"$f":"SUMIF($K$15:$K$19,Récapitulatif!$B$2,$D$15:$D$19)","v":0},{"$f":"IF(P$6+P$7>0,P6/(P$6+P$7),\"\")","v":""},{"$f":"SUMIF($K$15:$K$19,Récapitulatif!$B$3,$D$15:$D$19)","v":0},{"$f":"IF(R$6+R$7>0,R6/(R$6+R$7),\"\")","v":""},{"$f":"SUM($D$15:$D$19)","v":1},{"$f":"IF(T$6+T$7>0,T6/(T$6+T$7),\"\")","v":0.14285714285714285}]
[null,null,null,null,null,null,null,null,null,null,null,null,null,null,"Perdus",{"$f":"SUMIF($K$15:$K$19,Récapitulatif!$B$2,$E$15:$E$19)","v":0},{"$f":"IF(P$6+P$7>0,P7/(P$6+P$7),\"\")","v":""},{"$f":"SUMIF($K$15:$K$19,Récapitulatif!$B$3,$E$15:$E$19)","v":0},{"$f":"IF(R$6+R$7>0,R7/(R$6+R$7),\"\")","v":""},{"$f":"SUM($E$15:$E$19)","v":6},{"$f":"IF(T$6+T$7>0,T7/(T$6+T$7),\"\")","v":0.8571428571428571}]
["Récapitulatif joueurs",null,null,null,null,null,null,null,null,null,null,null,null,null,"Total",{"$f":"SUM(P6:P7)","v":0},null,{"$f":"SUM(R6:R7)","v":0},null,{"$f":"SUM(T6:T7)","v":7}]
[]
[]
[]
[]
[]
[]
["Joueur","Adversaire","G/P","Sets gagnés","Sets perdus","pts marqués","pts subis","Date","Compétition","Phase","Saison"]
["BURY Alain","MORALES Luis","P",0,2,71,120,"2011-12-02","National T3 ANNOEULLIN","Préqualifs",{"$f":"IF(H16<>\"\",IF(MONTH(H16)>MoisRef,YEAR(H16)&\"-\"&YEAR(H16)+1,YEAR(H16)-1&\"-\"&YEAR(H16)),\"\")","v":"2011-2012"},null,null,null,null,{"$f":"IF($K16=P$1,COUNTIF($C16,\"G\"),0)","v":0},null,{"$f":"IF($K16=R$1,COUNTIF($C16,\"G\"),0)","v":0}]
["BURY Alain","SCHUB Philippe","P",0,2,102,120,"2011-12-02","National T3 ANNOEULLIN","Préqualifs",{"$f":"IF(H17<>\"\",IF(MONTH(H17)>MoisRef,YEAR(H17)&\"-\"&YEAR(H17)+1,YEAR(H17)-1&\"-\"&YEAR(H17)),\"\")","v":"2011-2012"},null,null,null,null,{"$f":"IF($K17=P$1,COUNTIF($C17,\"G\"),0)","v":0},null,{"$f":"IF($K17=R$1,COUNTIF($C17,\"G\"),0)","v":0}]
["BURY Alain","CLYNCKE Jean-Jacques","P",1,2,145,171,"2011-12-02","National T3 ANNOEULLIN","Préqualifs",{"$f":"IF(H18<>\"\",IF(MONTH(H18)>MoisRef,YEAR(H18)&\"-\"&YEAR(H18)+1,YEAR(H18)-1&\"-\"&YEAR(H18)),\"\")","v":"2011-2012"},null,null,null,null,{"$f":"IF($K18=P$1,COUNTIF($C18,\"G\"),0)","v":0},null,{"$f":"IF($K18=R$1,COUNTIF($C18,\"G\"),0)","v":0}]
["Fin des données",null,null,null,null,null,null,null,null,null,{"$f":"IF(H19<>\"\",IF(MONTH(H19)>MoisRef,YEAR(H19)&\"-\"&YEAR(H19)+1,YEAR(H19)-1&\"-\"&YEAR(H19)),\"\")","v":""},null,null,null,null,{"$f":"IF($K19=P$1,COUNTIF($C19,\"G\"),0)","v":0},null,{"$f":"IF($K19=R$1,COUNTIF($C19,\"G\"),0)","v":0}]

{"sheet":"CAQUELOT Maurice","index":5,"n_rows":20,"n_cols":22,"rows_kept":20,"cut":false,"hidden":false,"merged":[]}
["CAQUELOT Maurice",null,null,null,null,null,null,null,null,null,null,null,null,null,null,{"$f":"Récapitulatif!$B$2","v":"2014-2015"},null,{"$f":"Récapitulatif!$B$3","v":"2015-2016"},null,"Toutes saisons"]
["CUCQ",null,null,null,null,null,null,null,null,null,null,null,null,null,null,"Nombre","%age","Nombre","%age","Nombre","%age"]
["016886-M",null,null,null,null,null,null,null,null,null,null,null,null,"Matchs","Gagnés",{"$f":"SUM(P$15:P$20)","v":0},{"$f":"IF(P$3+P$4>0,P3/(P$3+P$4),\"\")","v":""},{"$f":"SUM(R$15:R$20)","v":0},{"$f":"IF(R$3+R$4>0,R3/(R$3+R$4),\"\")","v":""},{"$f":"COUNTIF($C$15:$C$20,\"G\")","v":0},{"$f":"IF(T$3+T$4>0,T3/(T$3+T$4),\"\")","v":0}]
[null,null,null,null,null,null,null,null,null,null,null,null,null,null,"Perdus",{"$f":"COUNTIF($K$15:$K$20,Récapitulatif!$B$2)-P3","v":0},{"$f":"IF(P$3+P$4>0,P4/(P$3+P$4),\"\")","v":""},{"$f":"COUNTIF($K$15:$K$20,Récapitulatif!$B$3)-R3","v":0},{"$f":"IF(R$3+R$4>0,R4/(R$3+R$4),\"\")","v":""},{"$f":"COUNTIF($C$15:$C$20,\"P\")","v":4},{"$f":"IF(T$3+T$4>0,T4/(T$3+T$4),\"\")","v":1}]
[null,null,null,null,null,null,null,null,null,null,null,null,null,null,"Total / Moy.",{"$f":"SUM(P3:P4)","v":0},{"$f":"IF(SUMIF($K$15:$K$20,Récapitulatif!$B$2,$G$15:$G$20)>0,SUMIF($K$15:$K$20,Récapitulatif!$B$2,$F$15:$F$20)/SUMIF($K$15:$K$20,Récapitulatif!$B$2,$G$15:$G$20),\"\")","v":""},{"$f":"SUM(R3:R4)","v":0},{"$f":"IF(SUMIF($K$15:$K$20,Récapitulatif!$B$3,$G$15:$G$20)>0,SUMIF($K$15:$K$20,Récapitulatif!$B$3,$F$15:$F$20)/SUMIF($K$15:$K$20,Récapitulatif!$B$3,$G$15:$G$20),\"\")","v":""},{"$f":"SUM(T3:T4)","v":4},{"$f":"IF(SUM($G$15:$G$20)>0,SUM($F$15:$F$20)/SUM($G$15:$G$20),\"\")","v":0.67428571428571427},{"$f":"IF(SUMIF($K$15:$K$20,Récapitulatif!$B$2,$G$15:$G$20)+SUMIF($K$15:$K$20,Récapitulatif!$B$3,$G$15:$G$20)>0,(SUMIF($K$15:$K$20,Récapitulatif!$B$2,$F$15:$F$20)+SUMIF($K$15:$K$20,Récapitulatif!$B$3,$F$15:$F$20))/(SUMIF($K$15:$K$20,Récapitulatif!$B$2,$G$15:$G$20)+SUMIF($K$15:$K$20,Récapitulatif!$B$3,$G$15:$G$20)),\"\")","v":""}]
[null,null,null,null,null,null,null,null,null,null,null,null,null,"Sets","Gagnés",{"$f":"SUMIF($K$15:$K$20,Récapitulatif!$B$2,$D$15:$D$20)","v":0},{"$f":"IF(P$6+P$7>0,P6/(P$6+P$7),\"\")","v":""},{"$f":"SUMIF($K$15:$K$20,Récapitulatif!$B$3,$D$15:$D$20)","v":0},{"$f":"IF(R$6+R$7>0,R6/(R$6+R$7),\"\")","v":""},{"$f":"SUM($D$15:$D$20)","v":1},{"$f":"IF(T$6+T$7>0,T6/(T$6+T$7),\"\")","v":0.1111111111111111}]
[null,null,null,null,null,null,null,null,null,null,null,null,null,null,"Perdus",{"$f":"SUMIF($K$15:$K$20,Récapitulatif!$B$2,$E$15:$E$20)","v":0},{"$f":"IF(P$6+P$7>0,P7/(P$6+P$7),\"\")","v":""},{"$f":"SUMIF($K$15:$K$20,Récapitulatif!$B$3,$E$15:$E$20)","v":0},{"$f":"IF(R$6+R$7>0,R7/(R$6+R$7),\"\")","v":""},{"$f":"SUM($E$15:$E$20)","v":8},{"$f":"IF(T$6+T$7>0,T7/(T$6+T$7),\"\")","v":0.88888888888888884}]
["Récapitulatif joueurs",null,null,null,null,null,null,null,null,null,null,null,null,null,"Total",{"$f":"SUM(P6:P7)","v":0},null,{"$f":"SUM(R6:R7)","v":0},null,{"$f":"SUM(T6:T7)","v":9}]
[]
[]
[]
[]
[]
[]
["Joueur","Adversaire","G/P","Sets gagnés","Sets perdus","pts marqués","pts subis","Date","Compétition","Phase","Saison"]
["CAQUELOT Maurice","LECROART Serge","P",0,2,83,120,"2010-10-16","N1 Ligue T1 DOUAI","Poules",{"$f":"IF(H16<>\"\",IF(MONTH(H16)>MoisRef,YEAR(H16)&\"-\"&YEAR(H16)+1,YEAR(H16)-1&\"-\"&YEAR(H16)),\"\")","v":"2010-2011"},null,null,null,null,{"$f":"IF($K16=P$1,COUNTIF($C16,\"G\"),0)","v":0},null,{"$f":"IF($K16=R$1,COUNTIF($C16,\"G\"),0)","v":0}]
["CAQUELOT Maurice","DELSOL Philippe","P",0,2,52,120,"2010-10-16","N1 Ligue T1 DOUAI","Poules",{"$f":"IF(H17<>\"\",IF(MONTH(H17)>MoisRef,YEAR(H17)&\"-\"&YEAR(H17)+1,YEAR(H17)-1&\"-\"&YEAR(H17)),\"\")","v":"2010-2011"},null,null,null,null,{"$f":"IF($K17=P$1,COUNTIF($C17,\"G\"),0)","v":0},null,{"$f":"IF($K17=R$1,COUNTIF($C17,\"G\"),0)","v":0}]
["CAQUELOT Maurice","TRIPLET Gilbert","P",1,2,114,165,"2010-10-16","N1 Ligue T1 DOUAI","Poules Consolante",{"$f":"IF(H18<>\"\",IF(MONTH(H18)>MoisRef,YEAR(H18)&\"-\"&YEAR(H18)+1,YEAR(H18)-1&\"-\"&YEAR(H18)),\"\")","v":"2010-2011"},null,null,null,null,{"$f":"IF($K18=P$1,COUNTIF($C18,\"G\"),0)","v":0},null,{"$f":"IF($K18=R$1,COUNTIF($C18,\"G\"),0)","v":0}]
["CAQUELOT Maurice","POULEYN André","P",0,2,105,120,"2010-10-16","N1 Ligue T1 DOUAI","Poules Consolante",{"$f":"IF(H19<>\"\",IF(MONTH(H19)>MoisRef,YEAR(H19)&\"-\"&YEAR(H19)+1,YEAR(H19)-1&\"-\"&YEAR(H19)),\"\")","v":"2010-2011"},null,null,null,null,{"$f":"IF($K19=P$1,COUNTIF($C19,\"G\"),0)","v":0},null,{"$f":"IF($K19=R$1,COUNTIF($C19,\"G\"),0)","v":0}]
["Fin des données",null,null,null,null,null,null,null,null,null,{"$f":"IF(H20<>\"\",IF(MONTH(H20)>MoisRef,YEAR(H20)&\"-\"&YEAR(H20)+1,YEAR(H20)-1&\"-\"&YEAR(H20)),\"\")","v":""},null,null,null,null,{"$f":"IF($K20=P$1,COUNTIF($C20,\"G\"),0)","v":0},null,{"$f":"IF($K20=R$1,COUNTIF($C20,\"G\"),0)","v":0}]

{"sheet":"CARPENTIER Yohanne","index":6,"n_rows":72,"n_cols":22,"rows_kept":72,"cut":false,"hidden":false,"merged":[]}
["CARPENTIER Yohanne",null,null,null,null,null,null,null,null,null,null,null,null,null,null,{"$f":"Récapitulatif!$B$2","v":"2014-2015"},null,{"$f":"Récapitulatif!$B$3","v":"2015-2016"},null,"Toutes saisons"]
["ANNOEULLIN",null,null,null,null,null,null,null,null,null,null,null,null,null,null,"Nombre","%age","Nombre","%age","Nombre","%age"]
["016914-O",null,null,null,null,null,null,null,null,null,null,null,null,"Matchs","Gagnés",{"$f":"SUM(P$15:P$72)","v":0},{"$f":"IF(P$3+P$4>0,P3/(P$3+P$4),\"\")","v":""},{"$f":"SUM(R$15:R$72)","v":0},{"$f":"IF(R$3+R$4>0,R3/(R$3+R$4),\"\")","v":""},{"$f":"COUNTIF($C$15:$C$72,\"G\")","v":23},{"$f":"IF(T$3+T$4>0,T3/(T$3+T$4),\"\")","v":0.4107142857142857}]
[null,null,null,null,null,null,null,null,null,null,null,null,null,null,"Perdus",{"$f":"COUNTIF($K$15:$K$72,Récapitulatif!$B$2)-P3","v":0},{"$f":"IF(P$3+P$4>0,P4/(P$3+P$4),\"\")","v":""},{"$f":"COUNTIF($K$15:$K$72,Récapitulatif!$B$3)-R3","v":0},{"$f":"IF(R$3+R$4>0,R4/(R$3+R$4),\"\")","v":""},{"$f":"COUNTIF($C$15:$C$72,\"P\")","v":33},{"$f":"IF(T$3+T$4>0,T4/(T$3+T$4),\"\")","v":0.5892857142857143}]
[null,null,null,null,null,null,null,null,null,null,null,null,null,null,"Total / Moy.",{"$f":"SUM(P3:P4)","v":0},{"$f":"IF(SUMIF($K$15:$K$72,Récapitulatif!$B$2,$G$15:$G$72)>0,SUMIF($K$15:$K$72,Récapitulatif!$B$2,$F$15:$F$72)/SUMIF($K$15:$K$72,Récapitulatif!$B$2,$G$15:$G$72),\"\")","v":""},{"$f":"SUM(R3:R4)","v":0},{"$f":"IF(SUMIF($K$15:$K$72,Récapitulatif!$B$3,$G$15:$G$72)>0,SUMIF($K$15:$K$72,Récapitulatif!$B$3,$F$15:$F$72)/SUMIF($K$15:$K$72,Récapitulatif!$B$3,$G$15:$G$72),\"\")","v":""},{"$f":"SUM(T3:T4)","v":56},{"$f":"IF(SUM($G$15:$G$72)>0,SUM($F$15:$F$72)/SUM($G$15:$G$72),\"\")","v":0.97503069995906677},{"$f":"IF(SUMIF($K$15:$K$72,Récapitulatif!$B$2,$G$15:$G$72)+SUMIF($K$15:$K$72,Récapitulatif!$B$3,$G$15:$G$72)>0,(SUMIF($K$15:$K$72,Récapitulatif!$B$2,$F$15:$F$72)+SUMIF($K$15:$K$72,Récapitulatif!$B$3,$F$15:$F$72))/(SUMIF($K$15:$K$72,Récapitulatif!$B$2,$G$15:$G$72)+SUMIF($K$15:$K$72,Récapitulatif!$B$3,$G$15:$G$72)),\"\")","v":""}]
[null,null,null,null,null,null,null,null,null,null,null,null,null,"Sets","Gagnés",{"$f":"SUMIF($K$15:$K$72,Récapitulatif!$B$2,$D$15:$D$72)","v":0},{"$f":"IF(P$6+P$7>0,P6/(P$6+P$7),\"\")","v":""},{"$f":"SUMIF($K$15:$K$72,Récapitulatif!$B$3,$D$15:$D$72)","v":0},{"$f":"IF(R$6+R$7>0,R6/(R$6+R$7),\"\")","v":""},{"$f":"SUM($D$15:$D$72)","v":63},{"$f":"IF(T$6+T$7>0,T6/(T$6+T$7),\"\")","v":0.44366197183098594}]
[null,null,null,null,null,null,null,null,null,null,null,null,null,null,"Perdus",{"$f":"SUMIF($K$15:$K$72,Récapitulatif!$B$2,$E$15:$E$72)","v":0},{"$f":"IF(P$6+P$7>0,P7/(P$6+P$7),\"\")","v":""},{"$f":"SUMIF($K$15:$K$72,Récapitulatif!$B$3,$E$15:$E$72)","v":0},{"$f":"IF(R$6+R$7>0,R7/(R$6+R$7),\"\")","v":""},{"$f":"SUM($E$15:$E$72)","v":79},{"$f":"IF(T$6+T$7>0,T7/(T$6+T$7),\"\")","v":0.55633802816901412}]
["Récapitulatif joueurs",null,null,null,null,null,null,null,null,null,null,null,null,null,"Total",{"$f":"SUM(P6:P7)","v":0},null,{"$f":"SUM(R6:R7)","v":0},null,{"$f":"SUM(T6:T7)","v":142}]
[]
[]
[]
[]
[]
[]
["Joueur","Adversaire","G/P","Sets gagnés","Sets perdus","pts marqués","pts subis","Date","Compétition","Phase","Saison"]
["CARPENTIER Yohanne","CAUX Frédéric","P",1,2,152,172,"2008-12-12","National T3 ANNOEULLIN","Préqualifs",{"$f":"IF(H16<>\"\",IF(MONTH(H16)>MoisRef,YEAR(H16)&\"-\"&YEAR(H16)+1,YEAR(H16)-1&\"-\"&YEAR(H16)),\"\")","v":"2008-2009"},null,null,null,null,{"$f":"IF($K16=P$1,COUNTIF($C16,\"G\"),0)","v":0},null,{"$f":"IF($K16=R$1,COUNTIF($C16,\"G\"),0)","v":0}]
["CARPENTIER Yohanne","SCHUB Philippe","P",0,2,83,120,"2008-12-12","National T3 ANNOEULLIN","Préqualifs","2008-2009",null,null,null,null,0,null,0]
["CARPENTIER Yohanne","MORALES Luis","P",1,2,130,171,"2008-12-12","National T3 ANNOEULLIN","Préqualifs","2008-2009",null,null,null,null,0,null,0]
["CARPENTIER Yohanne","WALLART Jean-Charles","G",2,1,168,115,"2009-02-14","N1 Ligue T1 ARRAS","Poules","2008-2009",null,null,null,null,0,null,0]
["CARPENTIER Yohanne","CAUX Frédéric","P",1,2,159,166,"2009-02-14","N1 Ligue T1 ARRAS","Poules","2008-2009",null,null,null,null,0,null,0]
["CARPENTIER Yohanne","DELSOL Philippe","P",1,2,145,177,"2009-02-14","N1 Ligue T1 ARRAS","1/4 Finale","2008-2009",null,null,null,null,0,null,0]
["CARPENTIER Yohanne","SAINT-GEORGES Claude","P",0,2,85,120,"2009-03-07","N1 Ligue T2 ANNOEULLIN","Poules","2008-2009",null,null,null,null,0,null,0]
["CARPENTIER Yohanne","MAILLE Bernard","G",2,1,172,157,"2009-03-07","N1 Ligue T2 ANNOEULLIN","Poules","2008-2009",null,null,null,null,0,null,0]
["CARPENTIER Yohanne","CLYNCKE Jean-Jacques","P",0,2,110,120,"2009-03-07","N1 Ligue T2 ANNOEULLIN","Poules Consolante","2008-2009",null,null,null,null,0,null,0]
["CARPENTIER Yohanne","TURPIN Laurent","P",1,2,120,163,"2009-03-07","N1 Ligue T2 ANNOEULLIN","Poules Consolante","2008-2009",null,null,null,null,0,null,0]
["CARPENTIER Yohanne","HULOT Sophie","G",2,1,165,122,"2009-04-11","N1 Ligue T3 DUNKERQUE","Poules","2008-2009",null,null,null,null,0,null,0]
["CARPENTIER Yohanne","TURPIN Laurent","P",0,2,72,120,"2009-04-11","N1 Ligue T3 DUNKERQUE","Poules","2008-2009",null,null,null,null,0,null,0]
["CARPENTIER Yohanne","LORTHIOIR Jean-Luc","G",2,1,175,140,"2009-04-11","N1 Ligue T3 DUNKERQUE","Poules Consolante","2008-2009",null,null,null,null,0,null,0]
["CARPENTIER Yohanne","BASTENIER Jean","P",1,2,119,135,"2009-04-11","N1 Ligue T3 DUNKERQUE","Poules Consolante","2008-2009",null,null,null,null,0,null,0]
["CARPENTIER Yohanne","CAUX Frédéric","G",2,0,120,91,"2009-12-19","N1 Ligue T2 ANNOEULLIN","Poules","2009-2010",null,null,null,null,0,null,0]
["CARPENTIER Yohanne","MAUPIN Patrick","G",2,1,158,143,"2009-12-19","N1 Ligue T2 ANNOEULLIN","Poules","2009-2010",null,null,null,null,0,null,0]
["CARPENTIER Yohanne","GUILLEMANT David","P",0,2,66,120,"2009-12-19","N1 Ligue T2 ANNOEULLIN","1/4 Finale","2009-2010",null,null,null,null,0,null,0]
["CARPENTIER Yohanne","CAUX Frédéric","G",2,1,178,108,"2010-01-16","N1 Ligue T3 ANNOEULLIN","Poules Consolante","2009-2010",null,null,null,null,0,null,0]
["CARPENTIER Yohanne","RACARY Thibault","G",2,1,162,175,"2010-01-16","N1 Ligue T3 ANNOEULLIN","Poules Consolante","2009-2010",null,null,null,null,0,null,0]
["CARPENTIER Yohanne","SAINT-GEORGES Claude","G",2,1,157,149,"2010-01-16","N1 Ligue T3 ANNOEULLIN","1/2 Finale Consolante","2009-2010",null,null,null,null,0,null,0]
["CARPENTIER Yohanne","GEETS Patrice","G",2,1,173,162,"2010-01-16","N1 Ligue T3 ANNOEULLIN","Finale Consolante","2009-2010",null,null,null,null,0,null,0]
["CARPENTIER Yohanne","DEROLEZ Jean-Pierre","P",1,2,134,150,"2010-01-16","N1 Ligue T3 ANNOEULLIN","Poules","2009-2010",null,null,null,null,0,null,0]
["CARPENTIER Yohanne","GREMAIN Gino","P",0,2,86,120,"2010-01-16","N1 Ligue T3 ANNOEULLIN","Poules","2009-2010",null,null,null,null,0,null,0]
["CARPENTIER Yohanne","MAUPIN Patrick","P",0,2,68,120,"2010-02-20","N1 Ligue T4 DOUAI","Poules","2009-2010",null,null,null,null,0,null,0]
["CARPENTIER Yohanne","MAUPIN Patrick","P",1,2,146,160,"2010-02-20","N1 Ligue T4 DOUAI","Poules","2009-2010",null,null,null,null,0,null,0]
["CARPENTIER Yohanne","LORTHIOIR Jean-Luc","G",2,0,120,80,"2010-02-20","N1 Ligue T4 DOUAI","Poules Consolante","2009-2010",null,null,null,null,0,null,0]
["CARPENTIER Yohanne","CARTIERE André","G",2,1,177,134,"2010-02-20","N1 Ligue T4 DOUAI","Poules Consolante","2009-2010",null,null,null,null,0,null,0]
["CARPENTIER Yohanne","ZEUDE Alain","G",2,0,120,60,"2010-10-16","N1 Ligue T1 DOUAI","Poules","2010-2011",null,null,null,null,0,null,0]
["CARPENTIER Yohanne","SAINT-GEORGES Claude","P",0,2,64,120,"2010-10-16","N1 Ligue T1 DOUAI","Poules","2010-2011",null,null,null,null,0,null,0]
["CARPENTIER Yohanne","GEETS Patrice","P",1,2,142,178,"2010-10-16","N1 Ligue T1 DOUAI","1/8 Finale","2010-2011",null,null,null,null,0,null,0]
["CARPENTIER Yohanne","DELRUE André","G",2,0,120,75,"2010-11-13","N1 Ligue T2 FACHES THUMESNIL","Poules","2010-2011",null,null,null,null,0,null,0]
["CARPENTIER Yohanne","SAINT-GEORGES Claude","P",1,2,166,175,"2010-11-13","N1 Ligue T2 FACHES THUMESNIL","Poules","2010-2011",null,null,null,null,0,null,0]
["CARPENTIER Yohanne","VEREECQUE Ludovic","P",0,2,69,120,"2010-11-13","N1 Ligue T2 FACHES THUMESNIL","Poules Consolante","2010-2011",null,null,null,null,0,null,0]
["CARPENTIER Yohanne","CAUX Frédéric","P",1,2,160,175,"2010-11-13","N1 Ligue T2 FACHES THUMESNIL","Poules Consolante","2010-2011",null,null,null,null,0,null,0]
["CARPENTIER Yohanne","MANTEN Paul","P",1,2,115,155,"2010-12-11","N1 Ligue T3 GRAVELINES","Poules","2010-2011",null,null,null,null,0,null,0]
["CARPENTIER Yohanne","HORNAIN Denis","G",2,1,160,130,"2010-12-11","N1 Ligue T3 GRAVELINES","Poules","2010-2011",null,null,null,null,0,null,0]
["CARPENTIER Yohanne","CAUX Frédéric","P",1,2,170,168,"2010-12-11","N1 Ligue T3 GRAVELINES","Poules Consolante","2010-2011",null,null,null,null,0,null,0]
["CARPENTIER Yohanne","MONFLIER Francis","G",2,1,173,107,"2010-12-11","N1 Ligue T3 GRAVELINES","Poules Consolante","2010-2011",null,null,null,null,0,null,0]
["CARPENTIER Yohanne","RAUX Jean-François","G",2,0,120,45,"2011-01-15","N1 Ligue T4 DIVION","Poules","2010-2011",null,null,null,null,0,null,0]
["CARPENTIER Yohanne","POULEYN André","P",1,2,167,164,"2011-01-15","N1 Ligue T4 DIVION","Poules","2010-2011",null,null,null,null,0,null,0]
["CARPENTIER Yohanne","DEROLEZ Jean-Pierre","P",0,2,88,120,"2011-01-15","N1 Ligue T4 DIVION","Poules Consolante","2010-2011",null,null,null,null,0,null,0]
["CARPENTIER Yohanne","LERICQUE Pierre","P",1,2,141,154,"2011-01-15","N1 Ligue T4 DIVION","Poules Consolante","2010-2011",null,null,null,null,0,null,0]
["CARPENTIER Yohanne","LUBREZ Pierre","G",2,0,120,84,"2011-10-15","N1 Ligue T1 DIVION","Poules","2011-2012",null,null,null,null,0,null,0]
["CARPENTIER Yohanne","SAINT-GEORGES Claude","P",0,2,65,120,"2011-10-15","N1 Ligue T1 DIVION","Poules","2011-2012",null,null,null,null,0,null,0]
["CARPENTIER Yohanne","LEBLANC Jean-Noël","P",0,1,74,100,"2011-10-15","N1 Ligue T1 DIVION","Poules Consolante","2011-2012",null,null,null,null,0,null,0]
["CARPENTIER Yohanne","LORTHIOIR Jean-Luc","P",0,1,80,100,"2011-10-15","N1 Ligue T1 DIVION","Poules Consolante","2011-2012",null,null,null,null,0,null,0]
["CARPENTIER Yohanne","CLYNCKE Jean-Jacques","G",2,1,169,152,"2011-11-19","N1 Ligue T2 DOUAI","Poules","2011-2012",null,null,null,null,0,null,0]
["CARPENTIER Yohanne","HERREBRECHT Thierry","P",0,2,68,120,"2011-11-19","N1 Ligue T2 DOUAI","Poules","2011-2012",null,null,null,null,0,null,0]
["CARPENTIER Yohanne","SAINT-GEORGES Claude","P",1,2,150,124,"2011-11-19","N1 Ligue T2 DOUAI","1/8 Finale","2011-2012",null,null,null,null,0,null,0]
["CARPENTIER Yohanne","GHEVART Jean","G",2,0,120,66,"2012-01-07","N1 Ligue T3 FACHES THUMESNIL","Poules","2011-2012",null,null,null,null,0,null,0]
["CARPENTIER Yohanne","TURPIN Laurent","G",2,0,120,82,"2012-01-07","N1 Ligue T3 FACHES THUMESNIL","Poules","2011-2012",null,null,null,null,0,null,0]
["CARPENTIER Yohanne","KAYA Turgul","G",2,1,169,151,"2012-01-07","N1 Ligue T3 FACHES THUMESNIL","1/8 Finale","2011-2012",null,null,null,null,0,null,0]
["CARPENTIER Yohanne","HERREBRECHT Thierry","P",0,2,64,120,"2012-01-07","N1 Ligue T3 FACHES THUMESNIL","1/4 Finale","2011-2012",null,null,null,null,0,null,0]
["CARPENTIER Yohanne","CAUX Frédéric","G",2,1,160,158,"2012-01-28","N1 Ligue T4 GRAVELINES","Poules","2011-2012",null,null,null,null,0,null,0]
["CARPENTIER Yohanne","CAUX Frédéric","P",1,2,150,176,"2012-01-28","N1 Ligue T4 GRAVELINES","Poules","2011-2012",null,null,null,null,0,null,0]
["CARPENTIER Yohanne","LHERMITTE Cédric","P",0,2,62,120,"2012-01-28","N1 Ligue T4 GRAVELINES","1/8 Finale","2011-2012",null,null,null,null,0,null,0]
["Fin des données",null,null,null,null,null,null,null,null,null,"",null,null,null,null,{"$f":"IF($K72=P$1,COUNTIF($C72,\"G\"),0)","v":0},null,{"$f":"IF($K72=R$1,COUNTIF($C72,\"G\"),0)","v":0}]

{"sheet":"CARTIERE André","index":7,"n_rows":21,"n_cols":22,"rows_kept":21,"cut":false,"hidden":false,"merged":[]}
["CARTIERE André",null,null,null,null,null,null,null,null,null,null,null,null,null,null,{"$f":"Récapitulatif!$B$2","v":"2014-2015"},null,{"$f":"Récapitulatif!$B$3","v":"2015-2016"},null,"Toutes saisons"]
["CUCQ",null,null,null,null,null,null,null,null,null,null,null,null,null,null,"Nombre","%age","Nombre","%age","Nombre","%age"]
["117749-V",null,null,null,null,null,null,null,null,null,null,null,null,"Matchs","Gagnés",{"$f":"SUM(P$15:P$21)","v":0},{"$f":"IF(P$3+P$4>0,P3/(P$3+P$4),\"\")","v":""},{"$f":"SUM(R$15:R$21)","v":0},{"$f":"IF(R$3+R$4>0,R3/(R$3+R$4),\"\")","v":""},{"$f":"COUNTIF($C$15:$C$21,\"G\")","v":1},{"$f":"IF(T$3+T$4>0,T3/(T$3+T$4),\"\")","v":0.2}]
[null,null,null,null,null,null,null,null,null,null,null,null,null,null,"Perdus",{"$f":"COUNTIF($K$15:$K$21,Récapitulatif!$B$2)-P3","v":0},{"$f":"IF(P$3+P$4>0,P4/(P$3+P$4),\"\")","v":""},{"$f":"COUNTIF($K$15:$K$21,Récapitulatif!$B$3)-R3","v":0},{"$f":"IF(R$3+R$4>0,R4/(R$3+R$4),\"\")","v":""},{"$f":"COUNTIF($C$15:$C$21,\"P\")","v":4},{"$f":"IF(T$3+T$4>0,T4/(T$3+T$4),\"\")","v":0.8}]
[null,null,null,null,null,null,null,null,null,null,null,null,null,null,"Total / Moy.",{"$f":"SUM(P3:P4)","v":0},{"$f":"IF(SUMIF($K$15:$K$21,Récapitulatif!$B$2,$G$15:$G$21)>0,SUMIF($K$15:$K$21,Récapitulatif!$B$2,$F$15:$F$21)/SUMIF($K$15:$K$21,Récapitulatif!$B$2,$G$15:$G$21),\"\")","v":""},{"$f":"SUM(R3:R4)","v":0},{"$f":"IF(SUMIF($K$15:$K$21,Récapitulatif!$B$3,$G$15:$G$21)>0,SUMIF($K$15:$K$21,Récapitulatif!$B$3,$F$15:$F$21)/SUMIF($K$15:$K$21,Récapitulatif!$B$3,$G$15:$G$21),\"\")","v":""},{"$f":"SUM(T3:T4)","v":5},{"$f":"IF(SUM($G$15:$G$21)>0,SUM($F$15:$F$21)/SUM($G$15:$G$21),\"\")","v":0.80254777070063699},{"$f":"IF(SUMIF($K$15:$K$21,Récapitulatif!$B$2,$G$15:$G$21)+SUMIF($K$15:$K$21,Récapitulatif!$B$3,$G$15:$G$21)>0,(SUMIF($K$15:$K$21,Récapitulatif!$B$2,$F$15:$F$21)+SUMIF($K$15:$K$21,Récapitulatif!$B$3,$F$15:$F$21))/(SUMIF($K$15:$K$21,Récapitulatif!$B$2,$G$15:$G$21)+SUMIF($K$15:$K$21,Récapitulatif!$B$3,$G$15:$G$21)),\"\")","v":""}]
[null,null,null,null,null,null,null,null,null,null,null,null,null,"Sets","Gagnés",{"$f":"SUMIF($K$15:$K$21,Récapitulatif!$B$2,$D$15:$D$21)","v":0},{"$f":"IF(P$6+P$7>0,P6/(P$6+P$7),\"\")","v":""},{"$f":"SUMIF($K$15:$K$21,Récapitulatif!$B$3,$D$15:$D$21)","v":0},{"$f":"IF(R$6+R$7>0,R6/(R$6+R$7),\"\")","v":""},{"$f":"SUM($D$15:$D$21)","v":3},{"$f":"IF(T$6+T$7>0,T6/(T$6+T$7),\"\")","v":0.27272727272727271}]
[null,null,null,null,null,null,null,null,null,null,null,null,null,null,"Perdus",{"$f":"SUMIF($K$15:$K$21,Récapitulatif!$B$2,$E$15:$E$21)","v":0},{"$f":"IF(P$6+P$7>0,P7/(P$6+P$7),\"\")","v":""},{"$f":"SUMIF($K$15:$K$21,Récapitulatif!$B$3,$E$15:$E$21)","v":0},{"$f":"IF(R$6+R$7>0,R7/(R$6+R$7),\"\")","v":""},{"$f":"SUM($E$15:$E$21)","v":8},{"$f":"IF(T$6+T$7>0,T7/(T$6+T$7),\"\")","v":0.72727272727272729}]
["Récapitulatif joueurs",null,null,null,null,null,null,null,null,null,null,null,null,null,"Total",{"$f":"SUM(P6:P7)","v":0},null,{"$f":"SUM(R6:R7)","v":0},null,{"$f":"SUM(T6:T7)","v":11}]
[]
[]
[]
[]
[]
[]
["Joueur","Adversaire","G/P","Sets gagnés","Sets perdus","pts marqués","pts subis","Date","Compétition","Phase","Saison"]
["CARTIERE André","MARTEL Bruno","G",2,0,120,91,"2010-02-20","N1 Ligue T4 DOUAI","Poules",{"$f":"IF(H16<>\"\",IF(MONTH(H16)>MoisRef,YEAR(H16)&\"-\"&YEAR(H16)+1,YEAR(H16)-1&\"-\"&YEAR(H16)),\"\")","v":"2009-2010"},null,null,null,null,{"$f":"IF($K16=P$1,COUNTIF($C16,\"G\"),0)","v":0},null,{"$f":"IF($K16=R$1,COUNTIF($C16,\"G\"),0)","v":0}]
["CARTIERE André","GEETS Patrice","P",0,2,54,120,"2010-02-20","N1 Ligue T4 DOUAI","Poules","2009-2010",null,null,null,null,0,null,0]
["CARTIERE André","HORNAIN Denis","P",0,2,92,120,"2010-02-20","N1 Ligue T4 DOUAI","1/8 Finale","2009-2010",null,null,null,null,0,null,0]
["CARTIERE André","CARPENTIER Yohanne","P",1,2,134,177,"2010-02-20","N1 Ligue T4 DOUAI","Poules Consolante","2009-2010",null,null,null,null,0,null,0]
["CARTIERE André","LORTHIOIR Jean-Luc","P",0,2,104,120,"2010-02-20","N1 Ligue T4 DOUAI","Poules Consolante","2009-2010",null,null,null,null,0,null,0]
["Fin des données",null,null,null,null,null,null,null,null,null,"",null,null,null,null,0,null,0]

{"sheet":"CAUX Frédéric","index":8,"n_rows":303,"n_cols":22,"rows_kept":303,"cut":false,"hidden":false,"merged":[]}
["CAUX Frédéric",null,null,null,null,null,null,null,null,null,null,null,null,null,null,{"$f":"Récapitulatif!$B$2","v":"2014-2015"},null,{"$f":"Récapitulatif!$B$3","v":"2015-2016"},null,"Toutes saisons"]
["ANNOEULLIN",null,null,null,null,null,null,null,null,null,null,null,null,null,null,"Nombre","%age","Nombre","%age","Nombre","%age"]
["017026-W",null,null,null,null,null,null,null,null,null,null,null,null,"Matchs","Gagnés",{"$f":"SUM(P$15:P$303)","v":16},{"$f":"IF(P$3+P$4>0,P3/(P$3+P$4),\"\")","v":0.44444444444444442},{"$f":"SUM(R$15:R$303)","v":5},{"$f":"IF(R$3+R$4>0,R3/(R$3+R$4),\"\")","v":0.19230769230769232},{"$f":"COUNTIF($C$15:$C$303,\"G\")","v":97},{"$f":"IF(T$3+T$4>0,T3/(T$3+T$4),\"\")","v":0.33797909407665505}]
[null,null,null,null,null,null,null,null,null,null,null,null,null,null,"Perdus",{"$f":"COUNTIF($K$15:$K$303,Récapitulatif!$B$2)-P3","v":20},{"$f":"IF(P$3+P$4>0,P4/(P$3+P$4),\"\")","v":0.55555555555555558},{"$f":"COUNTIF($K$15:$K$303,Récapitulatif!$B$3)-R3","v":21},{"$f":"IF(R$3+R$4>0,R4/(R$3+R$4),\"\")","v":0.80769230769230771},{"$f":"COUNTIF($C$15:$C$303,\"P\")","v":190},{"$f":"IF(T$3+T$4>0,T4/(T$3+T$4),\"\")","v":0.66202090592334495}]
[null,null,null,null,null,null,null,null,null,null,null,null,null,null,"Total / Moy.",{"$f":"SUM(P3:P4)","v":36},{"$f":"IF(SUMIF($K$15:$K$303,Récapitulatif!$B$2,$G$15:$G$303)>0,SUMIF($K$15:$K$303,Récapitulatif!$B$2,$F$15:$F$303)/SUMIF($K$15:$K$303,Récapitulatif!$B$2,$G$15:$G$303),\"\")","v":0.95052784102670251},{"$f":"SUM(R3:R4)","v":26},{"$f":"IF(SUMIF($K$15:$K$303,Récapitulatif!$B$3,$G$15:$G$303)>0,SUMIF($K$15:$K$303,Récapitulatif!$B$3,$F$15:$F$303)/SUMIF($K$15:$K$303,Récapitulatif!$B$3,$G$15:$G$303),\"\")","v":0.78745854687971062},{"$f":"SUM(T3:T4)","v":287},{"$f":"IF(SUM($G$15:$G$303)>0,SUM($F$15:$F$303)/SUM($G$15:$G$303),\"\")","v":0.87846439628482975},{"$f":"IF(SUMIF($K$15:$K$303,Récapitulatif!$B$2,$G$15:$G$303)+SUMIF($K$15:$K$303,Récapitulatif!$B$3,$G$15:$G$303)>0,(SUMIF($K$15:$K$303,Récapitulatif!$B$2,$F$15:$F$303)+SUMIF($K$15:$K$303,Récapitulatif!$B$3,$F$15:$F$303))/(SUMIF($K$15:$K$303,Récapitulatif!$B$2,$G$15:$G$303)+SUMIF($K$15:$K$303,Récapitulatif!$B$3,$G$15:$G$303)),\"\")","v":0.8841433480608738}]
[null,null,null,null,null,null,null,null,null,null,null,null,null,"Sets","Gagnés",{"$f":"SUMIF($K$15:$K$303,Récapitulatif!$B$2,$D$15:$D$303)","v":40},{"$f":"IF(P$6+P$7>0,P6/(P$6+P$7),\"\")","v":0.43956043956043955},{"$f":"SUMIF($K$15:$K$303,Récapitulatif!$B$3,$D$15:$D$303)","v":14},{"$f":"IF(R$6+R$7>0,R6/(R$6+R$7),\"\")","v":0.26415094339622641},{"$f":"SUM($D$15:$D$303)","v":282},{"$f":"IF(T$6+T$7>0,T6/(T$6+T$7),\"\")","v":0.376}]
[null,null,null,null,null,null,null,null,null,null,null,null,null,null,"Perdus",{"$f":"SUMIF($K$15:$K$303,Récapitulatif!$B$2,$E$15:$E$303)","v":51},{"$f":"IF(P$6+P$7>0,P7/(P$6+P$7),\"\")","v":0.56043956043956045},{"$f":"SUMIF($K$15:$K$303,Récapitulatif!$B$3,$E$15:$E$303)","v":39},{"$f":"IF(R$6+R$7>0,R7/(R$6+R$7),\"\")","v":0.73584905660377353},{"$f":"SUM($E$15:$E$303)","v":468},{"$f":"IF(T$6+T$7>0,T7/(T$6+T$7),\"\")","v":0.624}]
["Récapitulatif joueurs",null,null,null,null,null,null,null,null,null,null,null,null,null,"Total",{"$f":"SUM(P6:P7)","v":91},null,{"$f":"SUM(R6:R7)","v":53},null,{"$f":"SUM(T6:T7)","v":750}]
[]
[]
[]
[]
[]
[]
["Joueur","Adversaire","G/P","Sets gagnés","Sets perdus","pts marqués","pts subis","Date","Compétition","Phase","Saison"]
["CAUX Frédéric","AUCLAIR Henri","G",2,1,149,167,"2008-10-10","National T1 MAISONS ALFORT","Préqualifs",{"$f":"IF(H16<>\"\",IF(MONTH(H16)>MoisRef,YEAR(H16)&\"-\"&YEAR(H16)+1,YEAR(H16)-1&\"-\"&YEAR(H16)),\"\")","v":"2008-2009"},null,null,null,null,{"$f":"IF($K16=P$1,COUNTIF($C16,\"G\"),0)","v":0},null,{"$f":"IF($K16=R$1,COUNTIF($C16,\"G\"),0)","v":0}]
["CAUX Frédéric","COTTEN Jean-Pierre","P",0,2,101,120,"2008-10-10","National T1 MAISONS ALFORT","Préqualifs","2008-2009",null,null,null,null,0,null,0]
["CAUX Frédéric","FONTAINE Isabelle","G",2,1,179,110,"2008-10-10","National T1 MAISONS ALFORT","Préqualifs","2008-2009",null,null,null,null,0,null,0]
["CAUX Frédéric","BERNARD Yves","G",3,0,180,143,"2008-10-11","National T1 MAISONS ALFORT","Qualifs promotion","2008-2009",null,null,null,null,0,null,0]
["CAUX Frédéric","SORTAIS Claude","G",3,1,219,185,"2008-10-11","National T1 MAISONS ALFORT","Qualifs promotion","2008-2009",null,null,null,null,0,null,0]
["CAUX Frédéric","PERRIN Eric","P",1,3,155,235,"2008-10-12","National T1 MAISONS ALFORT","1/8 finale promotion","2008-2009",null,null,null,null,0,null,0]
["CAUX Frédéric","DUROYON Didier","P",1,2,152,162,"2008-11-14","National T2 SCHILTIGHEIM","Préqualifs","2008-2009",null,null,null,null,0,null,0]
["CAUX Frédéric","ZILLIG Pierre","P",0,2,104,120,"2008-11-14","National T2 SCHILTIGHEIM","Préqualifs","2008-2009",null,null,null,null,0,null,0]
["CAUX Frédéric","RIGAULT Jean-Lou","P",0,2,102,120,"2008-11-14","National T2 SCHILTIGHEIM","Préqualifs","2008-2009",null,null,null,null,0,null,0]
["CAUX Frédéric","CARPENTIER Yohanne","G",2,1,172,152,"2008-12-12","National T3 ANNOEULLIN","Préqualifs","2008-2009",null,null,null,null,0,null,0]
["CAUX Frédéric","MORALES Luis","P",1,2,110,168,"2008-12-12","National T3 ANNOEULLIN","Préqualifs","2008-2009",null,null,null,null,0,null,0]
["CAUX Frédéric","SCHUB Philippe","P",0,2,95,120,"2008-12-12","National T3 ANNOEULLIN","Préqualifs","2008-2009",null,null,null,null,0,null,0]
["CAUX Frédéric","TIRALONGO Sébastien","P",0,3,114,180,"2008-12-13","National T3 ANNOEULLIN","Qualifs promotion","2008-2009",null,null,null,null,0,null,0]
["CAUX Frédéric","DUROYON Didier","P",0,3,128,180,"2008-12-13","National T3 ANNOEULLIN","Qualifs promotion","2008-2009",null,null,null,null,0,null,0]
["CAUX Frédéric","GONTHIER Arnaud","P",1,2,115,156,"2009-02-06","National T4 LAXOU","Préqualifs","2008-2009",null,null,null,null,0,null,0]
["CAUX Frédéric","J. BLANC","G",2,0,120,106,"2009-02-06","National T4 LAXOU","Préqualifs","2008-2009",null,null,null,null,0,null,0]
["CAUX Frédéric","REBELO Joaquim","P",1,2,171,169,"2009-02-06","National T4 LAXOU","Préqualifs","2008-2009",null,null,null,null,0,null,0]
["CAUX Frédéric","GARONNAT Daniel","P",1,3,159,222,"2009-02-07","National T4 LAXOU","Qualifs promotion","2008-2009",null,null,null,null,0,null,0]
["CAUX Frédéric","PAILLART Jean-Paul","G",3,1,228,187,"2009-02-07","National T4 LAXOU","Qualifs promotion","2008-2009",null,null,null,null,0,null,0]
["CAUX Frédéric","GARONNAT Daniel","G",3,2,263,286,"2009-02-07","National T4 LAXOU","Qualifs promotion","2008-2009",null,null,null,null,0,null,0]
["CAUX Frédéric","JUBLOT Denis","P",0,3,98,180,"2009-02-08","National T4 LAXOU","1/8 finale promotion","2008-2009",null,null,null,null,0,null,0]
["CAUX Frédéric","CARPENTIER Yohanne","G",2,1,166,159,"2009-02-14","N1 Ligue T1 ARRAS","Poules","2008-2009",null,null,null,null,0,null,0]
["CAUX Frédéric","WALLART Jean-Charles","P",0,2,52,120,"2009-02-14","N1 Ligue T1 ARRAS","Poules","2008-2009",null,null,null,null,0,null,0]
["CAUX Frédéric","MARTEL Jean-Pierre","G",2,1,172,117,"2009-02-14","N1 Ligue T1 ARRAS","Poules Consolante","2008-2009",null,null,null,null,0,null,0]
["CAUX Frédéric","TRUQUET David","P",0,2,55,120,"2009-02-14","N1 Ligue T1 ARRAS","Poules Consolante","2008-2009",null,null,null,null,0,null,0]
["CAUX Frédéric","GUILLEMANT David","P",0,2,91,120,"2009-03-07","N1 Ligue T2 ANNOEULLIN","Poules","2008-2009",null,null,null,null,0,null,0]
["CAUX Frédéric","GREMAIN Gino","P",0,2,91,120,"2009-03-07","N1 Ligue T2 ANNOEULLIN","Poules","2008-2009",null,null,null,null,0,null,0]
["CAUX Frédéric","MARTEL Jean-Pierre","P",0,2,77,120,"2009-03-07","N1 Ligue T2 ANNOEULLIN","Poules Consolante","2008-2009",null,null,null,null,0,null,0]
["CAUX Frédéric","TRUQUET David","P",0,2,94,120,"2009-03-07","N1 Ligue T2 ANNOEULLIN","Poules Consolante","2008-2009",null,null,null,null,0,null,0]
["CAUX Frédéric","PERRIN Thierry","P",1,2,147,152,"2009-03-20","National T5 ANDERNOS","Préqualifs","2008-2009",null,null,null,null,0,null,0]
["CAUX Frédéric","TRIFAULT Amand","P",1,2,124,152,"2009-03-20","National T5 ANDERNOS","Préqualifs","2008-2009",null,null,null,null,0,null,0]
["CAUX Frédéric","BOUTET Laurent","P",0,2,76,120,"2009-03-20","National T5 ANDERNOS","Préqualifs","2008-2009",null,null,null,null,0,null,0]
["CAUX Frédéric","SAINT-GEORGES Claude","P",1,3,198,227,"2009-03-21","National T5 ANDERNOS","Qualifs promotion",{"$f":"IF(H48<>\"\",IF(MONTH(H48)>MoisRef,YEAR(H48)&\"-\"&YEAR(H48)+1,YEAR(H48)-1&\"-\"&YEAR(H48)),\"\")","v":"2008-2009"},null,null,null,null,0,null,0]
["CAUX Frédéric","GANGLOFF Jean-Luc","P",1,3,183,211,"2009-03-21","National T5 ANDERNOS","Qualifs promotion","2008-2009",null,null,null,null,0,null,0]
["CAUX Frédéric","BASTENIER Jean","P",1,2,144,143,"2009-04-11","N1 Ligue T3 DUNKERQUE","Poules","2008-2009",null,null,null,null,0,null,0]
["CAUX Frédéric","WALLART Jean-Charles","P",1,2,145,179,"2009-04-11","N1 Ligue T3 DUNKERQUE","Poules","2008-2009",null,null,null,null,0,null,0]
["CAUX Frédéric","MARTEL Jean-Pierre","P",1,2,146,169,"2009-04-11","N1 Ligue T3 DUNKERQUE","Poules Consolante","2008-2009",null,null,null,null,0,null,0]
["CAUX Frédéric","LECROART Serge","G",2,1,165,111,"2009-04-11","N1 Ligue T3 DUNKERQUE","Poules Consolante","2008-2009",null,null,null,null,0,null,0]
["CAUX Frédéric","DUROYON Didier","P",0,2,34,120,"2009-04-17","National T6 CAUDAN","Préqualifs","2008-2009",null,null,null,null,0,null,0]
["CAUX Frédéric","J. BLANC","G",2,0,120,114,"2009-04-17","National T6 CAUDAN","Préqualifs","2008-2009",null,null,null,null,0,null,0]
["CAUX Frédéric","DI PALMA Angelo","P",1,2,109,170,"2009-04-17","National T6 CAUDAN","Préqualifs","2008-2009",null,null,null,null,0,null,0]
["CAUX Frédéric","ZACCAGNINI Antoine","P",0,3,105,180,"2009-04-18","National T6 CAUDAN","Qualifs promotion","2008-2009",null,null,null,null,0,null,0]
["CAUX Frédéric","PERRIN Eric","P",0,3,88,180,"2009-04-18","National T6 CAUDAN","Qualifs promotion","2008-2009",null,null,null,null,0,null,0]
["CAUX Frédéric","ROBIC Daniel","P",0,2,85,120,"2009-11-06","National T1 SCHILTIGHEIM","Préqualifs","2009-2010",null,null,null,null,0,null,0]
["CAUX Frédéric","GREMAIN Gino","P",0,2,87,120,"2009-11-06","National T1 SCHILTIGHEIM","Préqualifs","2009-2010",null,null,null,null,0,null,0]
["CAUX Frédéric","J. BLANC","G",2,0,120,118,"2009-11-06","National T1 SCHILTIGHEIM","Préqualifs","2009-2010",null,null,null,null,0,null,0]
["CAUX Frédéric","GREMAIN Gino","P",1,3,191,236,"2009-11-07","National T1 SCHILTIGHEIM","Qualifs promotion","2009-2010",null,null,null,null,0,null,0]
["CAUX Frédéric","GUILLEMANT Jean-Marc","G",3,2,272,185,"2009-11-07","National T1 SCHILTIGHEIM","Qualifs promotion","2009-2010",null,null,null,null,0,null,0]
["CAUX Frédéric","GREMAIN Gino","P",0,3,98,180,"2009-11-07","National T1 SCHILTIGHEIM","Qualifs promotion","2009-2010",null,null,null,null,0,null,0]
["CAUX Frédéric","MAUPIN Patrick","P",0,2,54,120,"2009-11-21","N1 Ligue T1 GRAVELINES","Poules","2009-2010",null,null,null,null,0,null,0]
["CAUX Frédéric","LAMBIASE Guiseppe","G",2,1,165,105,"2009-11-21","N1 Ligue T1 GRAVELINES","Poules","2009-2010",null,null,null,null,0,null,0]
["CAUX Frédéric","MANTEN Paul","G",2,0,120,73,"2009-11-21","N1 Ligue T1 GRAVELINES","Poules Consolante","2009-2010",null,null,null,null,0,null,0]
["CAUX Frédéric","LECROART Serge","G",2,0,120,86,"2009-11-21","N1 Ligue T1 GRAVELINES","Poules Consolante","2009-2010",null,null,null,null,0,null,0]
["CAUX Frédéric","TURPIN Laurent","G",2,0,120,87,"2009-11-21","N1 Ligue T1 GRAVELINES","1/2 Finale Consolante","2009-2010",null,null,null,null,0,null,0]
["CAUX Frédéric","MAUPIN Patrick","P",0,2,110,120,"2009-11-21","N1 Ligue T1 GRAVELINES","Finale Consolante","2009-2010",null,null,null,null,0,null,0]
["CAUX Frédéric","MAIZOUE Alain","G",2,0,120,81,"2009-12-04","National T2 ANNOEULLIN","Préqualifs","2009-2010",null,null,null,null,0,null,0]
["CAUX Frédéric","DEMILLY Jean-Sébastien","P",0,2,93,120,"2009-12-04","National T2 ANNOEULLIN","Préqualifs","2009-2010",null,null,null,null,0,null,0]
["CAUX Frédéric","LHERMITTE Cédric","G",2,0,120,96,"2009-12-04","National T2 ANNOEULLIN","Préqualifs","2009-2010",null,null,null,null,0,null,0]
["CAUX Frédéric","SORTAIS Claude","P",0,3,122,180,"2009-12-05","National T2 ANNOEULLIN","Qualifs promotion","2009-2010",null,null,null,null,0,null,0]
["CAUX Frédéric","SCHUB Philippe","P",2,3,234,232,"2009-12-05","National T2 ANNOEULLIN","Qualifs promotion","2009-2010",null,null,null,null,0,null,0]
["CAUX Frédéric","CARPENTIER Yohanne","P",0,2,91,120,"2009-12-19","N1 Ligue T2 ANNOEULLIN","Poules","2009-2010",null,null,null,null,0,null,0]
["CAUX Frédéric","MAUPIN Patrick","G",2,0,120,59,"2009-12-19","N1 Ligue T2 ANNOEULLIN","Poules","2009-2010",null,null,null,null,0,null,0]
["CAUX Frédéric","CLYNCKE Jean-Jacques","P",0,2,90,120,"2009-12-19","N1 Ligue T2 ANNOEULLIN","Poules Consolante","2009-2010",null,null,null,null,0,null,0]
["CAUX Frédéric","MAUPIN Patrick","P",0,2,67,120,"2009-12-19","N1 Ligue T2 ANNOEULLIN","Poules Consolante","2009-2010",null,null,null,null,0,null,0]
["CAUX Frédéric","CARPENTIER Yohanne","P",1,2,108,178,"2010-01-16","N1 Ligue T3 ANNOEULLIN","Poules Consolante",{"$f":"IF(H80<>\"\",IF(MONTH(H80)>MoisRef,YEAR(H80)&\"-\"&YEAR(H80)+1,YEAR(H80)-1&\"-\"&YEAR(H80)),\"\")","v":"2009-2010"},null,null,null,null,{"$f":"IF($K80=P$1,COUNTIF($C80,\"G\"),0)","v":0},null,{"$f":"IF($K80=R$1,COUNTIF($C80,\"G\"),0)","v":0}]
["CAUX Frédéric","RACARY Thibault","P",0,2,102,120,"2010-01-16","N1 Ligue T3 ANNOEULLIN","Poules Consolante","2009-2010",null,null,null,null,0,null,0]
["CAUX Frédéric","GUILLEMANT David","P",1,2,144,166,"2010-01-16","N1 Ligue T3 ANNOEULLIN","Poules","2009-2010",null,null,null,null,0,null,0]
["CAUX Frédéric","GUILLEMANT David","P",0,2,67,120,"2010-01-16","N1 Ligue T3 ANNOEULLIN","Poules","2009-2010",null,null,null,null,0,null,0]
["CAUX Frédéric","ALEXANDRE Michel","P",1,2,149,139,"2010-01-29","National T3 ORLEANS","Préqualifs","2009-2010",null,null,null,null,0,null,0]
["CAUX Frédéric","MICHELOTTI Francesco","P",0,2,92,120,"2010-01-29","National T3 ORLEANS","Préqualifs","2009-2010",null,null,null,null,0,null,0]
["CAUX Frédéric","GUIBERT Philippe","P",0,2,81,120,"2010-01-29","National T3 ORLEANS","Préqualifs","2009-2010",null,null,null,null,0,null,0]
["CAUX Frédéric","MASIERO Lorenzo","P",1,2,142,162,"2010-02-20","N1 Ligue T4 DOUAI","Poules","2009-2010",null,null,null,null,0,null,0]
["CAUX Frédéric","HORNAIN Denis","P",1,2,118,152,"2010-02-20","N1 Ligue T4 DOUAI","Poules","2009-2010",null,null,null,null,0,null,0]
["CAUX Frédéric","TRIPLET Gilbert","G",2,1,173,137,"2010-02-20","N1 Ligue T4 DOUAI","Poules Consolante","2009-2010",null,null,null,null,0,null,0]
["CAUX Frédéric","CLYNCKE Jean-Jacques","P",1,2,146,146,"2010-02-20","N1 Ligue T4 DOUAI","Poules Consolante","2009-2010",null,null,null,null,0,null,0]
["CAUX Frédéric","ALEXANDRE Michel","P",1,2,149,139,"2010-01-29","National T3 ORLEANS","Préqualifs","2009-2010",null,null,null,null,0,null,0]
["CAUX Frédéric","MICHELOTTI Francesco","P",0,2,92,120,"2010-01-29","National T3 ORLEANS","Préqualifs","2009-2010",null,null,null,null,0,null,0]
["CAUX Frédéric","GUIBERT Philippe","P",0,2,81,120,"2010-01-29","National T3 ORLEANS","Préqualifs","2009-2010",null,null,null,null,0,null,0]
["CAUX Frédéric","DERIU Georges","P",0,2,104,120,"2010-02-26","National T4 ROUEN","Préqualifs","2009-2010",null,null,null,null,0,null,0]
["CAUX Frédéric","CUL Frédéric","G",2,0,120,80,"2010-02-26","National T4 ROUEN","Préqualifs","2009-2010",null,null,null,null,0,null,0]
["CAUX Frédéric","GUIBERT Philippe","P",1,2,112,158,"2010-02-26","National T4 ROUEN","Préqualifs","2009-2010",null,null,null,null,0,null,0]
["CAUX Frédéric","JACQ Laurent","P",2,3,235,264,"2010-02-27","National T4 ROUEN","Qualifs promotion","2009-2010",null,null,null,null,0,null,0]
["CAUX Frédéric","DERIU Georges","P",1,3,138,210,"2010-02-27","National T4 ROUEN","Qualifs promotion","2009-2010",null,null,null,null,0,null,0]
["CAUX Frédéric","DELEPIERRE Patrick","G",2,1,176,155,"2010-03-26","National T5 ST SEBASTIEN / LOIRE","Préqualifs","2009-2010",null,null,null,null,0,null,0]
["CAUX Frédéric","BLANC J.","G",2,0,120,104,"2010-03-26","National T5 ST SEBASTIEN / LOIRE","Préqualifs","2009-2010",null,null,null,null,0,null,0]
["CAUX Frédéric","ZACCAGNINI Antoine","P",1,2,99,168,"2010-03-26","National T5 ST SEBASTIEN / LOIRE","Préqualifs","2009-2010",null,null,null,null,0,null,0]
["CAUX Frédéric","SAINT-GEORGES Claude","P",0,3,134,180,"2010-03-27","National T5 ST SEBASTIEN / LOIRE","Qualifs promotion","2009-2010",null,null,null,null,0,null,0]
["CAUX Frédéric","GOUTHIER Alain","G",3,1,238,170,"2010-03-27","National T5 ST SEBASTIEN / LOIRE","Qualifs promotion","2009-2010",null,null,null,null,0,null,0]
["CAUX Frédéric","SAINT-GEORGES Claude","P",0,3,80,180,"2010-03-27","National T5 ST SEBASTIEN / LOIRE","Qualifs promotion","2009-2010",null,null,null,null,0,null,0]
["CAUX Frédéric","CLYNCKE Jean-Jacques","G",2,0,120,63,"2010-04-23","National T6 ANDERNOS","Préqualifs","2009-2010",null,null,null,null,0,null,0]
["CAUX Frédéric","J. BLANC","G",2,0,120,92,"2010-04-23","National T6 ANDERNOS","Préqualifs","2009-2010",null,null,null,null,0,null,0]
["CAUX Frédéric","ZACCAGNINI Antoine","P",1,2,114,174,"2010-04-23","National T6 ANDERNOS","Préqualifs","2009-2010",null,null,null,null,0,null,0]
["CAUX Frédéric","FUTERAL Max","G",3,1,208,202,"2010-04-24","National T6 ANDERNOS","Qualifs promotion","2009-2010",null,null,null,null,0,null,0]
["CAUX Frédéric","DERIU Georges","P",1,3,190,228,"2010-04-24","National T6 ANDERNOS","Qualifs promotion","2009-2010",null,null,null,null,0,null,0]
["CAUX Frédéric","FUTERAL Max","P",0,3,142,180,"2010-04-24","National T6 ANDERNOS","Qualifs promotion","2009-2010",null,null,null,null,0,null,0]
["CAUX Frédéric","SACRE Jean-Yves","P",0,2,77,120,"2010-10-07","National T1 CESTAS","Préqualifs","2010-2011",null,null,null,null,0,null,0]
["CAUX Frédéric","EVENOU Marie-Antoinette","G",2,1,164,136,"2010-10-07","National T1 CESTAS","Préqualifs","2010-2011",null,null,null,null,0,null,0]
["CAUX Frédéric","ZACCAGNINI Antoine","P",0,2,48,120,"2010-10-07","National T1 CESTAS","Préqualifs","2010-2011",null,null,null,null,0,null,0]
["CAUX Frédéric","DERIU Georges","P",0,3,126,180,"2010-10-08","National T1 CESTAS","Qualifs promotion","2010-2011",null,null,null,null,0,null,0]
["CAUX Frédéric","MARTEL Jean-Pierre","P",2,3,257,277,"2010-10-08","National T1 CESTAS","Qualifs promotion","2010-2011",null,null,null,null,0,null,0]
["CAUX Frédéric","FAUCOMPREZ Didier","P",1,2,149,175,"2010-10-16","N1 Ligue T1 DOUAI","Poules","2010-2011",null,null,null,null,0,null,0]
["CAUX Frédéric","TURPIN Laurent","G",2,1,146,148,"2010-10-16","N1 Ligue T1 DOUAI","Poules","2010-2011",null,null,null,null,0,null,0]
["CAUX Frédéric","DELSOL Philippe","P",0,2,38,120,"2010-10-16","N1 Ligue T1 DOUAI","1/8 Finale","2010-2011",null,null,null,null,0,null,0]
["CAUX Frédéric","CLYNCKE Jean-Jacques","P",1,2,136,167,"2010-11-13","N1 Ligue T2 FACHES THUMESNIL","Poules","2010-2011",null,null,null,null,0,null,0]
["CAUX Frédéric","LHERMITTE Cédric","P",1,2,163,150,"2010-11-13","N1 Ligue T2 FACHES THUMESNIL","Poules","2010-2011",null,null,null,null,0,null,0]
["CAUX Frédéric","VEREECQUE Ludovic","P",0,2,63,120,"2010-11-13","N1 Ligue T2 FACHES THUMESNIL","Poules Consolante","2010-2011",null,null,null,null,0,null,0]
["CAUX Frédéric","CARPENTIER Yohanne","G",2,1,175,160,"2010-11-13","N1 Ligue T2 FACHES THUMESNIL","Poules Consolante","2010-2011",null,null,null,null,0,null,0]
["CAUX Frédéric","SCHNEIDER Virgile","G",2,1,169,159,"2010-11-05","National T2 LAXOU","Préqualifs","2010-2011",null,null,null,null,0,null,0]
["CAUX Frédéric","DUVERNOY Christophe","P",0,2,36,120,"2010-11-05","National T2 LAXOU","Préqualifs","2010-2011",null,null,null,null,0,null,0]
["CAUX Frédéric","DI PALMA Angelo","P",0,2,70,120,"2010-11-05","National T2 LAXOU","Préqualifs","2010-2011",null,null,null,null,0,null,0]
["CAUX Frédéric","DELATTRE Hervé","G",3,2,255,269,"2010-11-06","National T2 LAXOU","Qualifs promotion","2010-2011",null,null,null,null,0,null,0]
["CAUX Frédéric","JACQ Laurent","P",0,3,119,180,"2010-11-06","National T2 LAXOU","Qualifs promotion","2010-2011",null,null,null,null,0,null,0]
["CAUX Frédéric","SCHNEIDER Virgile","P",1,3,194,231,"2010-11-06","National T2 LAXOU","Qualifs promotion","2010-2011",null,null,null,null,0,null,0]
["CAUX Frédéric","DEVOS Jackie","P",1,2,122,145,"2010-12-11","N1 Ligue T3 GRAVELINES","Poules","2010-2011",null,null,null,null,0,null,0]
["CAUX Frédéric","RACARY Thibault","P",1,2,164,157,"2010-12-11","N1 Ligue T3 GRAVELINES","Poules","2010-2011",null,null,null,null,0,null,0]
["CAUX Frédéric","MONFLIER Francis","G",2,1,168,136,"2010-12-11","N1 Ligue T3 GRAVELINES","Poules Consolante","2010-2011",null,null,null,null,0,null,0]
["CAUX Frédéric","CARPENTIER Yohanne","G",2,1,168,170,"2010-12-11","N1 Ligue T3 GRAVELINES","Poules Consolante","2010-2011",null,null,null,null,0,null,0]
["CAUX Frédéric","DEVOS Jackie","P",1,2,169,146,"2010-12-11","N1 Ligue T3 GRAVELINES","1/2 Finale Consolante","2010-2011",null,null,null,null,0,null,0]
["CAUX Frédéric","SCHNEIDER Virgile","G",2,1,165,135,"2010-12-03","National T3 FACHES THUMESNIL - RONCHIN","Préqualifs","2010-2011",null,null,null,null,0,null,0]
["CAUX Frédéric","DUVERNOY Christophe","P",0,2,75,120,"2010-12-03","National T3 FACHES THUMESNIL - RONCHIN","Préqualifs","2010-2011",null,null,null,null,0,null,0]
["CAUX Frédéric","SACRE Jean-Yves","G",3,0,180,154,"2010-12-04","National T3 FACHES THUMESNIL - RONCHIN","Qualifs promotion","2010-2011",null,null,null,null,0,null,0]
["CAUX Frédéric","RACARY Thibault","P",0,3,103,180,"2010-12-04","National T3 FACHES THUMESNIL - RONCHIN","Qualifs promotion","2010-2011",null,null,null,null,0,null,0]
["CAUX Frédéric","GANGLOFF Jean-Luc","P",1,3,197,238,"2010-12-04","National T3 FACHES THUMESNIL - RONCHIN","Qualifs promotion","2010-2011",null,null,null,null,0,null,0]
["CAUX Frédéric","ZEUDE Alain","G",2,1,156,148,"2011-01-15","N1 Ligue T4 DIVION","Poules","2010-2011",null,null,null,null,0,null,0]
["CAUX Frédéric","SAINT-GEORGES Claude","P",1,2,160,174,"2011-01-15","N1 Ligue T4 DIVION","Poules","2010-2011",null,null,null,null,0,null,0]
["CAUX Frédéric","MAILLE Bernard","P",1,2,128,140,"2011-01-15","N1 Ligue T4 DIVION","Poules Consolante","2010-2011",null,null,null,null,0,null,0]
["CAUX Frédéric","MAILLE Bernard","P",0,2,99,120,"2011-01-15","N1 Ligue T4 DIVION","Poules Consolante","2010-2011",null,null,null,null,0,null,0]
["CAUX Frédéric","SKORDILIS Christo","G",2,1,165,131,"2011-02-11","National T4 ROUEN","Préqualifs","2010-2011",null,null,null,null,0,null,0]
["CAUX Frédéric","MORALES Luis","P",0,2,57,120,"2011-02-11","National T4 ROUEN","Préqualifs","2010-2011",null,null,null,null,{"$f":"IF($K144=P$1,COUNTIF($C144,\"G\"),0)","v":0},null,{"$f":"IF($K144=R$1,COUNTIF($C144,\"G\"),0)","v":0}]
["CAUX Frédéric","BLANC J.","G",2,0,120,98,"2011-02-11","National T4 ROUEN","Préqualifs","2010-2011",null,null,null,null,0,null,0]
["CAUX Frédéric","ZILLIG Pierre","P",0,3,102,180,"2011-02-12","National T4 ROUEN","Qualifs promotion","2010-2011",null,null,null,null,0,null,0]
["CAUX Frédéric","JUBLOT Denis","P",0,3,115,180,"2011-02-12","National T4 ROUEN","Qualifs promotion","2010-2011",null,null,null,null,0,null,0]
["CAUX Frédéric","JACQ Laurent","P",1,2,161,165,"2011-03-25","National T5 BLOIS","Préqualifs","2010-2011",null,null,null,null,0,null,0]
["CAUX Frédéric","LHEUREUX François","P",1,2,171,153,"2011-03-25","National T5 BLOIS","Préqualifs","2010-2011",null,null,null,null,0,null,0]
["CAUX Frédéric","ZACCAGNINI Antoine","P",0,2,28,120,"2011-03-25","National T5 BLOIS","Préqualifs","2010-2011",null,null,null,null,0,null,0]
["CAUX Frédéric","DESPIERRE Yannick","P",1,2,109,172,"2011-04-15","National T6 CHAMPAGNE sur SEINE / NANDY","Préqualifs","2010-2011",null,null,null,null,0,null,0]
["CAUX Frédéric","SCHUB Philippe","G",2,1,151,139,"2011-04-15","National T6 CHAMPAGNE sur SEINE / NANDY","Préqualifs","2010-2011",null,null,null,null,0,null,0]
["CAUX Frédéric","ZACCAGNINI Antoine","P",1,2,146,174,"2011-04-15","National T6 CHAMPAGNE sur SEINE / NANDY","Préqualifs","2010-2011",null,null,null,null,0,null,0]
["CAUX Frédéric","DI PALMA Angelo","P",0,3,89,180,"2011-04-16","National T6 CHAMPAGNE sur SEINE / NANDY","Qualifs promotion","2010-2011",null,null,null,null,0,null,0]
["CAUX Frédéric","GUILLEMANT Jean-Marc","G",3,0,180,167,"2011-04-16","National T6 CHAMPAGNE sur SEINE / NANDY","Qualifs promotion","2010-2011",null,null,null,null,0,null,0]
["CAUX Frédéric","GOUTHIER Alain","G",3,1,238,224,"2011-04-16","National T6 CHAMPAGNE sur SEINE / NANDY","Qualifs promotion","2010-2011",null,null,null,null,0,null,0]
["CAUX Frédéric","WALLART Jean-Charles","G",3,0,180,140,"2011-04-17","National T6 CHAMPAGNE sur SEINE / NANDY","1/8 finale promotion","2010-2011",null,null,null,null,0,null,0]
["CAUX Frédéric","ZILLIG Pierre","P",0,3,157,180,"2011-04-17","National T6 CHAMPAGNE sur SEINE / NANDY","1/4 finale promotion","2010-2011",null,null,null,null,0,null,0]
["CAUX Frédéric","DEVOS Jackie","P",0,2,114,120,"2011-10-15","N1 Ligue T1 DIVION","Poules","2011-2012",null,null,null,null,0,null,0]
["CAUX Frédéric","DELSOL Philippe","P",0,2,47,120,"2011-10-15","N1 Ligue T1 DIVION","Poules","2011-2012",null,null,null,null,0,null,0]
["CAUX Frédéric","LUBREZ Pierre","P",0,1,98,100,"2011-10-15","N1 Ligue T1 DIVION","Poules Consolante","2011-2012",null,null,null,null,0,null,0]
["CAUX Frédéric","POULEYN André","P",0,1,75,100,"2011-10-15","N1 Ligue T1 DIVION","Poules Consolante","2011-2012",null,null,null,null,0,null,0]
["CAUX Frédéric","FONTAINE Isabelle","G",2,0,120,98,"2011-09-30","National T1 CESTAS","Préqualifs","2011-2012",null,null,null,null,0,null,0]
["CAUX Frédéric","PERRIN Eric","P",0,2,68,120,"2011-09-30","National T1 CESTAS","Préqualifs","2011-2012",null,null,null,null,0,null,0]
["CAUX Frédéric","GULDNER Aurelien","G",2,1,168,154,"2011-09-30","National T1 CESTAS","Préqualifs","2011-2012",null,null,null,null,0,null,0]
["CAUX Frédéric","PALOMBA Sergio","P",2,3,220,271,"2011-10-01","National T1 CESTAS","Qualifs promotion","2011-2012",null,null,null,null,0,null,0]
["CAUX Frédéric","KERCRET Geneviève","G",3,0,180,99,"2011-10-01","National T1 CESTAS","Qualifs promotion","2011-2012",null,null,null,null,0,null,0]
["CAUX Frédéric","WALLART Jean-Charles","P",1,3,199,236,"2011-10-01","National T1 CESTAS","Qualifs promotion","2011-2012",null,null,null,null,0,null,0]
["CAUX Frédéric","DEROLEZ Jean-Pierre","G",2,0,120,79,"2011-11-19","N1 Ligue T2 DOUAI","Poules","2011-2012",null,null,null,null,0,null,0]
["CAUX Frédéric","LHERMITTE Cédric","G",2,1,135,164,"2011-11-19","N1 Ligue T2 DOUAI","Poules","2011-2012",null,null,null,null,0,null,0]
["CAUX Frédéric","WALLART Jean-Charles","G",2,1,159,133,"2011-11-19","N1 Ligue T2 DOUAI","1/8 Finale","2011-2012",null,null,null,null,0,null,0]
["CAUX Frédéric","DELSOL Philippe","P",0,2,92,120,"2011-11-19","N1 Ligue T2 DOUAI","1/4 Finale","2011-2012",null,null,null,null,0,null,0]
["CAUX Frédéric","KERCRET Geneviève","G",2,0,120,58,"2011-11-04","National T2 SCHILTIGHEIM","Préqualifs","2011-2012",null,null,null,null,0,null,0]
["CAUX Frédéric","SORTAIS Claude","P",1,2,119,170,"2011-11-04","National T2 SCHILTIGHEIM","Préqualifs","2011-2012",null,null,null,null,0,null,0]
["CAUX Frédéric","DOMINGUEZ Cyrille","G",2,0,120,66,"2011-11-04","National T2 SCHILTIGHEIM","Préqualifs","2011-2012",null,null,null,null,0,null,0]
["CAUX Frédéric","DOMINGUEZ Cyrille","P",1,3,159,227,"2011-11-05","National T2 SCHILTIGHEIM","Qualifs promotion","2011-2012",null,null,null,null,0,null,0]
["CAUX Frédéric","HEIT Lionel","P",0,3,146,180,"2011-11-05","National T2 SCHILTIGHEIM","Qualifs promotion","2011-2012",null,null,null,null,0,null,0]
["CAUX Frédéric","BONNEAU Benoît","P",0,2,98,120,"2011-12-02","National T3 ANNOEULLIN","Préqualifs","2011-2012",null,null,null,null,0,null,0]
["CAUX Frédéric","J BLANC","G",2,0,120,118,"2011-12-02","National T3 ANNOEULLIN","Préqualifs","2011-2012",null,null,null,null,0,null,0]
["CAUX Frédéric","BOUVIER Philippe","P",0,2,59,120,"2011-12-02","National T3 ANNOEULLIN","Préqualifs","2011-2012",null,null,null,null,0,null,0]
["CAUX Frédéric","SACRE Jean-Yves","P",0,3,95,180,"2011-12-03","National T3 ANNOEULLIN","Qualifs promotion","2011-2012",null,null,null,null,0,null,0]
["CAUX Frédéric","LORTHIOIR Jean-Luc","G",3,1,238,200,"2011-12-03","National T3 ANNOEULLIN","Qualifs promotion","2011-2012",null,null,null,null,0,null,0]
["CAUX Frédéric","SORTAIS Claude","P",0,3,78,180,"2011-12-03","National T3 ANNOEULLIN","Qualifs promotion","2011-2012",null,null,null,null,0,null,0]
["CAUX Frédéric","GAUQUIE Serge","G",2,1,149,136,"2012-01-07","N1 Ligue T3 FACHES THUMESNIL","Poules","2011-2012",null,null,null,null,0,null,0]
["CAUX Frédéric","VEREECQUE Ludovic","G",2,0,120,89,"2012-01-07","N1 Ligue T3 FACHES THUMESNIL","Poules","2011-2012",null,null,null,null,0,null,0]
["CAUX Frédéric","GAUQUIE Serge","G",2,0,120,92,"2012-01-07","N1 Ligue T3 FACHES THUMESNIL","1/8 Finale","2011-2012",null,null,null,null,0,null,0]
["CAUX Frédéric","WALLART Jean-Charles","P",1,2,99,165,"2012-01-07","N1 Ligue T3 FACHES THUMESNIL","1/4 Finale","2011-2012",null,null,null,null,0,null,0]
["CAUX Frédéric","ESTERMANS Bernard","G",1,0,100,42,"2012-01-28","N1 Ligue T4 GRAVELINES","Poules Consolante","2011-2012",null,null,null,null,0,null,0]
["CAUX Frédéric","LUBREZ Pierre","G",1,0,100,68,"2012-01-28","N1 Ligue T4 GRAVELINES","Poules Consolante","2011-2012",null,null,null,null,0,null,0]
["CAUX Frédéric","DEROLEZ Jean-Pierre","G",1,0,100,91,"2012-01-28","N1 Ligue T4 GRAVELINES","Finale Consolante","2011-2012",null,null,null,null,0,null,0]
["CAUX Frédéric","CARPENTIER Yohanne","P",1,2,158,160,"2012-01-28","N1 Ligue T4 GRAVELINES","Poules","2011-2012",null,null,null,null,0,null,0]
["CAUX Frédéric","CARPENTIER Yohanne","G",2,1,176,150,"2012-01-28","N1 Ligue T4 GRAVELINES","Poules","2011-2012",null,null,null,null,0,null,0]
["CAUX Frédéric","VEREECQUE Ludovic","P",1,2,136,144,"2012-01-28","N1 Ligue T4 GRAVELINES","1/8 Finale","2011-2012",null,null,null,null,0,null,0]
["CAUX Frédéric","LHEUREUX François","P",0,2,88,120,"2012-02-17","National T4 ORLEANS","Préqualifs","2011-2012",null,null,null,null,0,null,0]
["CAUX Frédéric","SALAUN Michel","G",2,0,120,73,"2012-02-17","National T4 ORLEANS","Préqualifs","2011-2012",null,null,null,null,0,null,0]
["CAUX Frédéric","SORTAIS Claude","P",1,2,103,173,"2012-02-17","National T4 ORLEANS","Préqualifs","2011-2012",null,null,null,null,0,null,0]
["CAUX Frédéric","PERRIN Eric","P",0,3,145,180,"2012-02-18","National T4 ORLEANS","Qualifs promotion","2011-2012",null,null,null,null,0,null,0]
["CAUX Frédéric","LANUSSE Christophe","G",3,1,215,199,"2012-02-18","National T4 ORLEANS","Qualifs promotion","2011-2012",null,null,null,null,0,null,0]
["CAUX Frédéric","BOUVIER Philippe","P",1,3,214,217,"2012-02-18","National T4 ORLEANS","Qualifs promotion","2011-2012",null,null,null,null,0,null,0]
["CAUX Frédéric","SACRE Jean-Yves","G",2,1,153,143,"2012-03-16","National T5 L HAY LES ROSES","Préqualifs","2011-2012",null,null,null,null,0,null,0]
["CAUX Frédéric","BILLIARD Alain","P",0,2,96,120,"2012-03-16","National T5 L HAY LES ROSES","Préqualifs","2011-2012",null,null,null,null,0,null,0]
["CAUX Frédéric","DI PALMA Angelo","P",0,2,36,120,"2012-03-16","National T5 L HAY LES ROSES","Préqualifs","2011-2012",null,null,null,null,0,null,0]
["CAUX Frédéric","DECONINCK Franky","P",0,1,57,100,"2012-10-13","N1 Ligue T1 ANNOEULLIN","Poules Consolante","2012-2013",null,null,null,null,0,null,0]
["CAUX Frédéric","LORTHIOIR Jean-Luc","P",0,1,99,100,"2012-10-13","N1 Ligue T1 ANNOEULLIN","Poules Consolante","2012-2013",null,null,null,null,0,null,0]
["CAUX Frédéric","CAUX Grégory","P",0,2,83,120,"2012-10-13","N1 Ligue T1 ANNOEULLIN","Poules","2012-2013",null,null,null,null,0,null,0]
["CAUX Frédéric","SAINT-GEORGES Claude","P",0,2,82,120,"2012-10-13","N1 Ligue T1 ANNOEULLIN","Poules","2012-2013",null,null,null,null,0,null,0]
["CAUX Frédéric","LORTHIOIR Jean-Luc","G",2,0,120,100,"2012-10-27","N1 Ligue T2 BRUAY sur ESCAUT","Poules","2012-2013",null,null,null,null,0,null,0]
["CAUX Frédéric","DELSOL Philippe","P",0,2,58,120,"2012-10-27","N1 Ligue T2 BRUAY sur ESCAUT","Poules","2012-2013",null,null,null,null,0,null,0]
["CAUX Frédéric","LORTHIOIR Jean-Luc","G",1,0,100,68,"2012-10-27","N1 Ligue T2 BRUAY / ESCAUT","Poules Consolante","2012-2013",null,null,null,null,0,null,0]
["CAUX Frédéric","FLEURANT Richard","P",0,1,78,100,"2012-10-27","N1 Ligue T2 BRUAY / ESCAUT","Poules Consolante","2012-2013",null,null,null,null,0,null,0]
["CAUX Frédéric","MANTEN Paul","G",2,0,120,66,"2012-11-24","N1 Ligue T3 CALAIS","Poules","2012-2013",null,null,null,null,0,null,0]
["CAUX Frédéric","LHERMITTE Cédric","P",0,2,62,120,"2012-11-24","N1 Ligue T3 CALAIS","Poules","2012-2013",null,null,null,null,0,null,0]
["CAUX Frédéric","RACARY Thibault","P",0,2,56,120,"2012-11-24","N1 Ligue T3 CALAIS","1/8 Finale","2012-2013",null,null,null,null,0,null,0]
["CAUX Frédéric","POULEYN André","G",2,1,146,125,"2012-12-15","N1 Ligue T4 VILLENEUVE D'ASCQ","Poules","2012-2013",null,null,null,null,0,null,0]
["CAUX Frédéric","DELSOL Philippe","P",0,2,69,120,"2012-12-15","N1 Ligue T4 VILLENEUVE D'ASCQ","Poules","2012-2013",null,null,null,null,0,null,0]
["CAUX Frédéric","MAILLE Bernard","P",0,2,27,120,"2012-12-15","N1 Ligue T4 VILLENEUVE D'ASCQ","1/4 Finale","2012-2013",null,null,null,null,0,null,0]
["CAUX Frédéric","DESROSES Fabrice","G",2,1,144,105,"2012-10-05","National T1 BLOIS","Préqualifs","2012-2013",null,null,null,null,0,null,0]
["CAUX Frédéric","FOURRE Cédric","P",1,3,148,154,"2012-10-06","National T1 BLOIS","Qualifs promotion","2012-2013",null,null,null,null,0,null,0]
["CAUX Frédéric","LEGRAND Guy","P",0,3,117,150,"2012-10-06","National T1 BLOIS","Qualifs promotion","2012-2013",null,null,null,null,0,null,0]
["CAUX Frédéric","PICOT Sylvain","P",0,2,85,100,"2012-10-05","National T1 BLOIS","Préqualifs","2012-2013",null,null,null,null,0,null,0]
["CAUX Frédéric","SACRE Jean-Yves","P",0,2,48,100,"2012-10-05","National T1 BLOIS","Préqualifs","2012-2013",null,null,null,null,0,null,0]
["CAUX Frédéric","DUROYON Didier","P",2,3,169,221,"2013-02-03","National T4 ROUEN","1/8 finale promotion","2012-2013",null,null,null,null,0,null,0]
["CAUX Frédéric","FAUCOMPREZ Didier","P",0,2,67,100,"2013-02-01","National T4 ROUEN","Préqualifs","2012-2013",null,null,null,null,0,null,0]
["CAUX Frédéric","FOURRE Cédric","P",0,2,51,115,"2013-02-01","National T4 ROUEN","Préqualifs","2012-2013",null,null,null,null,0,null,0]
["CAUX Frédéric","IQUI Jean-Franck","G",3,0,150,132,"2013-02-02","National T4 ROUEN","Qualifs promotion","2012-2013",null,null,null,null,0,null,0]
["CAUX Frédéric","KERCRET Geneviève","G",2,0,100,65,"2013-02-01","National T4 ROUEN","Préqualifs","2012-2013",null,null,null,null,0,null,0]
["CAUX Frédéric","MAILLE Bernard","G",3,1,175,143,"2013-02-02","National T4 ROUEN","Qualifs promotion","2012-2013",null,null,null,null,0,null,0]
["CAUX Frédéric","PALOMBA Sergio","P",2,3,188,230,"2013-02-02","National T4 ROUEN","Qualifs promotion","2012-2013",null,null,null,null,0,null,0]
["CAUX Frédéric","BILLIARD Alain","P",0,2,75,100,"2013-03-08","National T5 LAXOU","Préqualifs","2012-2013",null,null,null,null,0,null,0]
["CAUX Frédéric","DENOMME Roger","G",2,0,100,37,"2013-03-08","National T5 LAXOU","Préqualifs","2012-2013",null,null,null,null,0,null,0]
["CAUX Frédéric","LHEUREUX François","P",0,3,113,150,"2013-03-09","National T5 LAXOU","Qualifs promotion","2012-2013",null,null,null,null,0,null,0]
["CAUX Frédéric","TRIFAULT Amand","P",0,2,66,100,"2013-03-08","National T5 LAXOU","Préqualifs","2012-2013",null,null,null,null,0,null,0]
["CAUX Frédéric","WALLART Jean-Charles","P",0,3,60,150,"2013-03-09","National T5 LAXOU","Qualifs promotion","2012-2013",null,null,null,null,0,null,0]
["CAUX Frédéric","LHERMITTE Cédric","P",0,2,70,120,"2014-01-04","N1 Ligue T1 ANNOEULLIN","Poules","2013-2014",null,null,null,null,0,null,0]
["CAUX Frédéric","LHERMITTE Cédric","P",0,2,80,120,"2014-01-04","N1 Ligue T1 ANNOEULLIN","Poules","2013-2014",null,null,null,null,0,null,0]
["CAUX Frédéric","HERREBRECHT Thierry","P",0,2,71,120,"2014-01-04","N1 Ligue T1 ANNOEULLIN","1/8 Finale","2013-2014",null,null,null,null,0,null,0]
["CAUX Frédéric","HOCHART James","G",2,0,120,65,"2014-03-15","N1 Ligue T2 FACHES THUMESNIL","Poules","2013-2014",null,null,null,null,0,null,0]
["CAUX Frédéric","LHERMITTE Cédric","P",0,2,50,120,"2014-03-15","N1 Ligue T2 FACHES THUMESNIL","Poules","2013-2014",null,null,null,null,0,null,0]
["CAUX Frédéric","LHERMITTE Cédric","G",2,1,151,169,"2014-03-15","N1 Ligue T2 FACHES THUMESNIL","1/4 Finale","2013-2014",null,null,null,null,0,null,0]
["CAUX Frédéric","WALLART Jean-Charles","P",1,2,137,172,"2014-03-15","N1 Ligue T2 FACHES THUMESNIL","1/2 Finale","2013-2014",null,null,null,null,0,null,0]
["CAUX Frédéric","ZACCAGNINI Antoine","P",1,2,151,135,"2014-11-28","National T2 FACHES THUMESNIL - RONCHIN","Préqualifs","2014-2015",null,null,null,null,0,null,0]
["CAUX Frédéric","LACROIX Sabine","G",2,0,120,79,"2014-11-28","National T2 FACHES THUMESNIL - RONCHIN","Préqualifs","2014-2015",null,null,null,null,1,null,0]
["CAUX Frédéric","VICARI Marc","P",0,2,58,120,"2014-11-28","National T2 FACHES THUMESNIL - RONCHIN","Préqualifs","2014-2015",null,null,null,null,0,null,0]
["CAUX Frédéric","SAINT-GEORGES Claude","G",3,2,258,235,"2014-11-29","National T2 FACHES THUMESNIL - RONCHIN","Qualifs promotion","2014-2015",null,null,null,null,1,null,0]
["CAUX Frédéric","LEBOEUF Sylvain","P",2,3,247,253,"2014-11-29","National T2 FACHES THUMESNIL - RONCHIN","Qualifs promotion","2014-2015",null,null,null,null,0,null,0]
["CAUX Frédéric","LORTHIOIR Jean-Luc","G",3,1,229,174,"2014-11-29","National T2 FACHES THUMESNIL - RONCHIN","Qualifs promotion","2014-2015",null,null,null,null,1,null,0]
["CAUX Frédéric","MAILLE Bernard","G",3,2,284,252,"2014-11-30","National T2 FACHES THUMESNIL - RONCHIN","1/8 finale promotion","2014-2015",null,null,null,null,1,null,0]
["CAUX Frédéric","PALOMBA Sergio","P",0,3,112,180,"2014-11-30","National T2 FACHES THUMESNIL - RONCHIN","1/4 finale promotion","2014-2015",null,null,null,null,0,null,0]
["CAUX Frédéric","WEBER Thierry","P",1,2,155,133,"2014-12-12","National T3 DOUARNENEZ","Préqualifs","2014-2015",null,null,null,null,0,null,0]
["CAUX Frédéric","BOUVIER Philippe","P",0,2,60,120,"2014-12-12","National T3 DOUARNENEZ","Préqualifs","2014-2015",null,null,null,null,0,null,0]
["CAUX Frédéric","TREAL David","P",0,2,88,120,"2014-12-12","National T3 DOUARNENEZ","Préqualifs","2014-2015",null,null,null,null,0,null,0]
["CAUX Frédéric","ZACCAGNINI Antoine","P",1,3,165,219,"2014-12-13","National T3 DOUARNENEZ","Qualifs promotion","2014-2015",null,null,null,null,0,null,0]
["CAUX Frédéric","POULEYN André","P",2,3,223,235,"2014-12-13","National T3 DOUARNENEZ","Qualifs promotion","2014-2015",null,null,null,null,0,null,0]
["CAUX Frédéric","GANGLOFF Jean-Luc","P",0,2,17,120,"2015-01-23","National T4 LAXOU","Préqualifs","2014-2015",null,null,null,null,0,null,0]
["CAUX Frédéric","SAINT-GEORGES Claude","P",0,2,80,120,"2015-01-23","National T4 LAXOU","Préqualifs","2014-2015",null,null,null,null,0,null,0]
["CAUX Frédéric","PIERRAT Didier","G",2,0,120,63,"2015-01-23","National T4 LAXOU","Préqualifs","2014-2015",null,null,null,null,1,null,0]
["CAUX Frédéric","WALLART Jean-Charles","P",0,3,112,180,"2015-01-24","National T4 LAXOU","Qualifs promotion","2014-2015",null,null,null,null,0,null,0]
["CAUX Frédéric","ALEXANDRE Michel","G",3,0,180,110,"2015-01-24","National T4 LAXOU","Qualifs promotion","2014-2015",null,null,null,null,1,null,0]
["CAUX Frédéric","GANGLOFF Jean-Luc","G",3,1,228,199,"2015-01-24","National T4 LAXOU","Qualifs promotion","2014-2015",null,null,null,null,1,null,0]
["CAUX Frédéric","VICARI Marc","P",0,3,124,180,"2015-01-25","National T4 LAXOU","1/8 finale promotion","2014-2015",null,null,null,null,0,null,0]
["CAUX Frédéric","ESTERMANS Bernard","G",1,0,100,66,"2015-01-17","N1 Ligue T1 DUNKERQUE","Poules Consolante","2014-2015",null,null,null,null,1,null,0]
["CAUX Frédéric","ESTERMANS Bernard","G",1,0,100,87,"2015-01-17","N1 Ligue T1 DUNKERQUE","Poules Consolante","2014-2015",null,null,null,null,1,null,0]
["CAUX Frédéric","WALLART Jean-charles","P",0,1,37,100,"2015-01-17","N1 Ligue T1 DUNKERQUE","1/2 finale Consolante","2014-2015",null,null,null,null,0,null,0]
["CAUX Frédéric","TRIPLET Gilbert","P",0,2,69,120,"2015-01-17","N1 Ligue T1 DUNKERQUE","Poules","2014-2015",null,null,null,null,0,null,0]
["CAUX Frédéric","GEETS Patrice","G",2,1,133,167,"2015-01-17","N1 Ligue T1 DUNKERQUE","Poules","2014-2015",null,null,null,null,1,null,0]
["CAUX Frédéric","DEVOS Jackie","P",0,2,90,120,"2015-01-17","N1 Ligue T1 DUNKERQUE","1/8 Finale","2014-2015",null,null,null,null,0,null,0]
["CAUX Frédéric","TRIPLET Gilbert","G",1,0,100,56,"2015-02-07","N1 Ligue T2 CALAIS","Poules Consolante","2014-2015",null,null,null,null,1,null,0]
["CAUX Frédéric","LORTHIOIR Jean-Luc","P",0,1,90,100,"2015-02-07","N1 Ligue T2 CALAIS","Poules Consolante","2014-2015",null,null,null,null,0,null,0]
["CAUX Frédéric","LORTHIOIR Jean-Luc","G",1,0,100,84,"2015-02-07","N1 Ligue T2 CALAIS","1/2 finale Consolante","2014-2015",null,null,null,null,1,null,0]
["CAUX Frédéric","POULEYN andré","G",1,0,100,68,"2015-02-07","N1 Ligue T2 CALAIS","Finale Consolante","2014-2015",null,null,null,null,1,null,0]
["CAUX Frédéric","TRIPLET Gilbert","G",2,0,120,62,"2015-02-07","N1 Ligue T2 CALAIS","Poules","2014-2015",null,null,null,null,1,null,0]
["CAUX Frédéric","DECONINCK Franky","P",0,2,89,120,"2015-02-07","N1 Ligue T2 CALAIS","Poules","2014-2015",null,null,null,null,0,null,0]
["CAUX Frédéric","VERHAGHE Dominique","P",0,2,101,120,"2015-02-07","N1 Ligue T2 CALAIS","1/8 Finale","2014-2015",null,null,null,null,0,null,0]
["CAUX Frédéric","LORTHIOIR Jean-Luc","G",2,0,120,76,"2015-03-14","N1 Ligue T3 ANNOEULLIN","Poules","2014-2015",null,null,null,null,1,null,0]
["CAUX Frédéric","DEROLEZ Jean-pierre","G",2,0,120,93,"2015-03-14","N1 Ligue T3 ANNOEULLIN","Poules","2014-2015",null,null,null,null,1,null,0]
["CAUX Frédéric","POULEYN André","P",1,2,112,165,"2015-03-14","N1 Ligue T3 ANNOEULLIN","1/4 Finale","2014-2015",null,null,null,null,0,null,0]
["CAUX Frédéric","PERRIN Eric","P",0,2,45,120,"2015-10-09","National T1 ROUEN","Préqualifs","2015-2016",null,null,null,null,0,null,0]
["CAUX Frédéric","MICHELOTTI Francesco","P",0,2,107,120,"2015-10-09","National T1 ROUEN","Préqualifs","2015-2016",null,null,null,null,0,null,0]
["CAUX Frédéric","REBELO Joaquim","P",0,2,98,120,"2015-10-09","National T1 ROUEN","Préqualifs","2015-2016",null,null,null,null,0,null,0]
["CAUX Frédéric","MAILLE Bernard","P",1,2,148,166,"2015-11-13","National T2 DOUARNENEZ","Préqualifs","2015-2016",null,null,null,null,0,null,0]
["CAUX Frédéric","EVENOU Marie-Antoinette","G",2,1,175,139,"2015-11-13","National T2 DOUARNENEZ","Préqualifs","2015-2016",null,null,null,null,0,null,1]
["CAUX Frédéric","LANUSSE Christophe","P",0,2,73,120,"2015-11-13","National T2 DOUARNENEZ","Préqualifs","2015-2016",null,null,null,null,0,null,0]
["CAUX Frédéric","WALLART Jean-Charles","P",1,3,170,238,"2015-11-14","National T2 DOUARNENEZ","Qualifs promotion","2015-2016",null,null,null,null,0,null,0]
["CAUX Frédéric","JACQ Laurent","P",1,3,155,235,"2015-11-14","National T2 DOUARNENEZ","Qualifs promotion","2015-2016",null,null,null,null,0,null,0]
["CAUX Frédéric","MORMICHE Michel","G",2,0,120,110,"2015-12-11","National T3 FACHES THUMESNIL - RONCHIN","Préqualifs","2015-2016",null,null,null,null,0,null,1]
["CAUX Frédéric","CHARLES Dominique","P",0,2,53,120,"2015-12-11","National T3 FACHES THUMESNIL - RONCHIN","Préqualifs","2015-2016",null,null,null,null,0,null,0]
["CAUX Frédéric","SORTAIS Claude","P",0,2,23,120,"2015-12-11","National T3 FACHES THUMESNIL - RONCHIN","Préqualifs","2015-2016",null,null,null,null,0,null,0]
["CAUX Frédéric","GHEVART Jean","P",0,1,98,100,"2015-12-05","CONSOLANTE T1 LIGUE 5 QUILLES N1 - FACHES-THUMESNIL","Poules","2015-2016",null,null,null,null,0,null,0]
["CAUX Frédéric","KERKHOF Hervé","G",1,0,100,57,"2015-12-05","CONSOLANTE T1 LIGUE 5 QUILLES N1 - FACHES-THUMESNIL","Poules","2015-2016",null,null,null,null,0,null,1]
["CAUX Frédéric","POULEYN André","P",0,1,67,100,"2015-12-05","CONSOLANTE T1 LIGUE 5 QUILLES N1 - FACHES-THUMESNIL","1/2 Finale","2015-2016",null,null,null,null,0,null,0]
["CAUX Frédéric","KERKHOF Hervé","P",1,2,150,179,"2015-12-04","T1 LIGUE 5 QUILLES N1 - FACHES-THUMESNIL","Poules","2015-2016",null,null,null,null,0,null,0]
["CAUX Frédéric","LEMÂTRE Alexis","P",1,2,134,163,"2015-12-04","T1 LIGUE 5 QUILLES N1 - FACHES-THUMESNIL","Poules","2015-2016",null,null,null,null,0,null,0]
["CAUX Frédéric","WALLART Jean-Charles","P",0,1,55,100,"2016-01-09","CONSOLANTE  T2 LIGUE 5 QUILLES N1 - GRAVELINES","Qualifications","2015-2016",null,null,null,null,0,null,0]
["CAUX Frédéric","WALLART Jean-Charles","P",0,1,80,100,"2016-01-09","CONSOLANTE  T2 LIGUE 5 QUILLES N1 - GRAVELINES","Qualifications","2015-2016",null,null,null,null,0,null,0]
["CAUX Frédéric","LECROART Serge","P",0,2,68,120,"2016-01-09","T2  LIGUE 5 QUILLES N1 - GRAVELINES","Qualifications","2015-2016",null,null,null,null,0,null,0]
["CAUX Frédéric","DELSOL Philippe","G",2,1,169,148,"2016-01-09","T2  LIGUE 5 QUILLES N1 - GRAVELINES","Qualifications","2015-2016",null,null,null,null,0,null,1]
["CAUX Frédéric","DEROLEZ Jean-Pierre","P",0,1,92,100,"2016-01-23","CONSOLANTE T3 - ANNOEULLIN","Qualifications","2015-2016",null,null,null,null,0,null,0]
["CAUX Frédéric","DEROLEZ Jean-Pierre","P",0,1,33,100,"2016-01-23","CONSOLANTE T3 - ANNOEULLIN","1/2 Finale","2015-2016",null,null,null,null,0,null,0]
["CAUX Frédéric","LECROART Serge","P",0,1,83,100,"2016-01-23","CONSOLANTE T3 - ANNOEULLIN","Qualifications","2015-2016",null,null,null,null,0,null,0]
["CAUX Frédéric","LORTHIOIR Jean-Luc","P",0,1,99,100,"2016-01-23","CONSOLANTE T3 - ANNOEULLIN","Qualifications","2015-2016",null,null,null,null,0,null,0]
["CAUX Frédéric","LECROART Serge","G",2,1,159,122,"2016-01-23","T3 Ligue 5 Quilles N1 - ANNOEULLIN","Qualifications","2015-2016",null,null,null,null,0,null,1]
["CAUX Frédéric","LEMÂTRE Jérémy","P",0,2,58,120,"2016-01-23","T3 Ligue 5 Quilles N1 - ANNOEULLIN","Qualifications","2015-2016",null,null,null,null,0,null,0]
["Fin des données",null,null,null,null,null,null,null,null,null,"",null,null,null,null,0,null,0]

{"sheet":"CAUX Grégory","index":9,"n_rows":51,"n_cols":22,"rows_kept":51,"cut":false,"hidden":false,"merged":[]}
["CAUX Grégory",null,null,null,null,null,null,null,null,null,null,null,null,null,null,{"$f":"Récapitulatif!$B$2","v":"2014-2015"},null,{"$f":"Récapitulatif!$B$3","v":"2015-2016"},null,"Toutes saisons"]
[{"$error":"#N/A"},null,null,null,null,null,null,null,null,null,null,null,null,null,null,"Nombre","%age","Nombre","%age","Nombre","%age"]
[{"$error":"#N/A"},null,null,null,null,null,null,null,null,null,null,null,null,"Matchs","Gagnés",{"$f":"SUM(P$15:P$51)","v":4},{"$f":"IF(P$3+P$4>0,P3/(P$3+P$4),\"\")","v":0.5714285714285714},{"$f":"SUM(R$15:R$51)","v":0},{"$f":"IF(R$3+R$4>0,R3/(R$3+R$4),\"\")","v":""},{"$f":"COUNTIF($C$15:$C$51,\"G\")","v":17},{"$f":"IF(T$3+T$4>0,T3/(T$3+T$4),\"\")","v":0.48571428571428571}]
[{"$error":"#N/A"},null,null,null,null,null,null,null,null,null,null,null,null,null,"Perdus",{"$f":"COUNTIF($K$15:$K$51,Récapitulatif!$B$2)-P3","v":3},{"$f":"IF(P$3+P$4>0,P4/(P$3+P$4),\"\")","v":0.42857142857142855},{"$f":"COUNTIF($K$15:$K$51,Récapitulatif!$B$3)-R3","v":0},{"$f":"IF(R$3+R$4>0,R4/(R$3+R$4),\"\")","v":""},{"$f":"COUNTIF($C$15:$C$51,\"P\")","v":18},{"$f":"IF(T$3+T$4>0,T4/(T$3+T$4),\"\")","v":0.51428571428571423}]
[{"$error":"#N/A"},null,null,null,null,null,null,null,null,null,null,null,null,null,"Total / Moy.",{"$f":"SUM(P3:P4)","v":7},{"$f":"IF(SUMIF($K$15:$K$51,Récapitulatif!$B$2,$G$15:$G$51)>0,SUMIF($K$15:$K$51,Récapitulatif!$B$2,$F$15:$F$51)/SUMIF($K$15:$K$51,Récapitulatif!$B$2,$G$15:$G$51),\"\")","v":0.86726659167604048},{"$f":"SUM(R3:R4)","v":0},{"$f":"IF(SUMIF($K$15:$K$51,Récapitulatif!$B$3,$G$15:$G$51)>0,SUMIF($K$15:$K$51,Récapitulatif!$B$3,$F$15:$F$51)/SUMIF($K$15:$K$51,Récapitulatif!$B$3,$G$15:$G$51),\"\")","v":""},{"$f":"SUM(T3:T4)","v":35},{"$f":"IF(SUM($G$15:$G$51)>0,SUM($F$15:$F$51)/SUM($G$15:$G$51),\"\")","v":0.93448428508189463},{"$f":"IF(SUMIF($K$15:$K$51,Récapitulatif!$B$2,$G$15:$G$51)+SUMIF($K$15:$K$51,Récapitulatif!$B$3,$G$15:$G$51)>0,(SUMIF($K$15:$K$51,Récapitulatif!$B$2,$F$15:$F$51)+SUMIF($K$15:$K$51,Récapitulatif!$B$3,$F$15:$F$51))/(SUMIF($K$15:$K$51,Récapitulatif!$B$2,$G$15:$G$51)+SUMIF($K$15:$K$51,Récapitulatif!$B$3,$G$15:$G$51)),\"\")","v":0.86726659167604048}]
[null,null,null,null,null,null,null,null,null,null,null,null,null,"Sets","Gagnés",{"$f":"SUMIF($K$15:$K$51,Récapitulatif!$B$2,$D$15:$D$51)","v":8},{"$f":"IF(P$6+P$7>0,P6/(P$6+P$7),\"\")","v":0.47058823529411764},{"$f":"SUMIF($K$15:$K$51,Récapitulatif!$B$3,$D$15:$D$51)","v":0},{"$f":"IF(R$6+R$7>0,R6/(R$6+R$7),\"\")","v":""},{"$f":"SUM($D$15:$D$51)","v":41},{"$f":"IF(T$6+T$7>0,T6/(T$6+T$7),\"\")","v":0.47674418604651164}]
[null,null,null,null,null,null,null,null,null,null,null,null,null,null,"Perdus",{"$f":"SUMIF($K$15:$K$51,Récapitulatif!$B$2,$E$15:$E$51)","v":9},{"$f":"IF(P$6+P$7>0,P7/(P$6+P$7),\"\")","v":0.52941176470588236},{"$f":"SUMIF($K$15:$K$51,Récapitulatif!$B$3,$E$15:$E$51)","v":0},{"$f":"IF(R$6+R$7>0,R7/(R$6+R$7),\"\")","v":""},{"$f":"SUM($E$15:$E$51)","v":45},{"$f":"IF(T$6+T$7>0,T7/(T$6+T$7),\"\")","v":0.52325581395348841}]
["Récapitulatif joueurs",null,null,null,null,null,null,null,null,null,null,null,null,null,"Total",{"$f":"SUM(P6:P7)","v":17},null,{"$f":"SUM(R6:R7)","v":0},null,{"$f":"SUM(T6:T7)","v":86}]
[]
[]
[]
[]
[]
[]
["Joueur","Adversaire","G/P","Sets gagnés","Sets perdus","pts marqués","pts subis","Date","Compétition","Phase","Saison"]
["CAUX Grégory","CAUX Frédéric","G",2,0,120,83,"2012-10-13","N1 Ligue T1 ANNOEULLIN","Poules",{"$f":"IF(H16<>\"\",IF(MONTH(H16)>MoisRef,YEAR(H16)&\"-\"&YEAR(H16)+1,YEAR(H16)-1&\"-\"&YEAR(H16)),\"\")","v":"2012-2013"},null,null,null,null,{"$f":"IF($K16=P$1,COUNTIF($C16,\"G\"),0)","v":0},null,{"$f":"IF($K16=R$1,COUNTIF($C16,\"G\"),0)","v":0}]
["CAUX Grégory","SAINT-GEORGES Claude","P",1,2,126,135,"2012-10-13","N1 Ligue T1 ANNOEULLIN","Poules","2012-2013",null,null,null,null,0,null,0]
["CAUX Grégory","LHERMITTE Cédric","G",2,1,176,162,"2012-10-13","N1 Ligue T1 ANNOEULLIN","1/8 Finale","2012-2013",null,null,null,null,0,null,0]
["CAUX Grégory","TURPIN Laurent","P",1,2,144,166,"2012-10-13","N1 Ligue T1 ANNOEULLIN","1/4 Finale","2012-2013",null,null,null,null,0,null,0]
["CAUX Grégory","VEREECQUE Ludovic","G",2,0,120,109,"2012-10-27","N1 Ligue T2 BRUAY sur ESCAUT","Poules","2012-2013",null,null,null,null,0,null,0]
["CAUX Grégory","VEREECQUE Ludovic","P",1,2,135,162,"2012-10-27","N1 Ligue T2 BRUAY sur ESCAUT","Poules","2012-2013",null,null,null,null,0,null,0]
["CAUX Grégory","TURPIN Laurent","P",0,2,86,120,"2012-10-27","N1 Ligue T2 BRUAY sur ESCAUT","1/4 Finale","2012-2013",null,null,null,null,0,null,0]
["CAUX Grégory","RENAUX Damien","P",1,2,140,173,"2012-11-24","N1 Ligue T3 CALAIS","Poules","2012-2013",null,null,null,null,0,null,0]
["CAUX Grégory","POULEYN André","G",2,0,120,88,"2012-11-24","N1 Ligue T3 CALAIS","Poules","2012-2013",null,null,null,null,0,null,0]
["CAUX Grégory","DEVOS Jackie","P",1,2,149,158,"2012-11-24","N1 Ligue T3 CALAIS","1/8 Finale","2012-2013",null,null,null,null,0,null,0]
["CAUX Grégory","LEMÂTRE Jérémy","P",1,2,144,177,"2012-12-15","N1 Ligue T4 VILLENEUVE D'ASCQ","Poules","2012-2013",null,null,null,null,0,null,0]
["CAUX Grégory","TURPIN Laurent","G",2,0,120,59,"2012-12-15","N1 Ligue T4 VILLENEUVE D'ASCQ","Poules","2012-2013",null,null,null,null,0,null,0]
["CAUX Grégory","GEETS Patrice","P",1,2,161,175,"2012-12-15","N1 Ligue T4 VILLENEUVE D'ASCQ","1/4 Finale","2012-2013",null,null,null,null,0,null,0]
["CAUX Grégory","DEROLEZ Jean-Pierre","P",0,2,74,120,"2014-01-04","N1 Ligue T1 ANNOEULLIN","Poules","2013-2014",null,null,null,null,0,null,0]
["CAUX Grégory","DEROLEZ Jean-Pierre","G",2,1,175,161,"2014-01-04","N1 Ligue T1 ANNOEULLIN","Poules","2013-2014",null,null,null,null,0,null,0]
["CAUX Grégory","DELSOL Philippe","G",2,0,120,63,"2014-01-04","N1 Ligue T1 ANNOEULLIN","1/8 Finale","2013-2014",null,null,null,null,0,null,0]
["CAUX Grégory","TURPIN Laurent","G",2,1,158,159,"2014-01-04","N1 Ligue T1 ANNOEULLIN","1/4 Finale","2013-2014",null,null,null,null,0,null,0]
["CAUX Grégory","SAINT-GEORGES Claude","P",0,2,73,120,"2014-01-04","N1 Ligue T1 ANNOEULLIN","1/2 Finale","2013-2014",null,null,null,null,0,null,0]
["CAUX Grégory","LUBREZ Pierre","G",2,1,171,149,"2014-03-15","N1 Ligue T2 FACHES THUMESNIL","Poules","2013-2014",null,null,null,null,0,null,0]
["CAUX Grégory","LORTHIOIR Jean-Luc","G",2,0,120,82,"2014-03-15","N1 Ligue T2 FACHES THUMESNIL","Poules","2013-2014",null,null,null,null,0,null,0]
["CAUX Grégory","WALLART Jean-Charles","P",0,2,36,120,"2014-03-15","N1 Ligue T2 FACHES THUMESNIL","1/4 Finale","2013-2014",null,null,null,null,0,null,0]
["CAUX Grégory","PARISIS Francis","G",2,0,120,62,"2014-04-05","N1 Ligue T3 GRAVELINES","Poules","2013-2014",null,null,null,null,0,null,0]
["CAUX Grégory","HERREBRECHT Erian","G",2,1,150,138,"2014-04-05","N1 Ligue T3 GRAVELINES","Poules","2013-2014",null,null,null,null,0,null,0]
["CAUX Grégory","LUBREZ Pierre","P",1,2,138,152,"2014-04-05","N1 Ligue T3 GRAVELINES","1/8 Finale","2013-2014",null,null,null,null,0,null,0]
["CAUX Grégory","WALLART Jean-Charles","P",0,3,111,180,"2014-05-18","Finale Ligue N1 CALAIS","Poules","2013-2014",null,null,null,null,0,null,0]
["CAUX Grégory","DELSOL Philippe","P",0,3,117,180,"2014-05-18","Finale Ligue N1 CALAIS","Poules","2013-2014",null,null,null,null,0,null,0]
["CAUX Grégory","MONFLIER Francis","G",1,0,100,76,"2014-04-05","N1 Ligue T3 GRAVELINES","Poules Consolante","2013-2014",null,null,null,null,0,null,0]
["CAUX Grégory","HERREBRECHT Thierry","P",0,1,47,100,"2014-04-05","N1 Ligue T3 GRAVELINES","Poules Consolante","2013-2014",null,null,null,null,0,null,0]
["CAUX Grégory","MANTEN Paul","G",2,1,142,147,"2015-01-17","N1 Ligue T1 DUNKERQUE","Poules","2014-2015",null,null,null,null,1,null,0]
["CAUX Grégory","LUBREZ Pierre","G",2,0,120,97,"2015-01-17","N1 Ligue T1 DUNKERQUE","Poules","2014-2015",null,null,null,null,1,null,0]
["CAUX Grégory","ESTERMANS Bernard","G",2,1,160,130,"2015-01-17","N1 Ligue T1 DUNKERQUE","1/8 Finale","2014-2015",null,null,null,null,1,null,0]
["CAUX Grégory","LEMÂTRE Jérémy","G",2,1,143,155,"2015-01-17","N1 Ligue T1 DUNKERQUE","1/4 Finale","2014-2015",null,null,null,null,1,null,0]
["CAUX Grégory","GEETS Patrice","P",0,2,49,120,"2015-01-17","N1 Ligue T1 DUNKERQUE","1/2 Finale","2014-2015",null,null,null,null,0,null,0]
["CAUX Grégory","POULEYN André","P",0,2,93,120,"2015-03-14","N1 Ligue T3 ANNOEULLIN","Poules","2014-2015",null,null,null,null,0,null,0]
["CAUX Grégory","GEETS Patrice","P",0,2,64,120,"2015-03-14","N1 Ligue T3 ANNOEULLIN","Poules","2014-2015",null,null,null,null,0,null,0]
["Fin des données",null,null,null,null,null,null,null,null,null,"",null,null,null,null,{"$f":"IF($K51=P$1,COUNTIF($C51,\"G\"),0)","v":0},null,{"$f":"IF($K51=R$1,COUNTIF($C51,\"G\"),0)","v":0}]

{"sheet":"CLYNCKE Jean-Jacques","index":10,"n_rows":295,"n_cols":22,"rows_kept":295,"cut":false,"hidden":false,"merged":[]}
["CLYNCKE Jean-Jacques",null,null,null,null,null,null,null,null,null,null,null,null,null,null,{"$f":"Récapitulatif!$B$2","v":"2014-2015"},null,{"$f":"Récapitulatif!$B$3","v":"2015-2016"},null,"Toutes saisons"]
["FACHES-THUMESNIL",null,null,null,null,null,null,null,null,null,null,null,null,null,null,"Nombre","%age","Nombre","%age","Nombre","%age"]
["017038-I",null,null,null,null,null,null,null,null,null,null,null,null,"Matchs","Gagnés",{"$f":"SUM(P$15:P$295)","v":11},{"$f":"IF(P$3+P$4>0,P3/(P$3+P$4),\"\")","v":0.42307692307692307},{"$f":"SUM(R$15:R$295)","v":18},{"$f":"IF(R$3+R$4>0,R3/(R$3+R$4),\"\")","v":0.40909090909090912},{"$f":"COUNTIF($C$15:$C$295,\"G\")","v":110},{"$f":"IF(T$3+T$4>0,T3/(T$3+T$4),\"\")","v":0.3942652329749104}]
["06 20 30 89 94",null,null,null,null,null,null,null,null,null,null,null,null,null,"Perdus",{"$f":"COUNTIF($K$15:$K$295,Récapitulatif!$B$2)-P3","v":15},{"$f":"IF(P$3+P$4>0,P4/(P$3+P$4),\"\")","v":0.57692307692307687},{"$f":"COUNTIF($K$15:$K$295,Récapitulatif!$B$3)-R3","v":26},{"$f":"IF(R$3+R$4>0,R4/(R$3+R$4),\"\")","v":0.59090909090909094},{"$f":"COUNTIF($C$15:$C$295,\"P\")","v":169},{"$f":"IF(T$3+T$4>0,T4/(T$3+T$4),\"\")","v":0.60573476702508966}]
[null,null,null,null,null,null,null,null,null,null,null,null,null,null,"Total / Moy.",{"$f":"SUM(P3:P4)","v":26},{"$f":"IF(SUMIF($K$15:$K$295,Récapitulatif!$B$2,$G$15:$G$295)>0,SUMIF($K$15:$K$295,Récapitulatif!$B$2,$F$15:$F$295)/SUMIF($K$15:$K$295,Récapitulatif!$B$2,$G$15:$G$295),\"\")","v":0.99396929824561409},{"$f":"SUM(R3:R4)","v":44},{"$f":"IF(SUMIF($K$15:$K$295,Récapitulatif!$B$3,$G$15:$G$295)>0,SUMIF($K$15:$K$295,Récapitulatif!$B$3,$F$15:$F$295)/SUMIF($K$15:$K$295,Récapitulatif!$B$3,$G$15:$G$295),\"\")","v":0.87402799377916018},{"$f":"SUM(T3:T4)","v":279},{"$f":"IF(SUM($G$15:$G$295)>0,SUM($F$15:$F$295)/SUM($G$15:$G$295),\"\")","v":0.90982664612826725},{"$f":"IF(SUMIF($K$15:$K$295,Récapitulatif!$B$2,$G$15:$G$295)+SUMIF($K$15:$K$295,Récapitulatif!$B$3,$G$15:$G$295)>0,(SUMIF($K$15:$K$295,Récapitulatif!$B$2,$F$15:$F$295)+SUMIF($K$15:$K$295,Récapitulatif!$B$3,$F$15:$F$295))/(SUMIF($K$15:$K$295,Récapitulatif!$B$2,$G$15:$G$295)+SUMIF($K$15:$K$295,Récapitulatif!$B$3,$G$15:$G$295)),\"\")","v":0.91744393728914464}]
[null,null,null,null,null,null,null,null,null,null,null,null,null,"Sets","Gagnés",{"$f":"SUMIF($K$15:$K$295,Récapitulatif!$B$2,$D$15:$D$295)","v":32},{"$f":"IF(P$6+P$7>0,P6/(P$6+P$7),\"\")","v":0.43835616438356162},{"$f":"SUMIF($K$15:$K$295,Récapitulatif!$B$3,$D$15:$D$295)","v":50},{"$f":"IF(R$6+R$7>0,R6/(R$6+R$7),\"\")","v":0.4098360655737705},{"$f":"SUM($D$15:$D$295)","v":331},{"$f":"IF(T$6+T$7>0,T6/(T$6+T$7),\"\")","v":0.41951837769328265}]
[null,null,null,null,null,null,null,null,null,null,null,null,null,null,"Perdus",{"$f":"SUMIF($K$15:$K$295,Récapitulatif!$B$2,$E$15:$E$295)","v":41},{"$f":"IF(P$6+P$7>0,P7/(P$6+P$7),\"\")","v":0.56164383561643838},{"$f":"SUMIF($K$15:$K$295,Récapitulatif!$B$3,$E$15:$E$295)","v":72},{"$f":"IF(R$6+R$7>0,R7/(R$6+R$7),\"\")","v":0.5901639344262295},{"$f":"SUM($E$15:$E$295)","v":458},{"$f":"IF(T$6+T$7>0,T7/(T$6+T$7),\"\")","v":0.5804816223067174}]
["Récapitulatif joueurs",null,null,null,null,null,null,null,null,null,null,null,null,null,"Total",{"$f":"SUM(P6:P7)","v":73},null,{"$f":"SUM(R6:R7)","v":122},null,{"$f":"SUM(T6:T7)","v":789}]
[]
[]
[]
[]
[]
[]
["Joueur","Adversaire","G/P","Sets gagnés","Sets perdus","pts marqués","pts subis","Date","Compétition","Phase","Saison"]
["CLYNCKE Jean-Jacques","TIRALONGO Sébastien","P",1,2,111,171,"2008-10-10","National T1 MAISONS ALFORT","Préqualifs",{"$f":"IF(H16<>\"\",IF(MONTH(H16)>MoisRef,YEAR(H16)&\"-\"&YEAR(H16)+1,YEAR(H16)-1&\"-\"&YEAR(H16)),\"\")","v":"2008-2009"},null,null,null,null,{"$f":"IF($K16=P$1,COUNTIF($C16,\"G\"),0)","v":0},null,{"$f":"IF($K16=R$1,COUNTIF($C16,\"G\"),0)","v":0}]
["CLYNCKE Jean-Jacques","ROUBY Jean-Chistophe","P",1,2,171,178,"2008-10-10","National T1 MAISONS ALFORT","Préqualifs","2008-2009",null,null,null,null,0,null,0]
["CLYNCKE Jean-Jacques","GUILLEMANT Jean-Marc","G",2,1,158,136,"2008-10-10","National T1 MAISONS ALFORT","Préqualifs","2008-2009",null,null,null,null,0,null,0]
["CLYNCKE Jean-Jacques","MORALES Luis","P",0,3,81,180,"2008-10-11","National T1 MAISONS ALFORT","Qualifs promotion","2008-2009",null,null,null,null,0,null,0]
["CLYNCKE Jean-Jacques","WALLART Jean-Charles","P",2,3,233,277,"2008-10-11","National T1 MAISONS ALFORT","Qualifs promotion","2008-2009",null,null,null,null,0,null,0]
["CLYNCKE Jean-Jacques","DELATTRE Hervé","P",0,2,95,120,"2008-11-14","National T2 SCHILTIGHEIM","Préqualifs","2008-2009",null,null,null,null,0,null,0]
["CLYNCKE Jean-Jacques","DROULEZ Quentin","G",2,0,120,47,"2008-11-14","National T2 SCHILTIGHEIM","Préqualifs","2008-2009",null,null,null,null,0,null,0]
["CLYNCKE Jean-Jacques","BAYON Pascal","P",0,2,75,120,"2008-11-14","National T2 SCHILTIGHEIM","Préqualifs","2008-2009",null,null,null,null,0,null,0]
["CLYNCKE Jean-Jacques","BAYON Pascal","P",1,3,178,230,"2008-11-15","National T2 SCHILTIGHEIM","Qualifs promotion","2008-2009",null,null,null,null,0,null,0]
["CLYNCKE Jean-Jacques","WALLART Jean-Charles","P",2,3,244,248,"2008-11-15","National T2 SCHILTIGHEIM","Qualifs promotion","2008-2009",null,null,null,null,0,null,0]
["CLYNCKE Jean-Jacques","WEBER Thierry","P",1,2,157,163,"2008-12-12","National T3 ANNOEULLIN","Préqualifs","2008-2009",null,null,null,null,0,null,0]
["CLYNCKE Jean-Jacques","PERRIN Eric","P",1,2,124,156,"2008-12-12","National T3 ANNOEULLIN","Préqualifs","2008-2009",null,null,null,null,0,null,0]
["CLYNCKE Jean-Jacques","LECROART Serge","G",2,0,120,92,"2008-12-12","National T3 ANNOEULLIN","Préqualifs","2008-2009",null,null,null,null,0,null,0]
["CLYNCKE Jean-Jacques","BAYON Pascal","G",3,0,180,138,"2008-12-13","National T3 ANNOEULLIN","Qualifs promotion","2008-2009",null,null,null,null,0,null,0]
["CLYNCKE Jean-Jacques","FOURRE Cédric","P",1,3,147,213,"2008-12-13","National T3 ANNOEULLIN","Qualifs promotion","2008-2009",null,null,null,null,0,null,0]
["CLYNCKE Jean-Jacques","BAYON Pascal","P",1,3,143,205,"2008-12-13","National T3 ANNOEULLIN","Qualifs promotion","2008-2009",null,null,null,null,0,null,0]
["CLYNCKE Jean-Jacques","ZACCAGNINI Antoine","P",0,2,86,120,"2009-02-06","National T4 LAXOU","Préqualifs","2008-2009",null,null,null,null,0,null,0]
["CLYNCKE Jean-Jacques","MUSSET Olivier","P",1,2,143,177,"2009-02-06","National T4 LAXOU","Préqualifs","2008-2009",null,null,null,null,0,null,0]
["CLYNCKE Jean-Jacques","PERRIN Eric","P",0,2,75,120,"2009-02-06","National T4 LAXOU","Préqualifs","2008-2009",null,null,null,null,0,null,0]
["CLYNCKE Jean-Jacques","TRIFAULT Amand","P",2,3,264,275,"2009-02-07","National T4 LAXOU","Qualifs promotion","2008-2009",null,null,null,null,0,null,0]
["CLYNCKE Jean-Jacques","MUSSET Olivier","G",3,1,204,199,"2009-02-07","National T4 LAXOU","Qualifs promotion","2008-2009",null,null,null,null,0,null,0]
["CLYNCKE Jean-Jacques","PAU Mariano","P",1,3,185,230,"2009-02-07","National T4 LAXOU","Qualifs promotion","2008-2009",null,null,null,null,0,null,0]
["CLYNCKE Jean-Jacques","TURPIN Laurent","P",1,2,150,177,"2009-03-07","N1 Ligue T2 ANNOEULLIN","Poules","2008-2009",null,null,null,null,0,null,0]
["CLYNCKE Jean-Jacques","GUILLEMANT Jean-Marc","P",0,2,48,120,"2009-03-07","N1 Ligue T2 ANNOEULLIN","Poules","2008-2009",null,null,null,null,0,null,0]
["CLYNCKE Jean-Jacques","CARPENTIER Yohanne","G",2,0,120,110,"2009-03-07","N1 Ligue T2 ANNOEULLIN","Poules Consolante","2008-2009",null,null,null,null,0,null,0]
["CLYNCKE Jean-Jacques","TURPIN Laurent","P",0,2,92,120,"2009-03-07","N1 Ligue T2 ANNOEULLIN","Poules Consolante","2008-2009",null,null,null,null,0,null,0]
["CLYNCKE Jean-Jacques","DEBRAY Alain","G",2,1,173,147,"2009-03-20","National T5 ANDERNOS","Préqualifs","2008-2009",null,null,null,null,0,null,0]
["CLYNCKE Jean-Jacques","HEBRARD Bernard","G",2,1,154,130,"2009-03-20","National T5 ANDERNOS","Préqualifs","2008-2009",null,null,null,null,0,null,0]
["CLYNCKE Jean-Jacques","MORALES Luis","G",2,1,165,165,"2009-03-20","National T5 ANDERNOS","Préqualifs","2008-2009",null,null,null,null,0,null,0]
["CLYNCKE Jean-Jacques","ANE Jean-Marie","G",3,1,220,202,"2009-03-21","National T5 ANDERNOS","Qualifs promotion","2008-2009",null,null,null,null,0,null,0]
["CLYNCKE Jean-Jacques","BASTENIER Jean","P",2,3,235,279,"2009-03-21","National T5 ANDERNOS","Qualifs promotion","2008-2009",null,null,null,null,0,null,0]
["CLYNCKE Jean-Jacques","WALLART Jean-Charles","P",0,3,112,180,"2009-03-21","National T5 ANDERNOS","Qualifs promotion","2008-2009",null,null,null,null,0,null,0]
["CLYNCKE Jean-Jacques","LORTHIOIR Jean-Luc","G",2,0,120,48,"2009-04-11","N1 Ligue T3 DUNKERQUE","Poules",{"$f":"IF(H48<>\"\",IF(MONTH(H48)>MoisRef,YEAR(H48)&\"-\"&YEAR(H48)+1,YEAR(H48)-1&\"-\"&YEAR(H48)),\"\")","v":"2008-2009"},null,null,null,null,0,null,0]
["CLYNCKE Jean-Jacques","MAILLE Bernard","P",1,2,137,179,"2009-04-11","N1 Ligue T3 DUNKERQUE","Poules","2008-2009",null,null,null,null,0,null,0]
["CLYNCKE Jean-Jacques","MAILLE Bernard","P",0,2,80,120,"2009-04-11","N1 Ligue T3 DUNKERQUE","1/4 Finale","2008-2009",null,null,null,null,0,null,0]
["CLYNCKE Jean-Jacques","SAINT-GEORGES Claude","P",0,2,95,120,"2009-11-06","National T1 SCHILTIGHEIM","Préqualifs","2009-2010",null,null,null,null,0,null,0]
["CLYNCKE Jean-Jacques","J. BLANC","G",2,0,120,118,"2009-11-06","National T1 SCHILTIGHEIM","Préqualifs","2009-2010",null,null,null,null,0,null,0]
["CLYNCKE Jean-Jacques","MORALES Luis","P",0,2,96,120,"2009-11-06","National T1 SCHILTIGHEIM","Préqualifs","2009-2010",null,null,null,null,0,null,0]
["CLYNCKE Jean-Jacques","DEMILLY Jean-Sébastien","P",0,3,72,180,"2009-11-07","National T1 SCHILTIGHEIM","Qualifs promotion","2009-2010",null,null,null,null,0,null,0]
["CLYNCKE Jean-Jacques","DUVERNOY Christophe","P",1,3,155,220,"2009-11-07","National T1 SCHILTIGHEIM","Qualifs promotion","2009-2010",null,null,null,null,0,null,0]
["CLYNCKE Jean-Jacques","MARTEL Bruno","P",1,2,164,167,"2009-11-21","N1 Ligue T1 GRAVELINES","Poules","2009-2010",null,null,null,null,0,null,0]
["CLYNCKE Jean-Jacques","MAILLE Bernard","P",0,2,81,120,"2009-11-21","N1 Ligue T1 GRAVELINES","Poules","2009-2010",null,null,null,null,0,null,0]
["CLYNCKE Jean-Jacques","MARTEL Bruno","G",2,0,120,78,"2009-11-21","N1 Ligue T1 GRAVELINES","Poules Consolante","2009-2010",null,null,null,null,0,null,0]
["CLYNCKE Jean-Jacques","DEVOS Jackie","G",2,0,120,114,"2009-11-21","N1 Ligue T1 GRAVELINES","Poules Consolante","2009-2010",null,null,null,null,0,null,0]
["CLYNCKE Jean-Jacques","MAUPIN Patrick","P",1,2,173,175,"2009-11-21","N1 Ligue T1 GRAVELINES","1/2 Finale Consolante","2009-2010",null,null,null,null,0,null,0]
["CLYNCKE Jean-Jacques","ROBERGE Bruno","G",2,0,120,108,"2009-12-04","National T2 ANNOEULLIN","Préqualifs","2009-2010",null,null,null,null,0,null,0]
["CLYNCKE Jean-Jacques","MARTEL Jean-Pierre","G",2,0,120,59,"2009-12-04","National T2 ANNOEULLIN","Préqualifs","2009-2010",null,null,null,null,0,null,0]
["CLYNCKE Jean-Jacques","GUILLEMANT David","P",1,2,136,162,"2009-12-04","National T2 ANNOEULLIN","Préqualifs","2009-2010",null,null,null,null,0,null,0]
["CLYNCKE Jean-Jacques","PONCHANT Grégory","G",3,0,180,106,"2009-12-05","National T2 ANNOEULLIN","Qualifs promotion","2009-2010",null,null,null,null,0,null,0]
["CLYNCKE Jean-Jacques","TIRALONGO Sébastien","P",0,3,153,180,"2009-12-05","National T2 ANNOEULLIN","Qualifs promotion","2009-2010",null,null,null,null,0,null,0]
["CLYNCKE Jean-Jacques","DEBRAY Alain","P",1,3,163,226,"2009-12-05","National T2 ANNOEULLIN","Qualifs promotion","2009-2010",null,null,null,null,0,null,0]
["CLYNCKE Jean-Jacques","LHERMITTE Cédric","P",0,2,70,120,"2009-12-19","N1 Ligue T2 ANNOEULLIN","Poules","2009-2010",null,null,null,null,0,null,0]
["CLYNCKE Jean-Jacques","MAILLE Bernard","P",0,2,72,120,"2009-12-19","N1 Ligue T2 ANNOEULLIN","Poules","2009-2010",null,null,null,null,0,null,0]
["CLYNCKE Jean-Jacques","MAUPIN Patrick","P",1,2,136,153,"2009-12-19","N1 Ligue T2 ANNOEULLIN","Poules Consolante","2009-2010",null,null,null,null,0,null,0]
["CLYNCKE Jean-Jacques","CAUX Frédéric","G",2,0,120,90,"2009-12-19","N1 Ligue T2 ANNOEULLIN","Poules Consolante","2009-2010",null,null,null,null,0,null,0]
["CLYNCKE Jean-Jacques","SCHUB Philippe","G",2,1,165,129,"2010-01-29","National T3 ORLEANS","Préqualifs","2009-2010",null,null,null,null,0,null,0]
["CLYNCKE Jean-Jacques","PIERGIORGIO Andreone","G",2,1,146,145,"2010-01-29","National T3 ORLEANS","Préqualifs","2009-2010",null,null,null,null,0,null,0]
["CLYNCKE Jean-Jacques","DI PALMA Angelo","P",0,2,69,120,"2010-01-29","National T3 ORLEANS","Préqualifs","2009-2010",null,null,null,null,0,null,0]
["CLYNCKE Jean-Jacques","ZILLIG Pierre","P",1,3,195,232,"2010-01-30","National T3 ORLEANS","Qualifs promotion","2009-2010",null,null,null,null,0,null,0]
["CLYNCKE Jean-Jacques","ALEXANDRE Michel","G",3,2,253,224,"2010-01-30","National T3 ORLEANS","Qualifs promotion","2009-2010",null,null,null,null,0,null,0]
["CLYNCKE Jean-Jacques","GUIBERT Philippe","P",0,3,122,180,"2010-01-30","National T3 ORLEANS","Qualifs promotion","2009-2010",null,null,null,null,0,null,0]
["CLYNCKE Jean-Jacques","TRIPLET Gilbert","G",2,0,120,109,"2010-02-20","N1 Ligue T4 DOUAI","Poules","2009-2010",null,null,null,null,0,null,0]
["CLYNCKE Jean-Jacques","WALLART Jean-Charles","G",2,1,167,138,"2010-02-20","N1 Ligue T4 DOUAI","Poules","2009-2010",null,null,null,null,0,null,0]
["CLYNCKE Jean-Jacques","SAINT-GEORGES Claude","P",0,2,60,120,"2010-02-20","N1 Ligue T4 DOUAI","1/8 Finale","2009-2010",null,null,null,null,0,null,0]
["CLYNCKE Jean-Jacques","TRIPLET Gilbert","G",2,0,120,62,"2010-02-20","N1 Ligue T4 DOUAI","Poules Consolante","2009-2010",null,null,null,null,{"$f":"IF($K80=P$1,COUNTIF($C80,\"G\"),0)","v":0},null,{"$f":"IF($K80=R$1,COUNTIF($C80,\"G\"),0)","v":0}]
["CLYNCKE Jean-Jacques","CAUX Frédéric","G",2,1,146,146,"2010-02-20","N1 Ligue T4 DOUAI","Poules Consolante","2009-2010",null,null,null,null,{"$f":"IF($K81=P$1,COUNTIF($C81,\"G\"),0)","v":0},null,{"$f":"IF($K81=R$1,COUNTIF($C81,\"G\"),0)","v":0}]
["CLYNCKE Jean-Jacques","SCHUB Philippe","G",2,1,165,129,"2010-01-29","National T3 ORLEANS","Préqualifs","2009-2010",null,null,null,null,{"$f":"IF($K82=P$1,COUNTIF($C82,\"G\"),0)","v":0},null,{"$f":"IF($K82=R$1,COUNTIF($C82,\"G\"),0)","v":0}]
["CLYNCKE Jean-Jacques","PIERGIORGIO Andreone","G",2,1,146,145,"2010-01-29","National T3 ORLEANS","Préqualifs","2009-2010",null,null,null,null,0,null,0]
["CLYNCKE Jean-Jacques","DI PALMA Angelo","P",0,2,69,120,"2010-01-29","National T3 ORLEANS","Préqualifs","2009-2010",null,null,null,null,0,null,0]
["CLYNCKE Jean-Jacques","ZILLIG Pierre","P",1,3,195,232,"2010-01-30","National T3 ORLEANS","Qualifs promotion","2009-2010",null,null,null,null,0,null,0]
["CLYNCKE Jean-Jacques","ALEXANDRE Michel","G",3,2,253,224,"2010-01-30","National T3 ORLEANS","Qualifs promotion","2009-2010",null,null,null,null,0,null,0]
["CLYNCKE Jean-Jacques","GUIBERT Philippe","P",0,3,122,180,"2010-01-30","National T3 ORLEANS","Qualifs promotion","2009-2010",null,null,null,null,0,null,0]
["CLYNCKE Jean-Jacques","FOURRE Cédric","G",2,1,158,144,"2010-02-26","National T4 ROUEN","Préqualifs","2009-2010",null,null,null,null,0,null,0]
["CLYNCKE Jean-Jacques","JACQ Laurent","P",0,2,63,120,"2010-02-26","National T4 ROUEN","Préqualifs","2009-2010",null,null,null,null,0,null,0]
["CLYNCKE Jean-Jacques","PARMENTIER Franc","G",2,0,120,63,"2010-02-26","National T4 ROUEN","Préqualifs","2009-2010",null,null,null,null,0,null,0]
["CLYNCKE Jean-Jacques","ROBERGE Bruno","P",1,3,193,209,"2010-02-27","National T4 ROUEN","Qualifs promotion","2009-2010",null,null,null,null,0,null,0]
["CLYNCKE Jean-Jacques","CUL Frédéric","P",2,3,243,289,"2010-02-27","National T4 ROUEN","Qualifs promotion","2009-2010",null,null,null,null,0,null,0]
["CLYNCKE Jean-Jacques","DEMILLY Jean-Sébastien","P",0,2,71,120,"2010-03-26","National T5 ST SEBASTIEN / LOIRE","Préqualifs","2009-2010",null,null,null,null,0,null,0]
["CLYNCKE Jean-Jacques","MICHELOTTI Francesco","P",0,2,67,120,"2010-03-26","National T5 ST SEBASTIEN / LOIRE","Préqualifs","2009-2010",null,null,null,null,0,null,0]
["CLYNCKE Jean-Jacques","ACUNZO Raffaelle","P",0,2,82,120,"2010-03-26","National T5 ST SEBASTIEN / LOIRE","Préqualifs","2009-2010",null,null,null,null,0,null,0]
["CLYNCKE Jean-Jacques","CAUX Frédéric","P",0,2,63,120,"2010-04-23","National T6 ANDERNOS","Préqualifs","2009-2010",null,null,null,null,0,null,0]
["CLYNCKE Jean-Jacques","ZACCAGNINI Antoine","P",0,2,72,120,"2010-04-23","National T6 ANDERNOS","Préqualifs","2009-2010",null,null,null,null,0,null,0]
["CLYNCKE Jean-Jacques","J. BLANC","G",2,0,120,118,"2010-04-23","National T6 ANDERNOS","Préqualifs","2009-2010",null,null,null,null,0,null,0]
["CLYNCKE Jean-Jacques","DUROYON Didier","P",1,3,196,237,"2010-04-24","National T6 ANDERNOS","Qualifs promotion","2009-2010",null,null,null,null,0,null,0]
["CLYNCKE Jean-Jacques","ALEXANDRE Michel","G",3,2,288,229,"2010-04-24","National T6 ANDERNOS","Qualifs promotion","2009-2010",null,null,null,null,0,null,0]
["CLYNCKE Jean-Jacques","GUIBERT Philippe","P",0,3,69,180,"2010-04-24","National T6 ANDERNOS","Qualifs promotion","2009-2010",null,null,null,null,0,null,0]
["CLYNCKE Jean-Jacques","MARCHISSEAU Stéphane","P",1,2,130,154,"2010-10-07","National T1 CESTAS","Préqualifs","2010-2011",null,null,null,null,0,null,0]
["CLYNCKE Jean-Jacques","PONTHIEUX Christian","G",2,0,120,95,"2010-10-07","National T1 CESTAS","Préqualifs","2010-2011",null,null,null,null,0,null,0]
["CLYNCKE Jean-Jacques","DAVOINE Bruno","G",2,1,147,167,"2010-10-07","National T1 CESTAS","Préqualifs","2010-2011",null,null,null,null,0,null,0]
["CLYNCKE Jean-Jacques","SCHUB Philippe","P",0,3,138,180,"2010-10-08","National T1 CESTAS","Qualifs promotion","2010-2011",null,null,null,null,0,null,0]
["CLYNCKE Jean-Jacques","LORTHIOIR Jean-Luc","G",3,1,216,175,"2010-10-08","National T1 CESTAS","Qualifs promotion","2010-2011",null,null,null,null,0,null,0]
["CLYNCKE Jean-Jacques","DUROYON Didier","P",0,3,99,180,"2010-10-08","National T1 CESTAS","Qualifs promotion","2010-2011",null,null,null,null,0,null,0]
["CLYNCKE Jean-Jacques","CAUX Frédéric","G",2,1,167,136,"2010-11-13","N1 Ligue T2 FACHES THUMESNIL","Poules","2010-2011",null,null,null,null,0,null,0]
["CLYNCKE Jean-Jacques","LHERMITTE Cédric","P",0,2,83,120,"2010-11-13","N1 Ligue T2 FACHES THUMESNIL","Poules","2010-2011",null,null,null,null,0,null,0]
["CLYNCKE Jean-Jacques","LECROART Serge","G",2,0,120,69,"2010-11-13","N1 Ligue T2 FACHES THUMESNIL","Poules Consolante","2010-2011",null,null,null,null,0,null,0]
["CLYNCKE Jean-Jacques","WESTEEL Bruno","P",0,2,72,120,"2010-11-13","N1 Ligue T2 FACHES THUMESNIL","Poules Consolante","2010-2011",null,null,null,null,0,null,0]
["CLYNCKE Jean-Jacques","GANGLOFF Jean-Luc","P",0,2,95,120,"2010-11-05","National T2 LAXOU","Préqualifs","2010-2011",null,null,null,null,0,null,0]
["CLYNCKE Jean-Jacques","BOUVIER Philippe","G",2,1,139,166,"2010-11-05","National T2 LAXOU","Préqualifs","2010-2011",null,null,null,null,0,null,0]
["CLYNCKE Jean-Jacques","SACHELI Jacques","P",1,2,119,158,"2010-11-05","National T2 LAXOU","Préqualifs","2010-2011",null,null,null,null,0,null,0]
["CLYNCKE Jean-Jacques","SORTAIS Claude","P",1,3,194,226,"2010-11-06","National T2 LAXOU","Qualifs promotion","2010-2011",null,null,null,null,0,null,0]
["CLYNCKE Jean-Jacques","GUILLEMANT Jean-Marc","G",3,2,272,272,"2010-11-06","National T2 LAXOU","Qualifs promotion","2010-2011",null,null,null,null,0,null,0]
["CLYNCKE Jean-Jacques","BOUVIER Philippe","G",3,1,219,182,"2010-11-06","National T2 LAXOU","Qualifs promotion","2010-2011",null,null,null,null,0,null,0]
["CLYNCKE Jean-Jacques","SIX Jean-Paul","P",0,3,99,180,"2010-11-07","National T2 LAXOU","1/8 finale promotion","2010-2011",null,null,null,null,0,null,0]
["CLYNCKE Jean-Jacques","VANLERBERGHE Nicolas","P",1,2,120,167,"2010-12-03","National T3 FACHES THUMESNIL - RONCHIN","Préqualifs","2010-2011",null,null,null,null,0,null,0]
["CLYNCKE Jean-Jacques","ZACCAGNINI Antoine","P",1,2,122,161,"2010-12-03","National T3 FACHES THUMESNIL - RONCHIN","Préqualifs","2010-2011",null,null,null,null,0,null,0]
["CLYNCKE Jean-Jacques","FONTAINE Isabelle","G",2,1,175,141,"2010-12-03","National T3 FACHES THUMESNIL - RONCHIN","Préqualifs","2010-2011",null,null,null,null,0,null,0]
["CLYNCKE Jean-Jacques","LHERMITTE Cédric","P",1,3,166,202,"2010-12-04","National T3 FACHES THUMESNIL - RONCHIN","Qualifs promotion","2010-2011",null,null,null,null,0,null,0]
["CLYNCKE Jean-Jacques","WEBER Thierry","G",3,1,234,145,"2010-12-04","National T3 FACHES THUMESNIL - RONCHIN","Qualifs promotion","2010-2011",null,null,null,null,0,null,0]
["CLYNCKE Jean-Jacques","GEETS Patrice","P",2,3,268,237,"2010-12-04","National T3 FACHES THUMESNIL - RONCHIN","Qualifs promotion","2010-2011",null,null,null,null,0,null,0]
["CLYNCKE Jean-Jacques","FAUCOMPREZ Didier","G",2,0,120,76,"2011-01-15","N1 Ligue T4 DIVION","Poules","2010-2011",null,null,null,null,0,null,0]
["CLYNCKE Jean-Jacques","RACARY Thibault","P",0,2,87,120,"2011-01-15","N1 Ligue T4 DIVION","Poules","2010-2011",null,null,null,null,0,null,0]
["CLYNCKE Jean-Jacques","VANNUCCI Emilio","P",1,2,154,164,"2011-01-15","N1 Ligue T4 DIVION","Poules Consolante","2010-2011",null,null,null,null,0,null,0]
["CLYNCKE Jean-Jacques","VANNUCCI Emilio","P",1,2,125,169,"2011-01-15","N1 Ligue T4 DIVION","Poules Consolante","2010-2011",null,null,null,null,0,null,0]
["CLYNCKE Jean-Jacques","GOUTHIER Alain","G",2,1,158,109,"2011-02-11","National T4 ROUEN","Préqualifs","2010-2011",null,null,null,null,0,null,0]
["CLYNCKE Jean-Jacques","SORTAIS Claude","P",0,2,58,120,"2011-02-11","National T4 ROUEN","Préqualifs","2010-2011",null,null,null,null,0,null,0]
["CLYNCKE Jean-Jacques","LOURSEL Alain","P",0,2,95,120,"2011-02-11","National T4 ROUEN","Préqualifs","2010-2011",null,null,null,null,0,null,0]
["CLYNCKE Jean-Jacques","JUBLOT Denis","G",2,1,172,160,"2011-03-25","National T5 BLOIS","Préqualifs","2010-2011",null,null,null,null,0,null,0]
["CLYNCKE Jean-Jacques","BLANC J.","G",2,0,120,110,"2011-03-25","National T5 BLOIS","Préqualifs","2010-2011",null,null,null,null,0,null,0]
["CLYNCKE Jean-Jacques","HERREBRECHT Thierry","P",0,2,75,120,"2011-03-25","National T5 BLOIS","Préqualifs","2010-2011",null,null,null,null,0,null,0]
["CLYNCKE Jean-Jacques","SORTAIS Claude","P",2,3,253,267,"2011-03-26","National T5 BLOIS","Qualifs promotion","2010-2011",null,null,null,null,0,null,0]
["CLYNCKE Jean-Jacques","GOUSSETIS Georges","G",3,0,180,111,"2011-03-26","National T5 BLOIS","Qualifs promotion","2010-2011",null,null,null,null,0,null,0]
["CLYNCKE Jean-Jacques","MAILLE Bernard","G",3,2,244,266,"2011-03-26","National T5 BLOIS","Qualifs promotion","2010-2011",null,null,null,null,0,null,0]
["CLYNCKE Jean-Jacques","MARCHISSEAU Stéphane","P",1,3,165,225,"2011-03-27","National T5 BLOIS","1/8 finale promotion","2010-2011",null,null,null,null,0,null,0]
["CLYNCKE Jean-Jacques","POULEYN André","P",1,2,164,153,"2011-04-15","National T6 CHAMPAGNE sur SEINE / NANDY","Préqualifs","2010-2011",null,null,null,null,0,null,0]
["CLYNCKE Jean-Jacques","GUIBERT Philippe","P",0,2,110,120,"2011-04-15","National T6 CHAMPAGNE sur SEINE / NANDY","Préqualifs","2010-2011",null,null,null,null,0,null,0]
["CLYNCKE Jean-Jacques","AUXIETRE Michel","P",0,2,53,120,"2011-04-15","National T6 CHAMPAGNE sur SEINE / NANDY","Préqualifs","2010-2011",null,null,null,null,0,null,0]
["CLYNCKE Jean-Jacques","PONTHIEUX Christian","P",0,2,98,120,"2011-09-30","National T1 CESTAS","Préqualifs","2011-2012",null,null,null,null,0,null,0]
["CLYNCKE Jean-Jacques","MORALES Luis","P",1,2,156,145,"2011-09-30","National T1 CESTAS","Préqualifs","2011-2012",null,null,null,null,0,null,0]
["CLYNCKE Jean-Jacques","BATTE Patrick","G",2,0,120,81,"2011-09-30","National T1 CESTAS","Préqualifs","2011-2012",null,null,null,null,0,null,0]
["CLYNCKE Jean-Jacques","WALLART Jean-Charles","P",0,3,105,180,"2011-10-01","National T1 CESTAS","Qualifs promotion","2011-2012",null,null,null,null,0,null,0]
["CLYNCKE Jean-Jacques","EVENOU Roger","G",3,0,180,132,"2011-10-01","National T1 CESTAS","Qualifs promotion","2011-2012",null,null,null,null,{"$f":"IF($K146=P$1,COUNTIF($C146,\"G\"),0)","v":0},null,{"$f":"IF($K146=R$1,COUNTIF($C146,\"G\"),0)","v":0}]
["CLYNCKE Jean-Jacques","MARCHISSEAU Stéphane","P",0,3,97,180,"2011-10-01","National T1 CESTAS","Qualifs promotion","2011-2012",null,null,null,null,{"$f":"IF($K147=P$1,COUNTIF($C147,\"G\"),0)","v":0},null,{"$f":"IF($K147=R$1,COUNTIF($C147,\"G\"),0)","v":0}]
["CLYNCKE Jean-Jacques","VEREECQUE Ludovic","P",0,1,97,100,"2011-11-19","N1 Ligue T2 DOUAI","Poules Consolante","2011-2012",null,null,null,null,{"$f":"IF($K148=P$1,COUNTIF($C148,\"G\"),0)","v":0},null,{"$f":"IF($K148=R$1,COUNTIF($C148,\"G\"),0)","v":0}]
["CLYNCKE Jean-Jacques","WALLART Jean-Charles","G",1,0,100,65,"2011-11-19","N1 Ligue T2 DOUAI","Poules Consolante","2011-2012",null,null,null,null,0,null,0]
["CLYNCKE Jean-Jacques","KAYA Turgul","P",0,1,98,100,"2011-11-19","N1 Ligue T2 DOUAI","1/2 Finale Consolante","2011-2012",null,null,null,null,0,null,0]
["CLYNCKE Jean-Jacques","CARPENTIER Yohanne","P",1,2,152,169,"2011-11-19","N1 Ligue T2 DOUAI","Poules","2011-2012",null,null,null,null,0,null,0]
["CLYNCKE Jean-Jacques","HERREBRECHT Thierry","P",0,2,91,120,"2011-11-19","N1 Ligue T2 DOUAI","Poules","2011-2012",null,null,null,null,0,null,0]
["CLYNCKE Jean-Jacques","DELSOL Philippe","P",0,2,79,120,"2011-11-19","N1 Ligue T2 DOUAI","1/8 Finale","2011-2012",null,null,null,null,0,null,0]
["CLYNCKE Jean-Jacques","ROCHER Frédéric","G",2,0,120,61,"2011-11-04","National T2 SCHILTIGHEIM","Préqualifs","2011-2012",null,null,null,null,0,null,0]
["CLYNCKE Jean-Jacques","JUBLOT Maxime","P",0,2,53,120,"2011-11-04","National T2 SCHILTIGHEIM","Préqualifs","2011-2012",null,null,null,null,0,null,0]
["CLYNCKE Jean-Jacques","EVENOU Roger","G",2,0,120,83,"2011-11-04","National T2 SCHILTIGHEIM","Préqualifs","2011-2012",null,null,null,null,0,null,0]
["CLYNCKE Jean-Jacques","MAILLE Bernard","P",0,3,114,180,"2011-11-05","National T2 SCHILTIGHEIM","Qualifs promotion","2011-2012",null,null,null,null,0,null,0]
["CLYNCKE Jean-Jacques","GANGLOFF Jean-Luc","G",3,1,220,210,"2011-11-05","National T2 SCHILTIGHEIM","Qualifs promotion","2011-2012",null,null,null,null,0,null,0]
["CLYNCKE Jean-Jacques","GUIBERT Philippe","P",0,3,103,180,"2011-11-05","National T2 SCHILTIGHEIM","Qualifs promotion","2011-2012",null,null,null,null,0,null,0]
["CLYNCKE Jean-Jacques","SCHUB Philippe","P",1,2,171,151,"2011-12-02","National T3 ANNOEULLIN","Préqualifs","2011-2012",null,null,null,null,0,null,0]
["CLYNCKE Jean-Jacques","MORALES Luis","P",0,2,75,120,"2011-12-02","National T3 ANNOEULLIN","Préqualifs","2011-2012",null,null,null,null,0,null,0]
["CLYNCKE Jean-Jacques","BURY Alain","G",2,1,171,145,"2011-12-02","National T3 ANNOEULLIN","Préqualifs","2011-2012",null,null,null,null,0,null,0]
["CLYNCKE Jean-Jacques","DELATTRE Hervé","G",3,0,180,148,"2011-12-03","National T3 ANNOEULLIN","Qualifs promotion","2011-2012",null,null,null,null,0,null,0]
["CLYNCKE Jean-Jacques","GUIBERT Philippe","P",0,3,134,180,"2011-12-03","National T3 ANNOEULLIN","Qualifs promotion","2011-2012",null,null,null,null,0,null,0]
["CLYNCKE Jean-Jacques","GANGLOFF Jean-Luc","P",1,3,184,233,"2011-12-03","National T3 ANNOEULLIN","Qualifs promotion","2011-2012",null,null,null,null,0,null,0]
["CLYNCKE Jean-Jacques","LORTHIOIR Jean-Luc","P",1,2,107,177,"2012-01-07","N1 Ligue T3 FACHES THUMESNIL","Poules","2011-2012",null,null,null,null,0,null,0]
["CLYNCKE Jean-Jacques","LHERMITTE Cédric","G",2,1,169,140,"2012-01-07","N1 Ligue T3 FACHES THUMESNIL","Poules","2011-2012",null,null,null,null,0,null,0]
["CLYNCKE Jean-Jacques","HERREBRECHT Thierry","P",0,2,24,120,"2012-01-07","N1 Ligue T3 FACHES THUMESNIL","1/8 Finale","2011-2012",null,null,null,null,0,null,0]
["CLYNCKE Jean-Jacques","MANTEN Paul","P",0,1,54,100,"2012-01-07","N1 Ligue T3 FACHES THUMESNIL","Poules Consolante","2011-2012",null,null,null,null,0,null,0]
["CLYNCKE Jean-Jacques","LORTHIOIR Jean-Luc","G",1,0,100,45,"2012-01-07","N1 Ligue T3 FACHES THUMESNIL","Poules Consolante","2011-2012",null,null,null,null,0,null,0]
["CLYNCKE Jean-Jacques","POULEYN André","P",1,2,118,173,"2012-02-17","National T4 ORLEANS","Préqualifs","2011-2012",null,null,null,null,0,null,0]
["CLYNCKE Jean-Jacques","GUILLEMANT David","P",0,2,76,120,"2012-02-17","National T4 ORLEANS","Préqualifs","2011-2012",null,null,null,null,0,null,0]
["CLYNCKE Jean-Jacques","MILON Guillaume","G",2,0,120,107,"2012-02-17","National T4 ORLEANS","Préqualifs","2011-2012",null,null,null,null,0,null,0]
["CLYNCKE Jean-Jacques","GUIBERT Philippe","P",0,3,74,180,"2012-02-18","National T4 ORLEANS","Qualifs promotion","2011-2012",null,null,null,null,0,null,0]
["CLYNCKE Jean-Jacques","LHEUREUX François","P",2,3,243,281,"2012-02-18","National T4 ORLEANS","Qualifs promotion","2011-2012",null,null,null,null,0,null,0]
["CLYNCKE Jean-Jacques","POULEYN André","G",2,1,152,164,"2012-03-16","National T5 L HAY LES ROSES","Préqualifs","2011-2012",null,null,null,null,0,null,0]
["CLYNCKE Jean-Jacques","GUILLEMANT David","P",0,2,64,120,"2012-03-16","National T5 L HAY LES ROSES","Préqualifs","2011-2012",null,null,null,null,0,null,0]
["CLYNCKE Jean-Jacques","RENARD Jean-Pierre","G",2,0,120,78,"2012-03-16","National T5 L HAY LES ROSES","Préqualifs","2011-2012",null,null,null,null,0,null,0]
["CLYNCKE Jean-Jacques","DELATTRE Hervé","P",0,3,133,180,"2012-03-17","National T5 L HAY LES ROSES","Qualifs promotion","2011-2012",null,null,null,null,0,null,0]
["CLYNCKE Jean-Jacques","ROUBY Guillaume","P",1,3,196,207,"2012-03-17","National T5 L HAY LES ROSES","Qualifs promotion","2011-2012",null,null,null,null,0,null,0]
["CLYNCKE Jean-Jacques","HORNAIN Denis","G",2,0,120,61,"2012-10-13","N1 Ligue T1 ANNOEULLIN","Poules","2012-2013",null,null,null,null,0,null,0]
["CLYNCKE Jean-Jacques","DELSOL Philippe","P",0,2,67,120,"2012-10-13","N1 Ligue T1 ANNOEULLIN","Poules","2012-2013",null,null,null,null,0,null,0]
["CLYNCKE Jean-Jacques","SAINT-GEORGES Claude","P",1,2,126,179,"2012-10-13","N1 Ligue T1 ANNOEULLIN","1/8 Finale","2012-2013",null,null,null,null,0,null,0]
["CLYNCKE Jean-Jacques","DEVOS Jackie","G",2,1,172,122,"2012-11-24","N1 Ligue T3 CALAIS","Poules","2012-2013",null,null,null,null,0,null,0]
["CLYNCKE Jean-Jacques","TURPIN Laurent","P",0,2,81,120,"2012-11-24","N1 Ligue T3 CALAIS","Poules","2012-2013",null,null,null,null,0,null,0]
["CLYNCKE Jean-Jacques","MANTEN Paul","G",1,0,100,52,"2012-11-24","N1 Ligue T3 CALAIS","Poules Consolante","2012-2013",null,null,null,null,0,null,0]
["CLYNCKE Jean-Jacques","MANTEN Paul","G",1,0,100,80,"2012-11-24","N1 Ligue T3 CALAIS","Poules Consolante","2012-2013",null,null,null,null,0,null,0]
["CLYNCKE Jean-Jacques","ZEUDE Alain","P",0,1,91,100,"2012-11-24","N1 Ligue T3 CALAIS","1/2 finale Consolante","2012-2013",null,null,null,null,0,null,0]
["CLYNCKE Jean-Jacques","BILLIARD Alain","G",3,1,187,138,"2012-10-06","National T1 BLOIS","Qualifs promotion","2012-2013",null,null,null,null,0,null,0]
["CLYNCKE Jean-Jacques","CHESNEAU Christophe","G",3,0,150,87,"2012-10-06","National T1 BLOIS","Qualifs promotion","2012-2013",null,null,null,null,0,null,0]
["CLYNCKE Jean-Jacques","DAVID Nicolas","P",1,2,119,145,"2012-10-05","National T1 BLOIS","Préqualifs","2012-2013",null,null,null,null,0,null,0]
["CLYNCKE Jean-Jacques","Joueur BLANC","G",2,0,100,90,"2012-10-05","National T1 BLOIS","Préqualifs","2012-2013",null,null,null,null,0,null,0]
["CLYNCKE Jean-Jacques","LANUSSE Christophe","P",2,3,195,207,"2012-10-06","National T1 BLOIS","Qualifs promotion","2012-2013",null,null,null,null,0,null,0]
["CLYNCKE Jean-Jacques","PALOMBA Sergio","P",1,2,104,136,"2012-10-05","National T1 BLOIS","Préqualifs","2012-2013",null,null,null,null,0,null,0]
["CLYNCKE Jean-Jacques","SORTAIS Claude","P",1,3,134,190,"2012-10-07","National T1 BLOIS","1/8 finale promotion","2012-2013",null,null,null,null,0,null,0]
["CLYNCKE Jean-Jacques","FRAUDEAU Michel","P",2,3,190,224,"2012-11-03","National T2 NANTES","Qualifs promotion","2012-2013",null,null,null,null,0,null,0]
["CLYNCKE Jean-Jacques","GANGLOFF Jean-Luc","P",1,3,144,194,"2012-11-03","National T2 NANTES","Qualifs promotion","2012-2013",null,null,null,null,0,null,0]
["CLYNCKE Jean-Jacques","KERCRET Geneviève","G",2,0,100,91,"2012-11-02","National T2 NANTES","Préqualifs","2012-2013",null,null,null,null,0,null,0]
["CLYNCKE Jean-Jacques","NAHIRNYJ Nicolas","G",2,0,100,34,"2012-11-02","National T2 NANTES","Préqualifs","2012-2013",null,null,null,null,0,null,0]
["CLYNCKE Jean-Jacques","SORTAIS Claude","P",0,2,58,100,"2012-11-02","National T2 NANTES","Préqualifs","2012-2013",null,null,null,null,0,null,0]
["CLYNCKE Jean-Jacques","DI PALMA Angelo","G",2,0,100,81,"2013-02-01","National T4 ROUEN","Préqualifs","2012-2013",null,null,null,null,0,null,0]
["CLYNCKE Jean-Jacques","FAQUET Vincent","P",1,2,127,135,"2013-02-01","National T4 ROUEN","Préqualifs","2012-2013",null,null,null,null,0,null,0]
["CLYNCKE Jean-Jacques","GANGLOFF Jean-Luc","P",0,2,47,100,"2013-02-01","National T4 ROUEN","Préqualifs","2012-2013",null,null,null,null,0,null,0]
["CLYNCKE Jean-Jacques","GUILLEMANT Jean-Marc","P",2,3,163,201,"2013-02-02","National T4 ROUEN","Qualifs promotion","2012-2013",null,null,null,null,0,null,0]
["CLYNCKE Jean-Jacques","TALBOT Michel","P",1,3,143,195,"2013-02-02","National T4 ROUEN","Qualifs promotion","2012-2013",null,null,null,null,0,null,0]
["CLYNCKE Jean-Jacques","ACUNZO Raffaele","G",2,1,135,118,"2013-03-08","National T5 LAXOU","Préqualifs","2012-2013",null,null,null,null,0,null,0]
["CLYNCKE Jean-Jacques","BEDNAREK Jean-Michel","G",2,1,133,94,"2013-03-08","National T5 LAXOU","Préqualifs","2012-2013",null,null,null,null,0,null,0]
["CLYNCKE Jean-Jacques","DI LEO Francois","P",2,3,175,206,"2013-03-09","National T5 LAXOU","Qualifs promotion","2012-2013",null,null,null,null,0,null,0]
["CLYNCKE Jean-Jacques","PERRIN Eric","P",1,2,93,145,"2013-03-08","National T5 LAXOU","Préqualifs","2012-2013",null,null,null,null,0,null,0]
["CLYNCKE Jean-Jacques","SORTAIS Claude","P",0,3,95,150,"2013-03-09","National T5 LAXOU","Qualifs promotion","2012-2013",null,null,null,null,0,null,0]
["CLYNCKE Jean-Jacques","DELFORGE Benjamin","G",2,0,120,49,"2014-01-04","N1 Ligue T1 ANNOEULLIN","Poules","2013-2014",null,null,null,null,0,null,0]
["CLYNCKE Jean-Jacques","SAINT-GEORGES Claude","G",2,1,172,119,"2014-01-04","N1 Ligue T1 ANNOEULLIN","Poules","2013-2014",null,null,null,null,{"$f":"IF($K212=P$1,COUNTIF($C212,\"G\"),0)","v":0},null,{"$f":"IF($K212=R$1,COUNTIF($C212,\"G\"),0)","v":0}]
["CLYNCKE Jean-Jacques","DEPLECHIN Robert","G",2,1,155,140,"2014-01-04","N1 Ligue T1 ANNOEULLIN","1/8 Finale","2013-2014",null,null,null,null,0,null,0]
["CLYNCKE Jean-Jacques","SAINT-GEORGES Claude","P",1,2,146,177,"2014-01-04","N1 Ligue T1 ANNOEULLIN","1/4 Finale","2013-2014",null,null,null,null,0,null,0]
["CLYNCKE Jean-Jacques","VEREECQUE Ludovic","P",1,2,116,170,"2014-03-15","N1 Ligue T2 FACHES THUMESNIL","Poules","2013-2014",null,null,null,null,0,null,0]
["CLYNCKE Jean-Jacques","DEPLECHIN Robert","P",1,2,115,162,"2014-03-15","N1 Ligue T2 FACHES THUMESNIL","Poules","2013-2014",null,null,null,null,0,null,0]
["CLYNCKE Jean-Jacques","SAINT-GEORGES Claude","P",0,1,88,100,"2014-03-15","N1 Ligue T2 FACHES THUMESNIL","Poules Consolante","2013-2014",null,null,null,null,0,null,0]
["CLYNCKE Jean-Jacques","DEPLECHIN ROBERT","G",1,0,100,88,"2014-03-15","N1 Ligue T2 FACHES THUMESNIL","Poules Consolante","2013-2014",null,null,null,null,0,null,0]
["CLYNCKE Jean-Jacques","VERPOORT José","G",2,0,120,64,"2014-04-05","N1 Ligue T3 GRAVELINES","Poules","2013-2014",null,null,null,null,0,null,0]
["CLYNCKE Jean-Jacques","VEREECQUE Ludovic","G",2,1,158,145,"2014-04-05","N1 Ligue T3 GRAVELINES","Poules","2013-2014",null,null,null,null,0,null,0]
["CLYNCKE Jean-Jacques","DEROLEZ Jean-Pierre","G",2,1,149,139,"2014-04-05","N1 Ligue T3 GRAVELINES","1/8 Finale","2013-2014",null,null,null,null,0,null,0]
["CLYNCKE Jean-Jacques","VEREECQUE Ludovic","G",2,1,156,97,"2014-04-05","N1 Ligue T3 GRAVELINES","1/4 Finale","2013-2014",null,null,null,null,0,null,0]
["CLYNCKE Jean-Jacques","LHERMITTE Cédric","P",0,2,70,120,"2014-04-05","N1 Ligue T3 GRAVELINES","1/2 Finale","2013-2014",null,null,null,null,0,null,0]
["CLYNCKE Jean-Jacques","LHERMITTE Cédric","P",1,3,152,226,"2014-05-18","Finale Ligue N1 CALAIS","Poules","2013-2014",null,null,null,null,0,null,0]
["CLYNCKE Jean-Jacques","ALDEGUER Lionel","P",1,2,158,147,"2015-02-07","N1 Ligue T2 CALAIS","Poules","2014-2015",null,null,null,null,0,null,0]
["CLYNCKE Jean-Jacques","DEROLEZ Jean-pierre","P",0,2,84,120,"2015-02-07","N1 Ligue T2 CALAIS","Poules","2014-2015",null,null,null,null,0,null,0]
["CLYNCKE Jean-Jacques","DEVOS Jackie","G",2,0,120,107,"2015-02-07","N1 Ligue T2 CALAIS","1/8 Finale","2014-2015",null,null,null,null,1,null,0]
["CLYNCKE Jean-Jacques","DEROLEZ Jean-pierre","P",0,2,89,120,"2015-02-07","N1 Ligue T2 CALAIS","1/4 Finale","2014-2015",null,null,null,null,0,null,0]
["CLYNCKE Jean-Jacques","DAVOINE Bruno","P",1,2,127,158,"2014-11-28","National T2 FACHES THUMESNIL - RONCHIN","Préqualifs","2014-2015",null,null,null,null,0,null,0]
["CLYNCKE Jean-Jacques","EVENOU Roger","G",2,1,147,108,"2014-11-28","National T2 FACHES THUMESNIL - RONCHIN","Préqualifs","2014-2015",null,null,null,null,1,null,0]
["CLYNCKE Jean-Jacques","ROUBY Guillaume","G",2,0,120,114,"2014-11-28","National T2 FACHES THUMESNIL - RONCHIN","Préqualifs","2014-2015",null,null,null,null,1,null,0]
["CLYNCKE Jean-Jacques","MORMICHE Michel","P",0,3,107,180,"2014-11-29","National T2 FACHES THUMESNIL - RONCHIN","Qualifs promotion","2014-2015",null,null,null,null,0,null,0]
["CLYNCKE Jean-Jacques","LORTHIOIR Jean-Luc","P",1,3,183,208,"2014-11-29","National T2 FACHES THUMESNIL - RONCHIN","Qualifs promotion","2014-2015",null,null,null,null,0,null,0]
["CLYNCKE Jean-Jacques","GEETS Patrice","G",2,0,120,75,"2014-12-12","National T3 DOUARNENEZ","Préqualifs","2014-2015",null,null,null,null,1,null,0]
["CLYNCKE Jean-Jacques","KERCRET Geneviève","P",0,2,79,120,"2014-12-12","National T3 DOUARNENEZ","Préqualifs","2014-2015",null,null,null,null,0,null,0]
["CLYNCKE Jean-Jacques","SORTAIS Claude","P",0,2,112,120,"2014-12-12","National T3 DOUARNENEZ","Préqualifs","2014-2015",null,null,null,null,0,null,0]
["CLYNCKE Jean-Jacques","LEGRAND Guy","P",0,3,106,180,"2014-12-13","National T3 DOUARNENEZ","Qualifs promotion","2014-2015",null,null,null,null,0,null,0]
["CLYNCKE Jean-Jacques","PONTHIEUX Christian","P",1,3,184,209,"2014-12-13","National T3 DOUARNENEZ","Qualifs promotion","2014-2015",null,null,null,null,0,null,0]
["CLYNCKE Jean-Jacques","DRONET Chrystel","G",2,1,174,120,"2015-01-23","National T4 LAXOU","Préqualifs","2014-2015",null,null,null,null,1,null,0]
["CLYNCKE Jean-Jacques","CARREAU Sabrina","G",2,0,120,70,"2015-01-23","National T4 LAXOU","Préqualifs","2014-2015",null,null,null,null,1,null,0]
["CLYNCKE Jean-Jacques","SORTAIS Claude","P",0,2,75,120,"2015-01-23","National T4 LAXOU","Préqualifs","2014-2015",null,null,null,null,0,null,0]
["CLYNCKE Jean-Jacques","LEBOEUF Sylvain","P",1,3,166,216,"2015-01-24","National T4 LAXOU","Qualifs promotion","2014-2015",null,null,null,null,0,null,0]
["CLYNCKE Jean-Jacques","PIERRAT Didier","G",3,0,180,108,"2015-01-24","National T4 LAXOU","Qualifs promotion","2014-2015",null,null,null,null,1,null,0]
["CLYNCKE Jean-Jacques","DI LEO Francois","P",1,3,215,221,"2015-01-24","National T4 LAXOU","Qualifs promotion","2014-2015",null,null,null,null,0,null,0]
["CLYNCKE Jean-Jacques","DI LEO Francois","P",0,2,57,120,"2015-03-20","National T5 SAINT QUENTIN","Préqualifs","2014-2015",null,null,null,null,0,null,0]
["CLYNCKE Jean-Jacques","LEPAGE Patrick","G",2,0,120,67,"2015-03-20","National T5 SAINT QUENTIN","Préqualifs","2014-2015",null,null,null,null,1,null,0]
["CLYNCKE Jean-Jacques","SAINT-GEORGES Claude","G",2,0,120,61,"2015-03-20","National T5 SAINT QUENTIN","Préqualifs","2014-2015",null,null,null,null,1,null,0]
["CLYNCKE Jean-Jacques","GANGLOFF Jean-Luc","G",3,2,281,240,"2015-03-21","National T5 SAINT QUENTIN","Qualifs promotion","2014-2015",null,null,null,null,1,null,0]
["CLYNCKE Jean-Jacques","LEBOEUF Sylvain","G",3,0,180,121,"2015-03-21","National T5 SAINT QUENTIN","Qualifs promotion","2014-2015",null,null,null,null,1,null,0]
["CLYNCKE Jean-Jacques","SACRE Jean-Yves","P",1,3,202,218,"2015-03-22","National T5 SAINT QUENTIN","1/8 finale promotion","2014-2015",null,null,null,null,0,null,0]
["CLYNCKE Jean-Jacques","BARBE Philippe","G",2,0,120,63,"2015-10-09","National T1 ROUEN","Préqualifs","2015-2016",null,null,null,null,0,null,1]
["CLYNCKE Jean-Jacques","VICARI Marc","P",0,2,99,120,"2015-10-09","National T1 ROUEN","Préqualifs","2015-2016",null,null,null,null,0,null,0]
["CLYNCKE Jean-Jacques","FAQUET Vincent","P",0,2,72,120,"2015-10-09","National T1 ROUEN","Préqualifs","2015-2016",null,null,null,null,0,null,0]
["CLYNCKE Jean-Jacques","SAINT-GEORGES Claude","P",0,2,81,120,"2015-11-13","National T2 DOUARNENEZ","Préqualifs","2015-2016",null,null,null,null,0,null,0]
["CLYNCKE Jean-Jacques","HARMAND Dominique","G",2,0,120,74,"2015-11-13","National T2 DOUARNENEZ","Préqualifs","2015-2016",null,null,null,null,0,null,1]
["CLYNCKE Jean-Jacques","REBELO Joaquim","P",0,2,53,120,"2015-11-13","National T2 DOUARNENEZ","Préqualifs","2015-2016",null,null,null,null,0,null,0]
["CLYNCKE Jean-Jacques","ROBIC Daniel","P",0,3,75,180,"2015-11-14","National T2 DOUARNENEZ","Qualifs promotion","2015-2016",null,null,null,null,0,null,0]
["CLYNCKE Jean-Jacques","GONTHIER Arnaud","G",3,1,218,214,"2015-11-14","National T2 DOUARNENEZ","Qualifs promotion","2015-2016",null,null,null,null,0,null,1]
["CLYNCKE Jean-Jacques","CARRE Siegfried","P",1,3,192,201,"2015-11-14","National T2 DOUARNENEZ","Qualifs promotion","2015-2016",null,null,null,null,0,null,0]
["CLYNCKE Jean-Jacques","WALLART Jean-Charles","P",0,2,60,120,"2015-12-11","National T3 FACHES THUMESNIL - RONCHIN","Préqualifs","2015-2016",null,null,null,null,0,null,0]
["CLYNCKE Jean-Jacques","THERY Jean-Pierre","G",2,0,120,75,"2015-12-11","National T3 FACHES THUMESNIL - RONCHIN","Préqualifs","2015-2016",null,null,null,null,0,null,1]
["CLYNCKE Jean-Jacques","RIMBOT Nicolas","P",0,2,86,120,"2015-12-11","National T3 FACHES THUMESNIL - RONCHIN","Préqualifs","2015-2016",null,null,null,null,0,null,0]
["CLYNCKE Jean-Jacques","SAINT-GEORGES Claude","G",3,2,230,291,"2015-12-12","National T3 FACHES THUMESNIL - RONCHIN","Qualifs promotion","2015-2016",null,null,null,null,0,null,1]
["CLYNCKE Jean-Jacques","MAILLAT Emmanuel","P",1,3,151,228,"2015-12-12","National T3 FACHES THUMESNIL - RONCHIN","Qualifs promotion","2015-2016",null,null,null,null,0,null,0]
["CLYNCKE Jean-Jacques","DEROLEZ Jean-Pierre","G",3,1,212,153,"2015-12-12","National T3 FACHES THUMESNIL - RONCHIN","Qualifs promotion","2015-2016",null,null,null,null,0,null,1]
["CLYNCKE Jean-Jacques","MICHELOTTI Francesco","P",1,3,127,217,"2015-12-13","National T3 FACHES THUMESNIL - RONCHIN","1/8 finale promotion","2015-2016",null,null,null,null,0,null,0]
["CLYNCKE Jean-Jacques","LHERMITTE Sylvain","P",1,2,150,159,"2016-02-05","National T4 SCHILTIGHEIM","Préqualifs","2015-2016",null,null,null,null,0,null,0]
["CLYNCKE Jean-Jacques","BOUVIER Philippe","P",0,2,81,120,"2016-02-05","National T4 SCHILTIGHEIM","Préqualifs","2015-2016",null,null,null,null,0,null,0]
["CLYNCKE Jean-Jacques","JUBLOT Maxime","P",0,2,79,120,"2016-02-05","National T4 SCHILTIGHEIM","Préqualifs","2015-2016",null,null,null,null,0,null,0]
["CLYNCKE Jean-Jacques","GEETS Patrice","P",1,3,141,232,"2016-02-06","National T4 SCHILTIGHEIM","Qualifs promotion","2015-2016",null,null,null,null,0,null,0]
["CLYNCKE Jean-Jacques","BOUVIER Philippe","P",0,3,115,180,"2016-02-06","National T4 SCHILTIGHEIM","Qualifs promotion","2015-2016",null,null,null,null,0,null,0]
["CLYNCKE Jean-Jacques","POULEYN André","G",2,0,120,92,"2016-03-04","National T5 GRAVELINES","Préqualifs","2015-2016",null,null,null,null,0,null,1]
["CLYNCKE Jean-Jacques","LEMATRE Alexis","G",2,1,169,158,"2016-03-04","National T5 GRAVELINES","Préqualifs","2015-2016",null,null,null,null,0,null,1]
["CLYNCKE Jean-Jacques","GUERIN Xavier","G",2,1,155,144,"2016-03-04","National T5 GRAVELINES","Préqualifs","2015-2016",null,null,null,null,0,null,1]
["CLYNCKE Jean-Jacques","HERREBRECHT Emerick","G",3,2,284,248,"2016-03-05","National T5 GRAVELINES","Qualifs promotion","2015-2016",null,null,null,null,0,null,1]
["CLYNCKE Jean-Jacques","MICHELOTTI Francesco","P",0,3,109,180,"2016-03-05","National T5 GRAVELINES","Qualifs promotion","2015-2016",null,null,null,null,{"$f":"IF($K276=P$1,COUNTIF($C276,\"G\"),0)","v":0},null,{"$f":"IF($K276=R$1,COUNTIF($C276,\"G\"),0)","v":0}]
["CLYNCKE Jean-Jacques","DEROLEZ Jean-Pierre","G",3,1,194,216,"2016-03-05","National T5 GRAVELINES","Qualifs promotion","2015-2016",null,null,null,null,0,null,1]
["CLYNCKE Jean-Jacques","MAILLE Bernard","P",0,3,87,180,"2016-03-06","National T5 GRAVELINES","1/8 finale promotion","2015-2016",null,null,null,null,0,null,0]
["CLYNCKE Jean-Jacques","LORTHIOIR Jean-Luc","P",0,1,74,100,"2015-12-05","CONSOLANTE T1 LIGUE 5 QUILLES N1 - FACHES-THUMESNIL","Poules","2015-2016",null,null,null,null,0,null,0]
["CLYNCKE Jean-Jacques","ALDEGUER Lionel","G",1,0,100,29,"2015-12-05","CONSOLANTE T1 LIGUE 5 QUILLES N1 - FACHES-THUMESNIL","Poules","2015-2016",null,null,null,null,0,null,1]
["CLYNCKE Jean-Jacques","HINGRAND Tony","P",0,1,78,100,"2015-12-05","CONSOLANTE T1 LIGUE 5 QUILLES N1 - FACHES-THUMESNIL","1/2 Finale","2015-2016",null,null,null,null,0,null,0]
["CLYNCKE Jean-Jacques","MANTEN Paul","G",2,1,171,136,"2015-12-04","T1 LIGUE 5 QUILLES N1 - FACHES-THUMESNIL","Poules","2015-2016",null,null,null,null,0,null,1]
["CLYNCKE Jean-Jacques","DELSOL Philippe","P",0,2,43,120,"2015-12-04","T1 LIGUE 5 QUILLES N1 - FACHES-THUMESNIL","Poules","2015-2016",null,null,null,null,0,null,0]
["CLYNCKE Jean-Jacques","MANTEN Paul","G",2,0,120,51,"2016-01-09","T2  LIGUE 5 QUILLES N1 - GRAVELINES","Qualifications","2015-2016",null,null,null,null,0,null,1]
["CLYNCKE Jean-Jacques","MAILLE Bernard","P",1,2,112,163,"2016-01-09","T2  LIGUE 5 QUILLES N1 - GRAVELINES","Qualifications","2015-2016",null,null,null,null,0,null,0]
["CLYNCKE Jean-Jacques","SAINT-GEORGES Claude","G",2,1,152,150,"2016-01-09","T2  LIGUE 5 QUILLES N1 - GRAVELINES","1/8 Finale","2015-2016",null,null,null,null,0,null,1]
["CLYNCKE Jean-Jacques","LECROART Serge","G",2,1,155,113,"2016-01-09","T2  LIGUE 5 QUILLES N1 - GRAVELINES","1/4 Finale","2015-2016",null,null,null,null,0,null,1]
["CLYNCKE Jean-Jacques","DELSOL Philippe","P",1,2,106,159,"2016-01-09","T2  LIGUE 5 QUILLES N1 - GRAVELINES","1/2 Finale","2015-2016",null,null,null,null,0,null,0]
["CLYNCKE Jean-Jacques","DEROLEZ Jean-Pierre","P",1,2,144,156,"2016-01-23","T3 Ligue 5 Quilles N1 - ANNOEULLIN","Qualifications","2015-2016",null,null,null,null,0,null,0]
["CLYNCKE Jean-Jacques","DEROLEZ Jean-Pierre","G",2,0,120,93,"2016-01-23","T3 Ligue 5 Quilles N1 - ANNOEULLIN","Qualifications","2015-2016",null,null,null,null,0,null,1]
["CLYNCKE Jean-Jacques","GHEVART Jean","G",2,0,120,67,"2016-01-23","T3 Ligue 5 Quilles N1 - ANNOEULLIN","1/4 Finale","2015-2016",null,null,null,null,0,null,1]
["CLYNCKE Jean-Jacques","MAILLE Bernard","P",1,2,135,150,"2016-01-23","T3 Ligue 5 Quilles N1 - ANNOEULLIN","1/2 Finale","2015-2016",null,null,null,null,0,null,0]
["CLYNCKE Jean-Jacques","GEETS Patrice","P",1,3,174,218,"2016-04-24","Finale Ligue 5 Quilles N1 - ANNOEULLIN","Qualifications","2015-2016",null,null,null,null,0,null,0]
["CLYNCKE Jean-Jacques","MAILLE Bernard","P",0,3,116,180,"2016-04-24","Finale Ligue 5 Quilles N1 - ANNOEULLIN","Qualifications","2015-2016",null,null,null,null,0,null,0]
["Fin des données",null,null,null,null,null,null,null,null,null,"",null,null,null,null,{"$f":"IF($K295=P$1,COUNTIF($C295,\"G\"),0)","v":0},null,{"$f":"IF($K295=R$1,COUNTIF($C295,\"G\"),0)","v":0}]

{"sheet":"DECONINCK Franky","index":11,"n_rows":45,"n_cols":22,"rows_kept":45,"cut":false,"hidden":false,"merged":[]}
["DECONINCK Franky",null,null,null,null,null,null,null,null,null,null,null,null,null,null,{"$f":"Récapitulatif!$B$2","v":"2014-2015"},null,{"$f":"Récapitulatif!$B$3","v":"2015-2016"},null,"Toutes saisons"]
[{"$error":"#N/A"},null,null,null,null,null,null,null,null,null,null,null,null,null,null,"Nombre","%age","Nombre","%age","Nombre","%age"]
[{"$error":"#N/A"},null,null,null,null,null,null,null,null,null,null,null,null,"Matchs","Gagnés",{"$f":"SUM(P$15:P$45)","v":11},{"$f":"IF(P$3+P$4>0,P3/(P$3+P$4),\"\")","v":0.6875},{"$f":"SUM(R$15:R$45)","v":0},{"$f":"IF(R$3+R$4>0,R3/(R$3+R$4),\"\")","v":""},{"$f":"COUNTIF($C$15:$C$45,\"G\")","v":17},{"$f":"IF(T$3+T$4>0,T3/(T$3+T$4),\"\")","v":0.58620689655172409}]
[{"$error":"#N/A"},null,null,null,null,null,null,null,null,null,null,null,null,null,"Perdus",{"$f":"COUNTIF($K$15:$K$45,Récapitulatif!$B$2)-P3","v":5},{"$f":"IF(P$3+P$4>0,P4/(P$3+P$4),\"\")","v":0.3125},{"$f":"COUNTIF($K$15:$K$45,Récapitulatif!$B$3)-R3","v":0},{"$f":"IF(R$3+R$4>0,R4/(R$3+R$4),\"\")","v":""},{"$f":"COUNTIF($C$15:$C$45,\"P\")","v":12},{"$f":"IF(T$3+T$4>0,T4/(T$3+T$4),\"\")","v":0.41379310344827586}]
[{"$error":"#N/A"},null,null,null,null,null,null,null,null,null,null,null,null,null,"Total / Moy.",{"$f":"SUM(P3:P4)","v":16},{"$f":"IF(SUMIF($K$15:$K$45,Récapitulatif!$B$2,$G$15:$G$45)>0,SUMIF($K$15:$K$45,Récapitulatif!$B$2,$F$15:$F$45)/SUMIF($K$15:$K$45,Récapitulatif!$B$2,$G$15:$G$45),\"\")","v":1.1991172143207454},{"$f":"SUM(R3:R4)","v":0},{"$f":"IF(SUMIF($K$15:$K$45,Récapitulatif!$B$3,$G$15:$G$45)>0,SUMIF($K$15:$K$45,Récapitulatif!$B$3,$F$15:$F$45)/SUMIF($K$15:$K$45,Récapitulatif!$B$3,$G$15:$G$45),\"\")","v":""},{"$f":"SUM(T3:T4)","v":29},{"$f":"IF(SUM($G$15:$G$45)>0,SUM($F$15:$F$45)/SUM($G$15:$G$45),\"\")","v":1.0942709912094575},{"$f":"IF(SUMIF($K$15:$K$45,Récapitulatif!$B$2,$G$15:$G$45)+SUMIF($K$15:$K$45,Récapitulatif!$B$3,$G$15:$G$45)>0,(SUMIF($K$15:$K$45,Récapitulatif!$B$2,$F$15:$F$45)+SUMIF($K$15:$K$45,Récapitulatif!$B$3,$F$15:$F$45))/(SUMIF($K$15:$K$45,Récapitulatif!$B$2,$G$15:$G$45)+SUMIF($K$15:$K$45,Récapitulatif!$B$3,$G$15:$G$45)),\"\")","v":1.1991172143207454}]
[null,null,null,null,null,null,null,null,null,null,null,null,null,"Sets","Gagnés",{"$f":"SUMIF($K$15:$K$45,Récapitulatif!$B$2,$D$15:$D$45)","v":30},{"$f":"IF(P$6+P$7>0,P6/(P$6+P$7),\"\")","v":0.66666666666666663},{"$f":"SUMIF($K$15:$K$45,Récapitulatif!$B$3,$D$15:$D$45)","v":0},{"$f":"IF(R$6+R$7>0,R6/(R$6+R$7),\"\")","v":""},{"$f":"SUM($D$15:$D$45)","v":37},{"$f":"IF(T$6+T$7>0,T6/(T$6+T$7),\"\")","v":0.58730158730158732}]
[null,null,null,null,null,null,null,null,null,null,null,null,null,null,"Perdus",{"$f":"SUMIF($K$15:$K$45,Récapitulatif!$B$2,$E$15:$E$45)","v":15},{"$f":"IF(P$6+P$7>0,P7/(P$6+P$7),\"\")","v":0.33333333333333331},{"$f":"SUMIF($K$15:$K$45,Récapitulatif!$B$3,$E$15:$E$45)","v":0},{"$f":"IF(R$6+R$7>0,R7/(R$6+R$7),\"\")","v":""},{"$f":"SUM($E$15:$E$45)","v":26},{"$f":"IF(T$6+T$7>0,T7/(T$6+T$7),\"\")","v":0.41269841269841268}]
["Récapitulatif joueurs",null,null,null,null,null,null,null,null,null,null,null,null,null,"Total",{"$f":"SUM(P6:P7)","v":45},null,{"$f":"SUM(R6:R7)","v":0},null,{"$f":"SUM(T6:T7)","v":63}]
[]
[]
[]
[]
[]
[]
["Joueur","Adversaire","G/P","Sets gagnés","Sets perdus","pts marqués","pts subis","Date","Compétition","Phase","Saison"]
["DECONINCK Franky","WALLART Jean-Charles","P",0,2,67,120,"2012-01-07","N1 Ligue T3 FACHES THUMESNIL","Poules",{"$f":"IF(H16<>\"\",IF(MONTH(H16)>MoisRef,YEAR(H16)&\"-\"&YEAR(H16)+1,YEAR(H16)-1&\"-\"&YEAR(H16)),\"\")","v":"2011-2012"},null,null,null,null,{"$f":"IF($K16=P$1,COUNTIF($C16,\"G\"),0)","v":0},null,{"$f":"IF($K16=R$1,COUNTIF($C16,\"G\"),0)","v":0}]
["DECONINCK Franky","RACARY Thibault","P",0,2,70,120,"2012-01-07","N1 Ligue T3 FACHES THUMESNIL","Poules","2011-2012",null,null,null,null,0,null,0]
["DECONINCK Franky","GHEVART Jean","G",1,0,100,70,"2012-01-07","N1 Ligue T3 FACHES THUMESNIL","Poules Consolante","2011-2012",null,null,null,null,0,null,0]
["DECONINCK Franky","POULEYN André","G",1,0,100,91,"2012-01-07","N1 Ligue T3 FACHES THUMESNIL","Poules Consolante","2011-2012",null,null,null,null,0,null,0]
["DECONINCK Franky","GEETS Patrice","G",1,0,100,79,"2012-01-07","N1 Ligue T3 FACHES THUMESNIL","Finale Consolante","2011-2012",null,null,null,null,0,null,0]
["DECONINCK Franky","MANTEN Paul","G",1,0,100,66,"2012-01-07","N1 Ligue T3 FACHES THUMESNIL","Finale Consolante","2011-2012",null,null,null,null,0,null,0]
["DECONINCK Franky","LHERMITTE Cédric","P",0,2,74,120,"2012-10-27","N1 Ligue T2 BRUAY sur ESCAUT","Poules","2012-2013",null,null,null,null,0,null,0]
["DECONINCK Franky","GEETS Patrice","P",1,2,140,158,"2012-10-27","N1 Ligue T2 BRUAY sur ESCAUT","Poules","2012-2013",null,null,null,null,0,null,0]
["DECONINCK Franky","WALLART Jean-Charles","P",0,1,96,100,"2012-10-27","N1 Ligue T2 BRUAY / ESCAUT","Poules Consolante","2012-2013",null,null,null,null,0,null,0]
["DECONINCK Franky","WALLART Jean-Charles","P",0,1,68,100,"2012-10-27","N1 Ligue T2 BRUAY / ESCAUT","Poules Consolante","2012-2013",null,null,null,null,0,null,0]
["DECONINCK Franky","CAUX Frédéric","G",1,0,100,57,"2012-10-13","N1 Ligue T1 ANNOEULLIN","Poules Consolante","2012-2013",null,null,null,null,0,null,0]
["DECONINCK Franky","LORTHIOIR Jean-Luc","G",1,0,100,79,"2012-10-13","N1 Ligue T1 ANNOEULLIN","Poules Consolante","2012-2013",null,null,null,null,0,null,0]
["DECONINCK Franky","MAILLE Bernard","P",0,1,50,100,"2012-10-14","N1 Ligue T1 ANNOEULLIN","Finale Consolante","2012-2013",null,null,null,null,0,null,0]
["DECONINCK Franky","POULEYN André","G",2,0,120,71,"2015-01-17","N1 Ligue T1 DUNKERQUE","Poules","2014-2015",null,null,null,null,1,null,0]
["DECONINCK Franky","WALLART Jean-charles","P",1,2,169,171,"2015-01-17","N1 Ligue T1 DUNKERQUE","Poules","2014-2015",null,null,null,null,0,null,0]
["DECONINCK Franky","SEINGIER Jean-Claude","G",2,0,120,50,"2015-01-17","N1 Ligue T1 DUNKERQUE","1/8 Finale","2014-2015",null,null,null,null,1,null,0]
["DECONINCK Franky","DEROLEZ Jean-pierre","G",2,0,120,63,"2015-01-17","N1 Ligue T1 DUNKERQUE","1/4 Finale","2014-2015",null,null,null,null,1,null,0]
["DECONINCK Franky","DEVOS Jackie","G",2,0,120,99,"2015-01-17","N1 Ligue T1 DUNKERQUE","1/2 Finale","2014-2015",null,null,null,null,1,null,0]
["DECONINCK Franky","GEETS Patrice","G",2,0,120,96,"2015-01-17","N1 Ligue T1 DUNKERQUE","Finale","2014-2015",null,null,null,null,1,null,0]
["DECONINCK Franky","CAUX Frédéric","G",2,0,120,89,"2015-02-07","N1 Ligue T2 CALAIS","Poules","2014-2015",null,null,null,null,1,null,0]
["DECONINCK Franky","TRIPLET Gilbert","G",2,1,176,147,"2015-02-07","N1 Ligue T2 CALAIS","Poules","2014-2015",null,null,null,null,1,null,0]
["DECONINCK Franky","DEPLECHIN Robert","P",1,2,146,151,"2015-02-07","N1 Ligue T2 CALAIS","1/8 Finale","2014-2015",null,null,null,null,0,null,0]
["DECONINCK Franky","WALLART Jean-Charles","P",1,2,143,147,"2015-03-14","N1 Ligue T3 ANNOEULLIN","Poules","2014-2015",null,null,null,null,0,null,0]
["DECONINCK Franky","LUBREZ Pierre","G",2,0,120,94,"2015-03-14","N1 Ligue T3 ANNOEULLIN","Poules","2014-2015",null,null,null,null,1,null,0]
["DECONINCK Franky","LEMÂTRE Jérémy","P",1,2,133,168,"2015-03-14","N1 Ligue T3 ANNOEULLIN","1/4 Finale","2014-2015",null,null,null,null,0,null,0]
["DECONINCK Franky","DEPLECHIN Robert","G",3,0,180,62,"2015-04-19","FINALE LIGUE N1 GRAVELINES","Poules","2014-2015",null,null,null,null,1,null,0]
["DECONINCK Franky","LEMÂTRE Alexis","G",3,2,253,232,"2015-04-19","FINALE LIGUE N1 GRAVELINES","Poules","2014-2015",null,null,null,null,1,null,0]
["DECONINCK Franky","POULEYN André","G",3,1,234,180,"2015-04-19","FINALE LIGUE N1 GRAVELINES","1/2 Finale","2014-2015",null,null,null,null,1,null,0]
["DECONINCK Franky","LEMÂTRE Jérémy","P",1,3,171,219,"2015-04-19","FINALE LIGUE N1 GRAVELINES","Finale","2014-2015",null,null,null,null,0,null,0]
["Fin des données",null,null,null,null,null,null,null,null,null,"",null,null,null,null,{"$f":"IF($K45=P$1,COUNTIF($C45,\"G\"),0)","v":0},null,{"$f":"IF($K45=R$1,COUNTIF($C45,\"G\"),0)","v":0}]

{"sheet":"DELEPIERRE Patrick","index":12,"n_rows":65,"n_cols":22,"rows_kept":65,"cut":false,"hidden":false,"merged":[]}
["DELEPIERRE Patrick",null,null,null,null,null,null,null,null,null,null,null,null,null,null,{"$f":"Récapitulatif!$B$2","v":"2014-2015"},null,{"$f":"Récapitulatif!$B$3","v":"2015-2016"},null,"Toutes saisons"]
["FACHES-THUMESNIL",null,null,null,null,null,null,null,null,null,null,null,null,null,null,"Nombre","%age","Nombre","%age","Nombre","%age"]
["109142-U",null,null,null,null,null,null,null,null,null,null,null,null,"Matchs","Gagnés",{"$f":"SUM(P$15:P$65)","v":0},{"$f":"IF(P$3+P$4>0,P3/(P$3+P$4),\"\")","v":""},{"$f":"SUM(R$15:R$65)","v":0},{"$f":"IF(R$3+R$4>0,R3/(R$3+R$4),\"\")","v":""},{"$f":"COUNTIF($C$15:$C$65,\"G\")","v":14},{"$f":"IF(T$3+T$4>0,T3/(T$3+T$4),\"\")","v":0.2857142857142857}]
[null,null,null,null,null,null,null,null,null,null,null,null,null,null,"Perdus",{"$f":"COUNTIF($K$15:$K$65,Récapitulatif!$B$2)-P3","v":0},{"$f":"IF(P$3+P$4>0,P4/(P$3+P$4),\"\")","v":""},{"$f":"COUNTIF($K$15:$K$65,Récapitulatif!$B$3)-R3","v":0},{"$f":"IF(R$3+R$4>0,R4/(R$3+R$4),\"\")","v":""},{"$f":"COUNTIF($C$15:$C$65,\"P\")","v":35},{"$f":"IF(T$3+T$4>0,T4/(T$3+T$4),\"\")","v":0.7142857142857143}]
[null,null,null,null,null,null,null,null,null,null,null,null,null,null,"Total / Moy.",{"$f":"SUM(P3:P4)","v":0},{"$f":"IF(SUMIF($K$15:$K$65,Récapitulatif!$B$2,$G$15:$G$65)>0,SUMIF($K$15:$K$65,Récapitulatif!$B$2,$F$15:$F$65)/SUMIF($K$15:$K$65,Récapitulatif!$B$2,$G$15:$G$65),\"\")","v":""},{"$f":"SUM(R3:R4)","v":0},{"$f":"IF(SUMIF($K$15:$K$65,Récapitulatif!$B$3,$G$15:$G$65)>0,SUMIF($K$15:$K$65,Récapitulatif!$B$3,$F$15:$F$65)/SUMIF($K$15:$K$65,Récapitulatif!$B$3,$G$15:$G$65),\"\")","v":""},{"$f":"SUM(T3:T4)","v":49},{"$f":"IF(SUM($G$15:$G$65)>0,SUM($F$15:$F$65)/SUM($G$15:$G$65),\"\")","v":0.77849636216653195},{"$f":"IF(SUMIF($K$15:$K$65,Récapitulatif!$B$2,$G$15:$G$65)+SUMIF($K$15:$K$65,Récapitulatif!$B$3,$G$15:$G$65)>0,(SUMIF($K$15:$K$65,Récapitulatif!$B$2,$F$15:$F$65)+SUMIF($K$15:$K$65,Récapitulatif!$B$3,$F$15:$F$65))/(SUMIF($K$15:$K$65,Récapitulatif!$B$2,$G$15:$G$65)+SUMIF($K$15:$K$65,Récapitulatif!$B$3,$G$15:$G$65)),\"\")","v":""}]
[null,null,null,null,null,null,null,null,null,null,null,null,null,"Sets","Gagnés",{"$f":"SUMIF($K$15:$K$65,Récapitulatif!$B$2,$D$15:$D$65)","v":0},{"$f":"IF(P$6+P$7>0,P6/(P$6+P$7),\"\")","v":""},{"$f":"SUMIF($K$15:$K$65,Récapitulatif!$B$3,$D$15:$D$65)","v":0},{"$f":"IF(R$6+R$7>0,R6/(R$6+R$7),\"\")","v":""},{"$f":"SUM($D$15:$D$65)","v":43},{"$f":"IF(T$6+T$7>0,T6/(T$6+T$7),\"\")","v":0.31617647058823528}]
[null,null,null,null,null,null,null,null,null,null,null,null,null,null,"Perdus",{"$f":"SUMIF($K$15:$K$65,Récapitulatif!$B$2,$E$15:$E$65)","v":0},{"$f":"IF(P$6+P$7>0,P7/(P$6+P$7),\"\")","v":""},{"$f":"SUMIF($K$15:$K$65,Récapitulatif!$B$3,$E$15:$E$65)","v":0},{"$f":"IF(R$6+R$7>0,R7/(R$6+R$7),\"\")","v":""},{"$f":"SUM($E$15:$E$65)","v":93},{"$f":"IF(T$6+T$7>0,T7/(T$6+T$7),\"\")","v":0.68382352941176472}]
["Récapitulatif joueurs",null,null,null,null,null,null,null,null,null,null,null,null,null,"Total",{"$f":"SUM(P6:P7)","v":0},null,{"$f":"SUM(R6:R7)","v":0},null,{"$f":"SUM(T6:T7)","v":136}]
[]
[]
[]
[]
[]
[]
["Joueur","Adversaire","G/P","Sets gagnés","Sets perdus","pts marqués","pts subis","Date","Compétition","Phase","Saison"]
["DELEPIERRE Patrick","GONTHIER Arnaud","P",0,2,87,120,"2008-10-10","National T1 MAISONS ALFORT","Préqualifs",{"$f":"IF(H16<>\"\",IF(MONTH(H16)>MoisRef,YEAR(H16)&\"-\"&YEAR(H16)+1,YEAR(H16)-1&\"-\"&YEAR(H16)),\"\")","v":"2008-2009"},null,null,null,null,{"$f":"IF($K16=P$1,COUNTIF($C16,\"G\"),0)","v":0},null,{"$f":"IF($K16=R$1,COUNTIF($C16,\"G\"),0)","v":0}]
["DELEPIERRE Patrick","MICHEL Louis","P",1,2,134,149,"2008-10-10","National T1 MAISONS ALFORT","Préqualifs","2008-2009",null,null,null,null,0,null,0]
["DELEPIERRE Patrick","SAINT-GEORGES Claude","P",0,2,43,120,"2008-10-10","National T1 MAISONS ALFORT","Préqualifs","2008-2009",null,null,null,null,0,null,0]
["DELEPIERRE Patrick","DAVOINE Bruno","P",0,2,87,120,"2008-11-14","National T2 SCHILTIGHEIM","Préqualifs","2008-2009",null,null,null,null,0,null,0]
["DELEPIERRE Patrick","SCHUB Philippe","P",0,2,84,120,"2008-11-14","National T2 SCHILTIGHEIM","Préqualifs","2008-2009",null,null,null,null,0,null,0]
["DELEPIERRE Patrick","BOUVIER Philippe","P",1,2,124,170,"2008-11-14","National T2 SCHILTIGHEIM","Préqualifs","2008-2009",null,null,null,null,0,null,0]
["DELEPIERRE Patrick","LORTHIOIR Jean-Luc","G",2,1,151,150,"2008-12-12","National T3 ANNOEULLIN","Préqualifs","2008-2009",null,null,null,null,0,null,0]
["DELEPIERRE Patrick","GUILLEMANT Jean-Marc","P",0,2,71,120,"2008-12-12","National T3 ANNOEULLIN","Préqualifs","2008-2009",null,null,null,null,0,null,0]
["DELEPIERRE Patrick","TIRALONGO Sébastien","P",0,2,86,120,"2008-12-12","National T3 ANNOEULLIN","Préqualifs","2008-2009",null,null,null,null,0,null,0]
["DELEPIERRE Patrick","DAVOINE Bruno","P",0,2,68,120,"2009-02-06","National T4 LAXOU","Préqualifs","2008-2009",null,null,null,null,0,null,0]
["DELEPIERRE Patrick","EVENOU Roger","P",0,2,77,120,"2009-02-06","National T4 LAXOU","Préqualifs","2008-2009",null,null,null,null,0,null,0]
["DELEPIERRE Patrick","PAU Mariano","P",1,2,91,173,"2009-02-06","National T4 LAXOU","Préqualifs","2008-2009",null,null,null,null,0,null,0]
["DELEPIERRE Patrick","ZACCAGNINI Antoine","P",0,3,152,180,"2009-02-07","National T4 LAXOU","Qualifs promotion","2008-2009",null,null,null,null,0,null,0]
["DELEPIERRE Patrick","EVENOU Roger","G",3,0,180,127,"2009-02-07","National T4 LAXOU","Qualifs promotion","2008-2009",null,null,null,null,0,null,0]
["DELEPIERRE Patrick","ZACCAGNINI Antoine","P",0,3,99,180,"2009-02-07","National T4 LAXOU","Qualifs promotion","2008-2009",null,null,null,null,0,null,0]
["DELEPIERRE Patrick","FOURRE Cédric","P",0,2,84,120,"2009-03-20","National T5 ANDERNOS","Préqualifs","2008-2009",null,null,null,null,0,null,0]
["DELEPIERRE Patrick","EVENOU Marie-Antoinette","G",2,0,120,109,"2009-03-20","National T5 ANDERNOS","Préqualifs","2008-2009",null,null,null,null,0,null,0]
["DELEPIERRE Patrick","DAVOINE Bruno","P",0,2,49,120,"2009-03-20","National T5 ANDERNOS","Préqualifs","2008-2009",null,null,null,null,0,null,0]
["DELEPIERRE Patrick","FOURRE Cédric","P",0,3,86,180,"2009-03-21","National T5 ANDERNOS","Qualifs promotion","2008-2009",null,null,null,null,0,null,0]
["DELEPIERRE Patrick","PALOMBA Sergio","G",3,2,281,234,"2009-03-21","National T5 ANDERNOS","Qualifs promotion","2008-2009",null,null,null,null,0,null,0]
["DELEPIERRE Patrick","BAYON Pascal","P",0,3,97,180,"2009-03-21","National T5 ANDERNOS","Qualifs promotion","2008-2009",null,null,null,null,0,null,0]
["DELEPIERRE Patrick","DEBRAY Alain","P",0,2,77,120,"2009-12-04","National T2 ANNOEULLIN","Préqualifs","2009-2010",null,null,null,null,0,null,0]
["DELEPIERRE Patrick","ALEXANDRE Michel","P",1,2,144,169,"2009-12-04","National T2 ANNOEULLIN","Préqualifs","2009-2010",null,null,null,null,0,null,0]
["DELEPIERRE Patrick","MAILLE Bernard","P",0,2,48,120,"2009-12-04","National T2 ANNOEULLIN","Préqualifs","2009-2010",null,null,null,null,0,null,0]
["DELEPIERRE Patrick","DAVOINE Bruno","P",0,2,60,120,"2010-01-29","National T3 ORLEANS","Préqualifs","2009-2010",null,null,null,null,0,null,0]
["DELEPIERRE Patrick","PAILLART Jean-Paul","G",2,0,120,71,"2010-01-29","National T3 ORLEANS","Préqualifs","2009-2010",null,null,null,null,0,null,0]
["DELEPIERRE Patrick","ZILLIG Pierre","P",1,2,98,176,"2010-01-29","National T3 ORLEANS","Préqualifs","2009-2010",null,null,null,null,0,null,0]
["DELEPIERRE Patrick","ROBIC Daniel","G",3,2,250,256,"2010-01-30","National T3 ORLEANS","Qualifs promotion","2009-2010",null,null,null,null,0,null,0]
["DELEPIERRE Patrick","ZACCAGNINI Antoine","P",0,3,117,180,"2010-01-30","National T3 ORLEANS","Qualifs promotion","2009-2010",null,null,null,null,0,null,0]
["DELEPIERRE Patrick","MAIZOUE Alain","G",3,2,233,236,"2010-01-30","National T3 ORLEANS","Qualifs promotion","2009-2010",null,null,null,null,0,null,0]
["DELEPIERRE Patrick","ZACCAGNINI Antoine","P",0,3,112,180,"2010-01-31","National T3 ORLEANS","1/8 finale promotion","2009-2010",null,null,null,null,0,null,0]
["DELEPIERRE Patrick","DAVOINE Bruno","P",0,2,60,120,"2010-01-29","National T3 ORLEANS","Préqualifs","2009-2010",null,null,null,null,0,null,0]
["DELEPIERRE Patrick","PAILLART Jean-Paul","G",2,0,120,71,"2010-01-29","National T3 ORLEANS","Préqualifs","2009-2010",null,null,null,null,0,null,0]
["DELEPIERRE Patrick","ZILLIG Pierre","P",1,2,98,176,"2010-01-29","National T3 ORLEANS","Préqualifs","2009-2010",null,null,null,null,0,null,0]
["DELEPIERRE Patrick","ROBIC Daniel","G",3,2,250,256,"2010-01-30","National T3 ORLEANS","Qualifs promotion","2009-2010",null,null,null,null,0,null,0]
["DELEPIERRE Patrick","ZACCAGNINI Antoine","P",0,3,117,180,"2010-01-30","National T3 ORLEANS","Qualifs promotion","2009-2010",null,null,null,null,0,null,0]
["DELEPIERRE Patrick","MAIZOUE Alain","G",3,2,233,236,"2010-01-30","National T3 ORLEANS","Qualifs promotion","2009-2010",null,null,null,null,0,null,0]
["DELEPIERRE Patrick","ZACCAGNINI Antoine","P",0,3,112,180,"2010-01-31","National T3 ORLEANS","1/8 finale promotion","2009-2010",null,null,null,null,0,null,0]
["DELEPIERRE Patrick","GOUSSETIS Georges","G",2,0,120,80,"2010-02-26","National T4 ROUEN","Préqualifs","2009-2010",null,null,null,null,0,null,0]
["DELEPIERRE Patrick","HORNECKER Benoît","G",2,0,120,65,"2010-02-26","National T4 ROUEN","Préqualifs","2009-2010",null,null,null,null,0,null,0]
["DELEPIERRE Patrick","BAYON Pascal","P",0,2,52,120,"2010-02-26","National T4 ROUEN","Préqualifs","2009-2010",null,null,null,null,0,null,0]
["DELEPIERRE Patrick","DEMILLY Jean-Sébastien","P",0,3,104,180,"2010-02-27","National T4 ROUEN","Qualifs promotion","2009-2010",null,null,null,null,0,null,0]
["DELEPIERRE Patrick","SORTAIS Claude","P",0,3,114,180,"2010-02-27","National T4 ROUEN","Qualifs promotion","2009-2010",null,null,null,null,0,null,0]
["DELEPIERRE Patrick","CAUX Frédéric","P",1,2,155,176,"2010-03-26","National T5 ST SEBASTIEN / LOIRE","Préqualifs","2009-2010",null,null,null,null,0,null,0]
["DELEPIERRE Patrick","ZACCAGNINI Antoine","P",0,2,44,120,"2010-03-26","National T5 ST SEBASTIEN / LOIRE","Préqualifs","2009-2010",null,null,null,null,0,null,0]
["DELEPIERRE Patrick","BLANC J.","G",2,0,120,116,"2010-03-26","National T5 ST SEBASTIEN / LOIRE","Préqualifs","2009-2010",null,null,null,null,0,null,0]
["DELEPIERRE Patrick","JUBLOT Denis","P",0,3,113,180,"2010-03-27","National T5 ST SEBASTIEN / LOIRE","Qualifs promotion","2009-2010",null,null,null,null,0,null,0]
["DELEPIERRE Patrick","FRAUDEAU Michel","G",3,0,180,110,"2010-03-27","National T5 ST SEBASTIEN / LOIRE","Qualifs promotion","2009-2010",null,null,null,null,0,null,0]
["DELEPIERRE Patrick","JUBLOT Denis","P",1,3,156,216,"2010-03-27","National T5 ST SEBASTIEN / LOIRE","Qualifs promotion","2009-2010",null,null,null,null,0,null,0]
["Fin des données",null,null,null,null,null,null,null,null,null,"",null,null,null,null,{"$f":"IF($K65=P$1,COUNTIF($C65,\"G\"),0)","v":0},null,{"$f":"IF($K65=R$1,COUNTIF($C65,\"G\"),0)","v":0}]

{"sheet":"DELFORGE Benjamin","index":13,"n_rows":20,"n_cols":22,"rows_kept":20,"cut":false,"hidden":false,"merged":[]}
["DELFORGE Benjamin",null,null,null,null,null,null,null,null,null,null,null,null,null,null,{"$f":"Récapitulatif!$B$2","v":"2014-2015"},null,{"$f":"Récapitulatif!$B$3","v":"2015-2016"},null,"Toutes saisons"]
["<Club>",null,null,null,null,null,null,null,null,null,null,null,null,null,null,"Nombre","%age","Nombre","%age","Nombre","%age"]
["<Licence>",null,null,null,null,null,null,null,null,null,null,null,null,"Matchs","Gagnés",{"$f":"SUM(P$15:P$20)","v":0},{"$f":"IF(P$3+P$4>0,P3/(P$3+P$4),\"\")","v":""},{"$f":"SUM(R$15:R$20)","v":0},{"$f":"IF(R$3+R$4>0,R3/(R$3+R$4),\"\")","v":""},{"$f":"COUNTIF($C$15:$C$20,\"G\")","v":0},{"$f":"IF(T$3+T$4>0,T3/(T$3+T$4),\"\")","v":0}]
["<Tel>",null,null,null,null,null,null,null,null,null,null,null,null,null,"Perdus",{"$f":"COUNTIF($K$15:$K$20,Récapitulatif!$B$2)-P3","v":0},{"$f":"IF(P$3+P$4>0,P4/(P$3+P$4),\"\")","v":""},{"$f":"COUNTIF($K$15:$K$20,Récapitulatif!$B$3)-R3","v":0},{"$f":"IF(R$3+R$4>0,R4/(R$3+R$4),\"\")","v":""},{"$f":"COUNTIF($C$15:$C$20,\"P\")","v":4},{"$f":"IF(T$3+T$4>0,T4/(T$3+T$4),\"\")","v":1}]
["<email>",null,null,null,null,null,null,null,null,null,null,null,null,null,"Total / Moy.",{"$f":"SUM(P3:P4)","v":0},{"$f":"IF(SUMIF($K$15:$K$20,Récapitulatif!$B$2,$G$15:$G$20)>0,SUMIF($K$15:$K$20,Récapitulatif!$B$2,$F$15:$F$20)/SUMIF($K$15:$K$20,Récapitulatif!$B$2,$G$15:$G$20),\"\")","v":""},{"$f":"SUM(R3:R4)","v":0},{"$f":"IF(SUMIF($K$15:$K$20,Récapitulatif!$B$3,$G$15:$G$20)>0,SUMIF($K$15:$K$20,Récapitulatif!$B$3,$F$15:$F$20)/SUMIF($K$15:$K$20,Récapitulatif!$B$3,$G$15:$G$20),\"\")","v":""},{"$f":"SUM(T3:T4)","v":4},{"$f":"IF(SUM($G$15:$G$20)>0,SUM($F$15:$F$20)/SUM($G$15:$G$20),\"\")","v":0.42499999999999999},{"$f":"IF(SUMIF($K$15:$K$20,Récapitulatif!$B$2,$G$15:$G$20)+SUMIF($K$15:$K$20,Récapitulatif!$B$3,$G$15:$G$20)>0,(SUMIF($K$15:$K$20,Récapitulatif!$B$2,$F$15:$F$20)+SUMIF($K$15:$K$20,Récapitulatif!$B$3,$F$15:$F$20))/(SUMIF($K$15:$K$20,Récapitulatif!$B$2,$G$15:$G$20)+SUMIF($K$15:$K$20,Récapitulatif!$B$3,$G$15:$G$20)),\"\")","v":""}]
[null,null,null,null,null,null,null,null,null,null,null,null,null,"Sets","Gagnés",{"$f":"SUMIF($K$15:$K$20,Récapitulatif!$B$2,$D$15:$D$20)","v":0},{"$f":"IF(P$6+P$7>0,P6/(P$6+P$7),\"\")","v":""},{"$f":"SUMIF($K$15:$K$20,Récapitulatif!$B$3,$D$15:$D$20)","v":0},{"$f":"IF(R$6+R$7>0,R6/(R$6+R$7),\"\")","v":""},{"$f":"SUM($D$15:$D$20)","v":0},{"$f":"IF(T$6+T$7>0,T6/(T$6+T$7),\"\")","v":0}]
[null,null,null,null,null,null,null,null,null,null,null,null,null,null,"Perdus",{"$f":"SUMIF($K$15:$K$20,Récapitulatif!$B$2,$E$15:$E$20)","v":0},{"$f":"IF(P$6+P$7>0,P7/(P$6+P$7),\"\")","v":""},{"$f":"SUMIF($K$15:$K$20,Récapitulatif!$B$3,$E$15:$E$20)","v":0},{"$f":"IF(R$6+R$7>0,R7/(R$6+R$7),\"\")","v":""},{"$f":"SUM($E$15:$E$20)","v":6},{"$f":"IF(T$6+T$7>0,T7/(T$6+T$7),\"\")","v":1}]
["Récapitulatif joueurs",null,null,null,null,null,null,null,null,null,null,null,null,null,"Total",{"$f":"SUM(P6:P7)","v":0},null,{"$f":"SUM(R6:R7)","v":0},null,{"$f":"SUM(T6:T7)","v":6}]
[]
[]
[]
[]
[]
[]
["Joueur","Adversaire","G/P","Sets gagnés","Sets perdus","pts marqués","pts subis","Date","Compétition","Phase","Saison"]
["DELFORGE Benjamin","CLYNCKE Jean-Jacques","P",0,2,49,120,"2014-01-04","N1 Ligue T1 ANNOEULLIN","Poules",{"$f":"IF(H16<>\"\",IF(MONTH(H16)>MoisRef,YEAR(H16)&\"-\"&YEAR(H16)+1,YEAR(H16)-1&\"-\"&YEAR(H16)),\"\")","v":"2013-2014"},null,null,null,null,{"$f":"IF($K16=P$1,COUNTIF($C16,\"G\"),0)","v":0},null,{"$f":"IF($K16=R$1,COUNTIF($C16,\"G\"),0)","v":0}]
["DELFORGE Benjamin","SAINT-GEORGES Claude","P",0,2,17,120,"2014-01-04","N1 Ligue T1 ANNOEULLIN","Poules",{"$f":"IF(H17<>\"\",IF(MONTH(H17)>MoisRef,YEAR(H17)&\"-\"&YEAR(H17)+1,YEAR(H17)-1&\"-\"&YEAR(H17)),\"\")","v":"2013-2014"},null,null,null,null,{"$f":"IF($K17=P$1,COUNTIF($C17,\"G\"),0)","v":0},null,{"$f":"IF($K17=R$1,COUNTIF($C17,\"G\"),0)","v":0}]
["DELFORGE Benjamin","HERREBRECHT Emerick","P",0,1,93,100,"2014-01-04","N1 Ligue T1 ANNOEULLIN","Poules Consolante",{"$f":"IF(H18<>\"\",IF(MONTH(H18)>MoisRef,YEAR(H18)&\"-\"&YEAR(H18)+1,YEAR(H18)-1&\"-\"&YEAR(H18)),\"\")","v":"2013-2014"},null,null,null,null,{"$f":"IF($K18=P$1,COUNTIF($C18,\"G\"),0)","v":0},null,{"$f":"IF($K18=R$1,COUNTIF($C18,\"G\"),0)","v":0}]
["DELFORGE Benjamin","LORTHIOIR Jean-Luc","P",0,1,28,100,"2014-01-04","N1 Ligue T1 ANNOEULLIN","Poules Consolante",{"$f":"IF(H19<>\"\",IF(MONTH(H19)>MoisRef,YEAR(H19)&\"-\"&YEAR(H19)+1,YEAR(H19)-1&\"-\"&YEAR(H19)),\"\")","v":"2013-2014"},null,null,null,null,{"$f":"IF($K19=P$1,COUNTIF($C19,\"G\"),0)","v":0},null,{"$f":"IF($K19=R$1,COUNTIF($C19,\"G\"),0)","v":0}]
["Fin des données",null,null,null,null,null,null,null,null,null,{"$f":"IF(H20<>\"\",IF(MONTH(H20)>MoisRef,YEAR(H20)&\"-\"&YEAR(H20)+1,YEAR(H20)-1&\"-\"&YEAR(H20)),\"\")","v":""},null,null,null,null,{"$f":"IF($K20=P$1,COUNTIF($C20,\"G\"),0)","v":0},null,{"$f":"IF($K20=R$1,COUNTIF($C20,\"G\"),0)","v":0}]

{"sheet":"DELRUE André","index":14,"n_rows":22,"n_cols":22,"rows_kept":22,"cut":false,"hidden":false,"merged":[]}
["DELRUE André",null,null,null,null,null,null,null,null,null,null,null,null,null,null,{"$f":"Récapitulatif!$B$2","v":"2014-2015"},null,{"$f":"Récapitulatif!$B$3","v":"2015-2016"},null,"Toutes saisons"]
["VILLENEUVE D'ASCQ",null,null,null,null,null,null,null,null,null,null,null,null,null,null,"Nombre","%age","Nombre","%age","Nombre","%age"]
["105710-U",null,null,null,null,null,null,null,null,null,null,null,null,"Matchs","Gagnés",{"$f":"SUM(P$15:P$22)","v":0},{"$f":"IF(P$3+P$4>0,P3/(P$3+P$4),\"\")","v":""},{"$f":"SUM(R$15:R$22)","v":0},{"$f":"IF(R$3+R$4>0,R3/(R$3+R$4),\"\")","v":""},{"$f":"COUNTIF($C$15:$C$22,\"G\")","v":0},{"$f":"IF(T$3+T$4>0,T3/(T$3+T$4),\"\")","v":0}]
[null,null,null,null,null,null,null,null,null,null,null,null,null,null,"Perdus",{"$f":"COUNTIF($K$15:$K$22,Récapitulatif!$B$2)-P3","v":0},{"$f":"IF(P$3+P$4>0,P4/(P$3+P$4),\"\")","v":""},{"$f":"COUNTIF($K$15:$K$22,Récapitulatif!$B$3)-R3","v":0},{"$f":"IF(R$3+R$4>0,R4/(R$3+R$4),\"\")","v":""},{"$f":"COUNTIF($C$15:$C$22,\"P\")","v":6},{"$f":"IF(T$3+T$4>0,T4/(T$3+T$4),\"\")","v":1}]
[null,null,null,null,null,null,null,null,null,null,null,null,null,null,"Total / Moy.",{"$f":"SUM(P3:P4)","v":0},{"$f":"IF(SUMIF($K$15:$K$22,Récapitulatif!$B$2,$G$15:$G$22)>0,SUMIF($K$15:$K$22,Récapitulatif!$B$2,$F$15:$F$22)/SUMIF($K$15:$K$22,Récapitulatif!$B$2,$G$15:$G$22),\"\")","v":""},{"$f":"SUM(R3:R4)","v":0},{"$f":"IF(SUMIF($K$15:$K$22,Récapitulatif!$B$3,$G$15:$G$22)>0,SUMIF($K$15:$K$22,Récapitulatif!$B$3,$F$15:$F$22)/SUMIF($K$15:$K$22,Récapitulatif!$B$3,$G$15:$G$22),\"\")","v":""},{"$f":"SUM(T3:T4)","v":6},{"$f":"IF(SUM($G$15:$G$22)>0,SUM($F$15:$F$22)/SUM($G$15:$G$22),\"\")","v":0.72578763127187862},{"$f":"IF(SUMIF($K$15:$K$22,Récapitulatif!$B$2,$G$15:$G$22)+SUMIF($K$15:$K$22,Récapitulatif!$B$3,$G$15:$G$22)>0,(SUMIF($K$15:$K$22,Récapitulatif!$B$2,$F$15:$F$22)+SUMIF($K$15:$K$22,Récapitulatif!$B$3,$F$15:$F$22))/(SUMIF($K$15:$K$22,Récapitulatif!$B$2,$G$15:$G$22)+SUMIF($K$15:$K$22,Récapitulatif!$B$3,$G$15:$G$22)),\"\")","v":""}]
[null,null,null,null,null,null,null,null,null,null,null,null,null,"Sets","Gagnés",{"$f":"SUMIF($K$15:$K$22,Récapitulatif!$B$2,$D$15:$D$22)","v":0},{"$f":"IF(P$6+P$7>0,P6/(P$6+P$7),\"\")","v":""},{"$f":"SUMIF($K$15:$K$22,Récapitulatif!$B$3,$D$15:$D$22)","v":0},{"$f":"IF(R$6+R$7>0,R6/(R$6+R$7),\"\")","v":""},{"$f":"SUM($D$15:$D$22)","v":4},{"$f":"IF(T$6+T$7>0,T6/(T$6+T$7),\"\")","v":0.25}]
[null,null,null,null,null,null,null,null,null,null,null,null,null,null,"Perdus",{"$f":"SUMIF($K$15:$K$22,Récapitulatif!$B$2,$E$15:$E$22)","v":0},{"$f":"IF(P$6+P$7>0,P7/(P$6+P$7),\"\")","v":""},{"$f":"SUMIF($K$15:$K$22,Récapitulatif!$B$3,$E$15:$E$22)","v":0},{"$f":"IF(R$6+R$7>0,R7/(R$6+R$7),\"\")","v":""},{"$f":"SUM($E$15:$E$22)","v":12},{"$f":"IF(T$6+T$7>0,T7/(T$6+T$7),\"\")","v":0.75}]
["Récapitulatif joueurs",null,null,null,null,null,null,null,null,null,null,null,null,null,"Total",{"$f":"SUM(P6:P7)","v":0},null,{"$f":"SUM(R6:R7)","v":0},null,{"$f":"SUM(T6:T7)","v":16}]
[]
[]
[]
[]
[]
[]
["Joueur","Adversaire","G/P","Sets gagnés","Sets perdus","pts marqués","pts subis","Date","Compétition","Phase","Saison"]
["DELRUE André","CARPENTIER Yohanne","P",0,2,75,120,"2010-11-13","N1 Ligue T2 FACHES THUMESNIL","Poules",{"$f":"IF(H16<>\"\",IF(MONTH(H16)>MoisRef,YEAR(H16)&\"-\"&YEAR(H16)+1,YEAR(H16)-1&\"-\"&YEAR(H16)),\"\")","v":"2010-2011"},null,null,null,null,{"$f":"IF($K16=P$1,COUNTIF($C16,\"G\"),0)","v":0},null,{"$f":"IF($K16=R$1,COUNTIF($C16,\"G\"),0)","v":0}]
["DELRUE André","SAINT-GEORGES Claude","P",1,2,127,138,"2010-11-13","N1 Ligue T2 FACHES THUMESNIL","Poules","2010-2011",null,null,null,null,0,null,0]
["DELRUE André","FAUCOMPREZ Didier","P",1,2,95,154,"2010-11-13","N1 Ligue T2 FACHES THUMESNIL","Poules Consolante","2010-2011",null,null,null,null,0,null,0]
["DELRUE André","BASTENIER Jean","P",1,2,119,152,"2010-11-13","N1 Ligue T2 FACHES THUMESNIL","Poules Consolante","2010-2011",null,null,null,null,0,null,0]
["DELRUE André","LORTHIOIR Jean-Luc","P",1,2,148,173,"2010-12-11","N1 Ligue T3 GRAVELINES","Poules","2010-2011",null,null,null,null,0,null,0]
["DELRUE André","SAINT-GEORGES Claude","P",0,2,58,120,"2010-12-11","N1 Ligue T3 GRAVELINES","Poules","2010-2011",null,null,null,null,0,null,0]
["Fin des données",null,null,null,null,null,null,null,null,null,"",null,null,null,null,0,null,0]

{"sheet":"DELSOL Philippe","index":15,"n_rows":196,"n_cols":22,"rows_kept":196,"cut":false,"hidden":false,"merged":[]}
["DELSOL Philippe",null,null,null,null,null,null,null,null,null,null,null,null,null,null,{"$f":"Récapitulatif!$B$2","v":"2014-2015"},null,{"$f":"Récapitulatif!$B$3","v":"2015-2016"},null,"Toutes saisons"]
["ANNOEULLIN",null,null,null,null,null,null,null,null,null,null,null,null,null,null,"Nombre","%age","Nombre","%age","Nombre","%age"]
["101151-L",null,null,null,null,null,null,null,null,null,null,null,null,"Matchs","Gagnés",{"$f":"SUM(P$15:P$196)","v":10},{"$f":"IF(P$3+P$4>0,P3/(P$3+P$4),\"\")","v":0.52631578947368418},{"$f":"SUM(R$15:R$196)","v":14},{"$f":"IF(R$3+R$4>0,R3/(R$3+R$4),\"\")","v":0.93333333333333335},{"$f":"COUNTIF($C$15:$C$196,\"G\")","v":144},{"$f":"IF(T$3+T$4>0,T3/(T$3+T$4),\"\")","v":0.8}]
["06 67 69 95 10",null,null,null,null,null,null,null,null,null,null,null,null,null,"Perdus",{"$f":"COUNTIF($K$15:$K$196,Récapitulatif!$B$2)-P3","v":9},{"$f":"IF(P$3+P$4>0,P4/(P$3+P$4),\"\")","v":0.47368421052631576},{"$f":"COUNTIF($K$15:$K$196,Récapitulatif!$B$3)-R3","v":1},{"$f":"IF(R$3+R$4>0,R4/(R$3+R$4),\"\")","v":6.6666666666666666E-2},{"$f":"COUNTIF($C$15:$C$196,\"P\")","v":36},{"$f":"IF(T$3+T$4>0,T4/(T$3+T$4),\"\")","v":0.2}]
[null,null,null,null,null,null,null,null,null,null,null,null,null,null,"Total / Moy.",{"$f":"SUM(P3:P4)","v":19},{"$f":"IF(SUMIF($K$15:$K$196,Récapitulatif!$B$2,$G$15:$G$196)>0,SUMIF($K$15:$K$196,Récapitulatif!$B$2,$F$15:$F$196)/SUMIF($K$15:$K$196,Récapitulatif!$B$2,$G$15:$G$196),\"\")","v":0.95943008935039842},{"$f":"SUM(R3:R4)","v":15},{"$f":"IF(SUMIF($K$15:$K$196,Récapitulatif!$B$3,$G$15:$G$196)>0,SUMIF($K$15:$K$196,Récapitulatif!$B$3,$F$15:$F$196)/SUMIF($K$15:$K$196,Récapitulatif!$B$3,$G$15:$G$196),\"\")","v":1.455513784461153},{"$f":"SUM(T3:T4)","v":180},{"$f":"IF(SUM($G$15:$G$196)>0,SUM($F$15:$F$196)/SUM($G$15:$G$196),\"\")","v":1.272205790086941},{"$f":"IF(SUMIF($K$15:$K$196,Récapitulatif!$B$2,$G$15:$G$196)+SUMIF($K$15:$K$196,Récapitulatif!$B$3,$G$15:$G$196)>0,(SUMIF($K$15:$K$196,Récapitulatif!$B$2,$F$15:$F$196)+SUMIF($K$15:$K$196,Récapitulatif!$B$3,$F$15:$F$196))/(SUMIF($K$15:$K$196,Récapitulatif!$B$2,$G$15:$G$196)+SUMIF($K$15:$K$196,Récapitulatif!$B$3,$G$15:$G$196)),\"\")","v":1.0974376852013248}]
[null,null,null,null,null,null,null,null,null,null,null,null,null,"Sets","Gagnés",{"$f":"SUMIF($K$15:$K$196,Récapitulatif!$B$2,$D$15:$D$196)","v":38},{"$f":"IF(P$6+P$7>0,P6/(P$6+P$7),\"\")","v":0.46913580246913578},{"$f":"SUMIF($K$15:$K$196,Récapitulatif!$B$3,$D$15:$D$196)","v":33},{"$f":"IF(R$6+R$7>0,R6/(R$6+R$7),\"\")","v":0.7857142857142857},{"$f":"SUM($D$15:$D$196)","v":368},{"$f":"IF(T$6+T$7>0,T6/(T$6+T$7),\"\")","v":0.70229007633587781}]
[null,null,null,null,null,null,null,null,null,null,null,null,null,null,"Perdus",{"$f":"SUMIF($K$15:$K$196,Récapitulatif!$B$2,$E$15:$E$196)","v":43},{"$f":"IF(P$6+P$7>0,P7/(P$6+P$7),\"\")","v":0.53086419753086422},{"$f":"SUMIF($K$15:$K$196,Récapitulatif!$B$3,$E$15:$E$196)","v":9},{"$f":"IF(R$6+R$7>0,R7/(R$6+R$7),\"\")","v":0.21428571428571427},{"$f":"SUM($E$15:$E$196)","v":156},{"$f":"IF(T$6+T$7>0,T7/(T$6+T$7),\"\")","v":0.29770992366412213}]
["Récapitulatif joueurs",null,null,null,null,null,null,null,null,null,null,null,null,null,"Total",{"$f":"SUM(P6:P7)","v":81},null,{"$f":"SUM(R6:R7)","v":42},null,{"$f":"SUM(T6:T7)","v":524}]
[]
[]
[]
[]
[]
[]
["Joueur","Adversaire","G/P","Sets gagnés","Sets perdus","pts marqués","pts subis","Date","Compétition","Phase","Saison"]
["DELSOL Philippe","BAYON Pascal","G",2,1,164,142,"2008-12-12","National T3 ANNOEULLIN","Préqualifs",{"$f":"IF(H16<>\"\",IF(MONTH(H16)>MoisRef,YEAR(H16)&\"-\"&YEAR(H16)+1,YEAR(H16)-1&\"-\"&YEAR(H16)),\"\")","v":"2008-2009"},null,null,null,null,{"$f":"IF($K16=P$1,COUNTIF($C16,\"G\"),0)","v":0},null,{"$f":"IF($K16=R$1,COUNTIF($C16,\"G\"),0)","v":0}]
["DELSOL Philippe","JACQ Laurent","G",2,0,120,91,"2008-12-12","National T3 ANNOEULLIN","Préqualifs","2008-2009",null,null,null,null,0,null,0]
["DELSOL Philippe","WALLART Jean-Charles","G",2,0,120,57,"2008-12-12","National T3 ANNOEULLIN","Préqualifs","2008-2009",null,null,null,null,0,null,0]
["DELSOL Philippe","PAILLART Jean-Paul","G",3,1,239,170,"2008-12-13","National T3 ANNOEULLIN","Qualifs promotion","2008-2009",null,null,null,null,0,null,0]
["DELSOL Philippe","SCHUB Philippe","G",3,0,180,138,"2008-12-13","National T3 ANNOEULLIN","Qualifs promotion","2008-2009",null,null,null,null,0,null,0]
["DELSOL Philippe","DUROYON Didier","G",3,2,265,231,"2008-12-14","National T3 ANNOEULLIN","1/8 finale promotion","2008-2009",null,null,null,null,0,null,0]
["DELSOL Philippe","JUBLOT Denis","G",3,1,209,209,"2008-12-14","National T3 ANNOEULLIN"," 1/4 finale promotion","2008-2009",null,null,null,null,0,null,0]
["DELSOL Philippe","HERREBRECHT Thierry","P",0,3,158,180,"2008-12-14","National T3 ANNOEULLIN","1/2 finale promotion","2008-2009",null,null,null,null,0,null,0]
["DELSOL Philippe","LORTHIOIR Jean-Luc","G",2,1,162,135,"2009-02-14","N1 Ligue T1 ARRAS","Poules","2008-2009",null,null,null,null,0,null,0]
["DELSOL Philippe","TURPIN Laurent","G",2,0,120,61,"2009-02-14","N1 Ligue T1 ARRAS","Poules","2008-2009",null,null,null,null,0,null,0]
["DELSOL Philippe","CARPENTIER Yohanne","G",2,1,177,145,"2009-02-14","N1 Ligue T1 ARRAS","1/4 Finale","2008-2009",null,null,null,null,0,null,0]
["DELSOL Philippe","VANNUCCI Emilio","G",2,0,120,57,"2009-02-14","N1 Ligue T1 ARRAS","1/2 Finale","2008-2009",null,null,null,null,0,null,0]
["DELSOL Philippe","GREMAIN Gino","G",2,1,172,171,"2009-02-14","N1 Ligue T1 ARRAS","Finale","2008-2009",null,null,null,null,0,null,0]
["DELSOL Philippe","MARTEL Jean-Pierre","G",2,1,174,127,"2009-03-07","N1 Ligue T2 ANNOEULLIN","Poules","2008-2009",null,null,null,null,0,null,0]
["DELSOL Philippe","HULOT Sophie","G",2,0,120,70,"2009-03-07","N1 Ligue T2 ANNOEULLIN","Poules","2008-2009",null,null,null,null,0,null,0]
["DELSOL Philippe","SAINT-GEORGES Claude","G",2,0,120,66,"2009-03-07","N1 Ligue T2 ANNOEULLIN","1/4 Finale","2008-2009",null,null,null,null,0,null,0]
["DELSOL Philippe","GREMAIN Gino","G",2,0,120,93,"2009-03-07","N1 Ligue T2 ANNOEULLIN","1/2 Finale","2008-2009",null,null,null,null,0,null,0]
["DELSOL Philippe","GUILLEMANT Jean-Marc","P",0,2,97,120,"2009-03-07","N1 Ligue T2 ANNOEULLIN","Finale","2008-2009",null,null,null,null,0,null,0]
["DELSOL Philippe","MANTEN Paul","G",2,0,120,72,"2009-11-21","N1 Ligue T1 GRAVELINES","Poules","2009-2010",null,null,null,null,0,null,0]
["DELSOL Philippe","MARTEL Jean-Pierre","G",2,0,120,73,"2009-11-21","N1 Ligue T1 GRAVELINES","Poules","2009-2010",null,null,null,null,0,null,0]
["DELSOL Philippe","LAMBIASE Guiseppe","P",0,2,101,120,"2009-11-21","N1 Ligue T1 GRAVELINES","1/4 Finale","2009-2010",null,null,null,null,0,null,0]
["DELSOL Philippe","WESTEEL Bruno","P",1,2,140,176,"2009-12-04","National T2 ANNOEULLIN","Préqualifs","2009-2010",null,null,null,null,0,null,0]
["DELSOL Philippe","COTTEN Jean-Pierre","P",0,2,74,120,"2009-12-04","National T2 ANNOEULLIN","Préqualifs","2009-2010",null,null,null,null,0,null,0]
["DELSOL Philippe","DERIU Georges","G",2,1,179,102,"2009-12-04","National T2 ANNOEULLIN","Préqualifs","2009-2010",null,null,null,null,0,null,0]
["DELSOL Philippe","HERREBRECHT Thierry","P",1,3,132,232,"2009-12-05","National T2 ANNOEULLIN","Qualifs promotion","2009-2010",null,null,null,null,0,null,0]
["DELSOL Philippe","GEETS Patrice","P",1,3,205,212,"2009-12-05","National T2 ANNOEULLIN","Qualifs promotion","2009-2010",null,null,null,null,0,null,0]
["DELSOL Philippe","LORTHIOIR Jean-Luc","G",2,0,120,39,"2009-12-19","N1 Ligue T2 ANNOEULLIN","Poules","2009-2010",null,null,null,null,0,null,0]
["DELSOL Philippe","HORNAIN Denis","G",2,0,120,55,"2009-12-19","N1 Ligue T2 ANNOEULLIN","Poules","2009-2010",null,null,null,null,0,null,0]
["DELSOL Philippe","WALLART Jean-Charles","G",2,0,120,59,"2009-12-19","N1 Ligue T2 ANNOEULLIN","1/4 Finale","2009-2010",null,null,null,null,0,null,0]
["DELSOL Philippe","GUILLEMANT David","G",2,1,158,152,"2009-12-19","N1 Ligue T2 ANNOEULLIN","1/2 Finale","2009-2010",null,null,null,null,0,null,0]
["DELSOL Philippe","LHERMITTE Cédric","G",2,0,120,50,"2009-12-19","N1 Ligue T2 ANNOEULLIN","Finale","2009-2010",null,null,null,null,0,null,0]
["DELSOL Philippe","RACARY Thibault","G",2,1,162,137,"2010-01-16","N1 Ligue T3 ANNOEULLIN","Poules","2009-2010",null,null,null,null,0,null,0]
["DELSOL Philippe","MARTEL Jean-Pierre","G",2,0,120,59,"2010-01-16","N1 Ligue T3 ANNOEULLIN","Poules","2009-2010",null,null,null,null,0,null,0]
["DELSOL Philippe","GUILLEMANT David","G",2,1,170,173,"2010-01-16","N1 Ligue T3 ANNOEULLIN","1/4 Finale","2009-2010",null,null,null,null,0,null,0]
["DELSOL Philippe","GREMAIN Gino","G",2,0,120,89,"2010-01-16","N1 Ligue T3 ANNOEULLIN","1/2 Finale","2009-2010",null,null,null,null,0,null,0]
["DELSOL Philippe","LAMBIASE Guiseppe","P",0,2,70,120,"2010-01-16","N1 Ligue T3 ANNOEULLIN","Finale","2009-2010",null,null,null,null,0,null,0]
["DELSOL Philippe","HERREBRECHT Thierry","G",2,0,120,106,"2009-05-09","Finale Ligue N1 ANNOEULLIN","Poules","2008-2009",null,null,null,null,0,null,0]
["DELSOL Philippe","MAILLE Bernard","G",2,1,153,123,"2009-05-09","Finale Ligue N1 ANNOEULLIN","Poules","2008-2009",null,null,null,null,0,null,0]
["DELSOL Philippe","SAINT-GEORGES Claude","G",3,0,180,110,"2009-05-09","Finale Ligue N1 ANNOEULLIN","1/2 finale","2008-2009",null,null,null,null,0,null,0]
["DELSOL Philippe","HERREBRECHT Thierry","P",2,3,255,{"$f":"180+16+41","v":237},"2009-05-09","Finale Ligue N1 ANNOEULLIN","Finale","2008-2009",null,null,null,null,0,null,0]
["DELSOL Philippe","WALLART Jean-Charles","G",3,2,259,226,"2010-04-18","Finale Ligue N1 ANNOEULLIN","Poules","2009-2010",null,null,null,null,0,null,0]
["DELSOL Philippe","LHERMITTE Cédric","G",3,1,223,196,"2010-04-18","Finale Ligue N1 ANNOEULLIN","Poules","2009-2010",null,null,null,null,0,null,0]
["DELSOL Philippe","LAMBIASE Guiseppe","G",3,1,235,177,"2010-04-21","Finale Ligue N1 ANNOEULLIN","1/2 finale","2009-2010",null,null,null,null,0,null,0]
["DELSOL Philippe","LHERMITTE Cédric","G",3,0,180,91,"2010-04-27","Finale Ligue N1 ANNOEULLIN","Finale","2009-2010",null,null,null,null,0,null,0]
["DELSOL Philippe","MAILLE Bernard","G",3,0,180,79,"2010-05-15","National BLOIS","Qualifications","2009-2010",null,null,null,null,0,null,0]
["DELSOL Philippe","GUILLEMANT David","P",0,3,119,180,"2010-05-15","National BLOIS","Qualifications","2009-2010",null,null,null,null,0,null,0]
["DELSOL Philippe","MICHELOTTI Francesco","P",1,3,183,220,"2010-05-15","National BLOIS","Qualifications","2009-2010",null,null,null,null,0,null,0]
["DELSOL Philippe","CAQUELOT Maurice","G",2,0,120,52,"2010-10-16","N1 Ligue T1 DOUAI","Poules","2010-2011",null,null,null,null,0,null,0]
["DELSOL Philippe","LECROART Serge","G",2,0,120,67,"2010-10-16","N1 Ligue T1 DOUAI","Poules","2010-2011",null,null,null,null,0,null,0]
["DELSOL Philippe","CAUX Frédéric","G",2,0,120,38,"2010-10-16","N1 Ligue T1 DOUAI","1/8 Finale","2010-2011",null,null,null,null,0,null,0]
["DELSOL Philippe","RACARY Thibault","G",2,0,120,96,"2010-10-16","N1 Ligue T1 DOUAI","1/4 Finale","2010-2011",null,null,null,null,0,null,0]
["DELSOL Philippe","WESTEEL Bruno","P",1,2,164,140,"2010-10-16","N1 Ligue T1 DOUAI","1/2 Finale","2010-2011",null,null,null,null,0,null,0]
["DELSOL Philippe","LORTHIOIR Jean-Luc","G",2,0,120,17,"2010-11-13","N1 Ligue T2 FACHES THUMESNIL","Poules","2010-2011",null,null,null,null,0,null,0]
["DELSOL Philippe","SKORDILIS Christo","G",2,0,120,77,"2010-11-13","N1 Ligue T2 FACHES THUMESNIL","Poules","2010-2011",null,null,null,null,0,null,0]
["DELSOL Philippe","POULEYN André","G",2,0,120,35,"2010-11-13","N1 Ligue T2 FACHES THUMESNIL","1/4 Finale","2010-2011",null,null,null,null,0,null,0]
["DELSOL Philippe","GEETS Patrice","G",2,1,169,115,"2010-11-13","N1 Ligue T2 FACHES THUMESNIL","1/2 Finale","2010-2011",null,null,null,null,0,null,0]
["DELSOL Philippe","SAINT-GEORGES Claude","G",2,0,120,40,"2010-11-13","N1 Ligue T2 FACHES THUMESNIL","Finale","2010-2011",null,null,null,null,0,null,0]
["DELSOL Philippe","LEMÂTRE Jérémy","G",2,0,120,44,"2010-12-11","N1 Ligue T3 GRAVELINES","Poules","2010-2011",null,null,null,null,0,null,0]
["DELSOL Philippe","FAUCOMPREZ Didier","G",2,0,120,82,"2010-12-11","N1 Ligue T3 GRAVELINES","Poules","2010-2011",null,null,null,null,0,null,0]
["DELSOL Philippe","RACARY Thibault","P",1,2,161,157,"2010-12-11","N1 Ligue T3 GRAVELINES","1/4 Finale","2010-2011",null,null,null,null,0,null,0]
["DELSOL Philippe","WALLART Jean-Charles","G",2,0,120,63,"2010-12-03","National T3 FACHES THUMESNIL - RONCHIN","Préqualifs","2010-2011",null,null,null,null,0,null,0]
["DELSOL Philippe","KERCRET Geneviève","G",2,0,120,58,"2010-12-03","National T3 FACHES THUMESNIL - RONCHIN","Préqualifs","2010-2011",null,null,null,null,0,null,0]
["DELSOL Philippe","SCHUB Philippe","G",2,0,120,43,"2010-12-03","National T3 FACHES THUMESNIL - RONCHIN","Préqualifs","2010-2011",null,null,null,null,0,null,0]
["DELSOL Philippe","HERREBRECHT Thierry","G",3,1,198,165,"2010-12-04","National T3 FACHES THUMESNIL - RONCHIN","Qualifs Masters","2010-2011",null,null,null,null,0,null,0]
["DELSOL Philippe","HINGANT Matthieu","P",2,3,232,232,"2010-12-04","National T3 FACHES THUMESNIL - RONCHIN","Qualifs Masters","2010-2011",null,null,null,null,{"$f":"IF($K80=P$1,COUNTIF($C80,\"G\"),0)","v":0},null,{"$f":"IF($K80=R$1,COUNTIF($C80,\"G\"),0)","v":0}]
["DELSOL Philippe","PICOT Sylvain","P",1,3,166,231,"2010-12-04","National T3 FACHES THUMESNIL - RONCHIN","Qualifs Masters","2010-2011",null,null,null,null,0,null,0]
["DELSOL Philippe","GEETS Patrice","G",3,0,180,104,"2011-03-19","Finale Ligue N1","Poules","2010-2011",null,null,null,null,0,null,0]
["DELSOL Philippe","WALLART Jean-Charles","G",3,0,180,116,"2011-03-19","Finale Ligue N1","Poules","2010-2011",null,null,null,null,0,null,0]
["DELSOL Philippe","SAINT-GEORGES Claude","G",3,0,180,91,"2011-03-19","Finale Ligue N1","1/2 finale","2010-2011",null,null,null,null,0,null,0]
["DELSOL Philippe","RACARY Thibault","P",0,3,139,180,"2011-03-19","Finale Ligue N1","Finale","2010-2011",null,null,null,null,0,null,0]
["DELSOL Philippe","ZILLIG Pierre","G",3,0,180,128,"2011-05-14","National SCHILTIGHEIM","Qualifs","2010-2011",null,null,null,null,0,null,0]
["DELSOL Philippe","DELATTRE Hervé","G",3,0,180,88,"2011-05-14","National SCHILTIGHEIM","Qualifs","2010-2011",null,null,null,null,0,null,0]
["DELSOL Philippe","SORTAIS Claude","G",3,0,180,106,"2011-05-14","National SCHILTIGHEIM","Qualifs","2010-2011",null,null,null,null,0,null,0]
["DELSOL Philippe","WALLART Jean-Charles","G",3,0,180,104,"2011-05-15","National SCHILTIGHEIM","1/8 finale","2010-2011",null,null,null,null,0,null,0]
["DELSOL Philippe","FAUCOMPREZ Didier","G",3,0,180,79,"2011-05-15","National SCHILTIGHEIM","1/4 finale","2010-2011",null,null,null,null,0,null,0]
["DELSOL Philippe","RACARY Thibault","P",1,3,201,216,"2011-05-15","National SCHILTIGHEIM","1/2 finale","2010-2011",null,null,null,null,0,null,0]
["DELSOL Philippe","SORTAIS Claude","G",3,2,264,197,"2011-05-15","National SCHILTIGHEIM","3ème - 4ème place","2010-2011",null,null,null,null,0,null,0]
["DELSOL Philippe","DEVOS Jackie","G",2,0,120,45,"2011-10-15","N1 Ligue T1 DIVION","Poules","2011-2012",null,null,null,null,0,null,0]
["DELSOL Philippe","CAUX Frédéric","G",2,0,120,47,"2011-10-15","N1 Ligue T1 DIVION","Poules","2011-2012",null,null,null,null,0,null,0]
["DELSOL Philippe","LEMÂTRE Jérémy","G",2,1,166,95,"2011-10-15","N1 Ligue T1 DIVION","1/4 Finale","2011-2012",null,null,null,null,0,null,0]
["DELSOL Philippe","GEETS Patrice","G",2,0,120,78,"2011-10-15","N1 Ligue T1 DIVION","1/2 Finale","2011-2012",null,null,null,null,0,null,0]
["DELSOL Philippe","LHERMITTE Cédric","G",2,0,120,45,"2011-10-15","N1 Ligue T1 DIVION","Finale","2011-2012",null,null,null,null,0,null,0]
["DELSOL Philippe","LORTHIOIR Jean-Luc","G",2,0,120,65,"2011-11-19","N1 Ligue T2 DOUAI","Poules","2011-2012",null,null,null,null,0,null,0]
["DELSOL Philippe","VEREECQUE Ludovic","G",2,0,120,101,"2011-11-19","N1 Ligue T2 DOUAI","Poules","2011-2012",null,null,null,null,0,null,0]
["DELSOL Philippe","CLYNCKE Jean-Jacques","G",2,0,120,79,"2011-11-19","N1 Ligue T2 DOUAI","1/8 Finale","2011-2012",null,null,null,null,0,null,0]
["DELSOL Philippe","CAUX Frédéric","G",2,0,120,92,"2011-11-19","N1 Ligue T2 DOUAI","1/4 Finale","2011-2012",null,null,null,null,0,null,0]
["DELSOL Philippe","LHERMITTE Cédric","G",2,0,120,87,"2011-11-19","N1 Ligue T2 DOUAI","1/2 Finale","2011-2012",null,null,null,null,0,null,0]
["DELSOL Philippe","HERREBRECHT Thierry","G",2,0,120,83,"2011-11-19","N1 Ligue T2 DOUAI","Finale","2011-2012",null,null,null,null,0,null,0]
["DELSOL Philippe","ESTERMANS Bernard","G",2,1,176,123,"2012-01-07","N1 Ligue T3 FACHES THUMESNIL","Poules","2011-2012",null,null,null,null,0,null,0]
["DELSOL Philippe","POULEYN André","G",2,0,120,36,"2012-01-07","N1 Ligue T3 FACHES THUMESNIL","Poules","2011-2012",null,null,null,null,0,null,0]
["DELSOL Philippe","POULEYN André","G",2,0,120,78,"2012-01-07","N1 Ligue T3 FACHES THUMESNIL","1/8 Finale","2011-2012",null,null,null,null,0,null,0]
["DELSOL Philippe","RACARY Thibault","P",0,2,61,120,"2012-01-07","N1 Ligue T3 FACHES THUMESNIL","1/4 Finale","2011-2012",null,null,null,null,0,null,0]
["DELSOL Philippe","LEMÂTRE Jérémy","G",3,1,214,166,"2012-02-12","Finale Ligue N1","Poules","2011-2012",null,null,null,null,0,null,0]
["DELSOL Philippe","GEETS Patrice","G",3,0,180,100,"2012-02-12","Finale Ligue N1","Poules","2011-2012",null,null,null,null,0,null,0]
["DELSOL Philippe","LHERMITTE Cédric","G",3,2,272,224,"2012-02-12","Finale Ligue N1","1/2 finale","2011-2012",null,null,null,null,0,null,0]
["DELSOL Philippe","HERREBRECHT Thierry","G",3,1,226,182,"2012-02-12","Finale Ligue N1","Finale","2011-2012",null,null,null,null,0,null,0]
["DELSOL Philippe","DERIU Georges","G",3,2,253,225,"2012-04-21","National ROUEN","Qualifs","2011-2012",null,null,null,null,0,null,0]
["DELSOL Philippe","CHEVRIER Patrick","G",3,1,231,160,"2012-04-21","National ROUEN","Qualifs","2011-2012",null,null,null,null,0,null,0]
["DELSOL Philippe","SORTAIS Claude","G",3,2,259,234,"2012-04-21","National ROUEN","Qualifs","2011-2012",null,null,null,null,0,null,0]
["DELSOL Philippe","GEETS Patrice","P",2,3,253,264,"2012-04-22","National ROUEN","1/8 finale","2011-2012",null,null,null,null,0,null,0]
["DELSOL Philippe","HORNAIN Denis","G",2,0,120,63,"2012-10-13","N1 Ligue T1 ANNOEULLIN","Poules","2012-2013",null,null,null,null,0,null,0]
["DELSOL Philippe","CLYNCKE Jean-Jacques","G",2,0,120,67,"2012-10-13","N1 Ligue T1 ANNOEULLIN","Poules","2012-2013",null,null,null,null,0,null,0]
["DELSOL Philippe","GAUQUIE Serge","G",2,0,120,73,"2012-10-13","N1 Ligue T1 ANNOEULLIN","1/8 Finale","2012-2013",null,null,null,null,0,null,0]
["DELSOL Philippe","VEREECQUE Ludovic","G",2,0,120,85,"2012-10-13","N1 Ligue T1 ANNOEULLIN","1/4 Finale","2012-2013",null,null,null,null,0,null,0]
["DELSOL Philippe","WALLART Jean-Charles","G",2,1,143,148,"2012-10-13","N1 Ligue T1 ANNOEULLIN","1/2 Finale","2012-2013",null,null,null,null,0,null,0]
["DELSOL Philippe","TURPIN Laurent","G",2,0,120,97,"2012-10-13","N1 Ligue T1 ANNOEULLIN","Finale","2012-2013",null,null,null,null,0,null,0]
["DELSOL Philippe","CAUX Frédéric","G",2,0,120,58,"2012-10-27","N1 Ligue T2 BRUAY sur ESCAUT","Poules","2012-2013",null,null,null,null,0,null,0]
["DELSOL Philippe","LORTHIOIR Jean-Luc","G",2,0,120,94,"2012-10-27","N1 Ligue T2 BRUAY sur ESCAUT","Poules","2012-2013",null,null,null,null,0,null,0]
["DELSOL Philippe","HORNAIN Denis","G",2,0,120,79,"2012-10-27","N1 Ligue T2 BRUAY sur ESCAUT","1/4 Finale","2012-2013",null,null,null,null,0,null,0]
["DELSOL Philippe","GEETS Patrice","G",2,0,120,48,"2012-10-27","N1 Ligue T2 BRUAY sur ESCAUT","1/2 Finale","2012-2013",null,null,null,null,0,null,0]
["DELSOL Philippe","LHERMITTE Cédric","G",2,1,175,169,"2012-10-27","N1 Ligue T2 BRUAY sur ESCAUT","Finale","2012-2013",null,null,null,null,0,null,0]
["DELSOL Philippe","ZEUDE Alain","G",2,0,120,79,"2012-11-24","N1 Ligue T3 CALAIS","Poules","2012-2013",null,null,null,null,0,null,0]
["DELSOL Philippe","GAUQUIE Serge","G",2,0,120,67,"2012-11-24","N1 Ligue T3 CALAIS","Poules","2012-2013",null,null,null,null,0,null,0]
["DELSOL Philippe","GAUQUIE Serge","G",2,0,120,104,"2012-11-24","N1 Ligue T3 CALAIS","1/8 Finale","2012-2013",null,null,null,null,0,null,0]
["DELSOL Philippe","WALLART Jean-Charles","G",2,0,120,52,"2012-11-24","N1 Ligue T3 CALAIS","1/4 Finale","2012-2013",null,null,null,null,0,null,0]
["DELSOL Philippe","RACARY Thibault","P",1,2,149,165,"2012-11-24","N1 Ligue T3 CALAIS","1/2 Finale","2012-2013",null,null,null,null,0,null,0]
["DELSOL Philippe","CAUX Frédéric","G",2,0,120,69,"2012-12-15","N1 Ligue T4 VILLENEUVE D'ASCQ","Poules","2012-2013",null,null,null,null,0,null,0]
["DELSOL Philippe","POULEYN André","G",2,0,120,67,"2012-12-15","N1 Ligue T4 VILLENEUVE D'ASCQ","Poules","2012-2013",null,null,null,null,0,null,0]
["DELSOL Philippe","VEREECQUE Ludovic","G",2,0,120,44,"2012-12-15","N1 Ligue T4 VILLENEUVE D'ASCQ","1/4 Finale","2012-2013",null,null,null,null,0,null,0]
["DELSOL Philippe","GEETS Patrice","G",2,1,126,138,"2012-12-15","N1 Ligue T4 VILLENEUVE D'ASCQ","1/2 Finale","2012-2013",null,null,null,null,0,null,0]
["DELSOL Philippe","LEMÂTRE Jérémy","P",0,2,89,120,"2012-12-15","N1 Ligue T4 VILLENEUVE D'ASCQ","Finale","2012-2013",null,null,null,null,0,null,0]
["DELSOL Philippe","SAINT-GEORGES Claude","G",3,0,180,124,"2013-04-14","FINALE LIGUE N1 FACHES THUMESNIL","Poules","2012-2013",null,null,null,null,0,null,0]
["DELSOL Philippe","TURPIN Laurent","G",3,0,180,100,"2013-04-14","FINALE LIGUE N1 FACHES THUMESNIL","Poules","2012-2013",null,null,null,null,0,null,0]
["DELSOL Philippe","WALLARTJean-Charles","G",3,0,180,111,"2013-04-14","FINALE LIGUE N1 FACHES THUMESNIL","1/2 Finale","2012-2013",null,null,null,null,0,null,0]
["DELSOL Philippe","SAINT-GEORGES Claude","G",3,0,180,93,"2013-04-14","FINALE LIGUE N1 FACHES THUMESNIL","Finale","2012-2013",null,null,null,null,0,null,0]
["DELSOL Philippe","BILLIARD Alain","G",3,0,150,69,"2013-06-15","CHAMPIONNAT DE FRANCE N1 CHAMPAGNE SUR SEINE","Qualifs","2012-2013",null,null,null,null,0,null,0]
["DELSOL Philippe","COSTE Philippe","G",3,0,150,103,"2013-06-16","CHAMPIONNAT DE FRANCE N1 CHAMPAGNE SUR SEINE","1/8 finale","2012-2013",null,null,null,null,0,null,0]
["DELSOL Philippe","LANUSSE Christophe","G",3,1,198,162,"2013-06-15","CHAMPIONNAT DE FRANCE N1 CHAMPAGNE SUR SEINE","Qualifs","2012-2013",null,null,null,null,0,null,0]
["DELSOL Philippe","MICHELOTTI  Francesco","G",3,0,150,73,"2013-06-15","CHAMPIONNAT DE FRANCE N1 CHAMPAGNE SUR SEINE","Qualifs","2012-2013",null,null,null,null,0,null,0]
["DELSOL Philippe","ZILLIG Pierre","P",2,3,226,180,"2013-06-16","CHAMPIONNAT DE FRANCE N1 CHAMPAGNE SUR SEINE","1/4 finale","2012-2013",null,null,null,null,0,null,0]
["DELSOL Philippe","DEPLECHIN Robert","G",2,0,120,84,"2014-01-04","N1 Ligue T1 ANNOEULLIN","Poules","2013-2014",null,null,null,null,0,null,0]
["DELSOL Philippe","LUBREZ Pierre","G",2,0,120,68,"2014-01-04","N1 Ligue T1 ANNOEULLIN","Poules","2013-2014",null,null,null,null,0,null,0]
["DELSOL Philippe","CAUX Grégory","P",0,2,63,120,"2014-01-04","N1 Ligue T1 ANNOEULLIN","1/8 Finale","2013-2014",null,null,null,null,0,null,0]
["DELSOL Philippe","LOTHE Jean-Luc","G",2,0,120,78,"2014-03-15","N1 Ligue T2 FACHES THUMESNIL","Poules","2013-2014",null,null,null,null,0,null,0]
["DELSOL Philippe","WALLART Jean-Charles","P",1,2,145,159,"2014-03-15","N1 Ligue T2 FACHES THUMESNIL","Poules","2013-2014",null,null,null,null,0,null,0]
["DELSOL Philippe","VERHAGHE Dominique","G",2,0,120,68,"2014-03-15","N1 Ligue T2 FACHES THUMESNIL","1/4 Finale","2013-2014",null,null,null,null,0,null,0]
["DELSOL Philippe","DEROLEZ Jean-Pierre","G",2,0,120,81,"2014-03-15","N1 Ligue T2 FACHES THUMESNIL","1/2 Finale","2013-2014",null,null,null,null,0,null,0]
["DELSOL Philippe","WALLART Jean-Charles","G",2,0,120,83,"2014-03-15","N1 Ligue T2 FACHES THUMESNIL","Finale","2013-2014",null,null,null,null,0,null,0]
["DELSOL Philippe","VEREECQUE Bernard","G",2,0,120,54,"2014-04-05","N1 Ligue T3 GRAVELINES","Poules","2013-2014",null,null,null,null,0,null,0]
["DELSOL Philippe","ESTERMANS Bernard","G",2,0,120,67,"2014-04-05","N1 Ligue T3 GRAVELINES","Poules","2013-2014",null,null,null,null,0,null,0]
["DELSOL Philippe","VEREECQUE Bernard","G",2,0,120,70,"2014-04-05","N1 Ligue T3 GRAVELINES","1/8 Finale","2013-2014",null,null,null,null,0,null,0]
["DELSOL Philippe","LHERMITTE Cédric","P",0,2,109,120,"2014-04-05","N1 Ligue T3 GRAVELINES","1/4 Finale","2013-2014",null,null,null,null,0,null,0]
["DELSOL Philippe","WALLART Jean-Charles","G",3,0,180,107,"2014-05-18","Finale Ligue N1 CALAIS","Poules","2013-2014",null,null,null,null,0,null,0]
["DELSOL Philippe","CAUX Grégory","G",3,0,180,117,"2014-05-18","Finale Ligue N1 CALAIS","Poules","2013-2014",null,null,null,null,0,null,0]
["DELSOL Philippe","SAINT-GEORGES Claude","G",3,2,270,225,"2014-05-18","Finale Ligue N1 CALAIS","1/2 Finale","2013-2014",null,null,null,null,0,null,0]
["DELSOL Philippe","LHERMITTE Cédric","P",1,3,169,237,"2014-05-18","Finale Ligue N1 CALAIS","Finale","2013-2014",null,null,null,null,0,null,0]
["DELSOL PHILIPPE","MANZOLI ANGELO","G",3,2,275,270,"2014-10-18","National T1 GRAVELINES","Qualifs Masters","2014-2015",null,null,null,null,1,null,0]
["DELSOL PHILIPPE","DUVERNOY CHRISTOPHE","P",1,3,189,228,"2014-10-18","National T1 GRAVELINES","Qualifs Masters","2014-2015",null,null,null,null,0,null,0]
["DELSOL PHILIPPE","DAVID NICOLAS","G",3,2,269,206,"2014-10-18","National T1 GRAVELINES","Qualifs Masters","2014-2015",null,null,null,null,1,null,0]
["DELSOL PHILIPPE","RACARY THIBAULT","G",3,1,225,170,"2014-10-19","National T1 GRAVELINES","1/4 finale Masters","2014-2015",null,null,null,null,1,null,0]
["DELSOL PHILIPPE","HINGANT MATTHIEU","P",1,3,167,210,"2014-10-19","National T1 GRAVELINES","1/2 finale Masters","2014-2015",null,null,null,null,0,null,0]
["DELSOL Philippe","BOUVIER Philippe","G",3,2,274,260,"2014-11-29","National T2 FACHES THUMESNIL - RONCHIN","Qualifs Masters","2014-2015",null,null,null,null,1,null,0]
["DELSOL Philippe","PICOT Sylvain","P",1,3,223,222,"2014-11-29","National T2 FACHES THUMESNIL - RONCHIN","Qualifs Masters","2014-2015",null,null,null,null,0,null,0]
["DELSOL Philippe","DAVOINE Bruno","P",2,3,237,274,"2014-11-29","National T2 FACHES THUMESNIL - RONCHIN","Qualifs Masters","2014-2015",null,null,null,null,0,null,0]
["DELSOL Philippe","GUILLEMANT David","G",3,0,180,71,"2014-12-13","National T3 DOUARNENEZ","Qualifs Masters","2014-2015",null,null,null,null,1,null,0]
["DELSOL Philippe","RACARY Thibault","P",1,3,126,239,"2014-12-13","National T3 DOUARNENEZ","Qualifs Masters","2014-2015",null,null,null,null,0,null,0]
["DELSOL Philippe","DAVOINE Bruno","G",3,2,264,225,"2014-12-13","National T3 DOUARNENEZ","Qualifs Masters","2014-2015",null,null,null,null,1,null,0]
["DELSOL Philippe","CARREAU Mickaël","P",0,3,105,180,"2014-12-14","National T3 DOUARNENEZ","1/4 finale Masters","2014-2015",null,null,null,null,0,null,0]
["DELSOL Philippe","GUILLEMANT David","G",3,2,253,274,"2015-01-24","National T4 LAXOU","Qualifs Masters","2014-2015",null,null,null,null,1,null,0]
["DELSOL Philippe","MANZOLI Angelo","G",3,2,242,269,"2015-01-24","National T4 LAXOU","Qualifs Masters","2014-2015",null,null,null,null,1,null,0]
["DELSOL Philippe","MANZOLI Angelo","P",0,3,116,180,"2015-01-25","National T4 LAXOU","1/4 finale Masters","2014-2015",null,null,null,null,0,null,0]
["DELSOL Philippe","BOUVIER Philippe","P",1,3,174,228,"2015-03-21","National T5 SAINT QUENTIN","Qualifs Masters","2014-2015",null,null,null,null,0,null,0]
["DELSOL Philippe","MICHELOTTI Francesco","G",3,1,237,149,"2015-03-21","National T5 SAINT QUENTIN","Qualifs Masters","2014-2015",null,null,null,null,1,null,0]
["DELSOL Philippe","MANZOLI Angelo","G",3,2,227,253,"2015-03-21","National T5 SAINT QUENTIN","Qualifs Masters","2014-2015",null,null,null,null,1,null,0]
["DELSOL Philippe","RACARY Thibault","P",1,3,190,233,"2015-03-22","National T5 SAINT QUENTIN","1/4 finale Masters","2014-2015",null,null,null,null,0,null,0]
["DELSOL Philippe","MANTEN Paul","G",2,0,120,85,"2015-12-04","T1 LIGUE 5 QUILLES N1 - FACHES-THUMESNIL","Poules","2015-2016",null,null,null,null,0,null,1]
["DELSOL Philippe","CLYNCKE Jean-Jacques","G",2,0,120,43,"2015-12-04","T1 LIGUE 5 QUILLES N1 - FACHES-THUMESNIL","Poules","2015-2016",null,null,null,null,0,null,1]
["DELSOL Philippe","VEREECQUE Ludovic","G",2,0,120,45,"2015-12-04","T1 LIGUE 5 QUILLES N1 - FACHES-THUMESNIL","1/4 Finale","2015-2016",null,null,null,null,0,null,1]
["DELSOL Philippe","LEMÂTRE Alexis","G",2,1,158,136,"2015-12-04","T1 LIGUE 5 QUILLES N1 - FACHES-THUMESNIL","1/2 Finale","2015-2016",null,null,null,null,0,null,1]
["DELSOL Philippe","MAILLE Bernard","G",2,1,179,108,"2015-12-04","T1 LIGUE 5 QUILLES N1 - FACHES-THUMESNIL","Finale","2015-2016",null,null,null,null,0,null,1]
["DELSOL Philippe","LECROART Serge","G",2,0,120,77,"2016-01-09","T2  LIGUE 5 QUILLES N1 - GRAVELINES","Qualifications","2015-2016",null,null,null,null,0,null,1]
["DELSOL Philippe","CAUX Frédéric","P",1,2,148,169,"2016-01-09","T2  LIGUE 5 QUILLES N1 - GRAVELINES","Qualifications","2015-2016",null,null,null,null,0,null,0]
["DELSOL Philippe","WALLART Jean-Charles","G",2,1,134,137,"2016-01-09","T2  LIGUE 5 QUILLES N1 - GRAVELINES","1/8 Finale","2015-2016",null,null,null,null,0,null,1]
["DELSOL Philippe","GEETS Patrice","G",2,1,157,91,"2016-01-09","T2  LIGUE 5 QUILLES N1 - GRAVELINES","1/4 Finale","2015-2016",null,null,null,null,0,null,1]
["DELSOL Philippe","CLYNCKE Jean-Jacques","G",2,1,159,106,"2016-01-09","T2  LIGUE 5 QUILLES N1 - GRAVELINES","1/2 Finale","2015-2016",null,null,null,null,0,null,1]
["DELSOL Philippe","LEMÂTRE Jérémy","G",2,0,120,82,"2016-01-09","T2  LIGUE 5 QUILLES N1 - GRAVELINES","Finale","2015-2016",null,null,null,null,0,null,1]
["DELSOL Philippe","GEETS Patrice","G",3,1,204,205,"2016-04-24","Finale Ligue 5 Quilles N1 - ANNOEULLIN","Finale","2015-2016",null,null,null,null,0,null,1]
["DELSOL Philippe","LEMÂTRE Alexis","G",3,1,224,176,"2016-04-24","Finale Ligue 5 Quilles N1 - ANNOEULLIN","Qualifications","2015-2016",null,null,null,null,0,null,1]
["DELSOL Philippe","LEMÂTRE Jérémy","G",3,0,180,85,"2016-04-24","Finale Ligue 5 Quilles N1 - ANNOEULLIN","Qualifications","2015-2016",null,null,null,null,0,null,1]
["DELSOL Philippe","MAILLE Bernard","G",3,0,180,51,"2016-04-24","Finale Ligue 5 Quilles N1 - ANNOEULLIN","1/2 Finale","2015-2016",null,null,null,null,0,null,1]
["Fin des données",null,null,null,null,null,null,null,null,null,"",null,null,null,null,0,null,0]

{"sheet":"DEMILLY Dominique","index":16,"n_rows":19,"n_cols":22,"rows_kept":19,"cut":false,"hidden":false,"merged":[]}
["DEMILLY Dominique",null,null,null,null,null,null,null,null,null,null,null,null,null,null,{"$f":"Récapitulatif!$B$2","v":"2014-2015"},null,{"$f":"Récapitulatif!$B$3","v":"2015-2016"},null,"Toutes saisons"]
["FACHES-THUMESNIL",null,null,null,null,null,null,null,null,null,null,null,null,null,null,"Nombre","%age","Nombre","%age","Nombre","%age"]
["017062-G",null,null,null,null,null,null,null,null,null,null,null,null,"Matchs","Gagnés",{"$f":"SUM(P$15:P$19)","v":0},{"$f":"IF(P$3+P$4>0,P3/(P$3+P$4),\"\")","v":""},{"$f":"SUM(R$15:R$19)","v":0},{"$f":"IF(R$3+R$4>0,R3/(R$3+R$4),\"\")","v":""},{"$f":"COUNTIF($C$15:$C$19,\"G\")","v":0},{"$f":"IF(T$3+T$4>0,T3/(T$3+T$4),\"\")","v":0}]
[null,null,null,null,null,null,null,null,null,null,null,null,null,null,"Perdus",{"$f":"COUNTIF($K$15:$K$19,Récapitulatif!$B$2)-P3","v":0},{"$f":"IF(P$3+P$4>0,P4/(P$3+P$4),\"\")","v":""},{"$f":"COUNTIF($K$15:$K$19,Récapitulatif!$B$3)-R3","v":0},{"$f":"IF(R$3+R$4>0,R4/(R$3+R$4),\"\")","v":""},{"$f":"COUNTIF($C$15:$C$19,\"P\")","v":3},{"$f":"IF(T$3+T$4>0,T4/(T$3+T$4),\"\")","v":1}]
[null,null,null,null,null,null,null,null,null,null,null,null,null,null,"Total / Moy.",{"$f":"SUM(P3:P4)","v":0},{"$f":"IF(SUMIF($K$15:$K$19,Récapitulatif!$B$2,$G$15:$G$19)>0,SUMIF($K$15:$K$19,Récapitulatif!$B$2,$F$15:$F$19)/SUMIF($K$15:$K$19,Récapitulatif!$B$2,$G$15:$G$19),\"\")","v":""},{"$f":"SUM(R3:R4)","v":0},{"$f":"IF(SUMIF($K$15:$K$19,Récapitulatif!$B$3,$G$15:$G$19)>0,SUMIF($K$15:$K$19,Récapitulatif!$B$3,$F$15:$F$19)/SUMIF($K$15:$K$19,Récapitulatif!$B$3,$G$15:$G$19),\"\")","v":""},{"$f":"SUM(T3:T4)","v":3},{"$f":"IF(SUM($G$15:$G$19)>0,SUM($F$15:$F$19)/SUM($G$15:$G$19),\"\")","v":0.45555555555555555},{"$f":"IF(SUMIF($K$15:$K$19,Récapitulatif!$B$2,$G$15:$G$19)+SUMIF($K$15:$K$19,Récapitulatif!$B$3,$G$15:$G$19)>0,(SUMIF($K$15:$K$19,Récapitulatif!$B$2,$F$15:$F$19)+SUMIF($K$15:$K$19,Récapitulatif!$B$3,$F$15:$F$19))/(SUMIF($K$15:$K$19,Récapitulatif!$B$2,$G$15:$G$19)+SUMIF($K$15:$K$19,Récapitulatif!$B$3,$G$15:$G$19)),\"\")","v":""}]
[null,null,null,null,null,null,null,null,null,null,null,null,null,"Sets","Gagnés",{"$f":"SUMIF($K$15:$K$19,Récapitulatif!$B$2,$D$15:$D$19)","v":0},{"$f":"IF(P$6+P$7>0,P6/(P$6+P$7),\"\")","v":""},{"$f":"SUMIF($K$15:$K$19,Récapitulatif!$B$3,$D$15:$D$19)","v":0},{"$f":"IF(R$6+R$7>0,R6/(R$6+R$7),\"\")","v":""},{"$f":"SUM($D$15:$D$19)","v":0},{"$f":"IF(T$6+T$7>0,T6/(T$6+T$7),\"\")","v":0}]
[null,null,null,null,null,null,null,null,null,null,null,null,null,null,"Perdus",{"$f":"SUMIF($K$15:$K$19,Récapitulatif!$B$2,$E$15:$E$19)","v":0},{"$f":"IF(P$6+P$7>0,P7/(P$6+P$7),\"\")","v":""},{"$f":"SUMIF($K$15:$K$19,Récapitulatif!$B$3,$E$15:$E$19)","v":0},{"$f":"IF(R$6+R$7>0,R7/(R$6+R$7),\"\")","v":""},{"$f":"SUM($E$15:$E$19)","v":6},{"$f":"IF(T$6+T$7>0,T7/(T$6+T$7),\"\")","v":1}]
["Récapitulatif joueurs",null,null,null,null,null,null,null,null,null,null,null,null,null,"Total",{"$f":"SUM(P6:P7)","v":0},null,{"$f":"SUM(R6:R7)","v":0},null,{"$f":"SUM(T6:T7)","v":6}]
[]
[]
[]
[]
[]
[]
["Joueur","Adversaire","G/P","Sets gagnés","Sets perdus","pts marqués","pts subis","Date","Compétition","Phase","Saison"]
["DEMILLY Dominique","HERREBRECHT Thierry","P",0,2,61,120,"2009-12-04","National T2 ANNOEULLIN","Préqualifs",{"$f":"IF(H16<>\"\",IF(MONTH(H16)>MoisRef,YEAR(H16)&\"-\"&YEAR(H16)+1,YEAR(H16)-1&\"-\"&YEAR(H16)),\"\")","v":"2009-2010"},null,null,null,null,{"$f":"IF($K16=P$1,COUNTIF($C16,\"G\"),0)","v":0},null,{"$f":"IF($K16=R$1,COUNTIF($C16,\"G\"),0)","v":0}]
["DEMILLY Dominique","PONCHANT Grégory","P",0,2,31,120,"2009-12-04","National T2 ANNOEULLIN","Préqualifs",{"$f":"IF(H17<>\"\",IF(MONTH(H17)>MoisRef,YEAR(H17)&\"-\"&YEAR(H17)+1,YEAR(H17)-1&\"-\"&YEAR(H17)),\"\")","v":"2009-2010"},null,null,null,null,{"$f":"IF($K17=P$1,COUNTIF($C17,\"G\"),0)","v":0},null,{"$f":"IF($K17=R$1,COUNTIF($C17,\"G\"),0)","v":0}]
["DEMILLY Dominique","SAINT-GEORGES Claude","P",0,2,72,120,"2009-12-04","National T2 ANNOEULLIN","Préqualifs",{"$f":"IF(H18<>\"\",IF(MONTH(H18)>MoisRef,YEAR(H18)&\"-\"&YEAR(H18)+1,YEAR(H18)-1&\"-\"&YEAR(H18)),\"\")","v":"2009-2010"},null,null,null,null,{"$f":"IF($K18=P$1,COUNTIF($C18,\"G\"),0)","v":0},null,{"$f":"IF($K18=R$1,COUNTIF($C18,\"G\"),0)","v":0}]
["Fin des données",null,null,null,null,null,null,null,null,null,{"$f":"IF(H19<>\"\",IF(MONTH(H19)>MoisRef,YEAR(H19)&\"-\"&YEAR(H19)+1,YEAR(H19)-1&\"-\"&YEAR(H19)),\"\")","v":""},null,null,null,null,{"$f":"IF($K19=P$1,COUNTIF($C19,\"G\"),0)","v":0},null,{"$f":"IF($K19=R$1,COUNTIF($C19,\"G\"),0)","v":0}]

{"sheet":"DEPLECHIN Robert","index":17,"n_rows":49,"n_cols":22,"rows_kept":49,"cut":false,"hidden":false,"merged":[]}
["DEPLECHIN Robert",null,null,null,null,null,null,null,null,null,null,null,null,null,null,{"$f":"Récapitulatif!$B$2","v":"2014-2015"},null,{"$f":"Récapitulatif!$B$3","v":"2015-2016"},null,"Toutes saisons"]
["<Club>",null,null,null,null,null,null,null,null,null,null,null,null,null,null,"Nombre","%age","Nombre","%age","Nombre","%age"]
["<Licence>",null,null,null,null,null,null,null,null,null,null,null,null,"Matchs","Gagnés",{"$f":"SUM(P$15:P$49)","v":9},{"$f":"IF(P$3+P$4>0,P3/(P$3+P$4),\"\")","v":0.5625},{"$f":"SUM(R$15:R$49)","v":0},{"$f":"IF(R$3+R$4>0,R3/(R$3+R$4),\"\")","v":0},{"$f":"COUNTIF($C$15:$C$49,\"G\")","v":17},{"$f":"IF(T$3+T$4>0,T3/(T$3+T$4),\"\")","v":0.51515151515151514}]
["<Tel>",null,null,null,null,null,null,null,null,null,null,null,null,null,"Perdus",{"$f":"COUNTIF($K$15:$K$49,Récapitulatif!$B$2)-P3","v":7},{"$f":"IF(P$3+P$4>0,P4/(P$3+P$4),\"\")","v":0.4375},{"$f":"COUNTIF($K$15:$K$49,Récapitulatif!$B$3)-R3","v":2},{"$f":"IF(R$3+R$4>0,R4/(R$3+R$4),\"\")","v":1},{"$f":"COUNTIF($C$15:$C$49,\"P\")","v":16},{"$f":"IF(T$3+T$4>0,T4/(T$3+T$4),\"\")","v":0.48484848484848486}]
["<email>",null,null,null,null,null,null,null,null,null,null,null,null,null,"Total / Moy.",{"$f":"SUM(P3:P4)","v":16},{"$f":"IF(SUMIF($K$15:$K$49,Récapitulatif!$B$2,$G$15:$G$49)>0,SUMIF($K$15:$K$49,Récapitulatif!$B$2,$F$15:$F$49)/SUMIF($K$15:$K$49,Récapitulatif!$B$2,$G$15:$G$49),\"\")","v":0.94681861348528018},{"$f":"SUM(R3:R4)","v":2},{"$f":"IF(SUMIF($K$15:$K$49,Récapitulatif!$B$3,$G$15:$G$49)>0,SUMIF($K$15:$K$49,Récapitulatif!$B$3,$F$15:$F$49)/SUMIF($K$15:$K$49,Récapitulatif!$B$3,$G$15:$G$49),\"\")","v":0.66901408450704225},{"$f":"SUM(T3:T4)","v":33},{"$f":"IF(SUM($G$15:$G$49)>0,SUM($F$15:$F$49)/SUM($G$15:$G$49),\"\")","v":0.99208375893769152},{"$f":"IF(SUMIF($K$15:$K$49,Récapitulatif!$B$2,$G$15:$G$49)+SUMIF($K$15:$K$49,Récapitulatif!$B$3,$G$15:$G$49)>0,(SUMIF($K$15:$K$49,Récapitulatif!$B$2,$F$15:$F$49)+SUMIF($K$15:$K$49,Récapitulatif!$B$3,$F$15:$F$49))/(SUMIF($K$15:$K$49,Récapitulatif!$B$2,$G$15:$G$49)+SUMIF($K$15:$K$49,Récapitulatif!$B$3,$G$15:$G$49)),\"\")","v":0.9138075313807531}]
[null,null,null,null,null,null,null,null,null,null,null,null,null,"Sets","Gagnés",{"$f":"SUMIF($K$15:$K$49,Récapitulatif!$B$2,$D$15:$D$49)","v":18},{"$f":"IF(P$6+P$7>0,P6/(P$6+P$7),\"\")","v":0.46153846153846156},{"$f":"SUMIF($K$15:$K$49,Récapitulatif!$B$3,$D$15:$D$49)","v":1},{"$f":"IF(R$6+R$7>0,R6/(R$6+R$7),\"\")","v":0.2},{"$f":"SUM($D$15:$D$49)","v":33},{"$f":"IF(T$6+T$7>0,T6/(T$6+T$7),\"\")","v":0.46478873239436619}]
[null,null,null,null,null,null,null,null,null,null,null,null,null,null,"Perdus",{"$f":"SUMIF($K$15:$K$49,Récapitulatif!$B$2,$E$15:$E$49)","v":21},{"$f":"IF(P$6+P$7>0,P7/(P$6+P$7),\"\")","v":0.53846153846153844},{"$f":"SUMIF($K$15:$K$49,Récapitulatif!$B$3,$E$15:$E$49)","v":4},{"$f":"IF(R$6+R$7>0,R7/(R$6+R$7),\"\")","v":0.8},{"$f":"SUM($E$15:$E$49)","v":38},{"$f":"IF(T$6+T$7>0,T7/(T$6+T$7),\"\")","v":0.53521126760563376}]
["Récapitulatif joueurs",null,null,null,null,null,null,null,null,null,null,null,null,null,"Total",{"$f":"SUM(P6:P7)","v":39},null,{"$f":"SUM(R6:R7)","v":5},null,{"$f":"SUM(T6:T7)","v":71}]
[]
[]
[]
[]
[]
[]
["Joueur","Adversaire","G/P","Sets gagnés","Sets perdus","pts marqués","pts subis","Date","Compétition","Phase","Saison"]
["DEPLECHIN Robert","LUBREZ Pierre","G",2,1,174,136,"2014-01-04","N1 Ligue T1 ANNOEULLIN","Poules",{"$f":"IF(H16<>\"\",IF(MONTH(H16)>MoisRef,YEAR(H16)&\"-\"&YEAR(H16)+1,YEAR(H16)-1&\"-\"&YEAR(H16)),\"\")","v":"2013-2014"},null,null,null,null,{"$f":"IF($K16=P$1,COUNTIF($C16,\"G\"),0)","v":0},null,{"$f":"IF($K16=R$1,COUNTIF($C16,\"G\"),0)","v":0}]
["DEPLECHIN Robert","DELSOL Philippe","P",0,2,84,120,"2014-01-04","N1 Ligue T1 ANNOEULLIN","Poules","2013-2014",null,null,null,null,0,null,0]
["DEPLECHIN Robert","CLYNCKE Jean-Jacques","P",1,2,140,155,"2014-01-04","N1 Ligue T1 ANNOEULLIN","1/8 Finale","2013-2014",null,null,null,null,0,null,0]
["DEPLECHIN Robert","HERREBRECHT Erian","G",1,0,100,50,"2014-01-04","N1 Ligue T1 ANNOEULLIN","Poules Consolante","2013-2014",null,null,null,null,0,null,0]
["DEPLECHIN Robert","HOCHARD James","G",1,0,100,64,"2014-01-04","N1 Ligue T1 ANNOEULLIN","Poules Consolante","2013-2014",null,null,null,null,0,null,0]
["DEPLECHIN Robert","LORTHIOIR Jean-Luc","G",1,0,100,81,"2014-01-04","N1 Ligue T1 ANNOEULLIN","Finale Consolante","2013-2014",null,null,null,null,0,null,0]
["DEPLECHIN Robert","VEREECQUE Ludovic","P",0,2,93,120,"2014-03-15","N1 Ligue T2 FACHES THUMESNIL","Poules","2013-2014",null,null,null,null,0,null,0]
["DEPLECHIN Robert","CLYNCKE Jean-Jacques","G",2,1,162,115,"2014-03-15","N1 Ligue T2 FACHES THUMESNIL","Poules","2013-2014",null,null,null,null,0,null,0]
["DEPLECHIN ROBERT","SAINT-GEORGES Claude","P",0,1,59,100,"2014-03-15","N1 Ligue T2 FACHES THUMESNIL","Poules Consolante","2013-2014",null,null,null,null,0,null,0]
["DEPLECHIN ROBERT","CLYNCKE Jean-Jacques","P",0,1,88,100,"2014-03-15","N1 Ligue T2 FACHES THUMESNIL","Poules Consolante","2013-2014",null,null,null,null,0,null,0]
["DEPLECHIN Robert","HERREBRECHT Thierry","G",2,0,120,97,"2014-04-05","N1 Ligue T3 GRAVELINES","Poules","2013-2014",null,null,null,null,0,null,0]
["DEPLECHIN Robert","HERREBRECHT Thierry","G",2,0,120,74,"2014-04-05","N1 Ligue T3 GRAVELINES","Poules","2013-2014",null,null,null,null,0,null,0]
["DEPLECHIN Robert","SAINT-GEORGES Claude","P",1,2,166,168,"2014-04-05","N1 Ligue T3 GRAVELINES","1/8 Finale","2013-2014",null,null,null,null,0,null,0]
["DEPLECHIN Robert","HERREBRECHT Erian","P",0,1,95,100,"2014-04-05","N1 Ligue T3 GRAVELINES","Poules Consolante","2013-2014",null,null,null,null,0,null,0]
["DEPLECHIN Robert","ESTERMANS Bernard","G",1,0,100,46,"2014-04-05","N1 Ligue T3 GRAVELINES","Poules Consolante","2013-2014",null,null,null,null,0,null,0]
["DEPLECHIN Robert","LEMÂTRE Alexis","G",2,1,165,144,"2015-01-17","N1 Ligue T1 DUNKERQUE","Poules","2014-2015",null,null,null,null,1,null,0]
["DEPLECHIN Robert","DEROLEZ Jean-pierre","G",2,0,120,104,"2015-01-17","N1 Ligue T1 DUNKERQUE","Poules","2014-2015",null,null,null,null,1,null,0]
["DEPLECHIN Robert","TRIPLET Gilbert","G",2,0,120,79,"2015-01-17","N1 Ligue T1 DUNKERQUE","1/8 Finale","2014-2015",null,null,null,null,1,null,0]
["DEPLECHIN Robert","DEVOS Jackie","P",0,2,78,120,"2015-01-17","N1 Ligue T1 DUNKERQUE","1/4 Finale","2014-2015",null,null,null,null,0,null,0]
["DEPLECHIN Robert","VERHAGHE Dominique","P",0,2,89,120,"2015-02-07","N1 Ligue T2 CALAIS","Poules","2014-2015",null,null,null,null,0,null,0]
["DEPLECHIN Robert","SAINT-GEORGES Claude","G",2,1,172,163,"2015-02-07","N1 Ligue T2 CALAIS","Poules","2014-2015",null,null,null,null,1,null,0]
["DEPLECHIN Robert","DECONINCK Franky","G",2,1,151,146,"2015-02-07","N1 Ligue T2 CALAIS","1/8 Finale","2014-2015",null,null,null,null,1,null,0]
["DEPLECHIN Robert","GEETS Patrice","P",1,2,102,156,"2015-02-07","N1 Ligue T2 CALAIS","1/4 Finale","2014-2015",null,null,null,null,0,null,0]
["DEPLECHIN Robert","LUBREZ Pierre","G",1,0,100,71,"2015-03-14","N1 Ligue T3 ANNOEULLIN","Poules Consolante","2014-2015",null,null,null,null,1,null,0]
["DEPLECHIN Robert","GHEVART Jean","G",1,0,100,59,"2015-03-14","N1 Ligue T3 ANNOEULLIN","Poules Consolante","2014-2015",null,null,null,null,1,null,0]
["DEPLECHIN Robert","LORTHIOIR Jean-Luc","G",1,0,100,72,"2015-03-14","N1 Ligue T3 ANNOEULLIN","Finale Consolante","2014-2015",null,null,null,null,1,null,0]
["DEPLECHIN Robert","GHEVART Jean","G",2,1,156,118,"2015-03-14","N1 Ligue T3 ANNOEULLIN","Poules","2014-2015",null,null,null,null,1,null,0]
["DEPLECHIN Robert","LEMÂTRE Alexis","P",0,2,83,120,"2015-03-14","N1 Ligue T3 ANNOEULLIN","Poules","2014-2015",null,null,null,null,0,null,0]
["DEPLECHIN Robert","LEMÂTRE Alexis","P",0,3,117,180,"2015-04-19","FINALE LIGUE N1 GRAVELINES","Poules","2014-2015",null,null,null,null,0,null,0]
["DEPLECHIN Robert","DECONINCK Franky","P",0,3,62,180,"2015-04-19","FINALE LIGUE N1 GRAVELINES","Poules","2014-2015",null,null,null,null,0,null,0]
["DEPLECHIN Robert","DEROLEZ Jean-pierre","P",2,3,279,274,"2015-04-19","FINALE LIGUE N1 GRAVELINES","5ème 6ème","2014-2015",null,null,null,null,0,null,0]
["DEPLECHIN Robert","LEBLANC Jean-Noël","P",1,2,137,164,"2016-01-09","T2  LIGUE 5 QUILLES N1 - GRAVELINES","Qualifications","2015-2016",null,null,null,null,0,null,0]
["DEPLECHIN Robert","GEETS Patrice","P",0,2,53,120,"2016-01-09","T2  LIGUE 5 QUILLES N1 - GRAVELINES","Qualifications","2015-2016",null,null,null,null,0,null,0]
["Fin des données",null,null,null,null,null,null,null,null,null,"",null,null,null,null,{"$f":"IF($K49=P$1,COUNTIF($C49,\"G\"),0)","v":0},null,{"$f":"IF($K49=R$1,COUNTIF($C49,\"G\"),0)","v":0}]

{"sheet":"DEROLEZ Jean-Pierre","index":18,"n_rows":168,"n_cols":22,"rows_kept":168,"cut":false,"hidden":false,"merged":[]}
["DEROLEZ Jean-Pierre",null,null,null,null,null,null,null,null,null,null,null,null,null,null,{"$f":"Récapitulatif!$B$2","v":"2014-2015"},null,{"$f":"Récapitulatif!$B$3","v":"2015-2016"},null,"Toutes saisons"]
["ANNOEULLIN",null,null,null,null,null,null,null,null,null,null,null,null,null,null,"Nombre","%age","Nombre","%age","Nombre","%age"]
["101152-M",null,null,null,null,null,null,null,null,null,null,null,null,"Matchs","Gagnés",{"$f":"SUM(P$15:P$168)","v":9},{"$f":"IF(P$3+P$4>0,P3/(P$3+P$4),\"\")","v":0.36},{"$f":"SUM(R$15:R$168)","v":18},{"$f":"IF(R$3+R$4>0,R3/(R$3+R$4),\"\")","v":0.6428571428571429},{"$f":"COUNTIF($C$15:$C$168,\"G\")","v":60},{"$f":"IF(T$3+T$4>0,T3/(T$3+T$4),\"\")","v":0.39473684210526316}]
[null,null,null,null,null,null,null,null,null,null,null,null,null,null,"Perdus",{"$f":"COUNTIF($K$15:$K$168,Récapitulatif!$B$2)-P3","v":16},{"$f":"IF(P$3+P$4>0,P4/(P$3+P$4),\"\")","v":0.64},{"$f":"COUNTIF($K$15:$K$168,Récapitulatif!$B$3)-R3","v":10},{"$f":"IF(R$3+R$4>0,R4/(R$3+R$4),\"\")","v":0.35714285714285715},{"$f":"COUNTIF($C$15:$C$168,\"P\")","v":92},{"$f":"IF(T$3+T$4>0,T4/(T$3+T$4),\"\")","v":0.60526315789473684}]
[null,null,null,null,null,null,null,null,null,null,null,null,null,null,"Total / Moy.",{"$f":"SUM(P3:P4)","v":25},{"$f":"IF(SUMIF($K$15:$K$168,Récapitulatif!$B$2,$G$15:$G$168)>0,SUMIF($K$15:$K$168,Récapitulatif!$B$2,$F$15:$F$168)/SUMIF($K$15:$K$168,Récapitulatif!$B$2,$G$15:$G$168),\"\")","v":0.89295466957946479},{"$f":"SUM(R3:R4)","v":28},{"$f":"IF(SUMIF($K$15:$K$168,Récapitulatif!$B$3,$G$15:$G$168)>0,SUMIF($K$15:$K$168,Récapitulatif!$B$3,$F$15:$F$168)/SUMIF($K$15:$K$168,Récapitulatif!$B$3,$G$15:$G$168),\"\")","v":1.042612064194798},{"$f":"SUM(T3:T4)","v":152},{"$f":"IF(SUM($G$15:$G$168)>0,SUM($F$15:$F$168)/SUM($G$15:$G$168),\"\")","v":0.92979156075241487},{"$f":"IF(SUMIF($K$15:$K$168,Récapitulatif!$B$2,$G$15:$G$168)+SUMIF($K$15:$K$168,Récapitulatif!$B$3,$G$15:$G$168)>0,(SUMIF($K$15:$K$168,Récapitulatif!$B$2,$F$15:$F$168)+SUMIF($K$15:$K$168,Récapitulatif!$B$3,$F$15:$F$168))/(SUMIF($K$15:$K$168,Récapitulatif!$B$2,$G$15:$G$168)+SUMIF($K$15:$K$168,Récapitulatif!$B$3,$G$15:$G$168)),\"\")","v":0.96728971962616828}]
[null,null,null,null,null,null,null,null,null,null,null,null,null,"Sets","Gagnés",{"$f":"SUMIF($K$15:$K$168,Récapitulatif!$B$2,$D$15:$D$168)","v":28},{"$f":"IF(P$6+P$7>0,P6/(P$6+P$7),\"\")","v":0.41791044776119401},{"$f":"SUMIF($K$15:$K$168,Récapitulatif!$B$3,$D$15:$D$168)","v":38},{"$f":"IF(R$6+R$7>0,R6/(R$6+R$7),\"\")","v":0.55072463768115942},{"$f":"SUM($D$15:$D$168)","v":152},{"$f":"IF(T$6+T$7>0,T6/(T$6+T$7),\"\")","v":0.41873278236914602}]
[null,null,null,null,null,null,null,null,null,null,null,null,null,null,"Perdus",{"$f":"SUMIF($K$15:$K$168,Récapitulatif!$B$2,$E$15:$E$168)","v":39},{"$f":"IF(P$6+P$7>0,P7/(P$6+P$7),\"\")","v":0.58208955223880599},{"$f":"SUMIF($K$15:$K$168,Récapitulatif!$B$3,$E$15:$E$168)","v":31},{"$f":"IF(R$6+R$7>0,R7/(R$6+R$7),\"\")","v":0.44927536231884058},{"$f":"SUM($E$15:$E$168)","v":211},{"$f":"IF(T$6+T$7>0,T7/(T$6+T$7),\"\")","v":0.58126721763085398}]
["Récapitulatif joueurs",null,null,null,null,null,null,null,null,null,null,null,null,null,"Total",{"$f":"SUM(P6:P7)","v":67},null,{"$f":"SUM(R6:R7)","v":69},null,{"$f":"SUM(T6:T7)","v":363}]
[]
[]
[]
[]
[]
[]
["Joueur","Adversaire","G/P","Sets gagnés","Sets perdus","pts marqués","pts subis","Date","Compétition","Phase","Saison"]
["DEROLEZ Jean-Pierre","JUBLOT Denis","P",0,2,92,120,"2008-12-12","National T3 ANNOEULLIN","Préqualifs",{"$f":"IF(H16<>\"\",IF(MONTH(H16)>MoisRef,YEAR(H16)&\"-\"&YEAR(H16)+1,YEAR(H16)-1&\"-\"&YEAR(H16)),\"\")","v":"2008-2009"},null,null,null,null,{"$f":"IF($K16=P$1,COUNTIF($C16,\"G\"),0)","v":0},null,{"$f":"IF($K16=R$1,COUNTIF($C16,\"G\"),0)","v":0}]
["DEROLEZ Jean-Pierre","DENIS Jean","P",0,2,82,120,"2008-12-12","National T3 ANNOEULLIN","Préqualifs","2008-2009",null,null,null,null,0,null,0]
["DEROLEZ Jean-Pierre","PAU Mariano","P",0,2,57,120,"2008-12-12","National T3 ANNOEULLIN","Préqualifs","2008-2009",null,null,null,null,0,null,0]
["DEROLEZ Jean-Pierre","DEVOS Jackie","P",1,2,175,173,"2009-11-21","N1 Ligue T1 GRAVELINES","Poules","2009-2010",null,null,null,null,0,null,0]
["DEROLEZ Jean-Pierre","HERREBRECHT Thierry","P",0,2,65,120,"2009-11-21","N1 Ligue T1 GRAVELINES","Poules","2009-2010",null,null,null,null,0,null,0]
["DEROLEZ Jean-Pierre","TURPIN Laurent","P",1,2,152,144,"2009-11-21","N1 Ligue T1 GRAVELINES","Poules Consolante","2009-2010",null,null,null,null,0,null,0]
["DEROLEZ Jean-Pierre","MARTEL Jean-Pierre","P",0,2,68,120,"2009-11-21","N1 Ligue T1 GRAVELINES","Poules Consolante","2009-2010",null,null,null,null,0,null,0]
["DEROLEZ Jean-Pierre","ZILLIG Pierre","P",0,2,84,120,"2009-12-04","National T2 ANNOEULLIN","Préqualifs","2009-2010",null,null,null,null,0,null,0]
["DEROLEZ Jean-Pierre","PERRIN Thierry","G",2,1,172,137,"2009-12-04","National T2 ANNOEULLIN","Préqualifs","2009-2010",null,null,null,null,0,null,0]
["DEROLEZ Jean-Pierre","DAVOINE Bruno","P",0,2,53,120,"2009-12-04","National T2 ANNOEULLIN","Préqualifs","2009-2010",null,null,null,null,0,null,0]
["DEROLEZ Jean-Pierre","GUILLEMANT Jean-Marc","P",1,3,221,202,"2009-12-05","National T2 ANNOEULLIN","Qualifs promotion","2009-2010",null,null,null,null,0,null,0]
["DEROLEZ Jean-Pierre","MORALES Luis","P",0,3,74,180,"2009-12-05","National T2 ANNOEULLIN","Qualifs promotion","2009-2010",null,null,null,null,0,null,0]
["DEROLEZ Jean-Pierre","BASTENIER Jean","P",1,2,130,179,"2009-12-19","N1 Ligue T2 ANNOEULLIN","Poules","2009-2010",null,null,null,null,0,null,0]
["DEROLEZ Jean-Pierre","GREMAIN Gino","P",0,2,57,120,"2009-12-19","N1 Ligue T2 ANNOEULLIN","Poules","2009-2010",null,null,null,null,0,null,0]
["DEROLEZ Jean-Pierre","MARTEL Jean-Pierre","P",1,2,163,175,"2009-12-19","N1 Ligue T2 ANNOEULLIN","Poules Consolante","2009-2010",null,null,null,null,0,null,0]
["DEROLEZ Jean-Pierre","MAILLE Bernard","P",0,2,97,120,"2009-12-19","N1 Ligue T2 ANNOEULLIN","Poules Consolante","2009-2010",null,null,null,null,0,null,0]
["DEROLEZ Jean-Pierre","HORNAIN Denis","P",0,2,69,120,"2010-01-16","N1 Ligue T3 ANNOEULLIN","Poules Consolante","2009-2010",null,null,null,null,0,null,0]
["DEROLEZ Jean-Pierre","SAINT-GEORGES Claude","P",0,2,102,120,"2010-01-16","N1 Ligue T3 ANNOEULLIN","Poules Consolante","2009-2010",null,null,null,null,0,null,0]
["DEROLEZ Jean-Pierre","CARPENTIER Yohanne","G",2,1,150,134,"2010-01-16","N1 Ligue T3 ANNOEULLIN","Poules","2009-2010",null,null,null,null,0,null,0]
["DEROLEZ Jean-Pierre","GREMAIN Gino","P",0,2,18,120,"2010-01-16","N1 Ligue T3 ANNOEULLIN","Poules","2009-2010",null,null,null,null,0,null,0]
["DEROLEZ Jean-Pierre","POULEYN André","P",1,2,154,157,"2010-02-20","N1 Ligue T4 DOUAI","Poules","2009-2010",null,null,null,null,0,null,0]
["DEROLEZ Jean-Pierre","TURPIN Laurent","P",1,2,128,174,"2010-02-20","N1 Ligue T4 DOUAI","Poules","2009-2010",null,null,null,null,0,null,0]
["DEROLEZ Jean-Pierre","MARTEL Bruno","G",2,0,120,74,"2010-02-20","N1 Ligue T4 DOUAI","Poules Consolante","2009-2010",null,null,null,null,0,null,0]
["DEROLEZ Jean-Pierre","TURPIN Laurent","P",1,2,162,141,"2010-02-20","N1 Ligue T4 DOUAI","Poules Consolante","2009-2010",null,null,null,null,0,null,0]
["DEROLEZ Jean-Pierre","SKORDILIS Christo","P",1,2,176,160,"2010-10-16","N1 Ligue T1 DOUAI","Poules","2010-2011",null,null,null,null,0,null,0]
["DEROLEZ Jean-Pierre","WALLART Jean-Charles","P",0,2,71,120,"2010-10-16","N1 Ligue T1 DOUAI","Poules","2010-2011",null,null,null,null,0,null,0]
["DEROLEZ Jean-Pierre","ZEUDE Alain","G",2,0,120,47,"2010-10-16","N1 Ligue T1 DOUAI","Poules Consolante","2010-2011",null,null,null,null,0,null,0]
["DEROLEZ Jean-Pierre","FAUCOMPREZ Didier","P",0,2,63,120,"2010-10-16","N1 Ligue T1 DOUAI","Poules Consolante","2010-2011",null,null,null,null,0,null,0]
["DEROLEZ Jean-Pierre","MAILLE Bernard","P",0,2,48,120,"2010-11-13","N1 Ligue T2 FACHES THUMESNIL","Poules","2010-2011",null,null,null,null,0,null,0]
["DEROLEZ Jean-Pierre","VANNUCCI Emilio","P",0,2,100,120,"2010-11-13","N1 Ligue T2 FACHES THUMESNIL","Poules","2010-2011",null,null,null,null,0,null,0]
["DEROLEZ Jean-Pierre","WALLART Jean-Charles","G",2,0,120,55,"2010-11-13","N1 Ligue T2 FACHES THUMESNIL","Poules Consolante","2010-2011",null,null,null,null,0,null,0]
["DEROLEZ Jean-Pierre","LEMÂTRE Jérémy","P",1,2,142,154,"2010-11-13","N1 Ligue T2 FACHES THUMESNIL","Poules Consolante","2010-2011",null,null,null,null,0,null,0]
["DEROLEZ Jean-Pierre","SKORDILIS Christo","P",0,2,108,120,"2010-12-11","N1 Ligue T3 GRAVELINES","Poules",{"$f":"IF(H48<>\"\",IF(MONTH(H48)>MoisRef,YEAR(H48)&\"-\"&YEAR(H48)+1,YEAR(H48)-1&\"-\"&YEAR(H48)),\"\")","v":"2010-2011"},null,null,null,null,{"$f":"IF($K48=P$1,COUNTIF($C48,\"G\"),0)","v":0},null,{"$f":"IF($K48=R$1,COUNTIF($C48,\"G\"),0)","v":0}]
["DEROLEZ Jean-Pierre","GEETS Patrice","P",0,2,80,120,"2010-12-11","N1 Ligue T3 GRAVELINES","Poules","2010-2011",null,null,null,null,0,null,0]
["DEROLEZ Jean-Pierre","VEREECQUE Ludovic","P",1,2,133,124,"2010-12-11","N1 Ligue T3 GRAVELINES","Poules Consolante","2010-2011",null,null,null,null,0,null,0]
["DEROLEZ Jean-Pierre","LECROART Serge","P",1,2,112,166,"2010-12-11","N1 Ligue T3 GRAVELINES","Poules Consolante","2010-2011",null,null,null,null,0,null,0]
["DEROLEZ Jean-Pierre","SORTAIS Claude","P",1,2,169,164,"2010-12-03","National T3 FACHES THUMESNIL - RONCHIN","Préqualifs","2010-2011",null,null,null,null,0,null,0]
["DEROLEZ Jean-Pierre","EVENOU Marie-Antoinette","G",2,1,174,116,"2010-12-03","National T3 FACHES THUMESNIL - RONCHIN","Préqualifs","2010-2011",null,null,null,null,0,null,0]
["DEROLEZ Jean-Pierre","BASTENIER Jean","P",0,2,72,120,"2010-12-03","National T3 FACHES THUMESNIL - RONCHIN","Préqualifs","2010-2011",null,null,null,null,0,null,0]
["DEROLEZ Jean-Pierre","PONCHANT Grégory","P",0,3,118,180,"2010-12-04","National T3 FACHES THUMESNIL - RONCHIN","Qualifs promotion","2010-2011",null,null,null,null,0,null,0]
["DEROLEZ Jean-Pierre","POULEYN André","G",3,1,208,206,"2010-12-04","National T3 FACHES THUMESNIL - RONCHIN","Qualifs promotion","2010-2011",null,null,null,null,0,null,0]
["DEROLEZ Jean-Pierre","SORTAIS Claude","P",1,3,153,206,"2010-12-04","National T3 FACHES THUMESNIL - RONCHIN","Qualifs promotion","2010-2011",null,null,null,null,0,null,0]
["DEROLEZ Jean-Pierre","MARTEL Bruno","P",1,2,117,177,"2011-01-15","N1 Ligue T4 DIVION","Poules","2010-2011",null,null,null,null,0,null,0]
["DEROLEZ Jean-Pierre","GEETS Patrice","P",0,2,93,120,"2011-01-15","N1 Ligue T4 DIVION","Poules","2010-2011",null,null,null,null,0,null,0]
["DEROLEZ Jean-Pierre","LERICQUE Pierre","P",1,2,171,154,"2011-01-15","N1 Ligue T4 DIVION","Poules Consolante","2010-2011",null,null,null,null,0,null,0]
["DEROLEZ Jean-Pierre","CARPENTIER Yohanne","G",2,0,120,88,"2011-01-15","N1 Ligue T4 DIVION","Poules Consolante","2010-2011",null,null,null,null,0,null,0]
["DEROLEZ Jean-Pierre","VEREECQUE Ludovic","G",2,1,166,159,"2011-10-15","N1 Ligue T1 DIVION","Poules","2011-2012",null,null,null,null,0,null,0]
["DEROLEZ Jean-Pierre","HERREBRECHT Thierry","P",0,2,71,120,"2011-10-15","N1 Ligue T1 DIVION","Poules","2011-2012",null,null,null,null,0,null,0]
["DEROLEZ Jean-Pierre","MANTEN Paul","P",0,1,87,100,"2011-10-15","N1 Ligue T1 DIVION","Poules Consolante","2011-2012",null,null,null,null,0,null,0]
["DEROLEZ Jean-Pierre","ESTERMANS Bernard","G",1,0,100,85,"2011-10-15","N1 Ligue T1 DIVION","Poules Consolante","2011-2012",null,null,null,null,0,null,0]
["DEROLEZ Jean-Pierre","LUBREZ Pierre","P",0,1,88,100,"2011-10-15","N1 Ligue T1 DIVION","1/4 Finale Consolante","2011-2012",null,null,null,null,0,null,0]
["DEROLEZ Jean-Pierre","LORTHIOIR Jean-Luc","P",0,1,75,100,"2011-11-19","N1 Ligue T2 DOUAI","Poules Consolante","2011-2012",null,null,null,null,0,null,0]
["DEROLEZ Jean-Pierre","KAYA Turgul","P",0,1,64,100,"2011-11-19","N1 Ligue T2 DOUAI","Poules Consolante","2011-2012",null,null,null,null,0,null,0]
["DEROLEZ Jean-Pierre","CAUX Frédéric","P",0,2,79,120,"2011-11-19","N1 Ligue T2 DOUAI","Poules","2011-2012",null,null,null,null,0,null,0]
["DEROLEZ Jean-Pierre","LHERMITTE Cédric","P",1,2,135,164,"2011-11-19","N1 Ligue T2 DOUAI","Poules","2011-2012",null,null,null,null,0,null,0]
["DEROLEZ Jean-Pierre","HERREBRECHT Thierry","P",1,2,112,174,"2011-11-19","N1 Ligue T2 DOUAI","1/8 Finale","2011-2012",null,null,null,null,0,null,0]
["DEROLEZ Jean-Pierre","SORTAIS Claude","P",0,2,66,120,"2011-12-02","National T3 ANNOEULLIN","Préqualifs","2011-2012",null,null,null,null,0,null,0]
["DEROLEZ Jean-Pierre","SACRE Jean-Yves","G",2,0,120,95,"2011-12-02","National T3 ANNOEULLIN","Préqualifs","2011-2012",null,null,null,null,0,null,0]
["DEROLEZ Jean-Pierre","WEBER Thierry","G",2,0,120,61,"2011-12-02","National T3 ANNOEULLIN","Préqualifs","2011-2012",null,null,null,null,0,null,0]
["DEROLEZ Jean-Pierre","LORTHIOIR Jean-Luc","G",3,1,217,214,"2011-12-03","National T3 ANNOEULLIN","Qualifs promotion","2011-2012",null,null,null,null,0,null,0]
["DEROLEZ Jean-Pierre","SACRE Jean-Yves","P",2,3,236,272,"2011-12-03","National T3 ANNOEULLIN","Qualifs promotion","2011-2012",null,null,null,null,0,null,0]
["DEROLEZ Jean-Pierre","WALLART Jean-Charles","P",1,3,202,234,"2011-12-03","National T3 ANNOEULLIN","Qualifs promotion","2011-2012",null,null,null,null,0,null,0]
["DEROLEZ Jean-Pierre","LUBREZ Pierre","G",2,0,120,91,"2012-01-07","N1 Ligue T3 FACHES THUMESNIL","Poules","2011-2012",null,null,null,null,0,null,0]
["DEROLEZ Jean-Pierre","GEETS Patrice","P",1,2,125,169,"2012-01-07","N1 Ligue T3 FACHES THUMESNIL","Poules","2011-2012",null,null,null,null,0,null,0]
["DEROLEZ Jean-Pierre","LEMÂTRE Jérémy","P",0,2,70,120,"2012-01-07","N1 Ligue T3 FACHES THUMESNIL","1/8 Finale","2011-2012",null,null,null,null,0,null,0]
["DEROLEZ Jean-Pierre","MONFLIER Francis","G",1,0,100,83,"2012-01-28","N1 Ligue T4 GRAVELINES","Poules Consolante","2011-2012",null,null,null,null,0,null,0]
["DEROLEZ Jean-Pierre","KAYA Turgul","G",1,0,100,63,"2012-01-28","N1 Ligue T4 GRAVELINES","Poules Consolante","2011-2012",null,null,null,null,0,null,0]
["DEROLEZ Jean-Pierre","CAUX Frédéric","P",0,1,91,100,"2012-01-28","N1 Ligue T4 GRAVELINES","Finale Consolante","2011-2012",null,null,null,null,0,null,0]
["DEROLEZ Jean-Pierre","LECROART Serge","G",2,0,120,92,"2012-01-28","N1 Ligue T4 GRAVELINES","Poules","2011-2012",null,null,null,null,0,null,0]
["DEROLEZ Jean-Pierre","GEETS Patrice","P",0,2,104,120,"2012-01-28","N1 Ligue T4 GRAVELINES","Poules","2011-2012",null,null,null,null,0,null,0]
["DEROLEZ Jean-Pierre","WALLART Jean-Charles","P",0,2,62,120,"2012-01-28","N1 Ligue T4 GRAVELINES","1/8 Finale","2011-2012",null,null,null,null,0,null,0]
["DEROLEZ Jean-Pierre","GROLLET Fabien","G",2,0,120,58,"2012-10-13","N1 Ligue T1 ANNOEULLIN","Poules","2012-2013",null,null,null,null,0,null,0]
["DEROLEZ Jean-Pierre","MAILLE Bernard","G",2,0,120,65,"2012-10-13","N1 Ligue T1 ANNOEULLIN","Poules","2012-2013",null,null,null,null,0,null,0]
["DEROLEZ Jean-Pierre","POULEYN André","P",1,2,139,162,"2012-10-13","N1 Ligue T1 ANNOEULLIN","1/8 Finale","2012-2013",null,null,null,null,0,null,0]
["DEROLEZ Jean-Pierre","LEMÂTRE Jérémy","G",2,0,120,80,"2012-10-27","N1 Ligue T2 BRUAY sur ESCAUT","Poules","2012-2013",null,null,null,null,0,null,0]
["DEROLEZ Jean-Pierre","WALLART Jean-Charles","G",2,0,120,116,"2012-10-27","N1 Ligue T2 BRUAY sur ESCAUT","Poules","2012-2013",null,null,null,null,0,null,0]
["DEROLEZ Jean-Pierre","LHERMITTE Cédric","P",1,2,116,154,"2012-10-27","N1 Ligue T2 BRUAY sur ESCAUT","1/4 Finale","2012-2013",null,null,null,null,0,null,0]
["DEROLEZ Jean-Pierre","PARISIS Francis","G",2,0,120,44,"2012-11-24","N1 Ligue T3 CALAIS","Poules","2012-2013",null,null,null,null,0,null,0]
["DEROLEZ Jean-Pierre","VEREECQUE Ludovic","P",0,2,86,120,"2012-11-24","N1 Ligue T3 CALAIS","Poules","2012-2013",null,null,null,null,0,null,0]
["DEROLEZ Jean-Pierre","WALLART Jean-Charles","P",0,2,69,120,"2012-11-24","N1 Ligue T3 CALAIS","1/8 Finale","2012-2013",null,null,null,null,0,null,0]
["DEROLEZ Jean-Pierre","MAILLE Bernard","P",0,2,74,120,"2012-12-15","N1 Ligue T4 VILLENEUVE D'ASCQ","Poules","2012-2013",null,null,null,null,0,null,0]
["DEROLEZ Jean-Pierre","LHERMITTE Cédric","P",1,2,121,173,"2012-12-15","N1 Ligue T4 VILLENEUVE D'ASCQ","Poules","2012-2013",null,null,null,null,0,null,0]
["DEROLEZ Jean-Pierre","POULEYN André","G",1,0,100,59,"2012-12-15","N1 Ligue T4 VILLENEUVE D'ASCQ","Poules Consolante","2012-2013",null,null,null,null,0,null,0]
["DEROLEZ Jean-Pierre","LHERMITTE Cédric","P",0,1,59,100,"2012-12-15","N1 Ligue T4 VILLENEUVE D'ASCQ","Poules Consolante","2012-2013",null,null,null,null,0,null,0]
["DEROLEZ Jean-Pierre","LECROART Serge","G",1,0,100,86,"2012-12-15","N1 Ligue T4 VILLENEUVE D'ASCQ","1/2 finale Consolante","2012-2013",null,null,null,null,0,null,0]
["DEROLEZ Jean-Pierre","LHERMITTE Cédric","G",1,0,100,86,"2012-12-15","N1 Ligue T4 VILLENEUVE D'ASCQ","Finale Consolante","2012-2013",null,null,null,null,0,null,0]
["DEROLEZ Jean-Pierre","CAUX Grégory","G",2,0,120,74,"2014-01-04","N1 Ligue T1 ANNOEULLIN","Poules","2013-2014",null,null,null,null,0,null,0]
["DEROLEZ Jean-Pierre","CAUX Grégory","P",1,2,161,175,"2014-01-04","N1 Ligue T1 ANNOEULLIN","Poules","2013-2014",null,null,null,null,0,null,0]
["DEROLEZ Jean-Pierre","SAINT-GEORGES Claude","P",0,2,53,120,"2014-01-04","N1 Ligue T1 ANNOEULLIN","1/8 Finale","2013-2014",null,null,null,null,0,null,0]
["DEROLEZ Jean-Pierre","VERHAGHE Dominique","P",0,2,86,120,"2014-03-15","N1 Ligue T2 FACHES THUMESNIL","Poules","2013-2014",null,null,null,null,0,null,0]
["DEROLEZ Jean-Pierre","SAINT-GEORGES Claude","G",2,0,120,48,"2014-03-15","N1 Ligue T2 FACHES THUMESNIL","Poules","2013-2014",null,null,null,null,0,null,0]
["DEROLEZ Jean-Pierre","VEREECQUE Ludovic","G",2,1,134,126,"2014-03-15","N1 Ligue T2 FACHES THUMESNIL","1/4 Finale","2013-2014",null,null,null,null,0,null,0]
["DEROLEZ Jean-Pierre","DELSOL Philippe","P",0,2,81,120,"2014-03-15","N1 Ligue T2 FACHES THUMESNIL","1/2 Finale","2013-2014",null,null,null,null,0,null,0]
["DEROLEZ Jean-Pierre","PAILLARD Bertrand","G",2,1,171,142,"2014-04-05","N1 Ligue T3 GRAVELINES","Poules","2013-2014",null,null,null,null,0,null,0]
["DEROLEZ Jean-Pierre","LUBREZ Pierre","G",2,1,179,151,"2014-04-05","N1 Ligue T3 GRAVELINES","Poules","2013-2014",null,null,null,null,0,null,0]
["DEROLEZ Jean-Pierre","CLYNCKE Jean-Jacques","P",1,2,139,149,"2014-04-05","N1 Ligue T3 GRAVELINES","1/8 Finale","2013-2014",null,null,null,null,0,null,0]
["DEROLEZ Jean-Pierre","VERPOORT José","G",1,0,100,79,"2014-04-05","N1 Ligue T3 GRAVELINES","Poules Consolante","2013-2014",null,null,null,null,0,null,0]
["DEROLEZ Jean-Pierre","PAILLARD Bertrand","G",1,0,100,55,"2014-04-05","N1 Ligue T3 GRAVELINES","Poules Consolante","2013-2014",null,null,null,null,0,null,0]
["DEROLEZ Jean-Pierre","ALDEGUER Lionel","G",1,0,100,49,"2014-04-05","N1 Ligue T3 GRAVELINES","1/2 Finale Consolante","2013-2014",null,null,null,null,0,null,0]
["DEROLEZ Jean-Pierre","MAILLE Bernard","P",0,2,59,120,"2014-11-28","National T2 FACHES THUMESNIL - RONCHIN","Préqualifs","2014-2015",null,null,null,null,0,null,0]
["DEROLEZ Jean-Pierre","LEBOEUF Sylvain","P",1,2,123,156,"2014-11-28","National T2 FACHES THUMESNIL - RONCHIN","Préqualifs","2014-2015",null,null,null,null,0,null,0]
["DEROLEZ Jean-Pierre","SAINT-GEORGES Claude","P",0,2,82,120,"2014-11-28","National T2 FACHES THUMESNIL - RONCHIN","Préqualifs","2014-2015",null,null,null,null,0,null,0]
["DEROLEZ Jean-Pierre","AIRAULT Jean-Michel","P",1,3,219,233,"2014-11-29","National T2 FACHES THUMESNIL - RONCHIN","Qualifs promotion","2014-2015",null,null,null,null,0,null,0]
["DEROLEZ Jean-Pierre","MICHELOTTI Francesco","P",2,3,244,279,"2014-11-29","National T2 FACHES THUMESNIL - RONCHIN","Qualifs promotion","2014-2015",null,null,null,null,0,null,0]
["DEROLEZ Jean-Pierre","MAILLE Bernard","P",0,2,78,120,"2015-03-20","National T5 SAINT QUENTIN","Préqualifs","2014-2015",null,null,null,null,0,null,0]
["DEROLEZ Jean-Pierre","GHEVART Jean","P",0,2,105,120,"2015-03-20","National T5 SAINT QUENTIN","Préqualifs","2014-2015",null,null,null,null,0,null,0]
["DEROLEZ Jean-Pierre","MICHELOTTI Francesco","P",1,2,105,162,"2015-03-20","National T5 SAINT QUENTIN","Préqualifs","2014-2015",null,null,null,null,0,null,0]
["DEROLEZ Jean-pierre","LEMÂTRE Alexis","G",2,0,120,101,"2015-01-17","N1 Ligue T1 DUNKERQUE","Poules","2014-2015",null,null,null,null,1,null,0]
["DEROLEZ Jean-pierre","DEPLECHIN Robert","P",0,2,104,120,"2015-01-17","N1 Ligue T1 DUNKERQUE","Poules","2014-2015",null,null,null,null,0,null,0]
["DEROLEZ Jean-pierre","WALLART Jean-charles","G",2,1,166,161,"2015-01-17","N1 Ligue T1 DUNKERQUE","1/8 Finale","2014-2015",null,null,null,null,1,null,0]
["DEROLEZ Jean-pierre","DECONINCK Franky","P",0,2,63,120,"2015-01-17","N1 Ligue T1 DUNKERQUE","1/4 Finale","2014-2015",null,null,null,null,0,null,0]
["DEROLEZ Jean-pierre","ALDEGUER Lionel","G",2,0,120,80,"2015-02-07","N1 Ligue T2 CALAIS","Poules","2014-2015",null,null,null,null,1,null,0]
["DEROLEZ Jean-pierre","CLYNCKE Jean-Jacques","G",2,0,120,84,"2015-02-07","N1 Ligue T2 CALAIS","Poules","2014-2015",null,null,null,null,1,null,0]
["DEROLEZ Jean-pierre","LORTHIOIR Jean-Luc","G",2,0,120,65,"2015-02-07","N1 Ligue T2 CALAIS","1/8 Finale","2014-2015",null,null,null,null,1,null,0]
["DEROLEZ Jean-pierre","CLYNCKE Jean-Jacques","G",2,0,120,89,"2015-02-07","N1 Ligue T2 CALAIS","1/4 Finale","2014-2015",null,null,null,null,1,null,0]
["DEROLEZ Jean-pierre","LEMÂTRE Alexis","G",2,1,133,157,"2015-02-07","N1 Ligue T2 CALAIS","1/2 Finale","2014-2015",null,null,null,null,1,null,0]
["DEROLEZ Jean-pierre","LEMÂTRE Jérémy","P",1,2,105,165,"2015-02-07","N1 Ligue T2 CALAIS","Finale","2014-2015",null,null,null,null,0,null,0]
["DEROLEZ Jean-pierre","TRIPLET Gilbert","G",1,0,100,71,"2015-03-14","N1 Ligue T3 ANNOEULLIN","Poules Consolante","2014-2015",null,null,null,null,1,null,0]
["DEROLEZ Jean-pierre","LORTHIOIR Jean-Luc","P",0,1,78,100,"2015-03-14","N1 Ligue T3 ANNOEULLIN","Poules Consolante","2014-2015",null,null,null,null,0,null,0]
["DEROLEZ Jean-pierre","LORTHIOIR Jean-Luc","P",1,2,151,156,"2015-03-14","N1 Ligue T3 ANNOEULLIN","Poules","2014-2015",null,null,null,null,0,null,0]
["DEROLEZ Jean-pierre","CAUX Frédéric","P",0,2,93,120,"2015-03-14","N1 Ligue T3 ANNOEULLIN","Poules","2014-2015",null,null,null,null,0,null,0]
["DEROLEZ Jean-pierre","POULEYN André","P",1,3,143,223,"2015-04-19","FINALE LIGUE N1 GRAVELINES","Poules","2014-2015",null,null,null,null,0,null,0]
["DEROLEZ Jean-pierre","LEMÂTRE Jérémy","P",2,3,245,261,"2015-04-19","FINALE LIGUE N1 GRAVELINES","Poules","2014-2015",null,null,null,null,0,null,0]
["DEROLEZ Jean-pierre","DEPLECHIN Robert","G",3,2,274,279,"2015-04-19","FINALE LIGUE N1 GRAVELINES","5ème 6ème","2014-2015",null,null,null,null,1,null,0]
["DEROLEZ Jean-Pierre","GANGLOFF Jean-Luc","P",0,2,50,120,"2015-12-11","National T3 FACHES THUMESNIL - RONCHIN","Préqualifs","2015-2016",null,null,null,null,0,null,0]
["DEROLEZ Jean-Pierre","GHEVART Jean","G",2,0,120,83,"2015-12-11","National T3 FACHES THUMESNIL - RONCHIN","Préqualifs","2015-2016",null,null,null,null,0,null,1]
["DEROLEZ Jean-Pierre","JACQ Laurent","G",2,1,170,146,"2015-12-11","National T3 FACHES THUMESNIL - RONCHIN","Préqualifs","2015-2016",null,null,null,null,0,null,1]
["DEROLEZ Jean-Pierre","BILLIARD Alain","P",2,3,223,283,"2015-12-12","National T3 FACHES THUMESNIL - RONCHIN","Qualifs promotion","2015-2016",null,null,null,null,0,null,0]
["DEROLEZ Jean-Pierre","CHARLES Dominique","G",3,2,251,226,"2015-12-12","National T3 FACHES THUMESNIL - RONCHIN","Qualifs promotion","2015-2016",null,null,null,null,0,null,1]
["DEROLEZ Jean-Pierre","CLYNCKE Jean-Jacques","P",1,3,153,212,"2015-12-12","National T3 FACHES THUMESNIL - RONCHIN","Qualifs promotion","2015-2016",null,null,null,null,0,null,0]
["DEROLEZ Jean-Pierre","SORTAIS Claude","P",1,2,138,162,"2016-03-04","National T5 GRAVELINES","Préqualifs","2015-2016",null,null,null,null,0,null,0]
["DEROLEZ Jean-Pierre","LEPAGE Patrick","G",2,1,177,94,"2016-03-04","National T5 GRAVELINES","Préqualifs","2015-2016",null,null,null,null,0,null,1]
["DEROLEZ Jean-Pierre","GONTHIER Arnaud","G",2,0,120,67,"2016-03-04","National T5 GRAVELINES","Préqualifs","2015-2016",null,null,null,null,0,null,1]
["DEROLEZ Jean-Pierre","GONTHIER Arnaud","P",1,3,164,218,"2016-03-05","National T5 GRAVELINES","Qualifs promotion","2015-2016",null,null,null,null,0,null,0]
["DEROLEZ Jean-Pierre","GHEVART Jean","G",3,2,252,264,"2016-03-05","National T5 GRAVELINES","Qualifs promotion","2015-2016",null,null,null,null,0,null,1]
["DEROLEZ Jean-Pierre","CLYNCKE Jean-Jacques","P",1,3,216,194,"2016-03-05","National T5 GRAVELINES","Qualifs promotion","2015-2016",null,null,null,null,0,null,0]
["DEROLEZ Jean-Pierre","HINGRAND Tony","G",2,0,120,78,"2015-12-04","T1 LIGUE 5 QUILLES N1 - FACHES-THUMESNIL","Poules","2015-2016",null,null,null,null,0,null,1]
["DEROLEZ Jean-Pierre","POULEYN André","G",2,0,120,104,"2015-12-04","T1 LIGUE 5 QUILLES N1 - FACHES-THUMESNIL","Poules","2015-2016",null,null,null,null,0,null,1]
["DEROLEZ Jean-Pierre","LEMÂTRE Alexis","P",0,2,89,120,"2015-12-04","T1 LIGUE 5 QUILLES N1 - FACHES-THUMESNIL","1/4 Finale","2015-2016",null,null,null,null,0,null,0]
["DEROLEZ Jean-Pierre","LORTHIOIR Jean-Luc","G",1,0,100,38,"2016-01-09","CONSOLANTE  T2 LIGUE 5 QUILLES N1 - GRAVELINES","Qualifications","2015-2016",null,null,null,null,0,null,1]
["DEROLEZ Jean-Pierre","LORTHIOIR Jean-Luc","G",1,0,100,79,"2016-01-09","CONSOLANTE  T2 LIGUE 5 QUILLES N1 - GRAVELINES","Qualifications","2015-2016",null,null,null,null,0,null,1]
["DEROLEZ Jean-Pierre","GHEVART Jean","P",0,1,69,100,"2016-01-09","CONSOLANTE  T2 LIGUE 5 QUILLES N1 - GRAVELINES","1/2 Finale","2015-2016",null,null,null,null,0,null,0]
["DEROLEZ Jean-Pierre","LECLERCQ Alain","G",2,0,120,52,"2016-01-09","T2  LIGUE 5 QUILLES N1 - GRAVELINES","Qualifications","2015-2016",null,null,null,null,0,null,1]
["DEROLEZ Jean-Pierre","VEREECQUE Ludovic","G",2,1,171,158,"2016-01-09","T2  LIGUE 5 QUILLES N1 - GRAVELINES","Qualifications","2015-2016",null,null,null,null,0,null,1]
["DEROLEZ Jean-Pierre","VEREECQUE Ludovic","P",1,2,96,165,"2016-01-09","T2  LIGUE 5 QUILLES N1 - GRAVELINES","1/8 Finale","2015-2016",null,null,null,null,0,null,0]
["DEROLEZ Jean-Pierre","CAUX Frédéric","G",1,0,100,92,"2016-01-23","CONSOLANTE T3 - ANNOEULLIN","Qualifications","2015-2016",null,null,null,null,0,null,1]
["DEROLEZ Jean-Pierre","CAUX Frédéric","G",1,0,100,33,"2016-01-23","CONSOLANTE T3 - ANNOEULLIN","1/2 Finale","2015-2016",null,null,null,null,0,null,1]
["DEROLEZ Jean-Pierre","LECROART Serge","G",1,0,100,92,"2016-01-23","CONSOLANTE T3 - ANNOEULLIN","Qualifications","2015-2016",null,null,null,null,0,null,1]
["DEROLEZ Jean-Pierre","LECROART Serge","G",1,0,100,75,"2016-01-23","CONSOLANTE T3 - ANNOEULLIN","Finale","2015-2016",null,null,null,null,0,null,1]
["DEROLEZ Jean-Pierre","LORTHIOIR Jean-Luc","G",1,0,100,95,"2016-01-23","CONSOLANTE T3 - ANNOEULLIN","Qualifications","2015-2016",null,null,null,null,0,null,1]
["DEROLEZ Jean-Pierre","CLYNCKE Jean-Jacques","G",2,1,156,144,"2016-01-23","T3 Ligue 5 Quilles N1 - ANNOEULLIN","Qualifications","2015-2016",null,null,null,null,0,null,1]
["DEROLEZ Jean-Pierre","CLYNCKE Jean-Jacques","P",0,2,93,120,"2016-01-23","T3 Ligue 5 Quilles N1 - ANNOEULLIN","Qualifications","2015-2016",null,null,null,null,0,null,0]
["Fin des données",null,null,null,null,null,null,null,null,null,"",null,null,null,null,0,null,0]

{"sheet":"DEVOS Jackie","index":19,"n_rows":50,"n_cols":22,"rows_kept":50,"cut":false,"hidden":false,"merged":[]}
["DEVOS Jackie",null,null,null,null,null,null,null,null,null,null,null,null,null,null,{"$f":"Récapitulatif!$B$2","v":"2014-2015"},null,{"$f":"Récapitulatif!$B$3","v":"2015-2016"},null,"Toutes saisons"]
["GRAVELINES",null,null,null,null,null,null,null,null,null,null,null,null,null,null,"Nombre","%age","Nombre","%age","Nombre","%age"]
["121408-O",null,null,null,null,null,null,null,null,null,null,null,null,"Matchs","Gagnés",{"$f":"SUM(P$15:P$50)","v":6},{"$f":"IF(P$3+P$4>0,P3/(P$3+P$4),\"\")","v":0.75},{"$f":"SUM(R$15:R$50)","v":2},{"$f":"IF(R$3+R$4>0,R3/(R$3+R$4),\"\")","v":0.66666666666666663},{"$f":"COUNTIF($C$15:$C$50,\"G\")","v":23},{"$f":"IF(T$3+T$4>0,T3/(T$3+T$4),\"\")","v":0.67647058823529416}]
[null,null,null,null,null,null,null,null,null,null,null,null,null,null,"Perdus",{"$f":"COUNTIF($K$15:$K$50,Récapitulatif!$B$2)-P3","v":2},{"$f":"IF(P$3+P$4>0,P4/(P$3+P$4),\"\")","v":0.25},{"$f":"COUNTIF($K$15:$K$50,Récapitulatif!$B$3)-R3","v":1},{"$f":"IF(R$3+R$4>0,R4/(R$3+R$4),\"\")","v":0.33333333333333331},{"$f":"COUNTIF($C$15:$C$50,\"P\")","v":11},{"$f":"IF(T$3+T$4>0,T4/(T$3+T$4),\"\")","v":0.3235294117647059}]
[null,null,null,null,null,null,null,null,null,null,null,null,null,null,"Total / Moy.",{"$f":"SUM(P3:P4)","v":8},{"$f":"IF(SUMIF($K$15:$K$50,Récapitulatif!$B$2,$G$15:$G$50)>0,SUMIF($K$15:$K$50,Récapitulatif!$B$2,$F$15:$F$50)/SUMIF($K$15:$K$50,Récapitulatif!$B$2,$G$15:$G$50),\"\")","v":1.1922626025791325},{"$f":"SUM(R3:R4)","v":3},{"$f":"IF(SUMIF($K$15:$K$50,Récapitulatif!$B$3,$G$15:$G$50)>0,SUMIF($K$15:$K$50,Récapitulatif!$B$3,$F$15:$F$50)/SUMIF($K$15:$K$50,Récapitulatif!$B$3,$G$15:$G$50),\"\")","v":1.0644257703081232},{"$f":"SUM(T3:T4)","v":34},{"$f":"IF(SUM($G$15:$G$50)>0,SUM($F$15:$F$50)/SUM($G$15:$G$50),\"\")","v":1.120774263904035},{"$f":"IF(SUMIF($K$15:$K$50,Récapitulatif!$B$2,$G$15:$G$50)+SUMIF($K$15:$K$50,Récapitulatif!$B$3,$G$15:$G$50)>0,(SUMIF($K$15:$K$50,Récapitulatif!$B$2,$F$15:$F$50)+SUMIF($K$15:$K$50,Récapitulatif!$B$3,$F$15:$F$50))/(SUMIF($K$15:$K$50,Récapitulatif!$B$2,$G$15:$G$50)+SUMIF($K$15:$K$50,Récapitulatif!$B$3,$G$15:$G$50)),\"\")","v":1.1545454545454545}]
[null,null,null,null,null,null,null,null,null,null,null,null,null,"Sets","Gagnés",{"$f":"SUMIF($K$15:$K$50,Récapitulatif!$B$2,$D$15:$D$50)","v":12},{"$f":"IF(P$6+P$7>0,P6/(P$6+P$7),\"\")","v":0.66666666666666663},{"$f":"SUMIF($K$15:$K$50,Récapitulatif!$B$3,$D$15:$D$50)","v":4},{"$f":"IF(R$6+R$7>0,R6/(R$6+R$7),\"\")","v":0.5714285714285714},{"$f":"SUM($D$15:$D$50)","v":46},{"$f":"IF(T$6+T$7>0,T6/(T$6+T$7),\"\")","v":0.6216216216216216}]
[null,null,null,null,null,null,null,null,null,null,null,null,null,null,"Perdus",{"$f":"SUMIF($K$15:$K$50,Récapitulatif!$B$2,$E$15:$E$50)","v":6},{"$f":"IF(P$6+P$7>0,P7/(P$6+P$7),\"\")","v":0.33333333333333331},{"$f":"SUMIF($K$15:$K$50,Récapitulatif!$B$3,$E$15:$E$50)","v":3},{"$f":"IF(R$6+R$7>0,R7/(R$6+R$7),\"\")","v":0.42857142857142855},{"$f":"SUM($E$15:$E$50)","v":28},{"$f":"IF(T$6+T$7>0,T7/(T$6+T$7),\"\")","v":0.3783783783783784}]
["Récapitulatif joueurs",null,null,null,null,null,null,null,null,null,null,null,null,null,"Total",{"$f":"SUM(P6:P7)","v":18},null,{"$f":"SUM(R6:R7)","v":7},null,{"$f":"SUM(T6:T7)","v":74}]
[]
[]
[]
[]
[]
[]
["Joueur","Adversaire","G/P","Sets gagnés","Sets perdus","pts marqués","pts subis","Date","Compétition","Phase","Saison"]
["DEVOS Jackie","DEROLEZ Jean-Pierre","G",2,1,173,175,"2009-11-21","N1 Ligue T1 GRAVELINES","Poules",{"$f":"IF(H16<>\"\",IF(MONTH(H16)>MoisRef,YEAR(H16)&\"-\"&YEAR(H16)+1,YEAR(H16)-1&\"-\"&YEAR(H16)),\"\")","v":"2009-2010"},null,null,null,null,{"$f":"IF($K16=P$1,COUNTIF($C16,\"G\"),0)","v":0},null,{"$f":"IF($K16=R$1,COUNTIF($C16,\"G\"),0)","v":0}]
["DEVOS Jackie","PONCHANT Gregory","P",1,2,154,175,"2009-11-21","N1 Ligue T1 GRAVELINES","Poules","2009-2010",null,null,null,null,0,null,0]
["DEVOS Jackie","CLYNCKE Jean-Jacques","P",0,2,114,120,"2009-11-21","N1 Ligue T1 GRAVELINES","Poules Consolante","2009-2010",null,null,null,null,0,null,0]
["DEVOS Jackie","MARTEL Bruno","G",2,0,120,81,"2009-11-21","N1 Ligue T1 GRAVELINES","Poules Consolante","2009-2010",null,null,null,null,0,null,0]
["DEVOS Jackie","CAUX Frédéric","G",2,1,145,122,"2010-12-11","N1 Ligue T3 GRAVELINES","Poules","2010-2011",null,null,null,null,0,null,0]
["DEVOS Jackie","RACARY Thibault","P",0,2,84,120,"2010-12-11","N1 Ligue T3 GRAVELINES","Poules","2010-2011",null,null,null,null,0,null,0]
["DEVOS Jackie","ZEUDE Alain","G",2,0,120,50,"2010-12-11","N1 Ligue T3 GRAVELINES","Poules Consolante","2010-2011",null,null,null,null,0,null,0]
["DEVOS Jackie","ESTERMANS Bernard","G",2,0,120,50,"2010-12-11","N1 Ligue T3 GRAVELINES","Poules Consolante","2010-2011",null,null,null,null,0,null,0]
["DEVOS Jackie","CAUX Frédéric","G",2,1,146,169,"2010-12-11","N1 Ligue T3 GRAVELINES","1/2 Finale Consolante","2010-2011",null,null,null,null,0,null,0]
["DEVOS Jackie","CAUX Frédéric","G",2,0,120,114,"2011-10-15","N1 Ligue T1 DIVION","Poules","2011-2012",null,null,null,null,0,null,0]
["DEVOS Jackie","DELSOL Philippe","P",0,2,45,120,"2011-10-15","N1 Ligue T1 DIVION","Poules","2011-2012",null,null,null,null,0,null,0]
["DEVOS Jackie","VEREECQUE Ludovic","G",1,0,100,52,"2011-10-15","N1 Ligue T1 DIVION","Poules Consolante","2011-2012",null,null,null,null,0,null,0]
["DEVOS Jackie","VEREECQUE Ludovic","P",0,1,89,100,"2011-10-15","N1 Ligue T1 DIVION","Poules Consolante","2011-2012",null,null,null,null,0,null,0]
["DEVOS Jackie","ESTERMANS Bernard","G",1,0,100,56,"2011-10-15","N1 Ligue T1 DIVION","1/4 Finale Consolante","2011-2012",null,null,null,null,0,null,0]
["DEVOS Jackie","WALLART Jean-Charles","G",1,0,100,87,"2011-10-15","N1 Ligue T1 DIVION","1/2 Finale Consolante","2011-2012",null,null,null,null,0,null,0]
["DEVOS Jackie","CLYNCKE Jean-Jacques","P",1,2,122,172,"2012-11-24","N1 Ligue T3 CALAIS","Poules","2012-2013",null,null,null,null,0,null,0]
["DEVOS Jackie","TURPIN Laurent","G",2,0,120,85,"2012-11-24","N1 Ligue T3 CALAIS","Poules","2012-2013",null,null,null,null,0,null,0]
["DEVOS Jackie","CAUX Grégory","G",2,1,158,149,"2012-11-24","N1 Ligue T3 CALAIS","1/8 Finale","2012-2013",null,null,null,null,0,null,0]
["DEVOS Jackie","LHERMITTE Cédric","P",1,2,153,175,"2012-11-24","N1 Ligue T3 CALAIS","1/4 Finale","2012-2013",null,null,null,null,0,null,0]
["DEVOS Jackie","ALDEGUER Lionel","G",2,0,120,70,"2014-04-05","N1 Ligue T3 GRAVELINES","Poules","2013-2014",null,null,null,null,0,null,0]
["DEVOS Jackie","SAINT-GEORGES Claude","G",2,0,120,66,"2014-04-05","N1 Ligue T3 GRAVELINES","Poules","2013-2014",null,null,null,null,0,null,0]
["DEVOS Jackie","PARISIS Francis","G",2,0,120,30,"2014-04-05","N1 Ligue T3 GRAVELINES","1/8 Finale","2013-2014",null,null,null,null,0,null,0]
["DEVOS Jackie","SAINT-GEORGES Claude","P",0,2,71,120,"2014-04-05","N1 Ligue T3 GRAVELINES","1/4 Finale","2013-2014",null,null,null,null,0,null,0]
["DEVOS Jackie","ALDEGUER Lionel","G",2,0,120,81,"2015-01-17","N1 Ligue T1 DUNKERQUE","Poules","2014-2015",null,null,null,null,1,null,0]
["DEVOS Jackie","SEINGIER Jean-Claude","G",2,1,164,137,"2015-01-17","N1 Ligue T1 DUNKERQUE","Poules","2014-2015",null,null,null,null,1,null,0]
["DEVOS Jackie","CAUX Frédéric","G",2,0,120,90,"2015-01-17","N1 Ligue T1 DUNKERQUE","1/8 Finale","2014-2015",null,null,null,null,1,null,0]
["DEVOS Jackie","DEPLECHIN Robert","G",2,0,120,78,"2015-01-17","N1 Ligue T1 DUNKERQUE","1/4 Finale","2014-2015",null,null,null,null,1,null,0]
["DEVOS Jackie","DECONINCK Franky","P",0,2,99,120,"2015-01-17","N1 Ligue T1 DUNKERQUE","1/2 Finale","2014-2015",null,null,null,null,0,null,0]
["DEVOS Jackie","MANTEN Paul","G",2,0,120,70,"2015-02-07","N1 Ligue T2 CALAIS","Poules","2014-2015",null,null,null,null,1,null,0]
["DEVOS Jackie","ESTERMANS Bernard","G",2,1,167,157,"2015-02-07","N1 Ligue T2 CALAIS","Poules","2014-2015",null,null,null,null,1,null,0]
["DEVOS Jackie","CLYNCKE Jean-Jacques","P",0,2,107,120,"2015-02-07","N1 Ligue T2 CALAIS","1/8 Finale","2014-2015",null,null,null,null,0,null,0]
["DEVOS Jackie","GHEVART Jean","G",2,1,178,143,"2016-01-09","T2  LIGUE 5 QUILLES N1 - GRAVELINES","Qualifications","2015-2016",null,null,null,null,0,null,1]
["DEVOS Jackie","LEMÂTRE Alexis","G",2,0,120,94,"2016-01-09","T2  LIGUE 5 QUILLES N1 - GRAVELINES","Qualifications","2015-2016",null,null,null,null,0,null,1]
["DEVOS Jackie","LECROART Serge","P",0,2,82,120,"2016-01-09","T2  LIGUE 5 QUILLES N1 - GRAVELINES","1/8 Finale","2015-2016",null,null,null,null,0,null,0]
["Fin des données",null,null,null,null,null,null,null,null,null,"",null,null,null,null,0,null,0]

{"sheet":"ESTERMANS Bernard","index":20,"n_rows":54,"n_cols":22,"rows_kept":54,"cut":false,"hidden":false,"merged":[]}
["ESTERMANS Bernard",null,null,null,null,null,null,null,null,null,null,null,null,null,null,{"$f":"Récapitulatif!$B$2","v":"2014-2015"},null,{"$f":"Récapitulatif!$B$3","v":"2015-2016"},null,"Toutes saisons"]
["GRAVELINES",null,null,null,null,null,null,null,null,null,null,null,null,null,null,"Nombre","%age","Nombre","%age","Nombre","%age"]
["138943-Z",null,null,null,null,null,null,null,null,null,null,null,null,"Matchs","Gagnés",{"$f":"SUM(P$15:P$54)","v":1},{"$f":"IF(P$3+P$4>0,P3/(P$3+P$4),\"\")","v":0.125},{"$f":"SUM(R$15:R$54)","v":0},{"$f":"IF(R$3+R$4>0,R3/(R$3+R$4),\"\")","v":""},{"$f":"COUNTIF($C$15:$C$54,\"G\")","v":10},{"$f":"IF(T$3+T$4>0,T3/(T$3+T$4),\"\")","v":0.26315789473684209}]
[null,null,null,null,null,null,null,null,null,null,null,null,null,null,"Perdus",{"$f":"COUNTIF($K$15:$K$54,Récapitulatif!$B$2)-P3","v":7},{"$f":"IF(P$3+P$4>0,P4/(P$3+P$4),\"\")","v":0.875},{"$f":"COUNTIF($K$15:$K$54,Récapitulatif!$B$3)-R3","v":0},{"$f":"IF(R$3+R$4>0,R4/(R$3+R$4),\"\")","v":""},{"$f":"COUNTIF($C$15:$C$54,\"P\")","v":28},{"$f":"IF(T$3+T$4>0,T4/(T$3+T$4),\"\")","v":0.73684210526315785}]
[null,null,null,null,null,null,null,null,null,null,null,null,null,null,"Total / Moy.",{"$f":"SUM(P3:P4)","v":8},{"$f":"IF(SUMIF($K$15:$K$54,Récapitulatif!$B$2,$G$15:$G$54)>0,SUMIF($K$15:$K$54,Récapitulatif!$B$2,$F$15:$F$54)/SUMIF($K$15:$K$54,Récapitulatif!$B$2,$G$15:$G$54),\"\")","v":0.84034416826003822},{"$f":"SUM(R3:R4)","v":0},{"$f":"IF(SUMIF($K$15:$K$54,Récapitulatif!$B$3,$G$15:$G$54)>0,SUMIF($K$15:$K$54,Récapitulatif!$B$3,$F$15:$F$54)/SUMIF($K$15:$K$54,Récapitulatif!$B$3,$G$15:$G$54),\"\")","v":""},{"$f":"SUM(T3:T4)","v":38},{"$f":"IF(SUM($G$15:$G$54)>0,SUM($F$15:$F$54)/SUM($G$15:$G$54),\"\")","v":0.84983314794215792},{"$f":"IF(SUMIF($K$15:$K$54,Récapitulatif!$B$2,$G$15:$G$54)+SUMIF($K$15:$K$54,Récapitulatif!$B$3,$G$15:$G$54)>0,(SUMIF($K$15:$K$54,Récapitulatif!$B$2,$F$15:$F$54)+SUMIF($K$15:$K$54,Récapitulatif!$B$3,$F$15:$F$54))/(SUMIF($K$15:$K$54,Récapitulatif!$B$2,$G$15:$G$54)+SUMIF($K$15:$K$54,Récapitulatif!$B$3,$G$15:$G$54)),\"\")","v":0.84034416826003822}]
[null,null,null,null,null,null,null,null,null,null,null,null,null,"Sets","Gagnés",{"$f":"SUMIF($K$15:$K$54,Récapitulatif!$B$2,$D$15:$D$54)","v":5},{"$f":"IF(P$6+P$7>0,P6/(P$6+P$7),\"\")","v":0.27777777777777779},{"$f":"SUMIF($K$15:$K$54,Récapitulatif!$B$3,$D$15:$D$54)","v":0},{"$f":"IF(R$6+R$7>0,R6/(R$6+R$7),\"\")","v":""},{"$f":"SUM($D$15:$D$54)","v":25},{"$f":"IF(T$6+T$7>0,T6/(T$6+T$7),\"\")","v":0.32467532467532467}]
[null,null,null,null,null,null,null,null,null,null,null,null,null,null,"Perdus",{"$f":"SUMIF($K$15:$K$54,Récapitulatif!$B$2,$E$15:$E$54)","v":13},{"$f":"IF(P$6+P$7>0,P7/(P$6+P$7),\"\")","v":0.72222222222222221},{"$f":"SUMIF($K$15:$K$54,Récapitulatif!$B$3,$E$15:$E$54)","v":0},{"$f":"IF(R$6+R$7>0,R7/(R$6+R$7),\"\")","v":""},{"$f":"SUM($E$15:$E$54)","v":52},{"$f":"IF(T$6+T$7>0,T7/(T$6+T$7),\"\")","v":0.67532467532467533}]
["Récapitulatif joueurs",null,null,null,null,null,null,null,null,null,null,null,null,null,"Total",{"$f":"SUM(P6:P7)","v":18},null,{"$f":"SUM(R6:R7)","v":0},null,{"$f":"SUM(T6:T7)","v":77}]
[]
[]
[]
[]
[]
[]
["Joueur","Adversaire","G/P","Sets gagnés","Sets perdus","pts marqués","pts subis","Date","Compétition","Phase","Saison"]
["ESTERMANS Bernard","GEETS Patrice","P",0,2,93,120,"2009-11-21","N1 Ligue T1 GRAVELINES","Poules",{"$f":"IF(H16<>\"\",IF(MONTH(H16)>MoisRef,YEAR(H16)&\"-\"&YEAR(H16)+1,YEAR(H16)-1&\"-\"&YEAR(H16)),\"\")","v":"2009-2010"},null,null,null,null,{"$f":"IF($K16=P$1,COUNTIF($C16,\"G\"),0)","v":0},null,{"$f":"IF($K16=R$1,COUNTIF($C16,\"G\"),0)","v":0}]
["ESTERMANS Bernard","TURPIN Laurent","P",1,2,148,160,"2009-11-21","N1 Ligue T1 GRAVELINES","Poules","2009-2010",null,null,null,null,0,null,0]
["ESTERMANS Bernard","TRIPLET Gilbert","P",0,2,114,120,"2009-11-21","N1 Ligue T1 GRAVELINES","Poules Consolante","2009-2010",null,null,null,null,0,null,0]
["ESTERMANS Bernard","HORNAIN Denis","P",1,2,124,176,"2009-11-21","N1 Ligue T1 GRAVELINES","Poules Consolante","2009-2010",null,null,null,null,0,null,0]
["ESTERMANS Bernard","VEREECQUE Ludovic","P",1,2,125,171,"2010-12-11","N1 Ligue T3 GRAVELINES","Poules","2010-2011",null,null,null,null,0,null,0]
["ESTERMANS Bernard","MAILLE Bernard","G",2,1,176,160,"2010-12-11","N1 Ligue T3 GRAVELINES","Poules","2010-2011",null,null,null,null,0,null,0]
["ESTERMANS Bernard","ZEUDE Alain","G",2,0,120,18,"2010-12-11","N1 Ligue T3 GRAVELINES","Poules Consolante","2010-2011",null,null,null,null,0,null,0]
["ESTERMANS Bernard","DEVOS Jackie","P",0,2,50,120,"2010-12-11","N1 Ligue T3 GRAVELINES","Poules Consolante","2010-2011",null,null,null,null,0,null,0]
["ESTERMANS Bernard","LECROART Serge","G",2,0,120,61,"2011-10-15","N1 Ligue T1 DIVION","Poules","2011-2012",null,null,null,null,0,null,0]
["ESTERMANS Bernard","GEETS Patrice","P",0,2,42,120,"2011-10-15","N1 Ligue T1 DIVION","Poules","2011-2012",null,null,null,null,0,null,0]
["ESTERMANS Bernard","MANTEN Paul","G",1,0,100,64,"2011-10-15","N1 Ligue T1 DIVION","Poules Consolante","2011-2012",null,null,null,null,0,null,0]
["ESTERMANS Bernard","DEROLEZ Jean-Pierre","P",0,1,85,100,"2011-10-15","N1 Ligue T1 DIVION","Poules Consolante","2011-2012",null,null,null,null,0,null,0]
["ESTERMANS Bernard","DEVOS Jackie","P",0,1,56,100,"2011-10-15","N1 Ligue T1 DIVION","1/4 Finale Consolante","2011-2012",null,null,null,null,0,null,0]
["ESTERMANS Bernard","POULEYN André","P",0,2,71,120,"2012-01-07","N1 Ligue T3 FACHES THUMESNIL","Poules","2011-2012",null,null,null,null,0,null,0]
["ESTERMANS Bernard","DELSOL Philippe","P",1,2,123,176,"2012-01-07","N1 Ligue T3 FACHES THUMESNIL","Poules","2011-2012",null,null,null,null,0,null,0]
["ESTERMANS Bernard","GEETS Patrice","P",0,1,67,100,"2012-01-07","N1 Ligue T3 FACHES THUMESNIL","Poules Consolante","2011-2012",null,null,null,null,0,null,0]
["ESTERMANS Bernard","LUBREZ Pierre","G",1,0,100,81,"2012-01-07","N1 Ligue T3 FACHES THUMESNIL","Poules Consolante","2011-2012",null,null,null,null,0,null,0]
["ESTERMANS Bernard","LUBREZ Pierre","G",1,0,100,84,"2012-01-28","N1 Ligue T4 GRAVELINES","Poules Consolante","2011-2012",null,null,null,null,0,null,0]
["ESTERMANS Bernard","CAUX Frédéric","P",0,1,42,100,"2012-01-28","N1 Ligue T4 GRAVELINES","Poules Consolante","2011-2012",null,null,null,null,0,null,0]
["ESTERMANS Bernard","VEREECQUE Ludovic","P",0,2,84,120,"2012-01-28","N1 Ligue T4 GRAVELINES","Poules","2011-2012",null,null,null,null,0,null,0]
["ESTERMANS Bernard","RACARY Thibault","P",0,2,84,120,"2012-01-28","N1 Ligue T4 GRAVELINES","Poules","2011-2012",null,null,null,null,0,null,0]
["ESTERMANS Bernard","HERREBRECHT Thierry","P",0,2,54,120,"2012-01-28","N1 Ligue T4 GRAVELINES","1/8 Finale","2011-2012",null,null,null,null,0,null,0]
["ESTERMANS Bernard","LORTHIOIR Jean-Luc","P",1,2,129,144,"2012-11-24","N1 Ligue T3 CALAIS","Poules","2012-2013",null,null,null,null,0,null,0]
["ESTERMANS Bernard","GEETS Patrice","G",2,0,120,73,"2012-11-24","N1 Ligue T3 CALAIS","Poules","2012-2013",null,null,null,null,0,null,0]
["ESTERMANS Bernard","FLEURANT Richard","G",2,1,174,157,"2012-11-24","N1 Ligue T3 CALAIS","1/8 Finale","2012-2013",null,null,null,null,0,null,0]
["ESTERMANS Bernard","RACARY Thibault","P",0,2,57,120,"2012-11-24","N1 Ligue T3 CALAIS","1/4 Finale","2012-2013",null,null,null,null,0,null,0]
["ESTERMANS Bernard","VEREECQUE Bernard","P",1,2,170,154,"2014-04-05","N1 Ligue T3 GRAVELINES","Poules","2013-2014",null,null,null,null,0,null,0]
["ESTERMANS Bernard","DELSOL Philippe","P",0,2,67,120,"2014-04-05","N1 Ligue T3 GRAVELINES","Poules","2013-2014",null,null,null,null,0,null,0]
["ESTERMANS Bernard","HERREBRECHT Erian","G",1,0,100,70,"2014-04-05","N1 Ligue T3 GRAVELINES","Poules Consolante","2013-2014",null,null,null,null,0,null,0]
["ESTERMANS Bernard","DEPLECHIN Robert","P",0,1,46,100,"2014-04-05","N1 Ligue T3 GRAVELINES","Poules Consolante","2013-2014",null,null,null,null,0,null,0]
["ESTERMANS Bernard","CAUX Frédéric","P",0,1,66,100,"2015-01-17","N1 Ligue T1 DUNKERQUE","Poules Consolante","2014-2015",null,null,null,null,0,null,0]
["ESTERMANS Bernard","CAUX Frédéric","P",0,1,87,100,"2015-01-17","N1 Ligue T1 DUNKERQUE","Poules Consolante","2014-2015",null,null,null,null,0,null,0]
["ESTERMANS Bernard","GAUQUIE Serge","G",2,1,166,140,"2015-01-17","N1 Ligue T1 DUNKERQUE","Poules","2014-2015",null,null,null,null,1,null,0]
["ESTERMANS Bernard","SAINT-GEORGES Claude","P",1,2,116,139,"2015-01-17","N1 Ligue T1 DUNKERQUE","Poules","2014-2015",null,null,null,null,0,null,0]
["ESTERMANS Bernard","CAUX Grégory","P",1,2,130,160,"2015-01-17","N1 Ligue T1 DUNKERQUE","1/8 Finale","2014-2015",null,null,null,null,0,null,0]
["ESTERMANS Bernard","MANTEN Paul","P",0,2,83,120,"2015-02-07","N1 Ligue T2 CALAIS","Poules","2014-2015",null,null,null,null,0,null,0]
["ESTERMANS Bernard","DEVOS Jackie","P",1,2,157,167,"2015-02-07","N1 Ligue T2 CALAIS","Poules","2014-2015",null,null,null,null,0,null,0]
["ESTERMANS Bernard","LEMÂTRE Jérémy","P",0,2,74,120,"2015-02-07","N1 Ligue T2 CALAIS","1/8 Finale","2014-2015",null,null,null,null,0,null,0]
["Fin des données",null,null,null,null,null,null,null,null,null,"",null,null,null,null,0,null,0]

{"sheet":"FAUCOMPREZ Didier","index":21,"n_rows":70,"n_cols":22,"rows_kept":70,"cut":false,"hidden":false,"merged":[]}
["FAUCOMPREZ Didier",null,null,null,null,null,null,null,null,null,null,null,null,null,null,{"$f":"Récapitulatif!$B$2","v":"2014-2015"},null,{"$f":"Récapitulatif!$B$3","v":"2015-2016"},null,"Toutes saisons"]
[{"$error":"#N/A"},null,null,null,null,null,null,null,null,null,null,null,null,null,null,"Nombre","%age","Nombre","%age","Nombre","%age"]
[{"$error":"#N/A"},null,null,null,null,null,null,null,null,null,null,null,null,"Matchs","Gagnés",{"$f":"SUM(P$15:P$70)","v":0},{"$f":"IF(P$3+P$4>0,P3/(P$3+P$4),\"\")","v":""},{"$f":"SUM(R$15:R$70)","v":0},{"$f":"IF(R$3+R$4>0,R3/(R$3+R$4),\"\")","v":""},{"$f":"COUNTIF($C$15:$C$70,\"G\")","v":30},{"$f":"IF(T$3+T$4>0,T3/(T$3+T$4),\"\")","v":0.55555555555555558}]
[{"$error":"#N/A"},null,null,null,null,null,null,null,null,null,null,null,null,null,"Perdus",{"$f":"COUNTIF($K$15:$K$70,Récapitulatif!$B$2)-P3","v":0},{"$f":"IF(P$3+P$4>0,P4/(P$3+P$4),\"\")","v":""},{"$f":"COUNTIF($K$15:$K$70,Récapitulatif!$B$3)-R3","v":0},{"$f":"IF(R$3+R$4>0,R4/(R$3+R$4),\"\")","v":""},{"$f":"COUNTIF($C$15:$C$70,\"P\")","v":24},{"$f":"IF(T$3+T$4>0,T4/(T$3+T$4),\"\")","v":0.44444444444444442}]
[{"$error":"#N/A"},null,null,null,null,null,null,null,null,null,null,null,null,null,"Total / Moy.",{"$f":"SUM(P3:P4)","v":0},{"$f":"IF(SUMIF($K$15:$K$70,Récapitulatif!$B$2,$G$15:$G$70)>0,SUMIF($K$15:$K$70,Récapitulatif!$B$2,$F$15:$F$70)/SUMIF($K$15:$K$70,Récapitulatif!$B$2,$G$15:$G$70),\"\")","v":""},{"$f":"SUM(R3:R4)","v":0},{"$f":"IF(SUMIF($K$15:$K$70,Récapitulatif!$B$3,$G$15:$G$70)>0,SUMIF($K$15:$K$70,Récapitulatif!$B$3,$F$15:$F$70)/SUMIF($K$15:$K$70,Récapitulatif!$B$3,$G$15:$G$70),\"\")","v":""},{"$f":"SUM(T3:T4)","v":54},{"$f":"IF(SUM($G$15:$G$70)>0,SUM($F$15:$F$70)/SUM($G$15:$G$70),\"\")","v":1.0118752446822394},{"$f":"IF(SUMIF($K$15:$K$70,Récapitulatif!$B$2,$G$15:$G$70)+SUMIF($K$15:$K$70,Récapitulatif!$B$3,$G$15:$G$70)>0,(SUMIF($K$15:$K$70,Récapitulatif!$B$2,$F$15:$F$70)+SUMIF($K$15:$K$70,Récapitulatif!$B$3,$F$15:$F$70))/(SUMIF($K$15:$K$70,Récapitulatif!$B$2,$G$15:$G$70)+SUMIF($K$15:$K$70,Récapitulatif!$B$3,$G$15:$G$70)),\"\")","v":""}]
[null,null,null,null,null,null,null,null,null,null,null,null,null,"Sets","Gagnés",{"$f":"SUMIF($K$15:$K$70,Récapitulatif!$B$2,$D$15:$D$70)","v":0},{"$f":"IF(P$6+P$7>0,P6/(P$6+P$7),\"\")","v":""},{"$f":"SUMIF($K$15:$K$70,Récapitulatif!$B$3,$D$15:$D$70)","v":0},{"$f":"IF(R$6+R$7>0,R6/(R$6+R$7),\"\")","v":""},{"$f":"SUM($D$15:$D$70)","v":81},{"$f":"IF(T$6+T$7>0,T6/(T$6+T$7),\"\")","v":0.51592356687898089}]
[null,null,null,null,null,null,null,null,null,null,null,null,null,null,"Perdus",{"$f":"SUMIF($K$15:$K$70,Récapitulatif!$B$2,$E$15:$E$70)","v":0},{"$f":"IF(P$6+P$7>0,P7/(P$6+P$7),\"\")","v":""},{"$f":"SUMIF($K$15:$K$70,Récapitulatif!$B$3,$E$15:$E$70)","v":0},{"$f":"IF(R$6+R$7>0,R7/(R$6+R$7),\"\")","v":""},{"$f":"SUM($E$15:$E$70)","v":76},{"$f":"IF(T$6+T$7>0,T7/(T$6+T$7),\"\")","v":0.48407643312101911}]
["Récapitulatif joueurs",null,null,null,null,null,null,null,null,null,null,null,null,null,"Total",{"$f":"SUM(P6:P7)","v":0},null,{"$f":"SUM(R6:R7)","v":0},null,{"$f":"SUM(T6:T7)","v":157}]
[]
[]
[]
[]
[]
[]
["Joueur","Adversaire","G/P","Sets gagnés","Sets perdus","pts marqués","pts subis","Date","Compétition","Phase","Saison"]
["FAUCOMPREZ Didier","CAUX Frédéric","G",2,1,175,149,"2010-10-16","N1 Ligue T1 DOUAI","Poules",{"$f":"IF(H16<>\"\",IF(MONTH(H16)>MoisRef,YEAR(H16)&\"-\"&YEAR(H16)+1,YEAR(H16)-1&\"-\"&YEAR(H16)),\"\")","v":"2010-2011"},null,null,null,null,{"$f":"IF($K16=P$1,COUNTIF($C16,\"G\"),0)","v":0},null,{"$f":"IF($K16=R$1,COUNTIF($C16,\"G\"),0)","v":0}]
["FAUCOMPREZ Didier","TURPIN Laurent","P",0,2,114,120,"2010-10-16","N1 Ligue T1 DOUAI","Poules","2010-2011",null,null,null,null,0,null,0]
["FAUCOMPREZ Didier","ZEUDE Alain","G",2,0,120,52,"2010-10-16","N1 Ligue T1 DOUAI","Poules Consolante","2010-2011",null,null,null,null,0,null,0]
["FAUCOMPREZ Didier","DEROLEZ Jean-Pierre","G",2,0,120,63,"2010-10-16","N1 Ligue T1 DOUAI","Poules Consolante","2010-2011",null,null,null,null,0,null,0]
["FAUCOMPREZ Didier","MAILLE Bernard","P",1,2,144,169,"2010-10-16","N1 Ligue T1 DOUAI","1/2 Finale Consolante","2010-2011",null,null,null,null,0,null,0]
["FAUCOMPREZ Didier","POULEYN André","P",0,2,106,120,"2010-11-13","N1 Ligue T2 FACHES THUMESNIL","Poules","2010-2011",null,null,null,null,0,null,0]
["FAUCOMPREZ Didier","WESTEEL Bruno","G",2,1,163,143,"2010-11-13","N1 Ligue T2 FACHES THUMESNIL","Poules","2010-2011",null,null,null,null,0,null,0]
["FAUCOMPREZ Didier","DELRUE André","G",2,1,154,95,"2010-11-13","N1 Ligue T2 FACHES THUMESNIL","Poules Consolante","2010-2011",null,null,null,null,0,null,0]
["FAUCOMPREZ Didier","BASTENIER Jean","P",1,2,145,176,"2010-11-13","N1 Ligue T2 FACHES THUMESNIL","Poules Consolante","2010-2011",null,null,null,null,0,null,0]
["FAUCOMPREZ Didier","BASTENIER Jean","G",2,0,120,102,"2010-11-05","National T2 LAXOU","Préqualifs","2010-2011",null,null,null,null,0,null,0]
["FAUCOMPREZ Didier","MORMICHE Michel","P",0,2,53,120,"2010-11-05","National T2 LAXOU","Préqualifs","2010-2011",null,null,null,null,0,null,0]
["FAUCOMPREZ Didier","DUROYON Didier","G",2,0,120,95,"2010-11-05","National T2 LAXOU","Préqualifs","2010-2011",null,null,null,null,0,null,0]
["FAUCOMPREZ Didier","EVENOU Marie-Antoinette","G",3,0,180,93,"2010-11-06","National T2 LAXOU","Qualifs promotion","2010-2011",null,null,null,null,0,null,0]
["FAUCOMPREZ Didier","EVENOU Roger","G",3,1,225,154,"2010-11-06","National T2 LAXOU","Qualifs promotion","2010-2011",null,null,null,null,0,null,0]
["FAUCOMPREZ Didier","SCHNEIDER Virgile","G",3,1,200,190,"2010-11-07","National T2 LAXOU","1/8 finale promotion","2010-2011",null,null,null,null,0,null,0]
["FAUCOMPREZ Didier","SORTAIS Claude","P",0,3,129,180,"2010-11-07","National T2 LAXOU","1/4 finale promotion","2010-2011",null,null,null,null,0,null,0]
["FAUCOMPREZ Didier","LEMÂTRE Jérémy","P",0,2,68,120,"2010-12-11","N1 Ligue T3 GRAVELINES","Poules","2010-2011",null,null,null,null,0,null,0]
["FAUCOMPREZ Didier","DELSOL Philippe","P",0,2,82,120,"2010-12-11","N1 Ligue T3 GRAVELINES","Poules","2010-2011",null,null,null,null,0,null,0]
["FAUCOMPREZ Didier","LORTHIOIR Jean-Luc","G",2,0,120,70,"2010-12-11","N1 Ligue T3 GRAVELINES","Poules Consolante","2010-2011",null,null,null,null,0,null,0]
["FAUCOMPREZ Didier","POULEYN André","G",2,1,179,153,"2010-12-11","N1 Ligue T3 GRAVELINES","Poules Consolante","2010-2011",null,null,null,null,0,null,0]
["FAUCOMPREZ Didier","VEREECQUE Ludovic","G",2,1,164,165,"2010-12-11","N1 Ligue T3 GRAVELINES","1/2 Finale Consolante","2010-2011",null,null,null,null,0,null,0]
["FAUCOMPREZ Didier","WEBER Thierry","P",1,2,114,149,"2010-12-03","National T3 FACHES THUMESNIL - RONCHIN","Préqualifs","2010-2011",null,null,null,null,0,null,0]
["FAUCOMPREZ Didier","TIRALONGO Sébastien","P",0,2,53,120,"2010-12-03","National T3 FACHES THUMESNIL - RONCHIN","Préqualifs","2010-2011",null,null,null,null,0,null,0]
["FAUCOMPREZ Didier","PONCHANT Grégory","P",1,2,137,152,"2010-12-03","National T3 FACHES THUMESNIL - RONCHIN","Préqualifs","2010-2011",null,null,null,null,0,null,0]
["FAUCOMPREZ Didier","VANNUCCI Emilio","P",1,3,197,211,"2010-12-04","National T3 FACHES THUMESNIL - RONCHIN","Qualifs promotion","2010-2011",null,null,null,null,0,null,0]
["FAUCOMPREZ Didier","EVENOU Roger","G",3,0,180,130,"2010-12-04","National T3 FACHES THUMESNIL - RONCHIN","Qualifs promotion","2010-2011",null,null,null,null,0,null,0]
["FAUCOMPREZ Didier","LHERMITTE Cédric","P",2,3,269,227,"2010-12-04","National T3 FACHES THUMESNIL - RONCHIN","Qualifs promotion","2010-2011",null,null,null,null,0,null,0]
["FAUCOMPREZ Didier","CLYNCKE Jean-Jacques","P",0,2,76,120,"2011-01-15","N1 Ligue T4 DIVION","Poules","2010-2011",null,null,null,null,0,null,0]
["FAUCOMPREZ Didier","RACARY Thibault","P",0,2,91,120,"2011-01-15","N1 Ligue T4 DIVION","Poules","2010-2011",null,null,null,null,0,null,0]
["FAUCOMPREZ Didier","ZEUDE Alain","G",2,0,120,65,"2011-01-15","N1 Ligue T4 DIVION","Poules Consolante","2010-2011",null,null,null,null,0,null,0]
["FAUCOMPREZ Didier","LECROART Serge","G",2,0,120,78,"2011-01-15","N1 Ligue T4 DIVION","Poules Consolante","2010-2011",null,null,null,null,0,null,0]
["FAUCOMPREZ Didier","MAILLE Bernard","G",2,0,120,59,"2011-01-15","N1 Ligue T4 DIVION","1/2 Finale Consolante","2010-2011",null,null,null,null,0,null,0]
["FAUCOMPREZ Didier","KERCRET Geneviève","G",2,0,120,82,"2011-02-11","National T4 ROUEN","Préqualifs","2010-2011",null,null,null,null,0,null,0]
["FAUCOMPREZ Didier","ZILLIG Pierre","G",2,0,120,99,"2011-02-11","National T4 ROUEN","Préqualifs","2010-2011",null,null,null,null,0,null,0]
["FAUCOMPREZ Didier","SEINGIER Jean-Claude","G",2,0,120,55,"2011-02-11","National T4 ROUEN","Préqualifs","2010-2011",null,null,null,null,0,null,0]
["FAUCOMPREZ Didier","JUBLOT Maxime","P",0,3,152,180,"2011-02-12","National T4 ROUEN","Qualifs Masters","2010-2011",null,null,null,null,0,null,0]
["FAUCOMPREZ Didier","PERRIN Eric","P",1,3,137,213,"2011-02-12","National T4 ROUEN","Qualifs Masters","2010-2011",null,null,null,null,0,null,0]
["FAUCOMPREZ Didier","FONTAINE Isabelle","G",2,0,120,72,"2011-03-25","National T5 BLOIS","Préqualifs","2010-2011",null,null,null,null,0,null,0]
["FAUCOMPREZ Didier","DEMILLY Jean-Sébastien","P",0,2,52,120,"2011-03-25","National T5 BLOIS","Préqualifs","2010-2011",null,null,null,null,0,null,0]
["FAUCOMPREZ Didier","GOUSSETIS Georges","G",2,0,120,65,"2011-03-25","National T5 BLOIS","Préqualifs","2010-2011",null,null,null,null,0,null,0]
["FAUCOMPREZ Didier","TIRALONGO Sébastien","G",3,2,250,239,"2011-03-26","National T5 BLOIS","Qualifs promotion","2010-2011",null,null,null,null,0,null,0]
["FAUCOMPREZ Didier","MAILLE Bernard","G",3,2,238,263,"2011-03-26","National T5 BLOIS","Qualifs promotion","2010-2011",null,null,null,null,0,null,0]
["FAUCOMPREZ Didier","TIRALONGO Sébastien","P",0,3,86,180,"2011-03-27","National T5 BLOIS","1/8 finale promotion","2010-2011",null,null,null,null,0,null,0]
["FAUCOMPREZ Didier","FONTAINE Isabelle","G",2,0,120,79,"2011-04-15","National T6 CHAMPAGNE sur SEINE / NANDY","Préqualifs","2010-2011",null,null,null,null,0,null,0]
["FAUCOMPREZ Didier","WALLART Jean-Charles","P",1,2,107,154,"2011-04-15","National T6 CHAMPAGNE sur SEINE / NANDY","Préqualifs","2010-2011",null,null,null,null,0,null,0]
["FAUCOMPREZ Didier","AUCLAIR Henri","G",2,1,150,85,"2011-04-15","National T6 CHAMPAGNE sur SEINE / NANDY","Préqualifs","2010-2011",null,null,null,null,0,null,0]
["FAUCOMPREZ Didier","SEINGIER Jean-Claude","G",3,2,259,203,"2011-04-16","National T6 CHAMPAGNE sur SEINE / NANDY","Qualifs promotion","2010-2011",null,null,null,null,0,null,0]
["FAUCOMPREZ Didier","SORTAIS Claude","P",0,3,125,180,"2011-04-16","National T6 CHAMPAGNE sur SEINE / NANDY","Qualifs promotion","2010-2011",null,null,null,null,0,null,0]
["FAUCOMPREZ Didier","GEETS Patrice","P",1,3,183,224,"2011-04-16","National T6 CHAMPAGNE sur SEINE / NANDY","Qualifs promotion","2010-2011",null,null,null,null,0,null,0]
["FAUCOMPREZ Didier","DEMILLY Jean-Sébastien","G",3,2,246,270,"2011-05-14","National SCHILTIGHEIM","Qualifs","2010-2011",null,null,null,null,0,null,0]
["FAUCOMPREZ Didier","CHEVRIER Patrick","G",3,0,180,152,"2011-05-14","National SCHILTIGHEIM","Qualifs","2010-2011",null,null,null,null,0,null,0]
["FAUCOMPREZ Didier","MORMICHE Michel","P",1,3,172,218,"2011-05-14","National SCHILTIGHEIM","Qualifs","2010-2011",null,null,null,null,0,null,0]
["FAUCOMPREZ Didier","MICHELOTTI Francesco","G",3,2,260,270,"2011-05-15","National SCHILTIGHEIM","1/8 finale","2010-2011",null,null,null,null,0,null,0]
["FAUCOMPREZ Didier","DELSOL Philippe","P",0,3,79,180,"2011-05-15","National SCHILTIGHEIM","1/4 finale","2010-2011",null,null,null,null,0,null,0]
["Fin des données",null,null,null,null,null,null,null,null,null,"",null,null,null,null,0,null,0]

{"sheet":"FLEURANT Richard","index":22,"n_rows":31,"n_cols":22,"rows_kept":31,"cut":false,"hidden":false,"merged":[]}
["FLEURANT Richard",null,null,null,null,null,null,null,null,null,null,null,null,null,null,{"$f":"Récapitulatif!$B$2","v":"2014-2015"},null,{"$f":"Récapitulatif!$B$3","v":"2015-2016"},null,"Toutes saisons"]
[{"$error":"#N/A"},null,null,null,null,null,null,null,null,null,null,null,null,null,null,"Nombre","%age","Nombre","%age","Nombre","%age"]
[{"$error":"#N/A"},null,null,null,null,null,null,null,null,null,null,null,null,"Matchs","Gagnés",{"$f":"SUM(P$15:P$31)","v":0},{"$f":"IF(P$3+P$4>0,P3/(P$3+P$4),\"\")","v":""},{"$f":"SUM(R$15:R$31)","v":0},{"$f":"IF(R$3+R$4>0,R3/(R$3+R$4),\"\")","v":""},{"$f":"COUNTIF($C$15:$C$31,\"G\")","v":6},{"$f":"IF(T$3+T$4>0,T3/(T$3+T$4),\"\")","v":0.4}]
[{"$error":"#N/A"},null,null,null,null,null,null,null,null,null,null,null,null,null,"Perdus",{"$f":"COUNTIF($K$15:$K$31,Récapitulatif!$B$2)-P3","v":0},{"$f":"IF(P$3+P$4>0,P4/(P$3+P$4),\"\")","v":""},{"$f":"COUNTIF($K$15:$K$31,Récapitulatif!$B$3)-R3","v":0},{"$f":"IF(R$3+R$4>0,R4/(R$3+R$4),\"\")","v":""},{"$f":"COUNTIF($C$15:$C$31,\"P\")","v":9},{"$f":"IF(T$3+T$4>0,T4/(T$3+T$4),\"\")","v":0.6}]
[{"$error":"#N/A"},null,null,null,null,null,null,null,null,null,null,null,null,null,"Total / Moy.",{"$f":"SUM(P3:P4)","v":0},{"$f":"IF(SUMIF($K$15:$K$31,Récapitulatif!$B$2,$G$15:$G$31)>0,SUMIF($K$15:$K$31,Récapitulatif!$B$2,$F$15:$F$31)/SUMIF($K$15:$K$31,Récapitulatif!$B$2,$G$15:$G$31),\"\")","v":""},{"$f":"SUM(R3:R4)","v":0},{"$f":"IF(SUMIF($K$15:$K$31,Récapitulatif!$B$3,$G$15:$G$31)>0,SUMIF($K$15:$K$31,Récapitulatif!$B$3,$F$15:$F$31)/SUMIF($K$15:$K$31,Récapitulatif!$B$3,$G$15:$G$31),\"\")","v":""},{"$f":"SUM(T3:T4)","v":15},{"$f":"IF(SUM($G$15:$G$31)>0,SUM($F$15:$F$31)/SUM($G$15:$G$31),\"\")","v":0.98265249020705092},{"$f":"IF(SUMIF($K$15:$K$31,Récapitulatif!$B$2,$G$15:$G$31)+SUMIF($K$15:$K$31,Récapitulatif!$B$3,$G$15:$G$31)>0,(SUMIF($K$15:$K$31,Récapitulatif!$B$2,$F$15:$F$31)+SUMIF($K$15:$K$31,Récapitulatif!$B$3,$F$15:$F$31))/(SUMIF($K$15:$K$31,Récapitulatif!$B$2,$G$15:$G$31)+SUMIF($K$15:$K$31,Récapitulatif!$B$3,$G$15:$G$31)),\"\")","v":""}]
[null,null,null,null,null,null,null,null,null,null,null,null,null,"Sets","Gagnés",{"$f":"SUMIF($K$15:$K$31,Récapitulatif!$B$2,$D$15:$D$31)","v":0},{"$f":"IF(P$6+P$7>0,P6/(P$6+P$7),\"\")","v":""},{"$f":"SUMIF($K$15:$K$31,Récapitulatif!$B$3,$D$15:$D$31)","v":0},{"$f":"IF(R$6+R$7>0,R6/(R$6+R$7),\"\")","v":""},{"$f":"SUM($D$15:$D$31)","v":14},{"$f":"IF(T$6+T$7>0,T6/(T$6+T$7),\"\")","v":0.42424242424242425}]
[null,null,null,null,null,null,null,null,null,null,null,null,null,null,"Perdus",{"$f":"SUMIF($K$15:$K$31,Récapitulatif!$B$2,$E$15:$E$31)","v":0},{"$f":"IF(P$6+P$7>0,P7/(P$6+P$7),\"\")","v":""},{"$f":"SUMIF($K$15:$K$31,Récapitulatif!$B$3,$E$15:$E$31)","v":0},{"$f":"IF(R$6+R$7>0,R7/(R$6+R$7),\"\")","v":""},{"$f":"SUM($E$15:$E$31)","v":19},{"$f":"IF(T$6+T$7>0,T7/(T$6+T$7),\"\")","v":0.5757575757575758}]
["Récapitulatif joueurs",null,null,null,null,null,null,null,null,null,null,null,null,null,"Total",{"$f":"SUM(P6:P7)","v":0},null,{"$f":"SUM(R6:R7)","v":0},null,{"$f":"SUM(T6:T7)","v":33}]
[]
[]
[]
[]
[]
[]
["Joueur","Adversaire","G/P","Sets gagnés","Sets perdus","pts marqués","pts subis","Date","Compétition","Phase","Saison"]
["FLEURANT Richard","GAUQUIE Serge","G",2,1,177,117,"2012-10-13","N1 Ligue T1 ANNOEULLIN","Poules",{"$f":"IF(H16<>\"\",IF(MONTH(H16)>MoisRef,YEAR(H16)&\"-\"&YEAR(H16)+1,YEAR(H16)-1&\"-\"&YEAR(H16)),\"\")","v":"2012-2013"},null,null,null,null,{"$f":"IF($K16=P$1,COUNTIF($C16,\"G\"),0)","v":0},null,{"$f":"IF($K16=R$1,COUNTIF($C16,\"G\"),0)","v":0}]
["FLEURANT Richard","GEETS Patrice","P",0,2,88,120,"2012-10-13","N1 Ligue T1 ANNOEULLIN","Poules","2012-2013",null,null,null,null,0,null,0]
["FLEURANT Richard","VEREECQUE Ludovic","P",1,2,155,144,"2012-10-13","N1 Ligue T1 ANNOEULLIN","1/8 Finale","2012-2013",null,null,null,null,0,null,0]
["FLEURANT Richard","HORNAIN Denis","P",0,2,81,120,"2012-10-27","N1 Ligue T2 BRUAY sur ESCAUT","Poules","2012-2013",null,null,null,null,0,null,0]
["FLEURANT Richard","TURPIN Laurent","P",0,2,113,120,"2012-10-27","N1 Ligue T2 BRUAY sur ESCAUT","Poules","2012-2013",null,null,null,null,0,null,0]
["FLEURANT Richard","LORTHIOIR Jean-Luc","G",1,0,100,90,"2012-10-27","N1 Ligue T2 BRUAY / ESCAUT","Poules Consolante","2012-2013",null,null,null,null,0,null,0]
["FLEURANT Richard","CAUX Frédéric","G",1,0,100,78,"2012-10-27","N1 Ligue T2 BRUAY / ESCAUT","Poules Consolante","2012-2013",null,null,null,null,0,null,0]
["FLEURANT Richard","WALLART Jean-Charles","P",0,1,60,100,"2012-10-27","N1 Ligue T2 BRUAY / ESCAUT","Finale Consolante","2012-2013",null,null,null,null,0,null,0]
["FLEURANT Richard","MARRONNIER Jean-Luc","G",2,0,120,52,"2012-11-24","N1 Ligue T3 CALAIS","Poules","2012-2013",null,null,null,null,0,null,0]
["FLEURANT Richard","SAINT-GEORGES Claude","P",1,2,141,167,"2012-11-24","N1 Ligue T3 CALAIS","Poules","2012-2013",null,null,null,null,0,null,0]
["FLEURANT Richard","ESTERMANS Bernard","P",1,2,157,174,"2012-11-24","N1 Ligue T3 CALAIS","1/8 Finale","2012-2013",null,null,null,null,0,null,0]
["FLEURANT Richard","HERREBRECHT Erian","G",2,0,120,70,"2014-01-04","N1 Ligue T1 ANNOEULLIN","Poules","2013-2014",null,null,null,null,0,null,0]
["FLEURANT Richard","HERREBRECHT Thierry","P",0,2,53,120,"2014-01-04","N1 Ligue T1 ANNOEULLIN","Poules","2013-2014",null,null,null,null,0,null,0]
["FLEURANT Richard","POULEYN André","G",2,1,152,163,"2014-01-04","N1 Ligue T1 ANNOEULLIN","1/8 Finale","2013-2014",null,null,null,null,0,null,0]
["FLEURANT Richard","LHERMITTE Cédric","P",1,2,139,152,"2014-01-04","N1 Ligue T1 ANNOEULLIN","1/4 Finale","2013-2014",null,null,null,null,0,null,0]
["Fin des données",null,null,null,null,null,null,null,null,null,"",null,null,null,null,{"$f":"IF($K31=P$1,COUNTIF($C31,\"G\"),0)","v":0},null,{"$f":"IF($K31=R$1,COUNTIF($C31,\"G\"),0)","v":0}]

{"sheet":"FONTAINE Christian","index":23,"n_rows":20,"n_cols":22,"rows_kept":20,"cut":false,"hidden":false,"merged":[]}
["FONTAINE Christian",null,null,null,null,null,null,null,null,null,null,null,null,null,null,{"$f":"Récapitulatif!$B$2","v":"2014-2015"},null,{"$f":"Récapitulatif!$B$3","v":"2015-2016"},null,"Toutes saisons"]
["DIVION",null,null,null,null,null,null,null,null,null,null,null,null,null,null,"Nombre","%age","Nombre","%age","Nombre","%age"]
["112748-M",null,null,null,null,null,null,null,null,null,null,null,null,"Matchs","Gagnés",{"$f":"SUM(P$15:P$20)","v":0},{"$f":"IF(P$3+P$4>0,P3/(P$3+P$4),\"\")","v":""},{"$f":"SUM(R$15:R$20)","v":0},{"$f":"IF(R$3+R$4>0,R3/(R$3+R$4),\"\")","v":""},{"$f":"COUNTIF($C$15:$C$20,\"G\")","v":3},{"$f":"IF(T$3+T$4>0,T3/(T$3+T$4),\"\")","v":0.75}]
[null,null,null,null,null,null,null,null,null,null,null,null,null,null,"Perdus",{"$f":"COUNTIF($K$15:$K$20,Récapitulatif!$B$2)-P3","v":0},{"$f":"IF(P$3+P$4>0,P4/(P$3+P$4),\"\")","v":""},{"$f":"COUNTIF($K$15:$K$20,Récapitulatif!$B$3)-R3","v":0},{"$f":"IF(R$3+R$4>0,R4/(R$3+R$4),\"\")","v":""},{"$f":"COUNTIF($C$15:$C$20,\"P\")","v":1},{"$f":"IF(T$3+T$4>0,T4/(T$3+T$4),\"\")","v":0.25}]
["cfont62@yahoo.fr",null,null,null,null,null,null,null,null,null,null,null,null,null,"Total / Moy.",{"$f":"SUM(P3:P4)","v":0},{"$f":"IF(SUMIF($K$15:$K$20,Récapitulatif!$B$2,$G$15:$G$20)>0,SUMIF($K$15:$K$20,Récapitulatif!$B$2,$F$15:$F$20)/SUMIF($K$15:$K$20,Récapitulatif!$B$2,$G$15:$G$20),\"\")","v":""},{"$f":"SUM(R3:R4)","v":0},{"$f":"IF(SUMIF($K$15:$K$20,Récapitulatif!$B$3,$G$15:$G$20)>0,SUMIF($K$15:$K$20,Récapitulatif!$B$3,$F$15:$F$20)/SUMIF($K$15:$K$20,Récapitulatif!$B$3,$G$15:$G$20),\"\")","v":""},{"$f":"SUM(T3:T4)","v":4},{"$f":"IF(SUM($G$15:$G$20)>0,SUM($F$15:$F$20)/SUM($G$15:$G$20),\"\")","v":1.1004464285714286},{"$f":"IF(SUMIF($K$15:$K$20,Récapitulatif!$B$2,$G$15:$G$20)+SUMIF($K$15:$K$20,Récapitulatif!$B$3,$G$15:$G$20)>0,(SUMIF($K$15:$K$20,Récapitulatif!$B$2,$F$15:$F$20)+SUMIF($K$15:$K$20,Récapitulatif!$B$3,$F$15:$F$20))/(SUMIF($K$15:$K$20,Récapitulatif!$B$2,$G$15:$G$20)+SUMIF($K$15:$K$20,Récapitulatif!$B$3,$G$15:$G$20)),\"\")","v":""}]
[null,null,null,null,null,null,null,null,null,null,null,null,null,"Sets","Gagnés",{"$f":"SUMIF($K$15:$K$20,Récapitulatif!$B$2,$D$15:$D$20)","v":0},{"$f":"IF(P$6+P$7>0,P6/(P$6+P$7),\"\")","v":""},{"$f":"SUMIF($K$15:$K$20,Récapitulatif!$B$3,$D$15:$D$20)","v":0},{"$f":"IF(R$6+R$7>0,R6/(R$6+R$7),\"\")","v":""},{"$f":"SUM($D$15:$D$20)","v":6},{"$f":"IF(T$6+T$7>0,T6/(T$6+T$7),\"\")","v":0.6}]
[null,null,null,null,null,null,null,null,null,null,null,null,null,null,"Perdus",{"$f":"SUMIF($K$15:$K$20,Récapitulatif!$B$2,$E$15:$E$20)","v":0},{"$f":"IF(P$6+P$7>0,P7/(P$6+P$7),\"\")","v":""},{"$f":"SUMIF($K$15:$K$20,Récapitulatif!$B$3,$E$15:$E$20)","v":0},{"$f":"IF(R$6+R$7>0,R7/(R$6+R$7),\"\")","v":""},{"$f":"SUM($E$15:$E$20)","v":4},{"$f":"IF(T$6+T$7>0,T7/(T$6+T$7),\"\")","v":0.4}]
["Récapitulatif joueurs",null,null,null,null,null,null,null,null,null,null,null,null,null,"Total",{"$f":"SUM(P6:P7)","v":0},null,{"$f":"SUM(R6:R7)","v":0},null,{"$f":"SUM(T6:T7)","v":10}]
[]
[]
[]
[]
[]
[]
["Joueur","Adversaire","G/P","Sets gagnés","Sets perdus","pts marqués","pts subis","Date","Compétition","Phase","Saison"]
["FONTAINE Christian","VEREECQUE Ludovic","G",2,0,120,91,"2011-01-15","N1 Ligue T4 DIVION","Poules",{"$f":"IF(H16<>\"\",IF(MONTH(H16)>MoisRef,YEAR(H16)&\"-\"&YEAR(H16)+1,YEAR(H16)-1&\"-\"&YEAR(H16)),\"\")","v":"2010-2011"},null,null,null,null,{"$f":"IF($K16=P$1,COUNTIF($C16,\"G\"),0)","v":0},null,{"$f":"IF($K16=R$1,COUNTIF($C16,\"G\"),0)","v":0}]
["FONTAINE Christian","VANNUCCI Emilio","G",2,1,146,136,"2011-01-15","N1 Ligue T4 DIVION","Poules",{"$f":"IF(H17<>\"\",IF(MONTH(H17)>MoisRef,YEAR(H17)&\"-\"&YEAR(H17)+1,YEAR(H17)-1&\"-\"&YEAR(H17)),\"\")","v":"2010-2011"},null,null,null,null,{"$f":"IF($K17=P$1,COUNTIF($C17,\"G\"),0)","v":0},null,{"$f":"IF($K17=R$1,COUNTIF($C17,\"G\"),0)","v":0}]
["FONTAINE Christian","SAINT-GEORGES Claude","G",2,1,166,101,"2011-01-15","N1 Ligue T4 DIVION","1/4 Finale",{"$f":"IF(H18<>\"\",IF(MONTH(H18)>MoisRef,YEAR(H18)&\"-\"&YEAR(H18)+1,YEAR(H18)-1&\"-\"&YEAR(H18)),\"\")","v":"2010-2011"},null,null,null,null,{"$f":"IF($K18=P$1,COUNTIF($C18,\"G\"),0)","v":0},null,{"$f":"IF($K18=R$1,COUNTIF($C18,\"G\"),0)","v":0}]
["FONTAINE Christian","RACARY Thibault","P",0,2,61,120,"2011-01-15","N1 Ligue T4 DIVION","1/2 Finale",{"$f":"IF(H19<>\"\",IF(MONTH(H19)>MoisRef,YEAR(H19)&\"-\"&YEAR(H19)+1,YEAR(H19)-1&\"-\"&YEAR(H19)),\"\")","v":"2010-2011"},null,null,null,null,{"$f":"IF($K19=P$1,COUNTIF($C19,\"G\"),0)","v":0},null,{"$f":"IF($K19=R$1,COUNTIF($C19,\"G\"),0)","v":0}]
["Fin des données",null,null,null,null,null,null,null,null,null,{"$f":"IF(H20<>\"\",IF(MONTH(H20)>MoisRef,YEAR(H20)&\"-\"&YEAR(H20)+1,YEAR(H20)-1&\"-\"&YEAR(H20)),\"\")","v":""},null,null,null,null,{"$f":"IF($K20=P$1,COUNTIF($C20,\"G\"),0)","v":0},null,{"$f":"IF($K20=R$1,COUNTIF($C20,\"G\"),0)","v":0}]

{"sheet":"FOULON Jeremy","index":24,"n_rows":19,"n_cols":22,"rows_kept":19,"cut":false,"hidden":false,"merged":[]}
["FOULON Jeremy",null,null,null,null,null,null,null,null,null,null,null,null,null,null,{"$f":"Récapitulatif!$B$2","v":"2014-2015"},null,{"$f":"Récapitulatif!$B$3","v":"2015-2016"},null,"Toutes saisons"]
["<Club>",null,null,null,null,null,null,null,null,null,null,null,null,null,null,"Nombre","%age","Nombre","%age","Nombre","%age"]
["<Licence>",null,null,null,null,null,null,null,null,null,null,null,null,"Matchs","Gagnés",{"$f":"SUM(P$15:P$19)","v":0},{"$f":"IF(P$3+P$4>0,P3/(P$3+P$4),\"\")","v":0},{"$f":"SUM(R$15:R$19)","v":0},{"$f":"IF(R$3+R$4>0,R3/(R$3+R$4),\"\")","v":""},{"$f":"COUNTIF($C$15:$C$19,\"G\")","v":0},{"$f":"IF(T$3+T$4>0,T3/(T$3+T$4),\"\")","v":0}]
["<Tel>",null,null,null,null,null,null,null,null,null,null,null,null,null,"Perdus",{"$f":"COUNTIF($K$15:$K$19,Récapitulatif!$B$2)-P3","v":3},{"$f":"IF(P$3+P$4>0,P4/(P$3+P$4),\"\")","v":1},{"$f":"COUNTIF($K$15:$K$19,Récapitulatif!$B$3)-R3","v":0},{"$f":"IF(R$3+R$4>0,R4/(R$3+R$4),\"\")","v":""},{"$f":"COUNTIF($C$15:$C$19,\"P\")","v":3},{"$f":"IF(T$3+T$4>0,T4/(T$3+T$4),\"\")","v":1}]
["<email>",null,null,null,null,null,null,null,null,null,null,null,null,null,"Total / Moy.",{"$f":"SUM(P3:P4)","v":3},{"$f":"IF(SUMIF($K$15:$K$19,Récapitulatif!$B$2,$G$15:$G$19)>0,SUMIF($K$15:$K$19,Récapitulatif!$B$2,$F$15:$F$19)/SUMIF($K$15:$K$19,Récapitulatif!$B$2,$G$15:$G$19),\"\")","v":0.81690140845070425},{"$f":"SUM(R3:R4)","v":0},{"$f":"IF(SUMIF($K$15:$K$19,Récapitulatif!$B$3,$G$15:$G$19)>0,SUMIF($K$15:$K$19,Récapitulatif!$B$3,$F$15:$F$19)/SUMIF($K$15:$K$19,Récapitulatif!$B$3,$G$15:$G$19),\"\")","v":""},{"$f":"SUM(T3:T4)","v":3},{"$f":"IF(SUM($G$15:$G$19)>0,SUM($F$15:$F$19)/SUM($G$15:$G$19),\"\")","v":0.81690140845070425},{"$f":"IF(SUMIF($K$15:$K$19,Récapitulatif!$B$2,$G$15:$G$19)+SUMIF($K$15:$K$19,Récapitulatif!$B$3,$G$15:$G$19)>0,(SUMIF($K$15:$K$19,Récapitulatif!$B$2,$F$15:$F$19)+SUMIF($K$15:$K$19,Récapitulatif!$B$3,$F$15:$F$19))/(SUMIF($K$15:$K$19,Récapitulatif!$B$2,$G$15:$G$19)+SUMIF($K$15:$K$19,Récapitulatif!$B$3,$G$15:$G$19)),\"\")","v":0.81690140845070425}]
[null,null,null,null,null,null,null,null,null,null,null,null,null,"Sets","Gagnés",{"$f":"SUMIF($K$15:$K$19,Récapitulatif!$B$2,$D$15:$D$19)","v":4},{"$f":"IF(P$6+P$7>0,P6/(P$6+P$7),\"\")","v":0.30769230769230771},{"$f":"SUMIF($K$15:$K$19,Récapitulatif!$B$3,$D$15:$D$19)","v":0},{"$f":"IF(R$6+R$7>0,R6/(R$6+R$7),\"\")","v":""},{"$f":"SUM($D$15:$D$19)","v":4},{"$f":"IF(T$6+T$7>0,T6/(T$6+T$7),\"\")","v":0.30769230769230771}]
[null,null,null,null,null,null,null,null,null,null,null,null,null,null,"Perdus",{"$f":"SUMIF($K$15:$K$19,Récapitulatif!$B$2,$E$15:$E$19)","v":9},{"$f":"IF(P$6+P$7>0,P7/(P$6+P$7),\"\")","v":0.69230769230769229},{"$f":"SUMIF($K$15:$K$19,Récapitulatif!$B$3,$E$15:$E$19)","v":0},{"$f":"IF(R$6+R$7>0,R7/(R$6+R$7),\"\")","v":""},{"$f":"SUM($E$15:$E$19)","v":9},{"$f":"IF(T$6+T$7>0,T7/(T$6+T$7),\"\")","v":0.69230769230769229}]
["Récapitulatif joueurs",null,null,null,null,null,null,null,null,null,null,null,null,null,"Total",{"$f":"SUM(P6:P7)","v":13},null,{"$f":"SUM(R6:R7)","v":0},null,{"$f":"SUM(T6:T7)","v":13}]
[]
[]
[]
[]
[]
[]
["Joueur","Adversaire","G/P","Sets gagnés","Sets perdus","pts marqués","pts subis","Date","Compétition","Phase","Saison"]
["FOULON Jeremy","HERREBRECHT Erian","P",2,3,248,248,"2014-12-27","CF Juniors","Poules",{"$f":"IF(H16<>\"\",IF(MONTH(H16)>MoisRef,YEAR(H16)&\"-\"&YEAR(H16)+1,YEAR(H16)-1&\"-\"&YEAR(H16)),\"\")","v":"2014-2015"},null,null,null,null,{"$f":"IF($K16=P$1,COUNTIF($C16,\"G\"),0)","v":0},null,{"$f":"IF($K16=R$1,COUNTIF($C16,\"G\"),0)","v":0}]
["FOULON Jeremy","LEMATRE Alexis","P",1,3,154,224,"2014-12-27","CF Juniors","Poules",{"$f":"IF(H17<>\"\",IF(MONTH(H17)>MoisRef,YEAR(H17)&\"-\"&YEAR(H17)+1,YEAR(H17)-1&\"-\"&YEAR(H17)),\"\")","v":"2014-2015"},null,null,null,null,{"$f":"IF($K17=P$1,COUNTIF($C17,\"G\"),0)","v":0},null,{"$f":"IF($K17=R$1,COUNTIF($C17,\"G\"),0)","v":0}]
["FOULON Jeremy","GUINGAND Florian","P",1,3,178,238,"2014-12-27","CF Juniors","Poules",{"$f":"IF(H18<>\"\",IF(MONTH(H18)>MoisRef,YEAR(H18)&\"-\"&YEAR(H18)+1,YEAR(H18)-1&\"-\"&YEAR(H18)),\"\")","v":"2014-2015"},null,null,null,null,{"$f":"IF($K18=P$1,COUNTIF($C18,\"G\"),0)","v":0},null,{"$f":"IF($K18=R$1,COUNTIF($C18,\"G\"),0)","v":0}]
["Fin des données",null,null,null,null,null,null,null,null,null,{"$f":"IF(H19<>\"\",IF(MONTH(H19)>MoisRef,YEAR(H19)&\"-\"&YEAR(H19)+1,YEAR(H19)-1&\"-\"&YEAR(H19)),\"\")","v":""},null,null,null,null,{"$f":"IF($K19=P$1,COUNTIF($C19,\"G\"),0)","v":0},null,{"$f":"IF($K19=R$1,COUNTIF($C19,\"G\"),0)","v":0}]

{"sheet":"FRADET David","index":25,"n_rows":19,"n_cols":22,"rows_kept":19,"cut":false,"hidden":false,"merged":[]}
["FRADET David",null,null,null,null,null,null,null,null,null,null,null,null,null,null,{"$f":"Récapitulatif!$B$2","v":"2014-2015"},null,{"$f":"Récapitulatif!$B$3","v":"2015-2016"},null,"Toutes saisons"]
["<Club>",null,null,null,null,null,null,null,null,null,null,null,null,null,null,"Nombre","%age","Nombre","%age","Nombre","%age"]
["<Licence>",null,null,null,null,null,null,null,null,null,null,null,null,"Matchs","Gagnés",{"$f":"SUM(P$15:P$19)","v":0},{"$f":"IF(P$3+P$4>0,P3/(P$3+P$4),\"\")","v":0},{"$f":"SUM(R$15:R$19)","v":0},{"$f":"IF(R$3+R$4>0,R3/(R$3+R$4),\"\")","v":""},{"$f":"COUNTIF($C$15:$C$19,\"G\")","v":0},{"$f":"IF(T$3+T$4>0,T3/(T$3+T$4),\"\")","v":0}]
["<Tel>",null,null,null,null,null,null,null,null,null,null,null,null,null,"Perdus",{"$f":"COUNTIF($K$15:$K$19,Récapitulatif!$B$2)-P3","v":3},{"$f":"IF(P$3+P$4>0,P4/(P$3+P$4),\"\")","v":1},{"$f":"COUNTIF($K$15:$K$19,Récapitulatif!$B$3)-R3","v":0},{"$f":"IF(R$3+R$4>0,R4/(R$3+R$4),\"\")","v":""},{"$f":"COUNTIF($C$15:$C$19,\"P\")","v":3},{"$f":"IF(T$3+T$4>0,T4/(T$3+T$4),\"\")","v":1}]
["<email>",null,null,null,null,null,null,null,null,null,null,null,null,null,"Total / Moy.",{"$f":"SUM(P3:P4)","v":3},{"$f":"IF(SUMIF($K$15:$K$19,Récapitulatif!$B$2,$G$15:$G$19)>0,SUMIF($K$15:$K$19,Récapitulatif!$B$2,$F$15:$F$19)/SUMIF($K$15:$K$19,Récapitulatif!$B$2,$G$15:$G$19),\"\")","v":0.79753086419753083},{"$f":"SUM(R3:R4)","v":0},{"$f":"IF(SUMIF($K$15:$K$19,Récapitulatif!$B$3,$G$15:$G$19)>0,SUMIF($K$15:$K$19,Récapitulatif!$B$3,$F$15:$F$19)/SUMIF($K$15:$K$19,Récapitulatif!$B$3,$G$15:$G$19),\"\")","v":""},{"$f":"SUM(T3:T4)","v":3},{"$f":"IF(SUM($G$15:$G$19)>0,SUM($F$15:$F$19)/SUM($G$15:$G$19),\"\")","v":0.79753086419753083},{"$f":"IF(SUMIF($K$15:$K$19,Récapitulatif!$B$2,$G$15:$G$19)+SUMIF($K$15:$K$19,Récapitulatif!$B$3,$G$15:$G$19)>0,(SUMIF($K$15:$K$19,Récapitulatif!$B$2,$F$15:$F$19)+SUMIF($K$15:$K$19,Récapitulatif!$B$3,$F$15:$F$19))/(SUMIF($K$15:$K$19,Récapitulatif!$B$2,$G$15:$G$19)+SUMIF($K$15:$K$19,Récapitulatif!$B$3,$G$15:$G$19)),\"\")","v":0.79753086419753083}]
[null,null,null,null,null,null,null,null,null,null,null,null,null,"Sets","Gagnés",{"$f":"SUMIF($K$15:$K$19,Récapitulatif!$B$2,$D$15:$D$19)","v":1},{"$f":"IF(P$6+P$7>0,P6/(P$6+P$7),\"\")","v":0.14285714285714285},{"$f":"SUMIF($K$15:$K$19,Récapitulatif!$B$3,$D$15:$D$19)","v":0},{"$f":"IF(R$6+R$7>0,R6/(R$6+R$7),\"\")","v":""},{"$f":"SUM($D$15:$D$19)","v":1},{"$f":"IF(T$6+T$7>0,T6/(T$6+T$7),\"\")","v":0.14285714285714285}]
[null,null,null,null,null,null,null,null,null,null,null,null,null,null,"Perdus",{"$f":"SUMIF($K$15:$K$19,Récapitulatif!$B$2,$E$15:$E$19)","v":6},{"$f":"IF(P$6+P$7>0,P7/(P$6+P$7),\"\")","v":0.8571428571428571},{"$f":"SUMIF($K$15:$K$19,Récapitulatif!$B$3,$E$15:$E$19)","v":0},{"$f":"IF(R$6+R$7>0,R7/(R$6+R$7),\"\")","v":""},{"$f":"SUM($E$15:$E$19)","v":6},{"$f":"IF(T$6+T$7>0,T7/(T$6+T$7),\"\")","v":0.8571428571428571}]
["Récapitulatif joueurs",null,null,null,null,null,null,null,null,null,null,null,null,null,"Total",{"$f":"SUM(P6:P7)","v":7},null,{"$f":"SUM(R6:R7)","v":0},null,{"$f":"SUM(T6:T7)","v":7}]
[]
[]
[]
[]
[]
[]
["Joueur","Adversaire","G/P","Sets gagnés","Sets perdus","pts marqués","pts subis","Date","Compétition","Phase","Saison"]
["FRADET David","VEREECQUE Ludovic","P",1,2,171,165,"2015-01-17","N1 Ligue T1 DUNKERQUE","Poules",{"$f":"IF(H16<>\"\",IF(MONTH(H16)>MoisRef,YEAR(H16)&\"-\"&YEAR(H16)+1,YEAR(H16)-1&\"-\"&YEAR(H16)),\"\")","v":"2014-2015"},null,null,null,null,{"$f":"IF($K16=P$1,COUNTIF($C16,\"G\"),0)","v":0},null,{"$f":"IF($K16=R$1,COUNTIF($C16,\"G\"),0)","v":0}]
["FRADET David","LEMÂTRE Jérémy","P",0,2,94,120,"2015-01-17","N1 Ligue T1 DUNKERQUE","Poules",{"$f":"IF(H17<>\"\",IF(MONTH(H17)>MoisRef,YEAR(H17)&\"-\"&YEAR(H17)+1,YEAR(H17)-1&\"-\"&YEAR(H17)),\"\")","v":"2014-2015"},null,null,null,null,{"$f":"IF($K17=P$1,COUNTIF($C17,\"G\"),0)","v":0},null,{"$f":"IF($K17=R$1,COUNTIF($C17,\"G\"),0)","v":0}]
["FRADET David","SAINT-GEORGES Claude","P",0,2,58,120,"2015-01-17","N1 Ligue T1 DUNKERQUE","1/8 Finale",{"$f":"IF(H18<>\"\",IF(MONTH(H18)>MoisRef,YEAR(H18)&\"-\"&YEAR(H18)+1,YEAR(H18)-1&\"-\"&YEAR(H18)),\"\")","v":"2014-2015"},null,null,null,null,{"$f":"IF($K18=P$1,COUNTIF($C18,\"G\"),0)","v":0},null,{"$f":"IF($K18=R$1,COUNTIF($C18,\"G\"),0)","v":0}]
["Fin des données",null,null,null,null,null,null,null,null,null,{"$f":"IF(H19<>\"\",IF(MONTH(H19)>MoisRef,YEAR(H19)&\"-\"&YEAR(H19)+1,YEAR(H19)-1&\"-\"&YEAR(H19)),\"\")","v":""},null,null,null,null,{"$f":"IF($K19=P$1,COUNTIF($C19,\"G\"),0)","v":0},null,{"$f":"IF($K19=R$1,COUNTIF($C19,\"G\"),0)","v":0}]

{"sheet":"GAUQUIE Serge","index":26,"n_rows":27,"n_cols":22,"rows_kept":27,"cut":false,"hidden":false,"merged":[]}
["GAUQUIE Serge",null,null,null,null,null,null,null,null,null,null,null,null,null,null,{"$f":"Récapitulatif!$B$2","v":"2014-2015"},null,{"$f":"Récapitulatif!$B$3","v":"2015-2016"},null,"Toutes saisons"]
[{"$error":"#N/A"},null,null,null,null,null,null,null,null,null,null,null,null,null,null,"Nombre","%age","Nombre","%age","Nombre","%age"]
[{"$error":"#N/A"},null,null,null,null,null,null,null,null,null,null,null,null,"Matchs","Gagnés",{"$f":"SUM(P$15:P$27)","v":0},{"$f":"IF(P$3+P$4>0,P3/(P$3+P$4),\"\")","v":0},{"$f":"SUM(R$15:R$27)","v":0},{"$f":"IF(R$3+R$4>0,R3/(R$3+R$4),\"\")","v":""},{"$f":"COUNTIF($C$15:$C$27,\"G\")","v":2},{"$f":"IF(T$3+T$4>0,T3/(T$3+T$4),\"\")","v":0.18181818181818182}]
[{"$error":"#N/A"},null,null,null,null,null,null,null,null,null,null,null,null,null,"Perdus",{"$f":"COUNTIF($K$15:$K$27,Récapitulatif!$B$2)-P3","v":2},{"$f":"IF(P$3+P$4>0,P4/(P$3+P$4),\"\")","v":1},{"$f":"COUNTIF($K$15:$K$27,Récapitulatif!$B$3)-R3","v":0},{"$f":"IF(R$3+R$4>0,R4/(R$3+R$4),\"\")","v":""},{"$f":"COUNTIF($C$15:$C$27,\"P\")","v":9},{"$f":"IF(T$3+T$4>0,T4/(T$3+T$4),\"\")","v":0.81818181818181823}]
[{"$error":"#N/A"},null,null,null,null,null,null,null,null,null,null,null,null,null,"Total / Moy.",{"$f":"SUM(P3:P4)","v":2},{"$f":"IF(SUMIF($K$15:$K$27,Récapitulatif!$B$2,$G$15:$G$27)>0,SUMIF($K$15:$K$27,Récapitulatif!$B$2,$F$15:$F$27)/SUMIF($K$15:$K$27,Récapitulatif!$B$2,$G$15:$G$27),\"\")","v":0.75524475524475521},{"$f":"SUM(R3:R4)","v":0},{"$f":"IF(SUMIF($K$15:$K$27,Récapitulatif!$B$3,$G$15:$G$27)>0,SUMIF($K$15:$K$27,Récapitulatif!$B$3,$F$15:$F$27)/SUMIF($K$15:$K$27,Récapitulatif!$B$3,$G$15:$G$27),\"\")","v":""},{"$f":"SUM(T3:T4)","v":11},{"$f":"IF(SUM($G$15:$G$27)>0,SUM($F$15:$F$27)/SUM($G$15:$G$27),\"\")","v":0.8169582772543742},{"$f":"IF(SUMIF($K$15:$K$27,Récapitulatif!$B$2,$G$15:$G$27)+SUMIF($K$15:$K$27,Récapitulatif!$B$3,$G$15:$G$27)>0,(SUMIF($K$15:$K$27,Récapitulatif!$B$2,$F$15:$F$27)+SUMIF($K$15:$K$27,Récapitulatif!$B$3,$F$15:$F$27))/(SUMIF($K$15:$K$27,Récapitulatif!$B$2,$G$15:$G$27)+SUMIF($K$15:$K$27,Récapitulatif!$B$3,$G$15:$G$27)),\"\")","v":0.75524475524475521}]
[null,null,null,null,null,null,null,null,null,null,null,null,null,"Sets","Gagnés",{"$f":"SUMIF($K$15:$K$27,Récapitulatif!$B$2,$D$15:$D$27)","v":1},{"$f":"IF(P$6+P$7>0,P6/(P$6+P$7),\"\")","v":0.2},{"$f":"SUMIF($K$15:$K$27,Récapitulatif!$B$3,$D$15:$D$27)","v":0},{"$f":"IF(R$6+R$7>0,R6/(R$6+R$7),\"\")","v":""},{"$f":"SUM($D$15:$D$27)","v":8},{"$f":"IF(T$6+T$7>0,T6/(T$6+T$7),\"\")","v":0.29629629629629628}]
[null,null,null,null,null,null,null,null,null,null,null,null,null,null,"Perdus",{"$f":"SUMIF($K$15:$K$27,Récapitulatif!$B$2,$E$15:$E$27)","v":4},{"$f":"IF(P$6+P$7>0,P7/(P$6+P$7),\"\")","v":0.8},{"$f":"SUMIF($K$15:$K$27,Récapitulatif!$B$3,$E$15:$E$27)","v":0},{"$f":"IF(R$6+R$7>0,R7/(R$6+R$7),\"\")","v":""},{"$f":"SUM($E$15:$E$27)","v":19},{"$f":"IF(T$6+T$7>0,T7/(T$6+T$7),\"\")","v":0.70370370370370372}]
["Récapitulatif joueurs",null,null,null,null,null,null,null,null,null,null,null,null,null,"Total",{"$f":"SUM(P6:P7)","v":5},null,{"$f":"SUM(R6:R7)","v":0},null,{"$f":"SUM(T6:T7)","v":27}]
[]
[]
[]
[]
[]
[]
["Joueur","Adversaire","G/P","Sets gagnés","Sets perdus","pts marqués","pts subis","Date","Compétition","Phase","Saison"]
["GAUQUIE Serge","CAUX Frédéric","P",1,2,136,149,"2012-01-07","N1 Ligue T3 FACHES THUMESNIL","Poules",{"$f":"IF(H16<>\"\",IF(MONTH(H16)>MoisRef,YEAR(H16)&\"-\"&YEAR(H16)+1,YEAR(H16)-1&\"-\"&YEAR(H16)),\"\")","v":"2011-2012"},null,null,null,null,{"$f":"IF($K16=P$1,COUNTIF($C16,\"G\"),0)","v":0},null,{"$f":"IF($K16=R$1,COUNTIF($C16,\"G\"),0)","v":0}]
["GAUQUIE Serge","VEREECQUE Ludovic","G",2,1,164,172,"2012-01-07","N1 Ligue T3 FACHES THUMESNIL","Poules","2011-2012",null,null,null,null,{"$f":"IF($K17=P$1,COUNTIF($C17,\"G\"),0)","v":0},null,{"$f":"IF($K17=R$1,COUNTIF($C17,\"G\"),0)","v":0}]
["GAUQUIE Serge","CAUX Frédéric","P",0,2,92,120,"2012-01-07","N1 Ligue T3 FACHES THUMESNIL","1/8 Finale","2011-2012",null,null,null,null,{"$f":"IF($K18=P$1,COUNTIF($C18,\"G\"),0)","v":0},null,{"$f":"IF($K18=R$1,COUNTIF($C18,\"G\"),0)","v":0}]
["GAUQUIE Serge","FLEURANT Richard","P",1,2,117,177,"2012-10-13","N1 Ligue T1 ANNOEULLIN","Poules","2012-2013",null,null,null,null,{"$f":"IF($K19=P$1,COUNTIF($C19,\"G\"),0)","v":0},null,{"$f":"IF($K19=R$1,COUNTIF($C19,\"G\"),0)","v":0}]
["GAUQUIE Serge","GEETS Patrice","P",1,2,125,169,"2012-10-13","N1 Ligue T1 ANNOEULLIN","Poules","2012-2013",null,null,null,null,0,null,0]
["GAUQUIE Serge","DELSOL Philippe","P",0,2,73,120,"2012-10-13","N1 Ligue T1 ANNOEULLIN","1/8 Finale","2012-2013",null,null,null,null,0,null,0]
["GAUQUIE Serge","ZEUDE Alain","G",2,0,120,53,"2012-11-24","N1 Ligue T3 CALAIS","Poules","2012-2013",null,null,null,null,0,null,0]
["GAUQUIE Serge","DELSOL Philippe","P",0,2,67,120,"2012-11-24","N1 Ligue T3 CALAIS","Poules","2012-2013",null,null,null,null,0,null,0]
["GAUQUIE Serge","DELSOL Philippe","P",0,2,104,120,"2012-11-24","N1 Ligue T3 CALAIS","1/8 Finale","2012-2013",null,null,null,null,0,null,0]
["GAUQUIE Serge","ESTERMANS Bernard","P",1,2,140,166,"2015-01-17","N1 Ligue T1 DUNKERQUE","Poules","2014-2015",null,null,null,null,0,null,0]
["GAUQUIE Serge","SAINT-GEORGES Claude","P",0,2,76,120,"2015-01-17","N1 Ligue T1 DUNKERQUE","Poules","2014-2015",null,null,null,null,0,null,0]
["Fin des données",null,null,null,null,null,null,null,null,null,"",null,null,null,null,{"$f":"IF($K27=P$1,COUNTIF($C27,\"G\"),0)","v":0},null,{"$f":"IF($K27=R$1,COUNTIF($C27,\"G\"),0)","v":0}]

{"sheet":"GEETS Patrice","index":27,"n_rows":281,"n_cols":22,"rows_kept":281,"cut":false,"hidden":false,"merged":[]}
["GEETS Patrice",null,null,null,null,null,null,null,null,null,null,null,null,null,null,{"$f":"Récapitulatif!$B$2","v":"2014-2015"},null,{"$f":"Récapitulatif!$B$3","v":"2015-2016"},null,"Toutes saisons"]
["ANNOEULLIN",null,null,null,null,null,null,null,null,null,null,null,null,null,null,"Nombre","%age","Nombre","%age","Nombre","%age"]
["126847-T",null,null,null,null,null,null,null,null,null,null,null,null,"Matchs","Gagnés",{"$f":"SUM(P$15:P$281)","v":27},{"$f":"IF(P$3+P$4>0,P3/(P$3+P$4),\"\")","v":0.57446808510638303},{"$f":"SUM(R$15:R$281)","v":30},{"$f":"IF(R$3+R$4>0,R3/(R$3+R$4),\"\")","v":0.66666666666666663},{"$f":"COUNTIF($C$15:$C$281,\"G\")","v":165},{"$f":"IF(T$3+T$4>0,T3/(T$3+T$4),\"\")","v":0.62264150943396224}]
[null,null,null,null,null,null,null,null,null,null,null,null,null,null,"Perdus",{"$f":"COUNTIF($K$15:$K$281,Récapitulatif!$B$2)-P3","v":20},{"$f":"IF(P$3+P$4>0,P4/(P$3+P$4),\"\")","v":0.42553191489361702},{"$f":"COUNTIF($K$15:$K$281,Récapitulatif!$B$3)-R3","v":15},{"$f":"IF(R$3+R$4>0,R4/(R$3+R$4),\"\")","v":0.33333333333333331},{"$f":"COUNTIF($C$15:$C$281,\"P\")","v":100},{"$f":"IF(T$3+T$4>0,T4/(T$3+T$4),\"\")","v":0.37735849056603776}]
[null,null,null,null,null,null,null,null,null,null,null,null,null,null,"Total / Moy.",{"$f":"SUM(P3:P4)","v":47},{"$f":"IF(SUMIF($K$15:$K$281,Récapitulatif!$B$2,$G$15:$G$281)>0,SUMIF($K$15:$K$281,Récapitulatif!$B$2,$F$15:$F$281)/SUMIF($K$15:$K$281,Récapitulatif!$B$2,$G$15:$G$281),\"\")","v":1.1167829054755898},{"$f":"SUM(R3:R4)","v":45},{"$f":"IF(SUMIF($K$15:$K$281,Récapitulatif!$B$3,$G$15:$G$281)>0,SUMIF($K$15:$K$281,Récapitulatif!$B$3,$F$15:$F$281)/SUMIF($K$15:$K$281,Récapitulatif!$B$3,$G$15:$G$281),\"\")","v":1.1131462333825701},{"$f":"SUM(T3:T4)","v":265},{"$f":"IF(SUM($G$15:$G$281)>0,SUM($F$15:$F$281)/SUM($G$15:$G$281),\"\")","v":1.0709829402780295},{"$f":"IF(SUMIF($K$15:$K$281,Récapitulatif!$B$2,$G$15:$G$281)+SUMIF($K$15:$K$281,Récapitulatif!$B$3,$G$15:$G$281)>0,(SUMIF($K$15:$K$281,Récapitulatif!$B$2,$F$15:$F$281)+SUMIF($K$15:$K$281,Récapitulatif!$B$3,$F$15:$F$281))/(SUMIF($K$15:$K$281,Récapitulatif!$B$2,$G$15:$G$281)+SUMIF($K$15:$K$281,Récapitulatif!$B$3,$G$15:$G$281)),\"\")","v":1.1149603967725221}]
[null,null,null,null,null,null,null,null,null,null,null,null,null,"Sets","Gagnés",{"$f":"SUMIF($K$15:$K$281,Récapitulatif!$B$2,$D$15:$D$281)","v":81},{"$f":"IF(P$6+P$7>0,P6/(P$6+P$7),\"\")","v":0.5625},{"$f":"SUMIF($K$15:$K$281,Récapitulatif!$B$3,$D$15:$D$281)","v":88},{"$f":"IF(R$6+R$7>0,R6/(R$6+R$7),\"\")","v":0.60273972602739723},{"$f":"SUM($D$15:$D$281)","v":451},{"$f":"IF(T$6+T$7>0,T6/(T$6+T$7),\"\")","v":0.56587202007528226}]
[null,null,null,null,null,null,null,null,null,null,null,null,null,null,"Perdus",{"$f":"SUMIF($K$15:$K$281,Récapitulatif!$B$2,$E$15:$E$281)","v":63},{"$f":"IF(P$6+P$7>0,P7/(P$6+P$7),\"\")","v":0.4375},{"$f":"SUMIF($K$15:$K$281,Récapitulatif!$B$3,$E$15:$E$281)","v":58},{"$f":"IF(R$6+R$7>0,R7/(R$6+R$7),\"\")","v":0.39726027397260272},{"$f":"SUM($E$15:$E$281)","v":346},{"$f":"IF(T$6+T$7>0,T7/(T$6+T$7),\"\")","v":0.43412797992471769}]
["Récapitulatif joueurs",null,null,null,null,null,null,null,null,null,null,null,null,null,"Total",{"$f":"SUM(P6:P7)","v":144},null,{"$f":"SUM(R6:R7)","v":146},null,{"$f":"SUM(T6:T7)","v":797}]
[]
[]
[]
[]
[]
[]
["Joueur","Adversaire","G/P","Sets gagnés","Sets perdus","pts marqués","pts subis","Date","Compétition","Phase","Saison"]
["GEETS Patrice","DUVERNOY Christophe","P",0,2,33,120,"2008-12-12","National T3 ANNOEULLIN","Préqualifs",{"$f":"IF(H16<>\"\",IF(MONTH(H16)>MoisRef,YEAR(H16)&\"-\"&YEAR(H16)+1,YEAR(H16)-1&\"-\"&YEAR(H16)),\"\")","v":"2008-2009"},null,null,null,null,{"$f":"IF($K16=P$1,COUNTIF($C16,\"G\"),0)","v":0},null,{"$f":"IF($K16=R$1,COUNTIF($C16,\"G\"),0)","v":0}]
["GEETS Patrice","HULOT Sophie","G",2,0,120,70,"2008-12-12","National T3 ANNOEULLIN","Préqualifs","2008-2009",null,null,null,null,0,null,0]
["GEETS Patrice","SORTAIS Claude","G",2,1,131,150,"2008-12-12","National T3 ANNOEULLIN","Préqualifs","2008-2009",null,null,null,null,0,null,0]
["GEETS Patrice","GUIBERT Philippe","P",2,3,231,279,"2008-12-13","National T3 ANNOEULLIN","Qualifs promotion","2008-2009",null,null,null,null,0,null,0]
["GEETS Patrice","PERRIN Thierry","P",1,3,174,234,"2008-12-13","National T3 ANNOEULLIN","Qualifs promotion","2008-2009",null,null,null,null,0,null,0]
["GEETS Patrice","TRUQUET David","G",2,1,138,120,"2009-02-14","N1 Ligue T1 ARRAS","Poules","2008-2009",null,null,null,null,0,null,0]
["GEETS Patrice","MAILLE Bernard","P",1,2,130,171,"2009-02-14","N1 Ligue T1 ARRAS","Poules","2008-2009",null,null,null,null,0,null,0]
["GEETS Patrice","LECROART Serge","G",2,1,155,140,"2009-02-14","N1 Ligue T1 ARRAS","Poules Consolante","2008-2009",null,null,null,null,0,null,0]
["GEETS Patrice","LORTHIOIR Jean-Luc","G",2,0,120,84,"2009-02-14","N1 Ligue T1 ARRAS","Poules Consolante","2008-2009",null,null,null,null,0,null,0]
["GEETS Patrice","TRUQUET David","P",1,2,157,175,"2009-02-14","N1 Ligue T1 ARRAS","Finale Consolante","2008-2009",null,null,null,null,0,null,0]
["GEETS Patrice","BASTENIER Jean","P",0,2,112,120,"2009-03-07","N1 Ligue T2 ANNOEULLIN","Poules","2008-2009",null,null,null,null,0,null,0]
["GEETS Patrice","VANNUCCI Emilio","P",1,2,154,168,"2009-03-07","N1 Ligue T2 ANNOEULLIN","Poules","2008-2009",null,null,null,null,0,null,0]
["GEETS Patrice","MAILLE Bernard","P",0,2,60,120,"2009-03-07","N1 Ligue T2 ANNOEULLIN","Poules Consolante","2008-2009",null,null,null,null,0,null,0]
["GEETS Patrice","HULOT Sophie","G",2,0,120,85,"2009-03-07","N1 Ligue T2 ANNOEULLIN","Poules Consolante","2008-2009",null,null,null,null,0,null,0]
["GEETS Patrice","ESTERMANS Bernard","G",2,0,120,93,"2009-11-21","N1 Ligue T1 GRAVELINES","Poules","2009-2010",null,null,null,null,0,null,0]
["GEETS Patrice","TURPIN Laurent","G",2,0,120,89,"2009-11-21","N1 Ligue T1 GRAVELINES","Poules","2009-2010",null,null,null,null,0,null,0]
["GEETS Patrice","GREMAIN Gino","P",0,2,63,120,"2009-11-21","N1 Ligue T1 GRAVELINES","1/4 Finale","2009-2010",null,null,null,null,0,null,0]
["GEETS Patrice","BOUVIER Philippe","P",1,2,153,159,"2009-12-04","National T2 ANNOEULLIN","Préqualifs","2009-2010",null,null,null,null,0,null,0]
["GEETS Patrice","ROUBY Jean-Chistophe","G",2,0,120,53,"2009-12-04","National T2 ANNOEULLIN","Préqualifs","2009-2010",null,null,null,null,0,null,0]
["GEETS Patrice","ZACCAGNINI Antoine","P",0,2,80,120,"2009-12-04","National T2 ANNOEULLIN","Préqualifs","2009-2010",null,null,null,null,0,null,0]
["GEETS Patrice","PERRIN Eric","P",2,3,212,273,"2009-12-05","National T2 ANNOEULLIN","Qualifs promotion","2009-2010",null,null,null,null,0,null,0]
["GEETS Patrice","DELSOL Philippe","G",3,1,212,205,"2009-12-05","National T2 ANNOEULLIN","Qualifs promotion","2009-2010",null,null,null,null,0,null,0]
["GEETS Patrice","PERRIN Eric","G",3,2,290,271,"2009-12-05","National T2 ANNOEULLIN","Qualifs promotion","2009-2010",null,null,null,null,0,null,0]
["GEETS Patrice","DEVOGELAERE Mikael","P",0,3,95,180,"2009-12-06","National T2 ANNOEULLIN","1/8 finale promotion","2009-2010",null,null,null,null,0,null,0]
["GEETS Patrice","RACARY Thibault","G",2,1,152,113,"2009-12-19","N1 Ligue T2 ANNOEULLIN","Poules","2009-2010",null,null,null,null,0,null,0]
["GEETS Patrice","TURPIN Laurent","G",2,1,177,138,"2009-12-19","N1 Ligue T2 ANNOEULLIN","Poules","2009-2010",null,null,null,null,0,null,0]
["GEETS Patrice","GREMAIN Gino","G",2,0,120,116,"2009-12-19","N1 Ligue T2 ANNOEULLIN","1/4 Finale","2009-2010",null,null,null,null,0,null,0]
["GEETS Patrice","LHERMITTE Cédric","P",1,2,162,170,"2009-12-19","N1 Ligue T2 ANNOEULLIN","1/2 Finale","2009-2010",null,null,null,null,0,null,0]
["GEETS Patrice","LORTHIOIR Jean-Luc","G",2,0,120,44,"2010-01-16","N1 Ligue T3 ANNOEULLIN","Poules Consolante","2009-2010",null,null,null,null,0,null,0]
["GEETS Patrice","LORTHIOIR Jean-Luc","G",2,1,164,120,"2010-01-16","N1 Ligue T3 ANNOEULLIN","Poules Consolante","2009-2010",null,null,null,null,0,null,0]
["GEETS Patrice","MARTEL Jean-Pierre","G",2,1,177,152,"2010-01-16","N1 Ligue T3 ANNOEULLIN","1/2 Finale Consolante","2009-2010",null,null,null,null,0,null,0]
["GEETS Patrice","CARPENTIER Yohanne","P",1,2,162,173,"2010-01-16","N1 Ligue T3 ANNOEULLIN","Finale Consolante","2009-2010",null,null,null,null,0,null,0]
["GEETS Patrice","GUILLEMANT Jean-Marc","P",0,2,93,120,"2010-01-16","N1 Ligue T3 ANNOEULLIN","Poules","2009-2010",null,null,null,null,0,null,0]
["GEETS Patrice","HENNEUSE Patrick","G",2,1,173,120,"2010-01-16","N1 Ligue T3 ANNOEULLIN","Poules","2009-2010",null,null,null,null,0,null,0]
["GEETS Patrice","CARTIERE André","G",2,0,120,54,"2010-02-20","N1 Ligue T4 DOUAI","Poules","2009-2010",null,null,null,null,0,null,0]
["GEETS Patrice","MARTEL Bruno","G",2,1,160,128,"2010-02-20","N1 Ligue T4 DOUAI","Poules","2009-2010",null,null,null,null,0,null,0]
["GEETS Patrice","MARTEL Jean-Pierre","G",2,0,120,80,"2010-02-20","N1 Ligue T4 DOUAI","1/8 Finale","2009-2010",null,null,null,null,0,null,0]
["GEETS Patrice","SAINT-GEORGES Claude","P",0,2,82,120,"2010-02-20","N1 Ligue T4 DOUAI","1/4 Finale","2009-2010",null,null,null,null,0,null,0]
["GEETS Patrice","LAMBIASE Guiseppe","G",3,2,243,261,"2010-04-18","Finale Ligue N1 ANNOEULLIN","Poules","2009-2010",null,null,null,null,0,null,0]
["GEETS Patrice","MAILLE Bernard","G",3,1,206,176,"2010-04-18","Finale Ligue N1 ANNOEULLIN","Poules","2009-2010",null,null,null,null,0,null,0]
["GEETS Patrice","LHERMITTE Cédric","P",1,3,195,219,"2010-04-19","Finale Ligue N1 ANNOEULLIN","1/2 finale","2009-2010",null,null,null,null,0,null,0]
["GEETS Patrice","LAMBIASE Guiseppe","P",1,3,200,228,"2010-04-26","Finale Ligue N1 ANNOEULLIN","3ème/4ème place","2009-2010",null,null,null,null,0,null,0]
["GEETS Patrice","MASIERO Lorenzo","G",2,0,120,71,"2010-10-16","N1 Ligue T1 DOUAI","Poules","2010-2011",null,null,null,null,0,null,0]
["GEETS Patrice","MARTEL Bruno","G",2,1,163,128,"2010-10-16","N1 Ligue T1 DOUAI","Poules","2010-2011",null,null,null,null,0,null,0]
["GEETS Patrice","CARPENTIER Yohanne","G",2,1,178,142,"2010-10-16","N1 Ligue T1 DOUAI","1/8 Finale","2010-2011",null,null,null,null,0,null,0]
["GEETS Patrice","MARTEL Bruno","G",2,0,120,45,"2010-10-16","N1 Ligue T1 DOUAI","1/4 Finale","2010-2011",null,null,null,null,0,null,0]
["GEETS Patrice","VANNUCCI Emilio","P",1,2,140,173,"2010-10-16","N1 Ligue T1 DOUAI","1/2 Finale","2010-2011",null,null,null,null,0,null,0]
["GEETS Patrice","BASTENIER Jean","G",2,1,150,91,"2010-11-13","N1 Ligue T2 FACHES THUMESNIL","Poules","2010-2011",null,null,null,null,0,null,0]
["GEETS Patrice","LECROART Serge","G",2,1,161,95,"2010-11-13","N1 Ligue T2 FACHES THUMESNIL","Poules","2010-2011",null,null,null,null,0,null,0]
["GEETS Patrice","RACARY Thibault","G",2,0,120,74,"2010-11-13","N1 Ligue T2 FACHES THUMESNIL","1/4 Finale","2010-2011",null,null,null,null,0,null,0]
["GEETS Patrice","DELSOL Philippe","P",1,2,115,169,"2010-11-13","N1 Ligue T2 FACHES THUMESNIL","1/2 Finale","2010-2011",null,null,null,null,0,null,0]
["GEETS Patrice","DEROLEZ Jean-Pierre","G",2,0,120,80,"2010-12-11","N1 Ligue T3 GRAVELINES","Poules","2010-2011",null,null,null,null,0,null,0]
["GEETS Patrice","SKORDILIS Christo","G",2,0,120,82,"2010-12-11","N1 Ligue T3 GRAVELINES","Poules","2010-2011",null,null,null,null,0,null,0]
["GEETS Patrice","MANTEN Paul","G",2,1,173,153,"2010-12-11","N1 Ligue T3 GRAVELINES","1/4 Finale","2010-2011",null,null,null,null,0,null,0]
["GEETS Patrice","LHERMITTE Cédric","G",2,1,144,141,"2010-12-11","N1 Ligue T3 GRAVELINES","1/2 Finale","2010-2011",null,null,null,null,0,null,0]
["GEETS Patrice","RACARY Thibault","P",0,2,101,120,"2010-12-11","N1 Ligue T3 GRAVELINES","Finale","2010-2011",null,null,null,null,0,null,0]
["GEETS Patrice","WESTEEL Bruno","G",2,0,120,88,"2010-12-03","National T3 FACHES THUMESNIL - RONCHIN","Préqualifs","2010-2011",null,null,null,null,0,null,0]
["GEETS Patrice","JACQ Laurent","G",2,1,157,148,"2010-12-03","National T3 FACHES THUMESNIL - RONCHIN","Préqualifs","2010-2011",null,null,null,null,0,null,0]
["GEETS Patrice","DUROYON Didier","P",0,2,100,120,"2010-12-03","National T3 FACHES THUMESNIL - RONCHIN","Préqualifs","2010-2011",null,null,null,null,0,null,0]
["GEETS Patrice","EVENOU Roger","G",3,1,230,118,"2010-12-04","National T3 FACHES THUMESNIL - RONCHIN","Qualifs promotion","2010-2011",null,null,null,null,0,null,0]
["GEETS Patrice","VANNUCCI Emilio","P",1,3,190,238,"2010-12-04","National T3 FACHES THUMESNIL - RONCHIN","Qualifs promotion","2010-2011",null,null,null,null,0,null,0]
["GEETS Patrice","CLYNCKE Jean-Jacques","G",3,2,237,268,"2010-12-04","National T3 FACHES THUMESNIL - RONCHIN","Qualifs promotion","2010-2011",null,null,null,null,0,null,0]
["GEETS Patrice","MAILLE Bernard","G",3,2,256,252,"2010-12-05","National T3 FACHES THUMESNIL - RONCHIN","1/8 finale promotion","2010-2011",null,null,null,null,0,null,0]
["GEETS Patrice","LEMÂTRE Jérémy","G",3,1,214,200,"2010-12-05","National T3 FACHES THUMESNIL - RONCHIN","1/4 finale promotion","2010-2011",null,null,null,null,0,null,0]
["GEETS Patrice","RACARY Thibault","P",1,3,188,224,"2010-12-05","National T3 FACHES THUMESNIL - RONCHIN","1/2 finale promotion","2010-2011",null,null,null,null,{"$f":"IF($K80=P$1,COUNTIF($C80,\"G\"),0)","v":0},null,{"$f":"IF($K80=R$1,COUNTIF($C80,\"G\"),0)","v":0}]
["GEETS Patrice","DEROLEZ Jean-Pierre","G",2,0,120,93,"2011-01-15","N1 Ligue T4 DIVION","Poules","2010-2011",null,null,null,null,0,null,0]
["GEETS Patrice","MARTEL Bruno","G",2,1,164,127,"2011-01-15","N1 Ligue T4 DIVION","Poules","2010-2011",null,null,null,null,0,null,0]
["GEETS Patrice","POULEYN André","G",2,1,158,138,"2011-01-15","N1 Ligue T4 DIVION","1/4 Finale","2010-2011",null,null,null,null,0,null,0]
["GEETS Patrice","WALLART Jean-Charles","G",2,0,120,73,"2011-01-15","N1 Ligue T4 DIVION","1/2 Finale","2010-2011",null,null,null,null,0,null,0]
["GEETS Patrice","RACARY Thibault","P",1,2,123,168,"2011-01-15","N1 Ligue T4 DIVION","Finale","2010-2011",null,null,null,null,0,null,0]
["GEETS Patrice","SACRE Jean-Yves","G",2,0,120,107,"2011-03-25","National T5 BLOIS","Préqualifs","2010-2011",null,null,null,null,0,null,0]
["GEETS Patrice","GARCIA Michel","G",2,0,120,94,"2011-03-25","National T5 BLOIS","Préqualifs","2010-2011",null,null,null,null,0,null,0]
["GEETS Patrice","MORALES Luis","G",2,0,120,87,"2011-03-25","National T5 BLOIS","Préqualifs","2010-2011",null,null,null,null,0,null,0]
["GEETS Patrice","SEINGIER Jean-Claude","G",3,1,232,193,"2011-03-26","National T5 BLOIS","Qualifs promotion","2010-2011",null,null,null,null,0,null,0]
["GEETS Patrice","LHEUREUX François","P",1,3,163,239,"2011-03-26","National T5 BLOIS","Qualifs promotion","2010-2011",null,null,null,null,0,null,0]
["GEETS Patrice","GUILLEMANT Jean-Marc","P",1,3,167,205,"2011-03-26","National T5 BLOIS","Qualifs promotion","2010-2011",null,null,null,null,0,null,0]
["GEETS Patrice","DELSOL Philippe","P",0,3,104,180,"2011-03-19","Finale Ligue N1","Poules","2010-2011",null,null,null,null,0,null,0]
["GEETS Patrice","WALLART Jean-Charles","P",2,3,251,269,"2011-03-19","Finale Ligue N1","Poules","2010-2011",null,null,null,null,0,null,0]
["GEETS Patrice","LHERMITTE Cédric","P",1,3,177,217,"2011-03-19","Finale Ligue N1","5ème 6ème","2010-2011",null,null,null,null,0,null,0]
["GEETS Patrice","GANGLOFF Jean-Luc","P",0,2,98,120,"2011-04-15","National T6 CHAMPAGNE sur SEINE / NANDY","Préqualifs","2010-2011",null,null,null,null,0,null,0]
["GEETS Patrice","MARCHISSEAU Stéphane","P",0,2,67,120,"2011-04-15","National T6 CHAMPAGNE sur SEINE / NANDY","Préqualifs","2010-2011",null,null,null,null,0,null,0]
["GEETS Patrice","J BLANC","G",2,0,120,118,"2011-04-15","National T6 CHAMPAGNE sur SEINE / NANDY","Préqualifs","2010-2011",null,null,null,null,0,null,0]
["GEETS Patrice","ZILLIG Pierre","P",0,3,143,180,"2011-04-16","National T6 CHAMPAGNE sur SEINE / NANDY","Qualifs promotion","2010-2011",null,null,null,null,0,null,0]
["GEETS Patrice","BRETEL Gérard","G",3,0,180,146,"2011-04-16","National T6 CHAMPAGNE sur SEINE / NANDY","Qualifs promotion","2010-2011",null,null,null,null,0,null,0]
["GEETS Patrice","FAUCOMPREZ Didier","G",3,1,224,183,"2011-04-16","National T6 CHAMPAGNE sur SEINE / NANDY","Qualifs promotion","2010-2011",null,null,null,null,0,null,0]
["GEETS Patrice","SORTAIS Claude","G",3,2,235,243,"2011-04-17","National T6 CHAMPAGNE sur SEINE / NANDY","1/8 finale promotion","2010-2011",null,null,null,null,0,null,0]
["GEETS Patrice","DI PALMA Angelo","P",0,3,95,180,"2011-04-17","National T6 CHAMPAGNE sur SEINE / NANDY","1/4 finale promotion","2010-2011",null,null,null,null,0,null,0]
["GEETS Patrice","VADALA Gino\n","P",0,3,101,180,"2011-05-14","National SCHILTIGHEIM","Qualifs","2010-2011",null,null,null,null,0,null,0]
["GEETS Patrice","WALLART Jean-Charles","G",3,2,286,237,"2011-05-14","National SCHILTIGHEIM","Qualifs","2010-2011",null,null,null,null,0,null,0]
["GEETS Patrice","TRIFAULT Amand","P",2,3,274,263,"2011-05-14","National SCHILTIGHEIM","Qualifs","2010-2011",null,null,null,null,0,null,0]
["GEETS Patrice","ESTERMANS Bernard","G",2,0,120,42,"2011-10-15","N1 Ligue T1 DIVION","Poules","2011-2012",null,null,null,null,0,null,0]
["GEETS Patrice","LECROART Serge","P",1,2,141,162,"2011-10-15","N1 Ligue T1 DIVION","Poules","2011-2012",null,null,null,null,0,null,0]
["GEETS Patrice","RACARY Thibault","G",2,0,120,92,"2011-10-15","N1 Ligue T1 DIVION","1/4 Finale","2011-2012",null,null,null,null,0,null,0]
["GEETS Patrice","DELSOL Philippe","P",0,2,78,120,"2011-10-15","N1 Ligue T1 DIVION","1/2 Finale","2011-2012",null,null,null,null,0,null,0]
["GEETS Patrice","GARCIA Michel","G",2,0,120,50,"2011-09-30","National T1 CESTAS","Préqualifs","2011-2012",null,null,null,null,0,null,0]
["GEETS Patrice","GUIBERT Philippe","P",0,2,69,120,"2011-09-30","National T1 CESTAS","Préqualifs","2011-2012",null,null,null,null,0,null,0]
["GEETS Patrice","PALOMBA Sergio","G",2,1,161,145,"2011-09-30","National T1 CESTAS","Préqualifs","2011-2012",null,null,null,null,0,null,0]
["GEETS Patrice","BONNEAU Benoît","G",3,2,241,219,"2011-10-01","National T1 CESTAS","Qualifs promotion","2011-2012",null,null,null,null,0,null,0]
["GEETS Patrice","SAINT-GEORGES Claude","P",2,3,264,290,"2011-10-01","National T1 CESTAS","Qualifs promotion","2011-2012",null,null,null,null,0,null,0]
["GEETS Patrice","GULDNER Aurelien","G",3,1,239,160,"2011-10-01","National T1 CESTAS","Qualifs promotion","2011-2012",null,null,null,null,0,null,0]
["GEETS Patrice","MORALES Luis","G",3,2,260,273,"2011-10-02","National T1 CESTAS","1/8 finale promotion","2011-2012",null,null,null,null,0,null,0]
["GEETS Patrice","BOUVIER Philippe","P",2,3,260,246,"2011-10-02","National T1 CESTAS","1/4 finale promotion","2011-2012",null,null,null,null,0,null,0]
["GEETS Patrice","KAYA Turgul","P",1,2,165,168,"2011-11-19","N1 Ligue T2 DOUAI","Poules","2011-2012",null,null,null,null,0,null,0]
["GEETS Patrice","WALLART Jean-Charles","G",2,1,168,138,"2011-11-19","N1 Ligue T2 DOUAI","Poules","2011-2012",null,null,null,null,0,null,0]
["GEETS Patrice","VEREECQUE Ludovic","G",2,0,120,77,"2011-11-19","N1 Ligue T2 DOUAI","1/8 Finale","2011-2012",null,null,null,null,0,null,0]
["GEETS Patrice","LHERMITTE Cédric","P",0,2,105,120,"2011-11-19","N1 Ligue T2 DOUAI","1/4 Finale","2011-2012",null,null,null,null,0,null,0]
["GEETS Patrice","DI LEO Francois","G",2,0,120,102,"2011-11-04","National T2 SCHILTIGHEIM","Préqualifs","2011-2012",null,null,null,null,0,null,0]
["GEETS Patrice","WALLART Jean-Charles","P",0,2,64,120,"2011-11-04","National T2 SCHILTIGHEIM","Préqualifs","2011-2012",null,null,null,null,0,null,0]
["GEETS Patrice","GOUSSETIS Georges","G",2,0,120,82,"2011-11-04","National T2 SCHILTIGHEIM","Préqualifs","2011-2012",null,null,null,null,0,null,0]
["GEETS Patrice","SCHUB Philippe","G",3,0,180,110,"2011-11-05","National T2 SCHILTIGHEIM","Qualifs promotion","2011-2012",null,null,null,null,0,null,0]
["GEETS Patrice","LHEUREUX François","G",3,2,269,258,"2011-11-05","National T2 SCHILTIGHEIM","Qualifs promotion","2011-2012",null,null,null,null,0,null,0]
["GEETS Patrice","WEBER Thierry","G",3,0,180,94,"2011-11-06","National T2 SCHILTIGHEIM","1/8 finale promotion","2011-2012",null,null,null,null,0,null,0]
["GEETS Patrice","PONTHIEUX Christian","P",0,3,124,180,"2011-11-06","National T2 SCHILTIGHEIM","1/4 finale promotion","2011-2012",null,null,null,null,0,null,0]
["GEETS Patrice","DOUGNAC Nathalie","P",1,2,150,175,"2011-12-02","National T3 ANNOEULLIN","Préqualifs","2011-2012",null,null,null,null,0,null,0]
["GEETS Patrice","LORTHIOIR Jean-Luc","G",2,1,159,124,"2011-12-02","National T3 ANNOEULLIN","Préqualifs","2011-2012",null,null,null,null,0,null,0]
["GEETS Patrice","FONTAINE Isabelle","G",2,1,167,144,"2011-12-02","National T3 ANNOEULLIN","Préqualifs","2011-2012",null,null,null,null,0,null,0]
["GEETS Patrice","GUILLEMANT Jean-Marc","G",3,1,187,167,"2011-12-03","National T3 ANNOEULLIN","Qualifs promotion","2011-2012",null,null,null,null,0,null,0]
["GEETS Patrice","SORTAIS Claude","G",3,0,180,131,"2011-12-03","National T3 ANNOEULLIN","Qualifs promotion","2011-2012",null,null,null,null,0,null,0]
["GEETS Patrice","TIRALONGO Sébastien","P",2,3,216,288,"2011-12-04","National T3 ANNOEULLIN","1/8 finale promotion","2011-2012",null,null,null,null,0,null,0]
["GEETS Patrice","LUBREZ Pierre","P",0,2,87,120,"2012-01-07","N1 Ligue T3 FACHES THUMESNIL","Poules","2011-2012",null,null,null,null,0,null,0]
["GEETS Patrice","DEROLEZ Jean-Pierre","G",2,1,169,125,"2012-01-07","N1 Ligue T3 FACHES THUMESNIL","Poules","2011-2012",null,null,null,null,0,null,0]
["GEETS Patrice","ESTERMANS Bernard","G",1,0,100,67,"2012-01-07","N1 Ligue T3 FACHES THUMESNIL","Poules Consolante","2011-2012",null,null,null,null,0,null,0]
["GEETS Patrice","LUBREZ Pierre","G",1,0,100,36,"2012-01-07","N1 Ligue T3 FACHES THUMESNIL","Poules Consolante","2011-2012",null,null,null,null,0,null,0]
["GEETS Patrice","MANTEN Paul","G",1,0,100,89,"2012-01-07","N1 Ligue T3 FACHES THUMESNIL","Finale Consolante","2011-2012",null,null,null,null,0,null,0]
["GEETS Patrice","DECONINCK Franky","P",0,1,79,100,"2012-01-07","N1 Ligue T3 FACHES THUMESNIL","Finale Consolante","2011-2012",null,null,null,null,0,null,0]
["GEETS Patrice","LECROART Serge","G",2,0,120,67,"2012-01-28","N1 Ligue T4 GRAVELINES","Poules","2011-2012",null,null,null,null,0,null,0]
["GEETS Patrice","DEROLEZ Jean-Pierre","G",2,0,120,104,"2012-01-28","N1 Ligue T4 GRAVELINES","Poules","2011-2012",null,null,null,null,0,null,0]
["GEETS Patrice","LUBREZ Pierre","G",2,0,120,49,"2012-01-28","N1 Ligue T4 GRAVELINES","1/8 Finale","2011-2012",null,null,null,null,0,null,0]
["GEETS Patrice","WALLART Jean-Charles","G",2,1,170,136,"2012-01-28","N1 Ligue T4 GRAVELINES","1/4 Finale","2011-2012",null,null,null,null,0,null,0]
["GEETS Patrice","LEMÂTRE Jérémy","G",2,0,120,111,"2012-01-28","N1 Ligue T4 GRAVELINES","1/2 Finale","2011-2012",null,null,null,null,0,null,0]
["GEETS Patrice","RACARY Thibault","P",0,2,60,120,"2012-01-28","N1 Ligue T4 GRAVELINES","Finale","2011-2012",null,null,null,null,0,null,0]
["GEETS Patrice","DELSOL Philippe","P",0,3,100,180,"2012-02-12","Finale Ligue N1","Poules","2011-2012",null,null,null,null,0,null,0]
["GEETS Patrice","LEMÂTRE Jérémy","G",3,0,180,89,"2012-02-12","Finale Ligue N1","Poules","2011-2012",null,null,null,null,0,null,0]
["GEETS Patrice","LHERMITTE Cédric","P",0,3,123,180,"2012-02-12","Finale Ligue N1","3ème 4ème","2011-2012",null,null,null,null,0,null,0]
["GEETS Patrice","HERREBRECHT Thierry","P",0,3,131,180,"2012-02-12","Finale Ligue N1","1/2 finale","2011-2012",null,null,null,null,0,null,0]
["GEETS Patrice","DALLIER Dominique","G",2,0,120,72,"2012-02-17","National T4 ORLEANS","Préqualifs","2011-2012",null,null,null,null,0,null,0]
["GEETS Patrice","LORTHIOIR Jean-Luc","G",2,0,120,32,"2012-02-17","National T4 ORLEANS","Préqualifs","2011-2012",null,null,null,null,0,null,0]
["GEETS Patrice","CABARET Denis","G",2,0,120,43,"2012-02-17","National T4 ORLEANS","Préqualifs","2011-2012",null,null,null,null,0,null,0]
["GEETS Patrice","JUBLOT Maxime","P",0,3,116,180,"2012-02-18","National T4 ORLEANS","Qualifs Masters","2011-2012",null,null,null,null,0,null,0]
["GEETS Patrice","MORMICHE Michel","P",0,3,86,180,"2012-02-18","National T4 ORLEANS","Qualifs Masters","2011-2012",null,null,null,null,0,null,0]
["GEETS Patrice","DALLIER Dominique","G",2,0,120,85,"2012-03-16","National T5 L HAY LES ROSES","Préqualifs","2011-2012",null,null,null,null,0,null,0]
["GEETS Patrice","MORMICHE Michel","G",2,1,141,148,"2012-03-16","National T5 L HAY LES ROSES","Préqualifs","2011-2012",null,null,null,null,0,null,0]
["GEETS Patrice","EVENOU Marie-Antoinette","G",2,0,120,84,"2012-03-16","National T5 L HAY LES ROSES","Préqualifs","2011-2012",null,null,null,null,0,null,0]
["GEETS Patrice","AUCLAIR Henri","G",3,1,218,206,"2012-03-17","National T5 L HAY LES ROSES","Qualifs promotion","2011-2012",null,null,null,null,0,null,0]
["GEETS Patrice","DUROYON Didier","G",3,1,231,197,"2012-03-17","National T5 L HAY LES ROSES","Qualifs promotion","2011-2012",null,null,null,null,0,null,0]
["GEETS Patrice","GANGLOFF Jean-Luc","G",3,1,227,177,"2012-03-18","National T5 L HAY LES ROSES","1/8 finale promotion","2011-2012",null,null,null,null,0,null,0]
["GEETS Patrice","JUBLOT Denis","P",2,3,215,265,"2012-03-18","National T5 L HAY LES ROSES","1/4 finale promotion","2011-2012",null,null,null,null,0,null,0]
["GEETS Patrice","PONTHIEUX Christian","G",3,2,275,259,"2012-04-21","National ROUEN","Qualifs","2011-2012",null,null,null,null,0,null,0]
["GEETS Patrice","GANGLOFF Jean luc","G",3,1,230,209,"2012-04-21","National ROUEN","Qualifs","2011-2012",null,null,null,null,0,null,0]
["GEETS Patrice","BOUVIER Philippe","P",2,3,265,267,"2012-04-21","National ROUEN","Qualifs","2011-2012",null,null,null,null,0,null,0]
["GEETS Patrice","DELSOL Philippe","G",3,2,264,253,"2012-04-22","National ROUEN","1/8 finale","2011-2012",null,null,null,null,0,null,0]
["GEETS Patrice","BAYON Pascal","P",1,3,199,227,"2012-04-22","National ROUEN","1/4 finale","2011-2012",null,null,null,null,0,null,0]
["GEETS Patrice","FLEURANT Richard","G",2,0,120,88,"2012-10-13","N1 Ligue T1 ANNOEULLIN","Poules","2012-2013",null,null,null,null,0,null,0]
["GEETS Patrice","GAUQUIE Serge","G",2,1,169,125,"2012-10-13","N1 Ligue T1 ANNOEULLIN","Poules","2012-2013",null,null,null,null,0,null,0]
["GEETS Patrice","HOCHART James","G",2,1,162,145,"2012-10-13","N1 Ligue T1 ANNOEULLIN","1/8 Finale","2012-2013",null,null,null,null,0,null,0]
["GEETS Patrice","SAINT-GEORGES Claude","G",2,0,120,56,"2012-10-13","N1 Ligue T1 ANNOEULLIN","1/4 Finale","2012-2013",null,null,null,null,0,null,0]
["GEETS Patrice","TURPIN Laurent","P",1,2,145,155,"2012-10-13","N1 Ligue T1 ANNOEULLIN","1/2 Finale","2012-2013",null,null,null,null,0,null,0]
["GEETS Patrice","DECONINCK Franky","G",2,1,158,140,"2012-10-27","N1 Ligue T2 BRUAY sur ESCAUT","Poules","2012-2013",null,null,null,null,0,null,0]
["GEETS Patrice","LHERMITTE Cédric","G",2,0,120,99,"2012-10-27","N1 Ligue T2 BRUAY sur ESCAUT","Poules","2012-2013",null,null,null,null,0,null,0]
["GEETS Patrice","SAINT-GEORGES Claude","G",2,0,120,98,"2012-10-27","N1 Ligue T2 BRUAY sur ESCAUT","1/4 Finale","2012-2013",null,null,null,null,0,null,0]
["GEETS Patrice","DELSOL Philippe","P",0,2,48,120,"2012-10-27","N1 Ligue T2 BRUAY sur ESCAUT","1/2 Finale","2012-2013",null,null,null,null,0,null,0]
["GEETS Patrice","ESTERMANS Bernard","P",0,2,73,120,"2012-11-24","N1 Ligue T3 CALAIS","Poules","2012-2013",null,null,null,null,0,null,0]
["GEETS Patrice","LORTHIOIR Jean-Luc","G",2,1,176,120,"2012-11-24","N1 Ligue T3 CALAIS","Poules","2012-2013",null,null,null,null,0,null,0]
["GEETS Patrice","RENAUX Damien","G",1,0,100,65,"2012-11-24","N1 Ligue T3 CALAIS","Poules Consolante","2012-2013",null,null,null,null,0,null,0]
["GEETS Patrice","RENAUX Damien","G",1,0,100,79,"2012-11-24","N1 Ligue T3 CALAIS","Poules Consolante","2012-2013",null,null,null,null,0,null,0]
["GEETS Patrice","MAILLE Bernard","P",0,1,97,100,"2012-11-24","N1 Ligue T3 CALAIS","1/2 finale Consolante","2012-2013",null,null,null,null,0,null,0]
["GEETS Patrice","WALLART Jean-Charles","G",2,1,173,132,"2012-12-15","N1 Ligue T4 VILLENEUVE D'ASCQ","Poules","2012-2013",null,null,null,null,0,null,0]
["GEETS Patrice","WALLART Jean-Charles","G",2,0,120,80,"2012-12-15","N1 Ligue T4 VILLENEUVE D'ASCQ","Poules","2012-2013",null,null,null,null,0,null,0]
["GEETS Patrice","CAUX Grégory","G",2,1,175,161,"2012-12-15","N1 Ligue T4 VILLENEUVE D'ASCQ","1/4 Finale","2012-2013",null,null,null,null,0,null,0]
["GEETS Patrice","DELSOL Philippe","P",1,2,138,126,"2012-12-15","N1 Ligue T4 VILLENEUVE D'ASCQ","1/2 Finale","2012-2013",null,null,null,null,0,null,0]
["GEETS Patrice","WALLARTJean-Charles","G",3,2,288,248,"2013-04-14","FINALE LIGUE N1 FACHES THUMESNIL","Poules","2012-2013",null,null,null,null,0,null,0]
["GEETS Patrice","LHERMITTE Cédric","G",3,0,180,138,"2013-04-14","FINALE LIGUE N1 FACHES THUMESNIL","Poules","2012-2013",null,null,null,null,0,null,0]
["GEETS Patrice","SAINT-GEORGES Claude","P",0,3,129,180,"2013-04-14","FINALE LIGUE N1 FACHES THUMESNIL","1/2 Finale","2012-2013",null,null,null,null,0,null,0]
["GEETS PATRICE","DRONET CHRYSTEL","P",0,3,125,180,"2014-10-18","National T1 GRAVELINES","Qualifs promotion","2014-2015",null,null,null,null,0,null,0]
["GEETS PATRICE","LOTHE JEAN-LUC","G",3,0,180,130,"2014-10-18","National T1 GRAVELINES","Qualifs promotion","2014-2015",null,null,null,null,1,null,0]
["GEETS PATRICE","BEDNAREK JEAN-MICHEL","P",2,3,253,266,"2014-10-18","National T1 GRAVELINES","Qualifs promotion","2014-2015",null,null,null,null,0,null,0]
["GEETS Patrice","WALLART Jean-Charles","G",2,0,120,112,"2014-11-28","National T2 FACHES THUMESNIL - RONCHIN","Préqualifs","2014-2015",null,null,null,null,1,null,0]
["GEETS Patrice","MORMICHE Michel","P",1,2,140,167,"2014-11-28","National T2 FACHES THUMESNIL - RONCHIN","Préqualifs","2014-2015",null,null,null,null,0,null,0]
["GEETS Patrice","MICHELOTTI Francesco","G",2,1,162,147,"2014-11-28","National T2 FACHES THUMESNIL - RONCHIN","Préqualifs","2014-2015",null,null,null,null,1,null,0]
["GEETS Patrice","HERREBRECHT Erian","G",3,0,180,78,"2014-11-29","National T2 FACHES THUMESNIL - RONCHIN","Qualifs promotion","2014-2015",null,null,null,null,1,null,0]
["GEETS Patrice","VERHAGHE Dominique","G",3,1,239,170,"2014-11-29","National T2 FACHES THUMESNIL - RONCHIN","Qualifs promotion","2014-2015",null,null,null,null,1,null,0]
["GEETS Patrice","MICHELOTTI Francesco","G",3,2,276,248,"2014-11-30","National T2 FACHES THUMESNIL - RONCHIN","1/8 finale promotion","2014-2015",null,null,null,null,1,null,0]
["GEETS Patrice","MORMICHE Michel","P",2,3,228,263,"2014-11-30","National T2 FACHES THUMESNIL - RONCHIN","1/4 finale promotion","2014-2015",null,null,null,null,0,null,0]
["GEETS Patrice","CLINCKE Jean-Jacques","P",0,2,75,120,"2014-12-12","National T3 DOUARNENEZ","Préqualifs","2014-2015",null,null,null,null,0,null,0]
["GEETS Patrice","SORTAIS Claude","P",0,2,90,120,"2014-12-12","National T3 DOUARNENEZ","Préqualifs","2014-2015",null,null,null,null,0,null,0]
["GEETS Patrice","KERCRET Geneviève","G",2,0,120,61,"2014-12-12","National T3 DOUARNENEZ","Préqualifs","2014-2015",null,null,null,null,1,null,0]
["GEETS Patrice","TREAL Jean","G",3,0,180,98,"2014-12-13","National T3 DOUARNENEZ","Qualifs promotion","2014-2015",null,null,null,null,1,null,0]
["GEETS Patrice","GUERIN Xavier","P",1,3,156,213,"2014-12-13","National T3 DOUARNENEZ","Qualifs promotion","2014-2015",null,null,null,null,0,null,0]
["GEETS Patrice","POULEYN André","G",3,0,180,115,"2014-12-13","National T3 DOUARNENEZ","Qualifs promotion","2014-2015",null,null,null,null,1,null,0]
["GEETS Patrice","PALOMBA Sergio","G",3,1,213,167,"2014-12-14","National T3 DOUARNENEZ","1/8 finale promotion","2014-2015",null,null,null,null,1,null,0]
["GEETS Patrice","SACRE Jean-Yves","P",2,3,217,255,"2014-12-14","National T3 DOUARNENEZ","1/4 finale promotion","2014-2015",null,null,null,null,0,null,0]
["GEETS Patrice","BILLIARD Alain","G",2,1,175,136,"2015-01-23","National T4 LAXOU","Préqualifs","2014-2015",null,null,null,null,1,null,0]
["GEETS Patrice","VICARI Marc","P",0,2,84,120,"2015-01-23","National T4 LAXOU","Préqualifs","2014-2015",null,null,null,null,0,null,0]
["GEETS Patrice","KERCRET Geneviève","G",2,1,172,135,"2015-01-23","National T4 LAXOU","Préqualifs","2014-2015",null,null,null,null,1,null,0]
["GEETS Patrice","BILLIARD Alain","P",2,3,203,249,"2015-01-24","National T4 LAXOU","Qualifs promotion","2014-2015",null,null,null,null,0,null,0]
["GEETS Patrice","GOUTHIER Alain","G",3,0,180,85,"2015-01-24","National T4 LAXOU","Qualifs promotion","2014-2015",null,null,null,null,1,null,0]
["GEETS Patrice","LHERMITTE Sylvain","P",2,3,271,252,"2015-01-24","National T4 LAXOU","Qualifs promotion","2014-2015",null,null,null,null,0,null,0]
["GEETS Patrice","KERCRET Geneviève","G",2,0,120,77,"2015-03-20","National T5 SAINT QUENTIN","Préqualifs","2014-2015",null,null,null,null,1,null,0]
["GEETS Patrice","SACRE Jean-Yves","G",2,1,151,166,"2015-03-20","National T5 SAINT QUENTIN","Préqualifs","2014-2015",null,null,null,null,1,null,0]
["GEETS Patrice","JACQ Laurent","G",2,1,165,127,"2015-03-20","National T5 SAINT QUENTIN","Préqualifs","2014-2015",null,null,null,null,1,null,0]
["GEETS Patrice","MANZOLI Angelo","P",1,3,199,232,"2015-03-21","National T5 SAINT QUENTIN","Qualifs Masters","2014-2015",null,null,null,null,0,null,0]
["GEETS Patrice","HERREBRECHT Thierry","P",0,3,112,180,"2015-03-21","National T5 SAINT QUENTIN","Qualifs Masters","2014-2015",null,null,null,null,0,null,0]
["GEETS Patrice","TRIPLET Gilbert","G",2,0,120,49,"2015-01-17","N1 Ligue T1 DUNKERQUE","Poules","2014-2015",null,null,null,null,1,null,0]
["GEETS Patrice","CAUX Frédéric","P",1,2,167,133,"2015-01-17","N1 Ligue T1 DUNKERQUE","Poules","2014-2015",null,null,null,null,0,null,0]
["GEETS Patrice","LUBREZ Pierre","G",2,1,154,139,"2015-01-17","N1 Ligue T1 DUNKERQUE","1/8 Finale","2014-2015",null,null,null,null,1,null,0]
["GEETS Patrice","SAINT-GEORGES Claude","G",2,0,120,82,"2015-01-17","N1 Ligue T1 DUNKERQUE","1/4 Finale","2014-2015",null,null,null,null,1,null,0]
["GEETS Patrice","CAUX Grégory","G",2,0,120,49,"2015-01-17","N1 Ligue T1 DUNKERQUE","1/2 Finale","2014-2015",null,null,null,null,1,null,0]
["GEETS Patrice","DECONINCK Franky","P",0,2,96,120,"2015-01-17","N1 Ligue T1 DUNKERQUE","Finale","2014-2015",null,null,null,null,0,null,0]
["GEETS Patrice","LEMÂTRE Alexis","P",0,2,90,120,"2015-02-07","N1 Ligue T2 CALAIS","Poules","2014-2015",null,null,null,null,0,null,0]
["GEETS Patrice","LORTHIOIR Jean-Luc","G",2,0,120,73,"2015-02-07","N1 Ligue T2 CALAIS","Poules","2014-2015",null,null,null,null,1,null,0]
["GEETS Patrice","MANTEN Paul","G",2,0,120,55,"2015-02-07","N1 Ligue T2 CALAIS","1/8 Finale","2014-2015",null,null,null,null,1,null,0]
["GEETS Patrice","DEPLECHIN Robert","G",2,1,156,102,"2015-02-07","N1 Ligue T2 CALAIS","1/4 Finale","2014-2015",null,null,null,null,1,null,0]
["GEETS Patrice","LEMÂTRE Jérémy","P",1,2,156,145,"2015-02-07","N1 Ligue T2 CALAIS","1/2 Finale","2014-2015",null,null,null,null,0,null,0]
["GEETS Patrice","POULEYN André","G",2,1,168,126,"2015-03-14","N1 Ligue T3 ANNOEULLIN","Poules","2014-2015",null,null,null,null,1,null,0]
["GEETS Patrice","CAUX Grégory","G",2,0,120,64,"2015-03-14","N1 Ligue T3 ANNOEULLIN","Poules","2014-2015",null,null,null,null,1,null,0]
["GEETS Patrice","WALLART Jean-Charles","G",2,0,120,108,"2015-03-14","N1 Ligue T3 ANNOEULLIN","1/4 Finale","2014-2015",null,null,null,null,1,null,0]
["GEETS Patrice","LEMÂTRE Alexis","P",1,2,168,162,"2015-03-14","N1 Ligue T3 ANNOEULLIN","1/2 Finale","2014-2015",null,null,null,null,0,null,0]
["GEETS Patrice","AUER christian","G",3,0,180,66,"2015-06-06","CHAMPIONNAT DE FRANCE N1 ORLEANS","Qualifs","2014-2015",null,null,null,null,1,null,0]
["GEETS Patrice","DI LEO Francois","P",0,3,158,180,"2015-06-06","CHAMPIONNAT DE FRANCE N1 ORLEANS","Qualifs","2014-2015",null,null,null,null,0,null,0]
["GEETS Patrice","VIERA MAIA Arlindo","P",2,3,227,297,"2015-06-06","CHAMPIONNAT DE FRANCE N1 ORLEANS","Qualifs","2014-2015",null,null,null,null,0,null,0]
["GEETS Patrice","ROBERGE Bruno","G",2,1,171,170,"2015-10-09","National T1 ROUEN","Préqualifs","2015-2016",null,null,null,null,0,null,1]
["GEETS Patrice","WALLART Jean-Charles","G",2,0,120,94,"2015-10-09","National T1 ROUEN","Préqualifs","2015-2016",null,null,null,null,0,null,1]
["GEETS Patrice","IQUI Jean-Franck","G",2,0,120,90,"2015-10-09","National T1 ROUEN","Préqualifs","2015-2016",null,null,null,null,0,null,1]
["GEETS Patrice","BILLIARD Alain","G",3,0,180,133,"2015-10-10","National T1 ROUEN","Qualifs promotion","2015-2016",null,null,null,null,0,null,1]
["GEETS Patrice","REBELO Joaquim","P",0,3,156,180,"2015-10-10","National T1 ROUEN","Qualifs promotion","2015-2016",null,null,null,null,0,null,0]
["GEETS Patrice","BAYON Pascal","P",2,3,243,232,"2015-10-10","National T1 ROUEN","Qualifs promotion","2015-2016",null,null,null,null,0,null,0]
["GEETS Patrice","WEBER Lionel","G",2,1,170,104,"2015-11-13","National T2 DOUARNENEZ","Préqualifs","2015-2016",null,null,null,null,0,null,1]
["GEETS Patrice","RIMBOT Nicolas","G",2,0,120,67,"2015-11-13","National T2 DOUARNENEZ","Préqualifs","2015-2016",null,null,null,null,0,null,1]
["GEETS Patrice","GUERIN Régis","G",2,0,120,91,"2015-11-13","National T2 DOUARNENEZ","Préqualifs","2015-2016",null,null,null,null,0,null,1]
["GEETS Patrice","CARREAU Sabrina","G",3,0,180,77,"2015-11-14","National T2 DOUARNENEZ","Qualifs promotion","2015-2016",null,null,null,null,0,null,1]
["GEETS Patrice","TREAL David","P",2,3,238,232,"2015-11-14","National T2 DOUARNENEZ","Qualifs promotion","2015-2016",null,null,null,null,0,null,0]
["GEETS Patrice","PERRIN Eric","G",3,1,225,139,"2015-11-14","National T2 DOUARNENEZ","Qualifs promotion","2015-2016",null,null,null,null,0,null,1]
["GEETS Patrice","RIMBOT Nicolas","P",1,3,183,213,"2015-11-15","National T2 DOUARNENEZ","1/8 finale promotion","2015-2016",null,null,null,null,0,null,0]
["GEETS Patrice","BARBE Philippe","G",2,0,120,88,"2015-12-11","National T3 FACHES THUMESNIL - RONCHIN","Préqualifs","2015-2016",null,null,null,null,0,null,1]
["GEETS Patrice","ZACCAGNINI Antoine","P",1,2,102,173,"2015-12-11","National T3 FACHES THUMESNIL - RONCHIN","Préqualifs","2015-2016",null,null,null,null,0,null,0]
["GEETS Patrice","BONGIOVANNI Giovanni","G",2,1,156,120,"2015-12-11","National T3 FACHES THUMESNIL - RONCHIN","Préqualifs","2015-2016",null,null,null,null,0,null,1]
["GEETS Patrice","WEBER Thierry","G",3,1,210,186,"2015-12-12","National T3 FACHES THUMESNIL - RONCHIN","Qualifs promotion","2015-2016",null,null,null,null,0,null,1]
["GEETS Patrice","RIMBOT Nicolas","G",3,1,202,194,"2015-12-12","National T3 FACHES THUMESNIL - RONCHIN","Qualifs promotion","2015-2016",null,null,null,null,0,null,1]
["GEETS Patrice","LEGRAND Guy","G",3,2,245,212,"2015-12-13","National T3 FACHES THUMESNIL - RONCHIN","1/8 finale promotion","2015-2016",null,null,null,null,0,null,1]
["GEETS Patrice","FOURRE Cédric","G",3,2,266,246,"2015-12-13","National T3 FACHES THUMESNIL - RONCHIN","1/4 finale promotion","2015-2016",null,null,null,null,0,null,1]
["GEETS Patrice","MORMICHE Michel","P",0,3,99,180,"2015-12-13","National T3 FACHES THUMESNIL - RONCHIN","1/2 finale promotion","2015-2016",null,null,null,null,0,null,0]
["GEETS Patrice","BARBE Philippe","G",2,1,175,151,"2016-02-05","National T4 SCHILTIGHEIM","Préqualifs","2015-2016",null,null,null,null,0,null,1]
["GEETS Patrice","LANUSSE Christophe","G",2,1,164,130,"2016-02-05","National T4 SCHILTIGHEIM","Préqualifs","2015-2016",null,null,null,null,0,null,1]
["GEETS Patrice","LEPAGE Patrick","G",2,0,120,81,"2016-02-05","National T4 SCHILTIGHEIM","Préqualifs","2015-2016",null,null,null,null,0,null,1]
["GEETS Patrice","CLYNCKE Jean-Jacques","G",3,1,232,141,"2016-02-06","National T4 SCHILTIGHEIM","Qualifs promotion","2015-2016",null,null,null,null,0,null,1]
["GEETS Patrice","LHERMITTE Sylvain","P",2,3,258,259,"2016-02-06","National T4 SCHILTIGHEIM","Qualifs promotion","2015-2016",null,null,null,null,0,null,0]
["GEETS Patrice","LORGE Thierry","P",0,3,118,180,"2016-02-06","National T4 SCHILTIGHEIM","Qualifs promotion","2015-2016",null,null,null,null,0,null,0]
["GEETS Patrice","VEREECQUE Ludovic","G",2,1,156,136,"2015-12-04","T1 LIGUE 5 QUILLES N1 - FACHES-THUMESNIL","Poules","2015-2016",null,null,null,null,0,null,1]
["GEETS Patrice","LORTHIOIR Jean-Luc","G",2,0,120,52,"2015-12-04","T1 LIGUE 5 QUILLES N1 - FACHES-THUMESNIL","Poules","2015-2016",null,null,null,null,0,null,1]
["GEETS Patrice","MAILLE Bernard","P",1,2,146,179,"2015-12-04","T1 LIGUE 5 QUILLES N1 - FACHES-THUMESNIL","1/4 Finale","2015-2016",null,null,null,null,0,null,0]
["GEETS Patrice","LEBLANC Jean-Noël","G",2,0,120,91,"2016-01-09","T2  LIGUE 5 QUILLES N1 - GRAVELINES","Qualifications","2015-2016",null,null,null,null,0,null,1]
["GEETS Patrice","DEPLECHIN Robert","G",2,0,120,53,"2016-01-09","T2  LIGUE 5 QUILLES N1 - GRAVELINES","Qualifications","2015-2016",null,null,null,null,0,null,1]
["GEETS Patrice","LEBLANC Jean-Noël","G",2,0,120,73,"2016-01-09","T2  LIGUE 5 QUILLES N1 - GRAVELINES","1/8 Finale","2015-2016",null,null,null,null,0,null,1]
["GEETS Patrice","DELSOL Philippe","P",1,2,91,157,"2016-01-09","T2  LIGUE 5 QUILLES N1 - GRAVELINES","1/4 Finale","2015-2016",null,null,null,null,0,null,0]
["GEETS Patrice","LEMÂTRE Alexis","G",2,1,175,147,"2016-01-23","T3 Ligue 5 Quilles N1 - ANNOEULLIN","1/4 Finale",{"$f":"IF(H270<>\"\",IF(MONTH(H270)>MoisRef,YEAR(H270)&\"-\"&YEAR(H270)+1,YEAR(H270)-1&\"-\"&YEAR(H270)),\"\")","v":"2015-2016"},null,null,null,null,0,null,1]
["GEETS Patrice","LORTHIOIR Jean-Luc","G",2,0,120,78,"2016-01-23","T3 Ligue 5 Quilles N1 - ANNOEULLIN","Qualifications","2015-2016",null,null,null,null,0,null,1]
["GEETS Patrice","WALLART Jean-Charles","P",0,2,61,120,"2016-01-23","T3 Ligue 5 Quilles N1 - ANNOEULLIN","Qualifications","2015-2016",null,null,null,null,0,null,0]
["GEETS Patrice","WALLART Jean-Charles","P",1,2,133,159,"2016-01-23","T3 Ligue 5 Quilles N1 - ANNOEULLIN","1/2 Finale","2015-2016",null,null,null,null,0,null,0]
["GEETS Patrice","CLYNCKE Jean-Jacques","G",3,1,218,174,"2016-04-24","Finale Ligue 5 Quilles N1 - ANNOEULLIN","Qualifications","2015-2016",null,null,null,null,0,null,1]
["GEETS Patrice","DELSOL Philippe","P",1,3,205,204,"2016-04-24","Finale Ligue 5 Quilles N1 - ANNOEULLIN","Finale","2015-2016",null,null,null,null,0,null,0]
["GEETS Patrice","LEMÂTRE Jérémy","G",3,1,227,193,"2016-04-24","Finale Ligue 5 Quilles N1 - ANNOEULLIN","1/2 Finale","2015-2016",null,null,null,null,0,null,1]
["GEETS Patrice","MAILLE Bernard","G",3,0,180,134,"2016-04-24","Finale Ligue 5 Quilles N1 - ANNOEULLIN","Qualifications","2015-2016",null,null,null,null,0,null,1]
["GEETS Patrice","FOURRE  Cédric","P",2,3,219,225,"2016-06-04",{"$f":"UPPER(\"CHAMPIONNAT DE France  N1 - ST RAPHAEL\")","v":"CHAMPIONNAT DE FRANCE  N1 - ST RAPHAEL"},"Qualifications","2015-2016",null,null,null,null,0,null,0]
["GEETS Patrice","DE HAAN Patrick","G",3,1,229,212,"2016-06-04",{"$f":"UPPER(\"CHAMPIONNAT DE France  N1 - ST RAPHAEL\")","v":"CHAMPIONNAT DE FRANCE  N1 - ST RAPHAEL"},"Qualifications","2015-2016",null,null,null,null,0,null,1]
["GEETS Patrice","DAVOINE Bruno","P",2,3,203,220,"2016-06-04",{"$f":"UPPER(\"CHAMPIONNAT DE France  N1 - ST RAPHAEL\")","v":"CHAMPIONNAT DE FRANCE  N1 - ST RAPHAEL"},"Qualifications","2015-2016",null,null,null,null,0,null,0]
["Fin des données",null,null,null,null,null,null,null,null,null,"",null,null,null,null,0,null,0]

{"sheet":"GHEVART Jean","index":28,"n_rows":71,"n_cols":22,"rows_kept":71,"cut":false,"hidden":false,"merged":[]}
["GHEVART Jean",null,null,null,null,null,null,null,null,null,null,null,null,null,null,{"$f":"Récapitulatif!$B$2","v":"2014-2015"},null,{"$f":"Récapitulatif!$B$3","v":"2015-2016"},null,"Toutes saisons"]
[{"$error":"#N/A"},null,null,null,null,null,null,null,null,null,null,null,null,null,null,"Nombre","%age","Nombre","%age","Nombre","%age"]
[{"$error":"#N/A"},null,null,null,null,null,null,null,null,null,null,null,null,"Matchs","Gagnés",{"$f":"SUM(P$15:P$71)","v":3},{"$f":"IF(P$3+P$4>0,P3/(P$3+P$4),\"\")","v":0.2},{"$f":"SUM(R$15:R$71)","v":7},{"$f":"IF(R$3+R$4>0,R3/(R$3+R$4),\"\")","v":0.21212121212121213},{"$f":"COUNTIF($C$15:$C$71,\"G\")","v":10},{"$f":"IF(T$3+T$4>0,T3/(T$3+T$4),\"\")","v":0.18181818181818182}]
[{"$error":"#N/A"},null,null,null,null,null,null,null,null,null,null,null,null,null,"Perdus",{"$f":"COUNTIF($K$15:$K$71,Récapitulatif!$B$2)-P3","v":12},{"$f":"IF(P$3+P$4>0,P4/(P$3+P$4),\"\")","v":0.8},{"$f":"COUNTIF($K$15:$K$71,Récapitulatif!$B$3)-R3","v":26},{"$f":"IF(R$3+R$4>0,R4/(R$3+R$4),\"\")","v":0.78787878787878785},{"$f":"COUNTIF($C$15:$C$71,\"P\")","v":45},{"$f":"IF(T$3+T$4>0,T4/(T$3+T$4),\"\")","v":0.81818181818181823}]
[{"$error":"#N/A"},null,null,null,null,null,null,null,null,null,null,null,null,null,"Total / Moy.",{"$f":"SUM(P3:P4)","v":15},{"$f":"IF(SUMIF($K$15:$K$71,Récapitulatif!$B$2,$G$15:$G$71)>0,SUMIF($K$15:$K$71,Récapitulatif!$B$2,$F$15:$F$71)/SUMIF($K$15:$K$71,Récapitulatif!$B$2,$G$15:$G$71),\"\")","v":0.79003267973856206},{"$f":"SUM(R3:R4)","v":33},{"$f":"IF(SUMIF($K$15:$K$71,Récapitulatif!$B$3,$G$15:$G$71)>0,SUMIF($K$15:$K$71,Récapitulatif!$B$3,$F$15:$F$71)/SUMIF($K$15:$K$71,Récapitulatif!$B$3,$G$15:$G$71),\"\")","v":0.77058411214988087},{"$f":"SUM(T3:T4)","v":55},{"$f":"IF(SUM($G$15:$G$71)>0,SUM($F$15:$F$71)/SUM($G$15:$G$71),\"\")","v":0.75938489968340683},{"$f":"IF(SUMIF($K$15:$K$71,Récapitulatif!$B$2,$G$15:$G$71)+SUMIF($K$15:$K$71,Récapitulatif!$B$3,$G$15:$G$71)>0,(SUMIF($K$15:$K$71,Récapitulatif!$B$2,$F$15:$F$71)+SUMIF($K$15:$K$71,Récapitulatif!$B$3,$F$15:$F$71))/(SUMIF($K$15:$K$71,Récapitulatif!$B$2,$G$15:$G$71)+SUMIF($K$15:$K$71,Récapitulatif!$B$3,$G$15:$G$71)),\"\")","v":0.77766052318690404}]
[null,null,null,null,null,null,null,null,null,null,null,null,null,"Sets","Gagnés",{"$f":"SUMIF($K$15:$K$71,Récapitulatif!$B$2,$D$15:$D$71)","v":15},{"$f":"IF(P$6+P$7>0,P6/(P$6+P$7),\"\")","v":0.34090909090909088},{"$f":"SUMIF($K$15:$K$71,Récapitulatif!$B$3,$D$15:$D$71)","v":20},{"$f":"IF(R$6+R$7>0,R6/(R$6+R$7),\"\")","v":0.27397260273972601},{"$f":"SUM($D$15:$D$71)","v":36},{"$f":"IF(T$6+T$7>0,T6/(T$6+T$7),\"\")","v":0.27692307692307694}]
[null,null,null,null,null,null,null,null,null,null,null,null,null,null,"Perdus",{"$f":"SUMIF($K$15:$K$71,Récapitulatif!$B$2,$E$15:$E$71)","v":29},{"$f":"IF(P$6+P$7>0,P7/(P$6+P$7),\"\")","v":0.65909090909090906},{"$f":"SUMIF($K$15:$K$71,Récapitulatif!$B$3,$E$15:$E$71)","v":53},{"$f":"IF(R$6+R$7>0,R7/(R$6+R$7),\"\")","v":0.72602739726027399},{"$f":"SUM($E$15:$E$71)","v":94},{"$f":"IF(T$6+T$7>0,T7/(T$6+T$7),\"\")","v":0.72307692307692306}]
["Récapitulatif joueurs",null,null,null,null,null,null,null,null,null,null,null,null,null,"Total",{"$f":"SUM(P6:P7)","v":44},null,{"$f":"SUM(R6:R7)","v":73},null,{"$f":"SUM(T6:T7)","v":130}]
[]
[]
[]
[]
[]
[]
["Joueur","Adversaire","G/P","Sets gagnés","Sets perdus","pts marqués","pts subis","Date","Compétition","Phase","Saison"]
["GHEVART Jean","MORALES Luis","P",0,2,82,120,"2010-12-03","National T3 FACHES THUMESNIL - RONCHIN","Préqualifs",{"$f":"IF(H16<>\"\",IF(MONTH(H16)>MoisRef,YEAR(H16)&\"-\"&YEAR(H16)+1,YEAR(H16)-1&\"-\"&YEAR(H16)),\"\")","v":"2010-2011"},null,null,null,null,{"$f":"IF($K16=P$1,COUNTIF($C16,\"G\"),0)","v":0},null,{"$f":"IF($K16=R$1,COUNTIF($C16,\"G\"),0)","v":0}]
["GHEVART Jean","EVENOU Roger","P",0,2,67,120,"2010-12-03","National T3 FACHES THUMESNIL - RONCHIN","Préqualifs","2010-2011",null,null,null,null,0,null,0]
["GHEVART Jean","DEMILLY Jean-Sébastien","P",0,2,18,120,"2010-12-03","National T3 FACHES THUMESNIL - RONCHIN","Préqualifs","2010-2011",null,null,null,null,0,null,0]
["GHEVART Jean","CARPENTIER Yohanne","P",0,2,66,120,"2012-01-07","N1 Ligue T3 FACHES THUMESNIL","Poules","2011-2012",null,null,null,null,0,null,0]
["GHEVART Jean","TURPIN Laurent","P",1,2,145,168,"2012-01-07","N1 Ligue T3 FACHES THUMESNIL","Poules","2011-2012",null,null,null,null,0,null,0]
["GHEVART Jean","DECONINCK Franky","P",0,1,70,100,"2012-01-07","N1 Ligue T3 FACHES THUMESNIL","Poules Consolante","2011-2012",null,null,null,null,0,null,0]
["GHEVART Jean","POULEYN André","P",0,1,73,100,"2012-01-07","N1 Ligue T3 FACHES THUMESNIL","Poules Consolante","2011-2012",null,null,null,null,0,null,0]
["GHEVART Jean","LANUSSE Christophe","P",0,2,70,120,"2015-01-23","National T4 LAXOU","Préqualifs","2014-2015",null,null,null,null,0,null,0]
["GHEVART Jean","GOUTHIER Alain","G",2,1,149,172,"2015-01-23","National T4 LAXOU","Préqualifs","2014-2015",null,null,null,null,1,null,0]
["GHEVART Jean","PALOMBA Sergio","P",0,2,97,120,"2015-01-23","National T4 LAXOU","Préqualifs","2014-2015",null,null,null,null,0,null,0]
["GHEVART Jean","TRIFAULT Amand","P",1,3,90,217,"2015-01-24","National T4 LAXOU","Qualifs promotion","2014-2015",null,null,null,null,0,null,0]
["GHEVART Jean","EVENOU Marie-Antoinette","G",3,2,237,212,"2015-01-24","National T4 LAXOU","Qualifs promotion","2014-2015",null,null,null,null,1,null,0]
["GHEVART Jean","WEBER Thierry","P",2,3,178,283,"2015-01-24","National T4 LAXOU","Qualifs promotion","2014-2015",null,null,null,null,0,null,0]
["GHEVART Jean","MICHELOTTI Francesco","P",1,2,124,134,"2015-03-20","National T5 SAINT QUENTIN","Préqualifs","2014-2015",null,null,null,null,0,null,0]
["GHEVART Jean","DEROLEZ Jean-Pierre","G",2,0,120,105,"2015-03-20","National T5 SAINT QUENTIN","Préqualifs","2014-2015",null,null,null,null,1,null,0]
["GHEVART Jean","MAILLE Bernard","P",1,2,148,151,"2015-03-20","National T5 SAINT QUENTIN","Préqualifs","2014-2015",null,null,null,null,0,null,0]
["GHEVART Jean","LEPAGE Patrick","P",2,3,266,278,"2015-03-21","National T5 SAINT QUENTIN","Qualifs promotion","2014-2015",null,null,null,null,0,null,0]
["GHEVART Jean","DI LEO Francois","P",0,3,121,180,"2015-03-21","National T5 SAINT QUENTIN","Qualifs promotion","2014-2015",null,null,null,null,0,null,0]
["GHEVART Jean","LUBREZ Pierre","P",0,1,82,100,"2015-03-14","N1 Ligue T3 ANNOEULLIN","Poules Consolante","2014-2015",null,null,null,null,0,null,0]
["GHEVART Jean","DEPLECHIN Robert","P",0,1,59,100,"2015-03-14","N1 Ligue T3 ANNOEULLIN","Poules Consolante","2014-2015",null,null,null,null,0,null,0]
["GHEVART Jean","LEMÂTRE Alexis","P",0,2,75,120,"2015-03-14","N1 Ligue T3 ANNOEULLIN","Poules","2014-2015",null,null,null,null,0,null,0]
["GHEVART Jean","DEPLECHIN Robert","P",1,2,118,156,"2015-03-14","N1 Ligue T3 ANNOEULLIN","Poules","2014-2015",null,null,null,null,0,null,0]
["GHEVART Jean","POULEYN André","P",0,2,86,120,"2015-10-09","National T1 ROUEN","Préqualifs","2015-2016",null,null,null,null,0,null,0]
["GHEVART Jean","MOREL Pierre-Yves","P",1,2,132,164,"2015-10-09","National T1 ROUEN","Préqualifs","2015-2016",null,null,null,null,0,null,0]
["GHEVART Jean","LANUSSE Christophe","P",0,2,81,120,"2015-10-09","National T1 ROUEN","Préqualifs","2015-2016",null,null,null,null,0,null,0]
["GHEVART Jean","TREAL David","P",0,2,78,120,"2015-11-13","National T2 DOUARNENEZ","Préqualifs","2015-2016",null,null,null,null,0,null,0]
["GHEVART Jean","BARBE Philippe","G",2,0,120,75,"2015-11-13","National T2 DOUARNENEZ","Préqualifs","2015-2016",null,null,null,null,0,null,1]
["GHEVART Jean","SACRE Jean-Yves","P",0,2,85,120,"2015-11-13","National T2 DOUARNENEZ","Préqualifs","2015-2016",null,null,null,null,0,null,0]
["GHEVART Jean","SORTAIS Claude","P",1,3,95.100000001490116,222,"2015-11-14","National T2 DOUARNENEZ","Qualifs promotion","2015-2016",null,null,null,null,0,null,0]
["GHEVART Jean","ZACCAGNINI Antoine","P",0,3,72,180,"2015-11-14","National T2 DOUARNENEZ","Qualifs promotion","2015-2016",null,null,null,null,0,null,0]
["GHEVART Jean","JACQ Laurent","P",0,2,57,120,"2015-12-11","National T3 FACHES THUMESNIL - RONCHIN","Préqualifs","2015-2016",null,null,null,null,0,null,0]
["GHEVART Jean","DEROLEZ Jean-Pierre","P",0,2,83,120,"2015-12-11","National T3 FACHES THUMESNIL - RONCHIN","Préqualifs","2015-2016",null,null,null,null,0,null,0]
["GHEVART Jean","GANGLOFF Jean-Luc","P",0,2,49,120,"2015-12-11","National T3 FACHES THUMESNIL - RONCHIN","Préqualifs","2015-2016",null,null,null,null,0,null,0]
["GHEVART Jean","BONGIOVANNI Giovanni","P",1,2,144,167,"2016-02-05","National T4 SCHILTIGHEIM","Préqualifs","2015-2016",null,null,null,null,0,null,0]
["GHEVART Jean","PAU Mariano","P",0,2,65,120,"2016-02-05","National T4 SCHILTIGHEIM","Préqualifs","2015-2016",null,null,null,null,0,null,0]
["GHEVART Jean","MAILLE Bernard","P",0,2,64,120,"2016-02-05","National T4 SCHILTIGHEIM","Préqualifs","2015-2016",null,null,null,null,0,null,0]
["GHEVART Jean","REBELO Joaquim","P",0,2,75,120,"2016-03-04","National T5 GRAVELINES","Préqualifs","2015-2016",null,null,null,null,0,null,0]
["GHEVART Jean","WEBER Lionel","G",2,0,120,99,"2016-03-04","National T5 GRAVELINES","Préqualifs","2015-2016",null,null,null,null,0,null,1]
["GHEVART Jean","LANUSSE Christophe","P",0,2,79,120,"2016-03-04","National T5 GRAVELINES","Préqualifs","2015-2016",null,null,null,null,0,null,0]
["GHEVART Jean","LANUSSE Christophe","P",1,3,139,238,"2016-03-05","National T5 GRAVELINES","Qualifs promotion","2015-2016",null,null,null,null,0,null,0]
["GHEVART Jean","DEROLEZ Jean-Pierre","P",2,3,264,252,"2016-03-05","National T5 GRAVELINES","Qualifs promotion","2015-2016",null,null,null,null,0,null,0]
["GHEVART Jean","CAUX Frédéric","G",1,0,100,98,"2015-12-05","CONSOLANTE T1 LIGUE 5 QUILLES N1 - FACHES-THUMESNIL","Poules","2015-2016",null,null,null,null,0,null,1]
["GHEVART Jean","KERKHOF Hervé","P",0,1,62,100,"2015-12-05","CONSOLANTE T1 LIGUE 5 QUILLES N1 - FACHES-THUMESNIL","Poules","2015-2016",null,null,null,null,0,null,0]
["GHEVART Jean","WALLART Jean-Charles","P",0,2,46,120,"2015-12-04","T1 LIGUE 5 QUILLES N1 - FACHES-THUMESNIL","Poules","2015-2016",null,null,null,null,0,null,0]
["GHEVART Jean","LEMÂTRE Jérémy","P",0,2,93,120,"2015-12-04","T1 LIGUE 5 QUILLES N1 - FACHES-THUMESNIL","Poules","2015-2016",null,null,null,null,0,null,0]
["GHEVART Jean","LEMÂTRE Alexis","P",0,1,82,100,"2016-01-09","CONSOLANTE  T2 LIGUE 5 QUILLES N1 - GRAVELINES","Qualifications","2015-2016",null,null,null,null,0,null,0]
["GHEVART Jean","ALDEGUER Lionel","G",1,0,100,98,"2016-01-09","CONSOLANTE  T2 LIGUE 5 QUILLES N1 - GRAVELINES","Qualifications","2015-2016",null,null,null,null,0,null,1]
["GHEVART Jean","DEROLEZ Jean-Pierre","G",1,0,100,69,"2016-01-09","CONSOLANTE  T2 LIGUE 5 QUILLES N1 - GRAVELINES","1/2 Finale","2015-2016",null,null,null,null,0,null,1]
["GHEVART Jean","LEMÂTRE Alexis","P",0,1,97,100,"2016-01-09","CONSOLANTE  T2 LIGUE 5 QUILLES N1 - GRAVELINES","Finale","2015-2016",null,null,null,null,0,null,0]
["GHEVART Jean","DEVOS Jackie","P",1,2,143,178,"2016-01-09","T2  LIGUE 5 QUILLES N1 - GRAVELINES","Qualifications","2015-2016",null,null,null,null,0,null,0]
["GHEVART Jean","LEMÂTRE Alexis","G",2,0,120,108,"2016-01-09","T2  LIGUE 5 QUILLES N1 - GRAVELINES","Qualifications","2015-2016",null,null,null,null,0,null,1]
["GHEVART Jean","POULEYN André","P",1,2,146,137,"2016-01-09","T2  LIGUE 5 QUILLES N1 - GRAVELINES","1/8 Finale","2015-2016",null,null,null,null,0,null,0]
["GHEVART Jean","ALDEGUER Lionel","P",1,2,134,144,"2016-01-23","T3 Ligue 5 Quilles N1 - ANNOEULLIN","Qualifications","2015-2016",null,null,null,null,0,null,0]
["GHEVART Jean","CLYNCKE Jean-Jacques","P",0,2,67,120,"2016-01-23","T3 Ligue 5 Quilles N1 - ANNOEULLIN","1/4 Finale","2015-2016",null,null,null,null,0,null,0]
["GHEVART Jean","MAILLE Bernard","G",2,0,120,71,"2016-01-23","T3 Ligue 5 Quilles N1 - ANNOEULLIN","Qualifications","2015-2016",null,null,null,null,0,null,1]
["Fin des données",null,null,null,null,null,null,null,null,null,"",null,null,null,null,0,null,0]

{"sheet":"GREMAIN Gino","index":29,"n_rows":185,"n_cols":22,"rows_kept":185,"cut":false,"hidden":false,"merged":[]}
["GREMAIN Gino",null,null,null,null,null,null,null,null,null,null,null,null,null,null,{"$f":"Récapitulatif!$B$2","v":"2014-2015"},null,{"$f":"Récapitulatif!$B$3","v":"2015-2016"},null,"Toutes saisons"]
["GRAVELINES",null,null,null,null,null,null,null,null,null,null,null,null,null,null,"Nombre","%age","Nombre","%age","Nombre","%age"]
["017226-O",null,null,null,null,null,null,null,null,null,null,null,null,"Matchs","Gagnés",{"$f":"SUM(P$15:P$185)","v":10},{"$f":"IF(P$3+P$4>0,P3/(P$3+P$4),\"\")","v":0.55555555555555558},{"$f":"SUM(R$15:R$185)","v":0},{"$f":"IF(R$3+R$4>0,R3/(R$3+R$4),\"\")","v":""},{"$f":"COUNTIF($C$15:$C$185,\"G\")","v":106},{"$f":"IF(T$3+T$4>0,T3/(T$3+T$4),\"\")","v":0.62721893491124259}]
[null,null,null,null,null,null,null,null,null,null,null,null,null,null,"Perdus",{"$f":"COUNTIF($K$15:$K$185,Récapitulatif!$B$2)-P3","v":8},{"$f":"IF(P$3+P$4>0,P4/(P$3+P$4),\"\")","v":0.44444444444444442},{"$f":"COUNTIF($K$15:$K$185,Récapitulatif!$B$3)-R3","v":0},{"$f":"IF(R$3+R$4>0,R4/(R$3+R$4),\"\")","v":""},{"$f":"COUNTIF($C$15:$C$185,\"P\")","v":63},{"$f":"IF(T$3+T$4>0,T4/(T$3+T$4),\"\")","v":0.37278106508875741}]
["sophie.hulot@gmail.com",null,null,null,null,null,null,null,null,null,null,null,null,null,"Total / Moy.",{"$f":"SUM(P3:P4)","v":18},{"$f":"IF(SUMIF($K$15:$K$185,Récapitulatif!$B$2,$G$15:$G$185)>0,SUMIF($K$15:$K$185,Récapitulatif!$B$2,$F$15:$F$185)/SUMIF($K$15:$K$185,Récapitulatif!$B$2,$G$15:$G$185),\"\")","v":0.99898097826086951},{"$f":"SUM(R3:R4)","v":0},{"$f":"IF(SUMIF($K$15:$K$185,Récapitulatif!$B$3,$G$15:$G$185)>0,SUMIF($K$15:$K$185,Récapitulatif!$B$3,$F$15:$F$185)/SUMIF($K$15:$K$185,Récapitulatif!$B$3,$G$15:$G$185),\"\")","v":""},{"$f":"SUM(T3:T4)","v":169},{"$f":"IF(SUM($G$15:$G$185)>0,SUM($F$15:$F$185)/SUM($G$15:$G$185),\"\")","v":1.0824787694279763},{"$f":"IF(SUMIF($K$15:$K$185,Récapitulatif!$B$2,$G$15:$G$185)+SUMIF($K$15:$K$185,Récapitulatif!$B$3,$G$15:$G$185)>0,(SUMIF($K$15:$K$185,Récapitulatif!$B$2,$F$15:$F$185)+SUMIF($K$15:$K$185,Récapitulatif!$B$3,$F$15:$F$185))/(SUMIF($K$15:$K$185,Récapitulatif!$B$2,$G$15:$G$185)+SUMIF($K$15:$K$185,Récapitulatif!$B$3,$G$15:$G$185)),\"\")","v":0.99898097826086951}]
[null,null,null,null,null,null,null,null,null,null,null,null,null,"Sets","Gagnés",{"$f":"SUMIF($K$15:$K$185,Récapitulatif!$B$2,$D$15:$D$185)","v":33},{"$f":"IF(P$6+P$7>0,P6/(P$6+P$7),\"\")","v":0.54098360655737709},{"$f":"SUMIF($K$15:$K$185,Récapitulatif!$B$3,$D$15:$D$185)","v":0},{"$f":"IF(R$6+R$7>0,R6/(R$6+R$7),\"\")","v":""},{"$f":"SUM($D$15:$D$185)","v":308},{"$f":"IF(T$6+T$7>0,T6/(T$6+T$7),\"\")","v":0.5714285714285714}]
[null,null,null,null,null,null,null,null,null,null,null,null,null,null,"Perdus",{"$f":"SUMIF($K$15:$K$185,Récapitulatif!$B$2,$E$15:$E$185)","v":28},{"$f":"IF(P$6+P$7>0,P7/(P$6+P$7),\"\")","v":0.45901639344262296},{"$f":"SUMIF($K$15:$K$185,Récapitulatif!$B$3,$E$15:$E$185)","v":0},{"$f":"IF(R$6+R$7>0,R7/(R$6+R$7),\"\")","v":""},{"$f":"SUM($E$15:$E$185)","v":231},{"$f":"IF(T$6+T$7>0,T7/(T$6+T$7),\"\")","v":0.42857142857142855}]
["Récapitulatif joueurs",null,null,null,null,null,null,null,null,null,null,null,null,null,"Total",{"$f":"SUM(P6:P7)","v":61},null,{"$f":"SUM(R6:R7)","v":0},null,{"$f":"SUM(T6:T7)","v":539}]
[]
[]
[]
[]
[]
[]
["Joueur","Adversaire","G/P","Sets gagnés","Sets perdus","pts marqués","pts subis","Date","Compétition","Phase","Saison"]
["GREMAIN Gino","J. BLANC","G",2,0,120,76,"2008-10-10","National T1 MAISONS ALFORT","Préqualifs",{"$f":"IF(H16<>\"\",IF(MONTH(H16)>MoisRef,YEAR(H16)&\"-\"&YEAR(H16)+1,YEAR(H16)-1&\"-\"&YEAR(H16)),\"\")","v":"2008-2009"},null,null,null,null,{"$f":"IF($K16=P$1,COUNTIF($C16,\"G\"),0)","v":0},null,{"$f":"IF($K16=R$1,COUNTIF($C16,\"G\"),0)","v":0}]
["GREMAIN Gino","DUVERNOY Christophe","G",2,0,120,77,"2008-10-10","National T1 MAISONS ALFORT","Préqualifs","2008-2009",null,null,null,null,0,null,0]
["GREMAIN Gino","MARTEL Jean-Pierre","G",2,0,120,79,"2008-10-10","National T1 MAISONS ALFORT","Préqualifs","2008-2009",null,null,null,null,0,null,0]
["GREMAIN Gino","DAVID Nicolas","P",1,3,192,222,"2008-10-11","National T1 MAISONS ALFORT","Qualifs Masters","2008-2009",null,null,null,null,0,null,0]
["GREMAIN Gino","TIRALONGO Sébastien","P",1,3,198,198,"2008-10-11","National T1 MAISONS ALFORT","Qualifs Masters","2008-2009",null,null,null,null,0,null,0]
["GREMAIN Gino","SCHLAGDENHAUFFEN Alfred","G",2,0,120,48,"2008-11-14","National T2 SCHILTIGHEIM","Préqualifs","2008-2009",null,null,null,null,0,null,0]
["GREMAIN Gino","BERNARD Yves","G",2,0,120,74,"2008-11-14","National T2 SCHILTIGHEIM","Préqualifs","2008-2009",null,null,null,null,0,null,0]
["GREMAIN Gino","ZACCAGNINI Antoine","G",2,1,125,161,"2008-11-14","National T2 SCHILTIGHEIM","Préqualifs","2008-2009",null,null,null,null,0,null,0]
["GREMAIN Gino","JUBLOT Maxime","P",0,3,86,180,"2008-11-15","National T2 SCHILTIGHEIM","Qualifs Masters","2008-2009",null,null,null,null,0,null,0]
["GREMAIN Gino","DAVID Nicolas","G",3,0,180,131,"2008-11-15","National T2 SCHILTIGHEIM","Qualifs Masters","2008-2009",null,null,null,null,0,null,0]
["GREMAIN Gino","JUBLOT Maxime","P",0,3,121,180,"2008-11-15","National T2 SCHILTIGHEIM","Qualifs Masters","2008-2009",null,null,null,null,0,null,0]
["GREMAIN Gino","VANLERBERGHE Nicolas","G",2,0,120,93,"2008-12-12","National T3 ANNOEULLIN","Préqualifs","2008-2009",null,null,null,null,0,null,0]
["GREMAIN Gino","GUIBERT Philippe","G",2,0,120,80,"2008-12-12","National T3 ANNOEULLIN","Préqualifs","2008-2009",null,null,null,null,0,null,0]
["GREMAIN Gino","MARTEL Jean-Pierre","G",2,0,120,59,"2008-12-12","National T3 ANNOEULLIN","Préqualifs","2008-2009",null,null,null,null,0,null,0]
["GREMAIN Gino","MANZOLI Angelo","P",0,3,110,180,"2008-12-13","National T3 ANNOEULLIN","Qualifs Masters","2008-2009",null,null,null,null,0,null,0]
["GREMAIN Gino","MARCHISSEAU Stéphane","G",3,2,273,238,"2008-12-13","National T3 ANNOEULLIN","Qualifs Masters","2008-2009",null,null,null,null,0,null,0]
["GREMAIN Gino","GUILLEMANT David","P",1,3,190,222,"2008-12-13","National T3 ANNOEULLIN","Qualifs Masters","2008-2009",null,null,null,null,0,null,0]
["GREMAIN Gino","QUENEY Damien","G",2,0,120,33,"2009-02-06","National T4 LAXOU","Préqualifs","2008-2009",null,null,null,null,0,null,0]
["GREMAIN Gino","GUIBERT Philippe","G",2,0,120,87,"2009-02-06","National T4 LAXOU","Préqualifs","2008-2009",null,null,null,null,0,null,0]
["GREMAIN Gino","SCHUB Philippe","G",2,0,120,36,"2009-02-06","National T4 LAXOU","Préqualifs","2008-2009",null,null,null,null,0,null,0]
["GREMAIN Gino","DI PALMA Angelo","P",0,3,138,180,"2009-02-07","National T4 LAXOU","Qualifs Masters","2008-2009",null,null,null,null,0,null,0]
["GREMAIN Gino","BOUVIER Philippe","P",2,3,239,242,"2009-02-07","National T4 LAXOU","Qualifs Masters","2008-2009",null,null,null,null,0,null,0]
["GREMAIN Gino","MARTEL Jean-Pierre","G",2,0,120,93,"2009-02-14","N1 Ligue T1 ARRAS","Poules","2008-2009",null,null,null,null,0,null,0]
["GREMAIN Gino","MARTEL Jean-Pierre","G",2,0,120,40,"2009-02-14","N1 Ligue T1 ARRAS","Poules","2008-2009",null,null,null,null,0,null,0]
["GREMAIN Gino","TURPIN Laurent","G",2,1,179,147,"2009-02-14","N1 Ligue T1 ARRAS","1/4 Finale","2008-2009",null,null,null,null,0,null,0]
["GREMAIN Gino","WALLART Jean-Charles","G",2,0,120,105,"2009-02-14","N1 Ligue T1 ARRAS","1/2 Finale","2008-2009",null,null,null,null,0,null,0]
["GREMAIN Gino","DELSOL Philippe","P",1,2,171,172,"2009-02-14","N1 Ligue T1 ARRAS","Finale","2008-2009",null,null,null,null,0,null,0]
["GREMAIN Gino","GUILLEMANT David","P",1,2,120,166,"2009-03-07","N1 Ligue T2 ANNOEULLIN","Poules","2008-2009",null,null,null,null,0,null,0]
["GREMAIN Gino","CAUX Frédéric","G",2,0,120,91,"2009-03-07","N1 Ligue T2 ANNOEULLIN","Poules","2008-2009",null,null,null,null,0,null,0]
["GREMAIN Gino","BASTENIER Jean","G",2,1,169,127,"2009-03-07","N1 Ligue T2 ANNOEULLIN","1/4 Finale","2008-2009",null,null,null,null,0,null,0]
["GREMAIN Gino","DELSOL Philippe","P",0,2,93,120,"2009-03-07","N1 Ligue T2 ANNOEULLIN","1/2 Finale","2008-2009",null,null,null,null,0,null,0]
["GREMAIN Gino","PALOMBA Sergio","G",2,0,120,59,"2009-03-20","National T5 ANDERNOS","Préqualifs","2008-2009",null,null,null,null,0,null,0]
["GREMAIN Gino","BASTENIER Jean","G",2,1,155,104,"2009-03-20","National T5 ANDERNOS","Préqualifs",{"$f":"IF(H48<>\"\",IF(MONTH(H48)>MoisRef,YEAR(H48)&\"-\"&YEAR(H48)+1,YEAR(H48)-1&\"-\"&YEAR(H48)),\"\")","v":"2008-2009"},null,null,null,null,0,null,0]
["GREMAIN Gino","WALLART Jean-Charles","G",2,1,163,133,"2009-03-20","National T5 ANDERNOS","Préqualifs","2008-2009",null,null,null,null,0,null,0]
["GREMAIN Gino","HINGANT Matthieu","P",2,3,231,255,"2009-03-21","National T5 ANDERNOS","Qualifs Masters","2008-2009",null,null,null,null,0,null,0]
["GREMAIN Gino","DAVOINE Bruno","G",3,1,207,205,"2009-03-21","National T5 ANDERNOS","Qualifs Masters","2008-2009",null,null,null,null,0,null,0]
["GREMAIN Gino","REBELO Joaquim","G",3,1,210,171,"2009-03-21","National T5 ANDERNOS","Qualifs Masters","2008-2009",null,null,null,null,0,null,0]
["GREMAIN Gino","MANZOLI Angelo","G",3,2,244,233,"2009-03-22","National T5 ANDERNOS","1/4 finale Masters","2008-2009",null,null,null,null,0,null,0]
["GREMAIN Gino","CARREAU Michaël","G",3,1,218,165,"2009-03-22","National T5 ANDERNOS","1/2 finale Masters","2008-2009",null,null,null,null,0,null,0]
["GREMAIN Gino","GUILLEMANT Alexandre","P",0,3,104,180,"2009-03-22","National T5 ANDERNOS","Finale Masters","2008-2009",null,null,null,null,0,null,0]
["GREMAIN Gino","DUVERNOY Christophe","P",2,3,237,266,"2009-04-18","National T6 CAUDAN","Qualifs Masters","2008-2009",null,null,null,null,0,null,0]
["GREMAIN Gino","DEMILLY Jean-Sébastien","G",3,0,180,131,"2009-04-18","National T6 CAUDAN","Qualifs Masters","2008-2009",null,null,null,null,0,null,0]
["GREMAIN Gino","DUVERNOY Christophe","P",1,3,170,224,"2009-04-18","National T6 CAUDAN","Qualifs Masters","2008-2009",null,null,null,null,0,null,0]
["GREMAIN Gino","J. BLANC","G",2,0,120,84,"2009-11-06","National T1 SCHILTIGHEIM","Préqualifs","2009-2010",null,null,null,null,0,null,0]
["GREMAIN Gino","CAUX Frédéric","G",2,0,120,87,"2009-11-06","National T1 SCHILTIGHEIM","Préqualifs","2009-2010",null,null,null,null,0,null,0]
["GREMAIN Gino","ROBIC Daniel","G",2,1,160,128,"2009-11-06","National T1 SCHILTIGHEIM","Préqualifs","2009-2010",null,null,null,null,0,null,0]
["GREMAIN Gino","CAUX Frédéric","G",3,1,236,191,"2009-11-07","National T1 SCHILTIGHEIM","Qualifs promotion","2009-2010",null,null,null,null,0,null,0]
["GREMAIN Gino","ZACCAGNINI Antoine","P",1,3,210,228,"2009-11-07","National T1 SCHILTIGHEIM","Qualifs promotion","2009-2010",null,null,null,null,0,null,0]
["GREMAIN Gino","CAUX Frédéric","G",3,0,180,98,"2009-11-07","National T1 SCHILTIGHEIM","Qualifs promotion","2009-2010",null,null,null,null,0,null,0]
["GREMAIN Gino","BOUVIER Philippe","G",3,0,180,149,"2009-11-08","National T1 SCHILTIGHEIM","1/8 finale promotion","2009-2010",null,null,null,null,0,null,0]
["GREMAIN Gino","TIRALONGO Sébastien","G",3,1,210,173,"2009-11-08","National T1 SCHILTIGHEIM"," 1/4 finale promotion","2009-2010",null,null,null,null,0,null,0]
["GREMAIN Gino","DEMILLY Jean-Sébastien","G",3,1,229,183,"2009-11-08","National T1 SCHILTIGHEIM","1/2 finale promotion","2009-2010",null,null,null,null,0,null,0]
["GREMAIN Gino","JUBLOT Denis","G",3,1,203,140,"2009-11-08","National T1 SCHILTIGHEIM","Finale promotion","2009-2010",null,null,null,null,0,null,0]
["GREMAIN Gino","STOPIN Gilles","G",2,0,120,77,"2009-11-21","N1 Ligue T1 GRAVELINES","Poules","2009-2010",null,null,null,null,0,null,0]
["GREMAIN Gino","TRIPLET Gilbert","G",2,0,120,92,"2009-11-21","N1 Ligue T1 GRAVELINES","Poules","2009-2010",null,null,null,null,0,null,0]
["GREMAIN Gino","GEETS Patrice","G",2,0,120,63,"2009-11-21","N1 Ligue T1 GRAVELINES","1/4 Finale","2009-2010",null,null,null,null,0,null,0]
["GREMAIN Gino","HERREBRECHT Thierry","G",2,0,120,79,"2009-11-21","N1 Ligue T1 GRAVELINES","1/2 Finale","2009-2010",null,null,null,null,0,null,0]
["GREMAIN Gino","LAMBIASE Guiseppe","P",0,2,90,120,"2009-11-21","N1 Ligue T1 GRAVELINES","Finale","2009-2010",null,null,null,null,0,null,0]
["GREMAIN Gino","FERON Patrick","G",3,0,180,83,"2009-12-05","National T2 ANNOEULLIN","Qualifs Masters","2009-2010",null,null,null,null,0,null,0]
["GREMAIN Gino","GUILLEMANT Alexandre","P",1,3,173,230,"2009-12-05","National T2 ANNOEULLIN","Qualifs Masters","2009-2010",null,null,null,null,0,null,0]
["GREMAIN Gino","FERON Patrick","P",0,3,123,180,"2009-12-05","National T2 ANNOEULLIN","Qualifs Masters","2009-2010",null,null,null,null,0,null,0]
["GREMAIN Gino","BASTENIER Jean","G",2,0,120,84,"2009-12-19","N1 Ligue T2 ANNOEULLIN","Poules","2009-2010",null,null,null,null,0,null,0]
["GREMAIN Gino","DEROLEZ Jean-Pierre","G",2,0,120,57,"2009-12-19","N1 Ligue T2 ANNOEULLIN","Poules","2009-2010",null,null,null,null,0,null,0]
["GREMAIN Gino","GEETS Patrice","P",0,2,116,120,"2009-12-19","N1 Ligue T2 ANNOEULLIN","1/4 Finale","2009-2010",null,null,null,null,0,null,0]
["GREMAIN Gino","DEROLEZ Jean-Pierre","G",2,0,120,18,"2010-01-16","N1 Ligue T3 ANNOEULLIN","Poules",{"$f":"IF(H80<>\"\",IF(MONTH(H80)>MoisRef,YEAR(H80)&\"-\"&YEAR(H80)+1,YEAR(H80)-1&\"-\"&YEAR(H80)),\"\")","v":"2009-2010"},null,null,null,null,{"$f":"IF($K80=P$1,COUNTIF($C80,\"G\"),0)","v":0},null,{"$f":"IF($K80=R$1,COUNTIF($C80,\"G\"),0)","v":0}]
["GREMAIN Gino","CARPENTIER Yohanne","G",2,0,120,86,"2010-01-16","N1 Ligue T3 ANNOEULLIN","Poules","2009-2010",null,null,null,null,0,null,0]
["GREMAIN Gino","MAILLE Bernard","G",2,1,158,143,"2010-01-16","N1 Ligue T3 ANNOEULLIN","1/4 Finale","2009-2010",null,null,null,null,0,null,0]
["GREMAIN Gino","DELSOL Philippe","P",0,2,89,120,"2010-01-16","N1 Ligue T3 ANNOEULLIN","1/2 Finale","2009-2010",null,null,null,null,0,null,0]
["GREMAIN Gino","BAYON Pascal","G",3,0,180,112,"2010-01-30","National T3 ORLEANS","Qualifs Masters","2009-2010",null,null,null,null,0,null,0]
["GREMAIN Gino","JUBLOT Maxime","P",2,3,232,229,"2010-01-30","National T3 ORLEANS","Qualifs Masters","2009-2010",null,null,null,null,0,null,0]
["GREMAIN Gino","DEMILLY Jean-Sébastien","P",1,3,158,221,"2010-01-30","National T3 ORLEANS","Qualifs Masters","2009-2010",null,null,null,null,0,null,0]
["GREMAIN Gino","BAYON Pascal","G",3,0,180,112,"2010-01-30","National T3 ORLEANS","Qualifs Masters","2009-2010",null,null,null,null,0,null,0]
["GREMAIN Gino","JUBLOT Maxime","P",2,3,232,229,"2010-01-30","National T3 ORLEANS","Qualifs Masters","2009-2010",null,null,null,null,0,null,0]
["GREMAIN Gino","DEMILLY Jean-Sébastien","P",1,3,158,221,"2010-01-30","National T3 ORLEANS","Qualifs Masters","2009-2010",null,null,null,null,0,null,0]
["GREMAIN Gino","DUVERNOY Christophe","G",3,2,260,286,"2010-02-27","National T4 ROUEN","Qualifs Masters","2009-2010",null,null,null,null,0,null,0]
["GREMAIN Gino","GUILLEMANT Alexandre","P",0,3,124,180,"2010-02-27","National T4 ROUEN","Qualifs Masters","2009-2010",null,null,null,null,0,null,0]
["GREMAIN Gino","DUVERNOY Christophe","P",0,3,137,180,"2010-02-27","National T4 ROUEN","Qualifs Masters","2009-2010",null,null,null,null,0,null,0]
["GREMAIN Gino","BOUVIER Philippe","G",3,2,261,239,"2010-03-27","National T5 ST SEBASTIEN / LOIRE","Qualifs Masters","2009-2010",null,null,null,null,0,null,0]
["GREMAIN Gino","DAVOINE Bruno","G",3,1,237,168,"2010-03-27","National T5 ST SEBASTIEN / LOIRE","Qualifs Masters","2009-2010",null,null,null,null,0,null,0]
["GREMAIN Gino","DUVERNOY Christophe","P",0,3,114,180,"2010-03-28","National T5 ST SEBASTIEN / LOIRE","1/4 finale Masters","2009-2010",null,null,null,null,0,null,0]
["GREMAIN Gino","BAYON Pascal","G",3,1,222,168,"2010-04-24","National T6 ANDERNOS","Qualifs Masters","2009-2010",null,null,null,null,0,null,0]
["GREMAIN Gino","DAVID Nicolas","P",0,3,108,180,"2010-04-24","National T6 ANDERNOS","Qualifs Masters","2009-2010",null,null,null,null,0,null,0]
["GREMAIN Gino","TRIFAULT Amand","G",3,0,180,96,"2010-04-24","National T6 ANDERNOS","Qualifs Masters","2009-2010",null,null,null,null,0,null,0]
["GREMAIN Gino","GUILLEMANT Alexandre","P",0,3,77,180,"2010-04-25","National T6 ANDERNOS","1/4 finale Masters","2009-2010",null,null,null,null,0,null,0]
["GREMAIN Gino","ZACCAGNINI Antoine","G",3,2,243,205,"2010-10-08","National T1 CESTAS","Qualifs Masters","2010-2011",null,null,null,null,0,null,0]
["GREMAIN Gino","GUILLEMANT Alexandre","P",2,3,177,279,"2010-10-08","National T1 CESTAS","Qualifs Masters","2010-2011",null,null,null,null,0,null,0]
["GREMAIN Gino","TRIFAULT Amand","P",1,3,157,219,"2010-10-08","National T1 CESTAS","Qualifs Masters","2010-2011",null,null,null,null,0,null,0]
["GREMAIN Gino","VEREECQUE Ludovic","G",2,0,120,59,"2010-12-03","National T3 FACHES THUMESNIL - RONCHIN","Préqualifs","2010-2011",null,null,null,null,0,null,0]
["GREMAIN Gino","DELATTRE Hervé","G",2,1,170,144,"2010-12-03","National T3 FACHES THUMESNIL - RONCHIN","Préqualifs","2010-2011",null,null,null,null,0,null,0]
["GREMAIN Gino","GOUTHIER Alain","G",2,0,120,64,"2010-12-03","National T3 FACHES THUMESNIL - RONCHIN","Préqualifs","2010-2011",null,null,null,null,0,null,0]
["GREMAIN Gino","PICOT Sylvain","G",3,2,270,252,"2010-12-04","National T3 FACHES THUMESNIL - RONCHIN","Qualifs Masters","2010-2011",null,null,null,null,0,null,0]
["GREMAIN Gino","DAVID Nicolas","P",1,3,207,229,"2010-12-04","National T3 FACHES THUMESNIL - RONCHIN","Qualifs Masters","2010-2011",null,null,null,null,0,null,0]
["GREMAIN Gino","TIRALONGO Sébastien","G",3,0,180,117,"2010-12-04","National T3 FACHES THUMESNIL - RONCHIN","Qualifs Masters","2010-2011",null,null,null,null,0,null,0]
["GREMAIN Gino","DAVID Nicolas","G",3,1,194,213,"2010-12-05","National T3 FACHES THUMESNIL - RONCHIN","1/4 finale Masters","2010-2011",null,null,null,null,0,null,0]
["GREMAIN Gino","GUILLEMANT Alexandre","P",0,3,88,180,"2010-12-05","National T3 FACHES THUMESNIL - RONCHIN","1/2 finale Masters","2010-2011",null,null,null,null,0,null,0]
["GREMAIN Gino","BLANC J.","G",2,0,120,66,"2011-02-11","National T4 ROUEN","Préqualifs","2010-2011",null,null,null,null,0,null,0]
["GREMAIN Gino","GUILLEMANT Jean-Marc","G",2,0,120,80,"2011-02-11","National T4 ROUEN","Préqualifs","2010-2011",null,null,null,null,0,null,0]
["GREMAIN Gino","MICHELOTTI Francesco","G",2,0,120,57,"2011-02-11","National T4 ROUEN","Préqualifs","2010-2011",null,null,null,null,0,null,0]
["GREMAIN Gino","DAVID Nicolas","G",3,1,234,181,"2011-02-12","National T4 ROUEN","Qualifs Masters","2010-2011",null,null,null,null,0,null,0]
["GREMAIN Gino","PICOT Sylvain","P",2,3,260,241,"2011-02-12","National T4 ROUEN","Qualifs Masters","2010-2011",null,null,null,null,0,null,0]
["GREMAIN Gino","GUILLEMANT David","G",3,1,229,144,"2011-02-12","National T4 ROUEN","Qualifs Masters","2010-2011",null,null,null,null,0,null,0]
["GREMAIN Gino","PICOT Sylvain","P",2,3,250,275,"2011-02-13","National T4 ROUEN","1/4 finale Masters","2010-2011",null,null,null,null,0,null,0]
["GREMAIN Gino","BLANC J.","G",2,0,120,62,"2011-03-25","National T5 BLOIS","Préqualifs","2010-2011",null,null,null,null,0,null,0]
["GREMAIN Gino","SCHUB Philippe","G",2,0,120,77,"2011-03-25","National T5 BLOIS","Préqualifs","2010-2011",null,null,null,null,0,null,0]
["GREMAIN Gino","GANGLOFF Jean-Luc","G",2,0,120,52,"2011-03-25","National T5 BLOIS","Préqualifs","2010-2011",null,null,null,null,0,null,0]
["GREMAIN Gino","DAVID Nicolas","P",0,3,141,180,"2011-03-26","National T5 BLOIS","Qualifs Masters","2010-2011",null,null,null,null,0,null,0]
["GREMAIN Gino","DEMILLY Jean-Sébastien","P",1,3,146,227,"2011-03-26","National T5 BLOIS","Qualifs Masters","2010-2011",null,null,null,null,0,null,0]
["GREMAIN Gino","BAYON Pascal","G",3,1,224,171,"2011-04-16","National T6 CHAMPAGNE sur SEINE / NANDY","Qualifs Masters","2010-2011",null,null,null,null,0,null,0]
["GREMAIN Gino","DAVID Nicolas","P",1,3,159,215,"2011-04-16","National T6 CHAMPAGNE sur SEINE / NANDY","Qualifs Masters","2010-2011",null,null,null,null,0,null,0]
["GREMAIN Gino","MORALES Luis","P",2,3,266,280,"2011-04-16","National T6 CHAMPAGNE sur SEINE / NANDY","Qualifs Masters","2010-2011",null,null,null,null,0,null,0]
["GREMAIN Gino","DELAHAYE Thierry","G",2,0,120,67,"2011-09-30","National T1 CESTAS","Préqualifs","2011-2012",null,null,null,null,0,null,0]
["GREMAIN Gino","SCHUB Philippe","G",2,0,120,72,"2011-09-30","National T1 CESTAS","Préqualifs","2011-2012",null,null,null,null,0,null,0]
["GREMAIN Gino","WEBER Thierry","G",2,0,120,42,"2011-09-30","National T1 CESTAS","Préqualifs","2011-2012",null,null,null,null,0,null,0]
["GREMAIN Gino","RACARY Thibault","P",0,3,131,180,"2011-10-01","National T1 CESTAS","Qualifs Masters","2011-2012",null,null,null,null,0,null,0]
["GREMAIN Gino","ZILLIG Pierre","P",2,3,213,244,"2011-10-01","National T1 CESTAS","Qualifs Masters","2011-2012",null,null,null,null,0,null,0]
["GREMAIN Gino","KLEIN David","G",2,0,120,95,"2011-11-04","National T2 SCHILTIGHEIM","Préqualifs","2011-2012",null,null,null,null,0,null,0]
["GREMAIN Gino","DAVOINE Bruno","G",2,0,120,90,"2011-11-04","National T2 SCHILTIGHEIM","Préqualifs","2011-2012",null,null,null,null,0,null,0]
["GREMAIN Gino","COTTEN Jean-Pierre","G",2,0,120,73,"2011-11-04","National T2 SCHILTIGHEIM","Préqualifs","2011-2012",null,null,null,null,0,null,0]
["GREMAIN Gino","HINGANT Matthieu","P",0,3,129,180,"2011-11-05","National T2 SCHILTIGHEIM","Qualifs Masters","2011-2012",null,null,null,null,0,null,0]
["GREMAIN Gino","BOUVIER Philippe","G",3,0,180,88,"2011-11-05","National T2 SCHILTIGHEIM","Qualifs Masters","2011-2012",null,null,null,null,0,null,0]
["GREMAIN Gino","RACARY Thibault","P",1,3,195,235,"2011-11-05","National T2 SCHILTIGHEIM","Qualifs Masters","2011-2012",null,null,null,null,0,null,0]
["GREMAIN Gino","BENJAMIN Eric","G",2,1,173,125,"2011-12-02","National T3 ANNOEULLIN","Préqualifs","2011-2012",null,null,null,null,0,null,0]
["GREMAIN Gino","MICHELOTTI Francesco","G",2,0,120,93,"2011-12-02","National T3 ANNOEULLIN","Préqualifs","2011-2012",null,null,null,null,0,null,0]
["GREMAIN Gino","GOUSSETIS Georges","G",2,0,120,52,"2011-12-02","National T3 ANNOEULLIN","Préqualifs","2011-2012",null,null,null,null,0,null,0]
["GREMAIN Gino","CARREAU Michaël","G",3,0,180,125,"2011-12-03","National T3 ANNOEULLIN","Qualifs Masters","2011-2012",null,null,null,null,0,null,0]
["GREMAIN Gino","ZACCAGNINI Antoine","P",1,3,151,234,"2011-12-03","National T3 ANNOEULLIN","Qualifs Masters","2011-2012",null,null,null,null,0,null,0]
["GREMAIN Gino","PICOT Sylvain","G",3,2,282,278,"2011-12-03","National T3 ANNOEULLIN","Qualifs Masters","2011-2012",null,null,null,null,0,null,0]
["GREMAIN Gino","DAVID Nicolas","P",2,3,269,266,"2011-12-04","National T3 ANNOEULLIN","1/4 finale Masters","2011-2012",null,null,null,null,0,null,0]
["GREMAIN Gino","J BLANC","G",2,0,120,80,"2012-02-17","National T4 ORLEANS","Préqualifs","2011-2012",null,null,null,null,{"$f":"IF($K144=P$1,COUNTIF($C144,\"G\"),0)","v":0},null,{"$f":"IF($K144=R$1,COUNTIF($C144,\"G\"),0)","v":0}]
["GREMAIN Gino","DERIU Georges","G",2,0,120,91,"2012-02-17","National T4 ORLEANS","Préqualifs","2011-2012",null,null,null,null,0,null,0]
["GREMAIN Gino","SACRE Jean-Yves","G",2,0,120,75,"2012-02-17","National T4 ORLEANS","Préqualifs","2011-2012",null,null,null,null,0,null,0]
["GREMAIN Gino","RACARY Thibault","P",1,3,167,231,"2012-02-18","National T4 ORLEANS","Qualifs Masters","2011-2012",null,null,null,null,0,null,0]
["GREMAIN Gino","DAVID Nicolas","P",2,3,240,207,"2012-02-18","National T4 ORLEANS","Qualifs Masters","2011-2012",null,null,null,null,0,null,0]
["GREMAIN Gino","CARREAU Michaël","P",0,3,100,180,"2012-05-22","National TChampionnat de France 2011 2012","Qualifications","2011-2012",null,null,null,null,0,null,0]
["GREMAIN Gino","DAVID Nicolas","P",0,3,126,180,"2012-05-22","National TChampionnat de France 2011 2012","Qualifications","2011-2012",null,null,null,null,0,null,0]
["GREMAIN Gino","DEMILLY Jean-Sébastien","P",2,3,183,223,"2012-10-06","National T1 BLOIS","Qualifs Masters","2012-2013",null,null,null,null,0,null,0]
["GREMAIN Gino","DUVERNOY Christophe","P",0,3,107,150,"2012-10-06","National T1 BLOIS","Qualifs Masters","2012-2013",null,null,null,null,0,null,0]
["GREMAIN Gino","GANGLOFF Jean-Luc","G",2,0,100,37,"2012-10-05","National T1 BLOIS","Préqualifs","2012-2013",null,null,null,null,0,null,0]
["GREMAIN Gino","GUILLEMANT Jean-Marc","G",2,0,100,75,"2012-10-05","National T1 BLOIS","Préqualifs","2012-2013",null,null,null,null,0,null,0]
["GREMAIN Gino","MAIZOUE Alain","G",2,0,100,26,"2012-10-05","National T1 BLOIS","Préqualifs","2012-2013",null,null,null,null,0,null,0]
["GREMAIN Gino","PERRIN Eric","G",3,1,183,127,"2012-10-05","National T1 BLOIS","Barrage Qualifs masters","2012-2013",null,null,null,null,0,null,0]
["GREMAIN Gino","DAVID Nicolas","P",1,3,134,164,"2013-03-09","National T5 LAXOU","Qualifs Masters","2012-2013",null,null,null,null,0,null,0]
["GREMAIN Gino","DI PALMA Angelo","G",2,1,125,110,"2013-03-08","National T5 LAXOU","Préqualifs","2012-2013",null,null,null,null,0,null,0]
["GREMAIN Gino","HINGANT Matthieu","P",1,3,185,189,"2013-03-09","National T5 LAXOU","Qualifs Masters","2012-2013",null,null,null,null,0,null,0]
["GREMAIN Gino","POULEYN André","G",3,1,178,162,"2013-03-09","National T5 LAXOU","Qualifs Masters","2012-2013",null,null,null,null,0,null,0]
["GREMAIN Gino","VICARY Marc","G",2,1,110,119,"2013-03-08","National T5 LAXOU","Préqualifs","2012-2013",null,null,null,null,0,null,0]
["GREMAIN Gino","WEBER Thierry","G",2,1,149,115,"2013-03-08","National T5 LAXOU","Préqualifs","2012-2013",null,null,null,null,0,null,0]
["GREMAIN Gino","DUROYON Didier","G",3,1,198,105,"2013-06-15","CHAMPIONNAT DE FRANCE N1 CHAMPAGNE SUR SEINE","Qualifs","2012-2013",null,null,null,null,0,null,0]
["GREMAIN Gino","LHEUREUX François","G",3,2,237,215,"2013-06-15","CHAMPIONNAT DE FRANCE N1 CHAMPAGNE SUR SEINE","Qualifs","2012-2013",null,null,null,null,0,null,0]
["GREMAIN Gino","POULEYN André","G",3,0,150,69,"2013-06-15","CHAMPIONNAT DE FRANCE N1 CHAMPAGNE SUR SEINE","Qualifs","2012-2013",null,null,null,null,0,null,0]
["GREMAIN Gino","ZILLIG Pierre","P",2,3,212,225,"2013-06-16","CHAMPIONNAT DE FRANCE N1 CHAMPAGNE SUR SEINE","1/8 finale","2012-2013",null,null,null,null,0,null,0]
["GREMAIN GINO","TRIFAULT AMAND","G",3,2,252,232,"2014-10-18","National T1 GRAVELINES","Qualifs Masters","2014-2015",null,null,null,null,1,null,0]
["GREMAIN GINO","CARREAU MICHAËL","P",1,3,128,237,"2014-10-18","National T1 GRAVELINES","Qualifs Masters","2014-2015",null,null,null,null,0,null,0]
["GREMAIN GINO","MANZOLI ANGELO","P",1,3,148,221,"2014-10-18","National T1 GRAVELINES","Qualifs Masters","2014-2015",null,null,null,null,0,null,0]
["GREMAIN Gino","POULEYN André","G",2,0,120,88,"2014-11-28","National T2 FACHES THUMESNIL - RONCHIN","Préqualifs","2014-2015",null,null,null,null,1,null,0]
["GREMAIN Gino","NAHIRNYJ Nicolas","G",2,0,120,74,"2014-11-28","National T2 FACHES THUMESNIL - RONCHIN","Préqualifs","2014-2015",null,null,null,null,1,null,0]
["GREMAIN Gino","LOTHE Jean-Luc","G",2,0,120,57,"2014-11-28","National T2 FACHES THUMESNIL - RONCHIN","Préqualifs","2014-2015",null,null,null,null,1,null,0]
["GREMAIN Gino","PICOT Sylvain","P",2,3,248,246,"2014-11-29","National T2 FACHES THUMESNIL - RONCHIN","Qualifs Masters","2014-2015",null,null,null,null,0,null,0]
["GREMAIN Gino","BOUVIER Philippe","P",2,3,262,275,"2014-11-29","National T2 FACHES THUMESNIL - RONCHIN","Qualifs Masters","2014-2015",null,null,null,null,0,null,0]
["GREMAIN Gino","TREAL Jean","G",2,0,120,90,"2014-12-12","National T3 DOUARNENEZ","Préqualifs","2014-2015",null,null,null,null,1,null,0]
["GREMAIN Gino","PONTHIEUX Christian","G",2,0,120,67,"2014-12-12","National T3 DOUARNENEZ","Préqualifs","2014-2015",null,null,null,null,1,null,0]
["GREMAIN Gino","LEGRAND Guy","G",2,1,149,129,"2014-12-12","National T3 DOUARNENEZ","Préqualifs","2014-2015",null,null,null,null,1,null,0]
["GREMAIN Gino","RACARY Thibault","P",2,3,231,284,"2014-12-13","National T3 DOUARNENEZ","Qualifs Masters","2014-2015",null,null,null,null,0,null,0]
["GREMAIN Gino","GUILLEMANT David","P",1,3,179,235,"2014-12-13","National T3 DOUARNENEZ","Qualifs Masters","2014-2015",null,null,null,null,0,null,0]
["GREMAIN Gino","EVENOU Roger","G",2,0,120,70,"2015-03-20","National T5 SAINT QUENTIN","Préqualifs","2014-2015",null,null,null,null,1,null,0]
["GREMAIN Gino","DRONET Chrystel","G",2,1,150,141,"2015-03-20","National T5 SAINT QUENTIN","Préqualifs","2014-2015",null,null,null,null,1,null,0]
["GREMAIN Gino","LORTHIOIR Jean-Luc","G",2,0,120,48,"2015-03-20","National T5 SAINT QUENTIN","Préqualifs","2014-2015",null,null,null,null,1,null,0]
["GREMAIN Gino","CARREAU Mickaël","P",1,3,145,217,"2015-03-21","National T5 SAINT QUENTIN","Qualifs Masters","2014-2015",null,null,null,null,0,null,0]
["GREMAIN Gino","ZACCAGNINI Antoine","P",2,3,209,233,"2015-03-21","National T5 SAINT QUENTIN","Qualifs Masters","2014-2015",null,null,null,null,0,null,0]
["Fin des données",null,null,null,null,null,null,null,null,null,"",null,null,null,null,0,null,0]

{"sheet":"GROLLET Fabien","index":30,"n_rows":26,"n_cols":22,"rows_kept":26,"cut":false,"hidden":false,"merged":[]}
["GROLLET Fabien",null,null,null,null,null,null,null,null,null,null,null,null,null,null,{"$f":"Récapitulatif!$B$2","v":"2014-2015"},null,{"$f":"Récapitulatif!$B$3","v":"2015-2016"},null,"Toutes saisons"]
["VILLENEUVE D'ASCQ",null,null,null,null,null,null,null,null,null,null,null,null,null,null,"Nombre","%age","Nombre","%age","Nombre","%age"]
["110544-S",null,null,null,null,null,null,null,null,null,null,null,null,"Matchs","Gagnés",{"$f":"SUM(P$15:P$26)","v":0},{"$f":"IF(P$3+P$4>0,P3/(P$3+P$4),\"\")","v":""},{"$f":"SUM(R$15:R$26)","v":0},{"$f":"IF(R$3+R$4>0,R3/(R$3+R$4),\"\")","v":""},{"$f":"COUNTIF($C$15:$C$26,\"G\")","v":4},{"$f":"IF(T$3+T$4>0,T3/(T$3+T$4),\"\")","v":0.4}]
[null,null,null,null,null,null,null,null,null,null,null,null,null,null,"Perdus",{"$f":"COUNTIF($K$15:$K$26,Récapitulatif!$B$2)-P3","v":0},{"$f":"IF(P$3+P$4>0,P4/(P$3+P$4),\"\")","v":""},{"$f":"COUNTIF($K$15:$K$26,Récapitulatif!$B$3)-R3","v":0},{"$f":"IF(R$3+R$4>0,R4/(R$3+R$4),\"\")","v":""},{"$f":"COUNTIF($C$15:$C$26,\"P\")","v":6},{"$f":"IF(T$3+T$4>0,T4/(T$3+T$4),\"\")","v":0.6}]
[null,null,null,null,null,null,null,null,null,null,null,null,null,null,"Total / Moy.",{"$f":"SUM(P3:P4)","v":0},{"$f":"IF(SUMIF($K$15:$K$26,Récapitulatif!$B$2,$G$15:$G$26)>0,SUMIF($K$15:$K$26,Récapitulatif!$B$2,$F$15:$F$26)/SUMIF($K$15:$K$26,Récapitulatif!$B$2,$G$15:$G$26),\"\")","v":""},{"$f":"SUM(R3:R4)","v":0},{"$f":"IF(SUMIF($K$15:$K$26,Récapitulatif!$B$3,$G$15:$G$26)>0,SUMIF($K$15:$K$26,Récapitulatif!$B$3,$F$15:$F$26)/SUMIF($K$15:$K$26,Récapitulatif!$B$3,$G$15:$G$26),\"\")","v":""},{"$f":"SUM(T3:T4)","v":10},{"$f":"IF(SUM($G$15:$G$26)>0,SUM($F$15:$F$26)/SUM($G$15:$G$26),\"\")","v":0.87860394537177544},{"$f":"IF(SUMIF($K$15:$K$26,Récapitulatif!$B$2,$G$15:$G$26)+SUMIF($K$15:$K$26,Récapitulatif!$B$3,$G$15:$G$26)>0,(SUMIF($K$15:$K$26,Récapitulatif!$B$2,$F$15:$F$26)+SUMIF($K$15:$K$26,Récapitulatif!$B$3,$F$15:$F$26))/(SUMIF($K$15:$K$26,Récapitulatif!$B$2,$G$15:$G$26)+SUMIF($K$15:$K$26,Récapitulatif!$B$3,$G$15:$G$26)),\"\")","v":""}]
[null,null,null,null,null,null,null,null,null,null,null,null,null,"Sets","Gagnés",{"$f":"SUMIF($K$15:$K$26,Récapitulatif!$B$2,$D$15:$D$26)","v":0},{"$f":"IF(P$6+P$7>0,P6/(P$6+P$7),\"\")","v":""},{"$f":"SUMIF($K$15:$K$26,Récapitulatif!$B$3,$D$15:$D$26)","v":0},{"$f":"IF(R$6+R$7>0,R6/(R$6+R$7),\"\")","v":""},{"$f":"SUM($D$15:$D$26)","v":10},{"$f":"IF(T$6+T$7>0,T6/(T$6+T$7),\"\")","v":0.41666666666666669}]
[null,null,null,null,null,null,null,null,null,null,null,null,null,null,"Perdus",{"$f":"SUMIF($K$15:$K$26,Récapitulatif!$B$2,$E$15:$E$26)","v":0},{"$f":"IF(P$6+P$7>0,P7/(P$6+P$7),\"\")","v":""},{"$f":"SUMIF($K$15:$K$26,Récapitulatif!$B$3,$E$15:$E$26)","v":0},{"$f":"IF(R$6+R$7>0,R7/(R$6+R$7),\"\")","v":""},{"$f":"SUM($E$15:$E$26)","v":14},{"$f":"IF(T$6+T$7>0,T7/(T$6+T$7),\"\")","v":0.58333333333333337}]
["Récapitulatif joueurs",null,null,null,null,null,null,null,null,null,null,null,null,null,"Total",{"$f":"SUM(P6:P7)","v":0},null,{"$f":"SUM(R6:R7)","v":0},null,{"$f":"SUM(T6:T7)","v":24}]
[]
[]
[]
[]
[]
[]
["Joueur","Adversaire","G/P","Sets gagnés","Sets perdus","pts marqués","pts subis","Date","Compétition","Phase","Saison"]
["GROLLET Fabien","LORTHIOIR Jean-Luc","P",1,2,161,178,"2010-02-20","N1 Ligue T4 DOUAI","Poules",{"$f":"IF(H16<>\"\",IF(MONTH(H16)>MoisRef,YEAR(H16)&\"-\"&YEAR(H16)+1,YEAR(H16)-1&\"-\"&YEAR(H16)),\"\")","v":"2009-2010"},null,null,null,null,{"$f":"IF($K16=P$1,COUNTIF($C16,\"G\"),0)","v":0},null,{"$f":"IF($K16=R$1,COUNTIF($C16,\"G\"),0)","v":0}]
["GROLLET Fabien","GUILLEMANT David","P",0,2,72,120,"2010-02-20","N1 Ligue T4 DOUAI","Poules","2009-2010",null,null,null,null,0,null,0]
["GROLLET Fabien","MASIERO Lorenzo","G",2,0,120,67,"2010-02-20","N1 Ligue T4 DOUAI","Poules Consolante","2009-2010",null,null,null,null,0,null,0]
["GROLLET Fabien","WALLART Jean-Charles","G",2,0,120,88,"2010-02-20","N1 Ligue T4 DOUAI","Poules Consolante","2009-2010",null,null,null,null,0,null,0]
["GROLLET Fabien","DEROLEZ Jean-Pierre","P",0,2,58,120,"2012-10-13","N1 Ligue T1 ANNOEULLIN","Poules","2012-2013",null,null,null,null,0,null,0]
["GROLLET Fabien","MAILLE Bernard","G",2,1,164,159,"2012-10-13","N1 Ligue T1 ANNOEULLIN","Poules","2012-2013",null,null,null,null,0,null,0]
["GROLLET Fabien","TURPIN Laurent","P",0,2,75,120,"2012-10-13","N1 Ligue T1 ANNOEULLIN","1/8 Finale","2012-2013",null,null,null,null,0,null,0]
["GROLLET Fabien","VERHAGHE Dominique","G",2,1,175,168,"2014-01-04","N1 Ligue T1 ANNOEULLIN","Poules","2013-2014",null,null,null,null,0,null,0]
["GROLLET Fabien","WALLART Jean-Charles","P",1,2,130,178,"2014-01-04","N1 Ligue T1 ANNOEULLIN","Poules","2013-2014",null,null,null,null,0,null,0]
["GROLLET Fabien","TURPIN Laurent","P",0,2,83,120,"2014-01-04","N1 Ligue T1 ANNOEULLIN","1/8 Finale","2013-2014",null,null,null,null,0,null,0]
["Fin des données",null,null,null,null,null,null,null,null,null,"",null,null,null,null,0,null,0]

{"sheet":"GUILLEMANT Alexandre","index":31,"n_rows":142,"n_cols":22,"rows_kept":142,"cut":false,"hidden":false,"merged":[]}
["GUILLEMANT Alexandre",null,null,null,null,null,null,null,null,null,null,null,null,null,null,{"$f":"Récapitulatif!$B$2","v":"2014-2015"},null,{"$f":"Récapitulatif!$B$3","v":"2015-2016"},null,"Toutes saisons"]
["ANNOEULLIN",null,null,null,null,null,null,null,null,null,null,null,null,null,null,"Nombre","%age","Nombre","%age","Nombre","%age"]
["016874-A",null,null,null,null,null,null,null,null,null,null,null,null,"Matchs","Gagnés",{"$f":"SUM(P$15:P$142)","v":0},{"$f":"IF(P$3+P$4>0,P3/(P$3+P$4),\"\")","v":""},{"$f":"SUM(R$15:R$142)","v":0},{"$f":"IF(R$3+R$4>0,R3/(R$3+R$4),\"\")","v":""},{"$f":"COUNTIF($C$15:$C$142,\"G\")","v":113},{"$f":"IF(T$3+T$4>0,T3/(T$3+T$4),\"\")","v":0.89682539682539686}]
["06 05 08 46 13",null,null,null,null,null,null,null,null,null,null,null,null,null,"Perdus",{"$f":"COUNTIF($K$15:$K$142,Récapitulatif!$B$2)-P3","v":0},{"$f":"IF(P$3+P$4>0,P4/(P$3+P$4),\"\")","v":""},{"$f":"COUNTIF($K$15:$K$142,Récapitulatif!$B$3)-R3","v":0},{"$f":"IF(R$3+R$4>0,R4/(R$3+R$4),\"\")","v":""},{"$f":"COUNTIF($C$15:$C$142,\"P\")","v":13},{"$f":"IF(T$3+T$4>0,T4/(T$3+T$4),\"\")","v":0.10317460317460317}]
["alexandre.guillemant@dgfip.finances.gouv.fr",null,null,null,null,null,null,null,null,null,null,null,null,null,"Total / Moy.",{"$f":"SUM(P3:P4)","v":0},{"$f":"IF(SUMIF($K$15:$K$142,Récapitulatif!$B$2,$G$15:$G$142)>0,SUMIF($K$15:$K$142,Récapitulatif!$B$2,$F$15:$F$142)/SUMIF($K$15:$K$142,Récapitulatif!$B$2,$G$15:$G$142),\"\")","v":""},{"$f":"SUM(R3:R4)","v":0},{"$f":"IF(SUMIF($K$15:$K$142,Récapitulatif!$B$3,$G$15:$G$142)>0,SUMIF($K$15:$K$142,Récapitulatif!$B$3,$F$15:$F$142)/SUMIF($K$15:$K$142,Récapitulatif!$B$3,$G$15:$G$142),\"\")","v":""},{"$f":"SUM(T3:T4)","v":126},{"$f":"IF(SUM($G$15:$G$142)>0,SUM($F$15:$F$142)/SUM($G$15:$G$142),\"\")","v":1.4643535301225616},{"$f":"IF(SUMIF($K$15:$K$142,Récapitulatif!$B$2,$G$15:$G$142)+SUMIF($K$15:$K$142,Récapitulatif!$B$3,$G$15:$G$142)>0,(SUMIF($K$15:$K$142,Récapitulatif!$B$2,$F$15:$F$142)+SUMIF($K$15:$K$142,Récapitulatif!$B$3,$F$15:$F$142))/(SUMIF($K$15:$K$142,Récapitulatif!$B$2,$G$15:$G$142)+SUMIF($K$15:$K$142,Récapitulatif!$B$3,$G$15:$G$142)),\"\")","v":""}]
[null,null,null,null,null,null,null,null,null,null,null,null,null,"Sets","Gagnés",{"$f":"SUMIF($K$15:$K$142,Récapitulatif!$B$2,$D$15:$D$142)","v":0},{"$f":"IF(P$6+P$7>0,P6/(P$6+P$7),\"\")","v":""},{"$f":"SUMIF($K$15:$K$142,Récapitulatif!$B$3,$D$15:$D$142)","v":0},{"$f":"IF(R$6+R$7>0,R6/(R$6+R$7),\"\")","v":""},{"$f":"SUM($D$15:$D$142)","v":356},{"$f":"IF(T$6+T$7>0,T6/(T$6+T$7),\"\")","v":0.78587196467991172}]
[null,null,null,null,null,null,null,null,null,null,null,null,null,null,"Perdus",{"$f":"SUMIF($K$15:$K$142,Récapitulatif!$B$2,$E$15:$E$142)","v":0},{"$f":"IF(P$6+P$7>0,P7/(P$6+P$7),\"\")","v":""},{"$f":"SUMIF($K$15:$K$142,Récapitulatif!$B$3,$E$15:$E$142)","v":0},{"$f":"IF(R$6+R$7>0,R7/(R$6+R$7),\"\")","v":""},{"$f":"SUM($E$15:$E$142)","v":97},{"$f":"IF(T$6+T$7>0,T7/(T$6+T$7),\"\")","v":0.21412803532008831}]
["Récapitulatif joueurs",null,null,null,null,null,null,null,null,null,null,null,null,null,"Total",{"$f":"SUM(P6:P7)","v":0},null,{"$f":"SUM(R6:R7)","v":0},null,{"$f":"SUM(T6:T7)","v":453}]
[]
[]
[]
[]
[]
[]
["Joueur","Adversaire","G/P","Sets gagnés","Sets perdus","pts marqués","pts subis","Date","Compétition","Phase","Saison"]
["GUILLEMANT Alexandre","TIRALONGO Sébastien","G",3,0,180,82,"2008-10-11","National T1 MAISONS ALFORT","Qualifs Masters",{"$f":"IF(H16<>\"\",IF(MONTH(H16)>MoisRef,YEAR(H16)&\"-\"&YEAR(H16)+1,YEAR(H16)-1&\"-\"&YEAR(H16)),\"\")","v":"2008-2009"},null,null,null,null,{"$f":"IF($K16=P$1,COUNTIF($C16,\"G\"),0)","v":0},null,{"$f":"IF($K16=R$1,COUNTIF($C16,\"G\"),0)","v":0}]
["GUILLEMANT Alexandre","DAVID Nicolas","P",2,3,245,234,"2008-10-11","National T1 MAISONS ALFORT","Qualifs Masters","2008-2009",null,null,null,null,0,null,0]
["GUILLEMANT Alexandre","TIRALONGO Sébastien","G",3,0,180,123,"2008-10-11","National T1 MAISONS ALFORT","Qualifs Masters","2008-2009",null,null,null,null,0,null,0]
["GUILLEMANT Alexandre","DAVID Nicolas","G",3,0,180,135,"2008-10-12","National T1 MAISONS ALFORT","1/4 finale Masters","2008-2009",null,null,null,null,0,null,0]
["GUILLEMANT Alexandre","HINGANT Matthieu","G",3,1,230,151,"2008-10-12","National T1 MAISONS ALFORT","1/2 finale Masters","2008-2009",null,null,null,null,0,null,0]
["GUILLEMANT Alexandre","JUBLOT Maxime","P",0,3,134,180,"2008-10-12","National T1 MAISONS ALFORT","Finale Masters","2008-2009",null,null,null,null,0,null,0]
["GUILLEMANT Alexandre","DELATTRE Hervé","G",3,0,180,108,"2008-11-15","National T2 SCHILTIGHEIM","Qualifs Masters","2008-2009",null,null,null,null,0,null,0]
["GUILLEMANT Alexandre","CARREAU Michaël","G",3,1,201,174,"2008-11-15","National T2 SCHILTIGHEIM","Qualifs Masters","2008-2009",null,null,null,null,0,null,0]
["GUILLEMANT Alexandre","MORALES Luis","G",3,0,180,110,"2008-11-16","National T2 SCHILTIGHEIM","1/4 finale Masters","2008-2009",null,null,null,null,0,null,0]
["GUILLEMANT Alexandre","HINGANT Matthieu","P",0,3,158,180,"2008-11-16","National T2 SCHILTIGHEIM","1/2 finale Masters","2008-2009",null,null,null,null,0,null,0]
["GUILLEMANT Alexandre","FERON Patrick","G",3,1,216,115,"2008-12-13","National T3 ANNOEULLIN","Qualifs Masters","2008-2009",null,null,null,null,0,null,0]
["GUILLEMANT Alexandre","PAU Mariano","G",3,0,180,56,"2008-12-13","National T3 ANNOEULLIN","Qualifs Masters","2008-2009",null,null,null,null,0,null,0]
["GUILLEMANT Alexandre","FERON Patrick","G",3,1,229,145,"2008-12-14","National T3 ANNOEULLIN","1/4 finale Masters","2008-2009",null,null,null,null,0,null,0]
["GUILLEMANT Alexandre","DAVID Nicolas","G",3,2,286,210,"2008-12-14","National T3 ANNOEULLIN","1/2 finale Masters","2008-2009",null,null,null,null,0,null,0]
["GUILLEMANT Alexandre","JUBLOT Maxime","P",2,3,219,228,"2008-12-14","National T3 ANNOEULLIN","Finale Masters","2008-2009",null,null,null,null,0,null,0]
["GUILLEMANT Alexandre","BAYON Pascal","G",3,0,180,56,"2009-02-07","National T4 LAXOU","Qualifs Masters","2008-2009",null,null,null,null,0,null,0]
["GUILLEMANT Alexandre","DAVID Nicolas","G",3,0,180,106,"2009-02-07","National T4 LAXOU","Qualifs Masters","2008-2009",null,null,null,null,0,null,0]
["GUILLEMANT Alexandre","DAVID Nicolas","G",3,2,270,252,"2009-02-08","National T4 LAXOU","1/4 finale Masters","2008-2009",null,null,null,null,0,null,0]
["GUILLEMANT Alexandre","MANZOLI Angelo","P",0,3,142,180,"2009-02-08","National T4 LAXOU","1/2 finale Masters","2008-2009",null,null,null,null,0,null,0]
["GUILLEMANT Alexandre","DUROYON Didier","G",3,0,180,63,"2009-03-21","National T5 ANDERNOS","Qualifs Masters","2008-2009",null,null,null,null,0,null,0]
["GUILLEMANT Alexandre","CARREAU Michaël","G",3,1,227,191,"2009-03-21","National T5 ANDERNOS","Qualifs Masters","2008-2009",null,null,null,null,0,null,0]
["GUILLEMANT Alexandre","DEMILLY Jean-Sébastien","G",3,0,180,86,"2009-03-22","National T5 ANDERNOS","1/4 finale Masters","2008-2009",null,null,null,null,0,null,0]
["GUILLEMANT Alexandre","GUILLEMANT David","G",3,1,227,146,"2009-03-22","National T5 ANDERNOS","1/2 finale Masters","2008-2009",null,null,null,null,0,null,0]
["GUILLEMANT Alexandre","GREMAIN Gino","G",3,0,180,104,"2009-03-22","National T5 ANDERNOS","Finale Masters","2008-2009",null,null,null,null,0,null,0]
["GUILLEMANT Alexandre","DEMILLY Jean-Sébastien","G",3,1,233,151,"2009-04-18","National T6 CAUDAN","Qualifs Masters","2008-2009",null,null,null,null,0,null,0]
["GUILLEMANT Alexandre","DUVERNOY Christophe","G",3,0,180,126,"2009-04-18","National T6 CAUDAN","Qualifs Masters","2008-2009",null,null,null,null,0,null,0]
["GUILLEMANT Alexandre","DUVERNOY Christophe","G",3,0,180,121,"2009-04-19","National T6 CAUDAN","1/4 finale Masters","2008-2009",null,null,null,null,0,null,0]
["GUILLEMANT Alexandre","GUILLEMANT David","G",3,0,180,142,"2009-04-19","National T6 CAUDAN","1/2 finale Masters","2008-2009",null,null,null,null,0,null,0]
["GUILLEMANT Alexandre","JUBLOT Maxime","G",3,2,241,201,"2009-04-19","National T6 CAUDAN","Finale Masters","2008-2009",null,null,null,null,0,null,0]
["GUILLEMANT Alexandre","BAYON Pascal","G",3,0,180,69,"2009-11-07","National T1 SCHILTIGHEIM","Qualifs Masters","2009-2010",null,null,null,null,0,null,0]
["GUILLEMANT Alexandre","FOURRE Cédric","G",3,1,217,166,"2009-11-07","National T1 SCHILTIGHEIM","Qualifs Masters","2009-2010",null,null,null,null,0,null,0]
["GUILLEMANT Alexandre","BAYON Pascal","G",3,1,233,137,"2009-11-08","National T1 SCHILTIGHEIM","1/4 finale Masters","2009-2010",null,null,null,null,0,null,0]
["GUILLEMANT Alexandre","DI PALMA Angelo","G",3,0,180,103,"2009-11-08","National T1 SCHILTIGHEIM","1/2 finale Masters","2009-2010",null,null,null,null,0,null,0]
["GUILLEMANT Alexandre","JUBLOT Maxime","P",2,3,261,222,"2009-11-08","National T1 SCHILTIGHEIM","Finale Masters","2009-2010",null,null,null,null,0,null,0]
["GUILLEMANT Alexandre","SAINT-GEORGES Claude","G",3,0,180,43,"2009-12-05","National T2 ANNOEULLIN","Qualifs Masters","2009-2010",null,null,null,null,0,null,0]
["GUILLEMANT Alexandre","GREMAIN Gino","G",3,1,230,173,"2009-12-05","National T2 ANNOEULLIN","Qualifs Masters","2009-2010",null,null,null,null,0,null,0]
["GUILLEMANT Alexandre","FERON Patrick","G",3,0,180,87,"2009-12-06","National T2 ANNOEULLIN","1/4 finale Masters","2009-2010",null,null,null,null,0,null,0]
["GUILLEMANT Alexandre","HINGANT Matthieu","P",1,3,145,223,"2009-12-06","National T2 ANNOEULLIN","1/2 finale Masters","2009-2010",null,null,null,null,0,null,0]
["GUILLEMANT Alexandre","DI PALMA Angelo","G",3,1,229,135,"2010-01-30","National T3 ORLEANS","Qualifs Masters","2009-2010",null,null,null,null,0,null,0]
["GUILLEMANT Alexandre","SORTAIS Claude","G",3,0,180,107,"2010-01-30","National T3 ORLEANS","Qualifs Masters","2009-2010",null,null,null,null,0,null,0]
["GUILLEMANT Alexandre","PICOT Sylvain","G",3,1,230,166,"2010-01-31","National T3 ORLEANS","1/4 finale Masters","2009-2010",null,null,null,null,0,null,0]
["GUILLEMANT Alexandre","DUVERNOY Christophe","G",3,0,180,88,"2010-01-31","National T3 ORLEANS","1/2 finale Masters","2009-2010",null,null,null,null,0,null,0]
["GUILLEMANT Alexandre","JUBLOT Maxime","G",3,1,232,187,"2010-01-31","National T3 ORLEANS","Finale Masters","2009-2010",null,null,null,null,0,null,0]
["GUILLEMANT Alexandre","DI PALMA Angelo","G",3,1,229,135,"2010-01-30","National T3 ORLEANS","Qualifs Masters","2009-2010",null,null,null,null,0,null,0]
["GUILLEMANT Alexandre","SORTAIS Claude","G",3,0,180,107,"2010-01-30","National T3 ORLEANS","Qualifs Masters","2009-2010",null,null,null,null,0,null,0]
["GUILLEMANT Alexandre","PICOT Sylvain","G",3,1,230,166,"2010-01-31","National T3 ORLEANS","1/4 finale Masters","2009-2010",null,null,null,null,0,null,0]
["GUILLEMANT Alexandre","DUVERNOY Christophe","G",3,0,180,88,"2010-01-31","National T3 ORLEANS","1/2 finale Masters","2009-2010",null,null,null,null,0,null,0]
["GUILLEMANT Alexandre","JUBLOT Maxime","G",3,1,232,187,"2010-01-31","National T3 ORLEANS","Finale Masters","2009-2010",null,null,null,null,0,null,0]
["GUILLEMANT Alexandre","BOUVIER Philippe","G",3,0,180,109,"2010-02-27","National T4 ROUEN","Qualifs Masters","2009-2010",null,null,null,null,0,null,0]
["GUILLEMANT Alexandre","GREMAIN Gino","G",3,0,180,124,"2010-02-27","National T4 ROUEN","Qualifs Masters","2009-2010",null,null,null,null,0,null,0]
["GUILLEMANT Alexandre","TRIFAULT Amand","G",3,0,180,136,"2010-02-28","National T4 ROUEN","1/4 finale Masters","2009-2010",null,null,null,null,0,null,0]
["GUILLEMANT Alexandre","HINGANT Matthieu","G",3,1,228,148,"2010-02-28","National T4 ROUEN","1/2 finale Masters","2009-2010",null,null,null,null,0,null,0]
["GUILLEMANT Alexandre","DAVID Nicolas","G",3,0,180,113,"2010-02-28","National T4 ROUEN","Finale Masters","2009-2010",null,null,null,null,0,null,0]
["GUILLEMANT Alexandre","GUILLEMANT David","G",3,2,254,245,"2010-03-27","National T5 ST SEBASTIEN / LOIRE","Qualifs Masters","2009-2010",null,null,null,null,0,null,0]
["GUILLEMANT Alexandre","MORALES Luis","G",3,0,180,74,"2010-03-27","National T5 ST SEBASTIEN / LOIRE","Qualifs Masters","2009-2010",null,null,null,null,0,null,0]
["GUILLEMANT Alexandre","DAVOINE Bruno","G",3,0,180,116,"2010-03-28","National T5 ST SEBASTIEN / LOIRE","1/4 finale Masters","2009-2010",null,null,null,null,0,null,0]
["GUILLEMANT Alexandre","DUVERNOY Christophe","G",3,1,220,185,"2010-03-28","National T5 ST SEBASTIEN / LOIRE","1/2 finale Masters","2009-2010",null,null,null,null,0,null,0]
["GUILLEMANT Alexandre","MORALES Luis","G",3,1,232,179,"2010-03-28","National T5 ST SEBASTIEN / LOIRE","Finale Masters","2009-2010",null,null,null,null,0,null,0]
["GUILLEMANT Alexandre","DEMILLY Jean-Sébastien","G",3,0,180,92,"2010-04-24","National T6 ANDERNOS","Qualifs Masters","2009-2010",null,null,null,null,0,null,0]
["GUILLEMANT Alexandre","PICOT Sylvain","G",3,2,249,199,"2010-04-24","National T6 ANDERNOS","Qualifs Masters","2009-2010",null,null,null,null,0,null,0]
["GUILLEMANT Alexandre","GREMAIN Gino","G",3,0,180,77,"2010-04-25","National T6 ANDERNOS","1/4 finale Masters","2009-2010",null,null,null,null,0,null,0]
["GUILLEMANT Alexandre","DAVID Nicolas","G",3,1,228,174,"2010-04-25","National T6 ANDERNOS","1/2 finale Masters","2009-2010",null,null,null,null,0,null,0]
["GUILLEMANT Alexandre","HINGANT Matthieu","G",3,1,236,193,"2010-04-25","National T6 ANDERNOS","Finale Masters","2009-2010",null,null,null,null,0,null,0]
["GUILLEMANT Alexandre","MARCHISSEAU Stéphane","G",3,0,180,83,"2010-10-08","National T1 CESTAS","Qualifs Masters","2010-2011",null,null,null,null,0,null,0]
["GUILLEMANT Alexandre","GREMAIN Gino","G",3,2,279,177,"2010-10-08","National T1 CESTAS","Qualifs Masters","2010-2011",null,null,null,null,{"$f":"IF($K80=P$1,COUNTIF($C80,\"G\"),0)","v":0},null,{"$f":"IF($K80=R$1,COUNTIF($C80,\"G\"),0)","v":0}]
["GUILLEMANT Alexandre","TRIFAULT Amand","G",3,0,180,104,"2010-10-09","National T1 CESTAS","1/4 finale Masters","2010-2011",null,null,null,null,0,null,0]
["GUILLEMANT Alexandre","DAVID Nicolas","G",3,0,180,68,"2010-10-09","National T1 CESTAS","1/2 finale Masters","2010-2011",null,null,null,null,0,null,0]
["GUILLEMANT Alexandre","JUBLOT Maxime","G",3,2,275,233,"2010-10-09","National T1 CESTAS","Finale Masters","2010-2011",null,null,null,null,0,null,0]
["GUILLEMANT Alexandre","PERRIN Eric","G",3,1,220,137,"2010-11-06","National T2 LAXOU","Qualifs Masters","2010-2011",null,null,null,null,0,null,0]
["GUILLEMANT Alexandre","DAVOINE Bruno","G",3,0,180,85,"2010-11-06","National T2 LAXOU","Qualifs Masters","2010-2011",null,null,null,null,0,null,0]
["GUILLEMANT Alexandre","HERREBRECHT Thierry","P",2,3,268,200,"2010-11-07","National T2 LAXOU","1/4 finale Masters","2010-2011",null,null,null,null,0,null,0]
["GUILLEMANT Alexandre","ZACCAGNINI Antoine","G",3,1,235,132,"2010-12-04","National T3 FACHES THUMESNIL - RONCHIN","Qualifs Masters","2010-2011",null,null,null,null,0,null,0]
["GUILLEMANT Alexandre","DUVERNOY Christophe","G",3,0,180,69,"2010-12-04","National T3 FACHES THUMESNIL - RONCHIN","Qualifs Masters","2010-2011",null,null,null,null,0,null,0]
["GUILLEMANT Alexandre","DUVERNOY Christophe","G",3,0,180,101,"2010-12-05","National T3 FACHES THUMESNIL - RONCHIN","1/4 finale Masters","2010-2011",null,null,null,null,0,null,0]
["GUILLEMANT Alexandre","GREMAIN Gino","G",3,0,180,88,"2010-12-05","National T3 FACHES THUMESNIL - RONCHIN","1/2 finale Masters","2010-2011",null,null,null,null,0,null,0]
["GUILLEMANT Alexandre","JUBLOT Maxime","G",3,0,180,132,"2010-12-05","National T3 FACHES THUMESNIL - RONCHIN","Finale Masters","2010-2011",null,null,null,null,0,null,0]
["GUILLEMANT Alexandre","COTTEN Jean-Pierre","G",3,0,180,149,"2011-02-12","National T4 ROUEN","Qualifs Masters","2010-2011",null,null,null,null,0,null,0]
["GUILLEMANT Alexandre","MORALES Luis","G",3,0,180,87,"2011-02-12","National T4 ROUEN","Qualifs Masters","2010-2011",null,null,null,null,0,null,0]
["GUILLEMANT Alexandre","DAVID Nicolas","P",1,3,192,239,"2011-02-13","National T4 ROUEN","1/4 finale Masters","2010-2011",null,null,null,null,0,null,0]
["GUILLEMANT Alexandre","RACARY Thibault","G",3,1,231,139,"2011-03-26","National T5 BLOIS","Qualifs Masters","2010-2011",null,null,null,null,0,null,0]
["GUILLEMANT Alexandre","GUILLEMANT David","G",3,0,180,135,"2011-03-26","National T5 BLOIS","Qualifs Masters","2010-2011",null,null,null,null,0,null,0]
["GUILLEMANT Alexandre","DEMILLY Jean-Sébastien","G",3,0,180,113,"2011-03-27","National T5 BLOIS","1/4 finale Masters","2010-2011",null,null,null,null,0,null,0]
["GUILLEMANT Alexandre","JUBLOT Maxime","G",3,0,180,79,"2011-03-27","National T5 BLOIS","1/2 finale Masters","2010-2011",null,null,null,null,0,null,0]
["GUILLEMANT Alexandre","DAVID Nicolas","G",3,2,285,248,"2011-03-27","National T5 BLOIS","Finale Masters","2010-2011",null,null,null,null,0,null,0]
["GUILLEMANT Alexandre","DEMILLY Jean-Sébastien","G",3,1,222,163,"2011-04-16","National T6 CHAMPAGNE sur SEINE / NANDY","Qualifs Masters","2010-2011",null,null,null,null,0,null,0]
["GUILLEMANT Alexandre","DESPIERRE Yannick","G",3,0,180,68,"2011-04-16","National T6 CHAMPAGNE sur SEINE / NANDY","Qualifs Masters","2010-2011",null,null,null,null,0,null,0]
["GUILLEMANT Alexandre","DESPIERRE Yannick","G",3,0,180,107,"2011-04-17","National T6 CHAMPAGNE sur SEINE / NANDY","1/4 finale Masters","2010-2011",null,null,null,null,0,null,0]
["GUILLEMANT Alexandre","JUBLOT Maxime","G",3,2,267,292,"2011-04-17","National T6 CHAMPAGNE sur SEINE / NANDY","1/2 finale Masters","2010-2011",null,null,null,null,0,null,0]
["GUILLEMANT Alexandre","TRIFAULT Amand","G",3,1,233,185,"2011-04-17","National T6 CHAMPAGNE sur SEINE / NANDY","Finale Masters","2010-2011",null,null,null,null,0,null,0]
["GUILLEMANT Alexandre","LORTHIOIR Jean-Luc","G",3,0,180,68,"2011-10-01","National T1 CESTAS","Qualifs Masters","2011-2012",null,null,null,null,0,null,0]
["GUILLEMANT Alexandre","TRIFAULT Amand","G",3,0,180,106,"2011-10-01","National T1 CESTAS","Qualifs Masters","2011-2012",null,null,null,null,0,null,0]
["GUILLEMANT Alexandre","TRIFAULT Amand","G",3,0,180,109,"2011-10-02","National T1 CESTAS","1/4 finale Masters","2011-2012",null,null,null,null,0,null,0]
["GUILLEMANT Alexandre","CARREAU Michaël","G",3,0,180,114,"2011-10-02","National T1 CESTAS","1/2 finale Masters","2011-2012",null,null,null,null,0,null,0]
["GUILLEMANT Alexandre","HINGANT Matthieu","G",3,1,213,172,"2011-10-02","National T1 CESTAS","Finale Masters","2011-2012",null,null,null,null,0,null,0]
["GUILLEMANT Alexandre","SORTAIS Claude","G",3,0,180,131,"2011-11-05","National T2 SCHILTIGHEIM","Qualifs Masters","2011-2012",null,null,null,null,0,null,0]
["GUILLEMANT Alexandre","JUBLOT Maxime","G",3,2,280,185,"2011-11-05","National T2 SCHILTIGHEIM","Qualifs Masters","2011-2012",null,null,null,null,0,null,0]
["GUILLEMANT Alexandre","RACARY Thibault","G",3,0,180,81,"2011-11-06","National T2 SCHILTIGHEIM","1/4 finale Masters","2011-2012",null,null,null,null,0,null,0]
["GUILLEMANT Alexandre","HINGANT Matthieu","P",2,3,273,290,"2011-11-06","National T2 SCHILTIGHEIM","1/2 finale Masters","2011-2012",null,null,null,null,0,null,0]
["GUILLEMANT Alexandre","GUILLEMANT David","G",3,0,180,115,"2011-12-03","National T3 ANNOEULLIN","Qualifs Masters","2011-2012",null,null,null,null,0,null,0]
["GUILLEMANT Alexandre","DUVERNOY Christophe","G",3,0,180,86,"2011-12-03","National T3 ANNOEULLIN","Qualifs Masters","2011-2012",null,null,null,null,0,null,0]
["GUILLEMANT Alexandre","GUILLEMANT David","G",3,0,180,88,"2011-12-04","National T3 ANNOEULLIN","1/4 finale Masters","2011-2012",null,null,null,null,0,null,0]
["GUILLEMANT Alexandre","DUVERNOY Christophe","G",3,1,235,175,"2011-12-04","National T3 ANNOEULLIN","1/2 finale Masters","2011-2012",null,null,null,null,0,null,0]
["GUILLEMANT Alexandre","DAVID Nicolas","G",3,0,180,128,"2011-12-04","National T3 ANNOEULLIN","Finale Masters","2011-2012",null,null,null,null,0,null,0]
["GUILLEMANT Alexandre","MORMICHE Michel","G",3,2,286,204,"2012-02-18","National T4 ORLEANS","Qualifs Masters","2011-2012",null,null,null,null,0,null,0]
["GUILLEMANT Alexandre","JUBLOT Maxime","G",3,0,180,95,"2012-02-18","National T4 ORLEANS","Qualifs Masters","2011-2012",null,null,null,null,0,null,0]
["GUILLEMANT Alexandre","RACARY Thibault","G",3,0,180,125,"2012-02-19","National T4 ORLEANS","1/4 finale Masters","2011-2012",null,null,null,null,0,null,0]
["GUILLEMANT Alexandre","DUVERNOY Christophe","G",3,0,180,41,"2012-02-19","National T4 ORLEANS","1/2 finale Masters","2011-2012",null,null,null,null,0,null,0]
["GUILLEMANT Alexandre","CARREAU Michaël","G",3,0,180,113,"2012-02-19","National T4 ORLEANS","Finale Masters","2011-2012",null,null,null,null,0,null,0]
["GUILLEMANT Alexandre","DERIU Georges","G",3,0,180,87,"2012-03-17","National T5 L HAY LES ROSES","Qualifs Masters","2011-2012",null,null,null,null,0,null,0]
["GUILLEMANT Alexandre","TRIFAULT Amand","G",3,1,227,155,"2012-03-17","National T5 L HAY LES ROSES","Qualifs Masters","2011-2012",null,null,null,null,0,null,0]
["GUILLEMANT Alexandre","HINGANT Matthieu","G",3,1,233,130,"2012-03-18","National T5 L HAY LES ROSES","1/4 finale Masters","2011-2012",null,null,null,null,0,null,0]
["GUILLEMANT Alexandre","DI PALMA Angelo","P",2,3,256,252,"2012-03-18","National T5 L HAY LES ROSES","1/2 finale Masters","2011-2012",null,null,null,null,0,null,0]
["GUILLEMANT Alexandre","DI PALMA Angelo","G",3,2,282,236,"2012-05-23","National TChampionnat de France 2011 2012","1/4 finale Masters","2011-2012",null,null,null,null,0,null,0]
["GUILLEMANT Alexandre","HINGANT Matthieu","G",3,0,180,101,"2012-05-23","National TChampionnat de France 2011 2012","Finale Masters","2011-2012",null,null,null,null,0,null,0]
["GUILLEMANT Alexandre","JUBLOT Maxime","G",3,0,180,140,"2012-05-22","National TChampionnat de France 2011 2012","Qualifications","2011-2012",null,null,null,null,0,null,0]
["GUILLEMANT Alexandre","JUBLOT Maxime","G",3,0,180,94,"2012-05-23","National TChampionnat de France 2011 2012","1/2 finale Masters","2011-2012",null,null,null,null,0,null,0]
["GUILLEMANT Alexandre","MORMICHE Michel","G",3,0,180,94,"2012-05-22","National TChampionnat de France 2011 2012","Qualifications","2011-2012",null,null,null,null,0,null,0]
["GUILLEMANT Alexandre","DAVID Nicolas","G",3,0,150,60,"2012-10-07","National T1 BLOIS","1/4 finale Masters","2012-2013",null,null,null,null,0,null,0]
["GUILLEMANT Alexandre","DEMILLY Jean-Sébastien","G",3,1,197,126,"2012-10-06","National T1 BLOIS","Qualifs Masters","2012-2013",null,null,null,null,0,null,0]
["GUILLEMANT Alexandre","DUVERNOY Christophe","G",3,2,201,206,"2012-10-06","National T1 BLOIS","Qualifs Masters","2012-2013",null,null,null,null,0,null,0]
["GUILLEMANT Alexandre","HINGANT Matthieu","P",1,3,163,196,"2012-10-07","National T1 BLOIS","1/2 finale Masters","2012-2013",null,null,null,null,0,null,0]
["GUILLEMANT Alexandre","MORALES Luis","G",3,0,150,80,"2013-05-13","CHAMPIONNAT DE FRANCE MASTERS SAINT MAUR","Qualifications","2012-2013",null,null,null,null,0,null,0]
["GUILLEMANT Alexandre","GUILLEMANT David","G",3,0,150,75,"2013-05-13","CHAMPIONNAT DE FRANCE MASTERS SAINT MAUR","Qualifications","2012-2013",null,null,null,null,0,null,0]
["GUILLEMANT Alexandre","TRIFAULT Amand","G",3,1,181,116,"2013-05-14","CHAMPIONNAT DE FRANCE MASTERS SAINT MAUR","1/4 Finale","2012-2013",null,null,null,null,0,null,0]
["GUILLEMANT Alexandre","MANZOLI Angelo","G",3,0,150,75,"2013-05-15","CHAMPIONNAT DE FRANCE MASTERS SAINT MAUR","1/2 Finale","2012-2013",null,null,null,null,0,null,0]
["GUILLEMANT Alexandre","HINGANT Matthieu","P",2,3,222,208,"2013-05-15","CHAMPIONNAT DE FRANCE MASTERS SAINT MAUR","Finale","2012-2013",null,null,null,null,0,null,0]
["Fin des données",null,null,null,null,null,null,null,null,null,"",null,null,null,null,0,null,0]

{"sheet":"GUILLEMANT David","index":32,"n_rows":233,"n_cols":22,"rows_kept":233,"cut":false,"hidden":false,"merged":[]}
["GUILLEMANT David",null,null,null,null,null,null,null,null,null,null,null,null,null,null,{"$f":"Récapitulatif!$B$2","v":"2014-2015"},null,{"$f":"Récapitulatif!$B$3","v":"2015-2016"},null,"Toutes saisons"]
["ANNOEULLIN",null,null,null,null,null,null,null,null,null,null,null,null,null,null,"Nombre","%age","Nombre","%age","Nombre","%age"]
["016875-B",null,null,null,null,null,null,null,null,null,null,null,null,"Matchs","Gagnés",{"$f":"SUM(P$15:P$233)","v":12},{"$f":"IF(P$3+P$4>0,P3/(P$3+P$4),\"\")","v":0.6},{"$f":"SUM(R$15:R$233)","v":12},{"$f":"IF(R$3+R$4>0,R3/(R$3+R$4),\"\")","v":0.5},{"$f":"COUNTIF($C$15:$C$233,\"G\")","v":138},{"$f":"IF(T$3+T$4>0,T3/(T$3+T$4),\"\")","v":0.63594470046082952}]
["06 59 07 28 32",null,null,null,null,null,null,null,null,null,null,null,null,null,"Perdus",{"$f":"COUNTIF($K$15:$K$233,Récapitulatif!$B$2)-P3","v":8},{"$f":"IF(P$3+P$4>0,P4/(P$3+P$4),\"\")","v":0.4},{"$f":"COUNTIF($K$15:$K$233,Récapitulatif!$B$3)-R3","v":12},{"$f":"IF(R$3+R$4>0,R4/(R$3+R$4),\"\")","v":0.5},{"$f":"COUNTIF($C$15:$C$233,\"P\")","v":79},{"$f":"IF(T$3+T$4>0,T4/(T$3+T$4),\"\")","v":0.36405529953917048}]
[null,null,null,null,null,null,null,null,null,null,null,null,null,null,"Total / Moy.",{"$f":"SUM(P3:P4)","v":20},{"$f":"IF(SUMIF($K$15:$K$233,Récapitulatif!$B$2,$G$15:$G$233)>0,SUMIF($K$15:$K$233,Récapitulatif!$B$2,$F$15:$F$233)/SUMIF($K$15:$K$233,Récapitulatif!$B$2,$G$15:$G$233),\"\")","v":1.1116678520625094},{"$f":"SUM(R3:R4)","v":24},{"$f":"IF(SUMIF($K$15:$K$233,Récapitulatif!$B$3,$G$15:$G$233)>0,SUMIF($K$15:$K$233,Récapitulatif!$B$3,$F$15:$F$233)/SUMIF($K$15:$K$233,Récapitulatif!$B$3,$G$15:$G$233),\"\")","v":0.98975974793225674},{"$f":"SUM(T3:T4)","v":217},{"$f":"IF(SUM($G$15:$G$233)>0,SUM($F$15:$F$233)/SUM($G$15:$G$233),\"\")","v":1.0738810174828011},{"$f":"IF(SUMIF($K$15:$K$233,Récapitulatif!$B$2,$G$15:$G$233)+SUMIF($K$15:$K$233,Récapitulatif!$B$3,$G$15:$G$233)>0,(SUMIF($K$15:$K$233,Récapitulatif!$B$2,$F$15:$F$233)+SUMIF($K$15:$K$233,Récapitulatif!$B$3,$F$15:$F$233))/(SUMIF($K$15:$K$233,Récapitulatif!$B$2,$G$15:$G$233)+SUMIF($K$15:$K$233,Récapitulatif!$B$3,$G$15:$G$233)),\"\")","v":1.0332078580481339}]
[null,null,null,null,null,null,null,null,null,null,null,null,null,"Sets","Gagnés",{"$f":"SUMIF($K$15:$K$233,Récapitulatif!$B$2,$D$15:$D$233)","v":35},{"$f":"IF(P$6+P$7>0,P6/(P$6+P$7),\"\")","v":0.57377049180327866},{"$f":"SUMIF($K$15:$K$233,Récapitulatif!$B$3,$D$15:$D$233)","v":52},{"$f":"IF(R$6+R$7>0,R6/(R$6+R$7),\"\")","v":0.53061224489795922},{"$f":"SUM($D$15:$D$233)","v":438},{"$f":"IF(T$6+T$7>0,T6/(T$6+T$7),\"\")","v":0.57105606258148633}]
[null,null,null,null,null,null,null,null,null,null,null,null,null,null,"Perdus",{"$f":"SUMIF($K$15:$K$233,Récapitulatif!$B$2,$E$15:$E$233)","v":26},{"$f":"IF(P$6+P$7>0,P7/(P$6+P$7),\"\")","v":0.42622950819672129},{"$f":"SUMIF($K$15:$K$233,Récapitulatif!$B$3,$E$15:$E$233)","v":46},{"$f":"IF(R$6+R$7>0,R7/(R$6+R$7),\"\")","v":0.46938775510204084},{"$f":"SUM($E$15:$E$233)","v":329},{"$f":"IF(T$6+T$7>0,T7/(T$6+T$7),\"\")","v":0.42894393741851367}]
["Récapitulatif joueurs",null,null,null,null,null,null,null,null,null,null,null,null,null,"Total",{"$f":"SUM(P6:P7)","v":61},null,{"$f":"SUM(R6:R7)","v":98},null,{"$f":"SUM(T6:T7)","v":767}]
[]
[]
[]
[]
[]
[]
["Joueur","Adversaire","G/P","Sets gagnés","Sets perdus","pts marqués","pts subis","Date","Compétition","Phase","Saison"]
["GUILLEMANT David","J. BLANC","G",2,0,120,92,"2008-10-10","National T1 MAISONS ALFORT","Préqualifs",{"$f":"IF(H16<>\"\",IF(MONTH(H16)>MoisRef,YEAR(H16)&\"-\"&YEAR(H16)+1,YEAR(H16)-1&\"-\"&YEAR(H16)),\"\")","v":"2008-2009"},null,null,null,null,{"$f":"IF($K16=P$1,COUNTIF($C16,\"G\"),0)","v":0},null,{"$f":"IF($K16=R$1,COUNTIF($C16,\"G\"),0)","v":0}]
["GUILLEMANT David","ARGIS Mickaël","G",2,0,120,87,"2008-10-10","National T1 MAISONS ALFORT","Préqualifs","2008-2009",null,null,null,null,0,null,0]
["GUILLEMANT David","ROBIC Daniel","G",2,0,120,104,"2008-10-10","National T1 MAISONS ALFORT","Préqualifs","2008-2009",null,null,null,null,0,null,0]
["GUILLEMANT David","CARREAU Michaël","P",1,3,148,235,"2008-10-11","National T1 MAISONS ALFORT","Qualifs Masters","2008-2009",null,null,null,null,0,null,0]
["GUILLEMANT David","ZILLIG Pierre","G",3,1,231,169,"2008-10-11","National T1 MAISONS ALFORT","Qualifs Masters","2008-2009",null,null,null,null,0,null,0]
["GUILLEMANT David","CARREAU Michaël","G",3,0,180,126,"2008-10-11","National T1 MAISONS ALFORT","Qualifs Masters","2008-2009",null,null,null,null,0,null,0]
["GUILLEMANT David","JUBLOT Maxime","P",1,3,174,205,"2008-10-12","National T1 MAISONS ALFORT","1/4 finale Masters","2008-2009",null,null,null,null,0,null,0]
["GUILLEMANT David","DEMILLY Jean-Sébastien","G",3,1,235,219,"2008-11-15","National T2 SCHILTIGHEIM","Qualifs Masters","2008-2009",null,null,null,null,0,null,0]
["GUILLEMANT David","HINGANT Matthieu","P",1,3,172,231,"2008-11-15","National T2 SCHILTIGHEIM","Qualifs Masters","2008-2009",null,null,null,null,0,null,0]
["GUILLEMANT David","DEMILLY Jean-Sébastien","G",3,2,273,242,"2008-11-15","National T2 SCHILTIGHEIM","Qualifs Masters","2008-2009",null,null,null,null,0,null,0]
["GUILLEMANT David","MANZOLI Angelo","P",0,3,66,180,"2008-11-16","National T2 SCHILTIGHEIM","1/4 finale Masters","2008-2009",null,null,null,null,0,null,0]
["GUILLEMANT David","MARCHISSEAU Stéphane","G",3,0,180,108,"2008-12-13","National T3 ANNOEULLIN","Qualifs Masters","2008-2009",null,null,null,null,0,null,0]
["GUILLEMANT David","MANZOLI Angelo","P",1,3,177,225,"2008-12-13","National T3 ANNOEULLIN","Qualifs Masters","2008-2009",null,null,null,null,0,null,0]
["GUILLEMANT David","GREMAIN Gino","G",3,1,222,190,"2008-12-13","National T3 ANNOEULLIN","Qualifs Masters","2008-2009",null,null,null,null,0,null,0]
["GUILLEMANT David","MANZOLI Angelo","P",2,3,272,273,"2008-12-14","National T3 ANNOEULLIN","1/4 finale Masters","2008-2009",null,null,null,null,0,null,0]
["GUILLEMANT David","MORALES Luis","P",1,3,157,223,"2009-02-07","National T4 LAXOU","Qualifs Masters","2008-2009",null,null,null,null,0,null,0]
["GUILLEMANT David","PERRIN Eric","G",3,0,180,71,"2009-02-07","National T4 LAXOU","Qualifs Masters","2008-2009",null,null,null,null,0,null,0]
["GUILLEMANT David","MORALES Luis","G",3,0,180,78,"2009-02-07","National T4 LAXOU","Qualifs Masters","2008-2009",null,null,null,null,0,null,0]
["GUILLEMANT David","MANZOLI Angelo","P",1,3,177,220,"2009-02-08","National T4 LAXOU","1/4 finale Masters","2008-2009",null,null,null,null,0,null,0]
["GUILLEMANT David","CAUX Frédéric","G",2,0,120,91,"2009-03-07","N1 Ligue T2 ANNOEULLIN","Poules","2008-2009",null,null,null,null,0,null,0]
["GUILLEMANT David","GREMAIN Gino","G",2,1,166,120,"2009-03-07","N1 Ligue T2 ANNOEULLIN","Poules","2008-2009",null,null,null,null,0,null,0]
["GUILLEMANT David","HERREBRECHT Thierry","G",2,1,155,148,"2009-03-07","N1 Ligue T2 ANNOEULLIN","1/4 Finale","2008-2009",null,null,null,null,0,null,0]
["GUILLEMANT David","GUILLEMANT Jean-Marc","P",1,2,158,167,"2009-03-07","N1 Ligue T2 ANNOEULLIN","1/2 Finale","2008-2009",null,null,null,null,0,null,0]
["GUILLEMANT David","PICOT Sylvain","P",2,3,259,230,"2009-03-21","National T5 ANDERNOS","Qualifs Masters","2008-2009",null,null,null,null,0,null,0]
["GUILLEMANT David","PERRIN Eric","G",3,0,180,91,"2009-03-21","National T5 ANDERNOS","Qualifs Masters","2008-2009",null,null,null,null,0,null,0]
["GUILLEMANT David","PICOT Sylvain","G",3,1,198,186,"2009-03-21","National T5 ANDERNOS","Qualifs Masters","2008-2009",null,null,null,null,0,null,0]
["GUILLEMANT David","HINGANT Matthieu","G",3,2,244,282,"2009-03-22","National T5 ANDERNOS","1/4 finale Masters","2008-2009",null,null,null,null,0,null,0]
["GUILLEMANT David","GUILLEMANT Alexandre","P",1,3,146,227,"2009-03-22","National T5 ANDERNOS","1/2 finale Masters","2008-2009",null,null,null,null,0,null,0]
["GUILLEMANT David","DAVOINE Bruno","G",3,1,229,180,"2009-04-18","National T6 CAUDAN","Qualifs Masters","2008-2009",null,null,null,null,0,null,0]
["GUILLEMANT David","MANZOLI Angelo","G",3,2,239,270,"2009-04-18","National T6 CAUDAN","Qualifs Masters","2008-2009",null,null,null,null,0,null,0]
["GUILLEMANT David","DI PALMA Angelo","G",3,2,266,227,"2009-04-19","National T6 CAUDAN","1/4 finale Masters","2008-2009",null,null,null,null,0,null,0]
["GUILLEMANT David","GUILLEMANT Alexandre","P",0,3,142,180,"2009-04-19","National T6 CAUDAN","1/2 finale Masters","2008-2009",null,null,null,null,0,null,0]
["GUILLEMANT David","PERRIN Eric","G",3,2,262,202,"2009-11-07","National T1 SCHILTIGHEIM","Qualifs Masters",{"$f":"IF(H48<>\"\",IF(MONTH(H48)>MoisRef,YEAR(H48)&\"-\"&YEAR(H48)+1,YEAR(H48)-1&\"-\"&YEAR(H48)),\"\")","v":"2009-2010"},null,null,null,null,0,null,0]
["GUILLEMANT David","JUBLOT Maxime","P",0,3,109,180,"2009-11-07","National T1 SCHILTIGHEIM","Qualifs Masters","2009-2010",null,null,null,null,0,null,0]
["GUILLEMANT David","DAVID Nicolas","P",1,3,151,230,"2009-11-07","National T1 SCHILTIGHEIM","Qualifs Masters","2009-2010",null,null,null,null,0,null,0]
["GUILLEMANT David","MARTEL Jean-Pierre","G",2,0,120,39,"2009-12-04","National T2 ANNOEULLIN","Préqualifs","2009-2010",null,null,null,null,0,null,0]
["GUILLEMANT David","ROBERGE Bruno","G",2,1,179,146,"2009-12-04","National T2 ANNOEULLIN","Préqualifs","2009-2010",null,null,null,null,0,null,0]
["GUILLEMANT David","CLYNCKE Jean-Jacques","G",2,1,162,136,"2009-12-04","National T2 ANNOEULLIN","Préqualifs","2009-2010",null,null,null,null,0,null,0]
["GUILLEMANT David","LORTHIOIR Jean-Luc","G",3,0,180,105,"2009-12-05","National T2 ANNOEULLIN","Qualifs promotion","2009-2010",null,null,null,null,0,null,0]
["GUILLEMANT David","REBELO Joaquim","P",2,3,261,223,"2009-12-05","National T2 ANNOEULLIN","Qualifs promotion","2009-2010",null,null,null,null,0,null,0]
["GUILLEMANT David","BOUVIER Philippe","G",3,0,180,127,"2009-12-05","National T2 ANNOEULLIN","Qualifs promotion","2009-2010",null,null,null,null,0,null,0]
["GUILLEMANT David","REBELO Joaquim","P",0,3,119,180,"2009-12-06","National T2 ANNOEULLIN","1/8 finale promotion","2009-2010",null,null,null,null,0,null,0]
["GUILLEMANT David","GUILLEMANT Jean-Marc","G",2,1,159,146,"2009-12-19","N1 Ligue T2 ANNOEULLIN","Poules","2009-2010",null,null,null,null,0,null,0]
["GUILLEMANT David","LAMBIASE Guiseppe","G",2,0,120,83,"2009-12-19","N1 Ligue T2 ANNOEULLIN","Poules","2009-2010",null,null,null,null,0,null,0]
["GUILLEMANT David","CARPENTIER Yohanne","G",2,0,120,66,"2009-12-19","N1 Ligue T2 ANNOEULLIN","1/4 Finale","2009-2010",null,null,null,null,0,null,0]
["GUILLEMANT David","DELSOL Philippe","P",1,2,152,158,"2009-12-19","N1 Ligue T2 ANNOEULLIN","1/2 Finale","2009-2010",null,null,null,null,0,null,0]
["GUILLEMANT David","CAUX Frédéric","G",2,1,166,144,"2010-01-16","N1 Ligue T3 ANNOEULLIN","Poules","2009-2010",null,null,null,null,0,null,0]
["GUILLEMANT David","CAUX Frédéric","G",2,0,120,67,"2010-01-16","N1 Ligue T3 ANNOEULLIN","Poules","2009-2010",null,null,null,null,0,null,0]
["GUILLEMANT David","DELSOL Philippe","P",1,2,173,170,"2010-01-16","N1 Ligue T3 ANNOEULLIN","1/4 Finale","2009-2010",null,null,null,null,0,null,0]
["GUILLEMANT David","BOUVIER Philippe","P",0,2,48,120,"2010-01-29","National T3 ORLEANS","Préqualifs","2009-2010",null,null,null,null,0,null,0]
["GUILLEMANT David","AUCLAIR Henri","G",2,0,120,47,"2010-01-29","National T3 ORLEANS","Préqualifs","2009-2010",null,null,null,null,0,null,0]
["GUILLEMANT David","EVENOU Roger","G",2,0,120,37,"2010-01-29","National T3 ORLEANS","Préqualifs","2009-2010",null,null,null,null,0,null,0]
["GUILLEMANT David","SAINT-GEORGES Claude","G",3,1,192,136,"2010-01-30","National T3 ORLEANS","Qualifs promotion","2009-2010",null,null,null,null,0,null,0]
["GUILLEMANT David","BERTHELOT Daniel","G",3,2,251,227,"2010-01-30","National T3 ORLEANS","Qualifs promotion","2009-2010",null,null,null,null,0,null,0]
["GUILLEMANT David","BERTHELOT Daniel","G",3,2,236,232,"2010-01-31","National T3 ORLEANS","1/8 finale promotion","2009-2010",null,null,null,null,0,null,0]
["GUILLEMANT David","HERREBRECHT Thierry","G",3,2,251,238,"2010-01-31","National T3 ORLEANS"," 1/4 finale promotion","2009-2010",null,null,null,null,0,null,0]
["GUILLEMANT David","BOUVIER Philippe","G",3,2,246,197,"2010-01-31","National T3 ORLEANS","1/2 finale promotion","2009-2010",null,null,null,null,0,null,0]
["GUILLEMANT David","ZACCAGNINI Antoine","P",2,3,276,271,"2010-01-31","National T3 ORLEANS","Finale promotion","2009-2010",null,null,null,null,0,null,0]
["GUILLEMANT David","GROLLET Fabien","G",2,0,120,72,"2010-02-20","N1 Ligue T4 DOUAI","Poules","2009-2010",null,null,null,null,0,null,0]
["GUILLEMANT David","LORTHIOIR Jean-Luc","G",2,0,120,85,"2010-02-20","N1 Ligue T4 DOUAI","Poules","2009-2010",null,null,null,null,0,null,0]
["GUILLEMANT David","HENNEUSE Patrick","G",2,0,120,74,"2010-02-20","N1 Ligue T4 DOUAI","1/8 Finale","2009-2010",null,null,null,null,0,null,0]
["GUILLEMANT David","MAILLE Bernard","G",2,1,163,133,"2010-02-20","N1 Ligue T4 DOUAI","1/4 Finale","2009-2010",null,null,null,null,0,null,0]
["GUILLEMANT David","SAINT-GEORGES Claude","G",2,0,120,94,"2010-02-20","N1 Ligue T4 DOUAI","1/2 Finale","2009-2010",null,null,null,null,0,null,0]
["GUILLEMANT David","LHERMITTE Cédric","G",2,0,120,76,"2010-02-20","N1 Ligue T4 DOUAI","Finale","2009-2010",null,null,null,null,0,null,0]
["GUILLEMANT David","BOUVIER Philippe","P",0,2,48,120,"2010-01-29","National T3 ORLEANS","Préqualifs","2009-2010",null,null,null,null,{"$f":"IF($K80=P$1,COUNTIF($C80,\"G\"),0)","v":0},null,{"$f":"IF($K80=R$1,COUNTIF($C80,\"G\"),0)","v":0}]
["GUILLEMANT David","AUCLAIR Henri","G",2,0,120,47,"2010-01-29","National T3 ORLEANS","Préqualifs","2009-2010",null,null,null,null,0,null,0]
["GUILLEMANT David","EVENOU Roger","G",2,0,120,37,"2010-01-29","National T3 ORLEANS","Préqualifs","2009-2010",null,null,null,null,0,null,0]
["GUILLEMANT David","SAINT-GEORGES Claude","G",3,1,192,136,"2010-01-30","National T3 ORLEANS","Qualifs promotion","2009-2010",null,null,null,null,0,null,0]
["GUILLEMANT David","BERTHELOT Daniel","G",3,2,251,227,"2010-01-30","National T3 ORLEANS","Qualifs promotion","2009-2010",null,null,null,null,0,null,0]
["GUILLEMANT David","BERTHELOT Daniel","G",3,2,236,232,"2010-01-31","National T3 ORLEANS","1/8 finale promotion","2009-2010",null,null,null,null,0,null,0]
["GUILLEMANT David","HERREBRECHT Thierry","G",3,2,251,238,"2010-01-31","National T3 ORLEANS"," 1/4 finale promotion","2009-2010",null,null,null,null,0,null,0]
["GUILLEMANT David","BOUVIER Philippe","G",3,2,246,197,"2010-01-31","National T3 ORLEANS","1/2 finale promotion","2009-2010",null,null,null,null,0,null,0]
["GUILLEMANT David","ZACCAGNINI Antoine","P",2,3,276,271,"2010-01-31","National T3 ORLEANS","Finale promotion","2009-2010",null,null,null,null,0,null,0]
["GUILLEMANT David","SAINT-GEORGES Claude","G",2,0,120,81,"2010-02-26","National T4 ROUEN","Préqualifs","2009-2010",null,null,null,null,0,null,0]
["GUILLEMANT David","DUTHIL Jean","G",2,1,145,148,"2010-02-26","National T4 ROUEN","Préqualifs","2009-2010",null,null,null,null,0,null,0]
["GUILLEMANT David","TALBOT Michel","P",0,2,110,120,"2010-02-26","National T4 ROUEN","Préqualifs","2009-2010",null,null,null,null,0,null,0]
["GUILLEMANT David","COTTEN Jean-Pierre","G",3,1,229,188,"2010-02-27","National T4 ROUEN","Qualifs promotion","2009-2010",null,null,null,null,0,null,0]
["GUILLEMANT David","FOURRE Cédric","G",3,1,224,145,"2010-02-27","National T4 ROUEN","Qualifs promotion","2009-2010",null,null,null,null,0,null,0]
["GUILLEMANT David","TALBOT Michel","G",3,0,180,91,"2010-02-28","National T4 ROUEN","1/8 finale promotion","2009-2010",null,null,null,null,0,null,0]
["GUILLEMANT David","DERIU Georges","G",3,0,180,89,"2010-02-28","National T4 ROUEN"," 1/4 finale promotion","2009-2010",null,null,null,null,0,null,0]
["GUILLEMANT David","DUTHIL Jean","G",3,2,261,248,"2010-02-28","National T4 ROUEN","1/2 finale promotion","2009-2010",null,null,null,null,0,null,0]
["GUILLEMANT David","HERREBRECHT Thierry","P",0,3,156,180,"2010-02-28","National T4 ROUEN","Finale promotion","2009-2010",null,null,null,null,0,null,0]
["GUILLEMANT David","BELLO Francois","G",2,0,120,46,"2010-03-26","National T5 ST SEBASTIEN / LOIRE","Préqualifs","2009-2010",null,null,null,null,0,null,0]
["GUILLEMANT David","SACRE Jean-Yves","G",2,1,172,148,"2010-03-26","National T5 ST SEBASTIEN / LOIRE","Préqualifs","2009-2010",null,null,null,null,0,null,0]
["GUILLEMANT David","MAIZOUE Alain","G",2,0,120,56,"2010-03-26","National T5 ST SEBASTIEN / LOIRE","Préqualifs","2009-2010",null,null,null,null,0,null,0]
["GUILLEMANT David","GUILLEMANT Alexandre","P",2,3,245,254,"2010-03-27","National T5 ST SEBASTIEN / LOIRE","Qualifs Masters","2009-2010",null,null,null,null,0,null,0]
["GUILLEMANT David","TIRALONGO Sébastien","G",3,2,266,244,"2010-03-27","National T5 ST SEBASTIEN / LOIRE","Qualifs Masters","2009-2010",null,null,null,null,0,null,0]
["GUILLEMANT David","MORALES Luis","P",1,3,167,222,"2010-03-27","National T5 ST SEBASTIEN / LOIRE","Qualifs Masters","2009-2010",null,null,null,null,0,null,0]
["GUILLEMANT David","J. BLANC","G",2,0,120,60,"2010-04-23","National T6 ANDERNOS","Préqualifs","2009-2010",null,null,null,null,0,null,0]
["GUILLEMANT David","WALLART Jean-Charles","G",2,0,120,68,"2010-04-23","National T6 ANDERNOS","Préqualifs","2009-2010",null,null,null,null,0,null,0]
["GUILLEMANT David","ALEXANDRE Michel","G",2,0,120,58,"2010-04-23","National T6 ANDERNOS","Préqualifs","2009-2010",null,null,null,null,0,null,0]
["GUILLEMANT David","PICOT Sylvain","P",2,3,263,246,"2010-04-24","National T6 ANDERNOS","Qualifs Masters","2009-2010",null,null,null,null,0,null,0]
["GUILLEMANT David","DEMILLY Jean-Sébastien","P",2,3,280,272,"2010-04-24","National T6 ANDERNOS","Qualifs Masters","2009-2010",null,null,null,null,0,null,0]
["GUILLEMANT David","MICHELOTTI Francesco","G",3,0,180,109,"2010-05-15","National BLOIS","Qualifications","2009-2010",null,null,null,null,0,null,0]
["GUILLEMANT David","DELSOL Philippe","G",3,0,180,119,"2010-05-15","National BLOIS","Qualifications","2009-2010",null,null,null,null,0,null,0]
["GUILLEMANT David","MAILLE Bernard","G",3,1,237,178,"2010-05-15","National BLOIS","Qualifications","2009-2010",null,null,null,null,0,null,0]
["GUILLEMANT David","MICHELOTTI Francesco","G",3,1,225,180,"2010-05-16","National BLOIS","1/8 finale","2009-2010",null,null,null,null,0,null,0]
["GUILLEMANT David","BAYON Pascal","G",3,0,180,101,"2010-05-16","National BLOIS"," 1/4 finale","2009-2010",null,null,null,null,0,null,0]
["GUILLEMANT David","FERON Patrick","G",3,2,268,231,"2010-05-16","National BLOIS","1/2 finale","2009-2010",null,null,null,null,0,null,0]
["GUILLEMANT David","KASSOUL Sophiane","G",3,0,180,152,"2010-05-16","National BLOIS","Finale","2009-2010",null,null,null,null,0,null,0]
["GUILLEMANT David","GUILLEMANT Jean-Marc","G",2,0,120,74,"2010-10-07","National T1 CESTAS","Préqualifs","2010-2011",null,null,null,null,0,null,0]
["GUILLEMANT David","DERIU Georges","G",2,0,120,78,"2010-10-07","National T1 CESTAS","Préqualifs","2010-2011",null,null,null,null,0,null,0]
["GUILLEMANT David","FONTAINE Isabelle","G",2,0,120,69,"2010-10-07","National T1 CESTAS","Préqualifs","2010-2011",null,null,null,null,0,null,0]
["GUILLEMANT David","PICOT Sylvain","P",1,3,185,225,"2010-10-08","National T1 CESTAS","Qualifs Masters","2010-2011",null,null,null,null,0,null,0]
["GUILLEMANT David","SORTAIS Claude","G",3,0,180,140,"2010-10-08","National T1 CESTAS","Qualifs Masters","2010-2011",null,null,null,null,0,null,0]
["GUILLEMANT David","MAILLE Bernard","G",3,2,264,250,"2010-10-08","National T1 CESTAS","Qualifs Masters","2010-2011",null,null,null,null,0,null,0]
["GUILLEMANT David","HINGANT Matthieu","G",3,2,220,260,"2010-10-09","National T1 CESTAS","1/4 finale Masters","2010-2011",null,null,null,null,0,null,0]
["GUILLEMANT David","JUBLOT Maxime","P",1,3,158,239,"2010-10-09","National T1 CESTAS","1/2 finale Masters","2010-2011",null,null,null,null,0,null,0]
["GUILLEMANT David","DI PALMA Angelo","P",2,3,233,270,"2010-11-06","National T2 LAXOU","Qualifs Masters","2010-2011",null,null,null,null,0,null,0]
["GUILLEMANT David","HERREBRECHT Thierry","P",2,3,270,269,"2010-11-06","National T2 LAXOU","Qualifs Masters","2010-2011",null,null,null,null,0,null,0]
["GUILLEMANT David","DUVERNOY Christophe","P",1,3,185,202,"2010-12-04","National T3 FACHES THUMESNIL - RONCHIN","Qualifs Masters","2010-2011",null,null,null,null,0,null,0]
["GUILLEMANT David","ZACCAGNINI Antoine","G",3,2,292,216,"2010-12-04","National T3 FACHES THUMESNIL - RONCHIN","Qualifs Masters","2010-2011",null,null,null,null,0,null,0]
["GUILLEMANT David","DAVOINE Bruno","P",2,3,265,263,"2010-12-04","National T3 FACHES THUMESNIL - RONCHIN","Qualifs Masters","2010-2011",null,null,null,null,0,null,0]
["GUILLEMANT David","MORALES Luis","P",2,3,241,291,"2011-02-12","National T4 ROUEN","Qualifs Masters","2010-2011",null,null,null,null,0,null,0]
["GUILLEMANT David","COTTEN Jean-Pierre","G",3,0,180,147,"2011-02-12","National T4 ROUEN","Qualifs Masters","2010-2011",null,null,null,null,0,null,0]
["GUILLEMANT David","GREMAIN Gino","P",1,3,144,229,"2011-02-12","National T4 ROUEN","Qualifs Masters","2010-2011",null,null,null,null,0,null,0]
["GUILLEMANT David","PERRIN Eric","G",3,2,284,274,"2011-03-26","National T5 BLOIS","Qualifs Masters","2010-2011",null,null,null,null,0,null,0]
["GUILLEMANT David","GUILLEMANT Alexandre","P",0,3,135,180,"2011-03-26","National T5 BLOIS","Qualifs Masters","2010-2011",null,null,null,null,0,null,0]
["GUILLEMANT David","DEMILLY Jean-Sébastien","P",2,3,258,277,"2011-03-26","National T5 BLOIS","Qualifs Masters","2010-2011",null,null,null,null,0,null,0]
["GUILLEMANT David","TIRALONGO Sébastien","G",3,1,219,168,"2011-04-16","National T6 CHAMPAGNE sur SEINE / NANDY","Qualifs Masters","2010-2011",null,null,null,null,0,null,0]
["GUILLEMANT David","DUVERNOY Christophe","P",2,3,240,260,"2011-04-16","National T6 CHAMPAGNE sur SEINE / NANDY","Qualifs Masters","2010-2011",null,null,null,null,0,null,0]
["GUILLEMANT David","PERRIN Eric","G",3,0,180,103,"2011-04-16","National T6 CHAMPAGNE sur SEINE / NANDY","Qualifs Masters","2010-2011",null,null,null,null,0,null,0]
["GUILLEMANT David","JUBLOT Maxime","P",1,3,180,233,"2011-04-17","National T6 CHAMPAGNE sur SEINE / NANDY","1/4 finale Masters","2010-2011",null,null,null,null,0,null,0]
["GUILLEMANT David","DAVID Nicolas","P",0,3,144,180,"2011-10-01","National T1 CESTAS","Qualifs Masters","2011-2012",null,null,null,null,0,null,0]
["GUILLEMANT David","JUBLOT Maxime","P",2,3,234,288,"2011-10-01","National T1 CESTAS","Qualifs Masters","2011-2012",null,null,null,null,0,null,0]
["GUILLEMANT David","CASPAR Rémy","G",2,0,120,52,"2011-11-04","National T2 SCHILTIGHEIM","Préqualifs","2011-2012",null,null,null,null,0,null,0]
["GUILLEMANT David","PONTHIEUX Christian","G",2,0,120,97,"2011-11-04","National T2 SCHILTIGHEIM","Préqualifs","2011-2012",null,null,null,null,0,null,0]
["GUILLEMANT David","POULEYN André","G",2,0,120,43,"2011-11-04","National T2 SCHILTIGHEIM","Préqualifs","2011-2012",null,null,null,null,0,null,0]
["GUILLEMANT David","CARREAU Michaël","P",1,3,196,207,"2011-11-05","National T2 SCHILTIGHEIM","Qualifs Masters","2011-2012",null,null,null,null,{"$f":"IF($K144=P$1,COUNTIF($C144,\"G\"),0)","v":0},null,{"$f":"IF($K144=R$1,COUNTIF($C144,\"G\"),0)","v":0}]
["GUILLEMANT David","ZACCAGNINI Antoine","G",3,2,270,259,"2011-11-05","National T2 SCHILTIGHEIM","Qualifs Masters","2011-2012",null,null,null,null,{"$f":"IF($K145=P$1,COUNTIF($C145,\"G\"),0)","v":0},null,{"$f":"IF($K145=R$1,COUNTIF($C145,\"G\"),0)","v":0}]
["GUILLEMANT David","JUBLOT Maxime","P",1,3,167,227,"2011-11-05","National T2 SCHILTIGHEIM","Qualifs Masters","2011-2012",null,null,null,null,{"$f":"IF($K146=P$1,COUNTIF($C146,\"G\"),0)","v":0},null,{"$f":"IF($K146=R$1,COUNTIF($C146,\"G\"),0)","v":0}]
["GUILLEMANT David","GUILLEMANT Jean-Marc","G",2,0,120,87,"2011-12-02","National T3 ANNOEULLIN","Préqualifs","2011-2012",null,null,null,null,{"$f":"IF($K147=P$1,COUNTIF($C147,\"G\"),0)","v":0},null,{"$f":"IF($K147=R$1,COUNTIF($C147,\"G\"),0)","v":0}]
["GUILLEMANT David","POULEYN André","G",2,0,120,67,"2011-12-02","National T3 ANNOEULLIN","Préqualifs","2011-2012",null,null,null,null,0,null,0]
["GUILLEMANT David","NAHIRNYJ Nicolas","G",2,1,168,122,"2011-12-02","National T3 ANNOEULLIN","Préqualifs","2011-2012",null,null,null,null,0,null,0]
["GUILLEMANT David","GUILLEMANT Alexandre","P",0,3,115,180,"2011-12-03","National T3 ANNOEULLIN","Qualifs Masters","2011-2012",null,null,null,null,0,null,0]
["GUILLEMANT David","COTTEN Jean-Pierre","G",3,1,239,151,"2011-12-03","National T3 ANNOEULLIN","Qualifs Masters","2011-2012",null,null,null,null,0,null,0]
["GUILLEMANT David","JUBLOT Maxime","G",3,2,224,270,"2011-12-03","National T3 ANNOEULLIN","Qualifs Masters","2011-2012",null,null,null,null,0,null,0]
["GUILLEMANT David","GUILLEMANT Alexandre","P",0,3,88,180,"2011-12-04","National T3 ANNOEULLIN","1/4 finale Masters","2011-2012",null,null,null,null,0,null,0]
["GUILLEMANT David","MILON Guillaume","G",2,0,120,44,"2012-02-17","National T4 ORLEANS","Préqualifs","2011-2012",null,null,null,null,0,null,0]
["GUILLEMANT David","CLYNCKE Jean-Jacques","G",2,0,120,76,"2012-02-17","National T4 ORLEANS","Préqualifs","2011-2012",null,null,null,null,0,null,0]
["GUILLEMANT David","POULEYN André","G",2,0,120,72,"2012-02-17","National T4 ORLEANS","Préqualifs","2011-2012",null,null,null,null,0,null,0]
["GUILLEMANT David","TRIFAULT Amand","G",3,1,225,168,"2012-02-18","National T4 ORLEANS","Qualifs Masters","2011-2012",null,null,null,null,0,null,0]
["GUILLEMANT David","HINGANT Matthieu","P",1,3,222,227,"2012-02-18","National T4 ORLEANS","Qualifs Masters","2011-2012",null,null,null,null,0,null,0]
["GUILLEMANT David","DAVID Nicolas","P",0,3,113,180,"2012-02-18","National T4 ORLEANS","Qualifs Masters","2011-2012",null,null,null,null,0,null,0]
["GUILLEMANT David","RENARD Jean-Pierre","G",2,0,120,87,"2012-03-16","National T5 L HAY LES ROSES","Préqualifs","2011-2012",null,null,null,null,0,null,0]
["GUILLEMANT David","CLYNCKE Jean-Jacques","G",2,0,120,64,"2012-03-16","National T5 L HAY LES ROSES","Préqualifs","2011-2012",null,null,null,null,0,null,0]
["GUILLEMANT David","POULEYN André","G",2,0,120,71,"2012-03-16","National T5 L HAY LES ROSES","Préqualifs","2011-2012",null,null,null,null,0,null,0]
["GUILLEMANT David","DUVERNOY Christophe","P",2,3,239,290,"2012-03-17","National T5 L HAY LES ROSES","Qualifs Masters","2011-2012",null,null,null,null,0,null,0]
["GUILLEMANT David","DEMILLY Jean-Sébastien","G",3,1,219,205,"2012-03-17","National T5 L HAY LES ROSES","Qualifs Masters","2011-2012",null,null,null,null,0,null,0]
["GUILLEMANT David","TRIFAULT Amand","P",0,3,116,180,"2012-03-17","National T5 L HAY LES ROSES","Qualifs Masters","2011-2012",null,null,null,null,0,null,0]
["GUILLEMANT David","DI PALMA Angelo","G",3,0,180,99,"2012-05-22","National TChampionnat de France 2011 2012","Qualifications","2011-2012",null,null,null,null,0,null,0]
["GUILLEMANT David","HINGANT Matthieu","G",3,1,230,188,"2012-05-22","National TChampionnat de France 2011 2012","Qualifications","2011-2012",null,null,null,null,0,null,0]
["GUILLEMANT David","JUBLOT Maxime","P",2,3,240,269,"2012-05-23","National TChampionnat de France 2011 2012","1/4 finale Masters","2011-2012",null,null,null,null,0,null,0]
["GUILLEMANT David","BOUVIER Philippe","G",3,1,182,179,"2012-10-06","National T1 BLOIS","Qualifs Masters","2012-2013",null,null,null,null,0,null,0]
["GUILLEMANT David","DUROYON Didier","G",3,1,192,180,"2012-10-06","National T1 BLOIS","Qualifs Masters","2012-2013",null,null,null,null,0,null,0]
["GUILLEMANT David","DUVERNOY Christophe","G",3,1,186,168,"2012-10-07","National T1 BLOIS","1/4 finale Masters","2012-2013",null,null,null,null,0,null,0]
["GUILLEMANT David","RACARY Thibault","P",1,3,170,181,"2012-10-07","National T1 BLOIS","1/2 finale Masters","2012-2013",null,null,null,null,0,null,0]
["GUILLEMANT David","DAVID Nicolas","P",0,3,82,150,"2012-11-03","National T2 NANTES","Qualifs Masters","2012-2013",null,null,null,null,0,null,0]
["GUILLEMANT David","MANZOLI Angelo","P",1,3,138,194,"2012-11-04","National T2 NANTES","1/4 finale Masters","2012-2013",null,null,null,null,0,null,0]
["GUILLEMANT David","MICHELOTTI Francesco","G",3,1,187,107,"2012-11-03","National T2 NANTES","Qualifs Masters","2012-2013",null,null,null,null,0,null,0]
["GUILLEMANT David","SORTAIS Claude","G",3,0,150,113,"2012-11-03","National T2 NANTES","Qualifs Masters","2012-2013",null,null,null,null,0,null,0]
["GUILLEMANT David","BOUVIER Philippe","G",3,2,231,205,"2013-02-02","National T4 ROUEN","Qualifs Masters","2012-2013",null,null,null,null,0,null,0]
["GUILLEMANT David","MANZOLI Angelo","P",0,3,81,150,"2013-02-02","National T4 ROUEN","Qualifs Masters","2012-2013",null,null,null,null,0,null,0]
["GUILLEMANT David","MANZOLI Angelo","P",0,3,82,150,"2013-02-03","National T4 ROUEN","1/4 finale Masters","2012-2013",null,null,null,null,0,null,0]
["GUILLEMANT David","MORALES Luis","G",3,2,213,189,"2013-02-02","National T4 ROUEN","Qualifs Masters","2012-2013",null,null,null,null,0,null,0]
["GUILLEMANT David","CARREAU Michaël","G",3,2,214,191,"2013-03-09","National T5 LAXOU","Qualifs Masters","2012-2013",null,null,null,null,0,null,0]
["GUILLEMANT David","DAVID Nicolas","P",0,3,117,150,"2013-03-10","National T5 LAXOU","1/4 finale Masters","2012-2013",null,null,null,null,0,null,0]
["GUILLEMANT David","PERRIN Eric","G",3,1,179,153,"2013-03-09","National T5 LAXOU","Qualifs Masters","2012-2013",null,null,null,null,0,null,0]
["GUILLEMANT David","GUILLEMANT Alexandre","P",0,3,75,150,"2013-05-13","CHAMPIONNAT DE FRANCE MASTERS SAINT MAUR","Qualifications","2012-2013",null,null,null,null,0,null,0]
["GUILLEMANT David","HINGANT Matthieu","P",0,3,107,150,"2013-05-15","CHAMPIONNAT DE FRANCE MASTERS SAINT MAUR","1/2 Finale","2012-2013",null,null,null,null,0,null,0]
["GUILLEMANT David","CARREAU Michaël","G",3,2,200,177,"2013-05-14","CHAMPIONNAT DE FRANCE MASTERS SAINT MAUR","1/4 Finale","2012-2013",null,null,null,null,0,null,0]
["GUILLEMANT David","BOUVIER Philippe","G",3,1,189,179,"2013-05-13","CHAMPIONNAT DE FRANCE MASTERS SAINT MAUR","Qualifications","2012-2013",null,null,null,null,0,null,0]
["GUILLEMANT David","DAVID Nicolas","G",3,2,223,197,"2013-05-13","CHAMPIONNAT DE FRANCE MASTERS SAINT MAUR","Qualifications","2012-2013",null,null,null,null,0,null,0]
["GUILLEMANT DAVID","SORTAIS CLAUDE","P",2,3,257,260,"2014-10-18","National T1 GRAVELINES","Qualifs Masters","2014-2015",null,null,null,null,0,null,0]
["GUILLEMANT DAVID","MAILLE BERNARD","G",3,0,180,129,"2014-10-18","National T1 GRAVELINES","Qualifs Masters","2014-2015",null,null,null,null,1,null,0]
["GUILLEMANT DAVID","HINGANT MATTHIEU","P",0,3,106,180,"2014-10-18","National T1 GRAVELINES","Qualifs Masters","2014-2015",null,null,null,null,0,null,0]
["GUILLEMANT David","PALOMBA Sergio","G",2,0,120,93,"2014-11-28","National T2 FACHES THUMESNIL - RONCHIN","Préqualifs","2014-2015",null,null,null,null,1,null,0]
["GUILLEMANT David","VERHAGHE Dominique","G",2,0,120,53,"2014-11-28","National T2 FACHES THUMESNIL - RONCHIN","Préqualifs","2014-2015",null,null,null,null,1,null,0]
["GUILLEMANT David","LORTHIOIR Jean-Luc","G",2,0,120,68,"2014-11-28","National T2 FACHES THUMESNIL - RONCHIN","Préqualifs","2014-2015",null,null,null,null,1,null,0]
["GUILLEMANT David","CARREAU Mickaël","P",0,3,156,180,"2014-11-29","National T2 FACHES THUMESNIL - RONCHIN","Qualifs Masters","2014-2015",null,null,null,null,0,null,0]
["GUILLEMANT David","LANUSSE Christophe","P",0,3,168,180,"2014-11-29","National T2 FACHES THUMESNIL - RONCHIN","Qualifs Masters","2014-2015",null,null,null,null,0,null,0]
["GUILLEMANT David","ACUNZO Raffaelle","G",2,0,120,46,"2014-12-12","National T3 DOUARNENEZ","Préqualifs","2014-2015",null,null,null,null,1,null,0]
["GUILLEMANT David","SACRE Jean-Yves","G",2,1,130,124,"2014-12-12","National T3 DOUARNENEZ","Préqualifs","2014-2015",null,null,null,null,1,null,0]
["GUILLEMANT David","LHERMITTE Sylvain","G",2,0,120,84,"2014-12-12","National T3 DOUARNENEZ","Préqualifs","2014-2015",null,null,null,null,1,null,0]
["GUILLEMANT David","DELSOL Philippe","P",0,3,71,180,"2014-12-13","National T3 DOUARNENEZ","Qualifs Masters","2014-2015",null,null,null,null,0,null,0]
["GUILLEMANT David","GREMAIN Gino","G",3,1,235,179,"2014-12-13","National T3 DOUARNENEZ","Qualifs Masters","2014-2015",null,null,null,null,1,null,0]
["GUILLEMANT David","FOURRE Cédric","P",2,3,231,278,"2014-12-13","National T3 DOUARNENEZ","Qualifs Masters","2014-2015",null,null,null,null,0,null,0]
["GUILLEMANT David","JOUEUR BLANC","G",2,0,120,50,"2015-01-23","National T4 LAXOU","Préqualifs","2014-2015",null,null,null,null,1,null,0]
["GUILLEMANT David","TRIFAULT Amand","G",2,0,120,63,"2015-01-23","National T4 LAXOU","Préqualifs","2014-2015",null,null,null,null,1,null,0]
["GUILLEMANT David","LEBOEUF Sylvain","G",2,0,120,44,"2015-01-23","National T4 LAXOU","Préqualifs","2014-2015",null,null,null,null,1,null,0]
["GUILLEMANT David","DELSOL Philippe","P",2,3,274,253,"2015-01-24","National T4 LAXOU","Qualifs Masters","2014-2015",null,null,null,null,0,null,0]
["GUILLEMANT David","MAILLE Bernard","G",3,0,180,80,"2015-01-24","National T4 LAXOU","Qualifs Masters","2014-2015",null,null,null,null,1,null,0]
["GUILLEMANT David","DUVERNOY Christophe","P",2,3,178.00999999977648,288,"2015-01-24","National T4 LAXOU","Qualifs Masters","2014-2015",null,null,null,null,0,null,0]
["GUILLEMANT David","TRIFAULT Amand","P",2,3,243,276,"2015-10-10","National T1 ROUEN","Qualifs Masters","2015-2016",null,null,null,null,0,null,0]
["GUILLEMANT David","FOURRE Cédric","G",3,0,180,137,"2015-10-10","National T1 ROUEN","Qualifs Masters","2015-2016",null,null,null,null,0,null,1]
["GUILLEMANT David","DAVOINE Bruno","G",3,0,180,113,"2015-10-10","National T1 ROUEN","Qualifs Masters","2015-2016",null,null,null,null,{"$f":"IF($K211=P$1,COUNTIF($C211,\"G\"),0)","v":0},null,{"$f":"IF($K211=R$1,COUNTIF($C211,\"G\"),0)","v":1}]
["GUILLEMANT David","DUVERNOY Christophe","G",3,2,262,270,"2015-10-11","National T1 ROUEN","1/4 finale Masters","2015-2016",null,null,null,null,0,null,1]
["GUILLEMANT David","MANZOLI Angelo","P",2,3,191,280,"2015-10-11","National T1 ROUEN","1/2 finale Masters","2015-2016",null,null,null,null,0,null,0]
["GUILLEMANT David","SACRE Jean-Yves","G",3,1,237,161,"2015-11-14","National T2 DOUARNENEZ","Qualifs Masters","2015-2016",null,null,null,null,0,null,1]
["GUILLEMANT David","HINGANT Matthieu","P",0,3,143,180,"2015-11-14","National T2 DOUARNENEZ","Qualifs Masters","2015-2016",null,null,null,null,0,null,0]
["GUILLEMANT David","CARREAU Mickaël","P",1,3,199,228,"2015-11-14","National T2 DOUARNENEZ","Qualifs Masters","2015-2016",null,null,null,null,0,null,0]
["GUILLEMANT David","ZACCAGNINI Antoine","G",3,2,287,264,"2015-12-12","National T3 FACHES THUMESNIL - RONCHIN","Qualifs Masters","2015-2016",null,null,null,null,0,null,1]
["GUILLEMANT David","RACARY Thibault","P",0,3,145,180,"2015-12-12","National T3 FACHES THUMESNIL - RONCHIN","Qualifs Masters","2015-2016",null,null,null,null,0,null,0]
["GUILLEMANT David","MAILLE Bernard","G",3,0,180,157,"2015-12-12","National T3 FACHES THUMESNIL - RONCHIN","Qualifs Masters","2015-2016",null,null,null,null,0,null,1]
["GUILLEMANT David","HINGANT Matthieu","P",0,3,120,180,"2015-12-13","National T3 FACHES THUMESNIL - RONCHIN","1/4 finale Masters","2015-2016",null,null,null,null,0,null,0]
["GUILLEMANT David","JUBLOT Maxime","P",2,3,202,271,"2016-02-06","National T4 SCHILTIGHEIM","Qualifs Masters","2015-2016",null,null,null,null,0,null,0]
["GUILLEMANT David","SORTAIS Claude","G",3,0,180,135,"2016-02-06","National T4 SCHILTIGHEIM","Qualifs Masters","2015-2016",null,null,null,null,0,null,1]
["GUILLEMANT David","MANZOLI Angelo","G",3,2,257,260,"2016-02-06","National T4 SCHILTIGHEIM","Qualifs Masters","2015-2016",null,null,null,null,0,null,1]
["GUILLEMANT David","CARREAU Mickaël","G",3,1,211,206,"2016-02-07","National T4 SCHILTIGHEIM","1/4 finale Masters","2015-2016",null,null,null,null,0,null,1]
["GUILLEMANT David","JUBLOT Maxime","P",2,3,257,240,"2016-02-07","National T4 SCHILTIGHEIM","1/2 finale Masters","2015-2016",null,null,null,null,0,null,0]
["GUILLEMANT David","MAILLAT Emmanuel","G",3,0,180,139,"2016-03-05","National T5 GRAVELINES","Qualifs Masters","2015-2016",null,null,null,null,0,null,1]
["GUILLEMANT David","MANZOLI Angelo","P",2,3,273,265,"2016-03-05","National T5 GRAVELINES","Qualifs Masters","2015-2016",null,null,null,null,0,null,0]
["GUILLEMANT David","DUVERNOY Christophe","P",1,3,211,225,"2016-03-05","National T5 GRAVELINES","Qualifs Masters","2015-2016",null,null,null,null,0,null,0]
["GUILLEMANT David","DAVID Nicolas","P",2,3,199,237,"2016-06-25","Championnat de France Masters - SAINT MAUR DES FOSSES","1/4 Finale","2015-2016",null,null,null,null,0,null,0]
["GUILLEMANT David","DUVERNOY Christophe","G",3,0,180,137,"2016-06-25","Championnat de France Masters - SAINT MAUR DES FOSSES","Qualifications","2015-2016",null,null,null,null,0,null,1]
["GUILLEMANT David","HINGANT Matthieu","P",2,3,237,269,"2016-06-25","Championnat de France Masters - SAINT MAUR DES FOSSES","Qualifications","2015-2016",null,null,null,null,0,null,0]
["GUILLEMANT David","ROUBY Guillaume","G",3,2,272,268,"2016-06-25","Championnat de France Masters - SAINT MAUR DES FOSSES","Qualifications","2015-2016",null,null,null,null,0,null,1]
["Fin des données",null,null,null,null,null,null,null,null,null,"",null,null,null,null,{"$f":"IF($K233=P$1,COUNTIF($C233,\"G\"),0)","v":0},null,{"$f":"IF($K233=R$1,COUNTIF($C233,\"G\"),0)","v":0}]

{"sheet":"GUILLEMANT Jean-Marc","index":33,"n_rows":168,"n_cols":22,"rows_kept":168,"cut":false,"hidden":false,"merged":[]}
["GUILLEMANT Jean-Marc",null,null,null,null,null,null,null,null,null,null,null,null,null,null,{"$f":"Récapitulatif!$B$2","v":"2014-2015"},null,{"$f":"Récapitulatif!$B$3","v":"2015-2016"},null,"Toutes saisons"]
["ANNOEULLIN",null,null,null,null,null,null,null,null,null,null,null,null,null,null,"Nombre","%age","Nombre","%age","Nombre","%age"]
["017025-V",null,null,null,null,null,null,null,null,null,null,null,null,"Matchs","Gagnés",{"$f":"SUM(P$15:P$168)","v":0},{"$f":"IF(P$3+P$4>0,P3/(P$3+P$4),\"\")","v":""},{"$f":"SUM(R$15:R$168)","v":0},{"$f":"IF(R$3+R$4>0,R3/(R$3+R$4),\"\")","v":""},{"$f":"COUNTIF($C$15:$C$168,\"G\")","v":58},{"$f":"IF(T$3+T$4>0,T3/(T$3+T$4),\"\")","v":0.38157894736842107}]
["06 31 72 96 06",null,null,null,null,null,null,null,null,null,null,null,null,null,"Perdus",{"$f":"COUNTIF($K$15:$K$168,Récapitulatif!$B$2)-P3","v":0},{"$f":"IF(P$3+P$4>0,P4/(P$3+P$4),\"\")","v":""},{"$f":"COUNTIF($K$15:$K$168,Récapitulatif!$B$3)-R3","v":0},{"$f":"IF(R$3+R$4>0,R4/(R$3+R$4),\"\")","v":""},{"$f":"COUNTIF($C$15:$C$168,\"P\")","v":94},{"$f":"IF(T$3+T$4>0,T4/(T$3+T$4),\"\")","v":0.61842105263157898}]
["jeanmarc.guillemant@free.fr",null,null,null,null,null,null,null,null,null,null,null,null,null,"Total / Moy.",{"$f":"SUM(P3:P4)","v":0},{"$f":"IF(SUMIF($K$15:$K$168,Récapitulatif!$B$2,$G$15:$G$168)>0,SUMIF($K$15:$K$168,Récapitulatif!$B$2,$F$15:$F$168)/SUMIF($K$15:$K$168,Récapitulatif!$B$2,$G$15:$G$168),\"\")","v":""},{"$f":"SUM(R3:R4)","v":0},{"$f":"IF(SUMIF($K$15:$K$168,Récapitulatif!$B$3,$G$15:$G$168)>0,SUMIF($K$15:$K$168,Récapitulatif!$B$3,$F$15:$F$168)/SUMIF($K$15:$K$168,Récapitulatif!$B$3,$G$15:$G$168),\"\")","v":""},{"$f":"SUM(T3:T4)","v":152},{"$f":"IF(SUM($G$15:$G$168)>0,SUM($F$15:$F$168)/SUM($G$15:$G$168),\"\")","v":0.91460224583752059},{"$f":"IF(SUMIF($K$15:$K$168,Récapitulatif!$B$2,$G$15:$G$168)+SUMIF($K$15:$K$168,Récapitulatif!$B$3,$G$15:$G$168)>0,(SUMIF($K$15:$K$168,Récapitulatif!$B$2,$F$15:$F$168)+SUMIF($K$15:$K$168,Récapitulatif!$B$3,$F$15:$F$168))/(SUMIF($K$15:$K$168,Récapitulatif!$B$2,$G$15:$G$168)+SUMIF($K$15:$K$168,Récapitulatif!$B$3,$G$15:$G$168)),\"\")","v":""}]
[null,null,null,null,null,null,null,null,null,null,null,null,null,"Sets","Gagnés",{"$f":"SUMIF($K$15:$K$168,Récapitulatif!$B$2,$D$15:$D$168)","v":0},{"$f":"IF(P$6+P$7>0,P6/(P$6+P$7),\"\")","v":""},{"$f":"SUMIF($K$15:$K$168,Récapitulatif!$B$3,$D$15:$D$168)","v":0},{"$f":"IF(R$6+R$7>0,R6/(R$6+R$7),\"\")","v":""},{"$f":"SUM($D$15:$D$168)","v":191},{"$f":"IF(T$6+T$7>0,T6/(T$6+T$7),\"\")","v":0.41252699784017277}]
[null,null,null,null,null,null,null,null,null,null,null,null,null,null,"Perdus",{"$f":"SUMIF($K$15:$K$168,Récapitulatif!$B$2,$E$15:$E$168)","v":0},{"$f":"IF(P$6+P$7>0,P7/(P$6+P$7),\"\")","v":""},{"$f":"SUMIF($K$15:$K$168,Récapitulatif!$B$3,$E$15:$E$168)","v":0},{"$f":"IF(R$6+R$7>0,R7/(R$6+R$7),\"\")","v":""},{"$f":"SUM($E$15:$E$168)","v":272},{"$f":"IF(T$6+T$7>0,T7/(T$6+T$7),\"\")","v":0.58747300215982723}]
["Récapitulatif joueurs",null,null,null,null,null,null,null,null,null,null,null,null,null,"Total",{"$f":"SUM(P6:P7)","v":0},null,{"$f":"SUM(R6:R7)","v":0},null,{"$f":"SUM(T6:T7)","v":463}]
[]
[]
[]
[]
[]
[]
["Joueur","Adversaire","G/P","Sets gagnés","Sets perdus","pts marqués","pts subis","Date","Compétition","Phase","Saison"]
["GUILLEMANT Jean-Marc","ROUBY Jean-Chistophe","G",2,0,120,90,"2008-10-10","National T1 MAISONS ALFORT","Préqualifs",{"$f":"IF(H16<>\"\",IF(MONTH(H16)>MoisRef,YEAR(H16)&\"-\"&YEAR(H16)+1,YEAR(H16)-1&\"-\"&YEAR(H16)),\"\")","v":"2008-2009"},null,null,null,null,{"$f":"IF($K16=P$1,COUNTIF($C16,\"G\"),0)","v":0},null,{"$f":"IF($K16=R$1,COUNTIF($C16,\"G\"),0)","v":0}]
["GUILLEMANT Jean-Marc","TIRALONGO Sébastien","P",0,2,69,120,"2008-10-10","National T1 MAISONS ALFORT","Préqualifs","2008-2009",null,null,null,null,0,null,0]
["GUILLEMANT Jean-Marc","CLYNCKE Jean-Jacques","P",1,2,136,158,"2008-10-10","National T1 MAISONS ALFORT","Préqualifs","2008-2009",null,null,null,null,0,null,0]
["GUILLEMANT Jean-Marc","SORTAIS Claude","P",0,3,101,180,"2008-10-11","National T1 MAISONS ALFORT","Qualifs promotion","2008-2009",null,null,null,null,0,null,0]
["GUILLEMANT Jean-Marc","BERNARD Yves","P",1,3,171,201,"2008-10-11","National T1 MAISONS ALFORT","Qualifs promotion","2008-2009",null,null,null,null,0,null,0]
["GUILLEMANT Jean-Marc","WEBER Thierry","G",2,1,172,128,"2008-11-14","National T2 SCHILTIGHEIM","Préqualifs","2008-2009",null,null,null,null,0,null,0]
["GUILLEMANT Jean-Marc","LEMOINE Alain","P",1,2,150,177,"2008-11-14","National T2 SCHILTIGHEIM","Préqualifs","2008-2009",null,null,null,null,0,null,0]
["GUILLEMANT Jean-Marc","CARREAU Michaël","P",0,2,41,120,"2008-11-14","National T2 SCHILTIGHEIM","Préqualifs","2008-2009",null,null,null,null,0,null,0]
["GUILLEMANT Jean-Marc","MARCHISSEAU Stéphane","P",0,3,90,180,"2008-11-15","National T2 SCHILTIGHEIM","Qualifs promotion","2008-2009",null,null,null,null,0,null,0]
["GUILLEMANT Jean-Marc","SCHUB Philippe","G",3,1,220,176,"2008-11-15","National T2 SCHILTIGHEIM","Qualifs promotion","2008-2009",null,null,null,null,0,null,0]
["GUILLEMANT Jean-Marc","ROBIC Daniel","G",3,1,227,169,"2008-11-15","National T2 SCHILTIGHEIM","Qualifs promotion","2008-2009",null,null,null,null,0,null,0]
["GUILLEMANT Jean-Marc","MARCHISSEAU Stéphane","P",1,3,153,233,"2008-11-16","National T2 SCHILTIGHEIM","1/8 finale promotion","2008-2009",null,null,null,null,0,null,0]
["GUILLEMANT Jean-Marc","TIRALONGO Sébastien","P",1,2,143,171,"2008-12-12","National T3 ANNOEULLIN","Préqualifs","2008-2009",null,null,null,null,0,null,0]
["GUILLEMANT Jean-Marc","DELEPIERRE Patrick","G",2,0,120,71,"2008-12-12","National T3 ANNOEULLIN","Préqualifs","2008-2009",null,null,null,null,0,null,0]
["GUILLEMANT Jean-Marc","LORTHIOIR Jean-Luc","G",2,0,120,65,"2008-12-12","National T3 ANNOEULLIN","Préqualifs","2008-2009",null,null,null,null,0,null,0]
["GUILLEMANT Jean-Marc","GONTHIER Arnaud","G",3,1,192,167,"2008-12-13","National T3 ANNOEULLIN","Qualifs promotion","2008-2009",null,null,null,null,0,null,0]
["GUILLEMANT Jean-Marc","DEMILLY Jean-Sébastien","P",0,3,139,180,"2008-12-13","National T3 ANNOEULLIN","Qualifs promotion","2008-2009",null,null,null,null,0,null,0]
["GUILLEMANT Jean-Marc","DEBRAY Alain","G",3,2,260,194,"2008-12-13","National T3 ANNOEULLIN","Qualifs promotion","2008-2009",null,null,null,null,0,null,0]
["GUILLEMANT Jean-Marc","DEMILLY Jean-Sébastien","P",0,3,144,180,"2008-12-14","National T3 ANNOEULLIN","1/8 finale promotion","2008-2009",null,null,null,null,0,null,0]
["GUILLEMANT Jean-Marc","WALLART Jean-Charles","G",2,0,120,72,"2009-02-06","National T4 LAXOU","Préqualifs","2008-2009",null,null,null,null,0,null,0]
["GUILLEMANT Jean-Marc","BAYON Pascal","P",0,2,72,120,"2009-02-06","National T4 LAXOU","Préqualifs","2008-2009",null,null,null,null,0,null,0]
["GUILLEMANT Jean-Marc","BAGNON David","G",2,0,120,46,"2009-02-06","National T4 LAXOU","Préqualifs","2008-2009",null,null,null,null,0,null,0]
["GUILLEMANT Jean-Marc","BAGNON David","G",3,0,180,129,"2009-02-07","National T4 LAXOU","Qualifs promotion","2008-2009",null,null,null,null,0,null,0]
["GUILLEMANT Jean-Marc","GONTHIER Arnaud","G",3,0,180,127,"2009-02-07","National T4 LAXOU","Qualifs promotion","2008-2009",null,null,null,null,0,null,0]
["GUILLEMANT Jean-Marc","BASTENIER Jean","P",1,3,195,235,"2009-02-08","National T4 LAXOU","1/8 finale promotion","2008-2009",null,null,null,null,0,null,0]
["GUILLEMANT Jean-Marc","LECROART Serge","G",2,1,158,118,"2009-02-14","N1 Ligue T1 ARRAS","Poules","2008-2009",null,null,null,null,0,null,0]
["GUILLEMANT Jean-Marc","VANNUCCI Emilio","G",2,0,120,73,"2009-02-14","N1 Ligue T1 ARRAS","Poules","2008-2009",null,null,null,null,0,null,0]
["GUILLEMANT Jean-Marc","VANNUCCI Emilio","P",0,2,93,120,"2009-02-14","N1 Ligue T1 ARRAS","1/4 Finale","2008-2009",null,null,null,null,0,null,0]
["GUILLEMANT Jean-Marc","CLYNCKE Jean-Jacques","G",2,0,120,48,"2009-03-07","N1 Ligue T2 ANNOEULLIN","Poules","2008-2009",null,null,null,null,0,null,0]
["GUILLEMANT Jean-Marc","TURPIN Laurent","G",2,0,120,98,"2009-03-07","N1 Ligue T2 ANNOEULLIN","Poules","2008-2009",null,null,null,null,0,null,0]
["GUILLEMANT Jean-Marc","LORTHIOIR Jean-Luc","G",2,1,158,146,"2009-03-07","N1 Ligue T2 ANNOEULLIN","1/4 Finale","2008-2009",null,null,null,null,0,null,0]
["GUILLEMANT Jean-Marc","GUILLEMANT David","G",2,1,167,158,"2009-03-07","N1 Ligue T2 ANNOEULLIN","1/2 Finale","2008-2009",null,null,null,null,0,null,0]
["GUILLEMANT Jean-Marc","DELSOL Philippe","G",2,0,120,97,"2009-03-07","N1 Ligue T2 ANNOEULLIN","Finale",{"$f":"IF(H48<>\"\",IF(MONTH(H48)>MoisRef,YEAR(H48)&\"-\"&YEAR(H48)+1,YEAR(H48)-1&\"-\"&YEAR(H48)),\"\")","v":"2008-2009"},null,null,null,null,0,null,0]
["GUILLEMANT Jean-Marc","SCHUB Philippe","G",2,1,153,140,"2009-03-20","National T5 ANDERNOS","Préqualifs","2008-2009",null,null,null,null,0,null,0]
["GUILLEMANT Jean-Marc","PERRIN Eric","P",1,2,129,170,"2009-03-20","National T5 ANDERNOS","Préqualifs","2008-2009",null,null,null,null,0,null,0]
["GUILLEMANT Jean-Marc","CANUT Jean","G",2,0,120,40,"2009-03-20","National T5 ANDERNOS","Préqualifs","2008-2009",null,null,null,null,0,null,0]
["GUILLEMANT Jean-Marc","SACRE Jean-Yves","P",0,3,110,180,"2009-03-21","National T5 ANDERNOS","Qualifs promotion","2008-2009",null,null,null,null,0,null,0]
["GUILLEMANT Jean-Marc","PERRIN Thierry","P",0,3,121,180,"2009-03-21","National T5 ANDERNOS","Qualifs promotion","2008-2009",null,null,null,null,0,null,0]
["GUILLEMANT Jean-Marc","SAINT-GEORGES Claude","G",2,1,168,159,"2009-04-11","N1 Ligue T3 DUNKERQUE","Poules","2008-2009",null,null,null,null,0,null,0]
["GUILLEMANT Jean-Marc","HERREBRECHT Thierry","P",1,2,147,161,"2009-04-11","N1 Ligue T3 DUNKERQUE","Poules","2008-2009",null,null,null,null,0,null,0]
["GUILLEMANT Jean-Marc","TURPIN Laurent","P",0,2,98,120,"2009-04-11","N1 Ligue T3 DUNKERQUE","1/4 Finale","2008-2009",null,null,null,null,0,null,0]
["GUILLEMANT Jean-Marc","PERRIN Thierry","P",0,2,87,120,"2009-04-17","National T6 CAUDAN","Préqualifs","2008-2009",null,null,null,null,0,null,0]
["GUILLEMANT Jean-Marc","MORALES Luis","P",0,2,61,120,"2009-04-17","National T6 CAUDAN","Préqualifs","2008-2009",null,null,null,null,0,null,0]
["GUILLEMANT Jean-Marc","SAX Fabrice","P",1,2,165,179,"2009-04-17","National T6 CAUDAN","Préqualifs","2008-2009",null,null,null,null,0,null,0]
["GUILLEMANT Jean-Marc","PERRIN Eric","G",3,2,275,262,"2009-04-18","National T6 CAUDAN","Qualifs promotion","2008-2009",null,null,null,null,0,null,0]
["GUILLEMANT Jean-Marc","ZACCAGNINI Antoine","P",0,3,86,180,"2009-04-18","National T6 CAUDAN","Qualifs promotion","2008-2009",null,null,null,null,0,null,0]
["GUILLEMANT Jean-Marc","PERRIN Eric","P",1,3,108,235,"2009-04-18","National T6 CAUDAN","Qualifs promotion","2008-2009",null,null,null,null,0,null,0]
["GUILLEMANT Jean-Marc","DERIU Georges","G",2,1,169,135,"2009-11-06","National T1 SCHILTIGHEIM","Préqualifs","2009-2010",null,null,null,null,0,null,0]
["GUILLEMANT Jean-Marc","TRIFAULT Amand","P",0,2,53,120,"2009-11-06","National T1 SCHILTIGHEIM","Préqualifs","2009-2010",null,null,null,null,0,null,0]
["GUILLEMANT Jean-Marc","EVENOU Roger","G",2,1,174,124,"2009-11-06","National T1 SCHILTIGHEIM","Préqualifs","2009-2010",null,null,null,null,0,null,0]
["GUILLEMANT Jean-Marc","ZACCAGNINI Antoine","P",0,3,125,180,"2009-11-07","National T1 SCHILTIGHEIM","Qualifs promotion","2009-2010",null,null,null,null,0,null,0]
["GUILLEMANT Jean-Marc","CAUX Frédéric","P",2,3,185,272,"2009-11-07","National T1 SCHILTIGHEIM","Qualifs promotion","2009-2010",null,null,null,null,0,null,0]
["GUILLEMANT Jean-Marc","DONNEAU Philippe","G",2,0,120,30,"2009-12-04","National T2 ANNOEULLIN","Préqualifs","2009-2010",null,null,null,null,0,null,0]
["GUILLEMANT Jean-Marc","MORALES Luis","P",1,2,147,153,"2009-12-04","National T2 ANNOEULLIN","Préqualifs","2009-2010",null,null,null,null,0,null,0]
["GUILLEMANT Jean-Marc","GOUSSETIS Georges","G",2,0,120,42,"2009-12-04","National T2 ANNOEULLIN","Préqualifs","2009-2010",null,null,null,null,0,null,0]
["GUILLEMANT Jean-Marc","DEROLEZ Jean-Pierre","G",3,1,202,221,"2009-12-05","National T2 ANNOEULLIN","Qualifs promotion","2009-2010",null,null,null,null,0,null,0]
["GUILLEMANT Jean-Marc","COTTEN Jean-Pierre","P",0,3,130,180,"2009-12-05","National T2 ANNOEULLIN","Qualifs promotion","2009-2010",null,null,null,null,0,null,0]
["GUILLEMANT Jean-Marc","MORALES Luis","P",2,3,212,287,"2009-12-05","National T2 ANNOEULLIN","Qualifs promotion","2009-2010",null,null,null,null,0,null,0]
["GUILLEMANT Jean-Marc","GUILLEMANT David","P",1,2,146,159,"2009-12-19","N1 Ligue T2 ANNOEULLIN","Poules","2009-2010",null,null,null,null,0,null,0]
["GUILLEMANT Jean-Marc","LAMBIASE Guiseppe","P",0,2,80,120,"2009-12-19","N1 Ligue T2 ANNOEULLIN","Poules","2009-2010",null,null,null,null,0,null,0]
["GUILLEMANT Jean-Marc","LORTHIOIR Jean-Luc","P",1,2,153,169,"2009-12-19","N1 Ligue T2 ANNOEULLIN","Poules Consolante","2009-2010",null,null,null,null,0,null,0]
["GUILLEMANT Jean-Marc","LAMBIASE Guiseppe","P",0,2,59,120,"2009-12-19","N1 Ligue T2 ANNOEULLIN","Poules Consolante","2009-2010",null,null,null,null,0,null,0]
["GUILLEMANT Jean-Marc","HENNEUSE Patrick","G",2,1,161,124,"2010-01-16","N1 Ligue T3 ANNOEULLIN","Poules","2009-2010",null,null,null,null,0,null,0]
["GUILLEMANT Jean-Marc","GEETS Patrice","G",2,0,120,93,"2010-01-16","N1 Ligue T3 ANNOEULLIN","Poules","2009-2010",null,null,null,null,0,null,0]
["GUILLEMANT Jean-Marc","WALLART Jean-Charles","P",1,2,95,175,"2010-01-16","N1 Ligue T3 ANNOEULLIN","1/4 Finale","2009-2010",null,null,null,null,{"$f":"IF($K80=P$1,COUNTIF($C80,\"G\"),0)","v":0},null,{"$f":"IF($K80=R$1,COUNTIF($C80,\"G\"),0)","v":0}]
["GUILLEMANT Jean-Marc","WALLART Jean-Charles","G",2,1,176,156,"2009-05-09","Finale Ligue N1 ANNOEULLIN","Poules","2008-2009",null,null,null,null,0,null,0]
["GUILLEMANT Jean-Marc","SAINT-GEORGES Claude","G",2,1,148,158,"2009-05-09","Finale Ligue N1 ANNOEULLIN","Poules","2008-2009",null,null,null,null,0,null,0]
["GUILLEMANT Jean-Marc","HERREBRECHT Thierry","P",0,3,119,180,"2009-05-09","Finale Ligue N1 ANNOEULLIN","1/2 finale","2008-2009",null,null,null,null,0,null,0]
["GUILLEMANT Jean-Marc","SAINT-GEORGES Claude","P",2,3,234,272,"2009-05-09","Finale Ligue N1 ANNOEULLIN","3ème/4ème place","2008-2009",null,null,null,null,0,null,0]
["GUILLEMANT Jean-Marc","MARCHISSEAU Stéphane","P",1,2,127,170,"2010-03-26","National T5 ST SEBASTIEN / LOIRE","Préqualifs","2009-2010",null,null,null,null,0,null,0]
["GUILLEMANT Jean-Marc","BLET-CHARAUDEAU Jean-Pierre","G",2,0,120,98,"2010-03-26","National T5 ST SEBASTIEN / LOIRE","Préqualifs","2009-2010",null,null,null,null,0,null,0]
["GUILLEMANT Jean-Marc","HERREBRECHT Thierry","P",1,2,136,168,"2010-03-26","National T5 ST SEBASTIEN / LOIRE","Préqualifs","2009-2010",null,null,null,null,0,null,0]
["GUILLEMANT Jean-Marc","BELLO Francois","G",3,2,265,222,"2010-03-27","National T5 ST SEBASTIEN / LOIRE","Qualifs promotion","2009-2010",null,null,null,null,0,null,0]
["GUILLEMANT Jean-Marc","DERIU Georges","P",2,3,243,277,"2010-03-27","National T5 ST SEBASTIEN / LOIRE","Qualifs promotion","2009-2010",null,null,null,null,0,null,0]
["GUILLEMANT Jean-Marc","BELLO Francois","P",1,3,207,231,"2010-03-27","National T5 ST SEBASTIEN / LOIRE","Qualifs promotion","2009-2010",null,null,null,null,0,null,0]
["GUILLEMANT Jean-Marc","GUILLEMANT David","P",0,2,74,120,"2010-10-07","National T1 CESTAS","Préqualifs","2010-2011",null,null,null,null,0,null,0]
["GUILLEMANT Jean-Marc","FONTAINE Isabelle","P",1,2,161,172,"2010-10-07","National T1 CESTAS","Préqualifs","2010-2011",null,null,null,null,0,null,0]
["GUILLEMANT Jean-Marc","DERIU Georges","G",2,1,179,163,"2010-10-07","National T1 CESTAS","Préqualifs","2010-2011",null,null,null,null,0,null,0]
["GUILLEMANT Jean-Marc","BASTENIER Jean","P",1,3,163,231,"2010-10-08","National T1 CESTAS","Qualifs promotion","2010-2011",null,null,null,null,0,null,0]
["GUILLEMANT Jean-Marc","PERRIN Thierry","G",3,1,228,184,"2010-10-08","National T1 CESTAS","Qualifs promotion","2010-2011",null,null,null,null,0,null,0]
["GUILLEMANT Jean-Marc","DUPOUY Daniel","G",3,0,180,57,"2010-10-08","National T1 CESTAS","Qualifs promotion","2010-2011",null,null,null,null,0,null,0]
["GUILLEMANT Jean-Marc","BOUVIER Philippe","P",0,3,78,180,"2010-10-09","National T1 CESTAS","1/8 finale promotion","2010-2011",null,null,null,null,0,null,0]
["GUILLEMANT Jean-Marc","QUENEY Damien","P",0,2,81,120,"2010-11-05","National T2 LAXOU","Préqualifs","2010-2011",null,null,null,null,0,null,0]
["GUILLEMANT Jean-Marc","FOURRE Cédric","P",0,2,89,120,"2010-11-05","National T2 LAXOU","Préqualifs","2010-2011",null,null,null,null,0,null,0]
["GUILLEMANT Jean-Marc","ELUECQUE Philippe","G",2,1,178,137,"2010-11-05","National T2 LAXOU","Préqualifs","2010-2011",null,null,null,null,0,null,0]
["GUILLEMANT Jean-Marc","ZILLIG Pierre","P",1,3,194,214,"2010-11-06","National T2 LAXOU","Qualifs promotion","2010-2011",null,null,null,null,0,null,0]
["GUILLEMANT Jean-Marc","CLYNCKE Jean-Jacques","P",2,3,272,272,"2010-11-06","National T2 LAXOU","Qualifs promotion","2010-2011",null,null,null,null,0,null,0]
["GUILLEMANT Jean-Marc","MAILLE Bernard","P",0,2,70,120,"2010-12-03","National T3 FACHES THUMESNIL - RONCHIN","Préqualifs","2010-2011",null,null,null,null,0,null,0]
["GUILLEMANT Jean-Marc","POULEYN André","P",1,2,115,145,"2010-12-03","National T3 FACHES THUMESNIL - RONCHIN","Préqualifs","2010-2011",null,null,null,null,0,null,0]
["GUILLEMANT Jean-Marc","VANNUCCI Emilio","P",0,2,87,120,"2010-12-03","National T3 FACHES THUMESNIL - RONCHIN","Préqualifs","2010-2011",null,null,null,null,0,null,0]
["GUILLEMANT Jean-Marc","MICHELOTTI Francesco","P",0,2,100,120,"2011-02-11","National T4 ROUEN","Préqualifs","2010-2011",null,null,null,null,0,null,0]
["GUILLEMANT Jean-Marc","GREMAIN Gino","P",0,2,80,120,"2011-02-11","National T4 ROUEN","Préqualifs","2010-2011",null,null,null,null,0,null,0]
["GUILLEMANT Jean-Marc","BLANC J.","G",2,0,120,118,"2011-02-11","National T4 ROUEN","Préqualifs","2010-2011",null,null,null,null,0,null,0]
["GUILLEMANT Jean-Marc","TIRALONGO Sébastien","G",3,0,180,106,"2011-02-12","National T4 ROUEN","Qualifs promotion","2010-2011",null,null,null,null,0,null,0]
["GUILLEMANT Jean-Marc","TREAL Jean","P",2,3,248,221,"2011-02-12","National T4 ROUEN","Qualifs promotion","2010-2011",null,null,null,null,0,null,0]
["GUILLEMANT Jean-Marc","DUROYON Didier","P",0,3,149,180,"2011-02-12","National T4 ROUEN","Qualifs promotion","2010-2011",null,null,null,null,0,null,0]
["GUILLEMANT Jean-Marc","DELATTRE Hervé","P",1,2,142,175,"2011-03-25","National T5 BLOIS","Préqualifs","2010-2011",null,null,null,null,0,null,0]
["GUILLEMANT Jean-Marc","TIRABY Maurice","G",2,0,120,97,"2011-03-25","National T5 BLOIS","Préqualifs","2010-2011",null,null,null,null,0,null,0]
["GUILLEMANT Jean-Marc","PERRIN Eric","P",0,2,79,120,"2011-03-25","National T5 BLOIS","Préqualifs","2010-2011",null,null,null,null,0,null,0]
["GUILLEMANT Jean-Marc","WALLART Jean-Charles","P",1,3,190,233,"2011-03-26","National T5 BLOIS","Qualifs promotion","2010-2011",null,null,null,null,0,null,0]
["GUILLEMANT Jean-Marc","SCHUB Philippe","G",3,2,235,229,"2011-03-26","National T5 BLOIS","Qualifs promotion","2010-2011",null,null,null,null,0,null,0]
["GUILLEMANT Jean-Marc","GEETS Patrice","G",3,1,205,167,"2011-03-26","National T5 BLOIS","Qualifs promotion","2010-2011",null,null,null,null,0,null,0]
["GUILLEMANT Jean-Marc","ZILLIG Pierre","G",3,1,214,183,"2011-03-27","National T5 BLOIS","1/8 finale promotion","2010-2011",null,null,null,null,0,null,0]
["GUILLEMANT Jean-Marc","FOURRE Cédric","P",0,3,122,180,"2011-03-27","National T5 BLOIS","1/4 finale promotion","2010-2011",null,null,null,null,0,null,0]
["GUILLEMANT Jean-Marc","MAILLE Bernard","P",0,2,77,120,"2011-04-15","National T6 CHAMPAGNE sur SEINE / NANDY","Préqualifs","2010-2011",null,null,null,null,0,null,0]
["GUILLEMANT Jean-Marc","GOUTHIER Alain","G",2,0,120,83,"2011-04-15","National T6 CHAMPAGNE sur SEINE / NANDY","Préqualifs","2010-2011",null,null,null,null,0,null,0]
["GUILLEMANT Jean-Marc","BRETEL Gérard","P",0,2,110,120,"2011-04-15","National T6 CHAMPAGNE sur SEINE / NANDY","Préqualifs","2010-2011",null,null,null,null,0,null,0]
["GUILLEMANT Jean-Marc","AUCLAIR Henri","P",1,3,179,231,"2011-04-16","National T6 CHAMPAGNE sur SEINE / NANDY","Qualifs promotion","2010-2011",null,null,null,null,0,null,0]
["GUILLEMANT Jean-Marc","CAUX Frédéric","P",0,3,167,180,"2011-04-16","National T6 CHAMPAGNE sur SEINE / NANDY","Qualifs promotion","2010-2011",null,null,null,null,0,null,0]
["GUILLEMANT Jean-Marc","CHESNAU Christophe","P",1,3,176,216,"2011-05-14","National SCHILTIGHEIM","Qualifs","2010-2011",null,null,null,null,0,null,0]
["GUILLEMANT Jean-Marc","LHEUREUX François","P",0,3,74,180,"2011-05-14","National SCHILTIGHEIM","Qualifs","2010-2011",null,null,null,null,0,null,0]
["GUILLEMANT Jean-Marc","ZACCAGNINI Antoine","P",0,3,133,180,"2011-05-14","National SCHILTIGHEIM","Qualifs","2010-2011",null,null,null,null,0,null,0]
["GUILLEMANT Jean-Marc","URSA Eric","P",0,2,55,120,"2011-09-30","National T1 CESTAS","Préqualifs","2011-2012",null,null,null,null,0,null,0]
["GUILLEMANT Jean-Marc","MARCHISSEAU Stéphane","P",1,2,161,172,"2011-09-30","National T1 CESTAS","Préqualifs","2011-2012",null,null,null,null,0,null,0]
["GUILLEMANT Jean-Marc","DRONET Chrystel","G",2,1,157,137,"2011-09-30","National T1 CESTAS","Préqualifs","2011-2012",null,null,null,null,0,null,0]
["GUILLEMANT Jean-Marc","URSA Eric","P",1,3,200,228,"2011-10-01","National T1 CESTAS","Qualifs promotion","2011-2012",null,null,null,null,0,null,0]
["GUILLEMANT Jean-Marc","SACRE Jean-Yves","G",3,2,256,248,"2011-10-01","National T1 CESTAS","Qualifs promotion","2011-2012",null,null,null,null,0,null,0]
["GUILLEMANT Jean-Marc","ZACCAGNINI Antoine","P",0,3,101,180,"2011-10-01","National T1 CESTAS","Qualifs promotion","2011-2012",null,null,null,null,0,null,0]
["GUILLEMANT Jean-Marc","GUILLEMANT David","P",0,2,87,120,"2011-12-02","National T3 ANNOEULLIN","Préqualifs","2011-2012",null,null,null,null,0,null,0]
["GUILLEMANT Jean-Marc","NAHIRNYJ Nicolas","G",2,0,120,81,"2011-12-02","National T3 ANNOEULLIN","Préqualifs","2011-2012",null,null,null,null,0,null,0]
["GUILLEMANT Jean-Marc","POULEYN André","P",0,2,43,120,"2011-12-02","National T3 ANNOEULLIN","Préqualifs","2011-2012",null,null,null,null,0,null,0]
["GUILLEMANT Jean-Marc","GEETS Patrice","P",1,3,167,187,"2011-12-03","National T3 ANNOEULLIN","Qualifs promotion","2011-2012",null,null,null,null,0,null,0]
["GUILLEMANT Jean-Marc","WALLART Jean-Charles","P",1,3,165,210,"2011-12-03","National T3 ANNOEULLIN","Qualifs promotion","2011-2012",null,null,null,null,0,null,0]
["GUILLEMANT Jean-Marc","DUROYON Didier","P",1,2,133,164,"2012-02-17","National T4 ORLEANS","Préqualifs","2011-2012",null,null,null,null,0,null,0]
["GUILLEMANT Jean-Marc","DARMENTE Jean-Claude","P",0,2,86,120,"2012-02-17","National T4 ORLEANS","Préqualifs","2011-2012",null,null,null,null,0,null,0]
["GUILLEMANT Jean-Marc","BOUVIER Philippe","P",1,2,104,160,"2012-02-17","National T4 ORLEANS","Préqualifs","2011-2012",null,null,null,null,0,null,0]
["GUILLEMANT Jean-Marc","DALLIER Dominique","G",3,0,150,122,"2012-10-06","National T1 BLOIS","Qualifs promotion","2012-2013",null,null,null,null,0,null,0]
["GUILLEMANT Jean-Marc","DAVOINE Bruno","P",0,3,62,150,"2012-10-06","National T1 BLOIS","Qualifs promotion","2012-2013",null,null,null,null,0,null,0]
["GUILLEMANT Jean-Marc","GANGLOFF Jean-Luc","P",1,2,110,118,"2012-10-05","National T1 BLOIS","Préqualifs","2012-2013",null,null,null,null,0,null,0]
["GUILLEMANT Jean-Marc","GREMAIN Gino","P",0,2,75,100,"2012-10-05","National T1 BLOIS","Préqualifs","2012-2013",null,null,null,null,0,null,0]
["GUILLEMANT Jean-Marc","MAIZOUE Alain","G",2,0,100,58,"2012-10-05","National T1 BLOIS","Préqualifs","2012-2013",null,null,null,null,0,null,0]
["GUILLEMANT Jean-Marc","MORMICHE Michel","G",3,2,187,196,"2012-10-06","National T1 BLOIS","Qualifs promotion","2012-2013",null,null,null,null,0,null,0]
["GUILLEMANT Jean-Marc","WALLART Jean-Charles","P",1,3,142,179,"2012-10-07","National T1 BLOIS","1/8 finale promotion","2012-2013",null,null,null,null,0,null,0]
["GUILLEMANT Jean-Marc","DOUGNAC Nathalie","G",2,0,100,80,"2012-11-02","National T2 NANTES","Préqualifs","2012-2013",null,null,null,null,0,null,0]
["GUILLEMANT Jean-Marc","FRAUDEAU Michel","G",3,1,173,122,"2012-11-03","National T2 NANTES","Qualifs promotion","2012-2013",null,null,null,null,0,null,0]
["GUILLEMANT Jean-Marc","LANUSSE Christophe","G",3,2,227,211,"2012-11-03","National T2 NANTES","Qualifs promotion","2012-2013",null,null,null,null,0,null,0]
["GUILLEMANT Jean-Marc","MORMICHE Michel","P",0,3,82.100000001490116,150,"2012-11-03","National T2 NANTES","Qualifs promotion","2012-2013",null,null,null,null,0,null,0]
["GUILLEMANT Jean-Marc","MORMICHE Michel","P",0,3,93,150,"2012-11-04","National T2 NANTES","1/8 finale promotion","2012-2013",null,null,null,null,0,null,0]
["GUILLEMANT Jean-Marc","ROBIC Daniel","P",1,2,135,127,"2012-11-02","National T2 NANTES","Préqualifs","2012-2013",null,null,null,null,0,null,0]
["GUILLEMANT Jean-Marc","ZACCAGNINI Antoine","G",2,1,120,145,"2012-11-02","National T2 NANTES","Préqualifs","2012-2013",null,null,null,null,0,null,0]
["GUILLEMANT Jean-Marc","CLYNCKE Jean-Jacques","G",3,2,201,163,"2013-02-02","National T4 ROUEN","Qualifs promotion","2012-2013",null,null,null,null,0,null,0]
["GUILLEMANT Jean-Marc","SAINT-GEORGES Claude","P",0,2,40,100,"2013-02-01","National T4 ROUEN","Préqualifs","2012-2013",null,null,null,null,0,null,0]
["GUILLEMANT Jean-Marc","SAINT-GEORGES Claude","P",1,3,130,198,"2013-02-02","National T4 ROUEN","Qualifs promotion","2012-2013",null,null,null,null,0,null,0]
["GUILLEMANT Jean-Marc","TALBOT Michel","P",1,2,123,139,"2013-02-01","National T4 ROUEN","Préqualifs","2012-2013",null,null,null,null,0,null,0]
["GUILLEMANT Jean-Marc","TRIFAULT Amand","P",1,2,115,149,"2013-02-01","National T4 ROUEN","Préqualifs","2012-2013",null,null,null,null,0,null,0]
["GUILLEMANT Jean-Marc","ZACCAGNINI Antoine","P",0,3,111,150,"2013-02-02","National T4 ROUEN","Qualifs promotion","2012-2013",null,null,null,null,0,null,0]
["GUILLEMANT Jean-Marc","EVENOU Marie-Antoinette","G",2,0,100,49,"2013-03-08","National T5 LAXOU","Préqualifs","2012-2013",null,null,null,null,0,null,0]
["GUILLEMANT Jean-Marc","HERVELIN Gabriel","P",2,3,221,229,"2013-03-09","National T5 LAXOU","Qualifs promotion","2012-2013",null,null,null,null,0,null,0]
["GUILLEMANT Jean-Marc","LEGRAND Guy","P",0,2,66,100,"2013-03-08","National T5 LAXOU","Préqualifs","2012-2013",null,null,null,null,0,null,0]
["GUILLEMANT Jean-Marc","LHEUREUX François","G",3,1,188,154,"2013-03-09","National T5 LAXOU","Qualifs promotion","2012-2013",null,null,null,null,0,null,0]
["GUILLEMANT Jean-Marc","PAU Mariano","P",0,2,50,100,"2013-03-08","National T5 LAXOU","Préqualifs","2012-2013",null,null,null,null,0,null,0]
["GUILLEMANT Jean-Marc","WALLART Jean-Charles","P",2,3,208,214,"2013-03-09","National T5 LAXOU","Qualifs promotion","2012-2013",null,null,null,null,0,null,0]
["Fin des données",null,null,null,null,null,null,null,null,null,"",null,null,null,null,0,null,0]

{"sheet":"GUILLUY Jean-René","index":34,"n_rows":19,"n_cols":22,"rows_kept":19,"cut":false,"hidden":false,"merged":[]}
["GUILLUY Jean-René",null,null,null,null,null,null,null,null,null,null,null,null,null,null,{"$f":"Récapitulatif!$B$2","v":"2014-2015"},null,{"$f":"Récapitulatif!$B$3","v":"2015-2016"},null,"Toutes saisons"]
[{"$error":"#N/A"},null,null,null,null,null,null,null,null,null,null,null,null,null,null,"Nombre","%age","Nombre","%age","Nombre","%age"]
[{"$error":"#N/A"},null,null,null,null,null,null,null,null,null,null,null,null,"Matchs","Gagnés",{"$f":"SUM(P$15:P$19)","v":0},{"$f":"IF(P$3+P$4>0,P3/(P$3+P$4),\"\")","v":""},{"$f":"SUM(R$15:R$19)","v":0},{"$f":"IF(R$3+R$4>0,R3/(R$3+R$4),\"\")","v":""},{"$f":"COUNTIF($C$15:$C$19,\"G\")","v":0},{"$f":"IF(T$3+T$4>0,T3/(T$3+T$4),\"\")","v":0}]
[{"$error":"#N/A"},null,null,null,null,null,null,null,null,null,null,null,null,null,"Perdus",{"$f":"COUNTIF($K$15:$K$19,Récapitulatif!$B$2)-P3","v":0},{"$f":"IF(P$3+P$4>0,P4/(P$3+P$4),\"\")","v":""},{"$f":"COUNTIF($K$15:$K$19,Récapitulatif!$B$3)-R3","v":0},{"$f":"IF(R$3+R$4>0,R4/(R$3+R$4),\"\")","v":""},{"$f":"COUNTIF($C$15:$C$19,\"P\")","v":3},{"$f":"IF(T$3+T$4>0,T4/(T$3+T$4),\"\")","v":1}]
[{"$error":"#N/A"},null,null,null,null,null,null,null,null,null,null,null,null,null,"Total / Moy.",{"$f":"SUM(P3:P4)","v":0},{"$f":"IF(SUMIF($K$15:$K$19,Récapitulatif!$B$2,$G$15:$G$19)>0,SUMIF($K$15:$K$19,Récapitulatif!$B$2,$F$15:$F$19)/SUMIF($K$15:$K$19,Récapitulatif!$B$2,$G$15:$G$19),\"\")","v":""},{"$f":"SUM(R3:R4)","v":0},{"$f":"IF(SUMIF($K$15:$K$19,Récapitulatif!$B$3,$G$15:$G$19)>0,SUMIF($K$15:$K$19,Récapitulatif!$B$3,$F$15:$F$19)/SUMIF($K$15:$K$19,Récapitulatif!$B$3,$G$15:$G$19),\"\")","v":""},{"$f":"SUM(T3:T4)","v":3},{"$f":"IF(SUM($G$15:$G$19)>0,SUM($F$15:$F$19)/SUM($G$15:$G$19),\"\")","v":0.47333333333333333},{"$f":"IF(SUMIF($K$15:$K$19,Récapitulatif!$B$2,$G$15:$G$19)+SUMIF($K$15:$K$19,Récapitulatif!$B$3,$G$15:$G$19)>0,(SUMIF($K$15:$K$19,Récapitulatif!$B$2,$F$15:$F$19)+SUMIF($K$15:$K$19,Récapitulatif!$B$3,$F$15:$F$19))/(SUMIF($K$15:$K$19,Récapitulatif!$B$2,$G$15:$G$19)+SUMIF($K$15:$K$19,Récapitulatif!$B$3,$G$15:$G$19)),\"\")","v":""}]
[null,null,null,null,null,null,null,null,null,null,null,null,null,"Sets","Gagnés",{"$f":"SUMIF($K$15:$K$19,Récapitulatif!$B$2,$D$15:$D$19)","v":0},{"$f":"IF(P$6+P$7>0,P6/(P$6+P$7),\"\")","v":""},{"$f":"SUMIF($K$15:$K$19,Récapitulatif!$B$3,$D$15:$D$19)","v":0},{"$f":"IF(R$6+R$7>0,R6/(R$6+R$7),\"\")","v":""},{"$f":"SUM($D$15:$D$19)","v":0},{"$f":"IF(T$6+T$7>0,T6/(T$6+T$7),\"\")","v":0}]
[null,null,null,null,null,null,null,null,null,null,null,null,null,null,"Perdus",{"$f":"SUMIF($K$15:$K$19,Récapitulatif!$B$2,$E$15:$E$19)","v":0},{"$f":"IF(P$6+P$7>0,P7/(P$6+P$7),\"\")","v":""},{"$f":"SUMIF($K$15:$K$19,Récapitulatif!$B$3,$E$15:$E$19)","v":0},{"$f":"IF(R$6+R$7>0,R7/(R$6+R$7),\"\")","v":""},{"$f":"SUM($E$15:$E$19)","v":3},{"$f":"IF(T$6+T$7>0,T7/(T$6+T$7),\"\")","v":1}]
["Récapitulatif joueurs",null,null,null,null,null,null,null,null,null,null,null,null,null,"Total",{"$f":"SUM(P6:P7)","v":0},null,{"$f":"SUM(R6:R7)","v":0},null,{"$f":"SUM(T6:T7)","v":3}]
[]
[]
[]
[]
[]
[]
["Joueur","Adversaire","G/P","Sets gagnés","Sets perdus","pts marqués","pts subis","Date","Compétition","Phase","Saison"]
["GUILLUY Jean-René","LECROART Serge","P",0,1,47,100,"2012-12-15","N1 Ligue T4 VILLENEUVE D'ASCQ","Poules Consolante",{"$f":"IF(H16<>\"\",IF(MONTH(H16)>MoisRef,YEAR(H16)&\"-\"&YEAR(H16)+1,YEAR(H16)-1&\"-\"&YEAR(H16)),\"\")","v":"2012-2013"},null,null,null,null,{"$f":"IF($K16=P$1,COUNTIF($C16,\"G\"),0)","v":0},null,{"$f":"IF($K16=R$1,COUNTIF($C16,\"G\"),0)","v":0}]
["GUILLUY Jean-René","WALLART Jean-Charles","P",0,1,36,100,"2012-12-15","N1 Ligue T4 VILLENEUVE D'ASCQ","Poules Consolante",{"$f":"IF(H17<>\"\",IF(MONTH(H17)>MoisRef,YEAR(H17)&\"-\"&YEAR(H17)+1,YEAR(H17)-1&\"-\"&YEAR(H17)),\"\")","v":"2012-2013"},null,null,null,null,{"$f":"IF($K17=P$1,COUNTIF($C17,\"G\"),0)","v":0},null,{"$f":"IF($K17=R$1,COUNTIF($C17,\"G\"),0)","v":0}]
["GUILLUY Jean-René","POULEYN André","P",0,1,59,100,"2012-12-15","N1 Ligue T4 VILLENEUVE D'ASCQ","5ème 6ème Consolante",{"$f":"IF(H18<>\"\",IF(MONTH(H18)>MoisRef,YEAR(H18)&\"-\"&YEAR(H18)+1,YEAR(H18)-1&\"-\"&YEAR(H18)),\"\")","v":"2012-2013"},null,null,null,null,{"$f":"IF($K18=P$1,COUNTIF($C18,\"G\"),0)","v":0},null,{"$f":"IF($K18=R$1,COUNTIF($C18,\"G\"),0)","v":0}]
["Fin des données",null,null,null,null,null,null,null,null,null,{"$f":"IF(H19<>\"\",IF(MONTH(H19)>MoisRef,YEAR(H19)&\"-\"&YEAR(H19)+1,YEAR(H19)-1&\"-\"&YEAR(H19)),\"\")","v":""},null,null,null,null,{"$f":"IF($K19=P$1,COUNTIF($C19,\"G\"),0)","v":0},null,{"$f":"IF($K19=R$1,COUNTIF($C19,\"G\"),0)","v":0}]

{"sheet":"HENNEUSE Patrick","index":35,"n_rows":35,"n_cols":22,"rows_kept":35,"cut":false,"hidden":false,"merged":[]}
["HENNEUSE Patrick",null,null,null,null,null,null,null,null,null,null,null,null,null,null,{"$f":"Récapitulatif!$B$2","v":"2014-2015"},null,{"$f":"Récapitulatif!$B$3","v":"2015-2016"},null,"Toutes saisons"]
["BRUAY SUR ESCAUT",null,null,null,null,null,null,null,null,null,null,null,null,null,null,"Nombre","%age","Nombre","%age","Nombre","%age"]
["016721-D",null,null,null,null,null,null,null,null,null,null,null,null,"Matchs","Gagnés",{"$f":"SUM(P$15:P$35)","v":0},{"$f":"IF(P$3+P$4>0,P3/(P$3+P$4),\"\")","v":""},{"$f":"SUM(R$15:R$35)","v":0},{"$f":"IF(R$3+R$4>0,R3/(R$3+R$4),\"\")","v":""},{"$f":"COUNTIF($C$15:$C$35,\"G\")","v":7},{"$f":"IF(T$3+T$4>0,T3/(T$3+T$4),\"\")","v":0.36842105263157893}]
[null,null,null,null,null,null,null,null,null,null,null,null,null,null,"Perdus",{"$f":"COUNTIF($K$15:$K$35,Récapitulatif!$B$2)-P3","v":0},{"$f":"IF(P$3+P$4>0,P4/(P$3+P$4),\"\")","v":""},{"$f":"COUNTIF($K$15:$K$35,Récapitulatif!$B$3)-R3","v":0},{"$f":"IF(R$3+R$4>0,R4/(R$3+R$4),\"\")","v":""},{"$f":"COUNTIF($C$15:$C$35,\"P\")","v":12},{"$f":"IF(T$3+T$4>0,T4/(T$3+T$4),\"\")","v":0.63157894736842102}]
["pathenne@SFR.fr",null,null,null,null,null,null,null,null,null,null,null,null,null,"Total / Moy.",{"$f":"SUM(P3:P4)","v":0},{"$f":"IF(SUMIF($K$15:$K$35,Récapitulatif!$B$2,$G$15:$G$35)>0,SUMIF($K$15:$K$35,Récapitulatif!$B$2,$F$15:$F$35)/SUMIF($K$15:$K$35,Récapitulatif!$B$2,$G$15:$G$35),\"\")","v":""},{"$f":"SUM(R3:R4)","v":0},{"$f":"IF(SUMIF($K$15:$K$35,Récapitulatif!$B$3,$G$15:$G$35)>0,SUMIF($K$15:$K$35,Récapitulatif!$B$3,$F$15:$F$35)/SUMIF($K$15:$K$35,Récapitulatif!$B$3,$G$15:$G$35),\"\")","v":""},{"$f":"SUM(T3:T4)","v":19},{"$f":"IF(SUM($G$15:$G$35)>0,SUM($F$15:$F$35)/SUM($G$15:$G$35),\"\")","v":0.91682563906905756},{"$f":"IF(SUMIF($K$15:$K$35,Récapitulatif!$B$2,$G$15:$G$35)+SUMIF($K$15:$K$35,Récapitulatif!$B$3,$G$15:$G$35)>0,(SUMIF($K$15:$K$35,Récapitulatif!$B$2,$F$15:$F$35)+SUMIF($K$15:$K$35,Récapitulatif!$B$3,$F$15:$F$35))/(SUMIF($K$15:$K$35,Récapitulatif!$B$2,$G$15:$G$35)+SUMIF($K$15:$K$35,Récapitulatif!$B$3,$G$15:$G$35)),\"\")","v":""}]
[null,null,null,null,null,null,null,null,null,null,null,null,null,"Sets","Gagnés",{"$f":"SUMIF($K$15:$K$35,Récapitulatif!$B$2,$D$15:$D$35)","v":0},{"$f":"IF(P$6+P$7>0,P6/(P$6+P$7),\"\")","v":""},{"$f":"SUMIF($K$15:$K$35,Récapitulatif!$B$3,$D$15:$D$35)","v":0},{"$f":"IF(R$6+R$7>0,R6/(R$6+R$7),\"\")","v":""},{"$f":"SUM($D$15:$D$35)","v":22},{"$f":"IF(T$6+T$7>0,T6/(T$6+T$7),\"\")","v":0.43137254901960786}]
[null,null,null,null,null,null,null,null,null,null,null,null,null,null,"Perdus",{"$f":"SUMIF($K$15:$K$35,Récapitulatif!$B$2,$E$15:$E$35)","v":0},{"$f":"IF(P$6+P$7>0,P7/(P$6+P$7),\"\")","v":""},{"$f":"SUMIF($K$15:$K$35,Récapitulatif!$B$3,$E$15:$E$35)","v":0},{"$f":"IF(R$6+R$7>0,R7/(R$6+R$7),\"\")","v":""},{"$f":"SUM($E$15:$E$35)","v":29},{"$f":"IF(T$6+T$7>0,T7/(T$6+T$7),\"\")","v":0.56862745098039214}]
["Récapitulatif joueurs",null,null,null,null,null,null,null,null,null,null,null,null,null,"Total",{"$f":"SUM(P6:P7)","v":0},null,{"$f":"SUM(R6:R7)","v":0},null,{"$f":"SUM(T6:T7)","v":51}]
[]
[]
[]
[]
[]
[]
["Joueur","Adversaire","G/P","Sets gagnés","Sets perdus","pts marqués","pts subis","Date","Compétition","Phase","Saison"]
["HENNEUSE Patrick","MARTEL Jean-Pierre","G",2,0,120,97,"2009-12-19","N1 Ligue T2 ANNOEULLIN","Poules",{"$f":"IF(H16<>\"\",IF(MONTH(H16)>MoisRef,YEAR(H16)&\"-\"&YEAR(H16)+1,YEAR(H16)-1&\"-\"&YEAR(H16)),\"\")","v":"2009-2010"},null,null,null,null,{"$f":"IF($K16=P$1,COUNTIF($C16,\"G\"),0)","v":0},null,{"$f":"IF($K16=R$1,COUNTIF($C16,\"G\"),0)","v":0}]
["HENNEUSE Patrick","WALLART Jean-Charles","G",2,1,159,140,"2009-12-19","N1 Ligue T2 ANNOEULLIN","Poules","2009-2010",null,null,null,null,0,null,0]
["HENNEUSE Patrick","LHERMITTE Cédric","P",1,2,113,170,"2009-12-19","N1 Ligue T2 ANNOEULLIN","1/4 Finale","2009-2010",null,null,null,null,0,null,0]
["HENNEUSE Patrick","MARTEL Jean-Pierre","P",1,2,141,168,"2010-01-16","N1 Ligue T3 ANNOEULLIN","Poules Consolante","2009-2010",null,null,null,null,0,null,0]
["HENNEUSE Patrick","BASTENIER Jean","P",1,2,163,165,"2010-01-16","N1 Ligue T3 ANNOEULLIN","Poules Consolante","2009-2010",null,null,null,null,0,null,0]
["HENNEUSE Patrick","GUILLEMANT Jean-Marc","P",1,2,124,161,"2010-01-16","N1 Ligue T3 ANNOEULLIN","Poules","2009-2010",null,null,null,null,0,null,0]
["HENNEUSE Patrick","GEETS Patrice","P",1,2,120,173,"2010-01-16","N1 Ligue T3 ANNOEULLIN","Poules","2009-2010",null,null,null,null,0,null,0]
["HENNEUSE Patrick","BASTENIER Jean","P",0,2,93,120,"2010-02-20","N1 Ligue T4 DOUAI","Poules","2009-2010",null,null,null,null,0,null,0]
["HENNEUSE Patrick","BASTENIER Jean","G",2,1,167,131,"2010-02-20","N1 Ligue T4 DOUAI","Poules","2009-2010",null,null,null,null,0,null,0]
["HENNEUSE Patrick","GUILLEMANT David","P",0,2,74,120,"2010-02-20","N1 Ligue T4 DOUAI","1/8 Finale","2009-2010",null,null,null,null,0,null,0]
["HENNEUSE Patrick","MEUROT Philippe","P",1,2,107,149,"2010-02-20","N1 Ligue T4 DOUAI","Poules Consolante","2009-2010",null,null,null,null,0,null,0]
["HENNEUSE Patrick","MARTEL Jean-Pierre","P",0,2,107,120,"2010-02-20","N1 Ligue T4 DOUAI","Poules Consolante","2009-2010",null,null,null,null,0,null,0]
["HENNEUSE Patrick","VEREECQUE Ludovic","G",2,0,120,96,"2010-10-16","N1 Ligue T1 DOUAI","Poules","2010-2011",null,null,null,null,0,null,0]
["HENNEUSE Patrick","MARTEL Jean-Pierre","P",1,2,159,142,"2010-10-16","N1 Ligue T1 DOUAI","Poules","2010-2011",null,null,null,null,0,null,0]
["HENNEUSE Patrick","TURPIN Laurent","G",2,1,160,132,"2010-10-16","N1 Ligue T1 DOUAI","1/8 Finale","2010-2011",null,null,null,null,0,null,0]
["HENNEUSE Patrick","VANNUCCI Emilio","P",0,2,60,120,"2010-10-16","N1 Ligue T1 DOUAI","1/4 Finale","2010-2011",null,null,null,null,0,null,0]
["HENNEUSE Patrick","POULEYN André","G",2,1,144,151,"2012-10-13","N1 Ligue T1 ANNOEULLIN","Poules","2012-2013",null,null,null,null,0,null,0]
["HENNEUSE Patrick","WALLART Jean-Charles","G",2,1,150,93,"2012-10-13","N1 Ligue T1 ANNOEULLIN","Poules","2012-2013",null,null,null,null,0,null,0]
["HENNEUSE Patrick","WALLART Jean-Charles","P",1,2,122,173,"2012-10-13","N1 Ligue T1 ANNOEULLIN","1/8 Finale","2012-2013",null,null,null,null,0,null,0]
["Fin des données",null,null,null,null,null,null,null,null,null,"",null,null,null,null,{"$f":"IF($K35=P$1,COUNTIF($C35,\"G\"),0)","v":0},null,{"$f":"IF($K35=R$1,COUNTIF($C35,\"G\"),0)","v":0}]

{"sheet":"HERREBRECHT Emerick","index":36,"n_rows":33,"n_cols":22,"rows_kept":33,"cut":false,"hidden":false,"merged":[]}
["HERREBRECHT Emerick",null,null,null,null,null,null,null,null,null,null,null,null,null,null,{"$f":"Récapitulatif!$B$2","v":"2014-2015"},null,{"$f":"Récapitulatif!$B$3","v":"2015-2016"},null,"Toutes saisons"]
["<Club>",null,null,null,null,null,null,null,null,null,null,null,null,null,null,"Nombre","%age","Nombre","%age","Nombre","%age"]
["<Licence>",null,null,null,null,null,null,null,null,null,null,null,null,"Matchs","Gagnés",{"$f":"SUM(P$15:P$33)","v":2},{"$f":"IF(P$3+P$4>0,P3/(P$3+P$4),\"\")","v":0.25},{"$f":"SUM(R$15:R$33)","v":0},{"$f":"IF(R$3+R$4>0,R3/(R$3+R$4),\"\")","v":0},{"$f":"COUNTIF($C$15:$C$33,\"G\")","v":3},{"$f":"IF(T$3+T$4>0,T3/(T$3+T$4),\"\")","v":0.17647058823529413}]
["<Tel>",null,null,null,null,null,null,null,null,null,null,null,null,null,"Perdus",{"$f":"COUNTIF($K$15:$K$33,Récapitulatif!$B$2)-P3","v":6},{"$f":"IF(P$3+P$4>0,P4/(P$3+P$4),\"\")","v":0.75},{"$f":"COUNTIF($K$15:$K$33,Récapitulatif!$B$3)-R3","v":5},{"$f":"IF(R$3+R$4>0,R4/(R$3+R$4),\"\")","v":1},{"$f":"COUNTIF($C$15:$C$33,\"P\")","v":14},{"$f":"IF(T$3+T$4>0,T4/(T$3+T$4),\"\")","v":0.82352941176470584}]
["<email>",null,null,null,null,null,null,null,null,null,null,null,null,null,"Total / Moy.",{"$f":"SUM(P3:P4)","v":8},{"$f":"IF(SUMIF($K$15:$K$33,Récapitulatif!$B$2,$G$15:$G$33)>0,SUMIF($K$15:$K$33,Récapitulatif!$B$2,$F$15:$F$33)/SUMIF($K$15:$K$33,Récapitulatif!$B$2,$G$15:$G$33),\"\")","v":0.61822125813449025},{"$f":"SUM(R3:R4)","v":5},{"$f":"IF(SUMIF($K$15:$K$33,Récapitulatif!$B$3,$G$15:$G$33)>0,SUMIF($K$15:$K$33,Récapitulatif!$B$3,$F$15:$F$33)/SUMIF($K$15:$K$33,Récapitulatif!$B$3,$G$15:$G$33),\"\")","v":0.67349137931034486},{"$f":"SUM(T3:T4)","v":17},{"$f":"IF(SUM($G$15:$G$33)>0,SUM($F$15:$F$33)/SUM($G$15:$G$33),\"\")","v":0.65623876303487949},{"$f":"IF(SUMIF($K$15:$K$33,Récapitulatif!$B$2,$G$15:$G$33)+SUMIF($K$15:$K$33,Récapitulatif!$B$3,$G$15:$G$33)>0,(SUMIF($K$15:$K$33,Récapitulatif!$B$2,$F$15:$F$33)+SUMIF($K$15:$K$33,Récapitulatif!$B$3,$F$15:$F$33))/(SUMIF($K$15:$K$33,Récapitulatif!$B$2,$G$15:$G$33)+SUMIF($K$15:$K$33,Récapitulatif!$B$3,$G$15:$G$33)),\"\")","v":0.64041540458675894}]
[null,null,null,null,null,null,null,null,null,null,null,null,null,"Sets","Gagnés",{"$f":"SUMIF($K$15:$K$33,Récapitulatif!$B$2,$D$15:$D$33)","v":8},{"$f":"IF(P$6+P$7>0,P6/(P$6+P$7),\"\")","v":0.32},{"$f":"SUMIF($K$15:$K$33,Récapitulatif!$B$3,$D$15:$D$33)","v":4},{"$f":"IF(R$6+R$7>0,R6/(R$6+R$7),\"\")","v":0.25},{"$f":"SUM($D$15:$D$33)","v":14},{"$f":"IF(T$6+T$7>0,T6/(T$6+T$7),\"\")","v":0.29166666666666669}]
[null,null,null,null,null,null,null,null,null,null,null,null,null,null,"Perdus",{"$f":"SUMIF($K$15:$K$33,Récapitulatif!$B$2,$E$15:$E$33)","v":17},{"$f":"IF(P$6+P$7>0,P7/(P$6+P$7),\"\")","v":0.68},{"$f":"SUMIF($K$15:$K$33,Récapitulatif!$B$3,$E$15:$E$33)","v":12},{"$f":"IF(R$6+R$7>0,R7/(R$6+R$7),\"\")","v":0.75},{"$f":"SUM($E$15:$E$33)","v":34},{"$f":"IF(T$6+T$7>0,T7/(T$6+T$7),\"\")","v":0.70833333333333337}]
["Récapitulatif joueurs",null,null,null,null,null,null,null,null,null,null,null,null,null,"Total",{"$f":"SUM(P6:P7)","v":25},null,{"$f":"SUM(R6:R7)","v":16},null,{"$f":"SUM(T6:T7)","v":48}]
[]
[]
[]
[]
[]
[]
["Joueur","Adversaire","G/P","Sets gagnés","Sets perdus","pts marqués","pts subis","Date","Compétition","Phase","Saison"]
["HERREBRECHT Emerick","LORTHIOIR Jean-Luc","P",0,2,75,120,"2014-01-04","N1 Ligue T1 ANNOEULLIN","Poules",{"$f":"IF(H16<>\"\",IF(MONTH(H16)>MoisRef,YEAR(H16)&\"-\"&YEAR(H16)+1,YEAR(H16)-1&\"-\"&YEAR(H16)),\"\")","v":"2013-2014"},null,null,null,null,{"$f":"IF($K16=P$1,COUNTIF($C16,\"G\"),0)","v":0},null,{"$f":"IF($K16=R$1,COUNTIF($C16,\"G\"),0)","v":0}]
["HERREBRECHT Emerick","TURPIN Laurent","P",1,2,103,157,"2014-01-04","N1 Ligue T1 ANNOEULLIN","Poules","2013-2014",null,null,null,null,0,null,0]
["HERREBRECHT Emerick","DELFORGE Benjamin","G",1,0,100,93,"2014-01-04","N1 Ligue T1 ANNOEULLIN","Poules Consolante","2013-2014",null,null,null,null,0,null,0]
["HERREBRECHT Emerick","LORTHIOIR Jean-Luc","P",0,1,67,100,"2014-01-04","N1 Ligue T1 ANNOEULLIN","Poules Consolante","2013-2014",null,null,null,null,0,null,0]
["HERREBRECHT Emerick","BOUVIER Philippe","P",0,2,62,120,"2014-11-28","National T2 FACHES THUMESNIL - RONCHIN","Préqualifs","2014-2015",null,null,null,null,0,null,0]
["HERREBRECHT Emerick","GOUTHIER Alain","G",2,1,130,162,"2014-11-28","National T2 FACHES THUMESNIL - RONCHIN","Préqualifs","2014-2015",null,null,null,null,1,null,0]
["HERREBRECHT Emerick","SACRE Jean-Yves","P",0,2,52,120,"2014-11-28","National T2 FACHES THUMESNIL - RONCHIN","Préqualifs","2014-2015",null,null,null,null,0,null,0]
["HERREBRECHT Emerick","BONNEAU Benoît","P",0,3,72,180,"2014-11-29","National T2 FACHES THUMESNIL - RONCHIN","Qualifs promotion","2014-2015",null,null,null,null,0,null,0]
["HERREBRECHT Emerick","EVENOU Marie-Antoinette","P",1,3,115,215,"2014-11-29","National T2 FACHES THUMESNIL - RONCHIN","Qualifs promotion","2014-2015",null,null,null,null,0,null,0]
["HERREBRECHT Emerick","VASSEUR Cédric","P",2,3,187,250,"2014-12-27","CF Juniors","Poules","2014-2015",null,null,null,null,0,null,0]
["HERREBRECHT Emerick","ROUBY Guillaume","P",0,3,57,180,"2014-12-27","CF Juniors","Poules","2014-2015",null,null,null,null,0,null,0]
["HERREBRECHT Emerick","Joueur Blanc","G",3,0,180,156,"2014-12-27","CF Juniors","Poules","2014-2015",null,null,null,null,1,null,0]
["HERREBRECHT Emerick","BONGIOVANNI Giovanni","P",1,2,153,178,"2016-03-04","National T5 GRAVELINES","Préqualifs","2015-2016",null,null,null,null,0,null,0]
["HERREBRECHT Emerick","WEBER Thierry","P",1,2,128,166,"2016-03-04","National T5 GRAVELINES","Préqualifs","2015-2016",null,null,null,null,0,null,0]
["HERREBRECHT Emerick","ROUBY Guillaume","P",0,2,27,120,"2016-03-04","National T5 GRAVELINES","Préqualifs","2015-2016",null,null,null,null,0,null,0]
["HERREBRECHT Emerick","CLYNCKE Jean-Jacques","P",2,3,248,284,"2016-03-05","National T5 GRAVELINES","Qualifs promotion","2015-2016",null,null,null,null,0,null,0]
["HERREBRECHT Emerick","JUBLOT Denis","P",0,3,69,180,"2016-03-05","National T5 GRAVELINES","Qualifs promotion","2015-2016",null,null,null,null,0,null,0]
["Fin des données",null,null,null,null,null,null,null,null,null,"",null,null,null,null,0,null,0]

{"sheet":"HERREBRECHT Erian","index":37,"n_rows":38,"n_cols":22,"rows_kept":38,"cut":false,"hidden":false,"merged":[]}
["HERREBRECHT Erian",null,null,null,null,null,null,null,null,null,null,null,null,null,null,{"$f":"Récapitulatif!$B$2","v":"2014-2015"},null,{"$f":"Récapitulatif!$B$3","v":"2015-2016"},null,"Toutes saisons"]
["<Club>",null,null,null,null,null,null,null,null,null,null,null,null,null,null,"Nombre","%age","Nombre","%age","Nombre","%age"]
["<Licence>",null,null,null,null,null,null,null,null,null,null,null,null,"Matchs","Gagnés",{"$f":"SUM(P$15:P$38)","v":1},{"$f":"IF(P$3+P$4>0,P3/(P$3+P$4),\"\")","v":9.0909090909090912E-2},{"$f":"SUM(R$15:R$38)","v":0},{"$f":"IF(R$3+R$4>0,R3/(R$3+R$4),\"\")","v":0},{"$f":"COUNTIF($C$15:$C$38,\"G\")","v":3},{"$f":"IF(T$3+T$4>0,T3/(T$3+T$4),\"\")","v":0.13636363636363635}]
["<Tel>",null,null,null,null,null,null,null,null,null,null,null,null,null,"Perdus",{"$f":"COUNTIF($K$15:$K$38,Récapitulatif!$B$2)-P3","v":10},{"$f":"IF(P$3+P$4>0,P4/(P$3+P$4),\"\")","v":0.90909090909090906},{"$f":"COUNTIF($K$15:$K$38,Récapitulatif!$B$3)-R3","v":3},{"$f":"IF(R$3+R$4>0,R4/(R$3+R$4),\"\")","v":1},{"$f":"COUNTIF($C$15:$C$38,\"P\")","v":19},{"$f":"IF(T$3+T$4>0,T4/(T$3+T$4),\"\")","v":0.86363636363636365}]
["<email>",null,null,null,null,null,null,null,null,null,null,null,null,null,"Total / Moy.",{"$f":"SUM(P3:P4)","v":11},{"$f":"IF(SUMIF($K$15:$K$38,Récapitulatif!$B$2,$G$15:$G$38)>0,SUMIF($K$15:$K$38,Récapitulatif!$B$2,$F$15:$F$38)/SUMIF($K$15:$K$38,Récapitulatif!$B$2,$G$15:$G$38),\"\")","v":0.64193548387096777},{"$f":"SUM(R3:R4)","v":3},{"$f":"IF(SUMIF($K$15:$K$38,Récapitulatif!$B$3,$G$15:$G$38)>0,SUMIF($K$15:$K$38,Récapitulatif!$B$3,$F$15:$F$38)/SUMIF($K$15:$K$38,Récapitulatif!$B$3,$G$15:$G$38),\"\")","v":0.40833333333333333},{"$f":"SUM(T3:T4)","v":22},{"$f":"IF(SUM($G$15:$G$38)>0,SUM($F$15:$F$38)/SUM($G$15:$G$38),\"\")","v":0.65797195956961196},{"$f":"IF(SUMIF($K$15:$K$38,Récapitulatif!$B$2,$G$15:$G$38)+SUMIF($K$15:$K$38,Récapitulatif!$B$3,$G$15:$G$38)>0,(SUMIF($K$15:$K$38,Récapitulatif!$B$2,$F$15:$F$38)+SUMIF($K$15:$K$38,Récapitulatif!$B$3,$F$15:$F$38))/(SUMIF($K$15:$K$38,Récapitulatif!$B$2,$G$15:$G$38)+SUMIF($K$15:$K$38,Récapitulatif!$B$3,$G$15:$G$38)),\"\")","v":0.6040540540540541}]
[null,null,null,null,null,null,null,null,null,null,null,null,null,"Sets","Gagnés",{"$f":"SUMIF($K$15:$K$38,Récapitulatif!$B$2,$D$15:$D$38)","v":7},{"$f":"IF(P$6+P$7>0,P6/(P$6+P$7),\"\")","v":0.21212121212121213},{"$f":"SUMIF($K$15:$K$38,Récapitulatif!$B$3,$D$15:$D$38)","v":0},{"$f":"IF(R$6+R$7>0,R6/(R$6+R$7),\"\")","v":0},{"$f":"SUM($D$15:$D$38)","v":10},{"$f":"IF(T$6+T$7>0,T6/(T$6+T$7),\"\")","v":0.19230769230769232}]
[null,null,null,null,null,null,null,null,null,null,null,null,null,null,"Perdus",{"$f":"SUMIF($K$15:$K$38,Récapitulatif!$B$2,$E$15:$E$38)","v":26},{"$f":"IF(P$6+P$7>0,P7/(P$6+P$7),\"\")","v":0.78787878787878785},{"$f":"SUMIF($K$15:$K$38,Récapitulatif!$B$3,$E$15:$E$38)","v":6},{"$f":"IF(R$6+R$7>0,R7/(R$6+R$7),\"\")","v":1},{"$f":"SUM($E$15:$E$38)","v":42},{"$f":"IF(T$6+T$7>0,T7/(T$6+T$7),\"\")","v":0.80769230769230771}]
["Récapitulatif joueurs",null,null,null,null,null,null,null,null,null,null,null,null,null,"Total",{"$f":"SUM(P6:P7)","v":33},null,{"$f":"SUM(R6:R7)","v":6},null,{"$f":"SUM(T6:T7)","v":52}]
[]
[]
[]
[]
[]
[]
["Joueur","Adversaire","G/P","Sets gagnés","Sets perdus","pts marqués","pts subis","Date","Compétition","Phase","Saison"]
["HERREBRECHT Erian","FLEURANT Richard","P",0,2,70,120,"2014-01-04","N1 Ligue T1 ANNOEULLIN","Poules",{"$f":"IF(H16<>\"\",IF(MONTH(H16)>MoisRef,YEAR(H16)&\"-\"&YEAR(H16)+1,YEAR(H16)-1&\"-\"&YEAR(H16)),\"\")","v":"2013-2014"},null,null,null,null,{"$f":"IF($K16=P$1,COUNTIF($C16,\"G\"),0)","v":0},null,{"$f":"IF($K16=R$1,COUNTIF($C16,\"G\"),0)","v":0}]
["HERREBRECHT Erian","HERREBRECHT Thierry","P",0,2,57,120,"2014-01-04","N1 Ligue T1 ANNOEULLIN","Poules","2013-2014",null,null,null,null,0,null,0]
["HERREBRECHT Erian","DEPLECHIN Robert","P",0,1,50,100,"2014-01-04","N1 Ligue T1 ANNOEULLIN","Poules Consolante","2013-2014",null,null,null,null,0,null,0]
["HERREBRECHT Erian","HOCHARD James","G",1,0,100,42,"2014-01-04","N1 Ligue T1 ANNOEULLIN","Poules Consolante","2013-2014",null,null,null,null,0,null,0]
["HERREBRECHT Erian","PARISIS Francis","P",0,2,92,120,"2014-04-05","N1 Ligue T3 GRAVELINES","Poules","2013-2014",null,null,null,null,0,null,0]
["HERREBRECHT Erian","CAUX Grégory","P",1,2,138,150,"2014-04-05","N1 Ligue T3 GRAVELINES","Poules","2013-2014",null,null,null,null,0,null,0]
["HERREBRECHT Erian","ESTERMANS Bernard","P",0,1,70,100,"2014-04-05","N1 Ligue T3 GRAVELINES","Poules Consolante","2013-2014",null,null,null,null,0,null,0]
["HERREBRECHT Erian","DEPLECHIN Robert","G",1,0,100,95,"2014-04-05","N1 Ligue T3 GRAVELINES","Poules Consolante","2013-2014",null,null,null,null,0,null,0]
["HERREBRECHT Erian","LANUSSE Christophe","P",0,2,6,120,"2014-11-28","National T2 FACHES THUMESNIL - RONCHIN","Préqualifs","2014-2015",null,null,null,null,0,null,0]
["HERREBRECHT Erian","GANGLOFF Jean-Luc","P",1,2,154,153,"2014-11-28","National T2 FACHES THUMESNIL - RONCHIN","Préqualifs","2014-2015",null,null,null,null,0,null,0]
["HERREBRECHT Erian","DRONET Chrystel","P",1,2,102,162,"2014-11-28","National T2 FACHES THUMESNIL - RONCHIN","Préqualifs","2014-2015",null,null,null,null,0,null,0]
["HERREBRECHT Erian","GEETS Patrice","P",0,3,78,180,"2014-11-29","National T2 FACHES THUMESNIL - RONCHIN","Qualifs promotion","2014-2015",null,null,null,null,0,null,0]
["HERREBRECHT Erian","GANGLOFF Jean-Luc","P",0,3,92,180,"2014-11-29","National T2 FACHES THUMESNIL - RONCHIN","Qualifs promotion","2014-2015",null,null,null,null,0,null,0]
["HERREBRECHT Erian","AIRAULT Jean-Michel","P",1,2,138,177,"2015-03-20","National T5 SAINT QUENTIN","Préqualifs","2014-2015",null,null,null,null,0,null,0]
["HERREBRECHT Erian","GOUTHIER Alain","P",1,2,129,160,"2015-03-20","National T5 SAINT QUENTIN","Préqualifs","2014-2015",null,null,null,null,0,null,0]
["HERREBRECHT Erian","MORMICHE Michel","P",0,2,68,120,"2015-03-20","National T5 SAINT QUENTIN","Préqualifs","2014-2015",null,null,null,null,0,null,0]
["HERREBRECHT Erian","FOULON Jeremy","G",3,2,248,248,"2014-12-27","CF Juniors","Poules","2014-2015",null,null,null,null,1,null,0]
["HERREBRECHT Erian","LEMATRE Alexis","P",0,3,91,180,"2014-12-27","CF Juniors","Poules","2014-2015",null,null,null,null,0,null,0]
["HERREBRECHT Erian","GUINGAND Florian","P",0,3,88,180,"2014-12-27","CF Juniors","Poules","2014-2015",null,null,null,null,0,null,0]
["HERREBRECHT Erian","JUBLOT Maxime","P",0,2,43,120,"2016-03-04","National T5 GRAVELINES","Préqualifs","2015-2016",null,null,null,null,0,null,0]
["HERREBRECHT Erian","COSTE Philippe","P",0,2,49,120,"2016-03-04","National T5 GRAVELINES","Préqualifs","2015-2016",null,null,null,null,0,null,0]
["HERREBRECHT Erian","BAYON Pascal","P",0,2,55,120,"2016-03-04","National T5 GRAVELINES","Préqualifs","2015-2016",null,null,null,null,0,null,0]
["Fin des données",null,null,null,null,null,null,null,null,null,"",null,null,null,null,{"$f":"IF($K38=P$1,COUNTIF($C38,\"G\"),0)","v":0},null,{"$f":"IF($K38=R$1,COUNTIF($C38,\"G\"),0)","v":0}]

{"sheet":"HERREBRECHT Thierry","index":38,"n_rows":204,"n_cols":22,"rows_kept":204,"cut":false,"hidden":false,"merged":[]}
["HERREBRECHT Thierry",null,null,null,null,null,null,null,null,null,null,null,null,null,null,{"$f":"Récapitulatif!$B$2","v":"2014-2015"},null,{"$f":"Récapitulatif!$B$3","v":"2015-2016"},null,"Toutes saisons"]
["ST POL SUR MER",null,null,null,null,null,null,null,null,null,null,null,null,null,null,"Nombre","%age","Nombre","%age","Nombre","%age"]
["017224-M",null,null,null,null,null,null,null,null,null,null,null,null,"Matchs","Gagnés",{"$f":"SUM(P$15:P$204)","v":21},{"$f":"IF(P$3+P$4>0,P3/(P$3+P$4),\"\")","v":0.7},{"$f":"SUM(R$15:R$204)","v":0},{"$f":"IF(R$3+R$4>0,R3/(R$3+R$4),\"\")","v":""},{"$f":"COUNTIF($C$15:$C$204,\"G\")","v":136},{"$f":"IF(T$3+T$4>0,T3/(T$3+T$4),\"\")","v":0.72340425531914898}]
["06 03 31 48 90",null,null,null,null,null,null,null,null,null,null,null,null,null,"Perdus",{"$f":"COUNTIF($K$15:$K$204,Récapitulatif!$B$2)-P3","v":9},{"$f":"IF(P$3+P$4>0,P4/(P$3+P$4),\"\")","v":0.3},{"$f":"COUNTIF($K$15:$K$204,Récapitulatif!$B$3)-R3","v":0},{"$f":"IF(R$3+R$4>0,R4/(R$3+R$4),\"\")","v":""},{"$f":"COUNTIF($C$15:$C$204,\"P\")","v":52},{"$f":"IF(T$3+T$4>0,T4/(T$3+T$4),\"\")","v":0.27659574468085107}]
["thierry.herrebrecht@ateim.fr",null,null,null,null,null,null,null,null,null,null,null,null,null,"Total / Moy.",{"$f":"SUM(P3:P4)","v":30},{"$f":"IF(SUMIF($K$15:$K$204,Récapitulatif!$B$2,$G$15:$G$204)>0,SUMIF($K$15:$K$204,Récapitulatif!$B$2,$F$15:$F$204)/SUMIF($K$15:$K$204,Récapitulatif!$B$2,$G$15:$G$204),\"\")","v":1.1995708154506437},{"$f":"SUM(R3:R4)","v":0},{"$f":"IF(SUMIF($K$15:$K$204,Récapitulatif!$B$3,$G$15:$G$204)>0,SUMIF($K$15:$K$204,Récapitulatif!$B$3,$F$15:$F$204)/SUMIF($K$15:$K$204,Récapitulatif!$B$3,$G$15:$G$204),\"\")","v":""},{"$f":"SUM(T3:T4)","v":188},{"$f":"IF(SUM($G$15:$G$204)>0,SUM($F$15:$F$204)/SUM($G$15:$G$204),\"\")","v":1.1726956231107937},{"$f":"IF(SUMIF($K$15:$K$204,Récapitulatif!$B$2,$G$15:$G$204)+SUMIF($K$15:$K$204,Récapitulatif!$B$3,$G$15:$G$204)>0,(SUMIF($K$15:$K$204,Récapitulatif!$B$2,$F$15:$F$204)+SUMIF($K$15:$K$204,Récapitulatif!$B$3,$F$15:$F$204))/(SUMIF($K$15:$K$204,Récapitulatif!$B$2,$G$15:$G$204)+SUMIF($K$15:$K$204,Récapitulatif!$B$3,$G$15:$G$204)),\"\")","v":1.1995708154506437}]
[null,null,null,null,null,null,null,null,null,null,null,null,null,"Sets","Gagnés",{"$f":"SUMIF($K$15:$K$204,Récapitulatif!$B$2,$D$15:$D$204)","v":61},{"$f":"IF(P$6+P$7>0,P6/(P$6+P$7),\"\")","v":0.64210526315789473},{"$f":"SUMIF($K$15:$K$204,Récapitulatif!$B$3,$D$15:$D$204)","v":0},{"$f":"IF(R$6+R$7>0,R6/(R$6+R$7),\"\")","v":""},{"$f":"SUM($D$15:$D$204)","v":371},{"$f":"IF(T$6+T$7>0,T6/(T$6+T$7),\"\")","v":0.6396551724137931}]
[null,null,null,null,null,null,null,null,null,null,null,null,null,null,"Perdus",{"$f":"SUMIF($K$15:$K$204,Récapitulatif!$B$2,$E$15:$E$204)","v":34},{"$f":"IF(P$6+P$7>0,P7/(P$6+P$7),\"\")","v":0.35789473684210527},{"$f":"SUMIF($K$15:$K$204,Récapitulatif!$B$3,$E$15:$E$204)","v":0},{"$f":"IF(R$6+R$7>0,R7/(R$6+R$7),\"\")","v":""},{"$f":"SUM($E$15:$E$204)","v":209},{"$f":"IF(T$6+T$7>0,T7/(T$6+T$7),\"\")","v":0.3603448275862069}]
["Récapitulatif joueurs",null,null,null,null,null,null,null,null,null,null,null,null,null,"Total",{"$f":"SUM(P6:P7)","v":95},null,{"$f":"SUM(R6:R7)","v":0},null,{"$f":"SUM(T6:T7)","v":580}]
[]
[]
[]
[]
[]
[]
["Joueur","Adversaire","G/P","Sets gagnés","Sets perdus","pts marqués","pts subis","Date","Compétition","Phase","Saison"]
["HERREBRECHT Thierry","ZILLIG Pierre","G",2,0,120,79,"2008-12-12","National T3 ANNOEULLIN","Préqualifs",{"$f":"IF(H16<>\"\",IF(MONTH(H16)>MoisRef,YEAR(H16)&\"-\"&YEAR(H16)+1,YEAR(H16)-1&\"-\"&YEAR(H16)),\"\")","v":"2008-2009"},null,null,null,null,{"$f":"IF($K16=P$1,COUNTIF($C16,\"G\"),0)","v":0},null,{"$f":"IF($K16=R$1,COUNTIF($C16,\"G\"),0)","v":0}]
["HERREBRECHT Thierry","FONTAINE Isabelle","G",2,0,120,61,"2008-12-12","National T3 ANNOEULLIN","Préqualifs","2008-2009",null,null,null,null,0,null,0]
["HERREBRECHT Thierry","PICOT Sylvain","P",0,2,64,120,"2008-12-12","National T3 ANNOEULLIN","Préqualifs","2008-2009",null,null,null,null,0,null,0]
["HERREBRECHT Thierry","BOUVIER Philippe","G",3,1,222,178,"2008-12-13","National T3 ANNOEULLIN","Qualifs promotion","2008-2009",null,null,null,null,0,null,0]
["HERREBRECHT Thierry","MAILLE Bernard","G",3,2,241,249,"2008-12-13","National T3 ANNOEULLIN","Qualifs promotion","2008-2009",null,null,null,null,0,null,0]
["HERREBRECHT Thierry","ZACCAGNINI Antoine","G",3,1,234,175,"2008-12-14","National T3 ANNOEULLIN","1/8 finale promotion","2008-2009",null,null,null,null,0,null,0]
["HERREBRECHT Thierry","DEMILLY Jean-Sébastien","G",3,0,180,139,"2008-12-14","National T3 ANNOEULLIN"," 1/4 finale promotion","2008-2009",null,null,null,null,0,null,0]
["HERREBRECHT Thierry","DELSOL Philippe","G",3,0,180,158,"2008-12-14","National T3 ANNOEULLIN","1/2 finale promotion","2008-2009",null,null,null,null,0,null,0]
["HERREBRECHT Thierry","MORALES Luis","P",1,3,169,224,"2008-12-14","National T3 ANNOEULLIN","Finale promotion","2008-2009",null,null,null,null,0,null,0]
["HERREBRECHT Thierry","PAILLART Jean-Paul","G",2,0,120,45,"2009-02-06","National T4 LAXOU","Préqualifs","2008-2009",null,null,null,null,0,null,0]
["HERREBRECHT Thierry","DEMILLY Jean-Sébastien","P",1,2,150,154,"2009-02-06","National T4 LAXOU","Préqualifs","2008-2009",null,null,null,null,0,null,0]
["HERREBRECHT Thierry","SIX Jean-Paul","G",2,0,120,73,"2009-02-06","National T4 LAXOU","Préqualifs","2008-2009",null,null,null,null,0,null,0]
["HERREBRECHT Thierry","EVENOU Marie-Antoinette","G",3,0,180,40,"2009-02-07","National T4 LAXOU","Qualifs promotion","2008-2009",null,null,null,null,0,null,0]
["HERREBRECHT Thierry","QUENEY Damien","G",3,1,239,131,"2009-02-07","National T4 LAXOU","Qualifs promotion","2008-2009",null,null,null,null,0,null,0]
["HERREBRECHT Thierry","PAU Mariano","G",3,0,180,125,"2009-02-08","National T4 LAXOU","1/8 finale promotion","2008-2009",null,null,null,null,0,null,0]
["HERREBRECHT Thierry","ZACCAGNINI Antoine","G",3,2,274,215,"2009-02-08","National T4 LAXOU"," 1/4 finale promotion","2008-2009",null,null,null,null,0,null,0]
["HERREBRECHT Thierry","REBELO Joaquim","P",0,3,132,180,"2009-02-08","National T4 LAXOU","1/2 finale promotion","2008-2009",null,null,null,null,0,null,0]
["HERREBRECHT Thierry","TRUQUET David","G",2,1,165,152,"2009-03-07","N1 Ligue T2 ANNOEULLIN","Poules","2008-2009",null,null,null,null,0,null,0]
["HERREBRECHT Thierry","WALLART Jean-Charles","G",2,0,120,95,"2009-03-07","N1 Ligue T2 ANNOEULLIN","Poules","2008-2009",null,null,null,null,0,null,0]
["HERREBRECHT Thierry","GUILLEMANT David","P",1,2,148,155,"2009-03-07","N1 Ligue T2 ANNOEULLIN","1/4 Finale","2008-2009",null,null,null,null,0,null,0]
["HERREBRECHT Thierry","SAINT-GEORGES Claude","P",1,2,155,168,"2009-04-11","N1 Ligue T3 DUNKERQUE","Poules","2008-2009",null,null,null,null,0,null,0]
["HERREBRECHT Thierry","GUILLEMANT Jean-Marc","G",2,1,161,147,"2009-04-11","N1 Ligue T3 DUNKERQUE","Poules","2008-2009",null,null,null,null,0,null,0]
["HERREBRECHT Thierry","VANNUCCI Emilio","G",2,1,149,126,"2009-04-11","N1 Ligue T3 DUNKERQUE","1/4 Finale","2008-2009",null,null,null,null,0,null,0]
["HERREBRECHT Thierry","MAILLE Bernard","G",2,0,120,69,"2009-04-11","N1 Ligue T3 DUNKERQUE","1/2 Finale","2008-2009",null,null,null,null,0,null,0]
["HERREBRECHT Thierry","SAINT-GEORGES Claude","P",1,2,149,146,"2009-04-11","N1 Ligue T3 DUNKERQUE","Finale","2008-2009",null,null,null,null,0,null,0]
["HERREBRECHT Thierry","ROBIC Daniel","G",2,0,120,94,"2009-04-17","National T6 CAUDAN","Préqualifs","2008-2009",null,null,null,null,0,null,0]
["HERREBRECHT Thierry","JUBLOT Denis","G",2,1,140,135,"2009-04-17","National T6 CAUDAN","Préqualifs","2008-2009",null,null,null,null,0,null,0]
["HERREBRECHT Thierry","POULAIN David","G",2,0,120,71,"2009-04-17","National T6 CAUDAN","Préqualifs","2008-2009",null,null,null,null,0,null,0]
["HERREBRECHT Thierry","HINGANT Matthieu","P",1,3,145,227,"2009-04-18","National T6 CAUDAN","Qualifs Masters","2008-2009",null,null,null,null,0,null,0]
["HERREBRECHT Thierry","DI PALMA Angelo","P",0,3,126,180,"2009-04-18","National T6 CAUDAN","Qualifs Masters","2008-2009",null,null,null,null,0,null,0]
["HERREBRECHT Thierry","FOURRE Cédric","P",2,3,258,271,"2009-11-07","National T1 SCHILTIGHEIM","Qualifs Masters","2009-2010",null,null,null,null,0,null,0]
["HERREBRECHT Thierry","BAYON Pascal","P",2,3,250,268,"2009-11-07","National T1 SCHILTIGHEIM","Qualifs Masters","2009-2010",null,null,null,null,0,null,0]
["HERREBRECHT Thierry","DEROLEZ Jean-Pierre","G",2,0,120,65,"2009-11-21","N1 Ligue T1 GRAVELINES","Poules",{"$f":"IF(H48<>\"\",IF(MONTH(H48)>MoisRef,YEAR(H48)&\"-\"&YEAR(H48)+1,YEAR(H48)-1&\"-\"&YEAR(H48)),\"\")","v":"2009-2010"},null,null,null,null,0,null,0]
["HERREBRECHT Thierry","PONCHANT Gregory","G",2,0,120,76,"2009-11-21","N1 Ligue T1 GRAVELINES","Poules","2009-2010",null,null,null,null,0,null,0]
["HERREBRECHT Thierry","STOPIN Gilles","G",2,1,157,133,"2009-11-21","N1 Ligue T1 GRAVELINES","1/4 Finale","2009-2010",null,null,null,null,0,null,0]
["HERREBRECHT Thierry","GREMAIN Gino","P",0,2,79,120,"2009-11-21","N1 Ligue T1 GRAVELINES","1/2 Finale","2009-2010",null,null,null,null,0,null,0]
["HERREBRECHT Thierry","DEMILLY Dominique","G",2,0,120,61,"2009-12-04","National T2 ANNOEULLIN","Préqualifs","2009-2010",null,null,null,null,0,null,0]
["HERREBRECHT Thierry","SAINT-GEORGES Claude","P",1,2,147,178,"2009-12-04","National T2 ANNOEULLIN","Préqualifs","2009-2010",null,null,null,null,0,null,0]
["HERREBRECHT Thierry","PONCHANT Grégory","G",2,0,120,74,"2009-12-04","National T2 ANNOEULLIN","Préqualifs","2009-2010",null,null,null,null,0,null,0]
["HERREBRECHT Thierry","DELSOL Philippe","G",3,1,232,132,"2009-12-05","National T2 ANNOEULLIN","Qualifs promotion","2009-2010",null,null,null,null,0,null,0]
["HERREBRECHT Thierry","PERRIN Eric","G",3,2,246,260,"2009-12-05","National T2 ANNOEULLIN","Qualifs promotion","2009-2010",null,null,null,null,0,null,0]
["HERREBRECHT Thierry","SORTAIS Claude","G",3,0,180,156,"2009-12-06","National T2 ANNOEULLIN","1/8 finale promotion","2009-2010",null,null,null,null,0,null,0]
["HERREBRECHT Thierry","REBELO Joaquim","G",3,0,180,116,"2009-12-06","National T2 ANNOEULLIN"," 1/4 finale promotion","2009-2010",null,null,null,null,0,null,0]
["HERREBRECHT Thierry","TIRALONGO Sébastien","G",3,2,242,267,"2009-12-06","National T2 ANNOEULLIN","1/2 finale promotion","2009-2010",null,null,null,null,0,null,0]
["HERREBRECHT Thierry","MORALES Luis","P",2,3,238,262,"2009-12-06","National T2 ANNOEULLIN","Finale promotion","2009-2010",null,null,null,null,0,null,0]
["HERREBRECHT Thierry","LHERMITTE Cédric","G",2,1,179,108,"2010-01-16","N1 Ligue T3 ANNOEULLIN","Poules","2009-2010",null,null,null,null,0,null,0]
["HERREBRECHT Thierry","LHERMITTE Cédric","G",2,1,167,115,"2010-01-16","N1 Ligue T3 ANNOEULLIN","Poules","2009-2010",null,null,null,null,0,null,0]
["HERREBRECHT Thierry","LAMBIASE Guiseppe","P",1,2,119,172,"2010-01-16","N1 Ligue T3 ANNOEULLIN","1/4 Finale","2009-2010",null,null,null,null,0,null,0]
["HERREBRECHT Thierry","COYRET Maurice","G",2,0,120,98,"2010-01-29","National T3 ORLEANS","Préqualifs","2009-2010",null,null,null,null,0,null,0]
["HERREBRECHT Thierry","BERTHELOT Daniel","G",2,1,166,169,"2010-01-29","National T3 ORLEANS","Préqualifs","2009-2010",null,null,null,null,0,null,0]
["HERREBRECHT Thierry","JACQ Laurent","G",2,1,166,155,"2010-01-29","National T3 ORLEANS","Préqualifs","2009-2010",null,null,null,null,0,null,0]
["HERREBRECHT Thierry","SCHUB Philippe","G",3,1,221,170,"2010-01-30","National T3 ORLEANS","Qualifs promotion","2009-2010",null,null,null,null,0,null,0]
["HERREBRECHT Thierry","COTTEN Jean-Pierre","G",3,2,276,243,"2010-01-30","National T3 ORLEANS","Qualifs promotion","2009-2010",null,null,null,null,0,null,0]
["HERREBRECHT Thierry","SACRE Jean-Yves","G",3,0,180,112,"2010-01-31","National T3 ORLEANS","1/8 finale promotion","2009-2010",null,null,null,null,0,null,0]
["HERREBRECHT Thierry","GUILLEMANT David","P",2,3,238,251,"2010-01-31","National T3 ORLEANS"," 1/4 finale promotion","2009-2010",null,null,null,null,0,null,0]
["HERREBRECHT Thierry","DELSOL Philippe","P",0,2,106,120,"2009-05-09","Finale Ligue N1 ANNOEULLIN","Poules","2008-2009",null,null,null,null,0,null,0]
["HERREBRECHT Thierry","MAILLE Bernard","G",2,0,120,72,"2009-05-09","Finale Ligue N1 ANNOEULLIN","Poules","2008-2009",null,null,null,null,0,null,0]
["HERREBRECHT Thierry","GUILLEMANT Jean-Marc","G",3,0,180,119,"2009-05-09","Finale Ligue N1 ANNOEULLIN","1/2 finale","2008-2009",null,null,null,null,0,null,0]
["HERREBRECHT Thierry","DELSOL Philippe","G",3,2,237,255,"2009-05-09","Finale Ligue N1 ANNOEULLIN","Finale","2008-2009",null,null,null,null,0,null,0]
["HERREBRECHT Thierry","COYRET Maurice","G",2,0,120,98,"2010-01-29","National T3 ORLEANS","Préqualifs","2009-2010",null,null,null,null,0,null,0]
["HERREBRECHT Thierry","BERTHELOT Daniel","G",2,1,166,169,"2010-01-29","National T3 ORLEANS","Préqualifs","2009-2010",null,null,null,null,0,null,0]
["HERREBRECHT Thierry","JACQ Laurent","G",2,1,166,155,"2010-01-29","National T3 ORLEANS","Préqualifs","2009-2010",null,null,null,null,0,null,0]
["HERREBRECHT Thierry","SCHUB Philippe","G",3,1,221,170,"2010-01-30","National T3 ORLEANS","Qualifs promotion","2009-2010",null,null,null,null,0,null,0]
["HERREBRECHT Thierry","COTTEN Jean-Pierre","G",3,2,276,243,"2010-01-30","National T3 ORLEANS","Qualifs promotion","2009-2010",null,null,null,null,0,null,0]
["HERREBRECHT Thierry","SACRE Jean-Yves","G",3,0,180,112,"2010-01-31","National T3 ORLEANS","1/8 finale promotion","2009-2010",null,null,null,null,{"$f":"IF($K80=P$1,COUNTIF($C80,\"G\"),0)","v":0},null,{"$f":"IF($K80=R$1,COUNTIF($C80,\"G\"),0)","v":0}]
["HERREBRECHT Thierry","GUILLEMANT David","P",2,3,238,251,"2010-01-31","National T3 ORLEANS"," 1/4 finale promotion","2009-2010",null,null,null,null,0,null,0]
["HERREBRECHT Thierry","BOUREL Claude","G",2,0,120,50,"2010-02-26","National T4 ROUEN","Préqualifs","2009-2010",null,null,null,null,0,null,0]
["HERREBRECHT Thierry","BOUVIER Philippe","P",1,2,149,161,"2010-02-26","National T4 ROUEN","Préqualifs","2009-2010",null,null,null,null,0,null,0]
["HERREBRECHT Thierry","LORTHIOIR Jean-Luc","G",2,0,120,68,"2010-02-26","National T4 ROUEN","Préqualifs","2009-2010",null,null,null,null,0,null,0]
["HERREBRECHT Thierry","SCHUB Philippe","G",3,0,180,116,"2010-02-27","National T4 ROUEN","Qualifs promotion","2009-2010",null,null,null,null,0,null,0]
["HERREBRECHT Thierry","SAINT-GEORGES Claude","G",3,2,245,272,"2010-02-27","National T4 ROUEN","Qualifs promotion","2009-2010",null,null,null,null,0,null,0]
["HERREBRECHT Thierry","MAILLE Bernard","G",3,1,239,188,"2010-02-28","National T4 ROUEN","1/8 finale promotion","2009-2010",null,null,null,null,0,null,0]
["HERREBRECHT Thierry","TIRALONGO Sébastien","G",3,2,255,250,"2010-02-28","National T4 ROUEN"," 1/4 finale promotion","2009-2010",null,null,null,null,0,null,0]
["HERREBRECHT Thierry","DEMILLY Jean-Sébastien","G",3,2,294,259,"2010-02-28","National T4 ROUEN","1/2 finale promotion","2009-2010",null,null,null,null,0,null,0]
["HERREBRECHT Thierry","GUILLEMANT David","G",3,0,180,156,"2010-02-28","National T4 ROUEN","Finale promotion","2009-2010",null,null,null,null,0,null,0]
["HERREBRECHT Thierry","BLET-CHARAUDEAU Jean-Pierre","P",1,2,160,136,"2010-03-26","National T5 ST SEBASTIEN / LOIRE","Préqualifs","2009-2010",null,null,null,null,0,null,0]
["HERREBRECHT Thierry","MARCHISSEAU Stéphane","P",1,2,145,148,"2010-03-26","National T5 ST SEBASTIEN / LOIRE","Préqualifs","2009-2010",null,null,null,null,0,null,0]
["HERREBRECHT Thierry","GUILLEMANT Jean-Marc","G",2,1,168,136,"2010-03-26","National T5 ST SEBASTIEN / LOIRE","Préqualifs","2009-2010",null,null,null,null,0,null,0]
["HERREBRECHT Thierry","GUIBERT Philippe","G",3,2,288,251,"2010-03-27","National T5 ST SEBASTIEN / LOIRE","Qualifs promotion","2009-2010",null,null,null,null,0,null,0]
["HERREBRECHT Thierry","ROBIC Daniel","G",3,0,180,142,"2010-03-27","National T5 ST SEBASTIEN / LOIRE","Qualifs promotion","2009-2010",null,null,null,null,0,null,0]
["HERREBRECHT Thierry","GUIBERT Philippe","G",3,0,180,135,"2010-03-28","National T5 ST SEBASTIEN / LOIRE","1/8 finale promotion","2009-2010",null,null,null,null,0,null,0]
["HERREBRECHT Thierry","DEMILLY Jean-Sébastien","G",3,2,271,218,"2010-03-28","National T5 ST SEBASTIEN / LOIRE"," 1/4 finale promotion","2009-2010",null,null,null,null,0,null,0]
["HERREBRECHT Thierry","TRIFAULT Amand","P",0,3,151,180,"2010-03-28","National T5 ST SEBASTIEN / LOIRE","1/2 finale promotion","2009-2010",null,null,null,null,0,null,0]
["HERREBRECHT Thierry","ROBIC Daniel","P",1,3,189,212,"2010-05-15","National BLOIS","Qualifications","2009-2010",null,null,null,null,0,null,0]
["HERREBRECHT Thierry","DERIU Georges","P",1,3,211,215,"2010-05-15","National BLOIS","Qualifications","2009-2010",null,null,null,null,0,null,0]
["HERREBRECHT Thierry","DUPOUY Daniel","G",3,0,180,28.009999999776483,"2010-05-15","National BLOIS","Qualifications","2009-2010",null,null,null,null,0,null,0]
["HERREBRECHT Thierry","MARTEL Jean-Pierre","G",2,0,120,19,"2010-10-07","National T1 CESTAS","Préqualifs","2010-2011",null,null,null,null,0,null,0]
["HERREBRECHT Thierry","BOUVIER Philippe","G",2,0,120,81,"2010-10-07","National T1 CESTAS","Préqualifs","2010-2011",null,null,null,null,0,null,0]
["HERREBRECHT Thierry","DUROYON Didier","G",2,1,171,152,"2010-10-07","National T1 CESTAS","Préqualifs","2010-2011",null,null,null,null,0,null,0]
["HERREBRECHT Thierry","JUBLOT Maxime","P",0,3,110,180,"2010-10-08","National T1 CESTAS","Qualifs Masters","2010-2011",null,null,null,null,0,null,0]
["HERREBRECHT Thierry","TRIFAULT Amand","P",1,3,195,230,"2010-10-08","National T1 CESTAS","Qualifs Masters","2010-2011",null,null,null,null,0,null,0]
["HERREBRECHT Thierry","SKORDILIS Christo","G",2,0,120,59,"2010-11-05","National T2 LAXOU","Préqualifs","2010-2011",null,null,null,null,0,null,0]
["HERREBRECHT Thierry","SCHUB Philippe","G",2,0,120,93,"2010-11-05","National T2 LAXOU","Préqualifs","2010-2011",null,null,null,null,0,null,0]
["HERREBRECHT Thierry","GOUTHIER Alain","G",2,0,120,73,"2010-11-05","National T2 LAXOU","Préqualifs","2010-2011",null,null,null,null,0,null,0]
["HERREBRECHT Thierry","PICOT Sylvain","P",0,3,94,180,"2010-11-06","National T2 LAXOU","Qualifs Masters","2010-2011",null,null,null,null,0,null,0]
["HERREBRECHT Thierry","GUILLEMANT David","G",3,2,269,270,"2010-11-06","National T2 LAXOU","Qualifs Masters","2010-2011",null,null,null,null,0,null,0]
["HERREBRECHT Thierry","ZACCAGNINI Antoine","G",3,1,228,160,"2010-11-06","National T2 LAXOU","Qualifs Masters","2010-2011",null,null,null,null,0,null,0]
["HERREBRECHT Thierry","GUILLEMANT Alexandre","G",3,2,200,268,"2010-11-07","National T2 LAXOU","1/4 finale Masters","2010-2011",null,null,null,null,0,null,0]
["HERREBRECHT Thierry","HINGANT Matthieu","P",0,3,126,180,"2010-11-07","National T2 LAXOU","1/2 finale Masters","2010-2011",null,null,null,null,0,null,0]
["HERREBRECHT Thierry","DELSOL Philippe","P",1,3,165,198,"2010-12-04","National T3 FACHES THUMESNIL - RONCHIN","Qualifs Masters","2010-2011",null,null,null,null,0,null,0]
["HERREBRECHT Thierry","TIRALONGO Sébastien","P",2,3,256,286,"2010-12-04","National T3 FACHES THUMESNIL - RONCHIN","Qualifs Masters","2010-2011",null,null,null,null,0,null,0]
["HERREBRECHT Thierry","BLANC J.","G",2,0,120,66,"2011-02-11","National T4 ROUEN","Préqualifs","2010-2011",null,null,null,null,0,null,0]
["HERREBRECHT Thierry","LORTHIOIR Jean-Luc","G",2,0,120,65,"2011-02-11","National T4 ROUEN","Préqualifs","2010-2011",null,null,null,null,0,null,0]
["HERREBRECHT Thierry","EVENOU Roger","G",2,0,120,72,"2011-02-11","National T4 ROUEN","Préqualifs","2010-2011",null,null,null,null,0,null,0]
["HERREBRECHT Thierry","PICOT Sylvain","P",0,3,139,180,"2011-02-12","National T4 ROUEN","Qualifs Masters","2010-2011",null,null,null,null,0,null,0]
["HERREBRECHT Thierry","DAVID Nicolas","P",1,3,180,222,"2011-02-12","National T4 ROUEN","Qualifs Masters","2010-2011",null,null,null,null,0,null,0]
["HERREBRECHT Thierry","BLANC J.","G",2,0,120,86,"2011-03-25","National T5 BLOIS","Préqualifs","2010-2011",null,null,null,null,0,null,0]
["HERREBRECHT Thierry","JUBLOT Denis","G",2,1,152,147,"2011-03-25","National T5 BLOIS","Préqualifs","2010-2011",null,null,null,null,0,null,0]
["HERREBRECHT Thierry","CLYNCKE Jean-Jacques","G",2,0,120,75,"2011-03-25","National T5 BLOIS","Préqualifs","2010-2011",null,null,null,null,0,null,0]
["HERREBRECHT Thierry","GARCIA Michel","G",3,0,180,82,"2011-03-26","National T5 BLOIS","Qualifs promotion","2010-2011",null,null,null,null,0,null,0]
["HERREBRECHT Thierry","FOURRE Cédric","G",3,2,253,239,"2011-03-26","National T5 BLOIS","Qualifs promotion","2010-2011",null,null,null,null,0,null,0]
["HERREBRECHT Thierry","WALLART Jean-Charles","G",3,1,233,166,"2011-03-27","National T5 BLOIS","1/8 finale promotion","2010-2011",null,null,null,null,0,null,0]
["HERREBRECHT Thierry","MARCHISSEAU Stéphane","P",1,3,168,216,"2011-03-27","National T5 BLOIS","1/4 finale promotion","2010-2011",null,null,null,null,0,null,0]
["HERREBRECHT Thierry","RETIF Jérôme","G",3,1,216,179,"2011-05-14","National SCHILTIGHEIM","Qualifs","2010-2011",null,null,null,null,0,null,0]
["HERREBRECHT Thierry","DUROYON Didier","G",3,0,180,116,"2011-05-14","National SCHILTIGHEIM","Qualifs","2010-2011",null,null,null,null,0,null,0]
["HERREBRECHT Thierry","GANGLOFF Jean-Luc","G",3,1,238,114,"2011-05-14","National SCHILTIGHEIM","Qualifs","2010-2011",null,null,null,null,0,null,0]
["HERREBRECHT Thierry","DUROYON Didier","G",3,0,180,107,"2011-05-15","National SCHILTIGHEIM","1/8 finale","2010-2011",null,null,null,null,0,null,0]
["HERREBRECHT Thierry","DUPONT Fabrice","G",3,2,273,231,"2011-05-15","National SCHILTIGHEIM","1/4 finale","2010-2011",null,null,null,null,0,null,0]
["HERREBRECHT Thierry","SORTAIS Claude","G",3,0,180,76,"2011-05-15","National SCHILTIGHEIM","1/2 finale","2010-2011",null,null,null,null,0,null,0]
["HERREBRECHT Thierry","RACARY Thibault","G",3,1,235,194,"2011-05-15","National SCHILTIGHEIM","Finale","2010-2011",null,null,null,null,0,null,0]
["HERREBRECHT Thierry","DEROLEZ Jean-Pierre","G",2,0,120,71,"2011-10-15","N1 Ligue T1 DIVION","Poules","2011-2012",null,null,null,null,0,null,0]
["HERREBRECHT Thierry","VEREECQUE Ludovic","G",2,1,167,110,"2011-10-15","N1 Ligue T1 DIVION","Poules","2011-2012",null,null,null,null,0,null,0]
["HERREBRECHT Thierry","SAINT-GEORGES Claude","G",2,0,120,98,"2011-10-15","N1 Ligue T1 DIVION","1/4 Finale","2011-2012",null,null,null,null,0,null,0]
["HERREBRECHT Thierry","LHERMITTE Cédric","P",0,2,94,120,"2011-10-15","N1 Ligue T1 DIVION","1/2 Finale","2011-2012",null,null,null,null,0,null,0]
["HERREBRECHT Thierry","CLYNCKE Jean-Jacques","G",2,0,120,91,"2011-11-19","N1 Ligue T2 DOUAI","Poules","2011-2012",null,null,null,null,0,null,0]
["HERREBRECHT Thierry","CARPENTIER Yohanne","G",2,0,120,68,"2011-11-19","N1 Ligue T2 DOUAI","Poules","2011-2012",null,null,null,null,0,null,0]
["HERREBRECHT Thierry","DEROLEZ Jean-Pierre","G",2,1,174,112,"2011-11-19","N1 Ligue T2 DOUAI","1/8 Finale","2011-2012",null,null,null,null,0,null,0]
["HERREBRECHT Thierry","MAILLE Bernard","G",2,0,120,93,"2011-11-19","N1 Ligue T2 DOUAI","1/4 Finale","2011-2012",null,null,null,null,0,null,0]
["HERREBRECHT Thierry","SAINT-GEORGES Claude","G",2,1,152,151,"2011-11-19","N1 Ligue T2 DOUAI","1/2 Finale","2011-2012",null,null,null,null,{"$f":"IF($K144=P$1,COUNTIF($C144,\"G\"),0)","v":0},null,{"$f":"IF($K144=R$1,COUNTIF($C144,\"G\"),0)","v":0}]
["HERREBRECHT Thierry","DELSOL Philippe","P",0,2,83,120,"2011-11-19","N1 Ligue T2 DOUAI","Finale","2011-2012",null,null,null,null,0,null,0]
["HERREBRECHT Thierry","ZILLIG Pierre","G",2,1,170,177,"2011-12-02","National T3 ANNOEULLIN","Préqualifs","2011-2012",null,null,null,null,0,null,0]
["HERREBRECHT Thierry","KERCRET Geneviève","G",2,0,120,34,"2011-12-02","National T3 ANNOEULLIN","Préqualifs","2011-2012",null,null,null,null,0,null,0]
["HERREBRECHT Thierry","DELATTRE Hervé","G",2,0,120,90,"2011-12-02","National T3 ANNOEULLIN","Préqualifs","2011-2012",null,null,null,null,0,null,0]
["HERREBRECHT Thierry","HINGANT Matthieu","P",0,3,131,180,"2011-12-03","National T3 ANNOEULLIN","Qualifs Masters","2011-2012",null,null,null,null,0,null,0]
["HERREBRECHT Thierry","PICOT Sylvain","P",2,3,231,282,"2011-12-03","National T3 ANNOEULLIN","Qualifs Masters","2011-2012",null,null,null,null,0,null,0]
["HERREBRECHT Thierry","LECROART Serge","G",2,1,168,143,"2012-01-07","N1 Ligue T3 FACHES THUMESNIL","Poules","2011-2012",null,null,null,null,0,null,0]
["HERREBRECHT Thierry","KAYA Turgul","G",2,0,120,42,"2012-01-07","N1 Ligue T3 FACHES THUMESNIL","Poules","2011-2012",null,null,null,null,0,null,0]
["HERREBRECHT Thierry","CLYNCKE Jean-Jacques","G",2,0,120,24,"2012-01-07","N1 Ligue T3 FACHES THUMESNIL","1/8 Finale","2011-2012",null,null,null,null,0,null,0]
["HERREBRECHT Thierry","CARPENTIER Yohanne","G",2,0,120,64,"2012-01-07","N1 Ligue T3 FACHES THUMESNIL","1/4 Finale","2011-2012",null,null,null,null,0,null,0]
["HERREBRECHT Thierry","RACARY Thibault","P",1,2,134,163,"2012-01-07","N1 Ligue T3 FACHES THUMESNIL","1/2 Finale","2011-2012",null,null,null,null,0,null,0]
["HERREBRECHT Thierry","LUBREZ Pierre","G",2,0,120,78,"2012-01-28","N1 Ligue T4 GRAVELINES","Poules","2011-2012",null,null,null,null,0,null,0]
["HERREBRECHT Thierry","KAYA Turgul","G",2,0,120,82,"2012-01-28","N1 Ligue T4 GRAVELINES","Poules","2011-2012",null,null,null,null,0,null,0]
["HERREBRECHT Thierry","ESTERMANS Bernard","G",2,0,120,54,"2012-01-28","N1 Ligue T4 GRAVELINES","1/8 Finale","2011-2012",null,null,null,null,0,null,0]
["HERREBRECHT Thierry","LHERMITTE Cédric","G",2,1,159,117,"2012-01-28","N1 Ligue T4 GRAVELINES","1/4 Finale","2011-2012",null,null,null,null,0,null,0]
["HERREBRECHT Thierry","RACARY Thibault","P",0,2,84,120,"2012-01-28","N1 Ligue T4 GRAVELINES","1/2 Finale","2011-2012",null,null,null,null,0,null,0]
["HERREBRECHT Thierry","SAINT-GEORGES Claude","G",3,1,235,162,"2012-02-12","Finale Ligue N1","Poules","2011-2012",null,null,null,null,0,null,0]
["HERREBRECHT Thierry","LHERMITTE Cédric","G",3,0,180,108,"2012-02-12","Finale Ligue N1","Poules","2011-2012",null,null,null,null,0,null,0]
["HERREBRECHT Thierry","GEETS Patrice","G",3,0,180,131,"2012-02-12","Finale Ligue N1","1/2 finale","2011-2012",null,null,null,null,0,null,0]
["HERREBRECHT Thierry","DELSOL Philippe","P",1,3,182,226,"2012-02-12","Finale Ligue N1","Finale","2011-2012",null,null,null,null,0,null,0]
["HERREBRECHT Thierry","HERREBRECHT Erian","G",2,0,120,57,"2014-01-04","N1 Ligue T1 ANNOEULLIN","Poules","2013-2014",null,null,null,null,0,null,0]
["HERREBRECHT Thierry","FLEURANT Richard","G",2,0,120,53,"2014-01-04","N1 Ligue T1 ANNOEULLIN","Poules","2013-2014",null,null,null,null,0,null,0]
["HERREBRECHT Thierry","CAUX Frédéric","G",2,0,120,71,"2014-01-04","N1 Ligue T1 ANNOEULLIN","1/8 Finale","2013-2014",null,null,null,null,0,null,0]
["HERREBRECHT Thierry","WALLART Jean-Charles","P",1,2,141,142,"2014-01-04","N1 Ligue T1 ANNOEULLIN","1/4 Finale","2013-2014",null,null,null,null,0,null,0]
["HERREBRECHT Thierry","DEPLECHIN Robert","P",0,2,97,120,"2014-04-05","N1 Ligue T3 GRAVELINES","Poules","2013-2014",null,null,null,null,0,null,0]
["HERREBRECHT Thierry","DEPLECHIN Robert","P",0,2,74,120,"2014-04-05","N1 Ligue T3 GRAVELINES","Poules","2013-2014",null,null,null,null,0,null,0]
["HERREBRECHT Thierry","MONFLIER Francis","G",1,0,100,39,"2014-04-05","N1 Ligue T3 GRAVELINES","Poules Consolante","2013-2014",null,null,null,null,0,null,0]
["HERREBRECHT Thierry","CAUX Grégory","G",1,0,100,47,"2014-04-05","N1 Ligue T3 GRAVELINES","Poules Consolante","2013-2014",null,null,null,null,0,null,0]
["HERREBRECHT Thierry","LORTHIOIR Jean-Luc","G",1,0,100,65,"2014-04-05","N1 Ligue T3 GRAVELINES","1/2 Finale Consolante","2013-2014",null,null,null,null,0,null,0]
["HERREBRECHT THIERRY","WEBER THIERRY","G",3,0,180,102,"2014-10-18","National T1 GRAVELINES","Qualifs promotion","2014-2015",null,null,null,null,1,null,0]
["HERREBRECHT THIERRY","BEDNAREK JEAN-MICHEL","G",3,0,180,103,"2014-10-18","National T1 GRAVELINES","Qualifs promotion","2014-2015",null,null,null,null,1,null,0]
["HERREBRECHT THIERRY","ZACCAGNINI ANTOINE","G",3,1,223,151,"2014-10-19","National T1 GRAVELINES","1/8 finale promotion","2014-2015",null,null,null,null,1,null,0]
["HERREBRECHT THIERRY","LORIN JIMMY","G",3,1,228,203,"2014-10-19","National T1 GRAVELINES","1/4 finale promotion","2014-2015",null,null,null,null,1,null,0]
["HERREBRECHT THIERRY","MORMICHE MICHEL","P",2,3,267,266,"2014-10-19","National T1 GRAVELINES","1/2 finale promotion","2014-2015",null,null,null,null,0,null,0]
["HERREBRECHT Thierry","CARREAU Sabrina","G",2,0,120,59,"2014-11-28","National T2 FACHES THUMESNIL - RONCHIN","Préqualifs","2014-2015",null,null,null,null,1,null,0]
["HERREBRECHT Thierry","PONTHIEUX Christian","G",2,0,120,82,"2014-11-28","National T2 FACHES THUMESNIL - RONCHIN","Préqualifs","2014-2015",null,null,null,null,1,null,0]
["HERREBRECHT Thierry","EVENOU Marie-Antoinette","G",2,0,120,39,"2014-11-28","National T2 FACHES THUMESNIL - RONCHIN","Préqualifs","2014-2015",null,null,null,null,1,null,0]
["HERREBRECHT Thierry","FOURRE Cédric","P",2,3,234,245,"2014-11-29","National T2 FACHES THUMESNIL - RONCHIN","Qualifs Masters","2014-2015",null,null,null,null,0,null,0]
["HERREBRECHT Thierry","DAVOINE Bruno","P",1,3,212,226,"2014-11-29","National T2 FACHES THUMESNIL - RONCHIN","Qualifs Masters","2014-2015",null,null,null,null,0,null,0]
["HERREBRECHT Thierry","GUIBERT Philippe","G",2,1,170,152,"2014-12-12","National T3 DOUARNENEZ","Préqualifs","2014-2015",null,null,null,null,1,null,0]
["HERREBRECHT Thierry","DRONET Chrystel","G",2,0,120,38,"2014-12-12","National T3 DOUARNENEZ","Préqualifs","2014-2015",null,null,null,null,1,null,0]
["HERREBRECHT Thierry","GOUTHIER Alain","G",2,0,120,75,"2014-12-12","National T3 DOUARNENEZ","Préqualifs","2014-2015",null,null,null,null,1,null,0]
["HERREBRECHT Thierry","PICOT Sylvain","P",0,3,118,180,"2014-12-13","National T3 DOUARNENEZ","Qualifs Masters","2014-2015",null,null,null,null,0,null,0]
["HERREBRECHT Thierry","MAILLE Bernard","G",3,0,180,152,"2014-12-13","National T3 DOUARNENEZ","Qualifs Masters","2014-2015",null,null,null,null,1,null,0]
["HERREBRECHT Thierry","DUVERNOY Christophe","P",0,3,70,180,"2014-12-13","National T3 DOUARNENEZ","Qualifs Masters","2014-2015",null,null,null,null,0,null,0]
["HERREBRECHT Thierry","GARONNAT Daniel","P",0,2,86,120,"2015-01-23","National T4 LAXOU","Préqualifs","2014-2015",null,null,null,null,0,null,0]
["HERREBRECHT Thierry","AIRAULT Jean-Michel","G",2,0,120,76,"2015-01-23","National T4 LAXOU","Préqualifs","2014-2015",null,null,null,null,1,null,0]
["HERREBRECHT Thierry","DI LEO Francois","G",2,0,120,72,"2015-01-23","National T4 LAXOU","Préqualifs","2014-2015",null,null,null,null,1,null,0]
["HERREBRECHT Thierry","PIERRAT Didier","G",3,0,180,65,"2015-01-24","National T4 LAXOU","Qualifs promotion","2014-2015",null,null,null,null,1,null,0]
["HERREBRECHT Thierry","LEBOEUF Sylvain","G",3,2,214,253,"2015-01-24","National T4 LAXOU","Qualifs promotion","2014-2015",null,null,null,null,1,null,0]
["HERREBRECHT Thierry","AIRAULT Jean-Michel","G",3,2,272,198,"2015-01-25","National T4 LAXOU","1/8 finale promotion","2014-2015",null,null,null,null,1,null,0]
["HERREBRECHT Thierry","MORMICHE Michel","P",1,3,194,232,"2015-01-25","National T4 LAXOU","1/4 finale promotion","2014-2015",null,null,null,null,0,null,0]
["HERREBRECHT Thierry","BARBE Philippe","G",2,0,120,70,"2015-03-20","National T5 SAINT QUENTIN","Préqualifs","2014-2015",null,null,null,null,1,null,0]
["HERREBRECHT Thierry","LHERMITTE Sylvain","G",2,1,174,131,"2015-03-20","National T5 SAINT QUENTIN","Préqualifs","2014-2015",null,null,null,null,1,null,0]
["HERREBRECHT Thierry","CARREAU Sabrina","G",2,0,120,60,"2015-03-20","National T5 SAINT QUENTIN","Préqualifs","2014-2015",null,null,null,null,1,null,0]
["HERREBRECHT Thierry","PICOT Sylvain","P",2,3,255,226,"2015-03-21","National T5 SAINT QUENTIN","Qualifs Masters","2014-2015",null,null,null,null,0,null,0]
["HERREBRECHT Thierry","GEETS Patrice","G",3,0,180,112,"2015-03-21","National T5 SAINT QUENTIN","Qualifs Masters","2014-2015",null,null,null,null,1,null,0]
["HERREBRECHT Thierry","BOUVIER Philippe","G",3,0,180,98,"2015-03-21","National T5 SAINT QUENTIN","Qualifs Masters","2014-2015",null,null,null,null,1,null,0]
["HERREBRECHT Thierry","PICOT Sylvain","P",1,3,154,228,"2015-03-22","National T5 SAINT QUENTIN","1/4 finale Masters","2014-2015",null,null,null,null,0,null,0]
["Fin des données",null,null,null,null,null,null,null,null,null,"",null,null,null,null,0,null,0]

{"sheet":"HINGRAND Tony","index":39,"n_rows":21,"n_cols":22,"rows_kept":21,"cut":false,"hidden":false,"merged":[]}
["HINGRAND Tony",null,null,null,null,null,null,null,null,null,null,null,null,null,null,{"$f":"Récapitulatif!$B$2","v":"2014-2015"},null,{"$f":"Récapitulatif!$B$3","v":"2015-2016"},null,"Toutes saisons"]
["<Club>",null,null,null,null,null,null,null,null,null,null,null,null,null,null,"Nombre","%age","Nombre","%age","Nombre","%age"]
["<Licence>",null,null,null,null,null,null,null,null,null,null,null,null,"Matchs","Gagnés",{"$f":"SUM(P$15:P$21)","v":0},{"$f":"IF(P$3+P$4>0,P3/(P$3+P$4),\"\")","v":""},{"$f":"SUM(R$15:R$21)","v":3},{"$f":"IF(R$3+R$4>0,R3/(R$3+R$4),\"\")","v":0.6},{"$f":"COUNTIF($C$15:$C$21,\"G\")","v":3},{"$f":"IF(T$3+T$4>0,T3/(T$3+T$4),\"\")","v":0.6}]
["<Tel>",null,null,null,null,null,null,null,null,null,null,null,null,null,"Perdus",{"$f":"COUNTIF($K$15:$K$21,Récapitulatif!$B$2)-P3","v":0},{"$f":"IF(P$3+P$4>0,P4/(P$3+P$4),\"\")","v":""},{"$f":"COUNTIF($K$15:$K$21,Récapitulatif!$B$3)-R3","v":2},{"$f":"IF(R$3+R$4>0,R4/(R$3+R$4),\"\")","v":0.4},{"$f":"COUNTIF($C$15:$C$21,\"P\")","v":2},{"$f":"IF(T$3+T$4>0,T4/(T$3+T$4),\"\")","v":0.4}]
["<email>",null,null,null,null,null,null,null,null,null,null,null,null,null,"Total / Moy.",{"$f":"SUM(P3:P4)","v":0},{"$f":"IF(SUMIF($K$15:$K$21,Récapitulatif!$B$2,$G$15:$G$21)>0,SUMIF($K$15:$K$21,Récapitulatif!$B$2,$F$15:$F$21)/SUMIF($K$15:$K$21,Récapitulatif!$B$2,$G$15:$G$21),\"\")","v":""},{"$f":"SUM(R3:R4)","v":5},{"$f":"IF(SUMIF($K$15:$K$21,Récapitulatif!$B$3,$G$15:$G$21)>0,SUMIF($K$15:$K$21,Récapitulatif!$B$3,$F$15:$F$21)/SUMIF($K$15:$K$21,Récapitulatif!$B$3,$G$15:$G$21),\"\")","v":0.99586776859504134},{"$f":"SUM(T3:T4)","v":5},{"$f":"IF(SUM($G$15:$G$21)>0,SUM($F$15:$F$21)/SUM($G$15:$G$21),\"\")","v":0.99586776859504134},{"$f":"IF(SUMIF($K$15:$K$21,Récapitulatif!$B$2,$G$15:$G$21)+SUMIF($K$15:$K$21,Récapitulatif!$B$3,$G$15:$G$21)>0,(SUMIF($K$15:$K$21,Récapitulatif!$B$2,$F$15:$F$21)+SUMIF($K$15:$K$21,Récapitulatif!$B$3,$F$15:$F$21))/(SUMIF($K$15:$K$21,Récapitulatif!$B$2,$G$15:$G$21)+SUMIF($K$15:$K$21,Récapitulatif!$B$3,$G$15:$G$21)),\"\")","v":0.99586776859504134}]
[null,null,null,null,null,null,null,null,null,null,null,null,null,"Sets","Gagnés",{"$f":"SUMIF($K$15:$K$21,Récapitulatif!$B$2,$D$15:$D$21)","v":0},{"$f":"IF(P$6+P$7>0,P6/(P$6+P$7),\"\")","v":""},{"$f":"SUMIF($K$15:$K$21,Récapitulatif!$B$3,$D$15:$D$21)","v":4},{"$f":"IF(R$6+R$7>0,R6/(R$6+R$7),\"\")","v":0.5714285714285714},{"$f":"SUM($D$15:$D$21)","v":4},{"$f":"IF(T$6+T$7>0,T6/(T$6+T$7),\"\")","v":0.5714285714285714}]
[null,null,null,null,null,null,null,null,null,null,null,null,null,null,"Perdus",{"$f":"SUMIF($K$15:$K$21,Récapitulatif!$B$2,$E$15:$E$21)","v":0},{"$f":"IF(P$6+P$7>0,P7/(P$6+P$7),\"\")","v":""},{"$f":"SUMIF($K$15:$K$21,Récapitulatif!$B$3,$E$15:$E$21)","v":3},{"$f":"IF(R$6+R$7>0,R7/(R$6+R$7),\"\")","v":0.42857142857142855},{"$f":"SUM($E$15:$E$21)","v":3},{"$f":"IF(T$6+T$7>0,T7/(T$6+T$7),\"\")","v":0.42857142857142855}]
["Récapitulatif joueurs",null,null,null,null,null,null,null,null,null,null,null,null,null,"Total",{"$f":"SUM(P6:P7)","v":0},null,{"$f":"SUM(R6:R7)","v":7},null,{"$f":"SUM(T6:T7)","v":7}]
[]
[]
[]
[]
[]
[]
["Joueur","Adversaire","G/P","Sets gagnés","Sets perdus","pts marqués","pts subis","Date","Compétition","Phase","Saison"]
["HINGRAND Tony","POULEYN André","G",1,0,100,88,"2015-12-05","CONSOLANTE T1 LIGUE 5 QUILLES N1 - FACHES-THUMESNIL","Poules",{"$f":"IF(H16<>\"\",IF(MONTH(H16)>MoisRef,YEAR(H16)&\"-\"&YEAR(H16)+1,YEAR(H16)-1&\"-\"&YEAR(H16)),\"\")","v":"2015-2016"},null,null,null,null,{"$f":"IF($K16=P$1,COUNTIF($C16,\"G\"),0)","v":0},null,{"$f":"IF($K16=R$1,COUNTIF($C16,\"G\"),0)","v":1}]
["HINGRAND Tony","MANTEN Paul","P",0,1,84,100,"2015-12-05","CONSOLANTE T1 LIGUE 5 QUILLES N1 - FACHES-THUMESNIL","Poules","2015-2016",null,null,null,null,0,null,0]
["HINGRAND Tony","CLYNCKE Jean-Jacques","G",1,0,100,78,"2015-12-05","CONSOLANTE T1 LIGUE 5 QUILLES N1 - FACHES-THUMESNIL","1/2 Finale","2015-2016",null,null,null,null,0,null,1]
["HINGRAND Tony","DEROLEZ Jean-Pierre","P",0,2,78,120,"2015-12-04","T1 LIGUE 5 QUILLES N1 - FACHES-THUMESNIL","Poules","2015-2016",null,null,null,null,0,null,0]
["HINGRAND Tony","POULEYN André","G",2,0,120,98,"2015-12-04","T1 LIGUE 5 QUILLES N1 - FACHES-THUMESNIL","Poules","2015-2016",null,null,null,null,0,null,1]
["Fin des données",null,null,null,null,null,null,null,null,null,"",null,null,null,null,{"$f":"IF($K21=P$1,COUNTIF($C21,\"G\"),0)","v":0},null,{"$f":"IF($K21=R$1,COUNTIF($C21,\"G\"),0)","v":0}]

{"sheet":"HOCHART James","index":40,"n_rows":29,"n_cols":22,"rows_kept":29,"cut":false,"hidden":false,"merged":[]}
["HOCHART James",null,null,null,null,null,null,null,null,null,null,null,null,null,null,{"$f":"Récapitulatif!$B$2","v":"2014-2015"},null,{"$f":"Récapitulatif!$B$3","v":"2015-2016"},null,"Toutes saisons"]
["DENAIN",null,null,null,null,null,null,null,null,null,null,null,null,null,null,"Nombre","%age","Nombre","%age","Nombre","%age"]
["127686-A",null,null,null,null,null,null,null,null,null,null,null,null,"Matchs","Gagnés",{"$f":"SUM(P$15:P$29)","v":0},{"$f":"IF(P$3+P$4>0,P3/(P$3+P$4),\"\")","v":""},{"$f":"SUM(R$15:R$29)","v":0},{"$f":"IF(R$3+R$4>0,R3/(R$3+R$4),\"\")","v":""},{"$f":"COUNTIF($C$15:$C$29,\"G\")","v":4},{"$f":"IF(T$3+T$4>0,T3/(T$3+T$4),\"\")","v":0.30769230769230771}]
[null,null,null,null,null,null,null,null,null,null,null,null,null,null,"Perdus",{"$f":"COUNTIF($K$15:$K$29,Récapitulatif!$B$2)-P3","v":0},{"$f":"IF(P$3+P$4>0,P4/(P$3+P$4),\"\")","v":""},{"$f":"COUNTIF($K$15:$K$29,Récapitulatif!$B$3)-R3","v":0},{"$f":"IF(R$3+R$4>0,R4/(R$3+R$4),\"\")","v":""},{"$f":"COUNTIF($C$15:$C$29,\"P\")","v":9},{"$f":"IF(T$3+T$4>0,T4/(T$3+T$4),\"\")","v":0.69230769230769229}]
[null,null,null,null,null,null,null,null,null,null,null,null,null,null,"Total / Moy.",{"$f":"SUM(P3:P4)","v":0},{"$f":"IF(SUMIF($K$15:$K$29,Récapitulatif!$B$2,$G$15:$G$29)>0,SUMIF($K$15:$K$29,Récapitulatif!$B$2,$F$15:$F$29)/SUMIF($K$15:$K$29,Récapitulatif!$B$2,$G$15:$G$29),\"\")","v":""},{"$f":"SUM(R3:R4)","v":0},{"$f":"IF(SUMIF($K$15:$K$29,Récapitulatif!$B$3,$G$15:$G$29)>0,SUMIF($K$15:$K$29,Récapitulatif!$B$3,$F$15:$F$29)/SUMIF($K$15:$K$29,Récapitulatif!$B$3,$G$15:$G$29),\"\")","v":""},{"$f":"SUM(T3:T4)","v":13},{"$f":"IF(SUM($G$15:$G$29)>0,SUM($F$15:$F$29)/SUM($G$15:$G$29),\"\")","v":0.75277234181343766},{"$f":"IF(SUMIF($K$15:$K$29,Récapitulatif!$B$2,$G$15:$G$29)+SUMIF($K$15:$K$29,Récapitulatif!$B$3,$G$15:$G$29)>0,(SUMIF($K$15:$K$29,Récapitulatif!$B$2,$F$15:$F$29)+SUMIF($K$15:$K$29,Récapitulatif!$B$3,$F$15:$F$29))/(SUMIF($K$15:$K$29,Récapitulatif!$B$2,$G$15:$G$29)+SUMIF($K$15:$K$29,Récapitulatif!$B$3,$G$15:$G$29)),\"\")","v":""}]
[null,null,null,null,null,null,null,null,null,null,null,null,null,"Sets","Gagnés",{"$f":"SUMIF($K$15:$K$29,Récapitulatif!$B$2,$D$15:$D$29)","v":0},{"$f":"IF(P$6+P$7>0,P6/(P$6+P$7),\"\")","v":""},{"$f":"SUMIF($K$15:$K$29,Récapitulatif!$B$3,$D$15:$D$29)","v":0},{"$f":"IF(R$6+R$7>0,R6/(R$6+R$7),\"\")","v":""},{"$f":"SUM($D$15:$D$29)","v":7},{"$f":"IF(T$6+T$7>0,T6/(T$6+T$7),\"\")","v":0.29166666666666669}]
[null,null,null,null,null,null,null,null,null,null,null,null,null,null,"Perdus",{"$f":"SUMIF($K$15:$K$29,Récapitulatif!$B$2,$E$15:$E$29)","v":0},{"$f":"IF(P$6+P$7>0,P7/(P$6+P$7),\"\")","v":""},{"$f":"SUMIF($K$15:$K$29,Récapitulatif!$B$3,$E$15:$E$29)","v":0},{"$f":"IF(R$6+R$7>0,R7/(R$6+R$7),\"\")","v":""},{"$f":"SUM($E$15:$E$29)","v":17},{"$f":"IF(T$6+T$7>0,T7/(T$6+T$7),\"\")","v":0.70833333333333337}]
["Récapitulatif joueurs",null,null,null,null,null,null,null,null,null,null,null,null,null,"Total",{"$f":"SUM(P6:P7)","v":0},null,{"$f":"SUM(R6:R7)","v":0},null,{"$f":"SUM(T6:T7)","v":24}]
[]
[]
[]
[]
[]
[]
["Joueur","Adversaire","G/P","Sets gagnés","Sets perdus","pts marqués","pts subis","Date","Compétition","Phase","Saison"]
["HOCHART James","TURPIN Laurent","P",0,2,71,120,"2012-10-13","N1 Ligue T1 ANNOEULLIN","Poules",{"$f":"IF(H16<>\"\",IF(MONTH(H16)>MoisRef,YEAR(H16)&\"-\"&YEAR(H16)+1,YEAR(H16)-1&\"-\"&YEAR(H16)),\"\")","v":"2012-2013"},null,null,null,null,{"$f":"IF($K16=P$1,COUNTIF($C16,\"G\"),0)","v":0},null,{"$f":"IF($K16=R$1,COUNTIF($C16,\"G\"),0)","v":0}]
["HOCHART James","LORTHIOIR Jean-Luc","G",2,1,165,144,"2012-10-13","N1 Ligue T1 ANNOEULLIN","Poules","2012-2013",null,null,null,null,{"$f":"IF($K17=P$1,COUNTIF($C17,\"G\"),0)","v":0},null,{"$f":"IF($K17=R$1,COUNTIF($C17,\"G\"),0)","v":0}]
["HOCHART James","GEETS Patrice","P",1,2,145,162,"2012-10-13","N1 Ligue T1 ANNOEULLIN","1/8 Finale","2012-2013",null,null,null,null,{"$f":"IF($K18=P$1,COUNTIF($C18,\"G\"),0)","v":0},null,{"$f":"IF($K18=R$1,COUNTIF($C18,\"G\"),0)","v":0}]
["HOCHART James","LOTHE Jean-Luc","G",2,1,158,137,"2014-01-04","N1 Ligue T1 ANNOEULLIN","Poules","2013-2014",null,null,null,null,{"$f":"IF($K19=P$1,COUNTIF($C19,\"G\"),0)","v":0},null,{"$f":"IF($K19=R$1,COUNTIF($C19,\"G\"),0)","v":0}]
["HOCHART James","POULEYN André","P",0,2,88,158,"2014-01-04","N1 Ligue T1 ANNOEULLIN","Poules","2013-2014",null,null,null,null,0,null,0]
["HOCHART James","LHERMITTE Cédric","P",0,2,48,120,"2014-01-04","N1 Ligue T1 ANNOEULLIN","1/8 Finale","2013-2014",null,null,null,null,0,null,0]
["HOCHART James","CAUX Frédéric","P",0,2,65,120,"2014-03-15","N1 Ligue T2 FACHES THUMESNIL","Poules","2013-2014",null,null,null,null,0,null,0]
["HOCHART James","LHERMITTE Cédric","P",0,2,65,120,"2014-03-15","N1 Ligue T2 FACHES THUMESNIL","Poules","2013-2014",null,null,null,null,0,null,0]
["HOCHART James","LUBREZ Pierre","G",1,0,100,73,"2014-03-15","N1 Ligue T2 FACHES THUMESNIL","Poules Consolante","2013-2014",null,null,null,null,0,null,0]
["HOCHART James","LORTHIOIR Jean-Luc","G",1,0,100,79,"2014-03-15","N1 Ligue T2 FACHES THUMESNIL","Poules Consolante","2013-2014",null,null,null,null,0,null,0]
["HOCHART James","SAINT-GEORGES Claude","P",0,1,43,100,"2014-03-15","N1 Ligue T2 FACHES THUMESNIL","Finale Consolante","2013-2014",null,null,null,null,0,null,0]
["HOCHART James","HERREBRECHT Erian","P",0,1,42,100,"2014-01-04","N1 Ligue T1 ANNOEULLIN","Poules Consolante","2013-2014",null,null,null,null,0,null,0]
["HOCHART James","DEPLECHIN Robert","P",0,1,64,100,"2014-01-04","N1 Ligue T1 ANNOEULLIN","Poules Consolante","2013-2014",null,null,null,null,0,null,0]
["Fin des données",null,null,null,null,null,null,null,null,null,"",null,null,null,null,{"$f":"IF($K29=P$1,COUNTIF($C29,\"G\"),0)","v":0},null,{"$f":"IF($K29=R$1,COUNTIF($C29,\"G\"),0)","v":0}]

{"sheet":"HORNAIN Denis","index":41,"n_rows":50,"n_cols":22,"rows_kept":50,"cut":false,"hidden":false,"merged":[]}
["HORNAIN Denis",null,null,null,null,null,null,null,null,null,null,null,null,null,null,{"$f":"Récapitulatif!$B$2","v":"2014-2015"},null,{"$f":"Récapitulatif!$B$3","v":"2015-2016"},null,"Toutes saisons"]
["DENAIN",null,null,null,null,null,null,null,null,null,null,null,null,null,null,"Nombre","%age","Nombre","%age","Nombre","%age"]
["016710-S",null,null,null,null,null,null,null,null,null,null,null,null,"Matchs","Gagnés",{"$f":"SUM(P$15:P$50)","v":0},{"$f":"IF(P$3+P$4>0,P3/(P$3+P$4),\"\")","v":""},{"$f":"SUM(R$15:R$50)","v":0},{"$f":"IF(R$3+R$4>0,R3/(R$3+R$4),\"\")","v":""},{"$f":"COUNTIF($C$15:$C$50,\"G\")","v":12},{"$f":"IF(T$3+T$4>0,T3/(T$3+T$4),\"\")","v":0.35294117647058826}]
[null,null,null,null,null,null,null,null,null,null,null,null,null,null,"Perdus",{"$f":"COUNTIF($K$15:$K$50,Récapitulatif!$B$2)-P3","v":0},{"$f":"IF(P$3+P$4>0,P4/(P$3+P$4),\"\")","v":""},{"$f":"COUNTIF($K$15:$K$50,Récapitulatif!$B$3)-R3","v":0},{"$f":"IF(R$3+R$4>0,R4/(R$3+R$4),\"\")","v":""},{"$f":"COUNTIF($C$15:$C$50,\"P\")","v":22},{"$f":"IF(T$3+T$4>0,T4/(T$3+T$4),\"\")","v":0.6470588235294118}]
["denis.hornain@orange-ftgroup.com",null,null,null,null,null,null,null,null,null,null,null,null,null,"Total / Moy.",{"$f":"SUM(P3:P4)","v":0},{"$f":"IF(SUMIF($K$15:$K$50,Récapitulatif!$B$2,$G$15:$G$50)>0,SUMIF($K$15:$K$50,Récapitulatif!$B$2,$F$15:$F$50)/SUMIF($K$15:$K$50,Récapitulatif!$B$2,$G$15:$G$50),\"\")","v":""},{"$f":"SUM(R3:R4)","v":0},{"$f":"IF(SUMIF($K$15:$K$50,Récapitulatif!$B$3,$G$15:$G$50)>0,SUMIF($K$15:$K$50,Récapitulatif!$B$3,$F$15:$F$50)/SUMIF($K$15:$K$50,Récapitulatif!$B$3,$G$15:$G$50),\"\")","v":""},{"$f":"SUM(T3:T4)","v":34},{"$f":"IF(SUM($G$15:$G$50)>0,SUM($F$15:$F$50)/SUM($G$15:$G$50),\"\")","v":0.91675101214574894},{"$f":"IF(SUMIF($K$15:$K$50,Récapitulatif!$B$2,$G$15:$G$50)+SUMIF($K$15:$K$50,Récapitulatif!$B$3,$G$15:$G$50)>0,(SUMIF($K$15:$K$50,Récapitulatif!$B$2,$F$15:$F$50)+SUMIF($K$15:$K$50,Récapitulatif!$B$3,$F$15:$F$50))/(SUMIF($K$15:$K$50,Récapitulatif!$B$2,$G$15:$G$50)+SUMIF($K$15:$K$50,Récapitulatif!$B$3,$G$15:$G$50)),\"\")","v":""}]
[null,null,null,null,null,null,null,null,null,null,null,null,null,"Sets","Gagnés",{"$f":"SUMIF($K$15:$K$50,Récapitulatif!$B$2,$D$15:$D$50)","v":0},{"$f":"IF(P$6+P$7>0,P6/(P$6+P$7),\"\")","v":""},{"$f":"SUMIF($K$15:$K$50,Récapitulatif!$B$3,$D$15:$D$50)","v":0},{"$f":"IF(R$6+R$7>0,R6/(R$6+R$7),\"\")","v":""},{"$f":"SUM($D$15:$D$50)","v":32},{"$f":"IF(T$6+T$7>0,T6/(T$6+T$7),\"\")","v":0.41558441558441561}]
[null,null,null,null,null,null,null,null,null,null,null,null,null,null,"Perdus",{"$f":"SUMIF($K$15:$K$50,Récapitulatif!$B$2,$E$15:$E$50)","v":0},{"$f":"IF(P$6+P$7>0,P7/(P$6+P$7),\"\")","v":""},{"$f":"SUMIF($K$15:$K$50,Récapitulatif!$B$3,$E$15:$E$50)","v":0},{"$f":"IF(R$6+R$7>0,R7/(R$6+R$7),\"\")","v":""},{"$f":"SUM($E$15:$E$50)","v":45},{"$f":"IF(T$6+T$7>0,T7/(T$6+T$7),\"\")","v":0.58441558441558439}]
["Récapitulatif joueurs",null,null,null,null,null,null,null,null,null,null,null,null,null,"Total",{"$f":"SUM(P6:P7)","v":0},null,{"$f":"SUM(R6:R7)","v":0},null,{"$f":"SUM(T6:T7)","v":77}]
[]
[]
[]
[]
[]
[]
["Joueur","Adversaire","G/P","Sets gagnés","Sets perdus","pts marqués","pts subis","Date","Compétition","Phase","Saison"]
["HORNAIN Denis","LECROART Serge","P",1,2,171,157,"2009-11-21","N1 Ligue T1 GRAVELINES","Poules",{"$f":"IF(H16<>\"\",IF(MONTH(H16)>MoisRef,YEAR(H16)&\"-\"&YEAR(H16)+1,YEAR(H16)-1&\"-\"&YEAR(H16)),\"\")","v":"2009-2010"},null,null,null,null,{"$f":"IF($K16=P$1,COUNTIF($C16,\"G\"),0)","v":0},null,{"$f":"IF($K16=R$1,COUNTIF($C16,\"G\"),0)","v":0}]
["HORNAIN Denis","WALLART Jean-Charles","P",1,2,144,167,"2009-11-21","N1 Ligue T1 GRAVELINES","Poules","2009-2010",null,null,null,null,0,null,0]
["HORNAIN Denis","MAUPIN Patrick","P",0,2,98,120,"2009-11-21","N1 Ligue T1 GRAVELINES","Poules Consolante","2009-2010",null,null,null,null,0,null,0]
["HORNAIN Denis","ESTERMANS Bernard","G",2,1,176,124,"2009-11-21","N1 Ligue T1 GRAVELINES","Poules Consolante","2009-2010",null,null,null,null,0,null,0]
["HORNAIN Denis","LORTHIOIR Jean-Luc","G",2,0,120,69,"2009-12-19","N1 Ligue T2 ANNOEULLIN","Poules","2009-2010",null,null,null,null,0,null,0]
["HORNAIN Denis","DELSOL Philippe","P",0,2,55,120,"2009-12-19","N1 Ligue T2 ANNOEULLIN","Poules","2009-2010",null,null,null,null,0,null,0]
["HORNAIN Denis","BASTENIER Jean","P",1,2,129,148,"2009-12-19","N1 Ligue T2 ANNOEULLIN","Poules Consolante","2009-2010",null,null,null,null,0,null,0]
["HORNAIN Denis","DEROLEZ Jean-Pierre","G",2,0,120,69,"2010-01-16","N1 Ligue T3 ANNOEULLIN","Poules Consolante","2009-2010",null,null,null,null,0,null,0]
["HORNAIN Denis","SAINT-GEORGES Claude","P",0,2,91,120,"2010-01-16","N1 Ligue T3 ANNOEULLIN","Poules Consolante","2009-2010",null,null,null,null,0,null,0]
["HORNAIN Denis","BASTENIER Jean","P",0,2,47,120,"2010-01-16","N1 Ligue T3 ANNOEULLIN","Poules","2009-2010",null,null,null,null,0,null,0]
["HORNAIN Denis","LAMBIASE Guiseppe","P",0,2,57,120,"2010-01-16","N1 Ligue T3 ANNOEULLIN","Poules","2009-2010",null,null,null,null,0,null,0]
["HORNAIN Denis","MASIERO Lorenzo","G",2,0,120,61,"2010-02-20","N1 Ligue T4 DOUAI","Poules","2009-2010",null,null,null,null,0,null,0]
["HORNAIN Denis","CAUX Frédéric","G",2,1,152,118,"2010-02-20","N1 Ligue T4 DOUAI","Poules","2009-2010",null,null,null,null,0,null,0]
["HORNAIN Denis","CARTIERE André","G",2,0,120,92,"2010-02-20","N1 Ligue T4 DOUAI","1/8 Finale","2009-2010",null,null,null,null,0,null,0]
["HORNAIN Denis","MAUPIN Patrick","G",2,0,120,58,"2010-02-20","N1 Ligue T4 DOUAI","1/4 Finale","2009-2010",null,null,null,null,0,null,0]
["HORNAIN Denis","LHERMITTE Cédric","P",0,2,81,120,"2010-02-20","N1 Ligue T4 DOUAI","1/2 Finale","2009-2010",null,null,null,null,0,null,0]
["HORNAIN Denis","WESTEEL Bruno","P",1,2,99,170,"2010-10-16","N1 Ligue T1 DOUAI","Poules","2010-2011",null,null,null,null,0,null,0]
["HORNAIN Denis","LORTHIOIR Jean-Luc","G",2,0,120,67,"2010-10-16","N1 Ligue T1 DOUAI","Poules","2010-2011",null,null,null,null,0,null,0]
["HORNAIN Denis","RACARY Thibault","P",1,2,150,174,"2010-10-16","N1 Ligue T1 DOUAI","1/8 Finale","2010-2011",null,null,null,null,0,null,0]
["HORNAIN Denis","WALLART Jean-Charles","P",1,2,134,176,"2010-11-13","N1 Ligue T2 FACHES THUMESNIL","Poules","2010-2011",null,null,null,null,0,null,0]
["HORNAIN Denis","WALLART Jean-Charles","G",2,0,120,91,"2010-11-13","N1 Ligue T2 FACHES THUMESNIL","Poules","2010-2011",null,null,null,null,0,null,0]
["HORNAIN Denis","MAILLE Bernard","P",1,2,113,135,"2010-11-13","N1 Ligue T2 FACHES THUMESNIL","1/4 Finale","2010-2011",null,null,null,null,0,null,0]
["HORNAIN Denis","MANTEN Paul","P",0,2,95,120,"2010-12-11","N1 Ligue T3 GRAVELINES","Poules","2010-2011",null,null,null,null,0,null,0]
["HORNAIN Denis","CARPENTIER Yohanne","P",1,2,130,160,"2010-12-11","N1 Ligue T3 GRAVELINES","Poules","2010-2011",null,null,null,null,0,null,0]
["HORNAIN Denis","ZEUDE Alain","G",1,0,100,34,"2012-10-13","N1 Ligue T1 ANNOEULLIN","Poules Consolante","2012-2013",null,null,null,null,0,null,0]
["HORNAIN Denis","MAILLE Bernard","P",0,1,42,100,"2012-10-13","N1 Ligue T1 ANNOEULLIN","Poules Consolante","2012-2013",null,null,null,null,0,null,0]
["HORNAIN Denis","CLYNCKE Jean-Jacques","P",0,2,61,120,"2012-10-13","N1 Ligue T1 ANNOEULLIN","Poules","2012-2013",null,null,null,null,0,null,0]
["HORNAIN Denis","DELSOL Philippe","P",0,2,63,120,"2012-10-13","N1 Ligue T1 ANNOEULLIN","Poules","2012-2013",null,null,null,null,0,null,0]
["HORNAIN Denis","FLEURANT Richard","G",2,0,120,81,"2012-10-27","N1 Ligue T2 BRUAY sur ESCAUT","Poules","2012-2013",null,null,null,null,0,null,0]
["HORNAIN Denis","TURPIN Laurent","P",0,2,93,120,"2012-10-27","N1 Ligue T2 BRUAY sur ESCAUT","Poules","2012-2013",null,null,null,null,0,null,0]
["HORNAIN Denis","DELSOL Philippe","P",0,2,79,120,"2012-10-27","N1 Ligue T2 BRUAY sur ESCAUT","1/4 Finale","2012-2013",null,null,null,null,0,null,0]
["HORNAIN Denis","MONFLIER Francis","G",2,0,120,82,"2012-11-24","N1 Ligue T3 CALAIS","Poules","2012-2013",null,null,null,null,0,null,0]
["HORNAIN Denis","WALLART Jean-Charles","P",1,2,88,179,"2012-11-24","N1 Ligue T3 CALAIS","Poules","2012-2013",null,null,null,null,0,null,0]
["HORNAIN Denis","SAINT-GEORGES Claude","P",0,2,95,120,"2012-11-24","N1 Ligue T3 CALAIS","1/8 Finale","2012-2013",null,null,null,null,0,null,0]
["Fin des données",null,null,null,null,null,null,null,null,null,"",null,null,null,null,{"$f":"IF($K50=P$1,COUNTIF($C50,\"G\"),0)","v":0},null,{"$f":"IF($K50=R$1,COUNTIF($C50,\"G\"),0)","v":0}]

{"sheet":"HULOT Sophie","index":42,"n_rows":37,"n_cols":22,"rows_kept":37,"cut":false,"hidden":false,"merged":[]}
["HULOT Sophie",null,null,null,null,null,null,null,null,null,null,null,null,null,null,{"$f":"Récapitulatif!$B$2","v":"2014-2015"},null,{"$f":"Récapitulatif!$B$3","v":"2015-2016"},null,"Toutes saisons"]
["GRAVELINES",null,null,null,null,null,null,null,null,null,null,null,null,null,null,"Nombre","%age","Nombre","%age","Nombre","%age"]
["133130-K",null,null,null,null,null,null,null,null,null,null,null,null,"Matchs","Gagnés",{"$f":"SUM(P$15:P$37)","v":0},{"$f":"IF(P$3+P$4>0,P3/(P$3+P$4),\"\")","v":""},{"$f":"SUM(R$15:R$37)","v":0},{"$f":"IF(R$3+R$4>0,R3/(R$3+R$4),\"\")","v":""},{"$f":"COUNTIF($C$15:$C$37,\"G\")","v":1},{"$f":"IF(T$3+T$4>0,T3/(T$3+T$4),\"\")","v":4.7619047619047616E-2}]
[null,null,null,null,null,null,null,null,null,null,null,null,null,null,"Perdus",{"$f":"COUNTIF($K$15:$K$37,Récapitulatif!$B$2)-P3","v":0},{"$f":"IF(P$3+P$4>0,P4/(P$3+P$4),\"\")","v":""},{"$f":"COUNTIF($K$15:$K$37,Récapitulatif!$B$3)-R3","v":0},{"$f":"IF(R$3+R$4>0,R4/(R$3+R$4),\"\")","v":""},{"$f":"COUNTIF($C$15:$C$37,\"P\")","v":20},{"$f":"IF(T$3+T$4>0,T4/(T$3+T$4),\"\")","v":0.95238095238095233}]
["sophie.hulot@gmail.com",null,null,null,null,null,null,null,null,null,null,null,null,null,"Total / Moy.",{"$f":"SUM(P3:P4)","v":0},{"$f":"IF(SUMIF($K$15:$K$37,Récapitulatif!$B$2,$G$15:$G$37)>0,SUMIF($K$15:$K$37,Récapitulatif!$B$2,$F$15:$F$37)/SUMIF($K$15:$K$37,Récapitulatif!$B$2,$G$15:$G$37),\"\")","v":""},{"$f":"SUM(R3:R4)","v":0},{"$f":"IF(SUMIF($K$15:$K$37,Récapitulatif!$B$3,$G$15:$G$37)>0,SUMIF($K$15:$K$37,Récapitulatif!$B$3,$F$15:$F$37)/SUMIF($K$15:$K$37,Récapitulatif!$B$3,$G$15:$G$37),\"\")","v":""},{"$f":"SUM(T3:T4)","v":21},{"$f":"IF(SUM($G$15:$G$37)>0,SUM($F$15:$F$37)/SUM($G$15:$G$37),\"\")","v":0.65743073047858946},{"$f":"IF(SUMIF($K$15:$K$37,Récapitulatif!$B$2,$G$15:$G$37)+SUMIF($K$15:$K$37,Récapitulatif!$B$3,$G$15:$G$37)>0,(SUMIF($K$15:$K$37,Récapitulatif!$B$2,$F$15:$F$37)+SUMIF($K$15:$K$37,Récapitulatif!$B$3,$F$15:$F$37))/(SUMIF($K$15:$K$37,Récapitulatif!$B$2,$G$15:$G$37)+SUMIF($K$15:$K$37,Récapitulatif!$B$3,$G$15:$G$37)),\"\")","v":""}]
[null,null,null,null,null,null,null,null,null,null,null,null,null,"Sets","Gagnés",{"$f":"SUMIF($K$15:$K$37,Récapitulatif!$B$2,$D$15:$D$37)","v":0},{"$f":"IF(P$6+P$7>0,P6/(P$6+P$7),\"\")","v":""},{"$f":"SUMIF($K$15:$K$37,Récapitulatif!$B$3,$D$15:$D$37)","v":0},{"$f":"IF(R$6+R$7>0,R6/(R$6+R$7),\"\")","v":""},{"$f":"SUM($D$15:$D$37)","v":6},{"$f":"IF(T$6+T$7>0,T6/(T$6+T$7),\"\")","v":0.12244897959183673}]
[null,null,null,null,null,null,null,null,null,null,null,null,null,null,"Perdus",{"$f":"SUMIF($K$15:$K$37,Récapitulatif!$B$2,$E$15:$E$37)","v":0},{"$f":"IF(P$6+P$7>0,P7/(P$6+P$7),\"\")","v":""},{"$f":"SUMIF($K$15:$K$37,Récapitulatif!$B$3,$E$15:$E$37)","v":0},{"$f":"IF(R$6+R$7>0,R7/(R$6+R$7),\"\")","v":""},{"$f":"SUM($E$15:$E$37)","v":43},{"$f":"IF(T$6+T$7>0,T7/(T$6+T$7),\"\")","v":0.87755102040816324}]
["Récapitulatif joueurs",null,null,null,null,null,null,null,null,null,null,null,null,null,"Total",{"$f":"SUM(P6:P7)","v":0},null,{"$f":"SUM(R6:R7)","v":0},null,{"$f":"SUM(T6:T7)","v":49}]
[]
[]
[]
[]
[]
[]
["Joueur","Adversaire","G/P","Sets gagnés","Sets perdus","pts marqués","pts subis","Date","Compétition","Phase","Saison"]
["HULOT Sophie","PERRIN Eric","P",0,2,84,120,"2008-11-14","National T2 SCHILTIGHEIM","Préqualifs",{"$f":"IF(H16<>\"\",IF(MONTH(H16)>MoisRef,YEAR(H16)&\"-\"&YEAR(H16)+1,YEAR(H16)-1&\"-\"&YEAR(H16)),\"\")","v":"2008-2009"},null,null,null,null,{"$f":"IF($K16=P$1,COUNTIF($C16,\"G\"),0)","v":0},null,{"$f":"IF($K16=R$1,COUNTIF($C16,\"G\"),0)","v":0}]
["HULOT Sophie","PAILLART Jean-Paul","P",0,2,46,120,"2008-11-14","National T2 SCHILTIGHEIM","Préqualifs","2008-2009",null,null,null,null,0,null,0]
["HULOT Sophie","SORTAIS Claude","P",0,2,77,120,"2008-11-14","National T2 SCHILTIGHEIM","Préqualifs","2008-2009",null,null,null,null,0,null,0]
["HULOT Sophie","SORTAIS Claude","P",0,2,53,120,"2008-12-12","National T3 ANNOEULLIN","Préqualifs","2008-2009",null,null,null,null,0,null,0]
["HULOT Sophie","GEETS Patrice","P",0,2,70,120,"2008-12-12","National T3 ANNOEULLIN","Préqualifs","2008-2009",null,null,null,null,0,null,0]
["HULOT Sophie","DUVERNOY Christophe","P",0,2,44,120,"2008-12-12","National T3 ANNOEULLIN","Préqualifs","2008-2009",null,null,null,null,0,null,0]
["HULOT Sophie","LORTHIOIR Jean-Luc","P",0,2,100,120,"2009-03-07","N1 Ligue T2 ANNOEULLIN","Poules","2008-2009",null,null,null,null,0,null,0]
["HULOT Sophie","DELSOL Philippe","P",0,2,70,120,"2009-03-07","N1 Ligue T2 ANNOEULLIN","Poules","2008-2009",null,null,null,null,0,null,0]
["HULOT Sophie","WALLART Jean-Charles","P",0,2,75,120,"2009-03-07","N1 Ligue T2 ANNOEULLIN","Poules Consolante","2008-2009",null,null,null,null,0,null,0]
["HULOT Sophie","GEETS Patrice","P",0,2,85,120,"2009-03-07","N1 Ligue T2 ANNOEULLIN","Poules Consolante","2008-2009",null,null,null,null,0,null,0]
["HULOT Sophie","TURPIN Laurent","P",0,2,56,120,"2009-04-11","N1 Ligue T3 DUNKERQUE","Poules","2008-2009",null,null,null,null,0,null,0]
["HULOT Sophie","CARPENTIER Yohanne","P",1,2,122,165,"2009-04-11","N1 Ligue T3 DUNKERQUE","Poules","2008-2009",null,null,null,null,0,null,0]
["HULOT Sophie","SORTAIS Claude","P",0,2,51,120,"2009-04-17","National T6 CAUDAN","Préqualifs","2008-2009",null,null,null,null,0,null,0]
["HULOT Sophie","EVENOU Marie-Antoinette","P",1,2,151,148,"2009-04-17","National T6 CAUDAN","Préqualifs","2008-2009",null,null,null,null,0,null,0]
["HULOT Sophie","PICOT Sylvain","P",0,2,75,120,"2009-04-17","National T6 CAUDAN","Préqualifs","2008-2009",null,null,null,null,0,null,0]
["HULOT Sophie","SORTAIS Claude","P",0,3,41,180,"2009-04-18","National T6 CAUDAN","Qualifs promotion","2008-2009",null,null,null,null,0,null,0]
["HULOT Sophie","PERRIN Thierry","G",3,1,232,167,"2009-04-18","National T6 CAUDAN","Qualifs promotion","2008-2009",null,null,null,null,0,null,0]
["HULOT Sophie","BOUVIER Philippe","P",1,3,181,199,"2009-04-18","National T6 CAUDAN","Qualifs promotion","2008-2009",null,null,null,null,0,null,0]
["HULOT Sophie","BASTENIER Jean","P",0,2,83,120,"2009-11-06","National T1 SCHILTIGHEIM","Préqualifs","2009-2010",null,null,null,null,0,null,0]
["HULOT Sophie","MATHIS Jean","P",0,2,59,120,"2009-11-06","National T1 SCHILTIGHEIM","Préqualifs","2009-2010",null,null,null,null,0,null,0]
["HULOT Sophie","SORTAIS Claude","P",0,2,72,120,"2009-11-06","National T1 SCHILTIGHEIM","Préqualifs","2009-2010",null,null,null,null,0,null,0]
["Fin des données",null,null,null,null,null,null,null,null,null,"",null,null,null,null,{"$f":"IF($K37=P$1,COUNTIF($C37,\"G\"),0)","v":0},null,{"$f":"IF($K37=R$1,COUNTIF($C37,\"G\"),0)","v":0}]

{"sheet":"KAYA Turgul","index":43,"n_rows":34,"n_cols":22,"rows_kept":34,"cut":false,"hidden":false,"merged":[]}
["KAYA Turgul",null,null,null,null,null,null,null,null,null,null,null,null,null,null,{"$f":"Récapitulatif!$B$2","v":"2014-2015"},null,{"$f":"Récapitulatif!$B$3","v":"2015-2016"},null,"Toutes saisons"]
[{"$error":"#N/A"},null,null,null,null,null,null,null,null,null,null,null,null,null,null,"Nombre","%age","Nombre","%age","Nombre","%age"]
[{"$error":"#N/A"},null,null,null,null,null,null,null,null,null,null,null,null,"Matchs","Gagnés",{"$f":"SUM(P$15:P$34)","v":0},{"$f":"IF(P$3+P$4>0,P3/(P$3+P$4),\"\")","v":""},{"$f":"SUM(R$15:R$34)","v":0},{"$f":"IF(R$3+R$4>0,R3/(R$3+R$4),\"\")","v":""},{"$f":"COUNTIF($C$15:$C$34,\"G\")","v":8},{"$f":"IF(T$3+T$4>0,T3/(T$3+T$4),\"\")","v":0.44444444444444442}]
[{"$error":"#N/A"},null,null,null,null,null,null,null,null,null,null,null,null,null,"Perdus",{"$f":"COUNTIF($K$15:$K$34,Récapitulatif!$B$2)-P3","v":0},{"$f":"IF(P$3+P$4>0,P4/(P$3+P$4),\"\")","v":""},{"$f":"COUNTIF($K$15:$K$34,Récapitulatif!$B$3)-R3","v":0},{"$f":"IF(R$3+R$4>0,R4/(R$3+R$4),\"\")","v":""},{"$f":"COUNTIF($C$15:$C$34,\"P\")","v":10},{"$f":"IF(T$3+T$4>0,T4/(T$3+T$4),\"\")","v":0.55555555555555558}]
[{"$error":"#N/A"},null,null,null,null,null,null,null,null,null,null,null,null,null,"Total / Moy.",{"$f":"SUM(P3:P4)","v":0},{"$f":"IF(SUMIF($K$15:$K$34,Récapitulatif!$B$2,$G$15:$G$34)>0,SUMIF($K$15:$K$34,Récapitulatif!$B$2,$F$15:$F$34)/SUMIF($K$15:$K$34,Récapitulatif!$B$2,$G$15:$G$34),\"\")","v":""},{"$f":"SUM(R3:R4)","v":0},{"$f":"IF(SUMIF($K$15:$K$34,Récapitulatif!$B$3,$G$15:$G$34)>0,SUMIF($K$15:$K$34,Récapitulatif!$B$3,$F$15:$F$34)/SUMIF($K$15:$K$34,Récapitulatif!$B$3,$G$15:$G$34),\"\")","v":""},{"$f":"SUM(T3:T4)","v":18},{"$f":"IF(SUM($G$15:$G$34)>0,SUM($F$15:$F$34)/SUM($G$15:$G$34),\"\")","v":0.90852190659605203},{"$f":"IF(SUMIF($K$15:$K$34,Récapitulatif!$B$2,$G$15:$G$34)+SUMIF($K$15:$K$34,Récapitulatif!$B$3,$G$15:$G$34)>0,(SUMIF($K$15:$K$34,Récapitulatif!$B$2,$F$15:$F$34)+SUMIF($K$15:$K$34,Récapitulatif!$B$3,$F$15:$F$34))/(SUMIF($K$15:$K$34,Récapitulatif!$B$2,$G$15:$G$34)+SUMIF($K$15:$K$34,Récapitulatif!$B$3,$G$15:$G$34)),\"\")","v":""}]
[null,null,null,null,null,null,null,null,null,null,null,null,null,"Sets","Gagnés",{"$f":"SUMIF($K$15:$K$34,Récapitulatif!$B$2,$D$15:$D$34)","v":0},{"$f":"IF(P$6+P$7>0,P6/(P$6+P$7),\"\")","v":""},{"$f":"SUMIF($K$15:$K$34,Récapitulatif!$B$3,$D$15:$D$34)","v":0},{"$f":"IF(R$6+R$7>0,R6/(R$6+R$7),\"\")","v":""},{"$f":"SUM($D$15:$D$34)","v":14},{"$f":"IF(T$6+T$7>0,T6/(T$6+T$7),\"\")","v":0.41176470588235292}]
[null,null,null,null,null,null,null,null,null,null,null,null,null,null,"Perdus",{"$f":"SUMIF($K$15:$K$34,Récapitulatif!$B$2,$E$15:$E$34)","v":0},{"$f":"IF(P$6+P$7>0,P7/(P$6+P$7),\"\")","v":""},{"$f":"SUMIF($K$15:$K$34,Récapitulatif!$B$3,$E$15:$E$34)","v":0},{"$f":"IF(R$6+R$7>0,R7/(R$6+R$7),\"\")","v":""},{"$f":"SUM($E$15:$E$34)","v":20},{"$f":"IF(T$6+T$7>0,T7/(T$6+T$7),\"\")","v":0.58823529411764708}]
["Récapitulatif joueurs",null,null,null,null,null,null,null,null,null,null,null,null,null,"Total",{"$f":"SUM(P6:P7)","v":0},null,{"$f":"SUM(R6:R7)","v":0},null,{"$f":"SUM(T6:T7)","v":34}]
[]
[]
[]
[]
[]
[]
["Joueur","Adversaire","G/P","Sets gagnés","Sets perdus","pts marqués","pts subis","Date","Compétition","Phase","Saison"]
["KAYA Turgul","SKORDILIS Christo","G",2,0,120,73,"2011-01-15","N1 Ligue T4 DIVION","Poules",{"$f":"IF(H16<>\"\",IF(MONTH(H16)>MoisRef,YEAR(H16)&\"-\"&YEAR(H16)+1,YEAR(H16)-1&\"-\"&YEAR(H16)),\"\")","v":"2010-2011"},null,null,null,null,{"$f":"IF($K16=P$1,COUNTIF($C16,\"G\"),0)","v":0},null,{"$f":"IF($K16=R$1,COUNTIF($C16,\"G\"),0)","v":0}]
["KAYA Turgul","MAILLE Bernard","P",0,2,102,120,"2011-01-15","N1 Ligue T4 DIVION","Poules","2010-2011",null,null,null,null,{"$f":"IF($K17=P$1,COUNTIF($C17,\"G\"),0)","v":0},null,{"$f":"IF($K17=R$1,COUNTIF($C17,\"G\"),0)","v":0}]
["KAYA Turgul","RACARY Thibault","P",0,2,58,120,"2011-01-15","N1 Ligue T4 DIVION","1/4 Finale","2010-2011",null,null,null,null,{"$f":"IF($K18=P$1,COUNTIF($C18,\"G\"),0)","v":0},null,{"$f":"IF($K18=R$1,COUNTIF($C18,\"G\"),0)","v":0}]
["KAYA Turgul","LORTHIOIR Jean-Luc","P",0,1,96,100,"2011-11-19","N1 Ligue T2 DOUAI","Poules Consolante","2011-2012",null,null,null,null,{"$f":"IF($K19=P$1,COUNTIF($C19,\"G\"),0)","v":0},null,{"$f":"IF($K19=R$1,COUNTIF($C19,\"G\"),0)","v":0}]
["KAYA Turgul","DEROLEZ Jean-Pierre","G",1,0,100,64,"2011-11-19","N1 Ligue T2 DOUAI","Poules Consolante","2011-2012",null,null,null,null,0,null,0]
["KAYA Turgul","CLYNCKE Jean-Jacques","G",1,0,100,98,"2011-11-19","N1 Ligue T2 DOUAI","1/2 Finale Consolante","2011-2012",null,null,null,null,0,null,0]
["KAYA Turgul","VEREECQUE Ludovic","P",0,1,78,100,"2011-11-19","N1 Ligue T2 DOUAI","Finale Consolante","2011-2012",null,null,null,null,0,null,0]
["KAYA Turgul","WALLART Jean-Charles","G",2,1,156,127,"2011-11-19","N1 Ligue T2 DOUAI","Poules","2011-2012",null,null,null,null,0,null,0]
["KAYA Turgul","GEETS Patrice","G",2,1,168,165,"2011-11-19","N1 Ligue T2 DOUAI","Poules","2011-2012",null,null,null,null,0,null,0]
["KAYA Turgul","MAILLE Bernard","P",0,2,91,120,"2011-11-19","N1 Ligue T2 DOUAI","1/8 Finale","2011-2012",null,null,null,null,0,null,0]
["KAYA Turgul","LECROART Serge","G",2,0,120,92,"2012-01-07","N1 Ligue T3 FACHES THUMESNIL","Poules","2011-2012",null,null,null,null,0,null,0]
["KAYA Turgul","HERREBRECHT Thierry","P",0,2,42,120,"2012-01-07","N1 Ligue T3 FACHES THUMESNIL","Poules","2011-2012",null,null,null,null,0,null,0]
["KAYA Turgul","CARPENTIER Yohanne","P",1,2,151,169,"2012-01-07","N1 Ligue T3 FACHES THUMESNIL","1/8 Finale","2011-2012",null,null,null,null,0,null,0]
["KAYA Turgul","MONFLIER Francis","G",1,0,100,95,"2012-01-28","N1 Ligue T4 GRAVELINES","Poules Consolante","2011-2012",null,null,null,null,0,null,0]
["KAYA Turgul","DEROLEZ Jean-Pierre","P",0,1,63,100,"2012-01-28","N1 Ligue T4 GRAVELINES","Poules Consolante","2011-2012",null,null,null,null,0,null,0]
["KAYA Turgul","LUBREZ Pierre","G",2,1,172,174,"2012-01-28","N1 Ligue T4 GRAVELINES","Poules","2011-2012",null,null,null,null,0,null,0]
["KAYA Turgul","HERREBRECHT Thierry","P",0,2,82,120,"2012-01-28","N1 Ligue T4 GRAVELINES","Poules","2011-2012",null,null,null,null,0,null,0]
["KAYA Turgul","LORTHIOIR Jean-Luc","P",0,2,88,120,"2012-01-28","N1 Ligue T4 GRAVELINES","1/8 Finale","2011-2012",null,null,null,null,0,null,0]
["Fin des données",null,null,null,null,null,null,null,null,null,"",null,null,null,null,{"$f":"IF($K34=P$1,COUNTIF($C34,\"G\"),0)","v":0},null,{"$f":"IF($K34=R$1,COUNTIF($C34,\"G\"),0)","v":0}]

{"sheet":"KERKHOF Hervé","index":44,"n_rows":22,"n_cols":22,"rows_kept":22,"cut":false,"hidden":false,"merged":[]}
["KERKHOF Hervé",null,null,null,null,null,null,null,null,null,null,null,null,null,null,{"$f":"Récapitulatif!$B$2","v":"2014-2015"},null,{"$f":"Récapitulatif!$B$3","v":"2015-2016"},null,"Toutes saisons"]
["<Club>",null,null,null,null,null,null,null,null,null,null,null,null,null,null,"Nombre","%age","Nombre","%age","Nombre","%age"]
["<Licence>",null,null,null,null,null,null,null,null,null,null,null,null,"Matchs","Gagnés",{"$f":"SUM(P$15:P$22)","v":0},{"$f":"IF(P$3+P$4>0,P3/(P$3+P$4),\"\")","v":""},{"$f":"SUM(R$15:R$22)","v":2},{"$f":"IF(R$3+R$4>0,R3/(R$3+R$4),\"\")","v":0.33333333333333331},{"$f":"COUNTIF($C$15:$C$22,\"G\")","v":2},{"$f":"IF(T$3+T$4>0,T3/(T$3+T$4),\"\")","v":0.33333333333333331}]
["<Tel>",null,null,null,null,null,null,null,null,null,null,null,null,null,"Perdus",{"$f":"COUNTIF($K$15:$K$22,Récapitulatif!$B$2)-P3","v":0},{"$f":"IF(P$3+P$4>0,P4/(P$3+P$4),\"\")","v":""},{"$f":"COUNTIF($K$15:$K$22,Récapitulatif!$B$3)-R3","v":4},{"$f":"IF(R$3+R$4>0,R4/(R$3+R$4),\"\")","v":0.66666666666666663},{"$f":"COUNTIF($C$15:$C$22,\"P\")","v":4},{"$f":"IF(T$3+T$4>0,T4/(T$3+T$4),\"\")","v":0.66666666666666663}]
["<email>",null,null,null,null,null,null,null,null,null,null,null,null,null,"Total / Moy.",{"$f":"SUM(P3:P4)","v":0},{"$f":"IF(SUMIF($K$15:$K$22,Récapitulatif!$B$2,$G$15:$G$22)>0,SUMIF($K$15:$K$22,Récapitulatif!$B$2,$F$15:$F$22)/SUMIF($K$15:$K$22,Récapitulatif!$B$2,$G$15:$G$22),\"\")","v":""},{"$f":"SUM(R3:R4)","v":6},{"$f":"IF(SUMIF($K$15:$K$22,Récapitulatif!$B$3,$G$15:$G$22)>0,SUMIF($K$15:$K$22,Récapitulatif!$B$3,$F$15:$F$22)/SUMIF($K$15:$K$22,Récapitulatif!$B$3,$G$15:$G$22),\"\")","v":0.92113095238095233},{"$f":"SUM(T3:T4)","v":6},{"$f":"IF(SUM($G$15:$G$22)>0,SUM($F$15:$F$22)/SUM($G$15:$G$22),\"\")","v":0.92113095238095233},{"$f":"IF(SUMIF($K$15:$K$22,Récapitulatif!$B$2,$G$15:$G$22)+SUMIF($K$15:$K$22,Récapitulatif!$B$3,$G$15:$G$22)>0,(SUMIF($K$15:$K$22,Récapitulatif!$B$2,$F$15:$F$22)+SUMIF($K$15:$K$22,Récapitulatif!$B$3,$F$15:$F$22))/(SUMIF($K$15:$K$22,Récapitulatif!$B$2,$G$15:$G$22)+SUMIF($K$15:$K$22,Récapitulatif!$B$3,$G$15:$G$22)),\"\")","v":0.92113095238095233}]
[null,null,null,null,null,null,null,null,null,null,null,null,null,"Sets","Gagnés",{"$f":"SUMIF($K$15:$K$22,Récapitulatif!$B$2,$D$15:$D$22)","v":0},{"$f":"IF(P$6+P$7>0,P6/(P$6+P$7),\"\")","v":""},{"$f":"SUMIF($K$15:$K$22,Récapitulatif!$B$3,$D$15:$D$22)","v":3},{"$f":"IF(R$6+R$7>0,R6/(R$6+R$7),\"\")","v":0.27272727272727271},{"$f":"SUM($D$15:$D$22)","v":3},{"$f":"IF(T$6+T$7>0,T6/(T$6+T$7),\"\")","v":0.27272727272727271}]
[null,null,null,null,null,null,null,null,null,null,null,null,null,null,"Perdus",{"$f":"SUMIF($K$15:$K$22,Récapitulatif!$B$2,$E$15:$E$22)","v":0},{"$f":"IF(P$6+P$7>0,P7/(P$6+P$7),\"\")","v":""},{"$f":"SUMIF($K$15:$K$22,Récapitulatif!$B$3,$E$15:$E$22)","v":8},{"$f":"IF(R$6+R$7>0,R7/(R$6+R$7),\"\")","v":0.72727272727272729},{"$f":"SUM($E$15:$E$22)","v":8},{"$f":"IF(T$6+T$7>0,T7/(T$6+T$7),\"\")","v":0.72727272727272729}]
["Récapitulatif joueurs",null,null,null,null,null,null,null,null,null,null,null,null,null,"Total",{"$f":"SUM(P6:P7)","v":0},null,{"$f":"SUM(R6:R7)","v":11},null,{"$f":"SUM(T6:T7)","v":11}]
[]
[]
[]
[]
[]
[]
["Joueur","Adversaire","G/P","Sets gagnés","Sets perdus","pts marqués","pts subis","Date","Compétition","Phase","Saison"]
["KERKHOF Hervé","GHEVART Jean","G",1,0,100,62,"2015-12-05","CONSOLANTE T1 LIGUE 5 QUILLES N1 - FACHES-THUMESNIL","Poules",{"$f":"IF(H16<>\"\",IF(MONTH(H16)>MoisRef,YEAR(H16)&\"-\"&YEAR(H16)+1,YEAR(H16)-1&\"-\"&YEAR(H16)),\"\")","v":"2015-2016"},null,null,null,null,{"$f":"IF($K16=P$1,COUNTIF($C16,\"G\"),0)","v":0},null,{"$f":"IF($K16=R$1,COUNTIF($C16,\"G\"),0)","v":1}]
["KERKHOF Hervé","CAUX Frédéric","P",0,1,57,100,"2015-12-05","CONSOLANTE T1 LIGUE 5 QUILLES N1 - FACHES-THUMESNIL","Poules","2015-2016",null,null,null,null,0,null,0]
["KERKHOF Hervé","CAUX Frédéric","G",2,1,179,150,"2015-12-04","T1 LIGUE 5 QUILLES N1 - FACHES-THUMESNIL","Poules","2015-2016",null,null,null,null,0,null,1]
["KERKHOF Hervé","LEMÂTRE Alexis","P",0,2,107,120,"2015-12-04","T1 LIGUE 5 QUILLES N1 - FACHES-THUMESNIL","Poules","2015-2016",null,null,null,null,0,null,0]
["KERKHOF Hervé","LORTHIOIR Jean-Luc","P",0,2,77,120,"2016-01-09","T2  LIGUE 5 QUILLES N1 - GRAVELINES","Qualifications","2015-2016",null,null,null,null,0,null,0]
["KERKHOF Hervé","LEMÂTRE Jérémy","P",0,2,99,120,"2016-01-09","T2  LIGUE 5 QUILLES N1 - GRAVELINES","Qualifications","2015-2016",null,null,null,null,0,null,0]
["Fin des données",null,null,null,null,null,null,null,null,null,"",null,null,null,null,{"$f":"IF($K22=P$1,COUNTIF($C22,\"G\"),0)","v":0},null,{"$f":"IF($K22=R$1,COUNTIF($C22,\"G\"),0)","v":0}]

{"sheet":"LAMBIASE Guiseppe","index":45,"n_rows":34,"n_cols":22,"rows_kept":34,"cut":false,"hidden":false,"merged":[]}
["LAMBIASE Guiseppe",null,null,null,null,null,null,null,null,null,null,null,null,null,null,{"$f":"Récapitulatif!$B$2","v":"2014-2015"},null,{"$f":"Récapitulatif!$B$3","v":"2015-2016"},null,"Toutes saisons"]
["GRAVELINES",null,null,null,null,null,null,null,null,null,null,null,null,null,null,"Nombre","%age","Nombre","%age","Nombre","%age"]
["135143-V",null,null,null,null,null,null,null,null,null,null,null,null,"Matchs","Gagnés",{"$f":"SUM(P$15:P$34)","v":0},{"$f":"IF(P$3+P$4>0,P3/(P$3+P$4),\"\")","v":""},{"$f":"SUM(R$15:R$34)","v":0},{"$f":"IF(R$3+R$4>0,R3/(R$3+R$4),\"\")","v":""},{"$f":"COUNTIF($C$15:$C$34,\"G\")","v":14},{"$f":"IF(T$3+T$4>0,T3/(T$3+T$4),\"\")","v":0.77777777777777779}]
[null,null,null,null,null,null,null,null,null,null,null,null,null,null,"Perdus",{"$f":"COUNTIF($K$15:$K$34,Récapitulatif!$B$2)-P3","v":0},{"$f":"IF(P$3+P$4>0,P4/(P$3+P$4),\"\")","v":""},{"$f":"COUNTIF($K$15:$K$34,Récapitulatif!$B$3)-R3","v":0},{"$f":"IF(R$3+R$4>0,R4/(R$3+R$4),\"\")","v":""},{"$f":"COUNTIF($C$15:$C$34,\"P\")","v":4},{"$f":"IF(T$3+T$4>0,T4/(T$3+T$4),\"\")","v":0.22222222222222221}]
[null,null,null,null,null,null,null,null,null,null,null,null,null,null,"Total / Moy.",{"$f":"SUM(P3:P4)","v":0},{"$f":"IF(SUMIF($K$15:$K$34,Récapitulatif!$B$2,$G$15:$G$34)>0,SUMIF($K$15:$K$34,Récapitulatif!$B$2,$F$15:$F$34)/SUMIF($K$15:$K$34,Récapitulatif!$B$2,$G$15:$G$34),\"\")","v":""},{"$f":"SUM(R3:R4)","v":0},{"$f":"IF(SUMIF($K$15:$K$34,Récapitulatif!$B$3,$G$15:$G$34)>0,SUMIF($K$15:$K$34,Récapitulatif!$B$3,$F$15:$F$34)/SUMIF($K$15:$K$34,Récapitulatif!$B$3,$G$15:$G$34),\"\")","v":""},{"$f":"SUM(T3:T4)","v":18},{"$f":"IF(SUM($G$15:$G$34)>0,SUM($F$15:$F$34)/SUM($G$15:$G$34),\"\")","v":1.2608695652173914},{"$f":"IF(SUMIF($K$15:$K$34,Récapitulatif!$B$2,$G$15:$G$34)+SUMIF($K$15:$K$34,Récapitulatif!$B$3,$G$15:$G$34)>0,(SUMIF($K$15:$K$34,Récapitulatif!$B$2,$F$15:$F$34)+SUMIF($K$15:$K$34,Récapitulatif!$B$3,$F$15:$F$34))/(SUMIF($K$15:$K$34,Récapitulatif!$B$2,$G$15:$G$34)+SUMIF($K$15:$K$34,Récapitulatif!$B$3,$G$15:$G$34)),\"\")","v":""}]
[null,null,null,null,null,null,null,null,null,null,null,null,null,"Sets","Gagnés",{"$f":"SUMIF($K$15:$K$34,Récapitulatif!$B$2,$D$15:$D$34)","v":0},{"$f":"IF(P$6+P$7>0,P6/(P$6+P$7),\"\")","v":""},{"$f":"SUMIF($K$15:$K$34,Récapitulatif!$B$3,$D$15:$D$34)","v":0},{"$f":"IF(R$6+R$7>0,R6/(R$6+R$7),\"\")","v":""},{"$f":"SUM($D$15:$D$34)","v":34},{"$f":"IF(T$6+T$7>0,T6/(T$6+T$7),\"\")","v":0.72340425531914898}]
[null,null,null,null,null,null,null,null,null,null,null,null,null,null,"Perdus",{"$f":"SUMIF($K$15:$K$34,Récapitulatif!$B$2,$E$15:$E$34)","v":0},{"$f":"IF(P$6+P$7>0,P7/(P$6+P$7),\"\")","v":""},{"$f":"SUMIF($K$15:$K$34,Récapitulatif!$B$3,$E$15:$E$34)","v":0},{"$f":"IF(R$6+R$7>0,R7/(R$6+R$7),\"\")","v":""},{"$f":"SUM($E$15:$E$34)","v":13},{"$f":"IF(T$6+T$7>0,T7/(T$6+T$7),\"\")","v":0.27659574468085107}]
["Récapitulatif joueurs",null,null,null,null,null,null,null,null,null,null,null,null,null,"Total",{"$f":"SUM(P6:P7)","v":0},null,{"$f":"SUM(R6:R7)","v":0},null,{"$f":"SUM(T6:T7)","v":47}]
[]
[]
[]
[]
[]
[]
["Joueur","Adversaire","G/P","Sets gagnés","Sets perdus","pts marqués","pts subis","Date","Compétition","Phase","Saison"]
["LAMBIASE Guiseppe","MAUPIN Patrick","G",2,0,120,84,"2009-11-21","N1 Ligue T1 GRAVELINES","Poules",{"$f":"IF(H16<>\"\",IF(MONTH(H16)>MoisRef,YEAR(H16)&\"-\"&YEAR(H16)+1,YEAR(H16)-1&\"-\"&YEAR(H16)),\"\")","v":"2009-2010"},null,null,null,null,{"$f":"IF($K16=P$1,COUNTIF($C16,\"G\"),0)","v":0},null,{"$f":"IF($K16=R$1,COUNTIF($C16,\"G\"),0)","v":0}]
["LAMBIASE Guiseppe","CAUX Frédéric","P",1,2,105,165,"2009-11-21","N1 Ligue T1 GRAVELINES","Poules","2009-2010",null,null,null,null,0,null,0]
["LAMBIASE Guiseppe","DELSOL Philippe","G",2,0,120,101,"2009-11-21","N1 Ligue T1 GRAVELINES","1/4 Finale","2009-2010",null,null,null,null,0,null,0]
["LAMBIASE Guiseppe","MAILLE Bernard","G",2,0,120,57,"2009-11-21","N1 Ligue T1 GRAVELINES","1/2 Finale","2009-2010",null,null,null,null,0,null,0]
["LAMBIASE Guiseppe","GREMAIN Gino","G",2,0,120,90,"2009-11-21","N1 Ligue T1 GRAVELINES","Finale","2009-2010",null,null,null,null,0,null,0]
["LAMBIASE Guiseppe","GUILLEMANT Jean-Marc","G",2,0,120,80,"2009-12-19","N1 Ligue T2 ANNOEULLIN","Poules","2009-2010",null,null,null,null,0,null,0]
["LAMBIASE Guiseppe","GUILLEMANT David","P",0,2,83,120,"2009-12-19","N1 Ligue T2 ANNOEULLIN","Poules","2009-2010",null,null,null,null,0,null,0]
["LAMBIASE Guiseppe","LORTHIOIR Jean-Luc","G",2,1,175,129,"2009-12-19","N1 Ligue T2 ANNOEULLIN","Poules Consolante","2009-2010",null,null,null,null,0,null,0]
["LAMBIASE Guiseppe","GUILLEMANT Jean-Marc","G",2,0,120,59,"2009-12-19","N1 Ligue T2 ANNOEULLIN","Poules Consolante","2009-2010",null,null,null,null,0,null,0]
["LAMBIASE Guiseppe","BASTENIER Jean","G",2,0,120,60,"2010-01-16","N1 Ligue T3 ANNOEULLIN","Poules","2009-2010",null,null,null,null,0,null,0]
["LAMBIASE Guiseppe","HORNAIN Denis","G",2,0,120,57,"2010-01-16","N1 Ligue T3 ANNOEULLIN","Poules","2009-2010",null,null,null,null,0,null,0]
["LAMBIASE Guiseppe","HERREBRECHT Thierry","G",2,1,172,119,"2010-01-16","N1 Ligue T3 ANNOEULLIN","1/4 Finale","2009-2010",null,null,null,null,0,null,0]
["LAMBIASE Guiseppe","WALLART Jean-Charles","G",2,0,120,94,"2010-01-16","N1 Ligue T3 ANNOEULLIN","1/2 Finale","2009-2010",null,null,null,null,0,null,0]
["LAMBIASE Guiseppe","DELSOL Philippe","G",2,0,120,70,"2010-01-16","N1 Ligue T3 ANNOEULLIN","Finale","2009-2010",null,null,null,null,0,null,0]
["LAMBIASE Guiseppe","GEETS Patrice","P",2,3,261,243,"2010-04-18","Finale Ligue N1 ANNOEULLIN","Poules","2009-2010",null,null,null,null,0,null,0]
["LAMBIASE Guiseppe","MAILLE Bernard","G",3,0,180,84,"2010-04-18","Finale Ligue N1 ANNOEULLIN","Poules","2009-2010",null,null,null,null,0,null,0]
["LAMBIASE Guiseppe","DELSOL Philippe","P",1,3,177,235,"2010-04-22","Finale Ligue N1 ANNOEULLIN","1/2 finale","2009-2010",null,null,null,null,0,null,0]
["LAMBIASE Guiseppe","GEETS Patrice","G",3,1,228,200,"2010-04-25","Finale Ligue N1 ANNOEULLIN","3ème/4ème place","2009-2010",null,null,null,null,0,null,0]
["Fin des données",null,null,null,null,null,null,null,null,null,"",null,null,null,null,{"$f":"IF($K34=P$1,COUNTIF($C34,\"G\"),0)","v":0},null,{"$f":"IF($K34=R$1,COUNTIF($C34,\"G\"),0)","v":0}]

{"sheet":"LEBLANC Jean-Noël","index":46,"n_rows":24,"n_cols":22,"rows_kept":24,"cut":false,"hidden":false,"merged":[]}
["LEBLANC Jean-Noël",null,null,null,null,null,null,null,null,null,null,null,null,null,null,{"$f":"Récapitulatif!$B$2","v":"2014-2015"},null,{"$f":"Récapitulatif!$B$3","v":"2015-2016"},null,"Toutes saisons"]
["CARVIN",null,null,null,null,null,null,null,null,null,null,null,null,null,null,"Nombre","%age","Nombre","%age","Nombre","%age"]
["017175-P",null,null,null,null,null,null,null,null,null,null,null,null,"Matchs","Gagnés",{"$f":"SUM(P$15:P$24)","v":0},{"$f":"IF(P$3+P$4>0,P3/(P$3+P$4),\"\")","v":""},{"$f":"SUM(R$15:R$24)","v":1},{"$f":"IF(R$3+R$4>0,R3/(R$3+R$4),\"\")","v":0.33333333333333331},{"$f":"COUNTIF($C$15:$C$24,\"G\")","v":3},{"$f":"IF(T$3+T$4>0,T3/(T$3+T$4),\"\")","v":0.375}]
[null,null,null,null,null,null,null,null,null,null,null,null,null,null,"Perdus",{"$f":"COUNTIF($K$15:$K$24,Récapitulatif!$B$2)-P3","v":0},{"$f":"IF(P$3+P$4>0,P4/(P$3+P$4),\"\")","v":""},{"$f":"COUNTIF($K$15:$K$24,Récapitulatif!$B$3)-R3","v":2},{"$f":"IF(R$3+R$4>0,R4/(R$3+R$4),\"\")","v":0.66666666666666663},{"$f":"COUNTIF($C$15:$C$24,\"P\")","v":5},{"$f":"IF(T$3+T$4>0,T4/(T$3+T$4),\"\")","v":0.625}]
[null,null,null,null,null,null,null,null,null,null,null,null,null,null,"Total / Moy.",{"$f":"SUM(P3:P4)","v":0},{"$f":"IF(SUMIF($K$15:$K$24,Récapitulatif!$B$2,$G$15:$G$24)>0,SUMIF($K$15:$K$24,Récapitulatif!$B$2,$F$15:$F$24)/SUMIF($K$15:$K$24,Récapitulatif!$B$2,$G$15:$G$24),\"\")","v":""},{"$f":"SUM(R3:R4)","v":3},{"$f":"IF(SUMIF($K$15:$K$24,Récapitulatif!$B$3,$G$15:$G$24)>0,SUMIF($K$15:$K$24,Récapitulatif!$B$3,$F$15:$F$24)/SUMIF($K$15:$K$24,Récapitulatif!$B$3,$G$15:$G$24),\"\")","v":0.87002652519893897},{"$f":"SUM(T3:T4)","v":8},{"$f":"IF(SUM($G$15:$G$24)>0,SUM($F$15:$F$24)/SUM($G$15:$G$24),\"\")","v":0.87977528089887636},{"$f":"IF(SUMIF($K$15:$K$24,Récapitulatif!$B$2,$G$15:$G$24)+SUMIF($K$15:$K$24,Récapitulatif!$B$3,$G$15:$G$24)>0,(SUMIF($K$15:$K$24,Récapitulatif!$B$2,$F$15:$F$24)+SUMIF($K$15:$K$24,Récapitulatif!$B$3,$F$15:$F$24))/(SUMIF($K$15:$K$24,Récapitulatif!$B$2,$G$15:$G$24)+SUMIF($K$15:$K$24,Récapitulatif!$B$3,$G$15:$G$24)),\"\")","v":0.87002652519893897}]
[null,null,null,null,null,null,null,null,null,null,null,null,null,"Sets","Gagnés",{"$f":"SUMIF($K$15:$K$24,Récapitulatif!$B$2,$D$15:$D$24)","v":0},{"$f":"IF(P$6+P$7>0,P6/(P$6+P$7),\"\")","v":""},{"$f":"SUMIF($K$15:$K$24,Récapitulatif!$B$3,$D$15:$D$24)","v":2},{"$f":"IF(R$6+R$7>0,R6/(R$6+R$7),\"\")","v":0.2857142857142857},{"$f":"SUM($D$15:$D$24)","v":5},{"$f":"IF(T$6+T$7>0,T6/(T$6+T$7),\"\")","v":0.33333333333333331}]
[null,null,null,null,null,null,null,null,null,null,null,null,null,null,"Perdus",{"$f":"SUMIF($K$15:$K$24,Récapitulatif!$B$2,$E$15:$E$24)","v":0},{"$f":"IF(P$6+P$7>0,P7/(P$6+P$7),\"\")","v":""},{"$f":"SUMIF($K$15:$K$24,Récapitulatif!$B$3,$E$15:$E$24)","v":5},{"$f":"IF(R$6+R$7>0,R7/(R$6+R$7),\"\")","v":0.7142857142857143},{"$f":"SUM($E$15:$E$24)","v":10},{"$f":"IF(T$6+T$7>0,T7/(T$6+T$7),\"\")","v":0.66666666666666663}]
["Récapitulatif joueurs",null,null,null,null,null,null,null,null,null,null,null,null,null,"Total",{"$f":"SUM(P6:P7)","v":0},null,{"$f":"SUM(R6:R7)","v":7},null,{"$f":"SUM(T6:T7)","v":15}]
[]
[]
[]
[]
[]
[]
["Joueur","Adversaire","G/P","Sets gagnés","Sets perdus","pts marqués","pts subis","Date","Compétition","Phase","Saison"]
["LEBLANC Jean-Noël","POULEYN André","P",1,2,96,168,"2011-10-15","N1 Ligue T1 DIVION","Poules",{"$f":"IF(H16<>\"\",IF(MONTH(H16)>MoisRef,YEAR(H16)&\"-\"&YEAR(H16)+1,YEAR(H16)-1&\"-\"&YEAR(H16)),\"\")","v":"2011-2012"},null,null,null,null,{"$f":"IF($K16=P$1,COUNTIF($C16,\"G\"),0)","v":0},null,{"$f":"IF($K16=R$1,COUNTIF($C16,\"G\"),0)","v":0}]
["LEBLANC Jean-Noël","LHERMITTE Cédric","P",0,2,62,120,"2011-10-15","N1 Ligue T1 DIVION","Poules","2011-2012",null,null,null,null,0,null,0]
["LEBLANC Jean-Noël","LORTHIOIR Jean-Luc","G",1,0,100,51,"2011-10-15","N1 Ligue T1 DIVION","Poules Consolante","2011-2012",null,null,null,null,0,null,0]
["LEBLANC Jean-Noël","CARPENTIER Yohanne","G",1,0,100,74,"2011-10-15","N1 Ligue T1 DIVION","Poules Consolante","2011-2012",null,null,null,null,0,null,0]
["LEBLANC Jean-Noël","MANTEN Paul","P",0,1,97,100,"2011-10-15","N1 Ligue T1 DIVION","1/4 Finale Consolante","2011-2012",null,null,null,null,0,null,0]
["LEBLANC Jean-Noël","DEPLECHIN Robert","G",2,1,164,137,"2016-01-09","T2  LIGUE 5 QUILLES N1 - GRAVELINES","Qualifications","2015-2016",null,null,null,null,0,null,1]
["LEBLANC Jean-Noël","GEETS Patrice","P",0,2,91,120,"2016-01-09","T2  LIGUE 5 QUILLES N1 - GRAVELINES","Qualifications","2015-2016",null,null,null,null,0,null,0]
["LEBLANC Jean-Noël","GEETS Patrice","P",0,2,73,120,"2016-01-09","T2  LIGUE 5 QUILLES N1 - GRAVELINES","1/8 Finale","2015-2016",null,null,null,null,0,null,0]
["Fin des données",null,null,null,null,null,null,null,null,null,"",null,null,null,null,0,null,0]

{"sheet":"LECLERCQ Alain","index":47,"n_rows":18,"n_cols":22,"rows_kept":18,"cut":false,"hidden":false,"merged":[]}
["LECLERCQ Alain",null,null,null,null,null,null,null,null,null,null,null,null,null,null,{"$f":"Récapitulatif!$B$2","v":"2014-2015"},null,{"$f":"Récapitulatif!$B$3","v":"2015-2016"},null,"Toutes saisons"]
["<Club>",null,null,null,null,null,null,null,null,null,null,null,null,null,null,"Nombre","%age","Nombre","%age","Nombre","%age"]
["<Licence>",null,null,null,null,null,null,null,null,null,null,null,null,"Matchs","Gagnés",{"$f":"SUM(P$15:P$18)","v":0},{"$f":"IF(P$3+P$4>0,P3/(P$3+P$4),\"\")","v":""},{"$f":"SUM(R$15:R$18)","v":0},{"$f":"IF(R$3+R$4>0,R3/(R$3+R$4),\"\")","v":0},{"$f":"COUNTIF($C$15:$C$18,\"G\")","v":0},{"$f":"IF(T$3+T$4>0,T3/(T$3+T$4),\"\")","v":0}]
["<Tel>",null,null,null,null,null,null,null,null,null,null,null,null,null,"Perdus",{"$f":"COUNTIF($K$15:$K$18,Récapitulatif!$B$2)-P3","v":0},{"$f":"IF(P$3+P$4>0,P4/(P$3+P$4),\"\")","v":""},{"$f":"COUNTIF($K$15:$K$18,Récapitulatif!$B$3)-R3","v":2},{"$f":"IF(R$3+R$4>0,R4/(R$3+R$4),\"\")","v":1},{"$f":"COUNTIF($C$15:$C$18,\"P\")","v":2},{"$f":"IF(T$3+T$4>0,T4/(T$3+T$4),\"\")","v":1}]
["<email>",null,null,null,null,null,null,null,null,null,null,null,null,null,"Total / Moy.",{"$f":"SUM(P3:P4)","v":0},{"$f":"IF(SUMIF($K$15:$K$18,Récapitulatif!$B$2,$G$15:$G$18)>0,SUMIF($K$15:$K$18,Récapitulatif!$B$2,$F$15:$F$18)/SUMIF($K$15:$K$18,Récapitulatif!$B$2,$G$15:$G$18),\"\")","v":""},{"$f":"SUM(R3:R4)","v":2},{"$f":"IF(SUMIF($K$15:$K$18,Récapitulatif!$B$3,$G$15:$G$18)>0,SUMIF($K$15:$K$18,Récapitulatif!$B$3,$F$15:$F$18)/SUMIF($K$15:$K$18,Récapitulatif!$B$3,$G$15:$G$18),\"\")","v":0.74319066147859925},{"$f":"SUM(T3:T4)","v":2},{"$f":"IF(SUM($G$15:$G$18)>0,SUM($F$15:$F$18)/SUM($G$15:$G$18),\"\")","v":0.74319066147859925},{"$f":"IF(SUMIF($K$15:$K$18,Récapitulatif!$B$2,$G$15:$G$18)+SUMIF($K$15:$K$18,Récapitulatif!$B$3,$G$15:$G$18)>0,(SUMIF($K$15:$K$18,Récapitulatif!$B$2,$F$15:$F$18)+SUMIF($K$15:$K$18,Récapitulatif!$B$3,$F$15:$F$18))/(SUMIF($K$15:$K$18,Récapitulatif!$B$2,$G$15:$G$18)+SUMIF($K$15:$K$18,Récapitulatif!$B$3,$G$15:$G$18)),\"\")","v":0.74319066147859925}]
[null,null,null,null,null,null,null,null,null,null,null,null,null,"Sets","Gagnés",{"$f":"SUMIF($K$15:$K$18,Récapitulatif!$B$2,$D$15:$D$18)","v":0},{"$f":"IF(P$6+P$7>0,P6/(P$6+P$7),\"\")","v":""},{"$f":"SUMIF($K$15:$K$18,Récapitulatif!$B$3,$D$15:$D$18)","v":1},{"$f":"IF(R$6+R$7>0,R6/(R$6+R$7),\"\")","v":0.2},{"$f":"SUM($D$15:$D$18)","v":1},{"$f":"IF(T$6+T$7>0,T6/(T$6+T$7),\"\")","v":0.2}]
[null,null,null,null,null,null,null,null,null,null,null,null,null,null,"Perdus",{"$f":"SUMIF($K$15:$K$18,Récapitulatif!$B$2,$E$15:$E$18)","v":0},{"$f":"IF(P$6+P$7>0,P7/(P$6+P$7),\"\")","v":""},{"$f":"SUMIF($K$15:$K$18,Récapitulatif!$B$3,$E$15:$E$18)","v":4},{"$f":"IF(R$6+R$7>0,R7/(R$6+R$7),\"\")","v":0.8},{"$f":"SUM($E$15:$E$18)","v":4},{"$f":"IF(T$6+T$7>0,T7/(T$6+T$7),\"\")","v":0.8}]
["Récapitulatif joueurs",null,null,null,null,null,null,null,null,null,null,null,null,null,"Total",{"$f":"SUM(P6:P7)","v":0},null,{"$f":"SUM(R6:R7)","v":5},null,{"$f":"SUM(T6:T7)","v":5}]
[]
[]
[]
[]
[]
[]
["Joueur","Adversaire","G/P","Sets gagnés","Sets perdus","pts marqués","pts subis","Date","Compétition","Phase","Saison"]
["LECLERCQ Alain","VEREECQUE Ludovic","P",1,2,139,137,"2016-01-09","T2  LIGUE 5 QUILLES N1 - GRAVELINES","Qualifications",{"$f":"IF(H16<>\"\",IF(MONTH(H16)>MoisRef,YEAR(H16)&\"-\"&YEAR(H16)+1,YEAR(H16)-1&\"-\"&YEAR(H16)),\"\")","v":"2015-2016"},null,null,null,null,{"$f":"IF($K16=P$1,COUNTIF($C16,\"G\"),0)","v":0},null,{"$f":"IF($K16=R$1,COUNTIF($C16,\"G\"),0)","v":0}]
["LECLERCQ Alain","DEROLEZ Jean-Pierre","P",0,2,52,120,"2016-01-09","T2  LIGUE 5 QUILLES N1 - GRAVELINES","Qualifications",{"$f":"IF(H17<>\"\",IF(MONTH(H17)>MoisRef,YEAR(H17)&\"-\"&YEAR(H17)+1,YEAR(H17)-1&\"-\"&YEAR(H17)),\"\")","v":"2015-2016"},null,null,null,null,0,null,0]
["Fin des données",null,null,null,null,null,null,null,null,null,{"$f":"IF(H18<>\"\",IF(MONTH(H18)>MoisRef,YEAR(H18)&\"-\"&YEAR(H18)+1,YEAR(H18)-1&\"-\"&YEAR(H18)),\"\")","v":""},null,null,null,null,{"$f":"IF($K18=P$1,COUNTIF($C18,\"G\"),0)","v":0},null,{"$f":"IF($K18=R$1,COUNTIF($C18,\"G\"),0)","v":0}]

{"sheet":"LECROART Serge","index":48,"n_rows":71,"n_cols":22,"rows_kept":71,"cut":false,"hidden":false,"merged":[]}
["LECROART Serge",null,null,null,null,null,null,null,null,null,null,null,null,null,null,{"$f":"Récapitulatif!$B$2","v":"2014-2015"},null,{"$f":"Récapitulatif!$B$3","v":"2015-2016"},null,"Toutes saisons"]
["VILLENEUVE D'ASCQ",null,null,null,null,null,null,null,null,null,null,null,null,null,null,"Nombre","%age","Nombre","%age","Nombre","%age"]
["016925-Z",null,null,null,null,null,null,null,null,null,null,null,null,"Matchs","Gagnés",{"$f":"SUM(P$15:P$71)","v":0},{"$f":"IF(P$3+P$4>0,P3/(P$3+P$4),\"\")","v":""},{"$f":"SUM(R$15:R$71)","v":4},{"$f":"IF(R$3+R$4>0,R3/(R$3+R$4),\"\")","v":0.30769230769230771},{"$f":"COUNTIF($C$15:$C$71,\"G\")","v":17},{"$f":"IF(T$3+T$4>0,T3/(T$3+T$4),\"\")","v":0.30909090909090908}]
["06 84 58 03 06",null,null,null,null,null,null,null,null,null,null,null,null,null,"Perdus",{"$f":"COUNTIF($K$15:$K$71,Récapitulatif!$B$2)-P3","v":0},{"$f":"IF(P$3+P$4>0,P4/(P$3+P$4),\"\")","v":""},{"$f":"COUNTIF($K$15:$K$71,Récapitulatif!$B$3)-R3","v":9},{"$f":"IF(R$3+R$4>0,R4/(R$3+R$4),\"\")","v":0.69230769230769229},{"$f":"COUNTIF($C$15:$C$71,\"P\")","v":38},{"$f":"IF(T$3+T$4>0,T4/(T$3+T$4),\"\")","v":0.69090909090909092}]
["serge.lecroart@free.fr",null,null,null,null,null,null,null,null,null,null,null,null,null,"Total / Moy.",{"$f":"SUM(P3:P4)","v":0},{"$f":"IF(SUMIF($K$15:$K$71,Récapitulatif!$B$2,$G$15:$G$71)>0,SUMIF($K$15:$K$71,Récapitulatif!$B$2,$F$15:$F$71)/SUMIF($K$15:$K$71,Récapitulatif!$B$2,$G$15:$G$71),\"\")","v":""},{"$f":"SUM(R3:R4)","v":13},{"$f":"IF(SUMIF($K$15:$K$71,Récapitulatif!$B$3,$G$15:$G$71)>0,SUMIF($K$15:$K$71,Récapitulatif!$B$3,$F$15:$F$71)/SUMIF($K$15:$K$71,Récapitulatif!$B$3,$G$15:$G$71),\"\")","v":0.90489317711922812},{"$f":"SUM(T3:T4)","v":55},{"$f":"IF(SUM($G$15:$G$71)>0,SUM($F$15:$F$71)/SUM($G$15:$G$71),\"\")","v":0.82604022723783199},{"$f":"IF(SUMIF($K$15:$K$71,Récapitulatif!$B$2,$G$15:$G$71)+SUMIF($K$15:$K$71,Récapitulatif!$B$3,$G$15:$G$71)>0,(SUMIF($K$15:$K$71,Récapitulatif!$B$2,$F$15:$F$71)+SUMIF($K$15:$K$71,Récapitulatif!$B$3,$F$15:$F$71))/(SUMIF($K$15:$K$71,Récapitulatif!$B$2,$G$15:$G$71)+SUMIF($K$15:$K$71,Récapitulatif!$B$3,$G$15:$G$71)),\"\")","v":0.90489317711922812}]
[null,null,null,null,null,null,null,null,null,null,null,null,null,"Sets","Gagnés",{"$f":"SUMIF($K$15:$K$71,Récapitulatif!$B$2,$D$15:$D$71)","v":0},{"$f":"IF(P$6+P$7>0,P6/(P$6+P$7),\"\")","v":""},{"$f":"SUMIF($K$15:$K$71,Récapitulatif!$B$3,$D$15:$D$71)","v":9},{"$f":"IF(R$6+R$7>0,R6/(R$6+R$7),\"\")","v":0.375},{"$f":"SUM($D$15:$D$71)","v":43},{"$f":"IF(T$6+T$7>0,T6/(T$6+T$7),\"\")","v":0.36752136752136755}]
[null,null,null,null,null,null,null,null,null,null,null,null,null,null,"Perdus",{"$f":"SUMIF($K$15:$K$71,Récapitulatif!$B$2,$E$15:$E$71)","v":0},{"$f":"IF(P$6+P$7>0,P7/(P$6+P$7),\"\")","v":""},{"$f":"SUMIF($K$15:$K$71,Récapitulatif!$B$3,$E$15:$E$71)","v":15},{"$f":"IF(R$6+R$7>0,R7/(R$6+R$7),\"\")","v":0.625},{"$f":"SUM($E$15:$E$71)","v":74},{"$f":"IF(T$6+T$7>0,T7/(T$6+T$7),\"\")","v":0.63247863247863245}]
["Récapitulatif joueurs",null,null,null,null,null,null,null,null,null,null,null,null,null,"Total",{"$f":"SUM(P6:P7)","v":0},null,{"$f":"SUM(R6:R7)","v":24},null,{"$f":"SUM(T6:T7)","v":117}]
[]
[]
[]
[]
[]
[]
["Joueur","Adversaire","G/P","Sets gagnés","Sets perdus","pts marqués","pts subis","Date","Compétition","Phase","Saison"]
["LECROART Serge","VANNUCCI Emilio","P",0,2,51,120,"2009-02-14","N1 Ligue T1 ARRAS","Poules",{"$f":"IF(H16<>\"\",IF(MONTH(H16)>MoisRef,YEAR(H16)&\"-\"&YEAR(H16)+1,YEAR(H16)-1&\"-\"&YEAR(H16)),\"\")","v":"2008-2009"},null,null,null,null,{"$f":"IF($K16=P$1,COUNTIF($C16,\"G\"),0)","v":0},null,{"$f":"IF($K16=R$1,COUNTIF($C16,\"G\"),0)","v":0}]
["LECROART Serge","GUILLEMANT Jean-Marc","P",1,2,118,158,"2009-02-14","N1 Ligue T1 ARRAS","Poules","2008-2009",null,null,null,null,0,null,0]
["LECROART Serge","LORTHIOIR Jean-Luc","G",2,1,152,132,"2009-02-14","N1 Ligue T1 ARRAS","Poules Consolante","2008-2009",null,null,null,null,0,null,0]
["LECROART Serge","GEETS Patrice","P",1,2,140,155,"2009-02-14","N1 Ligue T1 ARRAS","Poules Consolante","2008-2009",null,null,null,null,0,null,0]
["LECROART Serge","MARTEL Jean-Pierre","G",2,0,120,82,"2009-04-11","N1 Ligue T3 DUNKERQUE","Poules","2008-2009",null,null,null,null,0,null,0]
["LECROART Serge","VANNUCCI Emilio","P",0,2,39,120,"2009-04-11","N1 Ligue T3 DUNKERQUE","Poules","2008-2009",null,null,null,null,0,null,0]
["LECROART Serge","MARTEL Jean-Pierre","G",2,0,120,95,"2009-04-11","N1 Ligue T3 DUNKERQUE","Poules Consolante","2008-2009",null,null,null,null,0,null,0]
["LECROART Serge","CAUX Frédéric","P",1,2,111,165,"2009-04-11","N1 Ligue T3 DUNKERQUE","Poules Consolante","2008-2009",null,null,null,null,0,null,0]
["LECROART Serge","BASTENIER Jean","P",1,2,104,165,"2009-04-11","N1 Ligue T3 DUNKERQUE","Finale Consolante","2008-2009",null,null,null,null,0,null,0]
["LECROART Serge","HORNAIN Denis","G",2,1,157,171,"2009-11-21","N1 Ligue T1 GRAVELINES","Poules","2009-2010",null,null,null,null,0,null,0]
["LECROART Serge","WALLART Jean-Charles","P",1,2,111,160,"2009-11-21","N1 Ligue T1 GRAVELINES","Poules","2009-2010",null,null,null,null,0,null,0]
["LECROART Serge","MANTEN Paul","G",2,0,120,106,"2009-11-21","N1 Ligue T1 GRAVELINES","Poules Consolante","2009-2010",null,null,null,null,0,null,0]
["LECROART Serge","CAUX Frédéric","P",0,2,86,120,"2009-11-21","N1 Ligue T1 GRAVELINES","Poules Consolante","2009-2010",null,null,null,null,0,null,0]
["LECROART Serge","CAQUELOT Maurice","G",2,0,120,83,"2010-10-16","N1 Ligue T1 DOUAI","Poules","2010-2011",null,null,null,null,0,null,0]
["LECROART Serge","DELSOL Philippe","P",0,2,67,120,"2010-10-16","N1 Ligue T1 DOUAI","Poules","2010-2011",null,null,null,null,0,null,0]
["LECROART Serge","LHERMITTE Cédric","P",0,2,45,120,"2010-10-16","N1 Ligue T1 DOUAI","1/8 Finale","2010-2011",null,null,null,null,0,null,0]
["LECROART Serge","BASTENIER Jean","P",0,2,49,120,"2010-11-13","N1 Ligue T2 FACHES THUMESNIL","Poules","2010-2011",null,null,null,null,0,null,0]
["LECROART Serge","GEETS Patrice","P",1,2,95,161,"2010-11-13","N1 Ligue T2 FACHES THUMESNIL","Poules","2010-2011",null,null,null,null,0,null,0]
["LECROART Serge","CLYNCKE Jean-Jacques","P",0,2,69,120,"2010-11-13","N1 Ligue T2 FACHES THUMESNIL","Poules Consolante","2010-2011",null,null,null,null,0,null,0]
["LECROART Serge","WESTEEL Bruno","P",0,2,77,120,"2010-11-13","N1 Ligue T2 FACHES THUMESNIL","Poules Consolante","2010-2011",null,null,null,null,0,null,0]
["LECROART Serge","ZEUDE Alain","G",2,0,120,59,"2010-12-11","N1 Ligue T3 GRAVELINES","Poules","2010-2011",null,null,null,null,0,null,0]
["LECROART Serge","LHERMITTE Cédric","P",0,2,44,120,"2010-12-11","N1 Ligue T3 GRAVELINES","Poules","2010-2011",null,null,null,null,0,null,0]
["LECROART Serge","DEROLEZ Jean-Pierre","G",2,1,166,112,"2010-12-11","N1 Ligue T3 GRAVELINES","Poules Consolante","2010-2011",null,null,null,null,0,null,0]
["LECROART Serge","VEREECQUE Ludovic","P",1,2,98,149,"2010-12-11","N1 Ligue T3 GRAVELINES","Poules Consolante","2010-2011",null,null,null,null,0,null,0]
["LECROART Serge","LERICQUE Pierre","G",2,0,120,52,"2011-01-15","N1 Ligue T4 DIVION","Poules","2010-2011",null,null,null,null,0,null,0]
["LECROART Serge","WALLART Jean-Charles","P",1,2,135,161,"2011-01-15","N1 Ligue T4 DIVION","Poules","2010-2011",null,null,null,null,0,null,0]
["LECROART Serge","FAUCOMPREZ Didier","P",0,2,78,120,"2011-01-15","N1 Ligue T4 DIVION","Poules Consolante","2010-2011",null,null,null,null,0,null,0]
["LECROART Serge","ZEUDE Alain","G",2,0,120,101,"2011-01-15","N1 Ligue T4 DIVION","Poules Consolante","2010-2011",null,null,null,null,0,null,0]
["LECROART Serge","ESTERMANS Bernard","P",0,2,61,120,"2011-10-15","N1 Ligue T1 DIVION","Poules","2011-2012",null,null,null,null,0,null,0]
["LECROART Serge","GEETS Patrice","G",2,1,162,141,"2011-10-15","N1 Ligue T1 DIVION","Poules","2011-2012",null,null,null,null,0,null,0]
["LECROART Serge","WALLART Jean-Charles","P",0,1,86,100,"2011-10-15","N1 Ligue T1 DIVION","Poules Consolante","2011-2012",null,null,null,null,0,null,0]
["LECROART Serge","WALLART Jean-Charles","P",0,1,37,100,"2011-10-15","N1 Ligue T1 DIVION","Poules Consolante","2011-2012",null,null,null,null,0,null,0]
["LECROART Serge","KAYA Turgul","P",0,2,92,120,"2012-01-07","N1 Ligue T3 FACHES THUMESNIL","Poules","2011-2012",null,null,null,null,0,null,0]
["LECROART Serge","HERREBRECHT Thierry","P",1,2,143,168,"2012-01-07","N1 Ligue T3 FACHES THUMESNIL","Poules","2011-2012",null,null,null,null,0,null,0]
["LECROART Serge","DEROLEZ Jean-Pierre","P",0,2,92,120,"2012-01-28","N1 Ligue T4 GRAVELINES","Poules","2011-2012",null,null,null,null,0,null,0]
["LECROART Serge","GEETS Patrice","P",0,2,67,120,"2012-01-28","N1 Ligue T4 GRAVELINES","Poules","2011-2012",null,null,null,null,0,null,0]
["LECROART Serge","RACARY Thibault","P",0,2,16,120,"2012-01-28","N1 Ligue T4 GRAVELINES","1/8 Finale","2011-2012",null,null,null,null,0,null,0]
["LECROART Serge","VEREECQUE Ludovic","P",0,2,85,120,"2012-12-15","N1 Ligue T4 VILLENEUVE D'ASCQ","Poules","2012-2013",null,null,null,null,0,null,0]
["LECROART Serge","SAINT-GEORGES Claude","P",1,2,108,144,"2012-12-15","N1 Ligue T4 VILLENEUVE D'ASCQ","Poules","2012-2013",null,null,null,null,0,null,0]
["LECROART Serge","GUILLUY Jean-René","G",1,0,100,47,"2012-12-15","N1 Ligue T4 VILLENEUVE D'ASCQ","Poules Consolante","2012-2013",null,null,null,null,0,null,0]
["LECROART Serge","WALLART Jean-Charles","G",1,0,100,75,"2012-12-15","N1 Ligue T4 VILLENEUVE D'ASCQ","Poules Consolante","2012-2013",null,null,null,null,0,null,0]
["LECROART Serge","DEROLEZ Jean-Pierre","P",0,1,86,100,"2012-12-15","N1 Ligue T4 VILLENEUVE D'ASCQ","1/2 finale Consolante","2012-2013",null,null,null,null,0,null,0]
["LECROART Serge","ALDEGUER Lionel","P",1,2,139,176,"2015-12-04","T1 LIGUE 5 QUILLES N1 - FACHES-THUMESNIL","Poules","2015-2016",null,null,null,null,0,null,0]
["LECROART Serge","MAILLE Bernard","P",0,2,109,120,"2015-12-04","T1 LIGUE 5 QUILLES N1 - FACHES-THUMESNIL","Poules","2015-2016",null,null,null,null,0,null,0]
["LECROART Serge","CAUX Frédéric","G",2,0,120,68,"2016-01-09","T2  LIGUE 5 QUILLES N1 - GRAVELINES","Qualifications","2015-2016",null,null,null,null,0,null,1]
["LECROART Serge","DELSOL Philippe","P",0,2,77,120,"2016-01-09","T2  LIGUE 5 QUILLES N1 - GRAVELINES","Qualifications","2015-2016",null,null,null,null,0,null,0]
["LECROART Serge","DEVOS Jackie","G",2,0,120,82,"2016-01-09","T2  LIGUE 5 QUILLES N1 - GRAVELINES","1/8 Finale","2015-2016",null,null,null,null,0,null,1]
["LECROART Serge","CLYNCKE Jean-Jacques","P",1,2,113,155,"2016-01-09","T2  LIGUE 5 QUILLES N1 - GRAVELINES","1/4 Finale","2015-2016",null,null,null,null,0,null,0]
["LECROART Serge","CAUX Frédéric","G",1,0,100,83,"2016-01-23","CONSOLANTE T3 - ANNOEULLIN","Qualifications","2015-2016",null,null,null,null,0,null,1]
["LECROART Serge","DEROLEZ Jean-Pierre","P",0,1,92,100,"2016-01-23","CONSOLANTE T3 - ANNOEULLIN","Qualifications","2015-2016",null,null,null,null,0,null,0]
["LECROART Serge","DEROLEZ Jean-Pierre","P",0,1,75,100,"2016-01-23","CONSOLANTE T3 - ANNOEULLIN","Finale","2015-2016",null,null,null,null,0,null,0]
["LECROART Serge","LORTHIOIR Jean-Luc","P",0,1,93,100,"2016-01-23","CONSOLANTE T3 - ANNOEULLIN","Qualifications","2015-2016",null,null,null,null,0,null,0]
["LECROART Serge","LORTHIOIR Jean-Luc","G",1,0,100,68,"2016-01-23","CONSOLANTE T3 - ANNOEULLIN","1/2 Finale","2015-2016",null,null,null,null,0,null,1]
["LECROART Serge","CAUX Frédéric","P",1,2,122,159,"2016-01-23","T3 Ligue 5 Quilles N1 - ANNOEULLIN","Qualifications","2015-2016",null,null,null,null,0,null,0]
["LECROART Serge","LEMÂTRE Jérémy","P",0,2,53,120,"2016-01-23","T3 Ligue 5 Quilles N1 - ANNOEULLIN","Qualifications","2015-2016",null,null,null,null,0,null,0]
["Fin des données",null,null,null,null,null,null,null,null,null,"",null,null,null,null,{"$f":"IF($K71=P$1,COUNTIF($C71,\"G\"),0)","v":0},null,{"$f":"IF($K71=R$1,COUNTIF($C71,\"G\"),0)","v":0}]

{"sheet":"LEFEBVRE Julien","index":49,"n_rows":19,"n_cols":22,"rows_kept":19,"cut":false,"hidden":false,"merged":[]}
["LEFEBVRE Julien",null,null,null,null,null,null,null,null,null,null,null,null,null,null,{"$f":"Récapitulatif!$B$2","v":"2014-2015"},null,{"$f":"Récapitulatif!$B$3","v":"2015-2016"},null,"Toutes saisons"]
["<Club>",null,null,null,null,null,null,null,null,null,null,null,null,null,null,"Nombre","%age","Nombre","%age","Nombre","%age"]
["<Licence>",null,null,null,null,null,null,null,null,null,null,null,null,"Matchs","Gagnés",{"$f":"SUM(P$15:P$19)","v":1},{"$f":"IF(P$3+P$4>0,P3/(P$3+P$4),\"\")","v":0.33333333333333331},{"$f":"SUM(R$15:R$19)","v":0},{"$f":"IF(R$3+R$4>0,R3/(R$3+R$4),\"\")","v":""},{"$f":"COUNTIF($C$15:$C$19,\"G\")","v":1},{"$f":"IF(T$3+T$4>0,T3/(T$3+T$4),\"\")","v":0.33333333333333331}]
["<Tel>",null,null,null,null,null,null,null,null,null,null,null,null,null,"Perdus",{"$f":"COUNTIF($K$15:$K$19,Récapitulatif!$B$2)-P3","v":2},{"$f":"IF(P$3+P$4>0,P4/(P$3+P$4),\"\")","v":0.66666666666666663},{"$f":"COUNTIF($K$15:$K$19,Récapitulatif!$B$3)-R3","v":0},{"$f":"IF(R$3+R$4>0,R4/(R$3+R$4),\"\")","v":""},{"$f":"COUNTIF($C$15:$C$19,\"P\")","v":2},{"$f":"IF(T$3+T$4>0,T4/(T$3+T$4),\"\")","v":0.66666666666666663}]
["<email>",null,null,null,null,null,null,null,null,null,null,null,null,null,"Total / Moy.",{"$f":"SUM(P3:P4)","v":3},{"$f":"IF(SUMIF($K$15:$K$19,Récapitulatif!$B$2,$G$15:$G$19)>0,SUMIF($K$15:$K$19,Récapitulatif!$B$2,$F$15:$F$19)/SUMIF($K$15:$K$19,Récapitulatif!$B$2,$G$15:$G$19),\"\")","v":0.73539518900343648},{"$f":"SUM(R3:R4)","v":0},{"$f":"IF(SUMIF($K$15:$K$19,Récapitulatif!$B$3,$G$15:$G$19)>0,SUMIF($K$15:$K$19,Récapitulatif!$B$3,$F$15:$F$19)/SUMIF($K$15:$K$19,Récapitulatif!$B$3,$G$15:$G$19),\"\")","v":""},{"$f":"SUM(T3:T4)","v":3},{"$f":"IF(SUM($G$15:$G$19)>0,SUM($F$15:$F$19)/SUM($G$15:$G$19),\"\")","v":0.73539518900343648},{"$f":"IF(SUMIF($K$15:$K$19,Récapitulatif!$B$2,$G$15:$G$19)+SUMIF($K$15:$K$19,Récapitulatif!$B$3,$G$15:$G$19)>0,(SUMIF($K$15:$K$19,Récapitulatif!$B$2,$F$15:$F$19)+SUMIF($K$15:$K$19,Récapitulatif!$B$3,$F$15:$F$19))/(SUMIF($K$15:$K$19,Récapitulatif!$B$2,$G$15:$G$19)+SUMIF($K$15:$K$19,Récapitulatif!$B$3,$G$15:$G$19)),\"\")","v":0.73539518900343648}]
[null,null,null,null,null,null,null,null,null,null,null,null,null,"Sets","Gagnés",{"$f":"SUMIF($K$15:$K$19,Récapitulatif!$B$2,$D$15:$D$19)","v":4},{"$f":"IF(P$6+P$7>0,P6/(P$6+P$7),\"\")","v":0.4},{"$f":"SUMIF($K$15:$K$19,Récapitulatif!$B$3,$D$15:$D$19)","v":0},{"$f":"IF(R$6+R$7>0,R6/(R$6+R$7),\"\")","v":""},{"$f":"SUM($D$15:$D$19)","v":4},{"$f":"IF(T$6+T$7>0,T6/(T$6+T$7),\"\")","v":0.4}]
[null,null,null,null,null,null,null,null,null,null,null,null,null,null,"Perdus",{"$f":"SUMIF($K$15:$K$19,Récapitulatif!$B$2,$E$15:$E$19)","v":6},{"$f":"IF(P$6+P$7>0,P7/(P$6+P$7),\"\")","v":0.6},{"$f":"SUMIF($K$15:$K$19,Récapitulatif!$B$3,$E$15:$E$19)","v":0},{"$f":"IF(R$6+R$7>0,R7/(R$6+R$7),\"\")","v":""},{"$f":"SUM($E$15:$E$19)","v":6},{"$f":"IF(T$6+T$7>0,T7/(T$6+T$7),\"\")","v":0.6}]
["Récapitulatif joueurs",null,null,null,null,null,null,null,null,null,null,null,null,null,"Total",{"$f":"SUM(P6:P7)","v":10},null,{"$f":"SUM(R6:R7)","v":0},null,{"$f":"SUM(T6:T7)","v":10}]
[]
[]
[]
[]
[]
[]
["Joueur","Adversaire","G/P","Sets gagnés","Sets perdus","pts marqués","pts subis","Date","Compétition","Phase","Saison"]
["LEFEBVRE Julien","TRIVELLIN Stéphane","P",1,3,161,231,"2014-12-27","CF Juniors","Poules",{"$f":"IF(H16<>\"\",IF(MONTH(H16)>MoisRef,YEAR(H16)&\"-\"&YEAR(H16)+1,YEAR(H16)-1&\"-\"&YEAR(H16)),\"\")","v":"2014-2015"},null,null,null,null,{"$f":"IF($K16=P$1,COUNTIF($C16,\"G\"),0)","v":0},null,{"$f":"IF($K16=R$1,COUNTIF($C16,\"G\"),0)","v":0}]
["LEFEBVRE Julien","BLONDEEL Firmin","P",0,3,87,180,"2014-12-27","CF Juniors","Poules",{"$f":"IF(H17<>\"\",IF(MONTH(H17)>MoisRef,YEAR(H17)&\"-\"&YEAR(H17)+1,YEAR(H17)-1&\"-\"&YEAR(H17)),\"\")","v":"2014-2015"},null,null,null,null,{"$f":"IF($K17=P$1,COUNTIF($C17,\"G\"),0)","v":0},null,{"$f":"IF($K17=R$1,COUNTIF($C17,\"G\"),0)","v":0}]
["LEFEBVRE Julien","Joueur Blanc","G",3,0,180,171,"2014-12-27","CF Juniors","Poules",{"$f":"IF(H18<>\"\",IF(MONTH(H18)>MoisRef,YEAR(H18)&\"-\"&YEAR(H18)+1,YEAR(H18)-1&\"-\"&YEAR(H18)),\"\")","v":"2014-2015"},null,null,null,null,{"$f":"IF($K18=P$1,COUNTIF($C18,\"G\"),0)","v":1},null,{"$f":"IF($K18=R$1,COUNTIF($C18,\"G\"),0)","v":0}]
["Fin des données",null,null,null,null,null,null,null,null,null,{"$f":"IF(H19<>\"\",IF(MONTH(H19)>MoisRef,YEAR(H19)&\"-\"&YEAR(H19)+1,YEAR(H19)-1&\"-\"&YEAR(H19)),\"\")","v":""},null,null,null,null,{"$f":"IF($K19=P$1,COUNTIF($C19,\"G\"),0)","v":0},null,{"$f":"IF($K19=R$1,COUNTIF($C19,\"G\"),0)","v":0}]

{"sheet":"LEMATRE Alexis","index":50,"n_rows":26,"n_cols":22,"rows_kept":26,"cut":false,"hidden":false,"merged":[]}
["LEMATRE Alexis",null,null,null,null,null,null,null,null,null,null,null,null,null,null,{"$f":"Récapitulatif!$B$2","v":"2014-2015"},null,{"$f":"Récapitulatif!$B$3","v":"2015-2016"},null,"Toutes saisons"]
["<Club>",null,null,null,null,null,null,null,null,null,null,null,null,null,null,"Nombre","%age","Nombre","%age","Nombre","%age"]
["<Licence>",null,null,null,null,null,null,null,null,null,null,null,null,"Matchs","Gagnés",{"$f":"SUM(P$15:P$26)","v":0},{"$f":"IF(P$3+P$4>0,P3/(P$3+P$4),\"\")","v":""},{"$f":"SUM(R$15:R$26)","v":6},{"$f":"IF(R$3+R$4>0,R3/(R$3+R$4),\"\")","v":0.6},{"$f":"COUNTIF($C$15:$C$26,\"G\")","v":6},{"$f":"IF(T$3+T$4>0,T3/(T$3+T$4),\"\")","v":0.6}]
["<Tel>",null,null,null,null,null,null,null,null,null,null,null,null,null,"Perdus",{"$f":"COUNTIF($K$15:$K$26,Récapitulatif!$B$2)-P3","v":0},{"$f":"IF(P$3+P$4>0,P4/(P$3+P$4),\"\")","v":""},{"$f":"COUNTIF($K$15:$K$26,Récapitulatif!$B$3)-R3","v":4},{"$f":"IF(R$3+R$4>0,R4/(R$3+R$4),\"\")","v":0.4},{"$f":"COUNTIF($C$15:$C$26,\"P\")","v":4},{"$f":"IF(T$3+T$4>0,T4/(T$3+T$4),\"\")","v":0.4}]
["<email>",null,null,null,null,null,null,null,null,null,null,null,null,null,"Total / Moy.",{"$f":"SUM(P3:P4)","v":0},{"$f":"IF(SUMIF($K$15:$K$26,Récapitulatif!$B$2,$G$15:$G$26)>0,SUMIF($K$15:$K$26,Récapitulatif!$B$2,$F$15:$F$26)/SUMIF($K$15:$K$26,Récapitulatif!$B$2,$G$15:$G$26),\"\")","v":""},{"$f":"SUM(R3:R4)","v":10},{"$f":"IF(SUMIF($K$15:$K$26,Récapitulatif!$B$3,$G$15:$G$26)>0,SUMIF($K$15:$K$26,Récapitulatif!$B$3,$F$15:$F$26)/SUMIF($K$15:$K$26,Récapitulatif!$B$3,$G$15:$G$26),\"\")","v":1.0478309232480534},{"$f":"SUM(T3:T4)","v":10},{"$f":"IF(SUM($G$15:$G$26)>0,SUM($F$15:$F$26)/SUM($G$15:$G$26),\"\")","v":1.0478309232480534},{"$f":"IF(SUMIF($K$15:$K$26,Récapitulatif!$B$2,$G$15:$G$26)+SUMIF($K$15:$K$26,Récapitulatif!$B$3,$G$15:$G$26)>0,(SUMIF($K$15:$K$26,Récapitulatif!$B$2,$F$15:$F$26)+SUMIF($K$15:$K$26,Récapitulatif!$B$3,$F$15:$F$26))/(SUMIF($K$15:$K$26,Récapitulatif!$B$2,$G$15:$G$26)+SUMIF($K$15:$K$26,Récapitulatif!$B$3,$G$15:$G$26)),\"\")","v":1.0478309232480534}]
[null,null,null,null,null,null,null,null,null,null,null,null,null,"Sets","Gagnés",{"$f":"SUMIF($K$15:$K$26,Récapitulatif!$B$2,$D$15:$D$26)","v":0},{"$f":"IF(P$6+P$7>0,P6/(P$6+P$7),\"\")","v":""},{"$f":"SUMIF($K$15:$K$26,Récapitulatif!$B$3,$D$15:$D$26)","v":21},{"$f":"IF(R$6+R$7>0,R6/(R$6+R$7),\"\")","v":0.56756756756756754},{"$f":"SUM($D$15:$D$26)","v":21},{"$f":"IF(T$6+T$7>0,T6/(T$6+T$7),\"\")","v":0.56756756756756754}]
[null,null,null,null,null,null,null,null,null,null,null,null,null,null,"Perdus",{"$f":"SUMIF($K$15:$K$26,Récapitulatif!$B$2,$E$15:$E$26)","v":0},{"$f":"IF(P$6+P$7>0,P7/(P$6+P$7),\"\")","v":""},{"$f":"SUMIF($K$15:$K$26,Récapitulatif!$B$3,$E$15:$E$26)","v":16},{"$f":"IF(R$6+R$7>0,R7/(R$6+R$7),\"\")","v":0.43243243243243246},{"$f":"SUM($E$15:$E$26)","v":16},{"$f":"IF(T$6+T$7>0,T7/(T$6+T$7),\"\")","v":0.43243243243243246}]
["Récapitulatif joueurs",null,null,null,null,null,null,null,null,null,null,null,null,null,"Total",{"$f":"SUM(P6:P7)","v":0},null,{"$f":"SUM(R6:R7)","v":37},null,{"$f":"SUM(T6:T7)","v":37}]
[]
[]
[]
[]
[]
[]
["Joueur","Adversaire","G/P","Sets gagnés","Sets perdus","pts marqués","pts subis","Date","Compétition","Phase","Saison"]
["LEMATRE Alexis","GUERIN Xavier","P",1,2,139,162,"2016-03-04","National T5 GRAVELINES","Préqualifs",{"$f":"IF(H16<>\"\",IF(MONTH(H16)>MoisRef,YEAR(H16)&\"-\"&YEAR(H16)+1,YEAR(H16)-1&\"-\"&YEAR(H16)),\"\")","v":"2015-2016"},null,null,null,null,{"$f":"IF($K16=P$1,COUNTIF($C16,\"G\"),0)","v":0},null,{"$f":"IF($K16=R$1,COUNTIF($C16,\"G\"),0)","v":0}]
["LEMATRE Alexis","CLYNCKE Jean-Jacques","P",1,2,158,169,"2016-03-04","National T5 GRAVELINES","Préqualifs","2015-2016",null,null,null,null,0,null,0]
["LEMATRE Alexis","POULEYN André","G",2,0,120,68,"2016-03-04","National T5 GRAVELINES","Préqualifs","2015-2016",null,null,null,null,0,null,1]
["LEMATRE Alexis","BONGIOVANNI Giovanni","G",3,2,271,224,"2016-03-05","National T5 GRAVELINES","Qualifs promotion","2015-2016",null,null,null,null,0,null,1]
["LEMATRE Alexis","VIERA MAIA Arlindo","P",1,3,207,209,"2016-03-05","National T5 GRAVELINES","Qualifs promotion","2015-2016",null,null,null,null,0,null,0]
["LEMATRE Alexis","WEBER Thierry","G",3,1,219,158,"2016-03-05","National T5 GRAVELINES","Qualifs promotion","2015-2016",null,null,null,null,0,null,1]
["LEMATRE Alexis","WALLART Jean-Charles","G",3,0,180,122,"2016-03-06","National T5 GRAVELINES","1/8 finale promotion","2015-2016",null,null,null,null,0,null,1]
["LEMATRE Alexis","ZACCAGNINI Antoine","G",3,1,203,212,"2016-03-06","National T5 GRAVELINES","1/4 finale promotion","2015-2016",null,null,null,null,0,null,1]
["LEMATRE Alexis","MAILLE Bernard","G",3,2,233,254,"2016-03-06","National T5 GRAVELINES","1/2 finale promotion","2015-2016",null,null,null,null,0,null,1]
["LEMATRE Alexis","GUERIN Xavier","P",1,3,154,220,"2016-03-06","National T5 GRAVELINES","Finale promotion","2015-2016",null,null,null,null,0,null,0]
["Fin des données",null,null,null,null,null,null,null,null,null,"",null,null,null,null,{"$f":"IF($K26=P$1,COUNTIF($C26,\"G\"),0)","v":0},null,{"$f":"IF($K26=R$1,COUNTIF($C26,\"G\"),0)","v":0}]

{"sheet":"LEMATRE Jérémy","index":51,"n_rows":19,"n_cols":22,"rows_kept":19,"cut":false,"hidden":false,"merged":[]}
["LEMATRE Jérémy",null,null,null,null,null,null,null,null,null,null,null,null,null,null,{"$f":"Récapitulatif!$B$2","v":"2014-2015"},null,{"$f":"Récapitulatif!$B$3","v":"2015-2016"},null,"Toutes saisons"]
["<Club>",null,null,null,null,null,null,null,null,null,null,null,null,null,null,"Nombre","%age","Nombre","%age","Nombre","%age"]
["<Licence>",null,null,null,null,null,null,null,null,null,null,null,null,"Matchs","Gagnés",{"$f":"SUM(P$15:P$19)","v":1},{"$f":"IF(P$3+P$4>0,P3/(P$3+P$4),\"\")","v":0.33333333333333331},{"$f":"SUM(R$15:R$19)","v":0},{"$f":"IF(R$3+R$4>0,R3/(R$3+R$4),\"\")","v":""},{"$f":"COUNTIF($C$15:$C$19,\"G\")","v":1},{"$f":"IF(T$3+T$4>0,T3/(T$3+T$4),\"\")","v":0.33333333333333331}]
["<Tel>",null,null,null,null,null,null,null,null,null,null,null,null,null,"Perdus",{"$f":"COUNTIF($K$15:$K$19,Récapitulatif!$B$2)-P3","v":2},{"$f":"IF(P$3+P$4>0,P4/(P$3+P$4),\"\")","v":0.66666666666666663},{"$f":"COUNTIF($K$15:$K$19,Récapitulatif!$B$3)-R3","v":0},{"$f":"IF(R$3+R$4>0,R4/(R$3+R$4),\"\")","v":""},{"$f":"COUNTIF($C$15:$C$19,\"P\")","v":2},{"$f":"IF(T$3+T$4>0,T4/(T$3+T$4),\"\")","v":0.66666666666666663}]
["<email>",null,null,null,null,null,null,null,null,null,null,null,null,null,"Total / Moy.",{"$f":"SUM(P3:P4)","v":3},{"$f":"IF(SUMIF($K$15:$K$19,Récapitulatif!$B$2,$G$15:$G$19)>0,SUMIF($K$15:$K$19,Récapitulatif!$B$2,$F$15:$F$19)/SUMIF($K$15:$K$19,Récapitulatif!$B$2,$G$15:$G$19),\"\")","v":0.88785046728971961},{"$f":"SUM(R3:R4)","v":0},{"$f":"IF(SUMIF($K$15:$K$19,Récapitulatif!$B$3,$G$15:$G$19)>0,SUMIF($K$15:$K$19,Récapitulatif!$B$3,$F$15:$F$19)/SUMIF($K$15:$K$19,Récapitulatif!$B$3,$G$15:$G$19),\"\")","v":""},{"$f":"SUM(T3:T4)","v":3},{"$f":"IF(SUM($G$15:$G$19)>0,SUM($F$15:$F$19)/SUM($G$15:$G$19),\"\")","v":0.88785046728971961},{"$f":"IF(SUMIF($K$15:$K$19,Récapitulatif!$B$2,$G$15:$G$19)+SUMIF($K$15:$K$19,Récapitulatif!$B$3,$G$15:$G$19)>0,(SUMIF($K$15:$K$19,Récapitulatif!$B$2,$F$15:$F$19)+SUMIF($K$15:$K$19,Récapitulatif!$B$3,$F$15:$F$19))/(SUMIF($K$15:$K$19,Récapitulatif!$B$2,$G$15:$G$19)+SUMIF($K$15:$K$19,Récapitulatif!$B$3,$G$15:$G$19)),\"\")","v":0.88785046728971961}]
[null,null,null,null,null,null,null,null,null,null,null,null,null,"Sets","Gagnés",{"$f":"SUMIF($K$15:$K$19,Récapitulatif!$B$2,$D$15:$D$19)","v":4},{"$f":"IF(P$6+P$7>0,P6/(P$6+P$7),\"\")","v":0.36363636363636365},{"$f":"SUMIF($K$15:$K$19,Récapitulatif!$B$3,$D$15:$D$19)","v":0},{"$f":"IF(R$6+R$7>0,R6/(R$6+R$7),\"\")","v":""},{"$f":"SUM($D$15:$D$19)","v":4},{"$f":"IF(T$6+T$7>0,T6/(T$6+T$7),\"\")","v":0.36363636363636365}]
[null,null,null,null,null,null,null,null,null,null,null,null,null,null,"Perdus",{"$f":"SUMIF($K$15:$K$19,Récapitulatif!$B$2,$E$15:$E$19)","v":7},{"$f":"IF(P$6+P$7>0,P7/(P$6+P$7),\"\")","v":0.63636363636363635},{"$f":"SUMIF($K$15:$K$19,Récapitulatif!$B$3,$E$15:$E$19)","v":0},{"$f":"IF(R$6+R$7>0,R7/(R$6+R$7),\"\")","v":""},{"$f":"SUM($E$15:$E$19)","v":7},{"$f":"IF(T$6+T$7>0,T7/(T$6+T$7),\"\")","v":0.63636363636363635}]
["Récapitulatif joueurs",null,null,null,null,null,null,null,null,null,null,null,null,null,"Total",{"$f":"SUM(P6:P7)","v":11},null,{"$f":"SUM(R6:R7)","v":0},null,{"$f":"SUM(T6:T7)","v":11}]
[]
[]
[]
[]
[]
[]
["Joueur","Adversaire","G/P","Sets gagnés","Sets perdus","pts marqués","pts subis","Date","Compétition","Phase","Saison"]
["LEMATRE Jérémy","FERON Patrick","P",0,3,104,180,"2015-06-06","CHAMPIONNAT DE FRANCE N1 ORLEANS","Qualifs",{"$f":"IF(H16<>\"\",IF(MONTH(H16)>MoisRef,YEAR(H16)&\"-\"&YEAR(H16)+1,YEAR(H16)-1&\"-\"&YEAR(H16)),\"\")","v":"2014-2015"},null,null,null,null,{"$f":"IF($K16=P$1,COUNTIF($C16,\"G\"),0)","v":0},null,{"$f":"IF($K16=R$1,COUNTIF($C16,\"G\"),0)","v":0}]
["LEMATRE Jérémy","ROUBY Guillaume","P",1,3,154,205,"2015-06-06","CHAMPIONNAT DE FRANCE N1 ORLEANS","Qualifs",{"$f":"IF(H17<>\"\",IF(MONTH(H17)>MoisRef,YEAR(H17)&\"-\"&YEAR(H17)+1,YEAR(H17)-1&\"-\"&YEAR(H17)),\"\")","v":"2014-2015"},null,null,null,null,0,null,0]
["LEMATRE Jérémy","HORNECKER Benoît","G",3,1,217,150,"2015-06-06","CHAMPIONNAT DE FRANCE N1 ORLEANS","Qualifs",{"$f":"IF(H18<>\"\",IF(MONTH(H18)>MoisRef,YEAR(H18)&\"-\"&YEAR(H18)+1,YEAR(H18)-1&\"-\"&YEAR(H18)),\"\")","v":"2014-2015"},null,null,null,null,1,null,0]
["Fin des données",null,null,null,null,null,null,null,null,null,{"$f":"IF(H19<>\"\",IF(MONTH(H19)>MoisRef,YEAR(H19)&\"-\"&YEAR(H19)+1,YEAR(H19)-1&\"-\"&YEAR(H19)),\"\")","v":""},null,null,null,null,{"$f":"IF($K19=P$1,COUNTIF($C19,\"G\"),0)","v":0},null,{"$f":"IF($K19=R$1,COUNTIF($C19,\"G\"),0)","v":0}]

{"sheet":"LEMÂTRE Alexis","index":52,"n_rows":54,"n_cols":22,"rows_kept":54,"cut":false,"hidden":false,"merged":[]}
["LEMÂTRE Alexis",null,null,null,null,null,null,null,null,null,null,null,null,null,null,{"$f":"Récapitulatif!$B$2","v":"2014-2015"},null,{"$f":"Récapitulatif!$B$3","v":"2015-2016"},null,"Toutes saisons"]
["<Club>",null,null,null,null,null,null,null,null,null,null,null,null,null,null,"Nombre","%age","Nombre","%age","Nombre","%age"]
["<Licence>",null,null,null,null,null,null,null,null,null,null,null,null,"Matchs","Gagnés",{"$f":"SUM(P$15:P$54)","v":16},{"$f":"IF(P$3+P$4>0,P3/(P$3+P$4),\"\")","v":0.69565217391304346},{"$f":"SUM(R$15:R$54)","v":9},{"$f":"IF(R$3+R$4>0,R3/(R$3+R$4),\"\")","v":0.6},{"$f":"COUNTIF($C$15:$C$54,\"G\")","v":25},{"$f":"IF(T$3+T$4>0,T3/(T$3+T$4),\"\")","v":0.65789473684210531}]
["<Tel>",null,null,null,null,null,null,null,null,null,null,null,null,null,"Perdus",{"$f":"COUNTIF($K$15:$K$54,Récapitulatif!$B$2)-P3","v":7},{"$f":"IF(P$3+P$4>0,P4/(P$3+P$4),\"\")","v":0.30434782608695654},{"$f":"COUNTIF($K$15:$K$54,Récapitulatif!$B$3)-R3","v":6},{"$f":"IF(R$3+R$4>0,R4/(R$3+R$4),\"\")","v":0.4},{"$f":"COUNTIF($C$15:$C$54,\"P\")","v":13},{"$f":"IF(T$3+T$4>0,T4/(T$3+T$4),\"\")","v":0.34210526315789475}]
["<email>",null,null,null,null,null,null,null,null,null,null,null,null,null,"Total / Moy.",{"$f":"SUM(P3:P4)","v":23},{"$f":"IF(SUMIF($K$15:$K$54,Récapitulatif!$B$2,$G$15:$G$54)>0,SUMIF($K$15:$K$54,Récapitulatif!$B$2,$F$15:$F$54)/SUMIF($K$15:$K$54,Récapitulatif!$B$2,$G$15:$G$54),\"\")","v":1.1744345442083619},{"$f":"SUM(R3:R4)","v":15},{"$f":"IF(SUMIF($K$15:$K$54,Récapitulatif!$B$3,$G$15:$G$54)>0,SUMIF($K$15:$K$54,Récapitulatif!$B$3,$F$15:$F$54)/SUMIF($K$15:$K$54,Récapitulatif!$B$3,$G$15:$G$54),\"\")","v":1.0601265822784811},{"$f":"SUM(T3:T4)","v":38},{"$f":"IF(SUM($G$15:$G$54)>0,SUM($F$15:$F$54)/SUM($G$15:$G$54),\"\")","v":1.1294142085583714},{"$f":"IF(SUMIF($K$15:$K$54,Récapitulatif!$B$2,$G$15:$G$54)+SUMIF($K$15:$K$54,Récapitulatif!$B$3,$G$15:$G$54)>0,(SUMIF($K$15:$K$54,Récapitulatif!$B$2,$F$15:$F$54)+SUMIF($K$15:$K$54,Récapitulatif!$B$3,$F$15:$F$54))/(SUMIF($K$15:$K$54,Récapitulatif!$B$2,$G$15:$G$54)+SUMIF($K$15:$K$54,Récapitulatif!$B$3,$G$15:$G$54)),\"\")","v":1.1294142085583714}]
[null,null,null,null,null,null,null,null,null,null,null,null,null,"Sets","Gagnés",{"$f":"SUMIF($K$15:$K$54,Récapitulatif!$B$2,$D$15:$D$54)","v":40},{"$f":"IF(P$6+P$7>0,P6/(P$6+P$7),\"\")","v":0.64516129032258063},{"$f":"SUMIF($K$15:$K$54,Récapitulatif!$B$3,$D$15:$D$54)","v":19},{"$f":"IF(R$6+R$7>0,R6/(R$6+R$7),\"\")","v":0.54285714285714282},{"$f":"SUM($D$15:$D$54)","v":59},{"$f":"IF(T$6+T$7>0,T6/(T$6+T$7),\"\")","v":0.60824742268041232}]
[null,null,null,null,null,null,null,null,null,null,null,null,null,null,"Perdus",{"$f":"SUMIF($K$15:$K$54,Récapitulatif!$B$2,$E$15:$E$54)","v":22},{"$f":"IF(P$6+P$7>0,P7/(P$6+P$7),\"\")","v":0.35483870967741937},{"$f":"SUMIF($K$15:$K$54,Récapitulatif!$B$3,$E$15:$E$54)","v":16},{"$f":"IF(R$6+R$7>0,R7/(R$6+R$7),\"\")","v":0.45714285714285713},{"$f":"SUM($E$15:$E$54)","v":38},{"$f":"IF(T$6+T$7>0,T7/(T$6+T$7),\"\")","v":0.39175257731958762}]
["Récapitulatif joueurs",null,null,null,null,null,null,null,null,null,null,null,null,null,"Total",{"$f":"SUM(P6:P7)","v":62},null,{"$f":"SUM(R6:R7)","v":35},null,{"$f":"SUM(T6:T7)","v":97}]
[]
[]
[]
[]
[]
[]
["Joueur","Adversaire","G/P","Sets gagnés","Sets perdus","pts marqués","pts subis","Date","Compétition","Phase","Saison"]
["LEMÂTRE Alexis","LUBREZ Pierre","G",1,0,100,48,"2015-01-17","N1 Ligue T1 DUNKERQUE","Poules Consolante",{"$f":"IF(H16<>\"\",IF(MONTH(H16)>MoisRef,YEAR(H16)&\"-\"&YEAR(H16)+1,YEAR(H16)-1&\"-\"&YEAR(H16)),\"\")","v":"2014-2015"},null,null,null,null,{"$f":"IF($K16=P$1,COUNTIF($C16,\"G\"),0)","v":1},null,{"$f":"IF($K16=R$1,COUNTIF($C16,\"G\"),0)","v":0}]
["LEMÂTRE Alexis","LUBREZ Pierre","G",1,0,100,86,"2015-01-17","N1 Ligue T1 DUNKERQUE","Poules Consolante","2014-2015",null,null,null,null,1,null,0]
["LEMÂTRE Alexis","POULEYN andré","G",1,0,100,98,"2015-01-17","N1 Ligue T1 DUNKERQUE","1/2 finale Consolante","2014-2015",null,null,null,null,1,null,0]
["LEMÂTRE Alexis","DEPLECHIN Robert","P",1,2,144,165,"2015-01-17","N1 Ligue T1 DUNKERQUE","Poules","2014-2015",null,null,null,null,0,null,0]
["LEMÂTRE Alexis","DEROLEZ Jean-pierre","P",0,2,101,120,"2015-01-17","N1 Ligue T1 DUNKERQUE","Poules","2014-2015",null,null,null,null,0,null,0]
["LEMÂTRE Alexis","LORTHIOIR Jean-Luc","G",2,1,145,126,"2015-02-07","N1 Ligue T2 CALAIS","Poules","2014-2015",null,null,null,null,1,null,0]
["LEMÂTRE Alexis","GEETS Patrice","G",2,0,120,90,"2015-02-07","N1 Ligue T2 CALAIS","Poules","2014-2015",null,null,null,null,1,null,0]
["LEMÂTRE Alexis","ALDEGUER Lionel","G",2,0,120,65,"2015-02-07","N1 Ligue T2 CALAIS","1/8 Finale","2014-2015",null,null,null,null,1,null,0]
["LEMÂTRE Alexis","VERHAGHE Dominique","G",2,0,120,65,"2015-02-07","N1 Ligue T2 CALAIS","1/4 Finale","2014-2015",null,null,null,null,1,null,0]
["LEMÂTRE Alexis","DEROLEZ Jean-pierre","P",1,2,157,133,"2015-02-07","N1 Ligue T2 CALAIS","1/2 Finale","2014-2015",null,null,null,null,0,null,0]
["LEMÂTRE Alexis","GHEVART Jean","G",2,0,120,75,"2015-03-14","N1 Ligue T3 ANNOEULLIN","Poules","2014-2015",null,null,null,null,1,null,0]
["LEMÂTRE Alexis","DEPLECHIN Robert","G",2,0,120,83,"2015-03-14","N1 Ligue T3 ANNOEULLIN","Poules","2014-2015",null,null,null,null,1,null,0]
["LEMÂTRE Alexis","ALDEGUER Lionel","G",2,0,120,64,"2015-03-14","N1 Ligue T3 ANNOEULLIN","1/4 Finale","2014-2015",null,null,null,null,1,null,0]
["LEMÂTRE Alexis","GEETS Patrice","G",2,1,162,168,"2015-03-14","N1 Ligue T3 ANNOEULLIN","1/2 Finale","2014-2015",null,null,null,null,1,null,0]
["LEMÂTRE Alexis","POULEYN André","P",0,2,81,120,"2015-03-14","N1 Ligue T3 ANNOEULLIN","Finale","2014-2015",null,null,null,null,0,null,0]
["LEMÂTRE Alexis","DEPLECHIN Robert","G",3,0,180,117,"2015-04-19","FINALE LIGUE N1 GRAVELINES","Poules","2014-2015",null,null,null,null,1,null,0]
["LEMÂTRE Alexis","DECONINCK Franky","P",2,3,232,253,"2015-04-19","FINALE LIGUE N1 GRAVELINES","Poules","2014-2015",null,null,null,null,0,null,0]
["LEMÂTRE Alexis","LEMÂTRE Jérémy","P",0,3,133,180,"2015-04-19","FINALE LIGUE N1 GRAVELINES","1/2 Finale","2014-2015",null,null,null,null,0,null,0]
["LEMÂTRE Alexis","POULEYN André","G",3,2,274,237,"2015-04-19","FINALE LIGUE N1 GRAVELINES","3ème 4ème","2014-2015",null,null,null,null,1,null,0]
["LEMÂTRE Alexis","HERREBRECHT Erian","G",3,0,180,91,"2014-12-27","CF Juniors","Poules","2014-2015",null,null,null,null,1,null,0]
["LEMÂTRE Alexis","FOULON Jeremy","G",3,1,224,154,"2014-12-27","CF Juniors","Poules","2014-2015",null,null,null,null,1,null,0]
["LEMÂTRE Alexis","GUINGAND Florian","G",3,0,180,99,"2014-12-27","CF Juniors","Poules","2014-2015",null,null,null,null,1,null,0]
["LEMÂTRE Alexis","AUBERT Jordan","P",2,3,214,281,"2014-12-27","CF Juniors","1/4 finale","2014-2015",null,null,null,null,0,null,0]
["LEMÂTRE Alexis","KERKHOF Hervé","G",2,0,120,107,"2015-12-04","T1 LIGUE 5 QUILLES N1 - FACHES-THUMESNIL","Poules","2015-2016",null,null,null,null,0,null,1]
["LEMÂTRE Alexis","CAUX Frédéric","G",2,1,163,134,"2015-12-04","T1 LIGUE 5 QUILLES N1 - FACHES-THUMESNIL","Poules","2015-2016",null,null,null,null,0,null,1]
["LEMÂTRE Alexis","DEROLEZ Jean-Pierre","G",2,0,120,89,"2015-12-04","T1 LIGUE 5 QUILLES N1 - FACHES-THUMESNIL","1/4 Finale","2015-2016",null,null,null,null,0,null,1]
["LEMÂTRE Alexis","DELSOL Philippe","P",1,2,136,158,"2015-12-04","T1 LIGUE 5 QUILLES N1 - FACHES-THUMESNIL","1/2 Finale","2015-2016",null,null,null,null,0,null,0]
["LEMÂTRE Alexis","ALDEGUER Lionel","G",1,0,100,57,"2016-01-09","CONSOLANTE  T2 LIGUE 5 QUILLES N1 - GRAVELINES","Qualifications","2015-2016",null,null,null,null,0,null,1]
["LEMÂTRE Alexis","GHEVART Jean","G",1,0,100,82,"2016-01-09","CONSOLANTE  T2 LIGUE 5 QUILLES N1 - GRAVELINES","Qualifications","2015-2016",null,null,null,null,0,null,1]
["LEMÂTRE Alexis","WALLART Jean-Charles","G",1,0,100,55,"2016-01-09","CONSOLANTE  T2 LIGUE 5 QUILLES N1 - GRAVELINES","1/2 Finale","2015-2016",null,null,null,null,0,null,1]
["LEMÂTRE Alexis","GHEVART Jean","G",1,0,100,97,"2016-01-09","CONSOLANTE  T2 LIGUE 5 QUILLES N1 - GRAVELINES","Finale","2015-2016",null,null,null,null,0,null,1]
["LEMÂTRE Alexis","GHEVART Jean","P",0,2,108,120,"2016-01-09","T2  LIGUE 5 QUILLES N1 - GRAVELINES","Qualifications","2015-2016",null,null,null,null,0,null,0]
["LEMÂTRE Alexis","DEVOS Jackie","P",0,2,94,120,"2016-01-09","T2  LIGUE 5 QUILLES N1 - GRAVELINES","Qualifications","2015-2016",null,null,null,null,0,null,0]
["LEMÂTRE Alexis","GEETS Patrice","P",1,2,147,175,"2016-01-23","T3 Ligue 5 Quilles N1 - ANNOEULLIN","1/4 Finale","2015-2016",null,null,null,null,0,null,0]
["LEMÂTRE Alexis","POULEYN André","G",2,0,120,68,"2016-01-23","T3 Ligue 5 Quilles N1 - ANNOEULLIN","Qualifications","2015-2016",null,null,null,null,0,null,1]
["LEMÂTRE Alexis","POULEYN André","G",2,1,171,140,"2016-01-23","T3 Ligue 5 Quilles N1 - ANNOEULLIN","Qualifications","2015-2016",null,null,null,null,0,null,1]
["LEMÂTRE Alexis","DELSOL Philippe","P",1,3,176,224,"2016-04-24","Finale Ligue 5 Quilles N1 - ANNOEULLIN","Qualifications","2015-2016",null,null,null,null,0,null,0]
["LEMÂTRE Alexis","LEMÂTRE Jérémy","P",2,3,255,270,"2016-04-24","Finale Ligue 5 Quilles N1 - ANNOEULLIN","Qualifications","2015-2016",null,null,null,null,0,null,0]
["Fin des données",null,null,null,null,null,null,null,null,null,"",null,null,null,null,{"$f":"IF($K54=P$1,COUNTIF($C54,\"G\"),0)","v":0},null,{"$f":"IF($K54=R$1,COUNTIF($C54,\"G\"),0)","v":0}]

{"sheet":"LEMÂTRE Jérémy","index":53,"n_rows":89,"n_cols":22,"rows_kept":89,"cut":false,"hidden":false,"merged":[]}
["LEMÂTRE Jérémy",null,null,null,null,null,null,null,null,null,null,null,null,null,null,{"$f":"Récapitulatif!$B$2","v":"2014-2015"},null,{"$f":"Récapitulatif!$B$3","v":"2015-2016"},null,"Toutes saisons"]
["ST POL SUR MER",null,null,null,null,null,null,null,null,null,null,null,null,null,null,"Nombre","%age","Nombre","%age","Nombre","%age"]
["127735-X",null,null,null,null,null,null,null,null,null,null,null,null,"Matchs","Gagnés",{"$f":"SUM(P$15:P$89)","v":16},{"$f":"IF(P$3+P$4>0,P3/(P$3+P$4),\"\")","v":0.88888888888888884},{"$f":"SUM(R$15:R$89)","v":10},{"$f":"IF(R$3+R$4>0,R3/(R$3+R$4),\"\")","v":0.625},{"$f":"COUNTIF($C$15:$C$89,\"G\")","v":48},{"$f":"IF(T$3+T$4>0,T3/(T$3+T$4),\"\")","v":0.65753424657534243}]
[null,null,null,null,null,null,null,null,null,null,null,null,null,null,"Perdus",{"$f":"COUNTIF($K$15:$K$89,Récapitulatif!$B$2)-P3","v":2},{"$f":"IF(P$3+P$4>0,P4/(P$3+P$4),\"\")","v":0.1111111111111111},{"$f":"COUNTIF($K$15:$K$89,Récapitulatif!$B$3)-R3","v":6},{"$f":"IF(R$3+R$4>0,R4/(R$3+R$4),\"\")","v":0.375},{"$f":"COUNTIF($C$15:$C$89,\"P\")","v":25},{"$f":"IF(T$3+T$4>0,T4/(T$3+T$4),\"\")","v":0.34246575342465752}]
[null,null,null,null,null,null,null,null,null,null,null,null,null,null,"Total / Moy.",{"$f":"SUM(P3:P4)","v":18},{"$f":"IF(SUMIF($K$15:$K$89,Récapitulatif!$B$2,$G$15:$G$89)>0,SUMIF($K$15:$K$89,Récapitulatif!$B$2,$F$15:$F$89)/SUMIF($K$15:$K$89,Récapitulatif!$B$2,$G$15:$G$89),\"\")","v":1.2143170838823012},{"$f":"SUM(R3:R4)","v":16},{"$f":"IF(SUMIF($K$15:$K$89,Récapitulatif!$B$3,$G$15:$G$89)>0,SUMIF($K$15:$K$89,Récapitulatif!$B$3,$F$15:$F$89)/SUMIF($K$15:$K$89,Récapitulatif!$B$3,$G$15:$G$89),\"\")","v":1.0918141592920354},{"$f":"SUM(T3:T4)","v":73},{"$f":"IF(SUM($G$15:$G$89)>0,SUM($F$15:$F$89)/SUM($G$15:$G$89),\"\")","v":1.0976456547683628},{"$f":"IF(SUMIF($K$15:$K$89,Récapitulatif!$B$2,$G$15:$G$89)+SUMIF($K$15:$K$89,Récapitulatif!$B$3,$G$15:$G$89)>0,(SUMIF($K$15:$K$89,Récapitulatif!$B$2,$F$15:$F$89)+SUMIF($K$15:$K$89,Récapitulatif!$B$3,$F$15:$F$89))/(SUMIF($K$15:$K$89,Récapitulatif!$B$2,$G$15:$G$89)+SUMIF($K$15:$K$89,Récapitulatif!$B$3,$G$15:$G$89)),\"\")","v":1.1600979192166463}]
[null,null,null,null,null,null,null,null,null,null,null,null,null,"Sets","Gagnés",{"$f":"SUMIF($K$15:$K$89,Récapitulatif!$B$2,$D$15:$D$89)","v":38},{"$f":"IF(P$6+P$7>0,P6/(P$6+P$7),\"\")","v":0.76},{"$f":"SUMIF($K$15:$K$89,Récapitulatif!$B$3,$D$15:$D$89)","v":22},{"$f":"IF(R$6+R$7>0,R6/(R$6+R$7),\"\")","v":0.57894736842105265},{"$f":"SUM($D$15:$D$89)","v":118},{"$f":"IF(T$6+T$7>0,T6/(T$6+T$7),\"\")","v":0.60204081632653061}]
[null,null,null,null,null,null,null,null,null,null,null,null,null,null,"Perdus",{"$f":"SUMIF($K$15:$K$89,Récapitulatif!$B$2,$E$15:$E$89)","v":12},{"$f":"IF(P$6+P$7>0,P7/(P$6+P$7),\"\")","v":0.24},{"$f":"SUMIF($K$15:$K$89,Récapitulatif!$B$3,$E$15:$E$89)","v":16},{"$f":"IF(R$6+R$7>0,R7/(R$6+R$7),\"\")","v":0.42105263157894735},{"$f":"SUM($E$15:$E$89)","v":78},{"$f":"IF(T$6+T$7>0,T7/(T$6+T$7),\"\")","v":0.39795918367346939}]
["Récapitulatif joueurs",null,null,null,null,null,null,null,null,null,null,null,null,null,"Total",{"$f":"SUM(P6:P7)","v":50},null,{"$f":"SUM(R6:R7)","v":38},null,{"$f":"SUM(T6:T7)","v":196}]
[]
[]
[]
[]
[]
[]
["Joueur","Adversaire","G/P","Sets gagnés","Sets perdus","pts marqués","pts subis","Date","Compétition","Phase","Saison"]
["LEMÂTRE Jérémy","VEREECQUE Ludovic","G",2,1,172,141,"2010-11-13","N1 Ligue T2 FACHES THUMESNIL","Poules",{"$f":"IF(H16<>\"\",IF(MONTH(H16)>MoisRef,YEAR(H16)&\"-\"&YEAR(H16)+1,YEAR(H16)-1&\"-\"&YEAR(H16)),\"\")","v":"2010-2011"},null,null,null,null,{"$f":"IF($K16=P$1,COUNTIF($C16,\"G\"),0)","v":0},null,{"$f":"IF($K16=R$1,COUNTIF($C16,\"G\"),0)","v":0}]
["LEMÂTRE Jérémy","RACARY Thibault","P",1,2,112,159,"2010-11-13","N1 Ligue T2 FACHES THUMESNIL","Poules","2010-2011",null,null,null,null,0,null,0]
["LEMÂTRE Jérémy","DEROLEZ Jean-Pierre","G",2,1,154,142,"2010-11-13","N1 Ligue T2 FACHES THUMESNIL","Poules Consolante","2010-2011",null,null,null,null,0,null,0]
["LEMÂTRE Jérémy","WALLART Jean-Charles","P",1,2,138,148,"2010-11-13","N1 Ligue T2 FACHES THUMESNIL","Poules Consolante","2010-2011",null,null,null,null,0,null,0]
["LEMÂTRE Jérémy","MARCHISSEAU Stéphane","G",2,1,158,136,"2010-12-03","National T3 FACHES THUMESNIL - RONCHIN","Préqualifs","2010-2011",null,null,null,null,0,null,0]
["LEMÂTRE Jérémy","LORTHIOIR Jean-Luc","G",2,0,120,90,"2010-12-03","National T3 FACHES THUMESNIL - RONCHIN","Préqualifs","2010-2011",null,null,null,null,0,null,0]
["LEMÂTRE Jérémy","GANGLOFF Jean-Luc","G",2,1,177,153,"2010-12-03","National T3 FACHES THUMESNIL - RONCHIN","Préqualifs","2010-2011",null,null,null,null,0,null,0]
["LEMÂTRE Jérémy","LORTHIOIR Jean-Luc","G",3,2,270,250,"2010-12-04","National T3 FACHES THUMESNIL - RONCHIN","Qualifs promotion","2010-2011",null,null,null,null,0,null,0]
["LEMÂTRE Jérémy","WALLART Jean-Charles","G",3,0,180,91,"2010-12-04","National T3 FACHES THUMESNIL - RONCHIN","Qualifs promotion","2010-2011",null,null,null,null,0,null,0]
["LEMÂTRE Jérémy","GANGLOFF Jean-Luc","G",3,0,180,85,"2010-12-05","National T3 FACHES THUMESNIL - RONCHIN","1/8 finale promotion","2010-2011",null,null,null,null,0,null,0]
["LEMÂTRE Jérémy","GEETS Patrice","P",1,3,200,214,"2010-12-05","National T3 FACHES THUMESNIL - RONCHIN","1/4 finale promotion","2010-2011",null,null,null,null,0,null,0]
["LEMÂTRE Jérémy","FAUCOMPREZ Didier","G",2,0,120,68,"2010-12-11","N1 Ligue T3 GRAVELINES","Poules","2010-2011",null,null,null,null,0,null,0]
["LEMÂTRE Jérémy","DELSOL Philippe","P",0,2,44,120,"2010-12-11","N1 Ligue T3 GRAVELINES","Poules","2010-2011",null,null,null,null,0,null,0]
["LEMÂTRE Jérémy","SKORDILIS Christo","P",0,2,90,120,"2010-12-11","N1 Ligue T3 GRAVELINES","Poules Consolante","2010-2011",null,null,null,null,0,null,0]
["LEMÂTRE Jérémy","SKORDILIS Christo","G",2,1,178,144,"2010-12-11","N1 Ligue T3 GRAVELINES","Poules Consolante","2010-2011",null,null,null,null,0,null,0]
["LEMÂTRE Jérémy","MANTEN Paul","G",2,0,120,77,"2011-10-15","N1 Ligue T1 DIVION","Poules","2011-2012",null,null,null,null,0,null,0]
["LEMÂTRE Jérémy","RACARY Thibault","P",1,2,141,160,"2011-10-15","N1 Ligue T1 DIVION","Poules","2011-2012",null,null,null,null,0,null,0]
["LEMÂTRE Jérémy","DELSOL Philippe","P",1,2,95,166,"2011-10-15","N1 Ligue T1 DIVION","1/4 Finale","2011-2012",null,null,null,null,0,null,0]
["LEMÂTRE Jérémy","MANTEN Paul","G",2,0,120,79,"2012-01-07","N1 Ligue T3 FACHES THUMESNIL","Poules","2011-2012",null,null,null,null,0,null,0]
["LEMÂTRE Jérémy","SAINT-GEORGES Claude","P",1,2,163,178,"2012-01-07","N1 Ligue T3 FACHES THUMESNIL","Poules","2011-2012",null,null,null,null,0,null,0]
["LEMÂTRE Jérémy","DEROLEZ Jean-Pierre","G",2,0,120,70,"2012-01-07","N1 Ligue T3 FACHES THUMESNIL","1/8 Finale","2011-2012",null,null,null,null,0,null,0]
["LEMÂTRE Jérémy","LHERMITTE Cédric","P",1,2,117,177,"2012-01-07","N1 Ligue T3 FACHES THUMESNIL","1/4 Finale","2011-2012",null,null,null,null,0,null,0]
["LEMÂTRE Jérémy","MONFLIER Francis","G",2,0,120,42,"2012-01-28","N1 Ligue T4 GRAVELINES","Poules","2011-2012",null,null,null,null,0,null,0]
["LEMÂTRE Jérémy","WALLART Jean-Charles","G",2,0,120,66,"2012-01-28","N1 Ligue T4 GRAVELINES","Poules","2011-2012",null,null,null,null,0,null,0]
["LEMÂTRE Jérémy","MONFLIER Francis","G",2,0,120,44,"2012-01-28","N1 Ligue T4 GRAVELINES","1/8 Finale","2011-2012",null,null,null,null,0,null,0]
["LEMÂTRE Jérémy","LORTHIOIR Jean-Luc","G",2,1,151,127,"2012-01-28","N1 Ligue T4 GRAVELINES","1/4 Finale","2011-2012",null,null,null,null,0,null,0]
["LEMÂTRE Jérémy","GEETS Patrice","P",0,2,111,120,"2012-01-28","N1 Ligue T4 GRAVELINES","1/2 Finale","2011-2012",null,null,null,null,0,null,0]
["LEMÂTRE Jérémy","DELSOL Philippe","P",1,3,166,214,"2012-02-12","Finale Ligue N1","Poules","2011-2012",null,null,null,null,0,null,0]
["LEMÂTRE Jérémy","GEETS Patrice","P",0,3,89,180,"2012-02-12","Finale Ligue N1","Poules","2011-2012",null,null,null,null,0,null,0]
["LEMÂTRE Jérémy","SAINT-GEORGES Claude","P",2,3,203,267,"2012-02-12","Finale Ligue N1","4ème 5ème","2011-2012",null,null,null,null,0,null,0]
["LEMÂTRE Jérémy","DEROLEZ Jean-Pierre","P",0,2,80,120,"2012-10-27","N1 Ligue T2 BRUAY sur ESCAUT","Poules","2012-2013",null,null,null,null,0,null,0]
["LEMÂTRE Jérémy","WALLART Jean-Charles","P",1,2,131,147,"2012-10-27","N1 Ligue T2 BRUAY sur ESCAUT","Poules","2012-2013",null,null,null,null,0,null,0]
["LEMÂTRE Jérémy","MAILLE Bernard","P",0,2,74,120,"2012-11-24","N1 Ligue T3 CALAIS","Poules","2012-2013",null,null,null,null,0,null,0]
["LEMÂTRE Jérémy","RACARY Thibault","P",0,2,47,120,"2012-11-24","N1 Ligue T3 CALAIS","Poules","2012-2013",null,null,null,null,0,null,0]
["LEMÂTRE Jérémy","CAUX Grégory","G",2,1,177,144,"2012-12-15","N1 Ligue T4 VILLENEUVE D'ASCQ","Poules","2012-2013",null,null,null,null,0,null,0]
["LEMÂTRE Jérémy","TURPIN Laurent","G",2,1,153,119,"2012-12-15","N1 Ligue T4 VILLENEUVE D'ASCQ","Poules","2012-2013",null,null,null,null,0,null,0]
["LEMÂTRE Jérémy","SAINT-GEORGES Claude","G",2,1,169,127,"2012-12-15","N1 Ligue T4 VILLENEUVE D'ASCQ","1/4 Finale","2012-2013",null,null,null,null,0,null,0]
["LEMÂTRE Jérémy","MAILLE Bernard","G",2,1,178,118,"2012-12-15","N1 Ligue T4 VILLENEUVE D'ASCQ","1/2 Finale","2012-2013",null,null,null,null,0,null,0]
["LEMÂTRE Jérémy","DELSOL Philippe","G",2,0,120,89,"2012-12-15","N1 Ligue T4 VILLENEUVE D'ASCQ","Finale","2012-2013",null,null,null,null,0,null,0]
["LEMÂTRE Jérémy","FRADET David","G",2,0,120,94,"2015-01-17","N1 Ligue T1 DUNKERQUE","Poules","2014-2015",null,null,null,null,1,null,0]
["LEMÂTRE Jérémy","VEREECQUE Ludovic","G",2,1,153,150,"2015-01-17","N1 Ligue T1 DUNKERQUE","Poules","2014-2015",null,null,null,null,1,null,0]
["LEMÂTRE Jérémy","VEREECQUE Ludovic","G",2,0,120,63,"2015-01-17","N1 Ligue T1 DUNKERQUE","1/8 Finale","2014-2015",null,null,null,null,1,null,0]
["LEMÂTRE Jérémy","CAUX Grégory","P",1,2,155,143,"2015-01-17","N1 Ligue T1 DUNKERQUE","1/4 Finale","2014-2015",null,null,null,null,0,null,0]
["LEMÂTRE Jérémy","POULEYN André","G",2,0,120,72,"2015-02-07","N1 Ligue T2 CALAIS","Poules","2014-2015",null,null,null,null,1,null,0]
["LEMÂTRE Jérémy","LUBREZ Pierre","G",2,0,120,118,"2015-02-07","N1 Ligue T2 CALAIS","Poules","2014-2015",null,null,null,null,1,null,0]
["LEMÂTRE Jérémy","ESTERMANS Bernard","G",2,0,120,74,"2015-02-07","N1 Ligue T2 CALAIS","1/8 Finale","2014-2015",null,null,null,null,1,null,0]
["LEMÂTRE Jérémy","SAINT-GEORGES Claude","G",2,1,142,144,"2015-02-07","N1 Ligue T2 CALAIS","1/4 Finale","2014-2015",null,null,null,null,1,null,0]
["LEMÂTRE Jérémy","GEETS Patrice","G",2,1,145,156,"2015-02-07","N1 Ligue T2 CALAIS","1/2 Finale","2014-2015",null,null,null,null,1,null,0]
["LEMÂTRE Jérémy","DEROLEZ Jean-pierre","G",2,1,165,105,"2015-02-07","N1 Ligue T2 CALAIS","Finale","2014-2015",null,null,null,null,1,null,0]
["LEMÂTRE Jérémy","ALDEGUER Lionel","G",2,0,120,102,"2015-03-14","N1 Ligue T3 ANNOEULLIN","Poules","2014-2015",null,null,null,null,1,null,0]
["LEMÂTRE Jérémy","TRIPLET Gilbert","G",2,0,120,89,"2015-03-14","N1 Ligue T3 ANNOEULLIN","Poules","2014-2015",null,null,null,null,1,null,0]
["LEMÂTRE Jérémy","DECONINCK Franky","G",2,1,168,133,"2015-03-14","N1 Ligue T3 ANNOEULLIN","1/4 Finale","2014-2015",null,null,null,null,1,null,0]
["LEMÂTRE Jérémy","POULEYN André","P",1,2,157,174,"2015-03-14","N1 Ligue T3 ANNOEULLIN","1/2 Finale","2014-2015",null,null,null,null,0,null,0]
["LEMÂTRE Jérémy","POULEYN André","G",3,0,180,111,"2015-04-19","FINALE LIGUE N1 GRAVELINES","Poules","2014-2015",null,null,null,null,1,null,0]
["LEMÂTRE Jérémy","DEROLEZ Jean-pierre","G",3,2,261,245,"2015-04-19","FINALE LIGUE N1 GRAVELINES","Poules","2014-2015",null,null,null,null,1,null,0]
["LEMÂTRE Jérémy","LEMÂTRE Alexis","G",3,0,180,133,"2015-04-19","FINALE LIGUE N1 GRAVELINES","1/2 Finale","2014-2015",null,null,null,null,1,null,0]
["LEMÂTRE Jérémy","DECONINCK Franky","G",3,1,219,171,"2015-04-19","FINALE LIGUE N1 GRAVELINES","Finale","2014-2015",null,null,null,null,1,null,0]
["LEMÂTRE Jérémy","GHEVART Jean","G",2,0,120,93,"2015-12-04","T1 LIGUE 5 QUILLES N1 - FACHES-THUMESNIL","Poules","2015-2016",null,null,null,null,0,null,1]
["LEMÂTRE Jérémy","WALLART Jean-Charles","P",0,2,74,120,"2015-12-04","T1 LIGUE 5 QUILLES N1 - FACHES-THUMESNIL","Poules","2015-2016",null,null,null,null,0,null,0]
["LEMÂTRE Jérémy","WALLART Jean-Charles","G",2,0,120,105,"2015-12-04","T1 LIGUE 5 QUILLES N1 - FACHES-THUMESNIL","1/4 Finale","2015-2016",null,null,null,null,0,null,1]
["LEMÂTRE Jérémy","MAILLE Bernard","P",0,2,115,120,"2015-12-04","T1 LIGUE 5 QUILLES N1 - FACHES-THUMESNIL","1/2 Finale","2015-2016",null,null,null,null,0,null,0]
["LEMÂTRE Jérémy","LORTHIOIR Jean-Luc","G",2,0,120,50,"2016-01-09","T2  LIGUE 5 QUILLES N1 - GRAVELINES","Qualifications","2015-2016",null,null,null,null,0,null,1]
["LEMÂTRE Jérémy","KERKHOF Hervé","G",2,0,120,99,"2016-01-09","T2  LIGUE 5 QUILLES N1 - GRAVELINES","Qualifications","2015-2016",null,null,null,null,0,null,1]
["LEMÂTRE Jérémy","LORTHIOIR Jean-Luc","G",2,0,120,54,"2016-01-09","T2  LIGUE 5 QUILLES N1 - GRAVELINES","1/8 Finale","2015-2016",null,null,null,null,0,null,1]
["LEMÂTRE Jérémy","POULEYN André","G",2,0,120,79,"2016-01-09","T2  LIGUE 5 QUILLES N1 - GRAVELINES","1/4 Finale","2015-2016",null,null,null,null,0,null,1]
["LEMÂTRE Jérémy","MAILLE Bernard","G",2,0,120,75,"2016-01-09","T2  LIGUE 5 QUILLES N1 - GRAVELINES","1/2 Finale","2015-2016",null,null,null,null,0,null,1]
["LEMÂTRE Jérémy","DELSOL Philippe","P",0,2,82,120,"2016-01-09","T2  LIGUE 5 QUILLES N1 - GRAVELINES","Finale","2015-2016",null,null,null,null,0,null,0]
["LEMÂTRE Jérémy","CAUX Frédéric","G",2,0,120,58,"2016-01-23","T3 Ligue 5 Quilles N1 - ANNOEULLIN","Qualifications","2015-2016",null,null,null,null,0,null,1]
["LEMÂTRE Jérémy","LECROART Serge","G",2,0,120,53,"2016-01-23","T3 Ligue 5 Quilles N1 - ANNOEULLIN","Qualifications","2015-2016",null,null,null,null,0,null,1]
["LEMÂTRE Jérémy","MAILLE Bernard","P",0,2,75,120,"2016-01-23","T3 Ligue 5 Quilles N1 - ANNOEULLIN","1/4 Finale","2015-2016",null,null,null,null,0,null,0]
["LEMÂTRE Jérémy","DELSOL Philippe","P",0,3,85,180,"2016-04-24","Finale Ligue 5 Quilles N1 - ANNOEULLIN","Qualifications","2015-2016",null,null,null,null,0,null,0]
["LEMÂTRE Jérémy","GEETS Patrice","P",1,3,193,227,"2016-04-24","Finale Ligue 5 Quilles N1 - ANNOEULLIN","1/2 Finale","2015-2016",null,null,null,null,0,null,0]
["LEMÂTRE Jérémy","LEMÂTRE Alexis","G",3,2,270,255,"2016-04-24","Finale Ligue 5 Quilles N1 - ANNOEULLIN","Qualifications","2015-2016",null,null,null,null,0,null,1]
["Fin des données",null,null,null,null,null,null,null,null,null,"",null,null,null,null,0,null,0]

{"sheet":"LERICQUE Pierre","index":54,"n_rows":23,"n_cols":22,"rows_kept":23,"cut":false,"hidden":false,"merged":[]}
["LERICQUE Pierre",null,null,null,null,null,null,null,null,null,null,null,null,null,null,{"$f":"Récapitulatif!$B$2","v":"2014-2015"},null,{"$f":"Récapitulatif!$B$3","v":"2015-2016"},null,"Toutes saisons"]
["DIVION",null,null,null,null,null,null,null,null,null,null,null,null,null,null,"Nombre","%age","Nombre","%age","Nombre","%age"]
["016769-Z",null,null,null,null,null,null,null,null,null,null,null,null,"Matchs","Gagnés",{"$f":"SUM(P$15:P$23)","v":0},{"$f":"IF(P$3+P$4>0,P3/(P$3+P$4),\"\")","v":""},{"$f":"SUM(R$15:R$23)","v":0},{"$f":"IF(R$3+R$4>0,R3/(R$3+R$4),\"\")","v":""},{"$f":"COUNTIF($C$15:$C$23,\"G\")","v":3},{"$f":"IF(T$3+T$4>0,T3/(T$3+T$4),\"\")","v":0.42857142857142855}]
[null,null,null,null,null,null,null,null,null,null,null,null,null,null,"Perdus",{"$f":"COUNTIF($K$15:$K$23,Récapitulatif!$B$2)-P3","v":0},{"$f":"IF(P$3+P$4>0,P4/(P$3+P$4),\"\")","v":""},{"$f":"COUNTIF($K$15:$K$23,Récapitulatif!$B$3)-R3","v":0},{"$f":"IF(R$3+R$4>0,R4/(R$3+R$4),\"\")","v":""},{"$f":"COUNTIF($C$15:$C$23,\"P\")","v":4},{"$f":"IF(T$3+T$4>0,T4/(T$3+T$4),\"\")","v":0.5714285714285714}]
[null,null,null,null,null,null,null,null,null,null,null,null,null,null,"Total / Moy.",{"$f":"SUM(P3:P4)","v":0},{"$f":"IF(SUMIF($K$15:$K$23,Récapitulatif!$B$2,$G$15:$G$23)>0,SUMIF($K$15:$K$23,Récapitulatif!$B$2,$F$15:$F$23)/SUMIF($K$15:$K$23,Récapitulatif!$B$2,$G$15:$G$23),\"\")","v":""},{"$f":"SUM(R3:R4)","v":0},{"$f":"IF(SUMIF($K$15:$K$23,Récapitulatif!$B$3,$G$15:$G$23)>0,SUMIF($K$15:$K$23,Récapitulatif!$B$3,$F$15:$F$23)/SUMIF($K$15:$K$23,Récapitulatif!$B$3,$G$15:$G$23),\"\")","v":""},{"$f":"SUM(T3:T4)","v":7},{"$f":"IF(SUM($G$15:$G$23)>0,SUM($F$15:$F$23)/SUM($G$15:$G$23),\"\")","v":0.79328436516264433},{"$f":"IF(SUMIF($K$15:$K$23,Récapitulatif!$B$2,$G$15:$G$23)+SUMIF($K$15:$K$23,Récapitulatif!$B$3,$G$15:$G$23)>0,(SUMIF($K$15:$K$23,Récapitulatif!$B$2,$F$15:$F$23)+SUMIF($K$15:$K$23,Récapitulatif!$B$3,$F$15:$F$23))/(SUMIF($K$15:$K$23,Récapitulatif!$B$2,$G$15:$G$23)+SUMIF($K$15:$K$23,Récapitulatif!$B$3,$G$15:$G$23)),\"\")","v":""}]
[null,null,null,null,null,null,null,null,null,null,null,null,null,"Sets","Gagnés",{"$f":"SUMIF($K$15:$K$23,Récapitulatif!$B$2,$D$15:$D$23)","v":0},{"$f":"IF(P$6+P$7>0,P6/(P$6+P$7),\"\")","v":""},{"$f":"SUMIF($K$15:$K$23,Récapitulatif!$B$3,$D$15:$D$23)","v":0},{"$f":"IF(R$6+R$7>0,R6/(R$6+R$7),\"\")","v":""},{"$f":"SUM($D$15:$D$23)","v":7},{"$f":"IF(T$6+T$7>0,T6/(T$6+T$7),\"\")","v":0.3888888888888889}]
[null,null,null,null,null,null,null,null,null,null,null,null,null,null,"Perdus",{"$f":"SUMIF($K$15:$K$23,Récapitulatif!$B$2,$E$15:$E$23)","v":0},{"$f":"IF(P$6+P$7>0,P7/(P$6+P$7),\"\")","v":""},{"$f":"SUMIF($K$15:$K$23,Récapitulatif!$B$3,$E$15:$E$23)","v":0},{"$f":"IF(R$6+R$7>0,R7/(R$6+R$7),\"\")","v":""},{"$f":"SUM($E$15:$E$23)","v":11},{"$f":"IF(T$6+T$7>0,T7/(T$6+T$7),\"\")","v":0.61111111111111116}]
["Récapitulatif joueurs",null,null,null,null,null,null,null,null,null,null,null,null,null,"Total",{"$f":"SUM(P6:P7)","v":0},null,{"$f":"SUM(R6:R7)","v":0},null,{"$f":"SUM(T6:T7)","v":18}]
[]
[]
[]
[]
[]
[]
["Joueur","Adversaire","G/P","Sets gagnés","Sets perdus","pts marqués","pts subis","Date","Compétition","Phase","Saison"]
["LERICQUE Pierre","DAVOINE Bruno","P",0,2,52,120,"2008-12-12","National T3 ANNOEULLIN","Préqualifs",{"$f":"IF(H16<>\"\",IF(MONTH(H16)>MoisRef,YEAR(H16)&\"-\"&YEAR(H16)+1,YEAR(H16)-1&\"-\"&YEAR(H16)),\"\")","v":"2008-2009"},null,null,null,null,{"$f":"IF($K16=P$1,COUNTIF($C16,\"G\"),0)","v":0},null,{"$f":"IF($K16=R$1,COUNTIF($C16,\"G\"),0)","v":0}]
["LERICQUE Pierre","EVENOU Roger","G",2,1,158,113,"2008-12-12","National T3 ANNOEULLIN","Préqualifs","2008-2009",null,null,null,null,0,null,0]
["LERICQUE Pierre","COTTEN Jean-Pierre","P",0,2,34,120,"2008-12-12","National T3 ANNOEULLIN","Préqualifs","2008-2009",null,null,null,null,0,null,0]
["LERICQUE Pierre","LECROART Serge","P",0,2,52,120,"2011-01-15","N1 Ligue T4 DIVION","Poules","2010-2011",null,null,null,null,0,null,0]
["LERICQUE Pierre","WALLART Jean-Charles","P",1,2,152,168,"2011-01-15","N1 Ligue T4 DIVION","Poules","2010-2011",null,null,null,null,0,null,0]
["LERICQUE Pierre","DEROLEZ Jean-Pierre","G",2,1,154,171,"2011-01-15","N1 Ligue T4 DIVION","Poules Consolante","2010-2011",null,null,null,null,0,null,0]
["LERICQUE Pierre","CARPENTIER Yohanne","G",2,1,154,141,"2011-01-15","N1 Ligue T4 DIVION","Poules Consolante","2010-2011",null,null,null,null,0,null,0]
["Fin des données",null,null,null,null,null,null,null,null,null,"",null,null,null,null,0,null,0]

{"sheet":"LHERMITTE Cédric","index":55,"n_rows":136,"n_cols":22,"rows_kept":136,"cut":false,"hidden":false,"merged":[]}
["LHERMITTE Cédric",null,null,null,null,null,null,null,null,null,null,null,null,null,null,{"$f":"Récapitulatif!$B$2","v":"2014-2015"},null,{"$f":"Récapitulatif!$B$3","v":"2015-2016"},null,"Toutes saisons"]
["ANNOEULLIN",null,null,null,null,null,null,null,null,null,null,null,null,null,null,"Nombre","%age","Nombre","%age","Nombre","%age"]
["016910-K",null,null,null,null,null,null,null,null,null,null,null,null,"Matchs","Gagnés",{"$f":"SUM(P$15:P$136)","v":0},{"$f":"IF(P$3+P$4>0,P3/(P$3+P$4),\"\")","v":""},{"$f":"SUM(R$15:R$136)","v":0},{"$f":"IF(R$3+R$4>0,R3/(R$3+R$4),\"\")","v":""},{"$f":"COUNTIF($C$15:$C$136,\"G\")","v":80},{"$f":"IF(T$3+T$4>0,T3/(T$3+T$4),\"\")","v":0.66666666666666663}]
[null,null,null,null,null,null,null,null,null,null,null,null,null,null,"Perdus",{"$f":"COUNTIF($K$15:$K$136,Récapitulatif!$B$2)-P3","v":0},{"$f":"IF(P$3+P$4>0,P4/(P$3+P$4),\"\")","v":""},{"$f":"COUNTIF($K$15:$K$136,Récapitulatif!$B$3)-R3","v":0},{"$f":"IF(R$3+R$4>0,R4/(R$3+R$4),\"\")","v":""},{"$f":"COUNTIF($C$15:$C$136,\"P\")","v":40},{"$f":"IF(T$3+T$4>0,T4/(T$3+T$4),\"\")","v":0.33333333333333331}]
[null,null,null,null,null,null,null,null,null,null,null,null,null,null,"Total / Moy.",{"$f":"SUM(P3:P4)","v":0},{"$f":"IF(SUMIF($K$15:$K$136,Récapitulatif!$B$2,$G$15:$G$136)>0,SUMIF($K$15:$K$136,Récapitulatif!$B$2,$F$15:$F$136)/SUMIF($K$15:$K$136,Récapitulatif!$B$2,$G$15:$G$136),\"\")","v":""},{"$f":"SUM(R3:R4)","v":0},{"$f":"IF(SUMIF($K$15:$K$136,Récapitulatif!$B$3,$G$15:$G$136)>0,SUMIF($K$15:$K$136,Récapitulatif!$B$3,$F$15:$F$136)/SUMIF($K$15:$K$136,Récapitulatif!$B$3,$G$15:$G$136),\"\")","v":""},{"$f":"SUM(T3:T4)","v":120},{"$f":"IF(SUM($G$15:$G$136)>0,SUM($F$15:$F$136)/SUM($G$15:$G$136),\"\")","v":1.1200473092844472},{"$f":"IF(SUMIF($K$15:$K$136,Récapitulatif!$B$2,$G$15:$G$136)+SUMIF($K$15:$K$136,Récapitulatif!$B$3,$G$15:$G$136)>0,(SUMIF($K$15:$K$136,Récapitulatif!$B$2,$F$15:$F$136)+SUMIF($K$15:$K$136,Récapitulatif!$B$3,$F$15:$F$136))/(SUMIF($K$15:$K$136,Récapitulatif!$B$2,$G$15:$G$136)+SUMIF($K$15:$K$136,Récapitulatif!$B$3,$G$15:$G$136)),\"\")","v":""}]
[null,null,null,null,null,null,null,null,null,null,null,null,null,"Sets","Gagnés",{"$f":"SUMIF($K$15:$K$136,Récapitulatif!$B$2,$D$15:$D$136)","v":0},{"$f":"IF(P$6+P$7>0,P6/(P$6+P$7),\"\")","v":""},{"$f":"SUMIF($K$15:$K$136,Récapitulatif!$B$3,$D$15:$D$136)","v":0},{"$f":"IF(R$6+R$7>0,R6/(R$6+R$7),\"\")","v":""},{"$f":"SUM($D$15:$D$136)","v":197},{"$f":"IF(T$6+T$7>0,T6/(T$6+T$7),\"\")","v":0.60615384615384615}]
[null,null,null,null,null,null,null,null,null,null,null,null,null,null,"Perdus",{"$f":"SUMIF($K$15:$K$136,Récapitulatif!$B$2,$E$15:$E$136)","v":0},{"$f":"IF(P$6+P$7>0,P7/(P$6+P$7),\"\")","v":""},{"$f":"SUMIF($K$15:$K$136,Récapitulatif!$B$3,$E$15:$E$136)","v":0},{"$f":"IF(R$6+R$7>0,R7/(R$6+R$7),\"\")","v":""},{"$f":"SUM($E$15:$E$136)","v":128},{"$f":"IF(T$6+T$7>0,T7/(T$6+T$7),\"\")","v":0.39384615384615385}]
["Récapitulatif joueurs",null,null,null,null,null,null,null,null,null,null,null,null,null,"Total",{"$f":"SUM(P6:P7)","v":0},null,{"$f":"SUM(R6:R7)","v":0},null,{"$f":"SUM(T6:T7)","v":325}]
[]
[]
[]
[]
[]
[]
["Joueur","Adversaire","G/P","Sets gagnés","Sets perdus","pts marqués","pts subis","Date","Compétition","Phase","Saison"]
["LHERMITTE Cédric","DEMILLY Jean-Sébastien","P",0,2,50,120,"2009-12-04","National T2 ANNOEULLIN","Préqualifs",{"$f":"IF(H16<>\"\",IF(MONTH(H16)>MoisRef,YEAR(H16)&\"-\"&YEAR(H16)+1,YEAR(H16)-1&\"-\"&YEAR(H16)),\"\")","v":"2009-2010"},null,null,null,null,{"$f":"IF($K16=P$1,COUNTIF($C16,\"G\"),0)","v":0},null,{"$f":"IF($K16=R$1,COUNTIF($C16,\"G\"),0)","v":0}]
["LHERMITTE Cédric","MAIZOUE Alain","G",2,1,168,129,"2009-12-04","National T2 ANNOEULLIN","Préqualifs","2009-2010",null,null,null,null,0,null,0]
["LHERMITTE Cédric","CAUX Frédéric","P",0,2,96,120,"2009-12-04","National T2 ANNOEULLIN","Préqualifs","2009-2010",null,null,null,null,0,null,0]
["LHERMITTE Cédric","WALLART Jean-Charles","G",3,2,269,285,"2009-12-05","National T2 ANNOEULLIN","Qualifs promotion","2009-2010",null,null,null,null,0,null,0]
["LHERMITTE Cédric","JUBLOT Denis","P",2,3,250,289,"2009-12-05","National T2 ANNOEULLIN","Qualifs promotion","2009-2010",null,null,null,null,0,null,0]
["LHERMITTE Cédric","WALLART Jean-Charles","P",0,3,77,180,"2009-12-05","National T2 ANNOEULLIN","Qualifs promotion","2009-2010",null,null,null,null,0,null,0]
["LHERMITTE Cédric","CLYNCKE Jean-Jacques","G",2,0,120,70,"2009-12-19","N1 Ligue T2 ANNOEULLIN","Poules","2009-2010",null,null,null,null,0,null,0]
["LHERMITTE Cédric","MAILLE Bernard","G",2,1,170,106,"2009-12-19","N1 Ligue T2 ANNOEULLIN","Poules","2009-2010",null,null,null,null,0,null,0]
["LHERMITTE Cédric","HENNEUSE Patrick","G",2,1,170,113,"2009-12-19","N1 Ligue T2 ANNOEULLIN","1/4 Finale","2009-2010",null,null,null,null,0,null,0]
["LHERMITTE Cédric","GEETS Patrice","G",2,1,170,162,"2009-12-19","N1 Ligue T2 ANNOEULLIN","1/2 Finale","2009-2010",null,null,null,null,0,null,0]
["LHERMITTE Cédric","DELSOL Philippe","P",0,2,50,120,"2009-12-19","N1 Ligue T2 ANNOEULLIN","Finale","2009-2010",null,null,null,null,0,null,0]
["LHERMITTE Cédric","MAUPIN Patrick","G",2,1,147,161,"2010-01-16","N1 Ligue T3 ANNOEULLIN","Poules Consolante","2009-2010",null,null,null,null,0,null,0]
["LHERMITTE Cédric","TURPIN Laurent","P",1,2,146,150,"2010-01-16","N1 Ligue T3 ANNOEULLIN","Poules Consolante","2009-2010",null,null,null,null,0,null,0]
["LHERMITTE Cédric","HERREBRECHT Thierry","P",1,2,108,179,"2010-01-16","N1 Ligue T3 ANNOEULLIN","Poules","2009-2010",null,null,null,null,0,null,0]
["LHERMITTE Cédric","HERREBRECHT Thierry","P",1,2,115,167,"2010-01-16","N1 Ligue T3 ANNOEULLIN","Poules","2009-2010",null,null,null,null,0,null,0]
["LHERMITTE Cédric","MEUROT Philippe","G",2,0,120,71,"2010-02-20","N1 Ligue T4 DOUAI","Poules","2009-2010",null,null,null,null,0,null,0]
["LHERMITTE Cédric","MARTEL Jean-Pierre","G",2,0,120,64,"2010-02-20","N1 Ligue T4 DOUAI","Poules","2009-2010",null,null,null,null,0,null,0]
["LHERMITTE Cédric","LORTHIOIR Jean-Luc","G",2,0,120,57,"2010-02-20","N1 Ligue T4 DOUAI","1/8 Finale","2009-2010",null,null,null,null,0,null,0]
["LHERMITTE Cédric","BASTENIER Jean","G",2,0,120,0,"2010-02-20","N1 Ligue T4 DOUAI","1/4 Finale","2009-2010",null,null,null,null,0,null,0]
["LHERMITTE Cédric","HORNAIN Denis","G",2,0,120,81,"2010-02-20","N1 Ligue T4 DOUAI","1/2 Finale","2009-2010",null,null,null,null,0,null,0]
["LHERMITTE Cédric","GUILLEMANT David","P",0,2,76,120,"2010-02-20","N1 Ligue T4 DOUAI","Finale","2009-2010",null,null,null,null,0,null,0]
["LHERMITTE Cédric","WALLART Jean-Charles","G",3,0,180,121,"2010-04-18","Finale Ligue N1 ANNOEULLIN","Poules","2009-2010",null,null,null,null,0,null,0]
["LHERMITTE Cédric","DELSOL Philippe","P",1,3,196,223,"2010-04-18","Finale Ligue N1 ANNOEULLIN","Poules","2009-2010",null,null,null,null,0,null,0]
["LHERMITTE Cédric","GEETS Patrice","G",3,1,219,195,"2010-04-20","Finale Ligue N1 ANNOEULLIN","1/2 finale","2009-2010",null,null,null,null,0,null,0]
["LHERMITTE Cédric","DELSOL Philippe","P",0,3,91,180,"2010-04-28","Finale Ligue N1 ANNOEULLIN","Finale","2009-2010",null,null,null,null,0,null,0]
["LHERMITTE Cédric","TRIPLET Gilbert","G",2,0,120,76,"2010-10-16","N1 Ligue T1 DOUAI","Poules","2010-2011",null,null,null,null,0,null,0]
["LHERMITTE Cédric","POULEYN André","G",2,0,120,88,"2010-10-16","N1 Ligue T1 DOUAI","Poules","2010-2011",null,null,null,null,0,null,0]
["LHERMITTE Cédric","LECROART Serge","G",2,0,120,45,"2010-10-16","N1 Ligue T1 DOUAI","1/8 Finale","2010-2011",null,null,null,null,0,null,0]
["LHERMITTE Cédric","WESTEEL Bruno","P",1,2,117,136,"2010-10-16","N1 Ligue T1 DOUAI","1/4 Finale","2010-2011",null,null,null,null,0,null,0]
["LHERMITTE Cédric","CLYNCKE Jean-Jacques","G",2,0,120,83,"2010-11-13","N1 Ligue T2 FACHES THUMESNIL","Poules","2010-2011",null,null,null,null,0,null,0]
["LHERMITTE Cédric","CAUX Frédéric","G",2,1,150,163,"2010-11-13","N1 Ligue T2 FACHES THUMESNIL","Poules","2010-2011",null,null,null,null,0,null,0]
["LHERMITTE Cédric","SAINT-GEORGES Claude","P",1,2,146,144,"2010-11-13","N1 Ligue T2 FACHES THUMESNIL","1/4 Finale","2010-2011",null,null,null,null,0,null,0]
["LHERMITTE Cédric","PERRIN Eric","P",0,2,90,120,"2010-12-03","National T3 FACHES THUMESNIL - RONCHIN","Préqualifs",{"$f":"IF(H48<>\"\",IF(MONTH(H48)>MoisRef,YEAR(H48)&\"-\"&YEAR(H48)+1,YEAR(H48)-1&\"-\"&YEAR(H48)),\"\")","v":"2010-2011"},null,null,null,null,{"$f":"IF($K48=P$1,COUNTIF($C48,\"G\"),0)","v":0},null,{"$f":"IF($K48=R$1,COUNTIF($C48,\"G\"),0)","v":0}]
["LHERMITTE Cédric","PRUVOST Franck","G",2,1,151,119,"2010-12-03","National T3 FACHES THUMESNIL - RONCHIN","Préqualifs","2010-2011",null,null,null,null,0,null,0]
["LHERMITTE Cédric","ZILLIG Pierre","G",2,0,120,91,"2010-12-03","National T3 FACHES THUMESNIL - RONCHIN","Préqualifs","2010-2011",null,null,null,null,0,null,0]
["LHERMITTE Cédric","CLYNCKE Jean-Jacques","G",3,1,202,166,"2010-12-04","National T3 FACHES THUMESNIL - RONCHIN","Qualifs promotion","2010-2011",null,null,null,null,0,null,0]
["LHERMITTE Cédric","MAILLE Bernard","P",1,3,170,222,"2010-12-04","National T3 FACHES THUMESNIL - RONCHIN","Qualifs promotion","2010-2011",null,null,null,null,0,null,0]
["LHERMITTE Cédric","FAUCOMPREZ Didier","G",3,2,227,269,"2010-12-04","National T3 FACHES THUMESNIL - RONCHIN","Qualifs promotion","2010-2011",null,null,null,null,0,null,0]
["LHERMITTE Cédric","GUIBERT Philippe","P",1,3,217,223,"2010-12-05","National T3 FACHES THUMESNIL - RONCHIN","1/8 finale promotion","2010-2011",null,null,null,null,0,null,0]
["LHERMITTE Cédric","ZEUDE Alain","G",2,0,120,60,"2010-12-11","N1 Ligue T3 GRAVELINES","Poules","2010-2011",null,null,null,null,0,null,0]
["LHERMITTE Cédric","LECROART Serge","G",2,0,120,44,"2010-12-11","N1 Ligue T3 GRAVELINES","Poules","2010-2011",null,null,null,null,0,null,0]
["LHERMITTE Cédric","MAILLE Bernard","G",2,0,120,83,"2010-12-11","N1 Ligue T3 GRAVELINES","1/4 Finale","2010-2011",null,null,null,null,0,null,0]
["LHERMITTE Cédric","GEETS Patrice","P",1,2,141,144,"2010-12-11","N1 Ligue T3 GRAVELINES","1/2 Finale","2010-2011",null,null,null,null,0,null,0]
["LHERMITTE Cédric","TRIPLET Gilbert","G",2,0,120,70,"2011-01-15","N1 Ligue T4 DIVION","Poules","2010-2011",null,null,null,null,0,null,0]
["LHERMITTE Cédric","LORTHIOIR Jean-Luc","G",2,1,160,114,"2011-01-15","N1 Ligue T4 DIVION","Poules","2010-2011",null,null,null,null,0,null,0]
["LHERMITTE Cédric","WALLART Jean-Charles","P",1,2,171,134,"2011-01-15","N1 Ligue T4 DIVION","1/4 Finale","2010-2011",null,null,null,null,0,null,0]
["LHERMITTE Cédric","SAINT-GEORGES Claude","P",1,3,177,192,"2011-03-19","Finale Ligue N1","Poules","2010-2011",null,null,null,null,0,null,0]
["LHERMITTE Cédric","RACARY Thibault","P",1,3,140,229,"2011-03-19","Finale Ligue N1","Poules","2010-2011",null,null,null,null,0,null,0]
["LHERMITTE Cédric","GEETS Patrice","G",3,1,217,177,"2011-03-19","Finale Ligue N1","5ème 6ème","2010-2011",null,null,null,null,0,null,0]
["LHERMITTE Cédric","LEBLANC Jean-Noël","G",2,0,120,62,"2011-10-15","N1 Ligue T1 DIVION","Poules","2011-2012",null,null,null,null,0,null,0]
["LHERMITTE Cédric","POULEYN André","G",2,0,120,76,"2011-10-15","N1 Ligue T1 DIVION","Poules","2011-2012",null,null,null,null,0,null,0]
["LHERMITTE Cédric","TURPIN Laurent","G",2,0,120,74,"2011-10-15","N1 Ligue T1 DIVION","1/4 Finale","2011-2012",null,null,null,null,0,null,0]
["LHERMITTE Cédric","HERREBRECHT Thierry","G",2,0,120,94,"2011-10-15","N1 Ligue T1 DIVION","1/2 Finale","2011-2012",null,null,null,null,0,null,0]
["LHERMITTE Cédric","DELSOL Philippe","P",0,2,45,120,"2011-10-15","N1 Ligue T1 DIVION","Finale","2011-2012",null,null,null,null,0,null,0]
["LHERMITTE Cédric","CAUX Frédéric","P",1,2,164,135,"2011-11-19","N1 Ligue T2 DOUAI","Poules","2011-2012",null,null,null,null,0,null,0]
["LHERMITTE Cédric","DEROLEZ Jean-Pierre","G",2,1,164,135,"2011-11-19","N1 Ligue T2 DOUAI","Poules","2011-2012",null,null,null,null,0,null,0]
["LHERMITTE Cédric","TURPIN Laurent","G",2,1,167,160,"2011-11-19","N1 Ligue T2 DOUAI","1/8 Finale","2011-2012",null,null,null,null,0,null,0]
["LHERMITTE Cédric","GEETS Patrice","G",2,0,120,105,"2011-11-19","N1 Ligue T2 DOUAI","1/4 Finale","2011-2012",null,null,null,null,0,null,0]
["LHERMITTE Cédric","DELSOL Philippe","P",0,2,87,120,"2011-11-19","N1 Ligue T2 DOUAI","1/2 Finale","2011-2012",null,null,null,null,0,null,0]
["LHERMITTE Cédric","WALLART Jean-Charles","G",2,1,150,128,"2011-12-02","National T3 ANNOEULLIN","Préqualifs","2011-2012",null,null,null,null,0,null,0]
["LHERMITTE Cédric","GOUTHIER Alain","G",2,0,120,99,"2011-12-02","National T3 ANNOEULLIN","Préqualifs","2011-2012",null,null,null,null,0,null,0]
["LHERMITTE Cédric","GANGLOFF Jean-Luc","G",2,1,160,125,"2011-12-02","National T3 ANNOEULLIN","Préqualifs","2011-2012",null,null,null,null,0,null,0]
["LHERMITTE Cédric","DUROYON Didier","G",3,1,222,208,"2011-12-03","National T3 ANNOEULLIN","Qualifs promotion","2011-2012",null,null,null,null,0,null,0]
["LHERMITTE Cédric","BONNEAU Benoît","G",3,2,231,224,"2011-12-03","National T3 ANNOEULLIN","Qualifs promotion","2011-2012",null,null,null,null,0,null,0]
["LHERMITTE Cédric","MICHELOTTI Francesco","P",1,3,203,217,"2011-12-04","National T3 ANNOEULLIN","1/8 finale promotion",{"$f":"IF(H80<>\"\",IF(MONTH(H80)>MoisRef,YEAR(H80)&\"-\"&YEAR(H80)+1,YEAR(H80)-1&\"-\"&YEAR(H80)),\"\")","v":"2011-2012"},null,null,null,null,{"$f":"IF($K80=P$1,COUNTIF($C80,\"G\"),0)","v":0},null,{"$f":"IF($K80=R$1,COUNTIF($C80,\"G\"),0)","v":0}]
["LHERMITTE Cédric","CLYNCKE Jean-Jacques","P",1,2,140,169,"2012-01-07","N1 Ligue T3 FACHES THUMESNIL","Poules","2011-2012",null,null,null,null,0,null,0]
["LHERMITTE Cédric","LORTHIOIR Jean-Luc","G",2,0,120,62,"2012-01-07","N1 Ligue T3 FACHES THUMESNIL","Poules","2011-2012",null,null,null,null,0,null,0]
["LHERMITTE Cédric","LUBREZ Pierre","G",2,0,120,87,"2012-01-07","N1 Ligue T3 FACHES THUMESNIL","1/8 Finale","2011-2012",null,null,null,null,0,null,0]
["LHERMITTE Cédric","LEMÂTRE Jérémy","G",2,1,177,117,"2012-01-07","N1 Ligue T3 FACHES THUMESNIL","1/4 Finale","2011-2012",null,null,null,null,0,null,0]
["LHERMITTE Cédric","WALLART Jean-Charles","G",2,1,160,153,"2012-01-07","N1 Ligue T3 FACHES THUMESNIL","1/2 Finale","2011-2012",null,null,null,null,0,null,0]
["LHERMITTE Cédric","RACARY Thibault","P",0,2,71,120,"2012-01-07","N1 Ligue T3 FACHES THUMESNIL","Finale","2011-2012",null,null,null,null,0,null,0]
["LHERMITTE Cédric","LORTHIOIR Jean-Luc","P",1,2,157,160,"2012-01-28","N1 Ligue T4 GRAVELINES","Poules","2011-2012",null,null,null,null,0,null,0]
["LHERMITTE Cédric","POULEYN André","G",2,0,120,70,"2012-01-28","N1 Ligue T4 GRAVELINES","Poules","2011-2012",null,null,null,null,0,null,0]
["LHERMITTE Cédric","CARPENTIER Yohanne","G",2,0,120,62,"2012-01-28","N1 Ligue T4 GRAVELINES","1/8 Finale","2011-2012",null,null,null,null,0,null,0]
["LHERMITTE Cédric","HERREBRECHT Thierry","P",1,2,117,159,"2012-01-28","N1 Ligue T4 GRAVELINES","1/4 Finale","2011-2012",null,null,null,null,0,null,0]
["LHERMITTE Cédric","SAINT-GEORGES Claude","G",3,1,212,176,"2012-02-12","Finale Ligue N1","Poules","2011-2012",null,null,null,null,0,null,0]
["LHERMITTE Cédric","HERREBRECHT Thierry","P",0,3,108,180,"2012-02-12","Finale Ligue N1","Poules","2011-2012",null,null,null,null,0,null,0]
["LHERMITTE Cédric","GEETS Patrice","G",3,0,180,123,"2012-02-12","Finale Ligue N1","3ème 4ème","2011-2012",null,null,null,null,0,null,0]
["LHERMITTE Cédric","DELSOL Philippe","P",2,3,224,272,"2012-02-12","Finale Ligue N1","1/2 finale","2011-2012",null,null,null,null,0,null,0]
["LHERMITTE Cédric","ZEUDE Alain","G",2,0,120,52,"2012-10-13","N1 Ligue T1 ANNOEULLIN","Poules","2012-2013",null,null,null,null,0,null,0]
["LHERMITTE Cédric","VEREECQUE Ludovic","P",1,2,167,173,"2012-10-13","N1 Ligue T1 ANNOEULLIN","Poules","2012-2013",null,null,null,null,0,null,0]
["LHERMITTE Cédric","CAUX Grégory","P",1,2,162,176,"2012-10-13","N1 Ligue T1 ANNOEULLIN","1/8 Finale","2012-2013",null,null,null,null,0,null,0]
["LHERMITTE Cédric","DECONINCK Franky","G",2,0,120,74,"2012-10-27","N1 Ligue T2 BRUAY sur ESCAUT","Poules","2012-2013",null,null,null,null,0,null,0]
["LHERMITTE Cédric","GEETS Patrice","P",0,2,99,120,"2012-10-27","N1 Ligue T2 BRUAY sur ESCAUT","Poules","2012-2013",null,null,null,null,0,null,0]
["LHERMITTE Cédric","DEROLEZ Jean-Pierre","G",2,1,154,116,"2012-10-27","N1 Ligue T2 BRUAY sur ESCAUT","1/4 Finale","2012-2013",null,null,null,null,0,null,0]
["LHERMITTE Cédric","TURPIN Laurent","G",2,0,120,92,"2012-10-27","N1 Ligue T2 BRUAY sur ESCAUT","1/2 Finale","2012-2013",null,null,null,null,0,null,0]
["LHERMITTE Cédric","DELSOL Philippe","P",1,2,169,175,"2012-10-27","N1 Ligue T2 BRUAY sur ESCAUT","Finale","2012-2013",null,null,null,null,0,null,0]
["LHERMITTE Cédric","MANTEN Paul","G",2,0,120,76,"2012-11-24","N1 Ligue T3 CALAIS","Poules","2012-2013",null,null,null,null,0,null,0]
["LHERMITTE Cédric","CAUX Frédéric","G",2,0,120,62,"2012-11-24","N1 Ligue T3 CALAIS","Poules","2012-2013",null,null,null,null,0,null,0]
["LHERMITTE Cédric","POULEYN André","G",2,0,120,55,"2012-11-24","N1 Ligue T3 CALAIS","1/8 Finale","2012-2013",null,null,null,null,0,null,0]
["LHERMITTE Cédric","DEVOS Jackie","G",2,1,175,153,"2012-11-24","N1 Ligue T3 CALAIS","1/4 Finale","2012-2013",null,null,null,null,0,null,0]
["LHERMITTE Cédric","SAINT-GEORGES Claude","G",2,0,120,75,"2012-11-24","N1 Ligue T3 CALAIS","1/2 Finale","2012-2013",null,null,null,null,0,null,0]
["LHERMITTE Cédric","RACARY Thibault","P",0,2,74,120,"2012-11-24","N1 Ligue T3 CALAIS","Finale","2012-2013",null,null,null,null,0,null,0]
["LHERMITTE Cédric","MAILLE Bernard","P",0,2,35,120,"2012-12-15","N1 Ligue T4 VILLENEUVE D'ASCQ","Poules","2012-2013",null,null,null,null,0,null,0]
["LHERMITTE Cédric","DEROLEZ Jean-Pierre","G",2,1,173,121,"2012-12-15","N1 Ligue T4 VILLENEUVE D'ASCQ","Poules","2012-2013",null,null,null,null,0,null,0]
["LHERMITTE Cédric","DEROLEZ Jean-Pierre","G",1,0,100,59,"2012-12-15","N1 Ligue T4 VILLENEUVE D'ASCQ","Poules Consolante","2012-2013",null,null,null,null,0,null,0]
["LHERMITTE Cédric","POULEYN André","G",1,0,100,65,"2012-12-15","N1 Ligue T4 VILLENEUVE D'ASCQ","Poules Consolante","2012-2013",null,null,null,null,0,null,0]
["LHERMITTE Cédric","WALLART Jean-Charles","G",1,0,100,60,"2012-12-15","N1 Ligue T4 VILLENEUVE D'ASCQ","1/2 finale Consolante","2012-2013",null,null,null,null,0,null,0]
["LHERMITTE Cédric","DEROLEZ Jean-Pierre","P",0,1,86,100,"2012-12-15","N1 Ligue T4 VILLENEUVE D'ASCQ","Finale Consolante","2012-2013",null,null,null,null,0,null,0]
["LHERMITTE Cédric","WALLARTJean-Charles","P",1,3,161,237,"2013-04-14","FINALE LIGUE N1 FACHES THUMESNIL","Poules","2012-2013",null,null,null,null,0,null,0]
["LHERMITTE Cédric","GEETS Patrice","P",0,3,138,180,"2013-04-14","FINALE LIGUE N1 FACHES THUMESNIL","Poules","2012-2013",null,null,null,null,0,null,0]
["LHERMITTE Cédric","CAUX Frédéric","G",2,0,120,70,"2014-01-04","N1 Ligue T1 ANNOEULLIN","Poules","2013-2014",null,null,null,null,0,null,0]
["LHERMITTE Cédric","CAUX Frédéric","G",2,0,120,80,"2014-01-04","N1 Ligue T1 ANNOEULLIN","Poules","2013-2014",null,null,null,null,0,null,0]
["LHERMITTE Cédric","HOCHART James","G",2,0,120,48,"2014-01-04","N1 Ligue T1 ANNOEULLIN","1/8 Finale","2013-2014",null,null,null,null,0,null,0]
["LHERMITTE Cédric","FLEURANT Richard","G",2,1,152,139,"2014-01-04","N1 Ligue T1 ANNOEULLIN","1/4 Finale","2013-2014",null,null,null,null,0,null,0]
["LHERMITTE Cédric","WALLART Jean-Charles","G",2,1,175,162,"2014-01-04","N1 Ligue T1 ANNOEULLIN","1/2 Finale","2013-2014",null,null,null,null,0,null,0]
["LHERMITTE Cédric","SAINT-GEORGES Claude","G",2,0,120,82,"2014-01-04","N1 Ligue T1 ANNOEULLIN","Finale","2013-2014",null,null,null,null,0,null,0]
["LHERMITTE Cédric","CAUX Frédéric","G",2,0,120,50,"2014-03-15","N1 Ligue T2 FACHES THUMESNIL","Poules","2013-2014",null,null,null,null,0,null,0]
["LHERMITTE Cédric","HOCHART James","G",2,0,120,65,"2014-03-15","N1 Ligue T2 FACHES THUMESNIL","Poules","2013-2014",null,null,null,null,0,null,0]
["LHERMITTE Cédric","CAUX Frédéric","P",1,2,169,151,"2014-03-15","N1 Ligue T2 FACHES THUMESNIL","1/4 Finale","2013-2014",null,null,null,null,0,null,0]
["LHERMITTE Cédric","STOPIN Gilles","G",2,0,120,54,"2014-04-05","N1 Ligue T3 GRAVELINES","Poules","2013-2014",null,null,null,null,0,null,0]
["LHERMITTE Cédric","MONFLIER Francis","G",2,0,120,70,"2014-04-05","N1 Ligue T3 GRAVELINES","Poules","2013-2014",null,null,null,null,0,null,0]
["LHERMITTE Cédric","STOPIN Gilles","G",2,1,177,163,"2014-04-05","N1 Ligue T3 GRAVELINES","1/8 Finale","2013-2014",null,null,null,null,0,null,0]
["LHERMITTE Cédric","DELSOL Philippe","G",2,0,120,109,"2014-04-05","N1 Ligue T3 GRAVELINES","1/4 Finale","2013-2014",null,null,null,null,0,null,0]
["LHERMITTE Cédric","CLYNCKE Jean-Jacques","G",2,0,120,70,"2014-04-05","N1 Ligue T3 GRAVELINES","1/2 Finale","2013-2014",null,null,null,null,0,null,0]
["LHERMITTE Cédric","WALLART Jean-Charles","G",2,0,120,64,"2014-04-05","N1 Ligue T3 GRAVELINES","Finale","2013-2014",null,null,null,null,0,null,0]
["LHERMITTE Cédric","CLYNCKE Jean-Jacques","G",3,1,226,152,"2014-05-18","Finale Ligue N1 CALAIS","Poules","2013-2014",null,null,null,null,0,null,0]
["LHERMITTE Cédric","SAINT-GEORGES Claude","G",3,2,295,232,"2014-05-18","Finale Ligue N1 CALAIS","Poules","2013-2014",null,null,null,null,0,null,0]
["LHERMITTE Cédric","WALLART Jean-Charles","G",3,1,199,181,"2014-05-18","Finale Ligue N1 CALAIS","1/2 Finale","2013-2014",null,null,null,null,0,null,0]
["LHERMITTE Cédric","DELSOL Philippe","G",3,1,237,169,"2014-05-18","Finale Ligue N1 CALAIS","Finale","2013-2014",null,null,null,null,0,null,0]
["Fin des données",null,null,null,null,null,null,null,null,null,"",null,null,null,null,0,null,0]

{"sheet":"LORTHIOIR Jean-Luc","index":56,"n_rows":231,"n_cols":22,"rows_kept":231,"cut":false,"hidden":false,"merged":[]}
["LORTHIOIR Jean-Luc",null,null,null,null,null,null,null,null,null,null,null,null,null,null,{"$f":"Récapitulatif!$B$2","v":"2014-2015"},null,{"$f":"Récapitulatif!$B$3","v":"2015-2016"},null,"Toutes saisons"]
["FACHES-THUMESNIL",null,null,null,null,null,null,null,null,null,null,null,null,null,null,"Nombre","%age","Nombre","%age","Nombre","%age"]
["129054-Q",null,null,null,null,null,null,null,null,null,null,null,null,"Matchs","Gagnés",{"$f":"SUM(P$15:P$231)","v":7},{"$f":"IF(P$3+P$4>0,P3/(P$3+P$4),\"\")","v":0.31818181818181818},{"$f":"SUM(R$15:R$231)","v":4},{"$f":"IF(R$3+R$4>0,R3/(R$3+R$4),\"\")","v":0.25},{"$f":"COUNTIF($C$15:$C$231,\"G\")","v":60},{"$f":"IF(T$3+T$4>0,T3/(T$3+T$4),\"\")","v":0.27906976744186046}]
[null,null,null,null,null,null,null,null,null,null,null,null,null,null,"Perdus",{"$f":"COUNTIF($K$15:$K$231,Récapitulatif!$B$2)-P3","v":15},{"$f":"IF(P$3+P$4>0,P4/(P$3+P$4),\"\")","v":0.68181818181818177},{"$f":"COUNTIF($K$15:$K$231,Récapitulatif!$B$3)-R3","v":12},{"$f":"IF(R$3+R$4>0,R4/(R$3+R$4),\"\")","v":0.75},{"$f":"COUNTIF($C$15:$C$231,\"P\")","v":155},{"$f":"IF(T$3+T$4>0,T4/(T$3+T$4),\"\")","v":0.72093023255813948}]
["jl-lan7tre@orange.fr",null,null,null,null,null,null,null,null,null,null,null,null,null,"Total / Moy.",{"$f":"SUM(P3:P4)","v":22},{"$f":"IF(SUMIF($K$15:$K$231,Récapitulatif!$B$2,$G$15:$G$231)>0,SUMIF($K$15:$K$231,Récapitulatif!$B$2,$F$15:$F$231)/SUMIF($K$15:$K$231,Récapitulatif!$B$2,$G$15:$G$231),\"\")","v":0.81072026800670016},{"$f":"SUM(R3:R4)","v":16},{"$f":"IF(SUMIF($K$15:$K$231,Récapitulatif!$B$3,$G$15:$G$231)>0,SUMIF($K$15:$K$231,Récapitulatif!$B$3,$F$15:$F$231)/SUMIF($K$15:$K$231,Récapitulatif!$B$3,$G$15:$G$231),\"\")","v":0.74668874172185429},{"$f":"SUM(T3:T4)","v":215},{"$f":"IF(SUM($G$15:$G$231)>0,SUM($F$15:$F$231)/SUM($G$15:$G$231),\"\")","v":0.78597042450735977},{"$f":"IF(SUMIF($K$15:$K$231,Récapitulatif!$B$2,$G$15:$G$231)+SUMIF($K$15:$K$231,Récapitulatif!$B$3,$G$15:$G$231)>0,(SUMIF($K$15:$K$231,Récapitulatif!$B$2,$F$15:$F$231)+SUMIF($K$15:$K$231,Récapitulatif!$B$3,$F$15:$F$231))/(SUMIF($K$15:$K$231,Récapitulatif!$B$2,$G$15:$G$231)+SUMIF($K$15:$K$231,Récapitulatif!$B$3,$G$15:$G$231)),\"\")","v":0.78653324994788409}]
[null,null,null,null,null,null,null,null,null,null,null,null,null,"Sets","Gagnés",{"$f":"SUMIF($K$15:$K$231,Récapitulatif!$B$2,$D$15:$D$231)","v":16},{"$f":"IF(P$6+P$7>0,P6/(P$6+P$7),\"\")","v":0.32},{"$f":"SUMIF($K$15:$K$231,Récapitulatif!$B$3,$D$15:$D$231)","v":7},{"$f":"IF(R$6+R$7>0,R6/(R$6+R$7),\"\")","v":0.25},{"$f":"SUM($D$15:$D$231)","v":159},{"$f":"IF(T$6+T$7>0,T6/(T$6+T$7),\"\")","v":0.31299212598425197}]
[null,null,null,null,null,null,null,null,null,null,null,null,null,null,"Perdus",{"$f":"SUMIF($K$15:$K$231,Récapitulatif!$B$2,$E$15:$E$231)","v":34},{"$f":"IF(P$6+P$7>0,P7/(P$6+P$7),\"\")","v":0.68},{"$f":"SUMIF($K$15:$K$231,Récapitulatif!$B$3,$E$15:$E$231)","v":21},{"$f":"IF(R$6+R$7>0,R7/(R$6+R$7),\"\")","v":0.75},{"$f":"SUM($E$15:$E$231)","v":349},{"$f":"IF(T$6+T$7>0,T7/(T$6+T$7),\"\")","v":0.68700787401574803}]
["Récapitulatif joueurs",null,null,null,null,null,null,null,null,null,null,null,null,null,"Total",{"$f":"SUM(P6:P7)","v":50},null,{"$f":"SUM(R6:R7)","v":28},null,{"$f":"SUM(T6:T7)","v":508}]
[]
[]
[]
[]
[]
[]
["Joueur","Adversaire","G/P","Sets gagnés","Sets perdus","pts marqués","pts subis","Date","Compétition","Phase","Saison"]
["LORTHIOIR Jean-Luc","DELEPIERRE Patrick","P",1,2,150,151,"2008-12-12","National T3 ANNOEULLIN","Préqualifs",{"$f":"IF(H16<>\"\",IF(MONTH(H16)>MoisRef,YEAR(H16)&\"-\"&YEAR(H16)+1,YEAR(H16)-1&\"-\"&YEAR(H16)),\"\")","v":"2008-2009"},null,null,null,null,{"$f":"IF($K16=P$1,COUNTIF($C16,\"G\"),0)","v":0},null,{"$f":"IF($K16=R$1,COUNTIF($C16,\"G\"),0)","v":0}]
["LORTHIOIR Jean-Luc","TIRALONGO Sébastien","G",2,1,148,148,"2008-12-12","National T3 ANNOEULLIN","Préqualifs","2008-2009",null,null,null,null,0,null,0]
["LORTHIOIR Jean-Luc","GUILLEMANT Jean-Marc","P",0,2,65,120,"2008-12-12","National T3 ANNOEULLIN","Préqualifs","2008-2009",null,null,null,null,0,null,0]
["LORTHIOIR Jean-Luc","TURPIN Laurent","P",0,2,49,120,"2009-02-14","N1 Ligue T1 ARRAS","Poules","2008-2009",null,null,null,null,0,null,0]
["LORTHIOIR Jean-Luc","DELSOL Philippe","P",1,2,135,162,"2009-02-14","N1 Ligue T1 ARRAS","Poules","2008-2009",null,null,null,null,0,null,0]
["LORTHIOIR Jean-Luc","LECROART Serge","P",1,2,132,152,"2009-02-14","N1 Ligue T1 ARRAS","Poules Consolante","2008-2009",null,null,null,null,0,null,0]
["LORTHIOIR Jean-Luc","GEETS Patrice","P",0,2,84,120,"2009-02-14","N1 Ligue T1 ARRAS","Poules Consolante","2008-2009",null,null,null,null,0,null,0]
["LORTHIOIR Jean-Luc","HULOT Sophie","G",2,0,120,100,"2009-03-07","N1 Ligue T2 ANNOEULLIN","Poules","2008-2009",null,null,null,null,0,null,0]
["LORTHIOIR Jean-Luc","MARTEL Jean-Pierre","P",1,2,107,154,"2009-03-07","N1 Ligue T2 ANNOEULLIN","Poules","2008-2009",null,null,null,null,0,null,0]
["LORTHIOIR Jean-Luc","GUILLEMANT Jean-Marc","P",1,2,146,158,"2009-03-07","N1 Ligue T2 ANNOEULLIN","1/4 Finale","2008-2009",null,null,null,null,0,null,0]
["LORTHIOIR Jean-Luc","CLYNCKE Jean-Jacques","P",0,2,48,120,"2009-04-11","N1 Ligue T3 DUNKERQUE","Poules","2008-2009",null,null,null,null,0,null,0]
["LORTHIOIR Jean-Luc","MAILLE Bernard","P",0,2,61,120,"2009-04-11","N1 Ligue T3 DUNKERQUE","Poules","2008-2009",null,null,null,null,0,null,0]
["LORTHIOIR Jean-Luc","BASTENIER Jean","P",0,2,70,120,"2009-04-11","N1 Ligue T3 DUNKERQUE","Poules Consolante","2008-2009",null,null,null,null,0,null,0]
["LORTHIOIR Jean-Luc","CARPENTIER Yohanne","P",1,2,140,175,"2009-04-11","N1 Ligue T3 DUNKERQUE","Poules Consolante","2008-2009",null,null,null,null,0,null,0]
["LORTHIOIR Jean-Luc","JUBLOT Denis","P",0,2,60,120,"2009-11-06","National T1 SCHILTIGHEIM","Préqualifs","2009-2010",null,null,null,null,0,null,0]
["LORTHIOIR Jean-Luc","MAIZOUE Alain","G",2,0,120,101,"2009-11-06","National T1 SCHILTIGHEIM","Préqualifs","2009-2010",null,null,null,null,0,null,0]
["LORTHIOIR Jean-Luc","TIRALONGO Sébastien","P",0,2,42,120,"2009-11-06","National T1 SCHILTIGHEIM","Préqualifs","2009-2010",null,null,null,null,0,null,0]
["LORTHIOIR Jean-Luc","MATHIS Jean","P",0,3,69,180,"2009-11-07","National T1 SCHILTIGHEIM","Qualifs promotion","2009-2010",null,null,null,null,0,null,0]
["LORTHIOIR Jean-Luc","SAINT-GEORGES Claude","P",0,3,77,180,"2009-11-07","National T1 SCHILTIGHEIM","Qualifs promotion","2009-2010",null,null,null,null,0,null,0]
["LORTHIOIR Jean-Luc","PRUVOST Franck","G",2,1,175,131,"2009-12-04","National T2 ANNOEULLIN","Préqualifs","2009-2010",null,null,null,null,0,null,0]
["LORTHIOIR Jean-Luc","GANGLOFF Jean-Luc","P",0,2,74,120,"2009-12-04","National T2 ANNOEULLIN","Préqualifs","2009-2010",null,null,null,null,0,null,0]
["LORTHIOIR Jean-Luc","GUIBERT Philippe","P",0,2,44,120,"2009-12-04","National T2 ANNOEULLIN","Préqualifs","2009-2010",null,null,null,null,0,null,0]
["LORTHIOIR Jean-Luc","GUILLEMANT David","P",0,3,105,180,"2009-12-05","National T2 ANNOEULLIN","Qualifs promotion","2009-2010",null,null,null,null,0,null,0]
["LORTHIOIR Jean-Luc","BOUVIER Philippe","P",0,3,81,180,"2009-12-05","National T2 ANNOEULLIN","Qualifs promotion","2009-2010",null,null,null,null,0,null,0]
["LORTHIOIR Jean-Luc","HORNAIN Denis","P",0,2,69,120,"2009-12-19","N1 Ligue T2 ANNOEULLIN","Poules","2009-2010",null,null,null,null,0,null,0]
["LORTHIOIR Jean-Luc","DELSOL Philippe","P",0,2,39,120,"2009-12-19","N1 Ligue T2 ANNOEULLIN","Poules","2009-2010",null,null,null,null,0,null,0]
["LORTHIOIR Jean-Luc","GUILLEMANT Jean-Marc","G",2,1,169,153,"2009-12-19","N1 Ligue T2 ANNOEULLIN","Poules Consolante","2009-2010",null,null,null,null,0,null,0]
["LORTHIOIR Jean-Luc","LAMBIASE Guiseppe","P",1,2,129,175,"2009-12-19","N1 Ligue T2 ANNOEULLIN","Poules Consolante","2009-2010",null,null,null,null,0,null,0]
["LORTHIOIR Jean-Luc","GEETS Patrice","P",0,2,44,120,"2010-01-16","N1 Ligue T3 ANNOEULLIN","Poules Consolante","2009-2010",null,null,null,null,0,null,0]
["LORTHIOIR Jean-Luc","GEETS Patrice","P",1,2,120,164,"2010-01-16","N1 Ligue T3 ANNOEULLIN","Poules Consolante","2009-2010",null,null,null,null,0,null,0]
["LORTHIOIR Jean-Luc","TURPIN Laurent","P",0,2,77,120,"2010-01-16","N1 Ligue T3 ANNOEULLIN","Poules","2009-2010",null,null,null,null,0,null,0]
["LORTHIOIR Jean-Luc","MAILLE Bernard","G",2,1,149,152,"2010-01-16","N1 Ligue T3 ANNOEULLIN","Poules","2009-2010",null,null,null,null,0,null,0]
["LORTHIOIR Jean-Luc","DERIU Georges","P",0,2,79,120,"2010-01-29","National T3 ORLEANS","Préqualifs","2009-2010",null,null,null,null,0,null,0]
["LORTHIOIR Jean-Luc","TALBOT Michel","P",1,2,144,178,"2010-01-29","National T3 ORLEANS","Préqualifs","2009-2010",null,null,null,null,0,null,0]
["LORTHIOIR Jean-Luc","DEMILLY Jean-Sébastien","P",0,2,54,120,"2010-01-29","National T3 ORLEANS","Préqualifs","2009-2010",null,null,null,null,0,null,0]
["LORTHIOIR Jean-Luc","GROLLET Fabien","G",2,1,178,161,"2010-02-20","N1 Ligue T4 DOUAI","Poules","2009-2010",null,null,null,null,0,null,0]
["LORTHIOIR Jean-Luc","GUILLEMANT David","P",0,2,85,120,"2010-02-20","N1 Ligue T4 DOUAI","Poules","2009-2010",null,null,null,null,0,null,0]
["LORTHIOIR Jean-Luc","LHERMITTE Cédric","P",0,2,57,120,"2010-02-20","N1 Ligue T4 DOUAI","1/8 Finale","2009-2010",null,null,null,null,0,null,0]
["LORTHIOIR Jean-Luc","CARPENTIER Yohanne","P",0,2,80,120,"2010-02-20","N1 Ligue T4 DOUAI","Poules Consolante","2009-2010",null,null,null,null,0,null,0]
["LORTHIOIR Jean-Luc","CARTIERE André","G",2,0,120,104,"2010-02-20","N1 Ligue T4 DOUAI","Poules Consolante","2009-2010",null,null,null,null,0,null,0]
["LORTHIOIR Jean-Luc","DERIU Georges","P",0,2,79,120,"2010-01-29","National T3 ORLEANS","Préqualifs","2009-2010",null,null,null,null,0,null,0]
["LORTHIOIR Jean-Luc","TALBOT Michel","P",1,2,144,178,"2010-01-29","National T3 ORLEANS","Préqualifs","2009-2010",null,null,null,null,0,null,0]
["LORTHIOIR Jean-Luc","DEMILLY Jean-Sébastien","P",0,2,54,120,"2010-01-29","National T3 ORLEANS","Préqualifs","2009-2010",null,null,null,null,0,null,0]
["LORTHIOIR Jean-Luc","BOUVIER Philippe","P",0,2,53,120,"2010-02-26","National T4 ROUEN","Préqualifs","2009-2010",null,null,null,null,0,null,0]
["LORTHIOIR Jean-Luc","BOUREL Claude","G",2,0,120,85,"2010-02-26","National T4 ROUEN","Préqualifs","2009-2010",null,null,null,null,0,null,0]
["LORTHIOIR Jean-Luc","HERREBRECHT Thierry","P",0,2,68,120,"2010-02-26","National T4 ROUEN","Préqualifs","2009-2010",null,null,null,null,0,null,0]
["LORTHIOIR Jean-Luc","BAYON Pascal","P",0,3,51,180,"2010-02-27","National T4 ROUEN","Qualifs promotion","2009-2010",null,null,null,null,0,null,0]
["LORTHIOIR Jean-Luc","HORNECKER Benoît","P",2,3,168,230,"2010-02-27","National T4 ROUEN","Qualifs promotion","2009-2010",null,null,null,null,0,null,0]
["LORTHIOIR Jean-Luc","SCHUB Philippe","P",0,2,83,120,"2010-03-26","National T5 ST SEBASTIEN / LOIRE","Préqualifs","2009-2010",null,null,null,null,0,null,0]
["LORTHIOIR Jean-Luc","DUPAU Dominique","P",0,2,94,120,"2010-03-26","National T5 ST SEBASTIEN / LOIRE","Préqualifs","2009-2010",null,null,null,null,0,null,0]
["LORTHIOIR Jean-Luc","FOURRE Cédric","G",2,1,142,164,"2010-03-26","National T5 ST SEBASTIEN / LOIRE","Préqualifs","2009-2010",null,null,null,null,0,null,0]
["LORTHIOIR Jean-Luc","SCHUB Philippe","G",2,1,177,171,"2010-04-23","National T6 ANDERNOS","Préqualifs","2009-2010",null,null,null,null,0,null,0]
["LORTHIOIR Jean-Luc","ARNAUD Henry","G",2,0,120,107,"2010-04-23","National T6 ANDERNOS","Préqualifs","2009-2010",null,null,null,null,0,null,0]
["LORTHIOIR Jean-Luc","DEMILLY Jean-Sébastien","P",1,2,146,163,"2010-04-23","National T6 ANDERNOS","Préqualifs","2009-2010",null,null,null,null,0,null,0]
["LORTHIOIR Jean-Luc","DARMENTE Jean-Claude","P",0,3,83,180,"2010-04-24","National T6 ANDERNOS","Qualifs promotion","2009-2010",null,null,null,null,0,null,0]
["LORTHIOIR Jean-Luc","ANE Bernard","G",3,2,281,263,"2010-04-24","National T6 ANDERNOS","Qualifs promotion","2009-2010",null,null,null,null,0,null,0]
["LORTHIOIR Jean-Luc","MAILLE Bernard","P",0,3,111,180,"2010-04-24","National T6 ANDERNOS","Qualifs promotion","2009-2010",null,null,null,null,0,null,0]
["LORTHIOIR Jean-Luc","MAILLE Bernard","P",0,2,80,120,"2010-10-07","National T1 CESTAS","Préqualifs","2010-2011",null,null,null,null,0,null,0]
["LORTHIOIR Jean-Luc","DOUGNAC Nathalie","P",0,2,86,120,"2010-10-07","National T1 CESTAS","Préqualifs","2010-2011",null,null,null,null,0,null,0]
["LORTHIOIR Jean-Luc","GUIBERT Philippe","P",1,2,142,129,"2010-10-07","National T1 CESTAS","Préqualifs","2010-2011",null,null,null,null,0,null,0]
["LORTHIOIR Jean-Luc","WALLART Jean-Charles","P",2,3,248,294,"2010-10-08","National T1 CESTAS","Qualifs promotion","2010-2011",null,null,null,null,0,null,0]
["LORTHIOIR Jean-Luc","CLYNCKE Jean-Jacques","P",1,3,175,216,"2010-10-08","National T1 CESTAS","Qualifs promotion","2010-2011",null,null,null,null,0,null,0]
["LORTHIOIR Jean-Luc","WESTEEL Bruno","P",1,2,114,169,"2010-10-16","N1 Ligue T1 DOUAI","Poules","2010-2011",null,null,null,null,0,null,0]
["LORTHIOIR Jean-Luc","HORNAIN Denis","P",0,2,67,120,"2010-10-16","N1 Ligue T1 DOUAI","Poules","2010-2011",null,null,null,null,0,null,0]
["LORTHIOIR Jean-Luc","MASIERO Lorenzo","P",1,2,169,175,"2010-10-16","N1 Ligue T1 DOUAI","Poules Consolante","2010-2011",null,null,null,null,{"$f":"IF($K80=P$1,COUNTIF($C80,\"G\"),0)","v":0},null,{"$f":"IF($K80=R$1,COUNTIF($C80,\"G\"),0)","v":0}]
["LORTHIOIR Jean-Luc","SKORDILIS Christo","P",0,2,88,120,"2010-10-16","N1 Ligue T1 DOUAI","Poules Consolante","2010-2011",null,null,null,null,{"$f":"IF($K81=P$1,COUNTIF($C81,\"G\"),0)","v":0},null,{"$f":"IF($K81=R$1,COUNTIF($C81,\"G\"),0)","v":0}]
["LORTHIOIR Jean-Luc","SKORDILIS Christo","G",2,0,120,69,"2010-11-13","N1 Ligue T2 FACHES THUMESNIL","Poules","2010-2011",null,null,null,null,{"$f":"IF($K82=P$1,COUNTIF($C82,\"G\"),0)","v":0},null,{"$f":"IF($K82=R$1,COUNTIF($C82,\"G\"),0)","v":0}]
["LORTHIOIR Jean-Luc","DELSOL Philippe","P",0,2,17,120,"2010-11-13","N1 Ligue T2 FACHES THUMESNIL","Poules","2010-2011",null,null,null,null,0,null,0]
["LORTHIOIR Jean-Luc","SKORDILIS Christo","P",0,2,89,120,"2010-11-13","N1 Ligue T2 FACHES THUMESNIL","Poules Consolante","2010-2011",null,null,null,null,0,null,0]
["LORTHIOIR Jean-Luc","VANNUCCI Emilio","P",0,2,55,120,"2010-11-13","N1 Ligue T2 FACHES THUMESNIL","Poules Consolante","2010-2011",null,null,null,null,0,null,0]
["LORTHIOIR Jean-Luc","EVENOU Marie-Antoinette","G",2,0,120,62,"2010-11-05","National T2 LAXOU","Préqualifs","2010-2011",null,null,null,null,0,null,0]
["LORTHIOIR Jean-Luc","MAILLE Bernard","P",1,2,123,174,"2010-11-05","National T2 LAXOU","Préqualifs","2010-2011",null,null,null,null,0,null,0]
["LORTHIOIR Jean-Luc","J. BLANC","G",2,0,120,92,"2010-11-05","National T2 LAXOU","Préqualifs","2010-2011",null,null,null,null,0,null,0]
["LORTHIOIR Jean-Luc","POULEYN André","G",3,0,180,141,"2010-11-06","National T2 LAXOU","Qualifs promotion","2010-2011",null,null,null,null,0,null,0]
["LORTHIOIR Jean-Luc","QUENEY Damien","P",1,3,185,237,"2010-11-06","National T2 LAXOU","Qualifs promotion","2010-2011",null,null,null,null,0,null,0]
["LORTHIOIR Jean-Luc","WALLART Jean-Charles","P",0,3,108,180,"2010-11-06","National T2 LAXOU","Qualifs promotion","2010-2011",null,null,null,null,0,null,0]
["LORTHIOIR Jean-Luc","DELRUE André","G",2,1,173,148,"2010-12-11","N1 Ligue T3 GRAVELINES","Poules","2010-2011",null,null,null,null,0,null,0]
["LORTHIOIR Jean-Luc","SAINT-GEORGES Claude","P",0,2,61,120,"2010-12-11","N1 Ligue T3 GRAVELINES","Poules","2010-2011",null,null,null,null,0,null,0]
["LORTHIOIR Jean-Luc","FAUCOMPREZ Didier","P",0,2,70,120,"2010-12-11","N1 Ligue T3 GRAVELINES","Poules Consolante","2010-2011",null,null,null,null,0,null,0]
["LORTHIOIR Jean-Luc","POULEYN André","P",0,2,42,120,"2010-12-11","N1 Ligue T3 GRAVELINES","Poules Consolante","2010-2011",null,null,null,null,0,null,0]
["LORTHIOIR Jean-Luc","GANGLOFF Jean-Luc","P",1,2,156,161,"2010-12-03","National T3 FACHES THUMESNIL - RONCHIN","Préqualifs","2010-2011",null,null,null,null,0,null,0]
["LORTHIOIR Jean-Luc","LEMÂTRE Jérémy","P",0,2,90,120,"2010-12-03","National T3 FACHES THUMESNIL - RONCHIN","Préqualifs","2010-2011",null,null,null,null,0,null,0]
["LORTHIOIR Jean-Luc","MARCHISSEAU Stéphane","P",0,2,93,120,"2010-12-03","National T3 FACHES THUMESNIL - RONCHIN","Préqualifs","2010-2011",null,null,null,null,0,null,0]
["LORTHIOIR Jean-Luc","LEMÂTRE Jérémy","P",2,3,250,270,"2010-12-04","National T3 FACHES THUMESNIL - RONCHIN","Qualifs promotion","2010-2011",null,null,null,null,0,null,0]
["LORTHIOIR Jean-Luc","ZILLIG Pierre","P",0,3,72,180,"2010-12-04","National T3 FACHES THUMESNIL - RONCHIN","Qualifs promotion","2010-2011",null,null,null,null,0,null,0]
["LORTHIOIR Jean-Luc","TRIPLET Gilbert","G",2,0,120,89,"2011-01-15","N1 Ligue T4 DIVION","Poules","2010-2011",null,null,null,null,0,null,0]
["LORTHIOIR Jean-Luc","LHERMITTE Cédric","P",1,2,114,160,"2011-01-15","N1 Ligue T4 DIVION","Poules","2010-2011",null,null,null,null,0,null,0]
["LORTHIOIR Jean-Luc","TRIPLET Gilbert","P",0,2,82,120,"2011-01-15","N1 Ligue T4 DIVION","Poules Consolante","2010-2011",null,null,null,null,0,null,0]
["LORTHIOIR Jean-Luc","VEREECQUE Ludovic","P",0,2,55,120,"2011-01-15","N1 Ligue T4 DIVION","Poules Consolante","2010-2011",null,null,null,null,0,null,0]
["LORTHIOIR Jean-Luc","EVENOU Roger","G",2,1,156,125,"2011-02-11","National T4 ROUEN","Préqualifs","2010-2011",null,null,null,null,0,null,0]
["LORTHIOIR Jean-Luc","HERREBRECHT Thierry","P",0,2,65,120,"2011-02-11","National T4 ROUEN","Préqualifs","2010-2011",null,null,null,null,0,null,0]
["LORTHIOIR Jean-Luc","BLANC J.","G",2,0,120,96,"2011-02-11","National T4 ROUEN","Préqualifs","2010-2011",null,null,null,null,0,null,0]
["LORTHIOIR Jean-Luc","MORMICHE Michel","P",0,3,122,180,"2011-02-12","National T4 ROUEN","Qualifs promotion","2010-2011",null,null,null,null,0,null,0]
["LORTHIOIR Jean-Luc","FERON Patrick","P",0,3,70,180,"2011-02-12","National T4 ROUEN","Qualifs promotion","2010-2011",null,null,null,null,0,null,0]
["LORTHIOIR Jean-Luc","MAIZOUE Alain","P",0,2,78,120,"2011-03-25","National T5 BLOIS","Préqualifs","2010-2011",null,null,null,null,0,null,0]
["LORTHIOIR Jean-Luc","COTTEN Jean-Pierre","P",1,2,112,153,"2011-03-25","National T5 BLOIS","Préqualifs","2010-2011",null,null,null,null,0,null,0]
["LORTHIOIR Jean-Luc","SORTAIS Claude","P",0,2,81,120,"2011-03-25","National T5 BLOIS","Préqualifs","2010-2011",null,null,null,null,0,null,0]
["LORTHIOIR Jean-Luc","JUBLOT Denis","P",0,2,36,120,"2011-04-15","National T6 CHAMPAGNE sur SEINE / NANDY","Préqualifs","2010-2011",null,null,null,null,0,null,0]
["LORTHIOIR Jean-Luc","LEJEUNE Eddie","P",1,2,117,175,"2011-04-15","National T6 CHAMPAGNE sur SEINE / NANDY","Préqualifs","2010-2011",null,null,null,null,0,null,0]
["LORTHIOIR Jean-Luc","TIRALONGO Sébastien","P",1,2,148,178,"2011-04-15","National T6 CHAMPAGNE sur SEINE / NANDY","Préqualifs","2010-2011",null,null,null,null,0,null,0]
["LORTHIOIR Jean-Luc","DERIU Georges","P",1,3,152,230,"2011-04-16","National T6 CHAMPAGNE sur SEINE / NANDY","Qualifs promotion","2010-2011",null,null,null,null,0,null,0]
["LORTHIOIR Jean-Luc","SACRE Jean-Yves","P",2,3,223,275,"2011-04-16","National T6 CHAMPAGNE sur SEINE / NANDY","Qualifs promotion","2010-2011",null,null,null,null,0,null,0]
["LORTHIOIR Jean-Luc","TURPIN Laurent","P",1,2,158,169,"2011-10-15","N1 Ligue T1 DIVION","Poules","2011-2012",null,null,null,null,0,null,0]
["LORTHIOIR Jean-Luc","WALLART Jean-Charles","P",0,2,58,120,"2011-10-15","N1 Ligue T1 DIVION","Poules","2011-2012",null,null,null,null,0,null,0]
["LORTHIOIR Jean-Luc","LEBLANC Jean-Noël","P",0,1,51,100,"2011-10-15","N1 Ligue T1 DIVION","Poules Consolante","2011-2012",null,null,null,null,0,null,0]
["LORTHIOIR Jean-Luc","CARPENTIER Yohanne","G",1,0,100,80,"2011-10-15","N1 Ligue T1 DIVION","Poules Consolante","2011-2012",null,null,null,null,0,null,0]
["LORTHIOIR Jean-Luc","WALLART Jean-Charles","P",0,1,56,100,"2011-10-15","N1 Ligue T1 DIVION","1/4 Finale Consolante","2011-2012",null,null,null,null,0,null,0]
["LORTHIOIR Jean-Luc","GOUTHIER Alain","G",2,1,147,140,"2011-09-30","National T1 CESTAS","Préqualifs","2011-2012",null,null,null,null,0,null,0]
["LORTHIOIR Jean-Luc","DAVOINE Bruno","G",2,0,120,112,"2011-09-30","National T1 CESTAS","Préqualifs","2011-2012",null,null,null,null,0,null,0]
["LORTHIOIR Jean-Luc","J BLANC","G",2,0,120,98,"2011-09-30","National T1 CESTAS","Préqualifs","2011-2012",null,null,null,null,0,null,0]
["LORTHIOIR Jean-Luc","GUILLEMANT Alexandre","P",0,3,68,180,"2011-10-01","National T1 CESTAS","Qualifs Masters","2011-2012",null,null,null,null,0,null,0]
["LORTHIOIR Jean-Luc","SORTAIS Claude","P",0,3,39,180,"2011-10-01","National T1 CESTAS","Qualifs Masters","2011-2012",null,null,null,null,0,null,0]
["LORTHIOIR Jean-Luc","KAYA Turgul","G",1,0,100,96,"2011-11-19","N1 Ligue T2 DOUAI","Poules Consolante","2011-2012",null,null,null,null,0,null,0]
["LORTHIOIR Jean-Luc","DEROLEZ Jean-Pierre","G",1,0,100,75,"2011-11-19","N1 Ligue T2 DOUAI","Poules Consolante","2011-2012",null,null,null,null,0,null,0]
["LORTHIOIR Jean-Luc","VEREECQUE Ludovic","P",0,1,48,100,"2011-11-19","N1 Ligue T2 DOUAI","1/2 Finale Consolante","2011-2012",null,null,null,null,0,null,0]
["LORTHIOIR Jean-Luc","VEREECQUE Ludovic","P",0,2,94,120,"2011-11-19","N1 Ligue T2 DOUAI","Poules","2011-2012",null,null,null,null,0,null,0]
["LORTHIOIR Jean-Luc","DELSOL Philippe","P",0,2,65,120,"2011-11-19","N1 Ligue T2 DOUAI","Poules","2011-2012",null,null,null,null,0,null,0]
["LORTHIOIR Jean-Luc","RACARY Thibault","P",0,2,58,120,"2011-11-19","N1 Ligue T2 DOUAI","1/8 Finale","2011-2012",null,null,null,null,0,null,0]
["LORTHIOIR Jean-Luc","HORNECKER Benoît","G",2,0,120,80,"2011-11-04","National T2 SCHILTIGHEIM","Préqualifs","2011-2012",null,null,null,null,0,null,0]
["LORTHIOIR Jean-Luc","DUROYON Didier","P",0,2,75,120,"2011-11-04","National T2 SCHILTIGHEIM","Préqualifs","2011-2012",null,null,null,null,0,null,0]
["LORTHIOIR Jean-Luc","LABROUSSE Sébastien","P",0,2,83,120,"2011-11-04","National T2 SCHILTIGHEIM","Préqualifs","2011-2012",null,null,null,null,0,null,0]
["LORTHIOIR Jean-Luc","HORNECKER Benoît","P",0,3,91,180,"2011-11-05","National T2 SCHILTIGHEIM","Qualifs promotion","2011-2012",null,null,null,null,0,null,0]
["LORTHIOIR Jean-Luc","LABROUSSE Sébastien","G",3,0,180,155,"2011-11-05","National T2 SCHILTIGHEIM","Qualifs promotion","2011-2012",null,null,null,null,0,null,0]
["LORTHIOIR Jean-Luc","DOMINGUEZ Cyrille","G",3,1,219,195,"2011-11-05","National T2 SCHILTIGHEIM","Qualifs promotion","2011-2012",null,null,null,null,0,null,0]
["LORTHIOIR Jean-Luc","COTTEN Jean-Pierre","P",2,3,211,267,"2011-11-06","National T2 SCHILTIGHEIM","1/8 finale promotion","2011-2012",null,null,null,null,0,null,0]
["LORTHIOIR Jean-Luc","FONTAINE Isabelle","G",2,1,178,141,"2011-12-02","National T3 ANNOEULLIN","Préqualifs","2011-2012",null,null,null,null,0,null,0]
["LORTHIOIR Jean-Luc","GEETS Patrice","P",1,2,124,159,"2011-12-02","National T3 ANNOEULLIN","Préqualifs","2011-2012",null,null,null,null,0,null,0]
["LORTHIOIR Jean-Luc","DOUGNAC Nathalie","G",2,0,120,87,"2011-12-02","National T3 ANNOEULLIN","Préqualifs","2011-2012",null,null,null,null,0,null,0]
["LORTHIOIR Jean-Luc","DEROLEZ Jean-Pierre","P",1,3,214,217,"2011-12-03","National T3 ANNOEULLIN","Qualifs promotion","2011-2012",null,null,null,null,0,null,0]
["LORTHIOIR Jean-Luc","CAUX Frédéric","P",1,3,200,238,"2011-12-03","National T3 ANNOEULLIN","Qualifs promotion","2011-2012",null,null,null,null,0,null,0]
["LORTHIOIR Jean-Luc","CLYNCKE Jean-Jacques","G",2,1,177,107,"2012-01-07","N1 Ligue T3 FACHES THUMESNIL","Poules","2011-2012",null,null,null,null,{"$f":"IF($K146=P$1,COUNTIF($C146,\"G\"),0)","v":0},null,{"$f":"IF($K146=R$1,COUNTIF($C146,\"G\"),0)","v":0}]
["LORTHIOIR Jean-Luc","LHERMITTE Cédric","P",0,2,62,120,"2012-01-07","N1 Ligue T3 FACHES THUMESNIL","Poules","2011-2012",null,null,null,null,0,null,0]
["LORTHIOIR Jean-Luc","CLYNCKE Jean-Jacques","P",0,1,45,100,"2012-01-07","N1 Ligue T3 FACHES THUMESNIL","Poules Consolante","2011-2012",null,null,null,null,0,null,0]
["LORTHIOIR Jean-Luc","MANTEN Paul","P",0,1,51,100,"2012-01-07","N1 Ligue T3 FACHES THUMESNIL","Poules Consolante","2011-2012",null,null,null,null,0,null,0]
["LORTHIOIR Jean-Luc","POULEYN André","G",2,1,174,161,"2012-01-28","N1 Ligue T4 GRAVELINES","Poules","2011-2012",null,null,null,null,0,null,0]
["LORTHIOIR Jean-Luc","LHERMITTE Cédric","G",2,1,160,157,"2012-01-28","N1 Ligue T4 GRAVELINES","Poules","2011-2012",null,null,null,null,0,null,0]
["LORTHIOIR Jean-Luc","KAYA Turgul","G",2,0,120,88,"2012-01-28","N1 Ligue T4 GRAVELINES","1/8 Finale","2011-2012",null,null,null,null,0,null,0]
["LORTHIOIR Jean-Luc","LEMÂTRE Jérémy","P",1,2,127,151,"2012-01-28","N1 Ligue T4 GRAVELINES","1/4 Finale","2011-2012",null,null,null,null,0,null,0]
["LORTHIOIR Jean-Luc","CABARET Denis","G",2,1,171,135,"2012-02-17","National T4 ORLEANS","Préqualifs","2011-2012",null,null,null,null,0,null,0]
["LORTHIOIR Jean-Luc","GEETS Patrice","P",0,2,32,120,"2012-02-17","National T4 ORLEANS","Préqualifs","2011-2012",null,null,null,null,0,null,0]
["LORTHIOIR Jean-Luc","DALLIER Dominique","G",2,1,144,153,"2012-02-17","National T4 ORLEANS","Préqualifs","2011-2012",null,null,null,null,0,null,0]
["LORTHIOIR Jean-Luc","ZILLIG Pierre","G",3,0,180,158,"2012-02-18","National T4 ORLEANS","Qualifs promotion","2011-2012",null,null,null,null,0,null,0]
["LORTHIOIR Jean-Luc","MAILLE Bernard","P",1,3,175,233,"2012-02-18","National T4 ORLEANS","Qualifs promotion","2011-2012",null,null,null,null,0,null,0]
["LORTHIOIR Jean-Luc","LHEUREUX François","P",0,3,142,180,"2012-02-18","National T4 ORLEANS","Qualifs promotion","2011-2012",null,null,null,null,0,null,0]
["LORTHIOIR Jean-Luc","GULDNER Aurelien","P",0,2,73,120,"2012-03-16","National T5 L HAY LES ROSES","Préqualifs","2011-2012",null,null,null,null,0,null,0]
["LORTHIOIR Jean-Luc","ZACCAGNINI Antoine","P",0,2,84,120,"2012-03-16","National T5 L HAY LES ROSES","Préqualifs","2011-2012",null,null,null,null,0,null,0]
["LORTHIOIR Jean-Luc","GONTHIER Arnaud","P",0,2,54,120,"2012-03-16","National T5 L HAY LES ROSES","Préqualifs","2011-2012",null,null,null,null,0,null,0]
["LORTHIOIR Jean-Luc","PICOT Sylvain","P",0,3,111,180,"2012-04-21","National ROUEN","Qualifs","2011-2012",null,null,null,null,0,null,0]
["LORTHIOIR Jean-Luc","COTTEN Jean pierre","P",0,3,97,180,"2012-04-21","National ROUEN","Qualifs","2011-2012",null,null,null,null,0,null,0]
["LORTHIOIR Jean-Luc","MAILLE Bernard","P",1,3,201,232,"2012-04-21","National ROUEN","Qualifs","2011-2012",null,null,null,null,0,null,0]
["LORTHIOIR Jean-Luc","DECONINCK Franky","P",0,1,79,100,"2012-10-13","N1 Ligue T1 ANNOEULLIN","Poules Consolante","2012-2013",null,null,null,null,0,null,0]
["LORTHIOIR Jean-Luc","CAUX Frédéric","G",1,0,100,99,"2012-10-13","N1 Ligue T1 ANNOEULLIN","Poules Consolante","2012-2013",null,null,null,null,0,null,0]
["LORTHIOIR Jean-Luc","HOCHART James","P",1,2,144,165,"2012-10-13","N1 Ligue T1 ANNOEULLIN","Poules","2012-2013",null,null,null,null,0,null,0]
["LORTHIOIR Jean-Luc","TURPIN Laurent","P",0,2,71,120,"2012-10-13","N1 Ligue T1 ANNOEULLIN","Poules","2012-2013",null,null,null,null,0,null,0]
["LORTHIOIR Jean-Luc","CAUX Frédéric","P",0,2,100,120,"2012-10-27","N1 Ligue T2 BRUAY sur ESCAUT","Poules","2012-2013",null,null,null,null,0,null,0]
["LORTHIOIR Jean-Luc","DELSOL Philippe","P",0,2,94,120,"2012-10-27","N1 Ligue T2 BRUAY sur ESCAUT","Poules","2012-2013",null,null,null,null,0,null,0]
["LORTHIOIR Jean-Luc","FLEURANT Richard","P",0,1,90,100,"2012-10-27","N1 Ligue T2 BRUAY / ESCAUT","Poules Consolante","2012-2013",null,null,null,null,0,null,0]
["LORTHIOIR Jean-Luc","CAUX Frédéric","P",0,1,68,100,"2012-10-27","N1 Ligue T2 BRUAY / ESCAUT","Poules Consolante","2012-2013",null,null,null,null,0,null,0]
["LORTHIOIR Jean-Luc","ESTERMANS Bernard","G",2,1,144,129,"2012-11-24","N1 Ligue T3 CALAIS","Poules","2012-2013",null,null,null,null,0,null,0]
["LORTHIOIR Jean-Luc","GEETS Patrice","P",1,2,120,176,"2012-11-24","N1 Ligue T3 CALAIS","Poules","2012-2013",null,null,null,null,0,null,0]
["LORTHIOIR Jean-Luc","PARISIS Francis","G",1,0,100,44,"2012-11-24","N1 Ligue T3 CALAIS","Poules Consolante","2012-2013",null,null,null,null,0,null,0]
["LORTHIOIR Jean-Luc","ZEUDE Alain","P",0,1,96,100,"2012-11-24","N1 Ligue T3 CALAIS","Poules Consolante","2012-2013",null,null,null,null,0,null,0]
["LORTHIOIR Jean-Luc","HERREBRECHT Emerick","G",2,0,120,75,"2014-01-04","N1 Ligue T1 ANNOEULLIN","Poules","2013-2014",null,null,null,null,0,null,0]
["LORTHIOIR Jean-Luc","TURPIN Laurent","P",0,2,90,120,"2014-01-04","N1 Ligue T1 ANNOEULLIN","Poules","2013-2014",null,null,null,null,0,null,0]
["LORTHIOIR Jean-Luc","WALLART Jean-Charles","P",0,2,73,120,"2014-01-04","N1 Ligue T1 ANNOEULLIN","1/8 Finale","2013-2014",null,null,null,null,0,null,0]
["LORTHIOIR Jean-Luc","DELFORGE Benjamin","G",1,0,100,28,"2014-01-04","N1 Ligue T1 ANNOEULLIN","Poules Consolante","2013-2014",null,null,null,null,0,null,0]
["LORTHIOIR Jean-Luc","HERREBRECHT Emerick","G",1,0,100,67,"2014-01-04","N1 Ligue T1 ANNOEULLIN","Poules Consolante","2013-2014",null,null,null,null,0,null,0]
["LORTHIOIR Jean-Luc","DEPLECHIN Robert","P",0,1,81,100,"2014-01-04","N1 Ligue T1 ANNOEULLIN","Finale Consolante","2013-2014",null,null,null,null,0,null,0]
["LORTHIOIR Jean-Luc","LUBREZ Pierre","G",2,1,165,127,"2014-03-15","N1 Ligue T2 FACHES THUMESNIL","Poules","2013-2014",null,null,null,null,0,null,0]
["LORTHIOIR Jean-Luc","CAUX Grégory","P",0,2,82,120,"2014-03-15","N1 Ligue T2 FACHES THUMESNIL","Poules","2013-2014",null,null,null,null,0,null,0]
["LORTHIOIR Jean-Luc","HOCHART James","P",0,1,79,100,"2014-03-15","N1 Ligue T2 FACHES THUMESNIL","Poules Consolante","2013-2014",null,null,null,null,0,null,0]
["LORTHIOIR Jean-Luc","LUBREZ Pierre","G",1,0,100,91,"2014-03-15","N1 Ligue T2 FACHES THUMESNIL","Poules Consolante","2013-2014",null,null,null,null,0,null,0]
["LORTHIOIR Jean-Luc","VERHAGHE Dominique","P",0,2,91,120,"2014-04-05","N1 Ligue T3 GRAVELINES","Poules","2013-2014",null,null,null,null,0,null,0]
["LORTHIOIR Jean-Luc","VERHAGHE Dominique","P",1,2,99,151,"2014-04-05","N1 Ligue T3 GRAVELINES","Poules","2013-2014",null,null,null,null,0,null,0]
["LORTHIOIR Jean-Luc","MANTEN Paul","G",1,0,100,86,"2014-04-05","N1 Ligue T3 GRAVELINES","Poules Consolante","2013-2014",null,null,null,null,0,null,0]
["LORTHIOIR Jean-Luc","ST MAXENT Stéphane","G",1,0,100,84,"2014-04-05","N1 Ligue T3 GRAVELINES","Poules Consolante","2013-2014",null,null,null,null,0,null,0]
["LORTHIOIR Jean-Luc","HERREBRECHT Thierry","P",0,1,65,100,"2014-04-05","N1 Ligue T3 GRAVELINES","1/2 Finale Consolante","2013-2014",null,null,null,null,0,null,0]
["LORTHIOIR JEAN-LUC","BOUVIER PHILIPPE","P",0,3,136,180,"2014-10-18","National T1 GRAVELINES","Qualifs promotion","2014-2015",null,null,null,null,0,null,0]
["LORTHIOIR JEAN-LUC","LORIN JIMMY","P",0,3,103,180,"2014-10-18","National T1 GRAVELINES","Qualifs promotion","2014-2015",null,null,null,null,0,null,0]
["LORTHIOIR Jean-Luc","VERHAGHE Dominique","P",0,2,82,120,"2014-11-28","National T2 FACHES THUMESNIL - RONCHIN","Préqualifs","2014-2015",null,null,null,null,0,null,0]
["LORTHIOIR Jean-Luc","PALOMBA Sergio","G",2,0,120,88,"2014-11-28","National T2 FACHES THUMESNIL - RONCHIN","Préqualifs","2014-2015",null,null,null,null,1,null,0]
["LORTHIOIR Jean-Luc","GUILLEMANT David","P",0,2,68,120,"2014-11-28","National T2 FACHES THUMESNIL - RONCHIN","Préqualifs","2014-2015",null,null,null,null,0,null,0]
["LORTHIOIR Jean-Luc","PONTHIEUX Christian","P",1,3,173,237,"2014-11-29","National T2 FACHES THUMESNIL - RONCHIN","Qualifs promotion","2014-2015",null,null,null,null,0,null,0]
["LORTHIOIR Jean-Luc","CLINCKE Jean-Jacques","G",3,1,208,183,"2014-11-29","National T2 FACHES THUMESNIL - RONCHIN","Qualifs promotion","2014-2015",null,null,null,null,1,null,0]
["LORTHIOIR Jean-Luc","CAUX Frédéric","P",1,3,174,229,"2014-11-29","National T2 FACHES THUMESNIL - RONCHIN","Qualifs promotion","2014-2015",null,null,null,null,0,null,0]
["LORTHIOIR Jean-Luc","DRONET Chrystel","P",1,2,134,177,"2015-03-20","National T5 SAINT QUENTIN","Préqualifs","2014-2015",null,null,null,null,0,null,0]
["LORTHIOIR Jean-Luc","EVENOU Roger","P",1,2,122,159,"2015-03-20","National T5 SAINT QUENTIN","Préqualifs","2014-2015",null,null,null,null,0,null,0]
["LORTHIOIR Jean-Luc","GREMAIN Gino","P",0,2,48,120,"2015-03-20","National T5 SAINT QUENTIN","Préqualifs","2014-2015",null,null,null,null,0,null,0]
["LORTHIOIR Jean-Luc","TRIPLET Gilbert","G",1,0,100,76,"2015-02-07","N1 Ligue T2 CALAIS","Poules Consolante","2014-2015",null,null,null,null,1,null,0]
["LORTHIOIR Jean-Luc","CAUX Frédéric","G",1,0,100,90,"2015-02-07","N1 Ligue T2 CALAIS","Poules Consolante","2014-2015",null,null,null,null,1,null,0]
["LORTHIOIR Jean-Luc","CAUX Frédéric","P",0,1,84,100,"2015-02-07","N1 Ligue T2 CALAIS","1/2 finale Consolante","2014-2015",null,null,null,null,0,null,0]
["LORTHIOIR Jean-Luc","LEMÂTRE Alexis","P",1,2,126,145,"2015-02-07","N1 Ligue T2 CALAIS","Poules","2014-2015",null,null,null,null,0,null,0]
["LORTHIOIR Jean-Luc","GEETS Patrice","P",0,2,73,120,"2015-02-07","N1 Ligue T2 CALAIS","Poules","2014-2015",null,null,null,null,0,null,0]
["LORTHIOIR Jean-Luc","DEROLEZ Jean-pierre","P",0,2,65,120,"2015-02-07","N1 Ligue T2 CALAIS","1/8 Finale","2014-2015",null,null,null,null,0,null,0]
["LORTHIOIR Jean-Luc","TRIPLET Gilbert","G",1,0,100,92,"2015-03-14","N1 Ligue T3 ANNOEULLIN","Poules Consolante","2014-2015",null,null,null,null,1,null,0]
["LORTHIOIR Jean-Luc","DEROLEZ Jean-pierre","G",1,0,100,78,"2015-03-14","N1 Ligue T3 ANNOEULLIN","Poules Consolante","2014-2015",null,null,null,null,1,null,0]
["LORTHIOIR Jean-Luc","DEPLECHIN Robert","P",0,1,72,100,"2015-03-14","N1 Ligue T3 ANNOEULLIN","Finale Consolante","2014-2015",null,null,null,null,0,null,0]
["LORTHIOIR Jean-Luc","CAUX Frédéric","P",0,2,76,120,"2015-03-14","N1 Ligue T3 ANNOEULLIN","Poules","2014-2015",null,null,null,null,0,null,0]
["LORTHIOIR Jean-Luc","DEROLEZ Jean-pierre","G",2,1,156,151,"2015-03-14","N1 Ligue T3 ANNOEULLIN","Poules","2014-2015",null,null,null,null,1,null,0]
["LORTHIOIR Jean-Luc","TREAL David","P",0,2,62,120,"2015-12-11","National T3 FACHES THUMESNIL - RONCHIN","Préqualifs","2015-2016",null,null,null,null,0,null,0]
["LORTHIOIR Jean-Luc","WEBER Thierry","P",1,2,143,175,"2015-12-11","National T3 FACHES THUMESNIL - RONCHIN","Préqualifs","2015-2016",null,null,null,null,0,null,0]
["LORTHIOIR Jean-Luc","GONTHIER Arnaud","P",1,2,120,154,"2015-12-11","National T3 FACHES THUMESNIL - RONCHIN","Préqualifs","2015-2016",null,null,null,null,0,null,0]
["LORTHIOIR Jean-Luc","CLYNCKE Jean-Jacques","G",1,0,100,74,"2015-12-05","CONSOLANTE T1 LIGUE 5 QUILLES N1 - FACHES-THUMESNIL","Poules","2015-2016",null,null,null,null,0,null,1]
["LORTHIOIR Jean-Luc","ALDEGUER Lionel","P",0,1,64,100,"2015-12-05","CONSOLANTE T1 LIGUE 5 QUILLES N1 - FACHES-THUMESNIL","Poules","2015-2016",null,null,null,null,0,null,0]
["LORTHIOIR Jean-Luc","VEREECQUE Ludovic","P",0,2,68,120,"2015-12-04","T1 LIGUE 5 QUILLES N1 - FACHES-THUMESNIL","Poules","2015-2016",null,null,null,null,0,null,0]
["LORTHIOIR Jean-Luc","GEETS Patrice","P",0,2,52,120,"2015-12-04","T1 LIGUE 5 QUILLES N1 - FACHES-THUMESNIL","Poules","2015-2016",null,null,null,null,0,null,0]
["LORTHIOIR Jean-Luc","KERKHOF Hervé","G",2,0,120,77,"2016-01-09","T2  LIGUE 5 QUILLES N1 - GRAVELINES","Qualifications","2015-2016",null,null,null,null,0,null,1]
["LORTHIOIR Jean-Luc","LEMÂTRE Jérémy","P",0,2,50,120,"2016-01-09","T2  LIGUE 5 QUILLES N1 - GRAVELINES","Qualifications","2015-2016",null,null,null,null,0,null,0]
["LORTHIOIR Jean-Luc","LEMÂTRE Jérémy","P",0,2,54,120,"2016-01-09","T2  LIGUE 5 QUILLES N1 - GRAVELINES","1/8 Finale","2015-2016",null,null,null,null,0,null,0]
["LORTHIOIR Jean-Luc","CAUX Frédéric","G",1,0,100,99,"2016-01-23","CONSOLANTE T3 - ANNOEULLIN","Qualifications","2015-2016",null,null,null,null,0,null,1]
["LORTHIOIR Jean-Luc","DEROLEZ Jean-Pierre","P",0,1,95,100,"2016-01-23","CONSOLANTE T3 - ANNOEULLIN","Qualifications","2015-2016",null,null,null,null,0,null,0]
["LORTHIOIR Jean-Luc","LECROART Serge","G",1,0,100,93,"2016-01-23","CONSOLANTE T3 - ANNOEULLIN","Qualifications","2015-2016",null,null,null,null,0,null,1]
["LORTHIOIR Jean-Luc","LECROART Serge","P",0,1,68,100,"2016-01-23","CONSOLANTE T3 - ANNOEULLIN","1/2 Finale","2015-2016",null,null,null,null,0,null,0]
["LORTHIOIR Jean-Luc","GEETS Patrice","P",0,2,78,120,"2016-01-23","T3 Ligue 5 Quilles N1 - ANNOEULLIN","Qualifications","2015-2016",null,null,null,null,0,null,0]
["LORTHIOIR Jean-Luc","WALLART Jean-Charles","P",0,2,79,120,"2016-01-23","T3 Ligue 5 Quilles N1 - ANNOEULLIN","Qualifications","2015-2016",null,null,null,null,0,null,0]
["Fin des données",null,null,null,null,null,null,null,null,null,"",null,null,null,null,0,null,0]

{"sheet":"LOTHE Jean-Luc","index":57,"n_rows":28,"n_cols":22,"rows_kept":28,"cut":false,"hidden":false,"merged":[]}
["LOTHE Jean-Luc",null,null,null,null,null,null,null,null,null,null,null,null,null,null,{"$f":"Récapitulatif!$B$2","v":"2014-2015"},null,{"$f":"Récapitulatif!$B$3","v":"2015-2016"},null,"Toutes saisons"]
["<Club>",null,null,null,null,null,null,null,null,null,null,null,null,null,null,"Nombre","%age","Nombre","%age","Nombre","%age"]
["<Licence>",null,null,null,null,null,null,null,null,null,null,null,null,"Matchs","Gagnés",{"$f":"SUM(P$15:P$28)","v":2},{"$f":"IF(P$3+P$4>0,P3/(P$3+P$4),\"\")","v":0.25},{"$f":"SUM(R$15:R$28)","v":0},{"$f":"IF(R$3+R$4>0,R3/(R$3+R$4),\"\")","v":""},{"$f":"COUNTIF($C$15:$C$28,\"G\")","v":2},{"$f":"IF(T$3+T$4>0,T3/(T$3+T$4),\"\")","v":0.16666666666666666}]
["<Tel>",null,null,null,null,null,null,null,null,null,null,null,null,null,"Perdus",{"$f":"COUNTIF($K$15:$K$28,Récapitulatif!$B$2)-P3","v":6},{"$f":"IF(P$3+P$4>0,P4/(P$3+P$4),\"\")","v":0.75},{"$f":"COUNTIF($K$15:$K$28,Récapitulatif!$B$3)-R3","v":0},{"$f":"IF(R$3+R$4>0,R4/(R$3+R$4),\"\")","v":""},{"$f":"COUNTIF($C$15:$C$28,\"P\")","v":10},{"$f":"IF(T$3+T$4>0,T4/(T$3+T$4),\"\")","v":0.83333333333333337}]
["<email>",null,null,null,null,null,null,null,null,null,null,null,null,null,"Total / Moy.",{"$f":"SUM(P3:P4)","v":8},{"$f":"IF(SUMIF($K$15:$K$28,Récapitulatif!$B$2,$G$15:$G$28)>0,SUMIF($K$15:$K$28,Récapitulatif!$B$2,$F$15:$F$28)/SUMIF($K$15:$K$28,Récapitulatif!$B$2,$G$15:$G$28),\"\")","v":0.90707964601769908},{"$f":"SUM(R3:R4)","v":0},{"$f":"IF(SUMIF($K$15:$K$28,Récapitulatif!$B$3,$G$15:$G$28)>0,SUMIF($K$15:$K$28,Récapitulatif!$B$3,$F$15:$F$28)/SUMIF($K$15:$K$28,Récapitulatif!$B$3,$G$15:$G$28),\"\")","v":""},{"$f":"SUM(T3:T4)","v":12},{"$f":"IF(SUM($G$15:$G$28)>0,SUM($F$15:$F$28)/SUM($G$15:$G$28),\"\")","v":0.87785862785862789},{"$f":"IF(SUMIF($K$15:$K$28,Récapitulatif!$B$2,$G$15:$G$28)+SUMIF($K$15:$K$28,Récapitulatif!$B$3,$G$15:$G$28)>0,(SUMIF($K$15:$K$28,Récapitulatif!$B$2,$F$15:$F$28)+SUMIF($K$15:$K$28,Récapitulatif!$B$3,$F$15:$F$28))/(SUMIF($K$15:$K$28,Récapitulatif!$B$2,$G$15:$G$28)+SUMIF($K$15:$K$28,Récapitulatif!$B$3,$G$15:$G$28)),\"\")","v":0.90707964601769908}]
[null,null,null,null,null,null,null,null,null,null,null,null,null,"Sets","Gagnés",{"$f":"SUMIF($K$15:$K$28,Récapitulatif!$B$2,$D$15:$D$28)","v":9},{"$f":"IF(P$6+P$7>0,P6/(P$6+P$7),\"\")","v":0.34615384615384615},{"$f":"SUMIF($K$15:$K$28,Récapitulatif!$B$3,$D$15:$D$28)","v":0},{"$f":"IF(R$6+R$7>0,R6/(R$6+R$7),\"\")","v":""},{"$f":"SUM($D$15:$D$28)","v":12},{"$f":"IF(T$6+T$7>0,T6/(T$6+T$7),\"\")","v":0.32432432432432434}]
[null,null,null,null,null,null,null,null,null,null,null,null,null,null,"Perdus",{"$f":"SUMIF($K$15:$K$28,Récapitulatif!$B$2,$E$15:$E$28)","v":17},{"$f":"IF(P$6+P$7>0,P7/(P$6+P$7),\"\")","v":0.65384615384615385},{"$f":"SUMIF($K$15:$K$28,Récapitulatif!$B$3,$E$15:$E$28)","v":0},{"$f":"IF(R$6+R$7>0,R7/(R$6+R$7),\"\")","v":""},{"$f":"SUM($E$15:$E$28)","v":25},{"$f":"IF(T$6+T$7>0,T7/(T$6+T$7),\"\")","v":0.67567567567567566}]
["Récapitulatif joueurs",null,null,null,null,null,null,null,null,null,null,null,null,null,"Total",{"$f":"SUM(P6:P7)","v":26},null,{"$f":"SUM(R6:R7)","v":0},null,{"$f":"SUM(T6:T7)","v":37}]
[]
[]
[]
[]
[]
[]
["Joueur","Adversaire","G/P","Sets gagnés","Sets perdus","pts marqués","pts subis","Date","Compétition","Phase","Saison"]
["LOTHE Jean-Luc","HOCHART James","P",1,2,137,158,"2014-01-04","N1 Ligue T1 ANNOEULLIN","Poules",{"$f":"IF(H16<>\"\",IF(MONTH(H16)>MoisRef,YEAR(H16)&\"-\"&YEAR(H16)+1,YEAR(H16)-1&\"-\"&YEAR(H16)),\"\")","v":"2013-2014"},null,null,null,null,{"$f":"IF($K16=P$1,COUNTIF($C16,\"G\"),0)","v":0},null,{"$f":"IF($K16=R$1,COUNTIF($C16,\"G\"),0)","v":0}]
["LOTHE Jean-Luc","POULEYN André","P",1,2,147,149,"2014-01-04","N1 Ligue T1 ANNOEULLIN","Poules","2013-2014",null,null,null,null,{"$f":"IF($K17=P$1,COUNTIF($C17,\"G\"),0)","v":0},null,{"$f":"IF($K17=R$1,COUNTIF($C17,\"G\"),0)","v":0}]
["LOTHE Jean-Luc","DELSOL Philippe","P",0,2,78,120,"2014-03-15","N1 Ligue T2 FACHES THUMESNIL","Poules","2013-2014",null,null,null,null,{"$f":"IF($K18=P$1,COUNTIF($C18,\"G\"),0)","v":0},null,{"$f":"IF($K18=R$1,COUNTIF($C18,\"G\"),0)","v":0}]
["LOTHE Jean-Luc","WALLART Jean-Charles","P",1,2,97,141,"2014-03-15","N1 Ligue T2 FACHES THUMESNIL","Poules","2013-2014",null,null,null,null,{"$f":"IF($K19=P$1,COUNTIF($C19,\"G\"),0)","v":0},null,{"$f":"IF($K19=R$1,COUNTIF($C19,\"G\"),0)","v":0}]
["LOTHE JEAN-LUC","MORMICHE MICHEL","P",1,3,153,199,"2014-10-18","National T1 GRAVELINES","Qualifs promotion","2014-2015",null,null,null,null,{"$f":"IF($K20=P$1,COUNTIF($C20,\"G\"),0)","v":0},null,{"$f":"IF($K20=R$1,COUNTIF($C20,\"G\"),0)","v":0}]
["LOTHE JEAN-LUC","GEETS PATRICE","P",0,3,130,180,"2014-10-18","National T1 GRAVELINES","Qualifs promotion","2014-2015",null,null,null,null,0,null,0]
["LOTHE Jean-Luc","NAHIRNYJ Nicolas","P",0,2,98,120,"2014-11-28","National T2 FACHES THUMESNIL - RONCHIN","Préqualifs","2014-2015",null,null,null,null,0,null,0]
["LOTHE Jean-Luc","POULEYN André","G",2,0,120,74,"2014-11-28","National T2 FACHES THUMESNIL - RONCHIN","Préqualifs","2014-2015",null,null,null,null,1,null,0]
["LOTHE Jean-Luc","GREMAIN Gino","P",0,2,57,120,"2014-11-28","National T2 FACHES THUMESNIL - RONCHIN","Préqualifs","2014-2015",null,null,null,null,0,null,0]
["LOTHE Jean-Luc","WALLART Jean-Charles","P",1,3,173,233,"2014-11-29","National T2 FACHES THUMESNIL - RONCHIN","Qualifs promotion","2014-2015",null,null,null,null,0,null,0]
["LOTHE Jean-Luc","POULEYN André","G",3,1,235,189,"2014-11-29","National T2 FACHES THUMESNIL - RONCHIN","Qualifs promotion","2014-2015",null,null,null,null,1,null,0]
["LOTHE Jean-Luc","ALEXANDRE Michel","P",2,3,264,241,"2014-11-29","National T2 FACHES THUMESNIL - RONCHIN","Qualifs promotion","2014-2015",null,null,null,null,0,null,0]
["Fin des données",null,null,null,null,null,null,null,null,null,"",null,null,null,null,{"$f":"IF($K28=P$1,COUNTIF($C28,\"G\"),0)","v":0},null,{"$f":"IF($K28=R$1,COUNTIF($C28,\"G\"),0)","v":0}]

{"sheet":"LUBREZ Pierre","index":58,"n_rows":56,"n_cols":22,"rows_kept":56,"cut":false,"hidden":false,"merged":[]}
["LUBREZ Pierre",null,null,null,null,null,null,null,null,null,null,null,null,null,null,{"$f":"Récapitulatif!$B$2","v":"2014-2015"},null,{"$f":"Récapitulatif!$B$3","v":"2015-2016"},null,"Toutes saisons"]
["GRANDE SYNTHE",null,null,null,null,null,null,null,null,null,null,null,null,null,null,"Nombre","%age","Nombre","%age","Nombre","%age"]
["017148-O",null,null,null,null,null,null,null,null,null,null,null,null,"Matchs","Gagnés",{"$f":"SUM(P$15:P$56)","v":3},{"$f":"IF(P$3+P$4>0,P3/(P$3+P$4),\"\")","v":0.21428571428571427},{"$f":"SUM(R$15:R$56)","v":0},{"$f":"IF(R$3+R$4>0,R3/(R$3+R$4),\"\")","v":""},{"$f":"COUNTIF($C$15:$C$56,\"G\")","v":9},{"$f":"IF(T$3+T$4>0,T3/(T$3+T$4),\"\")","v":0.22500000000000001}]
[null,null,null,null,null,null,null,null,null,null,null,null,null,null,"Perdus",{"$f":"COUNTIF($K$15:$K$56,Récapitulatif!$B$2)-P3","v":11},{"$f":"IF(P$3+P$4>0,P4/(P$3+P$4),\"\")","v":0.7857142857142857},{"$f":"COUNTIF($K$15:$K$56,Récapitulatif!$B$3)-R3","v":0},{"$f":"IF(R$3+R$4>0,R4/(R$3+R$4),\"\")","v":""},{"$f":"COUNTIF($C$15:$C$56,\"P\")","v":31},{"$f":"IF(T$3+T$4>0,T4/(T$3+T$4),\"\")","v":0.77500000000000002}]
[null,null,null,null,null,null,null,null,null,null,null,null,null,null,"Total / Moy.",{"$f":"SUM(P3:P4)","v":14},{"$f":"IF(SUMIF($K$15:$K$56,Récapitulatif!$B$2,$G$15:$G$56)>0,SUMIF($K$15:$K$56,Récapitulatif!$B$2,$F$15:$F$56)/SUMIF($K$15:$K$56,Récapitulatif!$B$2,$G$15:$G$56),\"\")","v":0.86720698254364093},{"$f":"SUM(R3:R4)","v":0},{"$f":"IF(SUMIF($K$15:$K$56,Récapitulatif!$B$3,$G$15:$G$56)>0,SUMIF($K$15:$K$56,Récapitulatif!$B$3,$F$15:$F$56)/SUMIF($K$15:$K$56,Récapitulatif!$B$3,$G$15:$G$56),\"\")","v":""},{"$f":"SUM(T3:T4)","v":40},{"$f":"IF(SUM($G$15:$G$56)>0,SUM($F$15:$F$56)/SUM($G$15:$G$56),\"\")","v":0.83564192681414096},{"$f":"IF(SUMIF($K$15:$K$56,Récapitulatif!$B$2,$G$15:$G$56)+SUMIF($K$15:$K$56,Récapitulatif!$B$3,$G$15:$G$56)>0,(SUMIF($K$15:$K$56,Récapitulatif!$B$2,$F$15:$F$56)+SUMIF($K$15:$K$56,Récapitulatif!$B$3,$F$15:$F$56))/(SUMIF($K$15:$K$56,Récapitulatif!$B$2,$G$15:$G$56)+SUMIF($K$15:$K$56,Récapitulatif!$B$3,$G$15:$G$56)),\"\")","v":0.86720698254364093}]
[null,null,null,null,null,null,null,null,null,null,null,null,null,"Sets","Gagnés",{"$f":"SUMIF($K$15:$K$56,Récapitulatif!$B$2,$D$15:$D$56)","v":7},{"$f":"IF(P$6+P$7>0,P6/(P$6+P$7),\"\")","v":0.28000000000000003},{"$f":"SUMIF($K$15:$K$56,Récapitulatif!$B$3,$D$15:$D$56)","v":0},{"$f":"IF(R$6+R$7>0,R6/(R$6+R$7),\"\")","v":""},{"$f":"SUM($D$15:$D$56)","v":23},{"$f":"IF(T$6+T$7>0,T6/(T$6+T$7),\"\")","v":0.30263157894736842}]
[null,null,null,null,null,null,null,null,null,null,null,null,null,null,"Perdus",{"$f":"SUMIF($K$15:$K$56,Récapitulatif!$B$2,$E$15:$E$56)","v":18},{"$f":"IF(P$6+P$7>0,P7/(P$6+P$7),\"\")","v":0.72},{"$f":"SUMIF($K$15:$K$56,Récapitulatif!$B$3,$E$15:$E$56)","v":0},{"$f":"IF(R$6+R$7>0,R7/(R$6+R$7),\"\")","v":""},{"$f":"SUM($E$15:$E$56)","v":53},{"$f":"IF(T$6+T$7>0,T7/(T$6+T$7),\"\")","v":0.69736842105263153}]
["Récapitulatif joueurs",null,null,null,null,null,null,null,null,null,null,null,null,null,"Total",{"$f":"SUM(P6:P7)","v":25},null,{"$f":"SUM(R6:R7)","v":0},null,{"$f":"SUM(T6:T7)","v":76}]
[]
[]
[]
[]
[]
[]
["Joueur","Adversaire","G/P","Sets gagnés","Sets perdus","pts marqués","pts subis","Date","Compétition","Phase","Saison"]
["LUBREZ Pierre","CARPENTIER Yohanne","P",0,2,84,120,"2011-10-15","N1 Ligue T1 DIVION","Poules",{"$f":"IF(H16<>\"\",IF(MONTH(H16)>MoisRef,YEAR(H16)&\"-\"&YEAR(H16)+1,YEAR(H16)-1&\"-\"&YEAR(H16)),\"\")","v":"2011-2012"},null,null,null,null,{"$f":"IF($K16=P$1,COUNTIF($C16,\"G\"),0)","v":0},null,{"$f":"IF($K16=R$1,COUNTIF($C16,\"G\"),0)","v":0}]
["LUBREZ Pierre","SAINT-GEORGES Claude","P",1,2,132,150,"2011-10-15","N1 Ligue T1 DIVION","Poules","2011-2012",null,null,null,null,0,null,0]
["LUBREZ Pierre","CAUX Frédéric","G",1,0,100,98,"2011-10-15","N1 Ligue T1 DIVION","Poules Consolante","2011-2012",null,null,null,null,0,null,0]
["LUBREZ Pierre","POULEYN André","G",1,0,100,92,"2011-10-15","N1 Ligue T1 DIVION","Poules Consolante","2011-2012",null,null,null,null,0,null,0]
["LUBREZ Pierre","DEROLEZ Jean-Pierre","G",1,0,100,88,"2011-10-15","N1 Ligue T1 DIVION","1/4 Finale Consolante","2011-2012",null,null,null,null,0,null,0]
["LUBREZ Pierre","MANTEN Paul","P",0,1,62,100,"2011-10-15","N1 Ligue T1 DIVION","1/2 Finale Consolante",{"$f":"IF(H21<>\"\",IF(MONTH(H21)>MoisRef,YEAR(H21)&\"-\"&YEAR(H21)+1,YEAR(H21)-1&\"-\"&YEAR(H21)),\"\")","v":"2011-2012"},null,null,null,null,{"$f":"IF($K21='DEROLEZ Jean-Pierre'!P$1,COUNTIF($C21,\"G\"),0)","v":0},null,{"$f":"IF($K21='DEROLEZ Jean-Pierre'!R$1,COUNTIF($C21,\"G\"),0)","v":0}]
["LUBREZ Pierre","DEROLEZ Jean-Pierre","P",0,2,91,120,"2012-01-07","N1 Ligue T3 FACHES THUMESNIL","Poules","2011-2012",null,null,null,null,0,null,0]
["LUBREZ Pierre","GEETS Patrice","G",2,0,120,87,"2012-01-07","N1 Ligue T3 FACHES THUMESNIL","Poules","2011-2012",null,null,null,null,0,null,0]
["LUBREZ Pierre","LHERMITTE Cédric","P",0,2,87,120,"2012-01-07","N1 Ligue T3 FACHES THUMESNIL","1/8 Finale","2011-2012",null,null,null,null,0,null,0]
["LUBREZ Pierre","GEETS Patrice","P",0,1,36,100,"2012-01-07","N1 Ligue T3 FACHES THUMESNIL","Poules Consolante","2011-2012",null,null,null,null,0,null,0]
["LUBREZ Pierre","ESTERMANS Bernard","P",0,1,81,100,"2012-01-07","N1 Ligue T3 FACHES THUMESNIL","Poules Consolante","2011-2012",null,null,null,null,0,null,0]
["LUBREZ Pierre","ESTERMANS Bernard","P",0,1,84,100,"2012-01-28","N1 Ligue T4 GRAVELINES","Poules Consolante","2011-2012",null,null,null,null,0,null,0]
["LUBREZ Pierre","CAUX Frédéric","P",0,1,68,100,"2012-01-28","N1 Ligue T4 GRAVELINES","Poules Consolante","2011-2012",null,null,null,null,0,null,0]
["LUBREZ Pierre","KAYA Turgul","P",1,2,174,172,"2012-01-28","N1 Ligue T4 GRAVELINES","Poules","2011-2012",null,null,null,null,0,null,0]
["LUBREZ Pierre","HERREBRECHT Thierry","P",0,2,78,120,"2012-01-28","N1 Ligue T4 GRAVELINES","Poules","2011-2012",null,null,null,null,0,null,0]
["LUBREZ Pierre","GEETS Patrice","P",0,2,49,120,"2012-01-28","N1 Ligue T4 GRAVELINES","1/8 Finale","2011-2012",null,null,null,null,0,null,0]
["LUBREZ Pierre","DEPLECHIN Robert","P",1,2,136,174,"2014-01-04","N1 Ligue T1 ANNOEULLIN","Poules","2013-2014",null,null,null,null,0,null,0]
["LUBREZ Pierre","DELSOL Philippe","P",0,2,68,120,"2014-01-04","N1 Ligue T1 ANNOEULLIN","Poules","2013-2014",null,null,null,null,0,null,0]
["LUBREZ Pierre","LORTHIOIR Jean-Luc","P",1,2,127,165,"2014-03-15","N1 Ligue T2 FACHES THUMESNIL","Poules","2013-2014",null,null,null,null,0,null,0]
["LUBREZ Pierre","CAUX Grégory","P",1,2,149,171,"2014-03-15","N1 Ligue T2 FACHES THUMESNIL","Poules","2013-2014",null,null,null,null,0,null,0]
["LUBREZ Pierre","HOCHART James","P",0,1,73,100,"2014-03-15","N1 Ligue T2 FACHES THUMESNIL","Poules Consolante","2013-2014",null,null,null,null,0,null,0]
["LUBREZ Pierre","LORTHIOIR Jean-Luc","P",0,1,91,100,"2014-03-15","N1 Ligue T2 FACHES THUMESNIL","Poules Consolante","2013-2014",null,null,null,null,0,null,0]
["LUBREZ Pierre","PAILLARD Bertrand","G",2,1,179,120,"2014-04-05","N1 Ligue T3 GRAVELINES","Poules","2013-2014",null,null,null,null,0,null,0]
["LUBREZ Pierre","DEROLEZ Jean-Pierre","P",1,2,151,179,"2014-04-05","N1 Ligue T3 GRAVELINES","Poules","2013-2014",null,null,null,null,0,null,0]
["LUBREZ Pierre","CAUX Grégory","G",2,1,152,138,"2014-04-05","N1 Ligue T3 GRAVELINES","1/8 Finale","2013-2014",null,null,null,null,0,null,0]
["LUBREZ Pierre","WALLART Jean-Charles","P",1,2,79,179,"2014-04-05","N1 Ligue T3 GRAVELINES","1/4 Finale","2013-2014",null,null,null,null,0,null,0]
["LUBREZ Pierre","LEMÂTRE Alexis","P",0,1,48,100,"2015-01-17","N1 Ligue T1 DUNKERQUE","Poules Consolante","2014-2015",null,null,null,null,0,null,0]
["LUBREZ Pierre","LEMÂTRE Alexis","P",0,1,86,100,"2015-01-17","N1 Ligue T1 DUNKERQUE","Poules Consolante","2014-2015",null,null,null,null,0,null,0]
["LUBREZ Pierre","MANTEN Paul","G",2,0,120,86,"2015-01-17","N1 Ligue T1 DUNKERQUE","Poules","2014-2015",null,null,null,null,1,null,0]
["LUBREZ Pierre","CAUX Grégory","P",0,2,97,120,"2015-01-17","N1 Ligue T1 DUNKERQUE","Poules","2014-2015",null,null,null,null,0,null,0]
["LUBREZ Pierre","GEETS Patrice","P",1,2,139,154,"2015-01-17","N1 Ligue T1 DUNKERQUE","1/8 Finale","2014-2015",null,null,null,null,0,null,0]
["LUBREZ Pierre","POULEYN andré","P",0,1,83,100,"2015-02-07","N1 Ligue T2 CALAIS","Poules Consolante","2014-2015",null,null,null,null,0,null,0]
["LUBREZ Pierre","ALDEGUER Lionel","P",0,1,91,100,"2015-02-07","N1 Ligue T2 CALAIS","Poules Consolante","2014-2015",null,null,null,null,0,null,0]
["LUBREZ Pierre","POULEYN André","G",2,1,171,129,"2015-02-07","N1 Ligue T2 CALAIS","Poules","2014-2015",null,null,null,null,1,null,0]
["LUBREZ Pierre","LEMÂTRE Jérémy","P",0,2,118,120,"2015-02-07","N1 Ligue T2 CALAIS","Poules","2014-2015",null,null,null,null,0,null,0]
["LUBREZ Pierre","SAINT-GEORGES Claude","P",0,2,78,120,"2015-02-07","N1 Ligue T2 CALAIS","1/8 Finale","2014-2015",null,null,null,null,0,null,0]
["LUBREZ Pierre","GHEVART Jean","G",1,0,100,82,"2015-03-14","N1 Ligue T3 ANNOEULLIN","Poules Consolante","2014-2015",null,null,null,null,1,null,0]
["LUBREZ Pierre","DEPLECHIN Robert","P",0,1,71,100,"2015-03-14","N1 Ligue T3 ANNOEULLIN","Poules Consolante","2014-2015",null,null,null,null,0,null,0]
["LUBREZ Pierre","WALLART Jean-Charles","P",1,2,95,173,"2015-03-14","N1 Ligue T3 ANNOEULLIN","Poules","2014-2015",null,null,null,null,0,null,0]
["LUBREZ Pierre","DECONINCK Franky","P",0,2,94,120,"2015-03-14","N1 Ligue T3 ANNOEULLIN","Poules","2014-2015",null,null,null,null,0,null,0]
["Fin des données",null,null,null,null,null,null,null,null,null,"",null,null,null,null,0,null,0]

{"sheet":"MAILLE Bernard","index":59,"n_rows":351,"n_cols":22,"rows_kept":351,"cut":false,"hidden":false,"merged":[]}
["MAILLE Bernard",null,null,null,null,null,null,null,null,null,null,null,null,null,null,{"$f":"Récapitulatif!$B$2","v":"2014-2015"},null,{"$f":"Récapitulatif!$B$3","v":"2015-2016"},null,"Toutes saisons"]
["ANNOEULLIN",null,null,null,null,null,null,null,null,null,null,null,null,null,null,"Nombre","%age","Nombre","%age","Nombre","%age"]
["016763-T",null,null,null,null,null,null,null,null,null,null,null,null,"Matchs","Gagnés",{"$f":"SUM(P$15:P$351)","v":15},{"$f":"IF(P$3+P$4>0,P3/(P$3+P$4),\"\")","v":0.6},{"$f":"SUM(R$15:R$351)","v":38},{"$f":"IF(R$3+R$4>0,R3/(R$3+R$4),\"\")","v":0.66666666666666663},{"$f":"COUNTIF($C$15:$C$351,\"G\")","v":193},{"$f":"IF(T$3+T$4>0,T3/(T$3+T$4),\"\")","v":0.57611940298507458}]
[null,null,null,null,null,null,null,null,null,null,null,null,null,null,"Perdus",{"$f":"COUNTIF($K$15:$K$351,Récapitulatif!$B$2)-P3","v":10},{"$f":"IF(P$3+P$4>0,P4/(P$3+P$4),\"\")","v":0.4},{"$f":"COUNTIF($K$15:$K$351,Récapitulatif!$B$3)-R3","v":19},{"$f":"IF(R$3+R$4>0,R4/(R$3+R$4),\"\")","v":0.33333333333333331},{"$f":"COUNTIF($C$15:$C$351,\"P\")","v":142},{"$f":"IF(T$3+T$4>0,T4/(T$3+T$4),\"\")","v":0.42388059701492536}]
[null,null,null,null,null,null,null,null,null,null,null,null,null,null,"Total / Moy.",{"$f":"SUM(P3:P4)","v":25},{"$f":"IF(SUMIF($K$15:$K$351,Récapitulatif!$B$2,$G$15:$G$351)>0,SUMIF($K$15:$K$351,Récapitulatif!$B$2,$F$15:$F$351)/SUMIF($K$15:$K$351,Récapitulatif!$B$2,$G$15:$G$351),\"\")","v":1.0618666666666667},{"$f":"SUM(R3:R4)","v":57},{"$f":"IF(SUMIF($K$15:$K$351,Récapitulatif!$B$3,$G$15:$G$351)>0,SUMIF($K$15:$K$351,Récapitulatif!$B$3,$F$15:$F$351)/SUMIF($K$15:$K$351,Récapitulatif!$B$3,$G$15:$G$351),\"\")","v":1.1354127044503612},{"$f":"SUM(T3:T4)","v":335},{"$f":"IF(SUM($G$15:$G$351)>0,SUM($F$15:$F$351)/SUM($G$15:$G$351),\"\")","v":1.0592289378054385},{"$f":"IF(SUMIF($K$15:$K$351,Récapitulatif!$B$2,$G$15:$G$351)+SUMIF($K$15:$K$351,Récapitulatif!$B$3,$G$15:$G$351)>0,(SUMIF($K$15:$K$351,Récapitulatif!$B$2,$F$15:$F$351)+SUMIF($K$15:$K$351,Récapitulatif!$B$3,$F$15:$F$351))/(SUMIF($K$15:$K$351,Récapitulatif!$B$2,$G$15:$G$351)+SUMIF($K$15:$K$351,Récapitulatif!$B$3,$G$15:$G$351)),\"\")","v":1.1117126407149609}]
[null,null,null,null,null,null,null,null,null,null,null,null,null,"Sets","Gagnés",{"$f":"SUMIF($K$15:$K$351,Récapitulatif!$B$2,$D$15:$D$351)","v":42},{"$f":"IF(P$6+P$7>0,P6/(P$6+P$7),\"\")","v":0.53846153846153844},{"$f":"SUMIF($K$15:$K$351,Récapitulatif!$B$3,$D$15:$D$351)","v":102},{"$f":"IF(R$6+R$7>0,R6/(R$6+R$7),\"\")","v":0.59302325581395354},{"$f":"SUM($D$15:$D$351)","v":552},{"$f":"IF(T$6+T$7>0,T6/(T$6+T$7),\"\")","v":0.54491609081934844}]
[null,null,null,null,null,null,null,null,null,null,null,null,null,null,"Perdus",{"$f":"SUMIF($K$15:$K$351,Récapitulatif!$B$2,$E$15:$E$351)","v":36},{"$f":"IF(P$6+P$7>0,P7/(P$6+P$7),\"\")","v":0.46153846153846156},{"$f":"SUMIF($K$15:$K$351,Récapitulatif!$B$3,$E$15:$E$351)","v":70},{"$f":"IF(R$6+R$7>0,R7/(R$6+R$7),\"\")","v":0.40697674418604651},{"$f":"SUM($E$15:$E$351)","v":461},{"$f":"IF(T$6+T$7>0,T7/(T$6+T$7),\"\")","v":0.4550839091806515}]
["Récapitulatif joueurs",null,null,null,null,null,null,null,null,null,null,null,null,null,"Total",{"$f":"SUM(P6:P7)","v":78},null,{"$f":"SUM(R6:R7)","v":172},null,{"$f":"SUM(T6:T7)","v":1013}]
[]
[]
[]
[]
[]
[]
["Joueur","Adversaire","G/P","Sets gagnés","Sets perdus","pts marqués","pts subis","Date","Compétition","Phase","Saison"]
["MAILLE Bernard","REVAULT Cyril","P",0,2,96,120,"2008-10-10","National T1 MAISONS ALFORT","Préqualifs",{"$f":"IF(H16<>\"\",IF(MONTH(H16)>MoisRef,YEAR(H16)&\"-\"&YEAR(H16)+1,YEAR(H16)-1&\"-\"&YEAR(H16)),\"\")","v":"2008-2009"},null,null,null,null,{"$f":"IF($K16=P$1,COUNTIF($C16,\"G\"),0)","v":0},null,{"$f":"IF($K16=R$1,COUNTIF($C16,\"G\"),0)","v":0}]
["MAILLE Bernard","GUIBERT Philippe","G",2,1,170,165,"2008-10-10","National T1 MAISONS ALFORT","Préqualifs","2008-2009",null,null,null,null,0,null,0]
["MAILLE Bernard","LALANNE Marcel","G",2,1,174,135,"2008-10-10","National T1 MAISONS ALFORT","Préqualifs","2008-2009",null,null,null,null,0,null,0]
["MAILLE Bernard","LALANNE Marcel","G",3,1,229,156,"2008-10-11","National T1 MAISONS ALFORT","Qualifs promotion","2008-2009",null,null,null,null,0,null,0]
["MAILLE Bernard","GUIBERT Philippe","P",0,3,126,180,"2008-10-11","National T1 MAISONS ALFORT","Qualifs promotion","2008-2009",null,null,null,null,0,null,0]
["MAILLE Bernard","DEBRAY Alain","G",3,1,194,206,"2008-10-11","National T1 MAISONS ALFORT","Qualifs promotion","2008-2009",null,null,null,null,0,null,0]
["MAILLE Bernard","GUIBERT Philippe","G",3,1,194,181,"2008-10-12","National T1 MAISONS ALFORT","1/8 finale promotion","2008-2009",null,null,null,null,0,null,0]
["MAILLE Bernard","PERRIN Eric","P",0,3,126,180,"2008-10-12","National T1 MAISONS ALFORT","1/4 finale promotion","2008-2009",null,null,null,null,0,null,0]
["MAILLE Bernard","CHESNEAU Christophe","G",2,1,173,145,"2008-11-14","National T2 SCHILTIGHEIM","Préqualifs","2008-2009",null,null,null,null,0,null,0]
["MAILLE Bernard","DUVERNOY Christophe","G",2,1,179,121,"2008-11-14","National T2 SCHILTIGHEIM","Préqualifs","2008-2009",null,null,null,null,0,null,0]
["MAILLE Bernard","JACQ Laurent","G",2,1,166,129,"2008-11-14","National T2 SCHILTIGHEIM","Préqualifs","2008-2009",null,null,null,null,0,null,0]
["MAILLE Bernard","RIGAULT Jean-Lou","G",3,2,246,185,"2008-11-15","National T2 SCHILTIGHEIM","Qualifs promotion","2008-2009",null,null,null,null,0,null,0]
["MAILLE Bernard","JUBLOT Denis","P",2,3,212,282,"2008-11-15","National T2 SCHILTIGHEIM","Qualifs promotion","2008-2009",null,null,null,null,0,null,0]
["MAILLE Bernard","GANGLOFF Jean-Luc","G",3,1,219,156,"2008-11-15","National T2 SCHILTIGHEIM","Qualifs promotion","2008-2009",null,null,null,null,0,null,0]
["MAILLE Bernard","BOUVIER Philippe","P",0,3,128,180,"2008-11-16","National T2 SCHILTIGHEIM","1/8 finale promotion","2008-2009",null,null,null,null,0,null,0]
["MAILLE Bernard","VANNUCCI Emilio","P",1,2,139,170,"2008-12-12","National T3 ANNOEULLIN","Préqualifs","2008-2009",null,null,null,null,0,null,0]
["MAILLE Bernard","DELATTRE Hervé","G",2,1,137,141,"2008-12-12","National T3 ANNOEULLIN","Préqualifs","2008-2009",null,null,null,null,0,null,0]
["MAILLE Bernard","FERON Patrick","P",0,2,76,120,"2008-12-12","National T3 ANNOEULLIN","Préqualifs","2008-2009",null,null,null,null,0,null,0]
["MAILLE Bernard","MORALES Luis","G",3,1,234,195,"2008-12-13","National T3 ANNOEULLIN","Qualifs promotion","2008-2009",null,null,null,null,0,null,0]
["MAILLE Bernard","HERREBRECHT Thierry","P",2,3,249,241,"2008-12-13","National T3 ANNOEULLIN","Qualifs promotion","2008-2009",null,null,null,null,0,null,0]
["MAILLE Bernard","MORALES Luis","P",1,3,190,219,"2008-12-13","National T3 ANNOEULLIN","Qualifs promotion","2008-2009",null,null,null,null,0,null,0]
["MAILLE Bernard","GANGLOFF Jean-Luc","G",2,1,169,112,"2009-02-06","National T4 LAXOU","Préqualifs","2008-2009",null,null,null,null,0,null,0]
["MAILLE Bernard","DUVERNOY Christophe","P",0,2,37,120,"2009-02-06","National T4 LAXOU","Préqualifs","2008-2009",null,null,null,null,0,null,0]
["MAILLE Bernard","HERVELIN Gabriel","G",2,0,120,89,"2009-02-06","National T4 LAXOU","Préqualifs","2008-2009",null,null,null,null,0,null,0]
["MAILLE Bernard","EVENOU Roger","G",3,0,180,164,"2009-02-07","National T4 LAXOU","Qualifs promotion","2008-2009",null,null,null,null,0,null,0]
["MAILLE Bernard","ZACCAGNINI Antoine","G",3,2,236,267,"2009-02-07","National T4 LAXOU","Qualifs promotion","2008-2009",null,null,null,null,0,null,0]
["MAILLE Bernard","ZACCAGNINI Antoine","P",2,3,211,287,"2009-02-08","National T4 LAXOU","1/8 finale promotion","2008-2009",null,null,null,null,0,null,0]
["MAILLE Bernard","TRUQUET David","G",2,1,164,175,"2009-02-14","N1 Ligue T1 ARRAS","Poules","2008-2009",null,null,null,null,0,null,0]
["MAILLE Bernard","GEETS Patrice","G",2,1,171,130,"2009-02-14","N1 Ligue T1 ARRAS","Poules","2008-2009",null,null,null,null,0,null,0]
["MAILLE Bernard","WALLART Jean-Charles","P",1,2,144,157,"2009-02-14","N1 Ligue T1 ARRAS","1/4 Finale","2008-2009",null,null,null,null,0,null,0]
["MAILLE Bernard","SAINT-GEORGES Claude","P",1,2,156,149,"2009-03-07","N1 Ligue T2 ANNOEULLIN","Poules","2008-2009",null,null,null,null,0,null,0]
["MAILLE Bernard","CARPENTIER Yohanne","P",1,2,157,172,"2009-03-07","N1 Ligue T2 ANNOEULLIN","Poules","2008-2009",null,null,null,null,0,null,0]
["MAILLE Bernard","WALLART Jean-Charles","P",0,2,71,120,"2009-03-07","N1 Ligue T2 ANNOEULLIN","Poules Consolante",{"$f":"IF(H48<>\"\",IF(MONTH(H48)>MoisRef,YEAR(H48)&\"-\"&YEAR(H48)+1,YEAR(H48)-1&\"-\"&YEAR(H48)),\"\")","v":"2008-2009"},null,null,null,null,0,null,0]
["MAILLE Bernard","GEETS Patrice","G",2,0,120,60,"2009-03-07","N1 Ligue T2 ANNOEULLIN","Poules Consolante","2008-2009",null,null,null,null,0,null,0]
["MAILLE Bernard","SAINT-GEORGES Claude","P",0,2,95,120,"2009-03-20","National T5 ANDERNOS","Préqualifs","2008-2009",null,null,null,null,0,null,0]
["MAILLE Bernard","MARCHISSEAU Stéphane","P",1,2,136,168,"2009-03-20","National T5 ANDERNOS","Préqualifs","2008-2009",null,null,null,null,0,null,0]
["MAILLE Bernard","DAMONNEVILLE Blandine","G",2,0,120,61,"2009-03-20","National T5 ANDERNOS","Préqualifs","2008-2009",null,null,null,null,0,null,0]
["MAILLE Bernard","SCHUB Philippe","G",3,0,180,108,"2009-03-21","National T5 ANDERNOS","Qualifs promotion","2008-2009",null,null,null,null,0,null,0]
["MAILLE Bernard","MARCHISSEAU Stéphane","P",1,3,206,224,"2009-03-21","National T5 ANDERNOS","Qualifs promotion","2008-2009",null,null,null,null,0,null,0]
["MAILLE Bernard","SCHUB Philippe","G",3,1,221,179,"2009-03-21","National T5 ANDERNOS","Qualifs promotion","2008-2009",null,null,null,null,0,null,0]
["MAILLE Bernard","FOURRE Cédric","P",2,3,218,262,"2009-03-22","National T5 ANDERNOS","1/8 finale promotion","2008-2009",null,null,null,null,0,null,0]
["MAILLE Bernard","CLYNCKE Jean-Jacques","G",2,1,179,137,"2009-04-11","N1 Ligue T3 DUNKERQUE","Poules","2008-2009",null,null,null,null,0,null,0]
["MAILLE Bernard","LORTHIOIR Jean-Luc","G",2,0,120,61,"2009-04-11","N1 Ligue T3 DUNKERQUE","Poules","2008-2009",null,null,null,null,0,null,0]
["MAILLE Bernard","CLYNCKE Jean-Jacques","G",2,0,120,80,"2009-04-11","N1 Ligue T3 DUNKERQUE","1/4 Finale","2008-2009",null,null,null,null,0,null,0]
["MAILLE Bernard","HERREBRECHT Thierry","P",0,2,69,120,"2009-04-11","N1 Ligue T3 DUNKERQUE","1/2 Finale","2008-2009",null,null,null,null,0,null,0]
["MAILLE Bernard","DENIS Jean","G",2,0,120,111,"2009-04-17","National T6 CAUDAN","Préqualifs","2008-2009",null,null,null,null,0,null,0]
["MAILLE Bernard","DAVOINE Bruno","P",0,2,88,120,"2009-04-17","National T6 CAUDAN","Préqualifs","2008-2009",null,null,null,null,0,null,0]
["MAILLE Bernard","NEVEZ Jean-Jacques","G",2,0,120,66,"2009-04-17","National T6 CAUDAN","Préqualifs","2008-2009",null,null,null,null,0,null,0]
["MAILLE Bernard","EVENOU Marie-Antoinette","G",3,0,180,114,"2009-04-18","National T6 CAUDAN","Qualifs promotion","2008-2009",null,null,null,null,0,null,0]
["MAILLE Bernard","ROBIC Daniel","P",2,3,245,293,"2009-04-18","National T6 CAUDAN","Qualifs promotion","2008-2009",null,null,null,null,0,null,0]
["MAILLE Bernard","BASTENIER Jean","P",2,3,246,246,"2009-04-18","National T6 CAUDAN","Qualifs promotion","2008-2009",null,null,null,null,0,null,0]
["MAILLE Bernard","EVENOU Marie-Antoinette","G",2,0,120,78,"2009-11-06","National T1 SCHILTIGHEIM","Préqualifs","2009-2010",null,null,null,null,0,null,0]
["MAILLE Bernard","BAYON Pascal","P",0,2,92,120,"2009-11-06","National T1 SCHILTIGHEIM","Préqualifs","2009-2010",null,null,null,null,0,null,0]
["MAILLE Bernard","DENIS Patrick","P",0,2,66,120,"2009-11-06","National T1 SCHILTIGHEIM","Préqualifs","2009-2010",null,null,null,null,0,null,0]
["MAILLE Bernard","DAVOINE Bruno","P",2,3,216,292,"2009-11-07","National T1 SCHILTIGHEIM","Qualifs promotion","2009-2010",null,null,null,null,0,null,0]
["MAILLE Bernard","MARTEL Jean-Pierre","G",3,2,268,253,"2009-11-07","National T1 SCHILTIGHEIM","Qualifs promotion","2009-2010",null,null,null,null,0,null,0]
["MAILLE Bernard","DAVOINE Bruno","G",3,2,267,262,"2009-11-07","National T1 SCHILTIGHEIM","Qualifs promotion","2009-2010",null,null,null,null,0,null,0]
["MAILLE Bernard","PAU Mariano","P",2,3,262,288,"2009-11-08","National T1 SCHILTIGHEIM","1/8 finale promotion","2009-2010",null,null,null,null,0,null,0]
["MAILLE Bernard","MARTEL Bruno","G",2,0,120,85,"2009-11-21","N1 Ligue T1 GRAVELINES","Poules","2009-2010",null,null,null,null,0,null,0]
["MAILLE Bernard","CLYNCKE Jean-Jacques","G",2,0,120,81,"2009-11-21","N1 Ligue T1 GRAVELINES","Poules","2009-2010",null,null,null,null,0,null,0]
["MAILLE Bernard","WALLART Jean-Charles","G",2,1,171,144,"2009-11-21","N1 Ligue T1 GRAVELINES","1/4 Finale","2009-2010",null,null,null,null,0,null,0]
["MAILLE Bernard","LAMBIASE Guiseppe","P",0,2,57,120,"2009-11-21","N1 Ligue T1 GRAVELINES","1/2 Finale","2009-2010",null,null,null,null,0,null,0]
["MAILLE Bernard","ALEXANDRE Michel","G",2,0,120,23,"2009-12-04","National T2 ANNOEULLIN","Préqualifs","2009-2010",null,null,null,null,0,null,0]
["MAILLE Bernard","DEBRAY Alain","G",2,1,174,162,"2009-12-04","National T2 ANNOEULLIN","Préqualifs","2009-2010",null,null,null,null,0,null,0]
["MAILLE Bernard","DELEPIERRE Patrick","G",2,0,120,48,"2009-12-04","National T2 ANNOEULLIN","Préqualifs",{"$f":"IF(H80<>\"\",IF(MONTH(H80)>MoisRef,YEAR(H80)&\"-\"&YEAR(H80)+1,YEAR(H80)-1&\"-\"&YEAR(H80)),\"\")","v":"2009-2010"},null,null,null,null,{"$f":"IF($K80=P$1,COUNTIF($C80,\"G\"),0)","v":0},null,{"$f":"IF($K80=R$1,COUNTIF($C80,\"G\"),0)","v":0}]
["MAILLE Bernard","HINGANT Matthieu","P",0,3,59,180,"2009-12-05","National T2 ANNOEULLIN","Qualifs Masters","2009-2010",null,null,null,null,0,null,0]
["MAILLE Bernard","BAYON Pascal","G",3,1,218,189,"2009-12-05","National T2 ANNOEULLIN","Qualifs Masters","2009-2010",null,null,null,null,0,null,0]
["MAILLE Bernard","HINGANT Matthieu","P",0,3,99,180,"2009-12-05","National T2 ANNOEULLIN","Qualifs Masters","2009-2010",null,null,null,null,0,null,0]
["MAILLE Bernard","LHERMITTE Cédric","P",1,2,106,170,"2009-12-19","N1 Ligue T2 ANNOEULLIN","Poules","2009-2010",null,null,null,null,0,null,0]
["MAILLE Bernard","CLYNCKE Jean-Jacques","G",2,0,120,72,"2009-12-19","N1 Ligue T2 ANNOEULLIN","Poules","2009-2010",null,null,null,null,0,null,0]
["MAILLE Bernard","MARTEL Jean-Pierre","G",2,0,120,56,"2009-12-19","N1 Ligue T2 ANNOEULLIN","Poules Consolante","2009-2010",null,null,null,null,0,null,0]
["MAILLE Bernard","DEROLEZ Jean-Pierre","G",2,0,120,97,"2009-12-19","N1 Ligue T2 ANNOEULLIN","Poules Consolante","2009-2010",null,null,null,null,0,null,0]
["MAILLE Bernard","LORTHIOIR Jean-Luc","P",1,2,152,149,"2010-01-16","N1 Ligue T3 ANNOEULLIN","Poules","2009-2010",null,null,null,null,0,null,0]
["MAILLE Bernard","TURPIN Laurent","G",2,0,120,93,"2010-01-16","N1 Ligue T3 ANNOEULLIN","Poules","2009-2010",null,null,null,null,0,null,0]
["MAILLE Bernard","GREMAIN Gino","P",1,2,143,158,"2010-01-16","N1 Ligue T3 ANNOEULLIN","1/4 Finale","2009-2010",null,null,null,null,0,null,0]
["MAILLE Bernard","MARTEL Jean-Pierre","G",2,0,120,53,"2010-01-29","National T3 ORLEANS","Préqualifs","2009-2010",null,null,null,null,0,null,0]
["MAILLE Bernard","REBELO Joaquim","P",0,2,68,120,"2010-01-29","National T3 ORLEANS","Préqualifs","2009-2010",null,null,null,null,0,null,0]
["MAILLE Bernard","DAMONNEVILLE Blandine","G",2,0,120,41,"2010-01-29","National T3 ORLEANS","Préqualifs","2009-2010",null,null,null,null,0,null,0]
["MAILLE Bernard","ROUBY Jean-Chistophe","G",3,0,180,103,"2010-01-30","National T3 ORLEANS","Qualifs promotion","2009-2010",null,null,null,null,0,null,0]
["MAILLE Bernard","MICHELOTTI Francesco","P",0,3,89,180,"2010-01-30","National T3 ORLEANS","Qualifs promotion","2009-2010",null,null,null,null,0,null,0]
["MAILLE Bernard","JACQ Laurent","G",3,0,180,136,"2010-01-30","National T3 ORLEANS","Qualifs promotion","2009-2010",null,null,null,null,0,null,0]
["MAILLE Bernard","TRIFAULT Amand","P",2,3,230,251,"2010-01-31","National T3 ORLEANS","1/8 finale promotion","2009-2010",null,null,null,null,0,null,0]
["MAILLE Bernard","DELSOL Philippe","P",1,2,123,153,"2009-05-09","Finale Ligue N1 ANNOEULLIN","Poules","2008-2009",null,null,null,null,0,null,0]
["MAILLE Bernard","HERREBRECHT Thierry","P",0,2,72,120,"2009-05-09","Finale Ligue N1 ANNOEULLIN","Poules","2008-2009",null,null,null,null,0,null,0]
["MAILLE Bernard","WALLART Jean-Charles","G",3,0,180,150,"2009-05-09","Finale Ligue N1 ANNOEULLIN","5ème/6ème place","2008-2009",null,null,null,null,0,null,0]
["MAILLE Bernard","SKORDILIS Christo","G",2,0,120,109,"2010-02-20","N1 Ligue T4 DOUAI","Poules","2009-2010",null,null,null,null,0,null,0]
["MAILLE Bernard","SAINT-GEORGES Claude","G",2,1,170,148,"2010-02-20","N1 Ligue T4 DOUAI","Poules","2009-2010",null,null,null,null,0,null,0]
["MAILLE Bernard","WALLART Jean-Charles","G",2,0,120,62,"2010-02-20","N1 Ligue T4 DOUAI","1/8 Finale","2009-2010",null,null,null,null,0,null,0]
["MAILLE Bernard","GUILLEMANT David","P",1,2,133,163,"2010-02-20","N1 Ligue T4 DOUAI","1/4 Finale","2009-2010",null,null,null,null,0,null,0]
["MAILLE Bernard","MARTEL Jean-Pierre","G",2,0,120,53,"2010-01-29","National T3 ORLEANS","Préqualifs","2009-2010",null,null,null,null,0,null,0]
["MAILLE Bernard","REBELO Joaquim","P",0,2,68,120,"2010-01-29","National T3 ORLEANS","Préqualifs","2009-2010",null,null,null,null,0,null,0]
["MAILLE Bernard","DAMONNEVILLE Blandine","G",2,0,120,41,"2010-01-29","National T3 ORLEANS","Préqualifs","2009-2010",null,null,null,null,0,null,0]
["MAILLE Bernard","ROUBY Jean-Chistophe","G",3,0,180,103,"2010-01-30","National T3 ORLEANS","Qualifs promotion","2009-2010",null,null,null,null,0,null,0]
["MAILLE Bernard","MICHELOTTI Francesco","P",0,3,89,180,"2010-01-30","National T3 ORLEANS","Qualifs promotion","2009-2010",null,null,null,null,0,null,0]
["MAILLE Bernard","JACQ Laurent","G",3,0,180,136,"2010-01-30","National T3 ORLEANS","Qualifs promotion","2009-2010",null,null,null,null,0,null,0]
["MAILLE Bernard","TRIFAULT Amand","P",2,3,230,251,"2010-01-31","National T3 ORLEANS","1/8 finale promotion","2009-2010",null,null,null,null,0,null,0]
["MAILLE Bernard","DUROYON Didier","P",0,2,98,120,"2010-02-26","National T4 ROUEN","Préqualifs","2009-2010",null,null,null,null,0,null,0]
["MAILLE Bernard","PERRIN Eric","P",0,2,28,120,"2010-02-26","National T4 ROUEN","Préqualifs","2009-2010",null,null,null,null,0,null,0]
["MAILLE Bernard","KERCRET Geneviève","G",2,0,120,52,"2010-02-26","National T4 ROUEN","Préqualifs","2009-2010",null,null,null,null,0,null,0]
["MAILLE Bernard","DUROYON Didier","G",3,1,224,149,"2010-02-27","National T4 ROUEN","Qualifs promotion","2009-2010",null,null,null,null,0,null,0]
["MAILLE Bernard","JUBLOT Denis","P",2,3,225,250,"2010-02-27","National T4 ROUEN","Qualifs promotion","2009-2010",null,null,null,null,0,null,0]
["MAILLE Bernard","DELATTRE Hervé","G",3,0,180,106,"2010-02-27","National T4 ROUEN","Qualifs promotion","2009-2010",null,null,null,null,0,null,0]
["MAILLE Bernard","HERREBRECHT Thierry","P",1,3,188,239,"2010-02-28","National T4 ROUEN","1/8 finale promotion","2009-2010",null,null,null,null,0,null,0]
["MAILLE Bernard","RETIF Jérôme","G",2,0,120,51,"2010-03-26","National T5 ST SEBASTIEN / LOIRE","Préqualifs","2009-2010",null,null,null,null,0,null,0]
["MAILLE Bernard","SORTAIS Claude","G",2,0,120,99,"2010-03-26","National T5 ST SEBASTIEN / LOIRE","Préqualifs","2009-2010",null,null,null,null,0,null,0]
["MAILLE Bernard","EVENOU Marie-Antoinette","G",2,0,120,64,"2010-03-26","National T5 ST SEBASTIEN / LOIRE","Préqualifs","2009-2010",null,null,null,null,0,null,0]
["MAILLE Bernard","HINGANT Matthieu","P",0,3,103,180,"2010-03-27","National T5 ST SEBASTIEN / LOIRE","Qualifs Masters","2009-2010",null,null,null,null,0,null,0]
["MAILLE Bernard","MICHELOTTI Francesco","P",1,3,183,235,"2010-03-27","National T5 ST SEBASTIEN / LOIRE","Qualifs Masters","2009-2010",null,null,null,null,0,null,0]
["MAILLE Bernard","GEETS Patrice","P",1,3,176,206,"2010-04-18","Finale Ligue N1 ANNOEULLIN","Poules","2009-2010",null,null,null,null,0,null,0]
["MAILLE Bernard","LAMBIASE Guiseppe","P",0,3,84,180,"2010-04-18","Finale Ligue N1 ANNOEULLIN","Poules","2009-2010",null,null,null,null,0,null,0]
["MAILLE Bernard","WALLART Jean-Charles","P",2,3,180,252,"2010-04-24","Finale Ligue N1 ANNOEULLIN","5ème/6ème place","2009-2010",null,null,null,null,0,null,0]
["MAILLE Bernard","DAMONNEVILLE Blandine","G",2,0,120,35,"2010-04-23","National T6 ANDERNOS","Préqualifs","2009-2010",null,null,null,null,0,null,0]
["MAILLE Bernard","ZILLIG Pierre","P",1,2,139,174,"2010-04-23","National T6 ANDERNOS","Préqualifs","2009-2010",null,null,null,null,0,null,0]
["MAILLE Bernard","EVENOU Marie-Antoinette","G",2,0,120,59,"2010-04-23","National T6 ANDERNOS","Préqualifs","2009-2010",null,null,null,null,0,null,0]
["MAILLE Bernard","ANE Bernard","G",3,0,180,138,"2010-04-24","National T6 ANDERNOS","Qualifs promotion","2009-2010",null,null,null,null,0,null,0]
["MAILLE Bernard","DARMENTE Jean-Claude","P",1,3,194,230,"2010-04-24","National T6 ANDERNOS","Qualifs promotion","2009-2010",null,null,null,null,0,null,0]
["MAILLE Bernard","LORTHIOIR Jean-Luc","G",3,0,180,111,"2010-04-24","National T6 ANDERNOS","Qualifs promotion","2009-2010",null,null,null,null,0,null,0]
["MAILLE Bernard","JUBLOT Denis","P",2,3,239,227,"2010-04-25","National T6 ANDERNOS","1/8 finale promotion","2009-2010",null,null,null,null,0,null,0]
["MAILLE Bernard","DELSOL Philippe","P",0,3,79,180,"2010-05-15","National BLOIS","Qualifications","2009-2010",null,null,null,null,0,null,0]
["MAILLE Bernard","MICHELOTTI Francesco","P",1,3,184,217,"2010-05-15","National BLOIS","Qualifications","2009-2010",null,null,null,null,0,null,0]
["MAILLE Bernard","GUILLEMANT David","P",1,3,178,237,"2010-05-15","National BLOIS","Qualifications","2009-2010",null,null,null,null,0,null,0]
["MAILLE Bernard","LORTHIOIR Jean-Luc","G",2,0,120,80,"2010-10-07","National T1 CESTAS","Préqualifs","2010-2011",null,null,null,null,0,null,0]
["MAILLE Bernard","GUIBERT Philippe","G",2,1,146,161,"2010-10-07","National T1 CESTAS","Préqualifs","2010-2011",null,null,null,null,0,null,0]
["MAILLE Bernard","DOUGNAC Nathalie","G",2,1,178,114,"2010-10-07","National T1 CESTAS","Préqualifs","2010-2011",null,null,null,null,0,null,0]
["MAILLE Bernard","DUVERNOY Christophe","G",3,1,206,158,"2010-10-08","National T1 CESTAS","Qualifs Masters","2010-2011",null,null,null,null,0,null,0]
["MAILLE Bernard","DAVID Nicolas","P",0,3,107,180,"2010-10-08","National T1 CESTAS","Qualifs Masters","2010-2011",null,null,null,null,0,null,0]
["MAILLE Bernard","GUILLEMANT David","P",2,3,250,264,"2010-10-08","National T1 CESTAS","Qualifs Masters","2010-2011",null,null,null,null,0,null,0]
["MAILLE Bernard","VANNUCCI Emilio","G",2,1,163,151,"2010-10-16","N1 Ligue T1 DOUAI","Poules","2010-2011",null,null,null,null,0,null,0]
["MAILLE Bernard","RACARY Thibault","P",0,2,33,120,"2010-10-16","N1 Ligue T1 DOUAI","Poules","2010-2011",null,null,null,null,{"$f":"IF($K144=P$1,COUNTIF($C144,\"G\"),0)","v":0},null,{"$f":"IF($K144=R$1,COUNTIF($C144,\"G\"),0)","v":0}]
["MAILLE Bernard","MARTEL Jean-Pierre","G",2,0,120,103,"2010-10-16","N1 Ligue T1 DOUAI","Poules Consolante","2010-2011",null,null,null,null,{"$f":"IF($K145=P$1,COUNTIF($C145,\"G\"),0)","v":0},null,{"$f":"IF($K145=R$1,COUNTIF($C145,\"G\"),0)","v":0}]
["MAILLE Bernard","MARTEL Jean-Pierre","P",1,2,142,161,"2010-10-16","N1 Ligue T1 DOUAI","Poules Consolante","2010-2011",null,null,null,null,{"$f":"IF($K146=P$1,COUNTIF($C146,\"G\"),0)","v":0},null,{"$f":"IF($K146=R$1,COUNTIF($C146,\"G\"),0)","v":0}]
["MAILLE Bernard","FAUCOMPREZ Didier","G",2,1,169,144,"2010-10-16","N1 Ligue T1 DOUAI","1/2 Finale Consolante","2010-2011",null,null,null,null,{"$f":"IF($K147=P$1,COUNTIF($C147,\"G\"),0)","v":0},null,{"$f":"IF($K147=R$1,COUNTIF($C147,\"G\"),0)","v":0}]
["MAILLE Bernard","DEROLEZ Jean-Pierre","G",2,0,120,48,"2010-11-13","N1 Ligue T2 FACHES THUMESNIL","Poules","2010-2011",null,null,null,null,{"$f":"IF($K148=P$1,COUNTIF($C148,\"G\"),0)","v":0},null,{"$f":"IF($K148=R$1,COUNTIF($C148,\"G\"),0)","v":0}]
["MAILLE Bernard","VANNUCCI Emilio","G",2,0,120,85,"2010-11-13","N1 Ligue T2 FACHES THUMESNIL","Poules","2010-2011",null,null,null,null,0,null,0]
["MAILLE Bernard","HORNAIN Denis","G",2,1,135,113,"2010-11-13","N1 Ligue T2 FACHES THUMESNIL","1/4 Finale","2010-2011",null,null,null,null,0,null,0]
["MAILLE Bernard","SAINT-GEORGES Claude","P",0,2,86,120,"2010-11-13","N1 Ligue T2 FACHES THUMESNIL","1/2 Finale","2010-2011",null,null,null,null,0,null,0]
["MAILLE Bernard","J. BLANC","G",2,0,120,56,"2010-11-05","National T2 LAXOU","Préqualifs","2010-2011",null,null,null,null,0,null,0]
["MAILLE Bernard","LORTHIOIR Jean-Luc","G",2,1,174,123,"2010-11-05","National T2 LAXOU","Préqualifs","2010-2011",null,null,null,null,0,null,0]
["MAILLE Bernard","EVENOU Marie-Antoinette","G",2,0,120,26,"2010-11-05","National T2 LAXOU","Préqualifs","2010-2011",null,null,null,null,0,null,0]
["MAILLE Bernard","DAVID Nicolas","P",0,3,132,180,"2010-11-06","National T2 LAXOU","Qualifs Masters","2010-2011",null,null,null,null,0,null,0]
["MAILLE Bernard","FOURRE Cédric","P",1,3,137,227,"2010-11-06","National T2 LAXOU","Qualifs Masters","2010-2011",null,null,null,null,0,null,0]
["MAILLE Bernard","ESTERMANS Bernard","P",1,2,160,176,"2010-12-11","N1 Ligue T3 GRAVELINES","Poules","2010-2011",null,null,null,null,0,null,0]
["MAILLE Bernard","VEREECQUE Ludovic","G",2,0,120,68,"2010-12-11","N1 Ligue T3 GRAVELINES","Poules","2010-2011",null,null,null,null,0,null,0]
["MAILLE Bernard","LHERMITTE Cédric","P",0,2,83,120,"2010-12-11","N1 Ligue T3 GRAVELINES","1/4 Finale","2010-2011",null,null,null,null,0,null,0]
["MAILLE Bernard","GUILLEMANT Jean-Marc","G",2,0,120,70,"2010-12-03","National T3 FACHES THUMESNIL - RONCHIN","Préqualifs","2010-2011",null,null,null,null,0,null,0]
["MAILLE Bernard","VANNUCCI Emilio","P",1,2,167,148,"2010-12-03","National T3 FACHES THUMESNIL - RONCHIN","Préqualifs","2010-2011",null,null,null,null,0,null,0]
["MAILLE Bernard","POULEYN André","G",2,0,120,80,"2010-12-03","National T3 FACHES THUMESNIL - RONCHIN","Préqualifs","2010-2011",null,null,null,null,0,null,0]
["MAILLE Bernard","WEBER Thierry","G",3,0,180,144,"2010-12-04","National T3 FACHES THUMESNIL - RONCHIN","Qualifs promotion","2010-2011",null,null,null,null,0,null,0]
["MAILLE Bernard","LHERMITTE Cédric","G",3,1,222,170,"2010-12-04","National T3 FACHES THUMESNIL - RONCHIN","Qualifs promotion","2010-2011",null,null,null,null,0,null,0]
["MAILLE Bernard","GEETS Patrice","P",2,3,252,256,"2010-12-05","National T3 FACHES THUMESNIL - RONCHIN","1/8 finale promotion","2010-2011",null,null,null,null,0,null,0]
["MAILLE Bernard","KAYA Turgul","G",2,0,120,102,"2011-01-15","N1 Ligue T4 DIVION","Poules","2010-2011",null,null,null,null,0,null,0]
["MAILLE Bernard","SKORDILIS Christo","P",0,2,113,120,"2011-01-15","N1 Ligue T4 DIVION","Poules","2010-2011",null,null,null,null,0,null,0]
["MAILLE Bernard","CAUX Frédéric","G",2,1,140,128,"2011-01-15","N1 Ligue T4 DIVION","Poules Consolante","2010-2011",null,null,null,null,0,null,0]
["MAILLE Bernard","CAUX Frédéric","G",2,0,120,99,"2011-01-15","N1 Ligue T4 DIVION","Poules Consolante","2010-2011",null,null,null,null,0,null,0]
["MAILLE Bernard","FAUCOMPREZ Didier","P",0,2,59,120,"2011-01-15","N1 Ligue T4 DIVION","1/2 Finale Consolante","2010-2011",null,null,null,null,0,null,0]
["MAILLE Bernard","DEVARENNE Rudy","G",2,1,148,110,"2011-02-11","National T4 ROUEN","Préqualifs","2010-2011",null,null,null,null,0,null,0]
["MAILLE Bernard","SCHUB Philippe","G",2,1,165,159,"2011-02-11","National T4 ROUEN","Préqualifs","2010-2011",null,null,null,null,0,null,0]
["MAILLE Bernard","ELUECQUE Philippe","G",2,0,120,56,"2011-02-11","National T4 ROUEN","Préqualifs","2010-2011",null,null,null,null,0,null,0]
["MAILLE Bernard","NAHIRNYJ Nicolas","G",3,0,180,100,"2011-02-12","National T4 ROUEN","Qualifs promotion","2010-2011",null,null,null,null,0,null,0]
["MAILLE Bernard","WALLART Jean-Charles","P",2,3,225,273,"2011-02-12","National T4 ROUEN","Qualifs promotion","2010-2011",null,null,null,null,0,null,0]
["MAILLE Bernard","DERIU Georges","G",3,2,267,253,"2011-02-12","National T4 ROUEN","Qualifs promotion","2010-2011",null,null,null,null,0,null,0]
["MAILLE Bernard","SORTAIS Claude","P",2,3,219,292,"2011-02-13","National T4 ROUEN","1/8 finale promotion","2010-2011",null,null,null,null,0,null,0]
["MAILLE Bernard","LECLAIRE Michel","G",2,0,120,76,"2011-03-25","National T5 BLOIS","Préqualifs","2010-2011",null,null,null,null,0,null,0]
["MAILLE Bernard","BASTENIER Jean","G",2,0,120,69,"2011-03-25","National T5 BLOIS","Préqualifs","2010-2011",null,null,null,null,0,null,0]
["MAILLE Bernard","ROBIC Daniel","P",1,2,171,178,"2011-03-25","National T5 BLOIS","Préqualifs","2010-2011",null,null,null,null,0,null,0]
["MAILLE Bernard","EVENOU Roger","G",3,2,272,191,"2011-03-26","National T5 BLOIS","Qualifs promotion","2010-2011",null,null,null,null,0,null,0]
["MAILLE Bernard","FAUCOMPREZ Didier","P",2,3,263,238,"2011-03-26","National T5 BLOIS","Qualifs promotion","2010-2011",null,null,null,null,0,null,0]
["MAILLE Bernard","CLYNCKE Jean-Jacques","P",2,3,266,244,"2011-03-26","National T5 BLOIS","Qualifs promotion","2010-2011",null,null,null,null,0,null,0]
["MAILLE Bernard","GUILLEMANT Jean-Marc","G",2,0,120,77,"2011-04-15","National T6 CHAMPAGNE sur SEINE / NANDY","Préqualifs","2010-2011",null,null,null,null,0,null,0]
["MAILLE Bernard","BRETEL Gérard","G",2,1,163,158,"2011-04-15","National T6 CHAMPAGNE sur SEINE / NANDY","Préqualifs","2010-2011",null,null,null,null,0,null,0]
["MAILLE Bernard","GOUTHIER Alain","G",2,1,178,105,"2011-04-15","National T6 CHAMPAGNE sur SEINE / NANDY","Préqualifs","2010-2011",null,null,null,null,0,null,0]
["MAILLE Bernard","JUBLOT Maxime","P",1,3,190,229,"2011-04-16","National T6 CHAMPAGNE sur SEINE / NANDY","Qualifs Masters","2010-2011",null,null,null,null,0,null,0]
["MAILLE Bernard","MORALES Luis","P",0,3,92,180,"2011-04-16","National T6 CHAMPAGNE sur SEINE / NANDY","Qualifs Masters","2010-2011",null,null,null,null,0,null,0]
["MAILLE Bernard","BAYON Pascal","P",2,3,229,243,"2011-05-14","National SCHILTIGHEIM","Qualifs","2010-2011",null,null,null,null,0,null,0]
["MAILLE Bernard","MICHELOTTI Francesco","P",0,3,126,180,"2011-05-14","National SCHILTIGHEIM","Qualifs","2010-2011",null,null,null,null,0,null,0]
["MAILLE Bernard","DUPONT Fabrice","P",0,3,137,180,"2011-05-14","National SCHILTIGHEIM","Qualifs","2010-2011",null,null,null,null,0,null,0]
["MAILLE Bernard","ALEXANDRE Michel","G",2,1,173,108,"2011-09-30","National T1 CESTAS","Préqualifs","2011-2012",null,null,null,null,0,null,0]
["MAILLE Bernard","GANGLOFF Jean-Luc","G",2,0,120,80,"2011-09-30","National T1 CESTAS","Préqualifs","2011-2012",null,null,null,null,0,null,0]
["MAILLE Bernard","KERCRET Geneviève","G",2,0,120,28,"2011-09-30","National T1 CESTAS","Préqualifs","2011-2012",null,null,null,null,0,null,0]
["MAILLE Bernard","HINGANT Matthieu","P",1,3,182,236,"2011-10-01","National T1 CESTAS","Qualifs Masters","2011-2012",null,null,null,null,0,null,0]
["MAILLE Bernard","TIRALONGO Sébastien","P",0,3,151,180,"2011-10-01","National T1 CESTAS","Qualifs Masters","2011-2012",null,null,null,null,0,null,0]
["MAILLE Bernard","RACARY Thibault","P",0,2,83,120,"2011-11-19","N1 Ligue T2 DOUAI","Poules","2011-2012",null,null,null,null,0,null,0]
["MAILLE Bernard","RACARY Thibault","P",0,2,54,120,"2011-11-19","N1 Ligue T2 DOUAI","Poules","2011-2012",null,null,null,null,0,null,0]
["MAILLE Bernard","KAYA Turgul","G",2,0,120,91,"2011-11-19","N1 Ligue T2 DOUAI","1/8 Finale","2011-2012",null,null,null,null,0,null,0]
["MAILLE Bernard","HERREBRECHT Thierry","P",0,2,93,120,"2011-11-19","N1 Ligue T2 DOUAI","1/4 Finale","2011-2012",null,null,null,null,0,null,0]
["MAILLE Bernard","RIGAULT Jean-Lou","G",2,1,177,91,"2011-11-04","National T2 SCHILTIGHEIM","Préqualifs","2011-2012",null,null,null,null,0,null,0]
["MAILLE Bernard","MORALES Luis","P",0,2,54,120,"2011-11-04","National T2 SCHILTIGHEIM","Préqualifs","2011-2012",null,null,null,null,0,null,0]
["MAILLE Bernard","LHEUREUX François","P",0,2,65,120,"2011-11-04","National T2 SCHILTIGHEIM","Préqualifs","2011-2012",null,null,null,null,0,null,0]
["MAILLE Bernard","CLYNCKE Jean-Jacques","G",3,0,180,114,"2011-11-05","National T2 SCHILTIGHEIM","Qualifs promotion","2011-2012",null,null,null,null,0,null,0]
["MAILLE Bernard","DUROYON Didier","G",3,2,251,266,"2011-11-05","National T2 SCHILTIGHEIM","Qualifs promotion","2011-2012",null,null,null,null,0,null,0]
["MAILLE Bernard","DELATTRE Hervé","G",3,0,180,103,"2011-11-06","National T2 SCHILTIGHEIM","1/8 finale promotion","2011-2012",null,null,null,null,0,null,0]
["MAILLE Bernard","COTTEN Jean-Pierre","P",2,3,196,277,"2011-11-06","National T2 SCHILTIGHEIM","1/4 finale promotion","2011-2012",null,null,null,null,0,null,0]
["MAILLE Bernard","PICOT Sylvain","P",0,2,95,120,"2011-12-02","National T3 ANNOEULLIN","Préqualifs","2011-2012",null,null,null,null,0,null,0]
["MAILLE Bernard","DUROYON Didier","G",2,0,120,72,"2011-12-02","National T3 ANNOEULLIN","Préqualifs","2011-2012",null,null,null,null,0,null,0]
["MAILLE Bernard","EVENOU Marie-Antoinette","G",2,0,120,60,"2011-12-02","National T3 ANNOEULLIN","Préqualifs","2011-2012",null,null,null,null,0,null,0]
["MAILLE Bernard","GUIBERT Philippe","P",2,3,240,254,"2011-12-03","National T3 ANNOEULLIN","Qualifs promotion","2011-2012",null,null,null,null,0,null,0]
["MAILLE Bernard","DELATTRE Hervé","G",3,1,213,170,"2011-12-03","National T3 ANNOEULLIN","Qualifs promotion","2011-2012",null,null,null,null,{"$f":"IF($K212=P$1,COUNTIF($C212,\"G\"),0)","v":0},null,{"$f":"IF($K212=R$1,COUNTIF($C212,\"G\"),0)","v":0}]
["MAILLE Bernard","SCHUB Philippe","P",1,3,167,216,"2011-12-03","National T3 ANNOEULLIN","Qualifs promotion","2011-2012",null,null,null,null,{"$f":"IF($K213=P$1,COUNTIF($C213,\"G\"),0)","v":0},null,{"$f":"IF($K213=R$1,COUNTIF($C213,\"G\"),0)","v":0}]
["MAILLE Bernard","BENJAMIN Eric","G",2,1,158,138,"2012-02-17","National T4 ORLEANS","Préqualifs","2011-2012",null,null,null,null,{"$f":"IF($K214=P$1,COUNTIF($C214,\"G\"),0)","v":0},null,{"$f":"IF($K214=R$1,COUNTIF($C214,\"G\"),0)","v":0}]
["MAILLE Bernard","MICHELOTTI Francesco","G",2,1,145,159,"2012-02-17","National T4 ORLEANS","Préqualifs","2011-2012",null,null,null,null,0,null,0]
["MAILLE Bernard","FONTAINE Isabelle","G",2,0,120,74,"2012-02-17","National T4 ORLEANS","Préqualifs","2011-2012",null,null,null,null,0,null,0]
["MAILLE Bernard","EVENOU Marie-Antoinette","G",3,2,265,196,"2012-02-18","National T4 ORLEANS","Qualifs promotion","2011-2012",null,null,null,null,0,null,0]
["MAILLE Bernard","LORTHIOIR Jean-Luc","G",3,1,233,175,"2012-02-18","National T4 ORLEANS","Qualifs promotion","2011-2012",null,null,null,null,0,null,0]
["MAILLE Bernard","DARMENTE Jean-Claude","G",3,0,180,117,"2012-02-19","National T4 ORLEANS","1/8 finale promotion","2011-2012",null,null,null,null,0,null,0]
["MAILLE Bernard","GUIBERT Philippe","P",2,3,218,250,"2012-02-19","National T4 ORLEANS","1/4 finale promotion","2011-2012",null,null,null,null,0,null,0]
["MAILLE Bernard","AUCLAIR Henri","G",2,0,120,63,"2012-03-16","National T5 L HAY LES ROSES","Préqualifs","2011-2012",null,null,null,null,0,null,0]
["MAILLE Bernard","GUIBERT Philippe","P",0,2,83,120,"2012-03-16","National T5 L HAY LES ROSES","Préqualifs","2011-2012",null,null,null,null,0,null,0]
["MAILLE Bernard","NAHIRNYJ Nicolas","G",2,1,150,159,"2012-03-16","National T5 L HAY LES ROSES","Préqualifs","2011-2012",null,null,null,null,0,null,0]
["MAILLE Bernard","POULEYN André","P",0,3,126,180,"2012-03-17","National T5 L HAY LES ROSES","Qualifs promotion","2011-2012",null,null,null,null,0,null,0]
["MAILLE Bernard","ALEXANDRE Michel","P",2,3,281,245,"2012-03-17","National T5 L HAY LES ROSES","Qualifs promotion","2011-2012",null,null,null,null,0,null,0]
["MAILLE Bernard","COTTEN Jean pierre","P",2,3,227,293,"2012-04-21","National ROUEN","Qualifs","2011-2012",null,null,null,null,0,null,0]
["MAILLE Bernard","PICOT Sylvain","P",2,3,229,281,"2012-04-21","National ROUEN","Qualifs","2011-2012",null,null,null,null,0,null,0]
["MAILLE Bernard","LORTHIOIR Jean-Luc","G",3,1,232,201,"2012-04-21","National ROUEN","Qualifs","2011-2012",null,null,null,null,0,null,0]
["MAILLE Bernard","ZEUDE Alain","G",1,0,100,15,"2012-10-13","N1 Ligue T1 ANNOEULLIN","Poules Consolante","2012-2013",null,null,null,null,0,null,0]
["MAILLE Bernard","HORNAIN Denis","G",1,0,100,42,"2012-10-13","N1 Ligue T1 ANNOEULLIN","Poules Consolante","2012-2013",null,null,null,null,0,null,0]
["MAILLE Bernard","DECONINCK Franky","G",1,0,100,50,"2012-10-15","N1 Ligue T1 ANNOEULLIN","Finale Consolante","2012-2013",null,null,null,null,0,null,0]
["MAILLE Bernard","GROLLET Fabien","P",1,2,159,164,"2012-10-13","N1 Ligue T1 ANNOEULLIN","Poules","2012-2013",null,null,null,null,0,null,0]
["MAILLE Bernard","DEROLEZ Jean-Pierre","P",0,2,65,120,"2012-10-13","N1 Ligue T1 ANNOEULLIN","Poules","2012-2013",null,null,null,null,0,null,0]
["MAILLE Bernard","LEMÂTRE Jérémy","G",2,0,120,74,"2012-11-24","N1 Ligue T3 CALAIS","Poules","2012-2013",null,null,null,null,0,null,0]
["MAILLE Bernard","RACARY Thibault","P",0,2,61,120,"2012-11-24","N1 Ligue T3 CALAIS","Poules","2012-2013",null,null,null,null,0,null,0]
["MAILLE Bernard","MARRONNIER Jean-Luc","G",1,0,100,48,"2012-11-24","N1 Ligue T3 CALAIS","Poules Consolante","2012-2013",null,null,null,null,0,null,0]
["MAILLE Bernard","MONFLIER Francis","G",1,0,100,59,"2012-11-24","N1 Ligue T3 CALAIS","Poules Consolante","2012-2013",null,null,null,null,0,null,0]
["MAILLE Bernard","GEETS Patrice","G",1,0,100,97,"2012-11-24","N1 Ligue T3 CALAIS","1/2 finale Consolante","2012-2013",null,null,null,null,0,null,0]
["MAILLE Bernard","ZEUDE Alain","G",1,0,100,44,"2012-11-24","N1 Ligue T3 CALAIS","Finale Consolante","2012-2013",null,null,null,null,0,null,0]
["MAILLE Bernard","DEROLEZ Jean-Pierre","G",2,0,120,74,"2012-12-15","N1 Ligue T4 VILLENEUVE D'ASCQ","Poules","2012-2013",null,null,null,null,0,null,0]
["MAILLE Bernard","LHERMITTE Cédric","G",2,0,120,35,"2012-12-15","N1 Ligue T4 VILLENEUVE D'ASCQ","Poules","2012-2013",null,null,null,null,0,null,0]
["MAILLE Bernard","CAUX Frédéric","G",2,0,120,27,"2012-12-15","N1 Ligue T4 VILLENEUVE D'ASCQ","1/4 Finale","2012-2013",null,null,null,null,0,null,0]
["MAILLE Bernard","LEMÂTRE Jérémy","P",1,2,118,178,"2012-12-15","N1 Ligue T4 VILLENEUVE D'ASCQ","1/2 Finale","2012-2013",null,null,null,null,0,null,0]
["MAILLE Bernard","DAVID Nicolas","P",1,3,181,186,"2012-10-05","National T1 BLOIS","Barrage Qualifs masters","2012-2013",null,null,null,null,0,null,0]
["MAILLE Bernard","DAVOINE Bruno","P",1,3,152,177,"2012-10-07","National T1 BLOIS","1/8 finale promotion","2012-2013",null,null,null,null,0,null,0]
["MAILLE Bernard","FOURRE Cédric","G",2,1,113,103,"2012-10-05","National T1 BLOIS","Préqualifs","2012-2013",null,null,null,null,0,null,0]
["MAILLE Bernard","FOURRE Cédric","G",3,2,228,210,"2012-10-06","National T1 BLOIS","Qualifs promotion","2012-2013",null,null,null,null,0,null,0]
["MAILLE Bernard","GOUSSETIS Georges","G",2,0,100,82,"2012-10-05","National T1 BLOIS","Préqualifs","2012-2013",null,null,null,null,0,null,0]
["MAILLE Bernard","PALOMBA Sergio","G",3,1,161,118,"2012-10-06","National T1 BLOIS","Qualifs promotion","2012-2013",null,null,null,null,0,null,0]
["MAILLE Bernard","SORTAIS Claude","G",2,0,100,64,"2012-10-05","National T1 BLOIS","Préqualifs","2012-2013",null,null,null,null,0,null,0]
["MAILLE Bernard","WEBER Thierry","G",3,2,208,172,"2012-10-06","National T1 BLOIS","Qualifs promotion","2012-2013",null,null,null,null,0,null,0]
["MAILLE Bernard","DERIU Georges","P",1,2,104,138,"2012-11-02","National T2 NANTES","Préqualifs","2012-2013",null,null,null,null,0,null,0]
["MAILLE Bernard","EVENOU Roger","G",2,1,131,80,"2012-11-02","National T2 NANTES","Préqualifs","2012-2013",null,null,null,null,0,null,0]
["MAILLE Bernard","KERCRET Geneviève","G",3,0,150,67,"2012-11-03","National T2 NANTES","Qualifs promotion","2012-2013",null,null,null,null,0,null,0]
["MAILLE Bernard","MICHELOTTI Francesco","P",1,2,99,137,"2012-11-02","National T2 NANTES","Préqualifs","2012-2013",null,null,null,null,0,null,0]
["MAILLE Bernard","PONTHIEUX Christian","P",1,3,149,180,"2012-11-03","National T2 NANTES","Qualifs promotion","2012-2013",null,null,null,null,0,null,0]
["MAILLE Bernard","TRIFAULT Amand","P",1,3,114,188,"2012-11-03","National T2 NANTES","Qualifs promotion","2012-2013",null,null,null,null,0,null,0]
["MAILLE Bernard","CAUX Frédéric","P",1,3,143,175,"2013-02-02","National T4 ROUEN","Qualifs promotion","2012-2013",null,null,null,null,0,null,0]
["MAILLE Bernard","DEMILLY Jean-Sébastien","P",0,2,74,100,"2013-02-01","National T4 ROUEN","Préqualifs","2012-2013",null,null,null,null,0,null,0]
["MAILLE Bernard","POULEYN André","G",2,1,142,114,"2013-02-01","National T4 ROUEN","Préqualifs","2012-2013",null,null,null,null,0,null,0]
["MAILLE Bernard","ROBIC Daniel","P",2,3,151,229,"2013-02-02","National T4 ROUEN","Qualifs promotion","2012-2013",null,null,null,null,0,null,0]
["MAILLE Bernard","ROBIN Jacques","G",2,0,100,57,"2013-02-01","National T4 ROUEN","Préqualifs","2012-2013",null,null,null,null,0,null,0]
["MAILLE Bernard","EVENOU Marie-Antoinette","G",3,0,150,117,"2013-03-09","National T5 LAXOU","Qualifs promotion","2012-2013",null,null,null,null,0,null,0]
["MAILLE Bernard","EVENOU Roger","G",2,0,100,34,"2013-03-08","National T5 LAXOU","Préqualifs","2012-2013",null,null,null,null,0,null,0]
["MAILLE Bernard","FRANCK Matthieu","P",1,2,123,136,"2013-03-08","National T5 LAXOU","Préqualifs","2012-2013",null,null,null,null,0,null,0]
["MAILLE Bernard","LHEUREUX François","P",2,3,217,219,"2013-03-09","National T5 LAXOU","Qualifs promotion","2012-2013",null,null,null,null,0,null,0]
["MAILLE Bernard","VICARY Marc","P",0,3,122,150,"2013-03-09","National T5 LAXOU","Qualifs promotion","2012-2013",null,null,null,null,0,null,0]
["MAILLE Bernard","ZACCAGNINI Antoine","G",2,0,100,59,"2013-03-08","National T5 LAXOU","Préqualifs","2012-2013",null,null,null,null,0,null,0]
["MAILLE BERNARD","RACARY THIBAULT","P",0,3,122,180,"2014-10-18","National T1 GRAVELINES","Qualifs Masters","2014-2015",null,null,null,null,0,null,0]
["MAILLE BERNARD","GUILLEMANT DAVID","P",0,3,129,180,"2014-10-18","National T1 GRAVELINES","Qualifs Masters","2014-2015",null,null,null,null,0,null,0]
["MAILLE Bernard","DEROLEZ Jean-Pierre","G",2,0,120,59,"2014-11-28","National T2 FACHES THUMESNIL - RONCHIN","Préqualifs","2014-2015",null,null,null,null,1,null,0]
["MAILLE Bernard","SAINT-GEORGES Claude","G",2,0,120,65,"2014-11-28","National T2 FACHES THUMESNIL - RONCHIN","Préqualifs","2014-2015",null,null,null,null,1,null,0]
["MAILLE Bernard","LEBOEUF Sylvain","P",0,2,89,120,"2014-11-28","National T2 FACHES THUMESNIL - RONCHIN","Préqualifs","2014-2015",null,null,null,null,0,null,0]
["MAILLE Bernard","POULEYN André","G",3,0,180,84,"2014-11-29","National T2 FACHES THUMESNIL - RONCHIN","Qualifs promotion","2014-2015",null,null,null,null,1,null,0]
["MAILLE Bernard","WALLART Jean-Charles","G",3,2,240,223,"2014-11-29","National T2 FACHES THUMESNIL - RONCHIN","Qualifs promotion","2014-2015",null,null,null,null,1,null,0]
["MAILLE Bernard","CAUX Frédéric","P",2,3,252,284,"2014-11-30","National T2 FACHES THUMESNIL - RONCHIN","1/8 finale promotion","2014-2015",null,null,null,null,0,null,0]
["MAILLE Bernard","EVENOU Roger","G",2,1,168,106,"2014-12-12","National T3 DOUARNENEZ","Préqualifs","2014-2015",null,null,null,null,1,null,0]
["MAILLE Bernard","VICARI Marc","G",2,1,151,139,"2014-12-12","National T3 DOUARNENEZ","Préqualifs","2014-2015",null,null,null,null,{"$f":"IF($K278=P$1,COUNTIF($C278,\"G\"),0)","v":1},null,{"$f":"IF($K278=R$1,COUNTIF($C278,\"G\"),0)","v":0}]
["MAILLE Bernard","LACROIX Sabine","G",2,0,120,74,"2014-12-12","National T3 DOUARNENEZ","Préqualifs","2014-2015",null,null,null,null,1,null,0]
["MAILLE Bernard","MANZOLI Angelo","P",2,3,228,290,"2014-12-13","National T3 DOUARNENEZ","Qualifs Masters","2014-2015",null,null,null,null,0,null,0]
["MAILLE Bernard","HERREBRECHT Thierry","P",0,3,152,180,"2014-12-13","National T3 DOUARNENEZ","Qualifs Masters","2014-2015",null,null,null,null,0,null,0]
["MAILLE Bernard","LACROIX Sabine","G",2,0,120,96,"2015-01-23","National T4 LAXOU","Préqualifs","2014-2015",null,null,null,null,1,null,0]
["MAILLE Bernard","MORMICHE Michel","G",2,1,158,156,"2015-01-23","National T4 LAXOU","Préqualifs","2014-2015",null,null,null,null,1,null,0]
["MAILLE Bernard","EVENOU Roger","G",2,0,120,44,"2015-01-23","National T4 LAXOU","Préqualifs","2014-2015",null,null,null,null,1,null,0]
["MAILLE Bernard","MANZOLI Angelo","P",0,3,121,180,"2015-01-24","National T4 LAXOU","Qualifs Masters","2014-2015",null,null,null,null,0,null,0]
["MAILLE Bernard","GUILLEMANT David","P",0,3,80,180,"2015-01-24","National T4 LAXOU","Qualifs Masters","2014-2015",null,null,null,null,0,null,0]
["MAILLE Bernard","DEROLEZ Jean-Pierre","G",2,0,120,78,"2015-03-20","National T5 SAINT QUENTIN","Préqualifs","2014-2015",null,null,null,null,1,null,0]
["MAILLE Bernard","MICHELOTTI Francesco","P",1,2,129,170,"2015-03-20","National T5 SAINT QUENTIN","Préqualifs","2014-2015",null,null,null,null,0,null,0]
["MAILLE Bernard","GHEVART Jean","G",2,1,151,148,"2015-03-20","National T5 SAINT QUENTIN","Préqualifs","2014-2015",null,null,null,null,1,null,0]
["MAILLE Bernard","LANUSSE Christophe","G",3,0,180,100,"2015-03-21","National T5 SAINT QUENTIN","Qualifs promotion","2014-2015",null,null,null,null,1,null,0]
["MAILLE Bernard","SACRE Jean-Yves","G",3,2,269,248,"2015-03-21","National T5 SAINT QUENTIN","Qualifs promotion","2014-2015",null,null,null,null,1,null,0]
["MAILLE Bernard","LORGE Thierry","G",3,0,180,151,"2015-03-22","National T5 SAINT QUENTIN","1/8 finale promotion","2014-2015",null,null,null,null,1,null,0]
["MAILLE Bernard","SACRE Jean-Yves","P",2,3,283,215,"2015-03-22","National T5 SAINT QUENTIN","1/4 finale promotion","2014-2015",null,null,null,null,0,null,0]
["MAILLE Bernard","MANTEN Paul","G",2,1,133,123,"2015-10-09","National T1 ROUEN","Préqualifs","2015-2016",null,null,null,null,0,null,1]
["MAILLE Bernard","PONTHIEUX Christian","P",0,2,108,120,"2015-10-09","National T1 ROUEN","Préqualifs","2015-2016",null,null,null,null,0,null,0]
["MAILLE Bernard","BOUREL Claude","G",2,0,120,57,"2015-10-09","National T1 ROUEN","Préqualifs","2015-2016",null,null,null,null,0,null,1]
["MAILLE Bernard","TREAL David","P",0,3,118,180,"2015-10-10","National T1 ROUEN","Qualifs promotion","2015-2016",null,null,null,null,0,null,0]
["MAILLE Bernard","CARREAU Sabrina","G",3,1,232,180,"2015-10-10","National T1 ROUEN","Qualifs promotion","2015-2016",null,null,null,null,0,null,1]
["MAILLE Bernard","PERRIN Eric","G",3,2,263,228,"2015-10-10","National T1 ROUEN","Qualifs promotion","2015-2016",null,null,null,null,0,null,1]
["MAILLE Bernard","RIMBOT Nicolas","P",1,3,168,225,"2015-10-11","National T1 ROUEN","1/8 finale promotion","2015-2016",null,null,null,null,0,null,0]
["MAILLE Bernard","CAUX Frédéric","G",2,1,166,148,"2015-11-13","National T2 DOUARNENEZ","Préqualifs","2015-2016",null,null,null,null,0,null,1]
["MAILLE Bernard","LANUSSE Christophe","G",2,0,120,57,"2015-11-13","National T2 DOUARNENEZ","Préqualifs","2015-2016",null,null,null,null,0,null,1]
["MAILLE Bernard","EVENOU Marie-Antoinette","G",2,0,120,81,"2015-11-13","National T2 DOUARNENEZ","Préqualifs","2015-2016",null,null,null,null,0,null,1]
["MAILLE Bernard","WEBER Lionel","G",3,1,227,175,"2015-11-14","National T2 DOUARNENEZ","Qualifs promotion","2015-2016",null,null,null,null,0,null,1]
["MAILLE Bernard","DEMILLY Jean-Sébastien","G",3,0,180,141,"2015-11-14","National T2 DOUARNENEZ","Qualifs promotion","2015-2016",null,null,null,null,0,null,1]
["MAILLE Bernard","RETIF Jérôme","G",3,1,207,134,"2015-11-15","National T2 DOUARNENEZ","1/8 finale promotion","2015-2016",null,null,null,null,0,null,1]
["MAILLE Bernard","RIMBOT Nicolas","P",0,3,142,180,"2015-11-15","National T2 DOUARNENEZ","1/4 finale promotion","2015-2016",null,null,null,null,0,null,0]
["MAILLE Bernard","LEBOEUF Sylvain","G",2,0,120,91,"2015-12-11","National T3 FACHES THUMESNIL - RONCHIN","Préqualifs","2015-2016",null,null,null,null,0,null,1]
["MAILLE Bernard","DEMILLY Jean-Sébastien","G",2,1,154,125,"2015-12-11","National T3 FACHES THUMESNIL - RONCHIN","Préqualifs","2015-2016",null,null,null,null,0,null,1]
["MAILLE Bernard","BONNEAU Benoît","G",2,0,120,43,"2015-12-11","National T3 FACHES THUMESNIL - RONCHIN","Préqualifs","2015-2016",null,null,null,null,0,null,1]
["MAILLE Bernard","MANZOLI Angelo","P",0,3,92,180,"2015-12-12","National T3 FACHES THUMESNIL - RONCHIN","Qualifs Masters","2015-2016",null,null,null,null,0,null,0]
["MAILLE Bernard","VIERA MAIA Arlindo","G",3,2,251,250,"2015-12-12","National T3 FACHES THUMESNIL - RONCHIN","Qualifs Masters","2015-2016",null,null,null,null,0,null,1]
["MAILLE Bernard","GUILLEMANT David","P",0,3,157,180,"2015-12-12","National T3 FACHES THUMESNIL - RONCHIN","Qualifs Masters","2015-2016",null,null,null,null,0,null,0]
["MAILLE Bernard","PAU Mariano","P",0,2,97,120,"2016-02-05","National T4 SCHILTIGHEIM","Préqualifs","2015-2016",null,null,null,null,0,null,0]
["MAILLE Bernard","BONGIOVANNI Giovanni","P",0,2,59,120,"2016-02-05","National T4 SCHILTIGHEIM","Préqualifs","2015-2016",null,null,null,null,0,null,0]
["MAILLE Bernard","GHEVART Jean","G",2,0,120,64,"2016-02-05","National T4 SCHILTIGHEIM","Préqualifs","2015-2016",null,null,null,null,0,null,1]
["MAILLE Bernard","LEBOEUF Sylvain","G",3,2,267,211,"2016-02-06","National T4 SCHILTIGHEIM","Qualifs promotion","2015-2016",null,null,null,null,0,null,1]
["MAILLE Bernard","BILLIARD Alain","G",3,0,180,147,"2016-02-06","National T4 SCHILTIGHEIM","Qualifs promotion","2015-2016",null,null,null,null,0,null,1]
["MAILLE Bernard","SAINT-GEORGES Claude","P",1,3,224,202,"2016-02-07","National T4 SCHILTIGHEIM","1/8 finale promotion","2015-2016",null,null,null,null,0,null,0]
["MAILLE Bernard","LACROIX Sabine","G",2,0,120,29,"2016-03-04","National T5 GRAVELINES","Préqualifs","2015-2016",null,null,null,null,0,null,1]
["MAILLE Bernard","LHEUREUX François","P",1,2,151,169,"2016-03-04","National T5 GRAVELINES","Préqualifs","2015-2016",null,null,null,null,0,null,0]
["MAILLE Bernard","BARBE Philippe","G",2,0,120,76,"2016-03-04","National T5 GRAVELINES","Préqualifs","2015-2016",null,null,null,null,0,null,1]
["MAILLE Bernard","LACROIX Sabine","G",3,0,180,99,"2016-03-05","National T5 GRAVELINES","Qualifs promotion","2015-2016",null,null,null,null,0,null,1]
["MAILLE Bernard","LHERMITTE Sylvain","G",3,0,180,102,"2016-03-05","National T5 GRAVELINES","Qualifs promotion","2015-2016",null,null,null,null,0,null,1]
["MAILLE Bernard","CLYNCKE Jean-Jacques","G",3,0,180,87,"2016-03-06","National T5 GRAVELINES","1/8 finale promotion","2015-2016",null,null,null,null,0,null,1]
["MAILLE Bernard","MICHELOTTI Francesco","G",3,2,266,257,"2016-03-06","National T5 GRAVELINES","1/4 finale promotion","2015-2016",null,null,null,null,0,null,1]
["MAILLE Bernard","LEMATRE Alexis","P",2,3,254,233,"2016-03-06","National T5 GRAVELINES","1/2 finale promotion","2015-2016",null,null,null,null,0,null,0]
["MAILLE Bernard","LECROART Serge","G",2,0,120,109,"2015-12-04","T1 LIGUE 5 QUILLES N1 - FACHES-THUMESNIL","Poules","2015-2016",null,null,null,null,0,null,1]
["MAILLE Bernard","ALDEGUER Lionel","G",2,0,120,83,"2015-12-04","T1 LIGUE 5 QUILLES N1 - FACHES-THUMESNIL","Poules","2015-2016",null,null,null,null,0,null,1]
["MAILLE Bernard","GEETS Patrice","G",2,1,179,146,"2015-12-04","T1 LIGUE 5 QUILLES N1 - FACHES-THUMESNIL","1/4 Finale","2015-2016",null,null,null,null,0,null,1]
["MAILLE Bernard","LEMÂTRE Jérémy","G",2,0,120,115,"2015-12-04","T1 LIGUE 5 QUILLES N1 - FACHES-THUMESNIL","1/2 Finale","2015-2016",null,null,null,null,0,null,1]
["MAILLE Bernard","DELSOL Philippe","P",1,2,108,179,"2015-12-04","T1 LIGUE 5 QUILLES N1 - FACHES-THUMESNIL","Finale","2015-2016",null,null,null,null,0,null,0]
["MAILLE Bernard","MANTEN Paul","G",2,0,120,45,"2016-01-09","T2  LIGUE 5 QUILLES N1 - GRAVELINES","Qualifications","2015-2016",null,null,null,null,0,null,1]
["MAILLE Bernard","CLYNCKE Jean-Jacques","G",2,1,163,112,"2016-01-09","T2  LIGUE 5 QUILLES N1 - GRAVELINES","Qualifications",{"$f":"IF(H334<>\"\",IF(MONTH(H334)>MoisRef,YEAR(H334)&\"-\"&YEAR(H334)+1,YEAR(H334)-1&\"-\"&YEAR(H334)),\"\")","v":"2015-2016"},null,null,null,null,0,null,1]
["MAILLE Bernard","TRIPLET Gilbert","G",2,0,120,91,"2016-01-09","T2  LIGUE 5 QUILLES N1 - GRAVELINES","1/8 Finale","2015-2016",null,null,null,null,0,null,1]
["MAILLE Bernard","VEREECQUE Ludovic","G",2,0,120,62,"2016-01-09","T2  LIGUE 5 QUILLES N1 - GRAVELINES","1/4 Finale","2015-2016",null,null,null,null,0,null,1]
["MAILLE Bernard","LEMÂTRE Jérémy","P",0,2,75,120,"2016-01-09","T2  LIGUE 5 QUILLES N1 - GRAVELINES","1/2 Finale","2015-2016",null,null,null,null,0,null,0]
["MAILLE Bernard","ALDEGUER Lionel","G",2,1,162,122,"2016-01-23","T3 Ligue 5 Quilles N1 - ANNOEULLIN","Qualifications","2015-2016",null,null,null,null,0,null,1]
["MAILLE Bernard","CLYNCKE Jean-Jacques","G",2,1,150,135,"2016-01-23","T3 Ligue 5 Quilles N1 - ANNOEULLIN","1/2 Finale","2015-2016",null,null,null,null,0,null,1]
["MAILLE Bernard","GHEVART Jean","P",0,2,71,120,"2016-01-23","T3 Ligue 5 Quilles N1 - ANNOEULLIN","Qualifications","2015-2016",null,null,null,null,0,null,0]
["MAILLE Bernard","LEMÂTRE Jérémy","G",2,0,120,75,"2016-01-23","T3 Ligue 5 Quilles N1 - ANNOEULLIN","1/4 Finale","2015-2016",null,null,null,null,0,null,1]
["MAILLE Bernard","WALLART Jean-Charles","P",0,2,101,120,"2016-01-23","T3 Ligue 5 Quilles N1 - ANNOEULLIN","Finale","2015-2016",null,null,null,null,{"$f":"IF($K342=P$1,COUNTIF($C342,\"G\"),0)","v":0},null,{"$f":"IF($K342=R$1,COUNTIF($C342,\"G\"),0)","v":0}]
["MAILLE Bernard","CLYNCKE Jean-Jacques","G",3,0,180,116,"2016-04-24","Finale Ligue 5 Quilles N1 - ANNOEULLIN","Qualifications","2015-2016",null,null,null,null,0,null,1]
["MAILLE Bernard","DELSOL Philippe","P",0,3,51,180,"2016-04-24","Finale Ligue 5 Quilles N1 - ANNOEULLIN","1/2 Finale","2015-2016",null,null,null,null,0,null,0]
["MAILLE Bernard","GEETS Patrice","P",0,3,134,180,"2016-04-24","Finale Ligue 5 Quilles N1 - ANNOEULLIN","Qualifications","2015-2016",null,null,null,null,0,null,0]
["MAILLE Bernard","ZACCAGNINI Antoine","P",2,3,240,264,"2016-06-04",{"$f":"UPPER(\"CHAMPIONNAT DE France  N1 - ST RAPHAEL\")","v":"CHAMPIONNAT DE FRANCE  N1 - ST RAPHAEL"},"Qualifications","2015-2016",null,null,null,null,0,null,0]
["MAILLE Bernard","POIRIER Dominique","G",3,2,262,161,"2016-06-04",{"$f":"UPPER(\"CHAMPIONNAT DE France  N1 - ST RAPHAEL\")","v":"CHAMPIONNAT DE FRANCE  N1 - ST RAPHAEL"},"Qualifications","2015-2016",null,null,null,null,0,null,1]
["MAILLE Bernard","ALEMANY Julien","G",3,0,180,87,"2016-06-04",{"$f":"UPPER(\"CHAMPIONNAT DE France  N1 - ST RAPHAEL\")","v":"CHAMPIONNAT DE FRANCE  N1 - ST RAPHAEL"},"Qualifications","2015-2016",null,null,null,null,0,null,1]
["MAILLE Bernard","LHEUREUX François","G",3,1,236,179,"2016-06-05",{"$f":"UPPER(\"CHAMPIONNAT DE France  N1 - ST RAPHAEL\")","v":"CHAMPIONNAT DE FRANCE  N1 - ST RAPHAEL"},"1/8ème Finale","2015-2016",null,null,null,null,0,null,1]
["MAILLE Bernard","HERVELIN Gabriel","P",2,3,227,272,"2016-06-05",{"$f":"UPPER(\"CHAMPIONNAT DE France  N1 - ST RAPHAEL\")","v":"CHAMPIONNAT DE FRANCE  N1 - ST RAPHAEL"},"1/4ème Finale","2015-2016",null,null,null,null,0,null,0]
["Fin des données",null,null,null,null,null,null,null,null,null,"",null,null,null,null,{"$f":"IF($K351=P$1,COUNTIF($C351,\"G\"),0)","v":0},null,{"$f":"IF($K351=R$1,COUNTIF($C351,\"G\"),0)","v":0}]

{"sheet":"MANTEN Paul","index":60,"n_rows":57,"n_cols":22,"rows_kept":57,"cut":false,"hidden":false,"merged":[]}
["MANTEN Paul",null,null,null,null,null,null,null,null,null,null,null,null,null,null,{"$f":"Récapitulatif!$B$2","v":"2014-2015"},null,{"$f":"Récapitulatif!$B$3","v":"2015-2016"},null,"Toutes saisons"]
["GRAVELINES",null,null,null,null,null,null,null,null,null,null,null,null,null,null,"Nombre","%age","Nombre","%age","Nombre","%age"]
["016680-O",null,null,null,null,null,null,null,null,null,null,null,null,"Matchs","Gagnés",{"$f":"SUM(P$15:P$57)","v":1},{"$f":"IF(P$3+P$4>0,P3/(P$3+P$4),\"\")","v":0.2},{"$f":"SUM(R$15:R$57)","v":1},{"$f":"IF(R$3+R$4>0,R3/(R$3+R$4),\"\")","v":0.1111111111111111},{"$f":"COUNTIF($C$15:$C$57,\"G\")","v":10},{"$f":"IF(T$3+T$4>0,T3/(T$3+T$4),\"\")","v":0.24390243902439024}]
[null,null,null,null,null,null,null,null,null,null,null,null,null,null,"Perdus",{"$f":"COUNTIF($K$15:$K$57,Récapitulatif!$B$2)-P3","v":4},{"$f":"IF(P$3+P$4>0,P4/(P$3+P$4),\"\")","v":0.8},{"$f":"COUNTIF($K$15:$K$57,Récapitulatif!$B$3)-R3","v":8},{"$f":"IF(R$3+R$4>0,R4/(R$3+R$4),\"\")","v":0.88888888888888884},{"$f":"COUNTIF($C$15:$C$57,\"P\")","v":31},{"$f":"IF(T$3+T$4>0,T4/(T$3+T$4),\"\")","v":0.75609756097560976}]
[null,null,null,null,null,null,null,null,null,null,null,null,null,null,"Total / Moy.",{"$f":"SUM(P3:P4)","v":5},{"$f":"IF(SUMIF($K$15:$K$57,Récapitulatif!$B$2,$G$15:$G$57)>0,SUMIF($K$15:$K$57,Récapitulatif!$B$2,$F$15:$F$57)/SUMIF($K$15:$K$57,Récapitulatif!$B$2,$G$15:$G$57),\"\")","v":0.81709401709401708},{"$f":"SUM(R3:R4)","v":9},{"$f":"IF(SUMIF($K$15:$K$57,Récapitulatif!$B$3,$G$15:$G$57)>0,SUMIF($K$15:$K$57,Récapitulatif!$B$3,$F$15:$F$57)/SUMIF($K$15:$K$57,Récapitulatif!$B$3,$G$15:$G$57),\"\")","v":0.75773195876288657},{"$f":"SUM(T3:T4)","v":41},{"$f":"IF(SUM($G$15:$G$57)>0,SUM($F$15:$F$57)/SUM($G$15:$G$57),\"\")","v":0.82315880947208342},{"$f":"IF(SUMIF($K$15:$K$57,Récapitulatif!$B$2,$G$15:$G$57)+SUMIF($K$15:$K$57,Récapitulatif!$B$3,$G$15:$G$57)>0,(SUMIF($K$15:$K$57,Récapitulatif!$B$2,$F$15:$F$57)+SUMIF($K$15:$K$57,Récapitulatif!$B$3,$F$15:$F$57))/(SUMIF($K$15:$K$57,Récapitulatif!$B$2,$G$15:$G$57)+SUMIF($K$15:$K$57,Récapitulatif!$B$3,$G$15:$G$57)),\"\")","v":0.77758719268153231}]
[null,null,null,null,null,null,null,null,null,null,null,null,null,"Sets","Gagnés",{"$f":"SUMIF($K$15:$K$57,Récapitulatif!$B$2,$D$15:$D$57)","v":3},{"$f":"IF(P$6+P$7>0,P6/(P$6+P$7),\"\")","v":0.27272727272727271},{"$f":"SUMIF($K$15:$K$57,Récapitulatif!$B$3,$D$15:$D$57)","v":5},{"$f":"IF(R$6+R$7>0,R6/(R$6+R$7),\"\")","v":0.25},{"$f":"SUM($D$15:$D$57)","v":19},{"$f":"IF(T$6+T$7>0,T6/(T$6+T$7),\"\")","v":0.25333333333333335}]
[null,null,null,null,null,null,null,null,null,null,null,null,null,null,"Perdus",{"$f":"SUMIF($K$15:$K$57,Récapitulatif!$B$2,$E$15:$E$57)","v":8},{"$f":"IF(P$6+P$7>0,P7/(P$6+P$7),\"\")","v":0.72727272727272729},{"$f":"SUMIF($K$15:$K$57,Récapitulatif!$B$3,$E$15:$E$57)","v":15},{"$f":"IF(R$6+R$7>0,R7/(R$6+R$7),\"\")","v":0.75},{"$f":"SUM($E$15:$E$57)","v":56},{"$f":"IF(T$6+T$7>0,T7/(T$6+T$7),\"\")","v":0.7466666666666667}]
["Récapitulatif joueurs",null,null,null,null,null,null,null,null,null,null,null,null,null,"Total",{"$f":"SUM(P6:P7)","v":11},null,{"$f":"SUM(R6:R7)","v":20},null,{"$f":"SUM(T6:T7)","v":75}]
[]
[]
[]
[]
[]
[]
["Joueur","Adversaire","G/P","Sets gagnés","Sets perdus","pts marqués","pts subis","Date","Compétition","Phase","Saison"]
["MANTEN Paul","MARTEL Jean-Pierre","P",0,2,107,120,"2009-11-21","N1 Ligue T1 GRAVELINES","Poules",{"$f":"IF(H16<>\"\",IF(MONTH(H16)>MoisRef,YEAR(H16)&\"-\"&YEAR(H16)+1,YEAR(H16)-1&\"-\"&YEAR(H16)),\"\")","v":"2009-2010"},null,null,null,null,{"$f":"IF($K16=P$1,COUNTIF($C16,\"G\"),0)","v":0},null,{"$f":"IF($K16=R$1,COUNTIF($C16,\"G\"),0)","v":0}]
["MANTEN Paul","DELSOL Philippe","P",0,2,72,120,"2009-11-21","N1 Ligue T1 GRAVELINES","Poules","2009-2010",null,null,null,null,0,null,0]
["MANTEN Paul","CAUX Frédéric","P",0,2,73,120,"2009-11-21","N1 Ligue T1 GRAVELINES","Poules Consolante","2009-2010",null,null,null,null,0,null,0]
["MANTEN Paul","LECROART Serge","P",0,2,106,120,"2009-11-21","N1 Ligue T1 GRAVELINES","Poules Consolante","2009-2010",null,null,null,null,0,null,0]
["MANTEN Paul","CARPENTIER Yohanne","G",2,1,155,115,"2010-12-11","N1 Ligue T3 GRAVELINES","Poules","2010-2011",null,null,null,null,0,null,0]
["MANTEN Paul","HORNAIN Denis","G",2,0,120,95,"2010-12-11","N1 Ligue T3 GRAVELINES","Poules","2010-2011",null,null,null,null,0,null,0]
["MANTEN Paul","GEETS Patrice","P",1,2,153,173,"2010-12-11","N1 Ligue T3 GRAVELINES","1/4 Finale","2010-2011",null,null,null,null,0,null,0]
["MANTEN Paul","LEMÂTRE Jérémy","P",0,2,77,120,"2011-10-15","N1 Ligue T1 DIVION","Poules","2011-2012",null,null,null,null,0,null,0]
["MANTEN Paul","RACARY Thibault","P",0,2,34,120,"2011-10-15","N1 Ligue T1 DIVION","Poules","2011-2012",null,null,null,null,0,null,0]
["MANTEN Paul","DEROLEZ Jean-Pierre","G",1,0,100,87,"2011-10-15","N1 Ligue T1 DIVION","Poules Consolante","2011-2012",null,null,null,null,0,null,0]
["MANTEN Paul","ESTERMANS Bernard","P",0,1,64,100,"2011-10-15","N1 Ligue T1 DIVION","Poules Consolante","2011-2012",null,null,null,null,0,null,0]
["MANTEN Paul","LEBLANC Jean-Noël","G",1,0,100,97,"2011-10-15","N1 Ligue T1 DIVION","1/4 Finale Consolante","2011-2012",null,null,null,null,0,null,0]
["MANTEN Paul","LUBREZ Pierre","G",1,0,100,62,"2011-10-15","N1 Ligue T1 DIVION","1/2 Finale Consolante","2011-2012",null,null,null,null,0,null,0]
["MANTEN Paul","LEMÂTRE Jérémy","P",0,2,79,120,"2012-01-07","N1 Ligue T3 FACHES THUMESNIL","Poules","2011-2012",null,null,null,null,0,null,0]
["MANTEN Paul","SAINT-GEORGES Claude","P",0,2,87,120,"2012-01-07","N1 Ligue T3 FACHES THUMESNIL","Poules","2011-2012",null,null,null,null,0,null,0]
["MANTEN Paul","CLYNCKE Jean-Jacques","G",1,0,100,54,"2012-01-07","N1 Ligue T3 FACHES THUMESNIL","Poules Consolante","2011-2012",null,null,null,null,0,null,0]
["MANTEN Paul","LORTHIOIR Jean-Luc","G",1,0,100,51,"2012-01-07","N1 Ligue T3 FACHES THUMESNIL","Poules Consolante","2011-2012",null,null,null,null,0,null,0]
["MANTEN Paul","GEETS Patrice","P",0,1,89,100,"2012-01-07","N1 Ligue T3 FACHES THUMESNIL","Finale Consolante","2011-2012",null,null,null,null,0,null,0]
["MANTEN Paul","DECONINCK Franky","P",0,1,66,100,"2012-01-07","N1 Ligue T3 FACHES THUMESNIL","Finale Consolante","2011-2012",null,null,null,null,0,null,0]
["MANTEN Paul","CAUX Frédéric","P",0,2,66,120,"2012-11-24","N1 Ligue T3 CALAIS","Poules","2012-2013",null,null,null,null,0,null,0]
["MANTEN Paul","LHERMITTE Cédric","P",0,2,76,120,"2012-11-24","N1 Ligue T3 CALAIS","Poules","2012-2013",null,null,null,null,0,null,0]
["MANTEN Paul","CLYNCKE Jean-Jacques","P",0,1,52,100,"2012-11-24","N1 Ligue T3 CALAIS","Poules Consolante","2012-2013",null,null,null,null,0,null,0]
["MANTEN Paul","CLYNCKE Jean-Jacques","P",0,1,80,100,"2012-11-24","N1 Ligue T3 CALAIS","Poules Consolante","2012-2013",null,null,null,null,0,null,0]
["MANTEN Paul","ST MAXENT Stéphane","P",0,2,101,120,"2014-04-05","N1 Ligue T3 GRAVELINES","Poules","2013-2014",null,null,null,null,0,null,0]
["MANTEN Paul","WALLART Jean-Charles","P",0,2,86,120,"2014-04-05","N1 Ligue T3 GRAVELINES","Poules","2013-2014",null,null,null,null,0,null,0]
["MANTEN Paul","LORTHIOIR Jean-Luc","P",0,1,86,100,"2014-04-05","N1 Ligue T3 GRAVELINES","Poules Consolante","2013-2014",null,null,null,null,0,null,0]
["MANTEN Paul","ST MAXENT Stéphane","G",1,0,100,80,"2014-04-05","N1 Ligue T3 GRAVELINES","Poules Consolante","2013-2014",null,null,null,null,0,null,0]
["MANTEN Paul","LUBREZ Pierre","P",0,2,86,120,"2015-01-17","N1 Ligue T1 DUNKERQUE","Poules","2014-2015",null,null,null,null,0,null,0]
["MANTEN Paul","CAUX Grégory","P",1,2,147,142,"2015-01-17","N1 Ligue T1 DUNKERQUE","Poules","2014-2015",null,null,null,null,0,null,0]
["MANTEN Paul","ESTERMANS Bernard","G",2,0,120,83,"2015-02-07","N1 Ligue T2 CALAIS","Poules","2014-2015",null,null,null,null,1,null,0]
["MANTEN Paul","DEVOS Jackie","P",0,2,70,120,"2015-02-07","N1 Ligue T2 CALAIS","Poules","2014-2015",null,null,null,null,0,null,0]
["MANTEN Paul","GEETS Patrice","P",0,2,55,120,"2015-02-07","N1 Ligue T2 CALAIS","1/8 Finale","2014-2015",null,null,null,null,0,null,0]
["MANTEN Paul","MAILLE Bernard","P",1,2,123,133,"2015-10-09","National T1 ROUEN","Préqualifs","2015-2016",null,null,null,null,0,null,0]
["MANTEN Paul","BOUREL Claude","P",1,2,164,150,"2015-10-09","National T1 ROUEN","Préqualifs","2015-2016",null,null,null,null,0,null,0]
["MANTEN Paul","PONTHIEUX Christian","P",1,2,100,166,"2015-10-09","National T1 ROUEN","Préqualifs","2015-2016",null,null,null,null,0,null,0]
["MANTEN Paul","POULEYN André","P",0,1,78,100,"2015-12-05","CONSOLANTE T1 LIGUE 5 QUILLES N1 - FACHES-THUMESNIL","Poules","2015-2016",null,null,null,null,0,null,0]
["MANTEN Paul","HINGRAND Tony","G",1,0,100,84,"2015-12-05","CONSOLANTE T1 LIGUE 5 QUILLES N1 - FACHES-THUMESNIL","Poules","2015-2016",null,null,null,null,0,null,1]
["MANTEN Paul","CLYNCKE Jean-Jacques","P",1,2,136,171,"2015-12-04","T1 LIGUE 5 QUILLES N1 - FACHES-THUMESNIL","Poules","2015-2016",null,null,null,null,0,null,0]
["MANTEN Paul","DELSOL Philippe","P",0,2,85,120,"2015-12-04","T1 LIGUE 5 QUILLES N1 - FACHES-THUMESNIL","Poules","2015-2016",null,null,null,null,0,null,0]
["MANTEN Paul","CLYNCKE Jean-Jacques","P",0,2,51,120,"2016-01-09","T2  LIGUE 5 QUILLES N1 - GRAVELINES","Qualifications","2015-2016",null,null,null,null,0,null,0]
["MANTEN Paul","MAILLE Bernard","P",0,2,45,120,"2016-01-09","T2  LIGUE 5 QUILLES N1 - GRAVELINES","Qualifications","2015-2016",null,null,null,null,0,null,0]
["Fin des données",null,null,null,null,null,null,null,null,null,"",null,null,null,null,0,null,0]

{"sheet":"MARRONNIER Jean-Luc","index":61,"n_rows":20,"n_cols":22,"rows_kept":20,"cut":false,"hidden":false,"merged":[]}
["MARRONNIER Jean-Luc",null,null,null,null,null,null,null,null,null,null,null,null,null,null,{"$f":"Récapitulatif!$B$2","v":"2014-2015"},null,{"$f":"Récapitulatif!$B$3","v":"2015-2016"},null,"Toutes saisons"]
[{"$error":"#N/A"},null,null,null,null,null,null,null,null,null,null,null,null,null,null,"Nombre","%age","Nombre","%age","Nombre","%age"]
[{"$error":"#N/A"},null,null,null,null,null,null,null,null,null,null,null,null,"Matchs","Gagnés",{"$f":"SUM(P$15:P$20)","v":0},{"$f":"IF(P$3+P$4>0,P3/(P$3+P$4),\"\")","v":""},{"$f":"SUM(R$15:R$20)","v":0},{"$f":"IF(R$3+R$4>0,R3/(R$3+R$4),\"\")","v":""},{"$f":"COUNTIF($C$15:$C$20,\"G\")","v":0},{"$f":"IF(T$3+T$4>0,T3/(T$3+T$4),\"\")","v":0}]
[{"$error":"#N/A"},null,null,null,null,null,null,null,null,null,null,null,null,null,"Perdus",{"$f":"COUNTIF($K$15:$K$20,Récapitulatif!$B$2)-P3","v":0},{"$f":"IF(P$3+P$4>0,P4/(P$3+P$4),\"\")","v":""},{"$f":"COUNTIF($K$15:$K$20,Récapitulatif!$B$3)-R3","v":0},{"$f":"IF(R$3+R$4>0,R4/(R$3+R$4),\"\")","v":""},{"$f":"COUNTIF($C$15:$C$20,\"P\")","v":4},{"$f":"IF(T$3+T$4>0,T4/(T$3+T$4),\"\")","v":1}]
[{"$error":"#N/A"},null,null,null,null,null,null,null,null,null,null,null,null,null,"Total / Moy.",{"$f":"SUM(P3:P4)","v":0},{"$f":"IF(SUMIF($K$15:$K$20,Récapitulatif!$B$2,$G$15:$G$20)>0,SUMIF($K$15:$K$20,Récapitulatif!$B$2,$F$15:$F$20)/SUMIF($K$15:$K$20,Récapitulatif!$B$2,$G$15:$G$20),\"\")","v":""},{"$f":"SUM(R3:R4)","v":0},{"$f":"IF(SUMIF($K$15:$K$20,Récapitulatif!$B$3,$G$15:$G$20)>0,SUMIF($K$15:$K$20,Récapitulatif!$B$3,$F$15:$F$20)/SUMIF($K$15:$K$20,Récapitulatif!$B$3,$G$15:$G$20),\"\")","v":""},{"$f":"SUM(T3:T4)","v":4},{"$f":"IF(SUM($G$15:$G$20)>0,SUM($F$15:$F$20)/SUM($G$15:$G$20),\"\")","v":0.47727272727272729},{"$f":"IF(SUMIF($K$15:$K$20,Récapitulatif!$B$2,$G$15:$G$20)+SUMIF($K$15:$K$20,Récapitulatif!$B$3,$G$15:$G$20)>0,(SUMIF($K$15:$K$20,Récapitulatif!$B$2,$F$15:$F$20)+SUMIF($K$15:$K$20,Récapitulatif!$B$3,$F$15:$F$20))/(SUMIF($K$15:$K$20,Récapitulatif!$B$2,$G$15:$G$20)+SUMIF($K$15:$K$20,Récapitulatif!$B$3,$G$15:$G$20)),\"\")","v":""}]
[null,null,null,null,null,null,null,null,null,null,null,null,null,"Sets","Gagnés",{"$f":"SUMIF($K$15:$K$20,Récapitulatif!$B$2,$D$15:$D$20)","v":0},{"$f":"IF(P$6+P$7>0,P6/(P$6+P$7),\"\")","v":""},{"$f":"SUMIF($K$15:$K$20,Récapitulatif!$B$3,$D$15:$D$20)","v":0},{"$f":"IF(R$6+R$7>0,R6/(R$6+R$7),\"\")","v":""},{"$f":"SUM($D$15:$D$20)","v":0},{"$f":"IF(T$6+T$7>0,T6/(T$6+T$7),\"\")","v":0}]
[null,null,null,null,null,null,null,null,null,null,null,null,null,null,"Perdus",{"$f":"SUMIF($K$15:$K$20,Récapitulatif!$B$2,$E$15:$E$20)","v":0},{"$f":"IF(P$6+P$7>0,P7/(P$6+P$7),\"\")","v":""},{"$f":"SUMIF($K$15:$K$20,Récapitulatif!$B$3,$E$15:$E$20)","v":0},{"$f":"IF(R$6+R$7>0,R7/(R$6+R$7),\"\")","v":""},{"$f":"SUM($E$15:$E$20)","v":6},{"$f":"IF(T$6+T$7>0,T7/(T$6+T$7),\"\")","v":1}]
["Récapitulatif joueurs",null,null,null,null,null,null,null,null,null,null,null,null,null,"Total",{"$f":"SUM(P6:P7)","v":0},null,{"$f":"SUM(R6:R7)","v":0},null,{"$f":"SUM(T6:T7)","v":6}]
[]
[]
[]
[]
[]
[]
["Joueur","Adversaire","G/P","Sets gagnés","Sets perdus","pts marqués","pts subis","Date","Compétition","Phase","Saison"]
["MARRONNIER Jean-Luc","FLEURANT Richard","P",0,2,52,120,"2012-11-24","N1 Ligue T3 CALAIS","Poules",{"$f":"IF(H16<>\"\",IF(MONTH(H16)>MoisRef,YEAR(H16)&\"-\"&YEAR(H16)+1,YEAR(H16)-1&\"-\"&YEAR(H16)),\"\")","v":"2012-2013"},null,null,null,null,{"$f":"IF($K16=P$1,COUNTIF($C16,\"G\"),0)","v":0},null,{"$f":"IF($K16=R$1,COUNTIF($C16,\"G\"),0)","v":0}]
["MARRONNIER Jean-Luc","SAINT-GEORGES Claude","P",0,2,37,120,"2012-11-24","N1 Ligue T3 CALAIS","Poules",{"$f":"IF(H17<>\"\",IF(MONTH(H17)>MoisRef,YEAR(H17)&\"-\"&YEAR(H17)+1,YEAR(H17)-1&\"-\"&YEAR(H17)),\"\")","v":"2012-2013"},null,null,null,null,{"$f":"IF($K17=P$1,COUNTIF($C17,\"G\"),0)","v":0},null,{"$f":"IF($K17=R$1,COUNTIF($C17,\"G\"),0)","v":0}]
["MARRONNIER Jean-Luc","MONFLIER Francis","P",0,1,73,100,"2012-11-24","N1 Ligue T3 CALAIS","Poules Consolante",{"$f":"IF(H18<>\"\",IF(MONTH(H18)>MoisRef,YEAR(H18)&\"-\"&YEAR(H18)+1,YEAR(H18)-1&\"-\"&YEAR(H18)),\"\")","v":"2012-2013"},null,null,null,null,{"$f":"IF($K18=P$1,COUNTIF($C18,\"G\"),0)","v":0},null,{"$f":"IF($K18=R$1,COUNTIF($C18,\"G\"),0)","v":0}]
["MARRONNIER Jean-Luc","MAILLE Bernard","P",0,1,48,100,"2012-11-24","N1 Ligue T3 CALAIS","Poules Consolante",{"$f":"IF(H19<>\"\",IF(MONTH(H19)>MoisRef,YEAR(H19)&\"-\"&YEAR(H19)+1,YEAR(H19)-1&\"-\"&YEAR(H19)),\"\")","v":"2012-2013"},null,null,null,null,{"$f":"IF($K19=P$1,COUNTIF($C19,\"G\"),0)","v":0},null,{"$f":"IF($K19=R$1,COUNTIF($C19,\"G\"),0)","v":0}]
["Fin des données",null,null,null,null,null,null,null,null,null,{"$f":"IF(H20<>\"\",IF(MONTH(H20)>MoisRef,YEAR(H20)&\"-\"&YEAR(H20)+1,YEAR(H20)-1&\"-\"&YEAR(H20)),\"\")","v":""},null,null,null,null,{"$f":"IF($K20=P$1,COUNTIF($C20,\"G\"),0)","v":0},null,{"$f":"IF($K20=R$1,COUNTIF($C20,\"G\"),0)","v":0}]

{"sheet":"MARTEL Bruno","index":62,"n_rows":32,"n_cols":22,"rows_kept":32,"cut":false,"hidden":false,"merged":[]}
["MARTEL Bruno",null,null,null,null,null,null,null,null,null,null,null,null,null,null,{"$f":"Récapitulatif!$B$2","v":"2014-2015"},null,{"$f":"Récapitulatif!$B$3","v":"2015-2016"},null,"Toutes saisons"]
["CUCQ",null,null,null,null,null,null,null,null,null,null,null,null,null,null,"Nombre","%age","Nombre","%age","Nombre","%age"]
["124420-A ",null,null,null,null,null,null,null,null,null,null,null,null,"Matchs","Gagnés",{"$f":"SUM(P$15:P$32)","v":0},{"$f":"IF(P$3+P$4>0,P3/(P$3+P$4),\"\")","v":""},{"$f":"SUM(R$15:R$32)","v":0},{"$f":"IF(R$3+R$4>0,R3/(R$3+R$4),\"\")","v":""},{"$f":"COUNTIF($C$15:$C$32,\"G\")","v":4},{"$f":"IF(T$3+T$4>0,T3/(T$3+T$4),\"\")","v":0.25}]
[null,null,null,null,null,null,null,null,null,null,null,null,null,null,"Perdus",{"$f":"COUNTIF($K$15:$K$32,Récapitulatif!$B$2)-P3","v":0},{"$f":"IF(P$3+P$4>0,P4/(P$3+P$4),\"\")","v":""},{"$f":"COUNTIF($K$15:$K$32,Récapitulatif!$B$3)-R3","v":0},{"$f":"IF(R$3+R$4>0,R4/(R$3+R$4),\"\")","v":""},{"$f":"COUNTIF($C$15:$C$32,\"P\")","v":12},{"$f":"IF(T$3+T$4>0,T4/(T$3+T$4),\"\")","v":0.75}]
[null,null,null,null,null,null,null,null,null,null,null,null,null,null,"Total / Moy.",{"$f":"SUM(P3:P4)","v":0},{"$f":"IF(SUMIF($K$15:$K$32,Récapitulatif!$B$2,$G$15:$G$32)>0,SUMIF($K$15:$K$32,Récapitulatif!$B$2,$F$15:$F$32)/SUMIF($K$15:$K$32,Récapitulatif!$B$2,$G$15:$G$32),\"\")","v":""},{"$f":"SUM(R3:R4)","v":0},{"$f":"IF(SUMIF($K$15:$K$32,Récapitulatif!$B$3,$G$15:$G$32)>0,SUMIF($K$15:$K$32,Récapitulatif!$B$3,$F$15:$F$32)/SUMIF($K$15:$K$32,Récapitulatif!$B$3,$G$15:$G$32),\"\")","v":""},{"$f":"SUM(T3:T4)","v":16},{"$f":"IF(SUM($G$15:$G$32)>0,SUM($F$15:$F$32)/SUM($G$15:$G$32),\"\")","v":0.85978209379441028},{"$f":"IF(SUMIF($K$15:$K$32,Récapitulatif!$B$2,$G$15:$G$32)+SUMIF($K$15:$K$32,Récapitulatif!$B$3,$G$15:$G$32)>0,(SUMIF($K$15:$K$32,Récapitulatif!$B$2,$F$15:$F$32)+SUMIF($K$15:$K$32,Récapitulatif!$B$3,$F$15:$F$32))/(SUMIF($K$15:$K$32,Récapitulatif!$B$2,$G$15:$G$32)+SUMIF($K$15:$K$32,Récapitulatif!$B$3,$G$15:$G$32)),\"\")","v":""}]
[null,null,null,null,null,null,null,null,null,null,null,null,null,"Sets","Gagnés",{"$f":"SUMIF($K$15:$K$32,Récapitulatif!$B$2,$D$15:$D$32)","v":0},{"$f":"IF(P$6+P$7>0,P6/(P$6+P$7),\"\")","v":""},{"$f":"SUMIF($K$15:$K$32,Récapitulatif!$B$3,$D$15:$D$32)","v":0},{"$f":"IF(R$6+R$7>0,R6/(R$6+R$7),\"\")","v":""},{"$f":"SUM($D$15:$D$32)","v":12},{"$f":"IF(T$6+T$7>0,T6/(T$6+T$7),\"\")","v":0.30769230769230771}]
[null,null,null,null,null,null,null,null,null,null,null,null,null,null,"Perdus",{"$f":"SUMIF($K$15:$K$32,Récapitulatif!$B$2,$E$15:$E$32)","v":0},{"$f":"IF(P$6+P$7>0,P7/(P$6+P$7),\"\")","v":""},{"$f":"SUMIF($K$15:$K$32,Récapitulatif!$B$3,$E$15:$E$32)","v":0},{"$f":"IF(R$6+R$7>0,R7/(R$6+R$7),\"\")","v":""},{"$f":"SUM($E$15:$E$32)","v":27},{"$f":"IF(T$6+T$7>0,T7/(T$6+T$7),\"\")","v":0.69230769230769229}]
["Récapitulatif joueurs",null,null,null,null,null,null,null,null,null,null,null,null,null,"Total",{"$f":"SUM(P6:P7)","v":0},null,{"$f":"SUM(R6:R7)","v":0},null,{"$f":"SUM(T6:T7)","v":39}]
[]
[]
[]
[]
[]
[]
["Joueur","Adversaire","G/P","Sets gagnés","Sets perdus","pts marqués","pts subis","Date","Compétition","Phase","Saison"]
["MARTEL Bruno","CLYNCKE Jean-Jacques","G",2,1,167,164,"2009-11-21","N1 Ligue T1 GRAVELINES","Poules",{"$f":"IF(H16<>\"\",IF(MONTH(H16)>MoisRef,YEAR(H16)&\"-\"&YEAR(H16)+1,YEAR(H16)-1&\"-\"&YEAR(H16)),\"\")","v":"2009-2010"},null,null,null,null,{"$f":"IF($K16=P$1,COUNTIF($C16,\"G\"),0)","v":0},null,{"$f":"IF($K16=R$1,COUNTIF($C16,\"G\"),0)","v":0}]
["MARTEL Bruno","MAILLE Bernard","P",0,2,85,120,"2009-11-21","N1 Ligue T1 GRAVELINES","Poules","2009-2010",null,null,null,null,0,null,0]
["MARTEL Bruno","CLYNCKE Jean-Jacques","P",0,2,78,120,"2009-11-21","N1 Ligue T1 GRAVELINES","Poules Consolante","2009-2010",null,null,null,null,0,null,0]
["MARTEL Bruno","DEVOS Jackie","P",0,2,81,120,"2009-11-21","N1 Ligue T1 GRAVELINES","Poules Consolante","2009-2010",null,null,null,null,0,null,0]
["MARTEL Bruno","CARTIERE André","P",0,2,91,120,"2010-02-20","N1 Ligue T4 DOUAI","Poules","2009-2010",null,null,null,null,0,null,0]
["MARTEL Bruno","GEETS Patrice","P",1,2,128,160,"2010-02-20","N1 Ligue T4 DOUAI","Poules","2009-2010",null,null,null,null,0,null,0]
["MARTEL Bruno","DEROLEZ Jean-Pierre","P",0,2,74,120,"2010-02-20","N1 Ligue T4 DOUAI","Poules Consolante","2009-2010",null,null,null,null,0,null,0]
["MARTEL Bruno","TURPIN Laurent","P",0,2,84,120,"2010-02-20","N1 Ligue T4 DOUAI","Poules Consolante","2009-2010",null,null,null,null,0,null,0]
["MARTEL Bruno","MASIERO Lorenzo","G",2,1,179,137,"2010-10-16","N1 Ligue T1 DOUAI","Poules","2010-2011",null,null,null,null,0,null,0]
["MARTEL Bruno","GEETS Patrice","P",1,2,128,163,"2010-10-16","N1 Ligue T1 DOUAI","Poules","2010-2011",null,null,null,null,0,null,0]
["MARTEL Bruno","WALLART Jean-Charles","G",2,0,120,88,"2010-10-16","N1 Ligue T1 DOUAI","1/8 Finale","2010-2011",null,null,null,null,0,null,0]
["MARTEL Bruno","GEETS Patrice","P",0,2,45,120,"2010-10-16","N1 Ligue T1 DOUAI","1/4 Finale","2010-2011",null,null,null,null,0,null,0]
["MARTEL Bruno","DEROLEZ Jean-Pierre","G",2,1,177,117,"2011-01-15","N1 Ligue T4 DIVION","Poules","2010-2011",null,null,null,null,0,null,0]
["MARTEL Bruno","GEETS Patrice","P",1,2,127,164,"2011-01-15","N1 Ligue T4 DIVION","Poules","2010-2011",null,null,null,null,0,null,0]
["MARTEL Bruno","RAUX Jean-François","P",1,2,157,158,"2011-01-15","N1 Ligue T4 DIVION","Poules Consolante","2010-2011",null,null,null,null,0,null,0]
["MARTEL Bruno","SKORDILIS Christo","P",0,2,94,120,"2011-01-15","N1 Ligue T4 DIVION","Poules Consolante","2010-2011",null,null,null,null,0,null,0]
["Fin des données",null,null,null,null,null,null,null,null,null,"",null,null,null,null,0,null,0]

{"sheet":"MASIERO Lorenzo","index":63,"n_rows":27,"n_cols":22,"rows_kept":27,"cut":false,"hidden":false,"merged":[]}
["MASIERO Lorenzo",null,null,null,null,null,null,null,null,null,null,null,null,null,null,{"$f":"Récapitulatif!$B$2","v":"2014-2015"},null,{"$f":"Récapitulatif!$B$3","v":"2015-2016"},null,"Toutes saisons"]
["DOUAI",null,null,null,null,null,null,null,null,null,null,null,null,null,null,"Nombre","%age","Nombre","%age","Nombre","%age"]
["016951-Z",null,null,null,null,null,null,null,null,null,null,null,null,"Matchs","Gagnés",{"$f":"SUM(P$15:P$27)","v":0},{"$f":"IF(P$3+P$4>0,P3/(P$3+P$4),\"\")","v":""},{"$f":"SUM(R$15:R$27)","v":0},{"$f":"IF(R$3+R$4>0,R3/(R$3+R$4),\"\")","v":""},{"$f":"COUNTIF($C$15:$C$27,\"G\")","v":4},{"$f":"IF(T$3+T$4>0,T3/(T$3+T$4),\"\")","v":0.36363636363636365}]
[null,null,null,null,null,null,null,null,null,null,null,null,null,null,"Perdus",{"$f":"COUNTIF($K$15:$K$27,Récapitulatif!$B$2)-P3","v":0},{"$f":"IF(P$3+P$4>0,P4/(P$3+P$4),\"\")","v":""},{"$f":"COUNTIF($K$15:$K$27,Récapitulatif!$B$3)-R3","v":0},{"$f":"IF(R$3+R$4>0,R4/(R$3+R$4),\"\")","v":""},{"$f":"COUNTIF($C$15:$C$27,\"P\")","v":7},{"$f":"IF(T$3+T$4>0,T4/(T$3+T$4),\"\")","v":0.63636363636363635}]
[null,null,null,null,null,null,null,null,null,null,null,null,null,null,"Total / Moy.",{"$f":"SUM(P3:P4)","v":0},{"$f":"IF(SUMIF($K$15:$K$27,Récapitulatif!$B$2,$G$15:$G$27)>0,SUMIF($K$15:$K$27,Récapitulatif!$B$2,$F$15:$F$27)/SUMIF($K$15:$K$27,Récapitulatif!$B$2,$G$15:$G$27),\"\")","v":""},{"$f":"SUM(R3:R4)","v":0},{"$f":"IF(SUMIF($K$15:$K$27,Récapitulatif!$B$3,$G$15:$G$27)>0,SUMIF($K$15:$K$27,Récapitulatif!$B$3,$F$15:$F$27)/SUMIF($K$15:$K$27,Récapitulatif!$B$3,$G$15:$G$27),\"\")","v":""},{"$f":"SUM(T3:T4)","v":11},{"$f":"IF(SUM($G$15:$G$27)>0,SUM($F$15:$F$27)/SUM($G$15:$G$27),\"\")","v":0.8332272437937619},{"$f":"IF(SUMIF($K$15:$K$27,Récapitulatif!$B$2,$G$15:$G$27)+SUMIF($K$15:$K$27,Récapitulatif!$B$3,$G$15:$G$27)>0,(SUMIF($K$15:$K$27,Récapitulatif!$B$2,$F$15:$F$27)+SUMIF($K$15:$K$27,Récapitulatif!$B$3,$F$15:$F$27))/(SUMIF($K$15:$K$27,Récapitulatif!$B$2,$G$15:$G$27)+SUMIF($K$15:$K$27,Récapitulatif!$B$3,$G$15:$G$27)),\"\")","v":""}]
[null,null,null,null,null,null,null,null,null,null,null,null,null,"Sets","Gagnés",{"$f":"SUMIF($K$15:$K$27,Récapitulatif!$B$2,$D$15:$D$27)","v":0},{"$f":"IF(P$6+P$7>0,P6/(P$6+P$7),\"\")","v":""},{"$f":"SUMIF($K$15:$K$27,Récapitulatif!$B$3,$D$15:$D$27)","v":0},{"$f":"IF(R$6+R$7>0,R6/(R$6+R$7),\"\")","v":""},{"$f":"SUM($D$15:$D$27)","v":11},{"$f":"IF(T$6+T$7>0,T6/(T$6+T$7),\"\")","v":0.39285714285714285}]
[null,null,null,null,null,null,null,null,null,null,null,null,null,null,"Perdus",{"$f":"SUMIF($K$15:$K$27,Récapitulatif!$B$2,$E$15:$E$27)","v":0},{"$f":"IF(P$6+P$7>0,P7/(P$6+P$7),\"\")","v":""},{"$f":"SUMIF($K$15:$K$27,Récapitulatif!$B$3,$E$15:$E$27)","v":0},{"$f":"IF(R$6+R$7>0,R7/(R$6+R$7),\"\")","v":""},{"$f":"SUM($E$15:$E$27)","v":17},{"$f":"IF(T$6+T$7>0,T7/(T$6+T$7),\"\")","v":0.6071428571428571}]
["Récapitulatif joueurs",null,null,null,null,null,null,null,null,null,null,null,null,null,"Total",{"$f":"SUM(P6:P7)","v":0},null,{"$f":"SUM(R6:R7)","v":0},null,{"$f":"SUM(T6:T7)","v":28}]
[]
[]
[]
[]
[]
[]
["Joueur","Adversaire","G/P","Sets gagnés","Sets perdus","pts marqués","pts subis","Date","Compétition","Phase","Saison"]
["MASIERO Lorenzo","FOURRE Cédric","P",1,2,137,170,"2008-12-12","National T3 ANNOEULLIN","Préqualifs",{"$f":"IF(H16<>\"\",IF(MONTH(H16)>MoisRef,YEAR(H16)&\"-\"&YEAR(H16)+1,YEAR(H16)-1&\"-\"&YEAR(H16)),\"\")","v":"2008-2009"},null,null,null,null,{"$f":"IF($K16=P$1,COUNTIF($C16,\"G\"),0)","v":0},null,{"$f":"IF($K16=R$1,COUNTIF($C16,\"G\"),0)","v":0}]
["MASIERO Lorenzo","LALANNE Marcel","G",2,0,120,87,"2008-12-12","National T3 ANNOEULLIN","Préqualifs","2008-2009",null,null,null,null,0,null,0]
["MASIERO Lorenzo","DEBRAY Alain","G",2,1,173,174,"2008-12-12","National T3 ANNOEULLIN","Préqualifs","2008-2009",null,null,null,null,0,null,0]
["MASIERO Lorenzo","HORNAIN Denis","P",0,2,61,120,"2010-02-20","N1 Ligue T4 DOUAI","Poules","2009-2010",null,null,null,null,0,null,0]
["MASIERO Lorenzo","CAUX Frédéric","G",2,1,162,142,"2010-02-20","N1 Ligue T4 DOUAI","Poules","2009-2010",null,null,null,null,0,null,0]
["MASIERO Lorenzo","GROLLET Fabien","P",0,2,67,120,"2010-02-20","N1 Ligue T4 DOUAI","Poules Consolante","2009-2010",null,null,null,null,0,null,0]
["MASIERO Lorenzo","WALLART Jean-Charles","P",0,2,79,120,"2010-02-20","N1 Ligue T4 DOUAI","Poules Consolante","2009-2010",null,null,null,null,0,null,0]
["MASIERO Lorenzo","MARTEL Bruno","P",1,2,137,179,"2010-10-16","N1 Ligue T1 DOUAI","Poules","2010-2011",null,null,null,null,0,null,0]
["MASIERO Lorenzo","GEETS Patrice","P",0,2,71,120,"2010-10-16","N1 Ligue T1 DOUAI","Poules","2010-2011",null,null,null,null,0,null,0]
["MASIERO Lorenzo","LORTHIOIR Jean-Luc","G",2,1,175,169,"2010-10-16","N1 Ligue T1 DOUAI","Poules Consolante","2010-2011",null,null,null,null,0,null,0]
["MASIERO Lorenzo","SKORDILIS Christo","P",1,2,127,170,"2010-10-16","N1 Ligue T1 DOUAI","Poules Consolante","2010-2011",null,null,null,null,0,null,0]
["Fin des données",null,null,null,null,null,null,null,null,null,"",null,null,null,null,0,null,0]

{"sheet":"MAUPIN Patrick","index":64,"n_rows":34,"n_cols":22,"rows_kept":34,"cut":false,"hidden":false,"merged":[]}
["MAUPIN Patrick",null,null,null,null,null,null,null,null,null,null,null,null,null,null,{"$f":"Récapitulatif!$B$2","v":"2014-2015"},null,{"$f":"Récapitulatif!$B$3","v":"2015-2016"},null,"Toutes saisons"]
["BRUAY SUR ESCAUT",null,null,null,null,null,null,null,null,null,null,null,null,null,null,"Nombre","%age","Nombre","%age","Nombre","%age"]
["101216-Y",null,null,null,null,null,null,null,null,null,null,null,null,"Matchs","Gagnés",{"$f":"SUM(P$15:P$34)","v":0},{"$f":"IF(P$3+P$4>0,P3/(P$3+P$4),\"\")","v":""},{"$f":"SUM(R$15:R$34)","v":0},{"$f":"IF(R$3+R$4>0,R3/(R$3+R$4),\"\")","v":""},{"$f":"COUNTIF($C$15:$C$34,\"G\")","v":10},{"$f":"IF(T$3+T$4>0,T3/(T$3+T$4),\"\")","v":0.55555555555555558}]
[null,null,null,null,null,null,null,null,null,null,null,null,null,null,"Perdus",{"$f":"COUNTIF($K$15:$K$34,Récapitulatif!$B$2)-P3","v":0},{"$f":"IF(P$3+P$4>0,P4/(P$3+P$4),\"\")","v":""},{"$f":"COUNTIF($K$15:$K$34,Récapitulatif!$B$3)-R3","v":0},{"$f":"IF(R$3+R$4>0,R4/(R$3+R$4),\"\")","v":""},{"$f":"COUNTIF($C$15:$C$34,\"P\")","v":8},{"$f":"IF(T$3+T$4>0,T4/(T$3+T$4),\"\")","v":0.44444444444444442}]
[null,null,null,null,null,null,null,null,null,null,null,null,null,null,"Total / Moy.",{"$f":"SUM(P3:P4)","v":0},{"$f":"IF(SUMIF($K$15:$K$34,Récapitulatif!$B$2,$G$15:$G$34)>0,SUMIF($K$15:$K$34,Récapitulatif!$B$2,$F$15:$F$34)/SUMIF($K$15:$K$34,Récapitulatif!$B$2,$G$15:$G$34),\"\")","v":""},{"$f":"SUM(R3:R4)","v":0},{"$f":"IF(SUMIF($K$15:$K$34,Récapitulatif!$B$3,$G$15:$G$34)>0,SUMIF($K$15:$K$34,Récapitulatif!$B$3,$F$15:$F$34)/SUMIF($K$15:$K$34,Récapitulatif!$B$3,$G$15:$G$34),\"\")","v":""},{"$f":"SUM(T3:T4)","v":18},{"$f":"IF(SUM($G$15:$G$34)>0,SUM($F$15:$F$34)/SUM($G$15:$G$34),\"\")","v":1.0282788883471476},{"$f":"IF(SUMIF($K$15:$K$34,Récapitulatif!$B$2,$G$15:$G$34)+SUMIF($K$15:$K$34,Récapitulatif!$B$3,$G$15:$G$34)>0,(SUMIF($K$15:$K$34,Récapitulatif!$B$2,$F$15:$F$34)+SUMIF($K$15:$K$34,Récapitulatif!$B$3,$F$15:$F$34))/(SUMIF($K$15:$K$34,Récapitulatif!$B$2,$G$15:$G$34)+SUMIF($K$15:$K$34,Récapitulatif!$B$3,$G$15:$G$34)),\"\")","v":""}]
[null,null,null,null,null,null,null,null,null,null,null,null,null,"Sets","Gagnés",{"$f":"SUMIF($K$15:$K$34,Récapitulatif!$B$2,$D$15:$D$34)","v":0},{"$f":"IF(P$6+P$7>0,P6/(P$6+P$7),\"\")","v":""},{"$f":"SUMIF($K$15:$K$34,Récapitulatif!$B$3,$D$15:$D$34)","v":0},{"$f":"IF(R$6+R$7>0,R6/(R$6+R$7),\"\")","v":""},{"$f":"SUM($D$15:$D$34)","v":23},{"$f":"IF(T$6+T$7>0,T6/(T$6+T$7),\"\")","v":0.54761904761904767}]
[null,null,null,null,null,null,null,null,null,null,null,null,null,null,"Perdus",{"$f":"SUMIF($K$15:$K$34,Récapitulatif!$B$2,$E$15:$E$34)","v":0},{"$f":"IF(P$6+P$7>0,P7/(P$6+P$7),\"\")","v":""},{"$f":"SUMIF($K$15:$K$34,Récapitulatif!$B$3,$E$15:$E$34)","v":0},{"$f":"IF(R$6+R$7>0,R7/(R$6+R$7),\"\")","v":""},{"$f":"SUM($E$15:$E$34)","v":19},{"$f":"IF(T$6+T$7>0,T7/(T$6+T$7),\"\")","v":0.45238095238095238}]
["Récapitulatif joueurs",null,null,null,null,null,null,null,null,null,null,null,null,null,"Total",{"$f":"SUM(P6:P7)","v":0},null,{"$f":"SUM(R6:R7)","v":0},null,{"$f":"SUM(T6:T7)","v":42}]
[]
[]
[]
[]
[]
[]
["Joueur","Adversaire","G/P","Sets gagnés","Sets perdus","pts marqués","pts subis","Date","Compétition","Phase","Saison"]
["MAUPIN Patrick","CAUX Frédéric","G",2,0,120,54,"2009-11-21","N1 Ligue T1 GRAVELINES","Poules",{"$f":"IF(H16<>\"\",IF(MONTH(H16)>MoisRef,YEAR(H16)&\"-\"&YEAR(H16)+1,YEAR(H16)-1&\"-\"&YEAR(H16)),\"\")","v":"2009-2010"},null,null,null,null,{"$f":"IF($K16=P$1,COUNTIF($C16,\"G\"),0)","v":0},null,{"$f":"IF($K16=R$1,COUNTIF($C16,\"G\"),0)","v":0}]
["MAUPIN Patrick","LAMBIASE Guiseppe","P",0,2,84,120,"2009-11-21","N1 Ligue T1 GRAVELINES","Poules","2009-2010",null,null,null,null,0,null,0]
["MAUPIN Patrick","TRIPLET Gilbert","G",2,0,120,81,"2009-11-21","N1 Ligue T1 GRAVELINES","Poules Consolante","2009-2010",null,null,null,null,0,null,0]
["MAUPIN Patrick","HORNAIN Denis","G",2,0,120,98,"2009-11-21","N1 Ligue T1 GRAVELINES","Poules Consolante","2009-2010",null,null,null,null,0,null,0]
["MAUPIN Patrick","CLYNCKE Jean-Jacques","G",2,1,175,173,"2009-11-21","N1 Ligue T1 GRAVELINES","1/2 Finale Consolante","2009-2010",null,null,null,null,0,null,0]
["MAUPIN Patrick","CAUX Frédéric","G",2,0,120,110,"2009-11-21","N1 Ligue T1 GRAVELINES","Finale Consolante","2009-2010",null,null,null,null,0,null,0]
["MAUPIN Patrick","CARPENTIER Yohanne","P",1,2,143,158,"2009-12-19","N1 Ligue T2 ANNOEULLIN","Poules","2009-2010",null,null,null,null,0,null,0]
["MAUPIN Patrick","CAUX Frédéric","P",0,2,59,120,"2009-12-19","N1 Ligue T2 ANNOEULLIN","Poules","2009-2010",null,null,null,null,0,null,0]
["MAUPIN Patrick","CLYNCKE Jean-Jacques","G",2,1,153,136,"2009-12-19","N1 Ligue T2 ANNOEULLIN","Poules Consolante","2009-2010",null,null,null,null,0,null,0]
["MAUPIN Patrick","CAUX Frédéric","G",2,0,120,67,"2009-12-19","N1 Ligue T2 ANNOEULLIN","Poules Consolante","2009-2010",null,null,null,null,0,null,0]
["MAUPIN Patrick","LHERMITTE Cédric","P",1,2,161,147,"2010-01-16","N1 Ligue T3 ANNOEULLIN","Poules Consolante","2009-2010",null,null,null,null,0,null,0]
["MAUPIN Patrick","TURPIN Laurent","P",1,2,115,159,"2010-01-16","N1 Ligue T3 ANNOEULLIN","Poules Consolante","2009-2010",null,null,null,null,0,null,0]
["MAUPIN Patrick","SAINT-GEORGES Claude","P",0,2,90,120,"2010-01-16","N1 Ligue T3 ANNOEULLIN","Poules","2009-2010",null,null,null,null,0,null,0]
["MAUPIN Patrick","WALLART Jean-Charles","P",0,2,71,120,"2010-01-16","N1 Ligue T3 ANNOEULLIN","Poules","2009-2010",null,null,null,null,0,null,0]
["MAUPIN Patrick","CARPENTIER Yohanne","G",2,0,120,68,"2010-02-20","N1 Ligue T4 DOUAI","Poules","2009-2010",null,null,null,null,0,null,0]
["MAUPIN Patrick","CARPENTIER Yohanne","G",2,1,160,146,"2010-02-20","N1 Ligue T4 DOUAI","Poules","2009-2010",null,null,null,null,0,null,0]
["MAUPIN Patrick","POULEYN André","G",2,0,120,54,"2010-02-20","N1 Ligue T4 DOUAI","1/8 Finale","2009-2010",null,null,null,null,0,null,0]
["MAUPIN Patrick","HORNAIN Denis","P",0,2,58,120,"2010-02-20","N1 Ligue T4 DOUAI","1/4 Finale","2009-2010",null,null,null,null,0,null,0]
["Fin des données",null,null,null,null,null,null,null,null,null,"",null,null,null,null,{"$f":"IF($K34=P$1,COUNTIF($C34,\"G\"),0)","v":0},null,{"$f":"IF($K34=R$1,COUNTIF($C34,\"G\"),0)","v":0}]

{"sheet":"MEUROT Philippe","index":65,"n_rows":20,"n_cols":22,"rows_kept":20,"cut":false,"hidden":false,"merged":[]}
["MEUROT Philippe",null,null,null,null,null,null,null,null,null,null,null,null,null,null,{"$f":"Récapitulatif!$B$2","v":"2014-2015"},null,{"$f":"Récapitulatif!$B$3","v":"2015-2016"},null,"Toutes saisons"]
["CUCQ",null,null,null,null,null,null,null,null,null,null,null,null,null,null,"Nombre","%age","Nombre","%age","Nombre","%age"]
["136010-E",null,null,null,null,null,null,null,null,null,null,null,null,"Matchs","Gagnés",{"$f":"SUM(P$15:P$20)","v":0},{"$f":"IF(P$3+P$4>0,P3/(P$3+P$4),\"\")","v":""},{"$f":"SUM(R$15:R$20)","v":0},{"$f":"IF(R$3+R$4>0,R3/(R$3+R$4),\"\")","v":""},{"$f":"COUNTIF($C$15:$C$20,\"G\")","v":2},{"$f":"IF(T$3+T$4>0,T3/(T$3+T$4),\"\")","v":0.5}]
[null,null,null,null,null,null,null,null,null,null,null,null,null,null,"Perdus",{"$f":"COUNTIF($K$15:$K$20,Récapitulatif!$B$2)-P3","v":0},{"$f":"IF(P$3+P$4>0,P4/(P$3+P$4),\"\")","v":""},{"$f":"COUNTIF($K$15:$K$20,Récapitulatif!$B$3)-R3","v":0},{"$f":"IF(R$3+R$4>0,R4/(R$3+R$4),\"\")","v":""},{"$f":"COUNTIF($C$15:$C$20,\"P\")","v":2},{"$f":"IF(T$3+T$4>0,T4/(T$3+T$4),\"\")","v":0.5}]
[null,null,null,null,null,null,null,null,null,null,null,null,null,null,"Total / Moy.",{"$f":"SUM(P3:P4)","v":0},{"$f":"IF(SUMIF($K$15:$K$20,Récapitulatif!$B$2,$G$15:$G$20)>0,SUMIF($K$15:$K$20,Récapitulatif!$B$2,$F$15:$F$20)/SUMIF($K$15:$K$20,Récapitulatif!$B$2,$G$15:$G$20),\"\")","v":""},{"$f":"SUM(R3:R4)","v":0},{"$f":"IF(SUMIF($K$15:$K$20,Récapitulatif!$B$3,$G$15:$G$20)>0,SUMIF($K$15:$K$20,Récapitulatif!$B$3,$F$15:$F$20)/SUMIF($K$15:$K$20,Récapitulatif!$B$3,$G$15:$G$20),\"\")","v":""},{"$f":"SUM(T3:T4)","v":4},{"$f":"IF(SUM($G$15:$G$20)>0,SUM($F$15:$F$20)/SUM($G$15:$G$20),\"\")","v":0.92592592592592593},{"$f":"IF(SUMIF($K$15:$K$20,Récapitulatif!$B$2,$G$15:$G$20)+SUMIF($K$15:$K$20,Récapitulatif!$B$3,$G$15:$G$20)>0,(SUMIF($K$15:$K$20,Récapitulatif!$B$2,$F$15:$F$20)+SUMIF($K$15:$K$20,Récapitulatif!$B$3,$F$15:$F$20))/(SUMIF($K$15:$K$20,Récapitulatif!$B$2,$G$15:$G$20)+SUMIF($K$15:$K$20,Récapitulatif!$B$3,$G$15:$G$20)),\"\")","v":""}]
[null,null,null,null,null,null,null,null,null,null,null,null,null,"Sets","Gagnés",{"$f":"SUMIF($K$15:$K$20,Récapitulatif!$B$2,$D$15:$D$20)","v":0},{"$f":"IF(P$6+P$7>0,P6/(P$6+P$7),\"\")","v":""},{"$f":"SUMIF($K$15:$K$20,Récapitulatif!$B$3,$D$15:$D$20)","v":0},{"$f":"IF(R$6+R$7>0,R6/(R$6+R$7),\"\")","v":""},{"$f":"SUM($D$15:$D$20)","v":5},{"$f":"IF(T$6+T$7>0,T6/(T$6+T$7),\"\")","v":0.5}]
[null,null,null,null,null,null,null,null,null,null,null,null,null,null,"Perdus",{"$f":"SUMIF($K$15:$K$20,Récapitulatif!$B$2,$E$15:$E$20)","v":0},{"$f":"IF(P$6+P$7>0,P7/(P$6+P$7),\"\")","v":""},{"$f":"SUMIF($K$15:$K$20,Récapitulatif!$B$3,$E$15:$E$20)","v":0},{"$f":"IF(R$6+R$7>0,R7/(R$6+R$7),\"\")","v":""},{"$f":"SUM($E$15:$E$20)","v":5},{"$f":"IF(T$6+T$7>0,T7/(T$6+T$7),\"\")","v":0.5}]
["Récapitulatif joueurs",null,null,null,null,null,null,null,null,null,null,null,null,null,"Total",{"$f":"SUM(P6:P7)","v":0},null,{"$f":"SUM(R6:R7)","v":0},null,{"$f":"SUM(T6:T7)","v":10}]
[]
[]
[]
[]
[]
[]
["Joueur","Adversaire","G/P","Sets gagnés","Sets perdus","pts marqués","pts subis","Date","Compétition","Phase","Saison"]
["MEUROT Philippe","MARTEL Jean-Pierre","P",1,2,85,159,"2010-02-20","N1 Ligue T4 DOUAI","Poules",{"$f":"IF(H16<>\"\",IF(MONTH(H16)>MoisRef,YEAR(H16)&\"-\"&YEAR(H16)+1,YEAR(H16)-1&\"-\"&YEAR(H16)),\"\")","v":"2009-2010"},null,null,null,null,{"$f":"IF($K16=P$1,COUNTIF($C16,\"G\"),0)","v":0},null,{"$f":"IF($K16=R$1,COUNTIF($C16,\"G\"),0)","v":0}]
["MEUROT Philippe","LHERMITTE Cédric","P",0,2,71,120,"2010-02-20","N1 Ligue T4 DOUAI","Poules",{"$f":"IF(H17<>\"\",IF(MONTH(H17)>MoisRef,YEAR(H17)&\"-\"&YEAR(H17)+1,YEAR(H17)-1&\"-\"&YEAR(H17)),\"\")","v":"2009-2010"},null,null,null,null,{"$f":"IF($K17=P$1,COUNTIF($C17,\"G\"),0)","v":0},null,{"$f":"IF($K17=R$1,COUNTIF($C17,\"G\"),0)","v":0}]
["MEUROT Philippe","HENNEUSE Patrick","G",2,1,149,107,"2010-02-20","N1 Ligue T4 DOUAI","Poules Consolante",{"$f":"IF(H18<>\"\",IF(MONTH(H18)>MoisRef,YEAR(H18)&\"-\"&YEAR(H18)+1,YEAR(H18)-1&\"-\"&YEAR(H18)),\"\")","v":"2009-2010"},null,null,null,null,{"$f":"IF($K18=P$1,COUNTIF($C18,\"G\"),0)","v":0},null,{"$f":"IF($K18=R$1,COUNTIF($C18,\"G\"),0)","v":0}]
["MEUROT Philippe","MARTEL Jean-Pierre","G",2,0,120,73,"2010-02-20","N1 Ligue T4 DOUAI","Poules Consolante",{"$f":"IF(H19<>\"\",IF(MONTH(H19)>MoisRef,YEAR(H19)&\"-\"&YEAR(H19)+1,YEAR(H19)-1&\"-\"&YEAR(H19)),\"\")","v":"2009-2010"},null,null,null,null,{"$f":"IF($K19=P$1,COUNTIF($C19,\"G\"),0)","v":0},null,{"$f":"IF($K19=R$1,COUNTIF($C19,\"G\"),0)","v":0}]
["Fin des données",null,null,null,null,null,null,null,null,null,{"$f":"IF(H20<>\"\",IF(MONTH(H20)>MoisRef,YEAR(H20)&\"-\"&YEAR(H20)+1,YEAR(H20)-1&\"-\"&YEAR(H20)),\"\")","v":""},null,null,null,null,{"$f":"IF($K20=P$1,COUNTIF($C20,\"G\"),0)","v":0},null,{"$f":"IF($K20=R$1,COUNTIF($C20,\"G\"),0)","v":0}]

{"sheet":"MONFLIER Francis","index":66,"n_rows":33,"n_cols":22,"rows_kept":33,"cut":false,"hidden":false,"merged":[]}
["MONFLIER Francis",null,null,null,null,null,null,null,null,null,null,null,null,null,null,{"$f":"Récapitulatif!$B$2","v":"2014-2015"},null,{"$f":"Récapitulatif!$B$3","v":"2015-2016"},null,"Toutes saisons"]
[{"$error":"#N/A"},null,null,null,null,null,null,null,null,null,null,null,null,null,null,"Nombre","%age","Nombre","%age","Nombre","%age"]
[{"$error":"#N/A"},null,null,null,null,null,null,null,null,null,null,null,null,"Matchs","Gagnés",{"$f":"SUM(P$15:P$33)","v":0},{"$f":"IF(P$3+P$4>0,P3/(P$3+P$4),\"\")","v":""},{"$f":"SUM(R$15:R$33)","v":0},{"$f":"IF(R$3+R$4>0,R3/(R$3+R$4),\"\")","v":""},{"$f":"COUNTIF($C$15:$C$33,\"G\")","v":2},{"$f":"IF(T$3+T$4>0,T3/(T$3+T$4),\"\")","v":0.11764705882352941}]
[{"$error":"#N/A"},null,null,null,null,null,null,null,null,null,null,null,null,null,"Perdus",{"$f":"COUNTIF($K$15:$K$33,Récapitulatif!$B$2)-P3","v":0},{"$f":"IF(P$3+P$4>0,P4/(P$3+P$4),\"\")","v":""},{"$f":"COUNTIF($K$15:$K$33,Récapitulatif!$B$3)-R3","v":0},{"$f":"IF(R$3+R$4>0,R4/(R$3+R$4),\"\")","v":""},{"$f":"COUNTIF($C$15:$C$33,\"P\")","v":15},{"$f":"IF(T$3+T$4>0,T4/(T$3+T$4),\"\")","v":0.88235294117647056}]
[{"$error":"#N/A"},null,null,null,null,null,null,null,null,null,null,null,null,null,"Total / Moy.",{"$f":"SUM(P3:P4)","v":0},{"$f":"IF(SUMIF($K$15:$K$33,Récapitulatif!$B$2,$G$15:$G$33)>0,SUMIF($K$15:$K$33,Récapitulatif!$B$2,$F$15:$F$33)/SUMIF($K$15:$K$33,Récapitulatif!$B$2,$G$15:$G$33),\"\")","v":""},{"$f":"SUM(R3:R4)","v":0},{"$f":"IF(SUMIF($K$15:$K$33,Récapitulatif!$B$3,$G$15:$G$33)>0,SUMIF($K$15:$K$33,Récapitulatif!$B$3,$F$15:$F$33)/SUMIF($K$15:$K$33,Récapitulatif!$B$3,$G$15:$G$33),\"\")","v":""},{"$f":"SUM(T3:T4)","v":17},{"$f":"IF(SUM($G$15:$G$33)>0,SUM($F$15:$F$33)/SUM($G$15:$G$33),\"\")","v":0.65747460087082732},{"$f":"IF(SUMIF($K$15:$K$33,Récapitulatif!$B$2,$G$15:$G$33)+SUMIF($K$15:$K$33,Récapitulatif!$B$3,$G$15:$G$33)>0,(SUMIF($K$15:$K$33,Récapitulatif!$B$2,$F$15:$F$33)+SUMIF($K$15:$K$33,Récapitulatif!$B$3,$F$15:$F$33))/(SUMIF($K$15:$K$33,Récapitulatif!$B$2,$G$15:$G$33)+SUMIF($K$15:$K$33,Récapitulatif!$B$3,$G$15:$G$33)),\"\")","v":""}]
[null,null,null,null,null,null,null,null,null,null,null,null,null,"Sets","Gagnés",{"$f":"SUMIF($K$15:$K$33,Récapitulatif!$B$2,$D$15:$D$33)","v":0},{"$f":"IF(P$6+P$7>0,P6/(P$6+P$7),\"\")","v":""},{"$f":"SUMIF($K$15:$K$33,Récapitulatif!$B$3,$D$15:$D$33)","v":0},{"$f":"IF(R$6+R$7>0,R6/(R$6+R$7),\"\")","v":""},{"$f":"SUM($D$15:$D$33)","v":6},{"$f":"IF(T$6+T$7>0,T6/(T$6+T$7),\"\")","v":0.1875}]
[null,null,null,null,null,null,null,null,null,null,null,null,null,null,"Perdus",{"$f":"SUMIF($K$15:$K$33,Récapitulatif!$B$2,$E$15:$E$33)","v":0},{"$f":"IF(P$6+P$7>0,P7/(P$6+P$7),\"\")","v":""},{"$f":"SUMIF($K$15:$K$33,Récapitulatif!$B$3,$E$15:$E$33)","v":0},{"$f":"IF(R$6+R$7>0,R7/(R$6+R$7),\"\")","v":""},{"$f":"SUM($E$15:$E$33)","v":26},{"$f":"IF(T$6+T$7>0,T7/(T$6+T$7),\"\")","v":0.8125}]
["Récapitulatif joueurs",null,null,null,null,null,null,null,null,null,null,null,null,null,"Total",{"$f":"SUM(P6:P7)","v":0},null,{"$f":"SUM(R6:R7)","v":0},null,{"$f":"SUM(T6:T7)","v":32}]
[]
[]
[]
[]
[]
[]
["Joueur","Adversaire","G/P","Sets gagnés","Sets perdus","pts marqués","pts subis","Date","Compétition","Phase","Saison"]
["MONFLIER Francis","POULEYN André","G",2,1,152,136,"2010-12-11","N1 Ligue T3 GRAVELINES","Poules",{"$f":"IF(H16<>\"\",IF(MONTH(H16)>MoisRef,YEAR(H16)&\"-\"&YEAR(H16)+1,YEAR(H16)-1&\"-\"&YEAR(H16)),\"\")","v":"2010-2011"},null,null,null,null,{"$f":"IF($K16=P$1,COUNTIF($C16,\"G\"),0)","v":0},null,{"$f":"IF($K16=R$1,COUNTIF($C16,\"G\"),0)","v":0}]
["MONFLIER Francis","WALLART Jean-Charles","P",0,2,30,120,"2010-12-11","N1 Ligue T3 GRAVELINES","Poules","2010-2011",null,null,null,null,0,null,0]
["MONFLIER Francis","CAUX Frédéric","P",1,2,136,168,"2010-12-11","N1 Ligue T3 GRAVELINES","Poules Consolante","2010-2011",null,null,null,null,0,null,0]
["MONFLIER Francis","CARPENTIER Yohanne","P",1,2,107,173,"2010-12-11","N1 Ligue T3 GRAVELINES","Poules Consolante","2010-2011",null,null,null,null,0,null,0]
["MONFLIER Francis","KAYA Turgul","P",0,1,95,100,"2012-01-28","N1 Ligue T4 GRAVELINES","Poules Consolante","2011-2012",null,null,null,null,0,null,0]
["MONFLIER Francis","DEROLEZ Jean-Pierre","P",0,1,83,100,"2012-01-28","N1 Ligue T4 GRAVELINES","Poules Consolante","2011-2012",null,null,null,null,0,null,0]
["MONFLIER Francis","LEMÂTRE Jérémy","P",0,2,42,120,"2012-01-28","N1 Ligue T4 GRAVELINES","Poules","2011-2012",null,null,null,null,0,null,0]
["MONFLIER Francis","WALLART Jean-Charles","P",0,2,68,120,"2012-01-28","N1 Ligue T4 GRAVELINES","Poules","2011-2012",null,null,null,null,0,null,0]
["MONFLIER Francis","LEMÂTRE Jérémy","P",0,2,44,120,"2012-01-28","N1 Ligue T4 GRAVELINES","1/8 Finale","2011-2012",null,null,null,null,0,null,0]
["MONFLIER Francis","HORNAIN Denis","P",0,2,82,120,"2012-11-24","N1 Ligue T3 CALAIS","Poules","2012-2013",null,null,null,null,0,null,0]
["MONFLIER Francis","WALLART Jean-Charles","P",0,2,38,120,"2012-11-24","N1 Ligue T3 CALAIS","Poules","2012-2013",null,null,null,null,0,null,0]
["MONFLIER Francis","MARRONNIER Jean-Luc","G",1,0,100,73,"2012-11-24","N1 Ligue T3 CALAIS","Poules Consolante","2012-2013",null,null,null,null,0,null,0]
["MONFLIER Francis","MAILLE Bernard","P",0,1,59,100,"2012-11-24","N1 Ligue T3 CALAIS","Poules Consolante","2012-2013",null,null,null,null,0,null,0]
["MONFLIER Francis","STOPIN Gilles","P",1,2,138,177,"2014-04-05","N1 Ligue T3 GRAVELINES","Poules","2013-2014",null,null,null,null,0,null,0]
["MONFLIER Francis","LHERMITTE Cédric","P",0,2,70,120,"2014-04-05","N1 Ligue T3 GRAVELINES","Poules","2013-2014",null,null,null,null,0,null,0]
["MONFLIER Francis","HERREBRECHT Thierry","P",0,1,39,100,"2014-04-05","N1 Ligue T3 GRAVELINES","Poules Consolante","2013-2014",null,null,null,null,0,null,0]
["MONFLIER Francis","CAUX Grégory","P",0,1,76,100,"2014-04-05","N1 Ligue T3 GRAVELINES","Poules Consolante","2013-2014",null,null,null,null,0,null,0]
["Fin des données",null,null,null,null,null,null,null,null,null,"",null,null,null,null,0,null,0]

{"sheet":"PAILLARD Bertrand","index":67,"n_rows":20,"n_cols":22,"rows_kept":20,"cut":false,"hidden":false,"merged":[]}
["PAILLARD Bertrand",null,null,null,null,null,null,null,null,null,null,null,null,null,null,{"$f":"Récapitulatif!$B$2","v":"2014-2015"},null,{"$f":"Récapitulatif!$B$3","v":"2015-2016"},null,"Toutes saisons"]
["<Club>",null,null,null,null,null,null,null,null,null,null,null,null,null,null,"Nombre","%age","Nombre","%age","Nombre","%age"]
["<Licence>",null,null,null,null,null,null,null,null,null,null,null,null,"Matchs","Gagnés",{"$f":"SUM(P$15:P$20)","v":0},{"$f":"IF(P$3+P$4>0,P3/(P$3+P$4),\"\")","v":""},{"$f":"SUM(R$15:R$20)","v":0},{"$f":"IF(R$3+R$4>0,R3/(R$3+R$4),\"\")","v":""},{"$f":"COUNTIF($C$15:$C$20,\"G\")","v":0},{"$f":"IF(T$3+T$4>0,T3/(T$3+T$4),\"\")","v":0}]
["<Tel>",null,null,null,null,null,null,null,null,null,null,null,null,null,"Perdus",{"$f":"COUNTIF($K$15:$K$20,Récapitulatif!$B$2)-P3","v":0},{"$f":"IF(P$3+P$4>0,P4/(P$3+P$4),\"\")","v":""},{"$f":"COUNTIF($K$15:$K$20,Récapitulatif!$B$3)-R3","v":0},{"$f":"IF(R$3+R$4>0,R4/(R$3+R$4),\"\")","v":""},{"$f":"COUNTIF($C$15:$C$20,\"P\")","v":4},{"$f":"IF(T$3+T$4>0,T4/(T$3+T$4),\"\")","v":1}]
["<email>",null,null,null,null,null,null,null,null,null,null,null,null,null,"Total / Moy.",{"$f":"SUM(P3:P4)","v":0},{"$f":"IF(SUMIF($K$15:$K$20,Récapitulatif!$B$2,$G$15:$G$20)>0,SUMIF($K$15:$K$20,Récapitulatif!$B$2,$F$15:$F$20)/SUMIF($K$15:$K$20,Récapitulatif!$B$2,$G$15:$G$20),\"\")","v":""},{"$f":"SUM(R3:R4)","v":0},{"$f":"IF(SUMIF($K$15:$K$20,Récapitulatif!$B$3,$G$15:$G$20)>0,SUMIF($K$15:$K$20,Récapitulatif!$B$3,$F$15:$F$20)/SUMIF($K$15:$K$20,Récapitulatif!$B$3,$G$15:$G$20),\"\")","v":""},{"$f":"SUM(T3:T4)","v":4},{"$f":"IF(SUM($G$15:$G$20)>0,SUM($F$15:$F$20)/SUM($G$15:$G$20),\"\")","v":0.68909090909090909},{"$f":"IF(SUMIF($K$15:$K$20,Récapitulatif!$B$2,$G$15:$G$20)+SUMIF($K$15:$K$20,Récapitulatif!$B$3,$G$15:$G$20)>0,(SUMIF($K$15:$K$20,Récapitulatif!$B$2,$F$15:$F$20)+SUMIF($K$15:$K$20,Récapitulatif!$B$3,$F$15:$F$20))/(SUMIF($K$15:$K$20,Récapitulatif!$B$2,$G$15:$G$20)+SUMIF($K$15:$K$20,Récapitulatif!$B$3,$G$15:$G$20)),\"\")","v":""}]
[null,null,null,null,null,null,null,null,null,null,null,null,null,"Sets","Gagnés",{"$f":"SUMIF($K$15:$K$20,Récapitulatif!$B$2,$D$15:$D$20)","v":0},{"$f":"IF(P$6+P$7>0,P6/(P$6+P$7),\"\")","v":""},{"$f":"SUMIF($K$15:$K$20,Récapitulatif!$B$3,$D$15:$D$20)","v":0},{"$f":"IF(R$6+R$7>0,R6/(R$6+R$7),\"\")","v":""},{"$f":"SUM($D$15:$D$20)","v":2},{"$f":"IF(T$6+T$7>0,T6/(T$6+T$7),\"\")","v":0.25}]
[null,null,null,null,null,null,null,null,null,null,null,null,null,null,"Perdus",{"$f":"SUMIF($K$15:$K$20,Récapitulatif!$B$2,$E$15:$E$20)","v":0},{"$f":"IF(P$6+P$7>0,P7/(P$6+P$7),\"\")","v":""},{"$f":"SUMIF($K$15:$K$20,Récapitulatif!$B$3,$E$15:$E$20)","v":0},{"$f":"IF(R$6+R$7>0,R7/(R$6+R$7),\"\")","v":""},{"$f":"SUM($E$15:$E$20)","v":6},{"$f":"IF(T$6+T$7>0,T7/(T$6+T$7),\"\")","v":0.75}]
["Récapitulatif joueurs",null,null,null,null,null,null,null,null,null,null,null,null,null,"Total",{"$f":"SUM(P6:P7)","v":0},null,{"$f":"SUM(R6:R7)","v":0},null,{"$f":"SUM(T6:T7)","v":8}]
[]
[]
[]
[]
[]
[]
["Joueur","Adversaire","G/P","Sets gagnés","Sets perdus","pts marqués","pts subis","Date","Compétition","Phase","Saison"]
["PAILLARD Bertrand","LUBREZ Pierre","P",1,2,120,179,"2014-04-05","N1 Ligue T3 GRAVELINES","Poules",{"$f":"IF(H16<>\"\",IF(MONTH(H16)>MoisRef,YEAR(H16)&\"-\"&YEAR(H16)+1,YEAR(H16)-1&\"-\"&YEAR(H16)),\"\")","v":"2013-2014"},null,null,null,null,{"$f":"IF($K16=P$1,COUNTIF($C16,\"G\"),0)","v":0},null,{"$f":"IF($K16=R$1,COUNTIF($C16,\"G\"),0)","v":0}]
["PAILLARD Bertrand","DEROLEZ Jean-Pierre","P",1,2,142,171,"2014-04-05","N1 Ligue T3 GRAVELINES","Poules",{"$f":"IF(H17<>\"\",IF(MONTH(H17)>MoisRef,YEAR(H17)&\"-\"&YEAR(H17)+1,YEAR(H17)-1&\"-\"&YEAR(H17)),\"\")","v":"2013-2014"},null,null,null,null,{"$f":"IF($K17=P$1,COUNTIF($C17,\"G\"),0)","v":0},null,{"$f":"IF($K17=R$1,COUNTIF($C17,\"G\"),0)","v":0}]
["PAILLARD Bertrand","VERPOORT José","P",0,1,62,100,"2014-04-05","N1 Ligue T3 GRAVELINES","Poules Consolante",{"$f":"IF(H18<>\"\",IF(MONTH(H18)>MoisRef,YEAR(H18)&\"-\"&YEAR(H18)+1,YEAR(H18)-1&\"-\"&YEAR(H18)),\"\")","v":"2013-2014"},null,null,null,null,{"$f":"IF($K18=P$1,COUNTIF($C18,\"G\"),0)","v":0},null,{"$f":"IF($K18=R$1,COUNTIF($C18,\"G\"),0)","v":0}]
["PAILLARD Bertrand","DEROLEZ Jean-Pierre","P",0,1,55,100,"2014-04-05","N1 Ligue T3 GRAVELINES","Poules Consolante",{"$f":"IF(H19<>\"\",IF(MONTH(H19)>MoisRef,YEAR(H19)&\"-\"&YEAR(H19)+1,YEAR(H19)-1&\"-\"&YEAR(H19)),\"\")","v":"2013-2014"},null,null,null,null,{"$f":"IF($K19=P$1,COUNTIF($C19,\"G\"),0)","v":0},null,{"$f":"IF($K19=R$1,COUNTIF($C19,\"G\"),0)","v":0}]
["Fin des données",null,null,null,null,null,null,null,null,null,{"$f":"IF(H20<>\"\",IF(MONTH(H20)>MoisRef,YEAR(H20)&\"-\"&YEAR(H20)+1,YEAR(H20)-1&\"-\"&YEAR(H20)),\"\")","v":""},null,null,null,null,{"$f":"IF($K20=P$1,COUNTIF($C20,\"G\"),0)","v":0},null,{"$f":"IF($K20=R$1,COUNTIF($C20,\"G\"),0)","v":0}]

{"sheet":"PARISIS Francis","index":68,"n_rows":25,"n_cols":22,"rows_kept":25,"cut":false,"hidden":false,"merged":[]}
["PARISIS Francis",null,null,null,null,null,null,null,null,null,null,null,null,null,null,{"$f":"Récapitulatif!$B$2","v":"2014-2015"},null,{"$f":"Récapitulatif!$B$3","v":"2015-2016"},null,"Toutes saisons"]
[{"$error":"#N/A"},null,null,null,null,null,null,null,null,null,null,null,null,null,null,"Nombre","%age","Nombre","%age","Nombre","%age"]
[{"$error":"#N/A"},null,null,null,null,null,null,null,null,null,null,null,null,"Matchs","Gagnés",{"$f":"SUM(P$15:P$25)","v":0},{"$f":"IF(P$3+P$4>0,P3/(P$3+P$4),\"\")","v":""},{"$f":"SUM(R$15:R$25)","v":0},{"$f":"IF(R$3+R$4>0,R3/(R$3+R$4),\"\")","v":""},{"$f":"COUNTIF($C$15:$C$25,\"G\")","v":1},{"$f":"IF(T$3+T$4>0,T3/(T$3+T$4),\"\")","v":0.1111111111111111}]
[{"$error":"#N/A"},null,null,null,null,null,null,null,null,null,null,null,null,null,"Perdus",{"$f":"COUNTIF($K$15:$K$25,Récapitulatif!$B$2)-P3","v":0},{"$f":"IF(P$3+P$4>0,P4/(P$3+P$4),\"\")","v":""},{"$f":"COUNTIF($K$15:$K$25,Récapitulatif!$B$3)-R3","v":0},{"$f":"IF(R$3+R$4>0,R4/(R$3+R$4),\"\")","v":""},{"$f":"COUNTIF($C$15:$C$25,\"P\")","v":8},{"$f":"IF(T$3+T$4>0,T4/(T$3+T$4),\"\")","v":0.88888888888888884}]
[{"$error":"#N/A"},null,null,null,null,null,null,null,null,null,null,null,null,null,"Total / Moy.",{"$f":"SUM(P3:P4)","v":0},{"$f":"IF(SUMIF($K$15:$K$25,Récapitulatif!$B$2,$G$15:$G$25)>0,SUMIF($K$15:$K$25,Récapitulatif!$B$2,$F$15:$F$25)/SUMIF($K$15:$K$25,Récapitulatif!$B$2,$G$15:$G$25),\"\")","v":""},{"$f":"SUM(R3:R4)","v":0},{"$f":"IF(SUMIF($K$15:$K$25,Récapitulatif!$B$3,$G$15:$G$25)>0,SUMIF($K$15:$K$25,Récapitulatif!$B$3,$F$15:$F$25)/SUMIF($K$15:$K$25,Récapitulatif!$B$3,$G$15:$G$25),\"\")","v":""},{"$f":"SUM(T3:T4)","v":9},{"$f":"IF(SUM($G$15:$G$25)>0,SUM($F$15:$F$25)/SUM($G$15:$G$25),\"\")","v":0.53497942386831276},{"$f":"IF(SUMIF($K$15:$K$25,Récapitulatif!$B$2,$G$15:$G$25)+SUMIF($K$15:$K$25,Récapitulatif!$B$3,$G$15:$G$25)>0,(SUMIF($K$15:$K$25,Récapitulatif!$B$2,$F$15:$F$25)+SUMIF($K$15:$K$25,Récapitulatif!$B$3,$F$15:$F$25))/(SUMIF($K$15:$K$25,Récapitulatif!$B$2,$G$15:$G$25)+SUMIF($K$15:$K$25,Récapitulatif!$B$3,$G$15:$G$25)),\"\")","v":""}]
[null,null,null,null,null,null,null,null,null,null,null,null,null,"Sets","Gagnés",{"$f":"SUMIF($K$15:$K$25,Récapitulatif!$B$2,$D$15:$D$25)","v":0},{"$f":"IF(P$6+P$7>0,P6/(P$6+P$7),\"\")","v":""},{"$f":"SUMIF($K$15:$K$25,Récapitulatif!$B$3,$D$15:$D$25)","v":0},{"$f":"IF(R$6+R$7>0,R6/(R$6+R$7),\"\")","v":""},{"$f":"SUM($D$15:$D$25)","v":2},{"$f":"IF(T$6+T$7>0,T6/(T$6+T$7),\"\")","v":0.14285714285714285}]
[null,null,null,null,null,null,null,null,null,null,null,null,null,null,"Perdus",{"$f":"SUMIF($K$15:$K$25,Récapitulatif!$B$2,$E$15:$E$25)","v":0},{"$f":"IF(P$6+P$7>0,P7/(P$6+P$7),\"\")","v":""},{"$f":"SUMIF($K$15:$K$25,Récapitulatif!$B$3,$E$15:$E$25)","v":0},{"$f":"IF(R$6+R$7>0,R7/(R$6+R$7),\"\")","v":""},{"$f":"SUM($E$15:$E$25)","v":12},{"$f":"IF(T$6+T$7>0,T7/(T$6+T$7),\"\")","v":0.8571428571428571}]
["Récapitulatif joueurs",null,null,null,null,null,null,null,null,null,null,null,null,null,"Total",{"$f":"SUM(P6:P7)","v":0},null,{"$f":"SUM(R6:R7)","v":0},null,{"$f":"SUM(T6:T7)","v":14}]
[]
[]
[]
[]
[]
[]
["Joueur","Adversaire","G/P","Sets gagnés","Sets perdus","pts marqués","pts subis","Date","Compétition","Phase","Saison"]
["PARISIS Francis","VEREECQUE Ludovic","P",0,2,40,120,"2012-11-24","N1 Ligue T3 CALAIS","Poules",{"$f":"IF(H16<>\"\",IF(MONTH(H16)>MoisRef,YEAR(H16)&\"-\"&YEAR(H16)+1,YEAR(H16)-1&\"-\"&YEAR(H16)),\"\")","v":"2012-2013"},null,null,null,null,{"$f":"IF($K16=P$1,COUNTIF($C16,\"G\"),0)","v":0},null,{"$f":"IF($K16=R$1,COUNTIF($C16,\"G\"),0)","v":0}]
["PARISIS Francis","DEROLEZ Jean-Pierre","P",0,2,44,120,"2012-11-24","N1 Ligue T3 CALAIS","Poules","2012-2013",null,null,null,null,0,null,0]
["PARISIS Francis","ZEUDE Alain","P",0,1,42,100,"2012-11-24","N1 Ligue T3 CALAIS","Poules Consolante","2012-2013",null,null,null,null,0,null,0]
["PARISIS Francis","LORTHIOIR Jean-Luc","P",0,1,44,100,"2012-11-24","N1 Ligue T3 CALAIS","Poules Consolante","2012-2013",null,null,null,null,0,null,0]
["PARISIS Francis","HERREBRECHT Erian","G",2,0,120,92,"2014-04-05","N1 Ligue T3 GRAVELINES","Poules","2013-2014",null,null,null,null,0,null,0]
["PARISIS Francis","CAUX Grégory","P",0,2,62,120,"2014-04-05","N1 Ligue T3 GRAVELINES","Poules","2013-2014",null,null,null,null,0,null,0]
["PARISIS Francis","DEVOS Jackie","P",0,2,30,120,"2014-04-05","N1 Ligue T3 GRAVELINES","1/8 Finale","2013-2014",null,null,null,null,0,null,0]
["PARISIS Francis","ALDEGUER Lionel","P",0,1,48,100,"2014-04-05","N1 Ligue T3 GRAVELINES","Poules Consolante","2013-2014",null,null,null,null,0,null,0]
["PARISIS Francis","VEREECQUE Bernard","P",0,1,90,100,"2014-04-05","N1 Ligue T3 GRAVELINES","Poules Consolante","2013-2014",null,null,null,null,0,null,0]
["Fin des données",null,null,null,null,null,null,null,null,null,"",null,null,null,null,0,null,0]

{"sheet":"PIERRU Didier","index":69,"n_rows":24,"n_cols":22,"rows_kept":24,"cut":false,"hidden":false,"merged":[]}
["PIERRU Didier",null,null,null,null,null,null,null,null,null,null,null,null,null,null,{"$f":"Récapitulatif!$B$2","v":"2014-2015"},null,{"$f":"Récapitulatif!$B$3","v":"2015-2016"},null,"Toutes saisons"]
["<Club>",null,null,null,null,null,null,null,null,null,null,null,null,null,null,"Nombre","%age","Nombre","%age","Nombre","%age"]
["<Licence>",null,null,null,null,null,null,null,null,null,null,null,null,"Matchs","Gagnés",{"$f":"SUM(P$15:P$24)","v":0},{"$f":"IF(P$3+P$4>0,P3/(P$3+P$4),\"\")","v":""},{"$f":"SUM(R$15:R$24)","v":1},{"$f":"IF(R$3+R$4>0,R3/(R$3+R$4),\"\")","v":0.125},{"$f":"COUNTIF($C$15:$C$24,\"G\")","v":1},{"$f":"IF(T$3+T$4>0,T3/(T$3+T$4),\"\")","v":0.125}]
["<Tel>",null,null,null,null,null,null,null,null,null,null,null,null,null,"Perdus",{"$f":"COUNTIF($K$15:$K$24,Récapitulatif!$B$2)-P3","v":0},{"$f":"IF(P$3+P$4>0,P4/(P$3+P$4),\"\")","v":""},{"$f":"COUNTIF($K$15:$K$24,Récapitulatif!$B$3)-R3","v":7},{"$f":"IF(R$3+R$4>0,R4/(R$3+R$4),\"\")","v":0.875},{"$f":"COUNTIF($C$15:$C$24,\"P\")","v":7},{"$f":"IF(T$3+T$4>0,T4/(T$3+T$4),\"\")","v":0.875}]
["<email>",null,null,null,null,null,null,null,null,null,null,null,null,null,"Total / Moy.",{"$f":"SUM(P3:P4)","v":0},{"$f":"IF(SUMIF($K$15:$K$24,Récapitulatif!$B$2,$G$15:$G$24)>0,SUMIF($K$15:$K$24,Récapitulatif!$B$2,$F$15:$F$24)/SUMIF($K$15:$K$24,Récapitulatif!$B$2,$G$15:$G$24),\"\")","v":""},{"$f":"SUM(R3:R4)","v":8},{"$f":"IF(SUMIF($K$15:$K$24,Récapitulatif!$B$3,$G$15:$G$24)>0,SUMIF($K$15:$K$24,Récapitulatif!$B$3,$F$15:$F$24)/SUMIF($K$15:$K$24,Récapitulatif!$B$3,$G$15:$G$24),\"\")","v":0.70756972111553784},{"$f":"SUM(T3:T4)","v":8},{"$f":"IF(SUM($G$15:$G$24)>0,SUM($F$15:$F$24)/SUM($G$15:$G$24),\"\")","v":0.70756972111553784},{"$f":"IF(SUMIF($K$15:$K$24,Récapitulatif!$B$2,$G$15:$G$24)+SUMIF($K$15:$K$24,Récapitulatif!$B$3,$G$15:$G$24)>0,(SUMIF($K$15:$K$24,Récapitulatif!$B$2,$F$15:$F$24)+SUMIF($K$15:$K$24,Récapitulatif!$B$3,$F$15:$F$24))/(SUMIF($K$15:$K$24,Récapitulatif!$B$2,$G$15:$G$24)+SUMIF($K$15:$K$24,Récapitulatif!$B$3,$G$15:$G$24)),\"\")","v":0.70756972111553784}]
[null,null,null,null,null,null,null,null,null,null,null,null,null,"Sets","Gagnés",{"$f":"SUMIF($K$15:$K$24,Récapitulatif!$B$2,$D$15:$D$24)","v":0},{"$f":"IF(P$6+P$7>0,P6/(P$6+P$7),\"\")","v":""},{"$f":"SUMIF($K$15:$K$24,Récapitulatif!$B$3,$D$15:$D$24)","v":5},{"$f":"IF(R$6+R$7>0,R6/(R$6+R$7),\"\")","v":0.22727272727272727},{"$f":"SUM($D$15:$D$24)","v":5},{"$f":"IF(T$6+T$7>0,T6/(T$6+T$7),\"\")","v":0.22727272727272727}]
[null,null,null,null,null,null,null,null,null,null,null,null,null,null,"Perdus",{"$f":"SUMIF($K$15:$K$24,Récapitulatif!$B$2,$E$15:$E$24)","v":0},{"$f":"IF(P$6+P$7>0,P7/(P$6+P$7),\"\")","v":""},{"$f":"SUMIF($K$15:$K$24,Récapitulatif!$B$3,$E$15:$E$24)","v":17},{"$f":"IF(R$6+R$7>0,R7/(R$6+R$7),\"\")","v":0.77272727272727271},{"$f":"SUM($E$15:$E$24)","v":17},{"$f":"IF(T$6+T$7>0,T7/(T$6+T$7),\"\")","v":0.77272727272727271}]
["Récapitulatif joueurs",null,null,null,null,null,null,null,null,null,null,null,null,null,"Total",{"$f":"SUM(P6:P7)","v":0},null,{"$f":"SUM(R6:R7)","v":22},null,{"$f":"SUM(T6:T7)","v":22}]
[]
[]
[]
[]
[]
[]
["Joueur","Adversaire","G/P","Sets gagnés","Sets perdus","pts marqués","pts subis","Date","Compétition","Phase","Saison"]
["PIERRU Didier","SACRE Jean-Yves","P",1,2,150,178,"2015-12-11","National T3 FACHES THUMESNIL - RONCHIN","Préqualifs",{"$f":"IF(H16<>\"\",IF(MONTH(H16)>MoisRef,YEAR(H16)&\"-\"&YEAR(H16)+1,YEAR(H16)-1&\"-\"&YEAR(H16)),\"\")","v":"2015-2016"},null,null,null,null,{"$f":"IF($K16=P$1,COUNTIF($C16,\"G\"),0)","v":0},null,{"$f":"IF($K16=R$1,COUNTIF($C16,\"G\"),0)","v":0}]
["PIERRU Didier","POULEYN André","P",0,2,85,120,"2015-12-11","National T3 FACHES THUMESNIL - RONCHIN","Préqualifs","2015-2016",null,null,null,null,0,null,0]
["PIERRU Didier","MORALES Luis","P",1,2,128,158,"2015-12-11","National T3 FACHES THUMESNIL - RONCHIN","Préqualifs","2015-2016",null,null,null,null,0,null,0]
["PIERRU Didier","MAILLAT Emmanuel","P",0,2,86,120,"2016-03-04","National T5 GRAVELINES","Préqualifs","2015-2016",null,null,null,null,0,null,0]
["PIERRU Didier","KERCRET Geneviève","G",2,1,155,151,"2016-03-04","National T5 GRAVELINES","Préqualifs","2015-2016",null,null,null,null,0,null,1]
["PIERRU Didier","FOURRE Cédric","P",0,2,21,120,"2016-03-04","National T5 GRAVELINES","Préqualifs","2015-2016",null,null,null,null,0,null,0]
["PIERRU Didier","FOURRE Cédric","P",0,3,97,180,"2016-03-05","National T5 GRAVELINES","Qualifs promotion","2015-2016",null,null,null,null,0,null,0]
["PIERRU Didier","LEBOEUF Sylvain","P",1,3,166,228,"2016-03-05","National T5 GRAVELINES","Qualifs promotion","2015-2016",null,null,null,null,0,null,0]
["Fin des données",null,null,null,null,null,null,null,null,null,"",null,null,null,null,{"$f":"IF($K24=P$1,COUNTIF($C24,\"G\"),0)","v":0},null,{"$f":"IF($K24=R$1,COUNTIF($C24,\"G\"),0)","v":0}]

{"sheet":"PONCHANT Grégory","index":70,"n_rows":32,"n_cols":22,"rows_kept":32,"cut":false,"hidden":false,"merged":[]}
["PONCHANT Grégory",null,null,null,null,null,null,null,null,null,null,null,null,null,null,{"$f":"Récapitulatif!$B$2","v":"2014-2015"},null,{"$f":"Récapitulatif!$B$3","v":"2015-2016"},null,"Toutes saisons"]
[{"$error":"#N/A"},null,null,null,null,null,null,null,null,null,null,null,null,null,null,"Nombre","%age","Nombre","%age","Nombre","%age"]
[{"$error":"#N/A"},null,null,null,null,null,null,null,null,null,null,null,null,"Matchs","Gagnés",{"$f":"SUM(P$15:P$32)","v":0},{"$f":"IF(P$3+P$4>0,P3/(P$3+P$4),\"\")","v":""},{"$f":"SUM(R$15:R$32)","v":0},{"$f":"IF(R$3+R$4>0,R3/(R$3+R$4),\"\")","v":""},{"$f":"COUNTIF($C$15:$C$32,\"G\")","v":5},{"$f":"IF(T$3+T$4>0,T3/(T$3+T$4),\"\")","v":0.3125}]
[{"$error":"#N/A"},null,null,null,null,null,null,null,null,null,null,null,null,null,"Perdus",{"$f":"COUNTIF($K$15:$K$32,Récapitulatif!$B$2)-P3","v":0},{"$f":"IF(P$3+P$4>0,P4/(P$3+P$4),\"\")","v":""},{"$f":"COUNTIF($K$15:$K$32,Récapitulatif!$B$3)-R3","v":0},{"$f":"IF(R$3+R$4>0,R4/(R$3+R$4),\"\")","v":""},{"$f":"COUNTIF($C$15:$C$32,\"P\")","v":11},{"$f":"IF(T$3+T$4>0,T4/(T$3+T$4),\"\")","v":0.6875}]
[{"$error":"#N/A"},null,null,null,null,null,null,null,null,null,null,null,null,null,"Total / Moy.",{"$f":"SUM(P3:P4)","v":0},{"$f":"IF(SUMIF($K$15:$K$32,Récapitulatif!$B$2,$G$15:$G$32)>0,SUMIF($K$15:$K$32,Récapitulatif!$B$2,$F$15:$F$32)/SUMIF($K$15:$K$32,Récapitulatif!$B$2,$G$15:$G$32),\"\")","v":""},{"$f":"SUM(R3:R4)","v":0},{"$f":"IF(SUMIF($K$15:$K$32,Récapitulatif!$B$3,$G$15:$G$32)>0,SUMIF($K$15:$K$32,Récapitulatif!$B$3,$F$15:$F$32)/SUMIF($K$15:$K$32,Récapitulatif!$B$3,$G$15:$G$32),\"\")","v":""},{"$f":"SUM(T3:T4)","v":16},{"$f":"IF(SUM($G$15:$G$32)>0,SUM($F$15:$F$32)/SUM($G$15:$G$32),\"\")","v":0.86890756302521011},{"$f":"IF(SUMIF($K$15:$K$32,Récapitulatif!$B$2,$G$15:$G$32)+SUMIF($K$15:$K$32,Récapitulatif!$B$3,$G$15:$G$32)>0,(SUMIF($K$15:$K$32,Récapitulatif!$B$2,$F$15:$F$32)+SUMIF($K$15:$K$32,Récapitulatif!$B$3,$F$15:$F$32))/(SUMIF($K$15:$K$32,Récapitulatif!$B$2,$G$15:$G$32)+SUMIF($K$15:$K$32,Récapitulatif!$B$3,$G$15:$G$32)),\"\")","v":""}]
[null,null,null,null,null,null,null,null,null,null,null,null,null,"Sets","Gagnés",{"$f":"SUMIF($K$15:$K$32,Récapitulatif!$B$2,$D$15:$D$32)","v":0},{"$f":"IF(P$6+P$7>0,P6/(P$6+P$7),\"\")","v":""},{"$f":"SUMIF($K$15:$K$32,Récapitulatif!$B$3,$D$15:$D$32)","v":0},{"$f":"IF(R$6+R$7>0,R6/(R$6+R$7),\"\")","v":""},{"$f":"SUM($D$15:$D$32)","v":17},{"$f":"IF(T$6+T$7>0,T6/(T$6+T$7),\"\")","v":0.37777777777777777}]
[null,null,null,null,null,null,null,null,null,null,null,null,null,null,"Perdus",{"$f":"SUMIF($K$15:$K$32,Récapitulatif!$B$2,$E$15:$E$32)","v":0},{"$f":"IF(P$6+P$7>0,P7/(P$6+P$7),\"\")","v":""},{"$f":"SUMIF($K$15:$K$32,Récapitulatif!$B$3,$E$15:$E$32)","v":0},{"$f":"IF(R$6+R$7>0,R7/(R$6+R$7),\"\")","v":""},{"$f":"SUM($E$15:$E$32)","v":28},{"$f":"IF(T$6+T$7>0,T7/(T$6+T$7),\"\")","v":0.62222222222222223}]
["Récapitulatif joueurs",null,null,null,null,null,null,null,null,null,null,null,null,null,"Total",{"$f":"SUM(P6:P7)","v":0},null,{"$f":"SUM(R6:R7)","v":0},null,{"$f":"SUM(T6:T7)","v":45}]
[]
[]
[]
[]
[]
[]
["Joueur","Adversaire","G/P","Sets gagnés","Sets perdus","pts marqués","pts subis","Date","Compétition","Phase","Saison"]
["PONCHANT Grégory","DUVERNOY Christophe","P",0,2,54,120,"2009-11-06","National T1 SCHILTIGHEIM","Préqualifs",{"$f":"IF(H16<>\"\",IF(MONTH(H16)>MoisRef,YEAR(H16)&\"-\"&YEAR(H16)+1,YEAR(H16)-1&\"-\"&YEAR(H16)),\"\")","v":"2009-2010"},null,null,null,null,{"$f":"IF($K16=P$1,COUNTIF($C16,\"G\"),0)","v":0},null,{"$f":"IF($K16=R$1,COUNTIF($C16,\"G\"),0)","v":0}]
["PONCHANT Grégory","GANGLOFF Jean-Luc","P",1,2,160,179,"2009-11-06","National T1 SCHILTIGHEIM","Préqualifs","2009-2010",null,null,null,null,0,null,0]
["PONCHANT Grégory","GUIBERT Philippe","P",0,2,71,120,"2009-11-06","National T1 SCHILTIGHEIM","Préqualifs","2009-2010",null,null,null,null,0,null,0]
["PONCHANT Grégory","HERREBRECHT Thierry","P",0,2,76,120,"2009-11-21","N1 Ligue T1 GRAVELINES","Poules","2009-2010",null,null,null,null,0,null,0]
["PONCHANT Grégory","DEVOS Jackie","G",2,1,175,154,"2009-11-21","N1 Ligue T1 GRAVELINES","Poules","2009-2010",null,null,null,null,0,null,0]
["PONCHANT Grégory","SAINT-GEORGES Claude","P",0,2,76,120,"2009-12-04","National T2 ANNOEULLIN","Préqualifs","2009-2010",null,null,null,null,0,null,0]
["PONCHANT Grégory","DEMILLY Dominique","G",2,0,120,31,"2009-12-04","National T2 ANNOEULLIN","Préqualifs","2009-2010",null,null,null,null,0,null,0]
["PONCHANT Grégory","HERREBRECHT Thierry","P",0,2,74,120,"2009-12-04","National T2 ANNOEULLIN","Préqualifs","2009-2010",null,null,null,null,0,null,0]
["PONCHANT Grégory","CLYNCKE Jean-Jacques","P",0,3,106,180,"2009-12-05","National T2 ANNOEULLIN","Qualifs promotion","2009-2010",null,null,null,null,0,null,0]
["PONCHANT Grégory","DEBRAY Alain","P",0,3,87,180,"2009-12-05","National T2 ANNOEULLIN","Qualifs promotion","2009-2010",null,null,null,null,0,null,0]
["PONCHANT Grégory","TIRALONGO Sébastien","P",1,2,151,176,"2010-12-03","National T3 FACHES THUMESNIL - RONCHIN","Préqualifs","2010-2011",null,null,null,null,0,null,0]
["PONCHANT Grégory","WEBER Thierry","G",2,0,120,113,"2010-12-03","National T3 FACHES THUMESNIL - RONCHIN","Préqualifs","2010-2011",null,null,null,null,0,null,0]
["PONCHANT Grégory","FAUCOMPREZ Didier","G",2,1,152,137,"2010-12-03","National T3 FACHES THUMESNIL - RONCHIN","Préqualifs","2010-2011",null,null,null,null,0,null,0]
["PONCHANT Grégory","DEROLEZ Jean-Pierre","G",3,0,180,118,"2010-12-04","National T3 FACHES THUMESNIL - RONCHIN","Qualifs promotion","2010-2011",null,null,null,null,0,null,0]
["PONCHANT Grégory","VEREECQUE Ludovic","P",2,3,246,257,"2010-12-04","National T3 FACHES THUMESNIL - RONCHIN","Qualifs promotion","2010-2011",null,null,null,null,0,null,0]
["PONCHANT Grégory","WESTEEL Bruno","P",2,3,220,255,"2010-12-04","National T3 FACHES THUMESNIL - RONCHIN","Qualifs promotion","2010-2011",null,null,null,null,0,null,0]
["Fin des données",null,null,null,null,null,null,null,null,null,"",null,null,null,null,{"$f":"IF($K32=P$1,COUNTIF($C32,\"G\"),0)","v":0},null,{"$f":"IF($K32=R$1,COUNTIF($C32,\"G\"),0)","v":0}]

{"sheet":"POULEYN André","index":71,"n_rows":203,"n_cols":22,"rows_kept":203,"cut":false,"hidden":false,"merged":[]}
["POULEYN André",null,null,null,null,null,null,null,null,null,null,null,null,null,null,{"$f":"Récapitulatif!$B$2","v":"2014-2015"},null,{"$f":"Récapitulatif!$B$3","v":"2015-2016"},null,"Toutes saisons"]
["DUNKERQUE",null,null,null,null,null,null,null,null,null,null,null,null,null,null,"Nombre","%age","Nombre","%age","Nombre","%age"]
["016665-Z",null,null,null,null,null,null,null,null,null,null,null,null,"Matchs","Gagnés",{"$f":"SUM(P$15:P$203)","v":13},{"$f":"IF(P$3+P$4>0,P3/(P$3+P$4),\"\")","v":0.33333333333333331},{"$f":"SUM(R$15:R$203)","v":13},{"$f":"IF(R$3+R$4>0,R3/(R$3+R$4),\"\")","v":0.3611111111111111},{"$f":"COUNTIF($C$15:$C$203,\"G\")","v":66},{"$f":"IF(T$3+T$4>0,T3/(T$3+T$4),\"\")","v":0.35294117647058826}]
[null,null,null,null,null,null,null,null,null,null,null,null,null,null,"Perdus",{"$f":"COUNTIF($K$15:$K$203,Récapitulatif!$B$2)-P3","v":26},{"$f":"IF(P$3+P$4>0,P4/(P$3+P$4),\"\")","v":0.66666666666666663},{"$f":"COUNTIF($K$15:$K$203,Récapitulatif!$B$3)-R3","v":23},{"$f":"IF(R$3+R$4>0,R4/(R$3+R$4),\"\")","v":0.63888888888888884},{"$f":"COUNTIF($C$15:$C$203,\"P\")","v":121},{"$f":"IF(T$3+T$4>0,T4/(T$3+T$4),\"\")","v":0.6470588235294118}]
[null,null,null,null,null,null,null,null,null,null,null,null,null,null,"Total / Moy.",{"$f":"SUM(P3:P4)","v":39},{"$f":"IF(SUMIF($K$15:$K$203,Récapitulatif!$B$2,$G$15:$G$203)>0,SUMIF($K$15:$K$203,Récapitulatif!$B$2,$F$15:$F$203)/SUMIF($K$15:$K$203,Récapitulatif!$B$2,$G$15:$G$203),\"\")","v":0.84592555332016939},{"$f":"SUM(R3:R4)","v":36},{"$f":"IF(SUMIF($K$15:$K$203,Récapitulatif!$B$3,$G$15:$G$203)>0,SUMIF($K$15:$K$203,Récapitulatif!$B$3,$F$15:$F$203)/SUMIF($K$15:$K$203,Récapitulatif!$B$3,$G$15:$G$203),\"\")","v":0.85956644674835059},{"$f":"SUM(T3:T4)","v":187},{"$f":"IF(SUM($G$15:$G$203)>0,SUM($F$15:$F$203)/SUM($G$15:$G$203),\"\")","v":0.88858568296934692},{"$f":"IF(SUMIF($K$15:$K$203,Récapitulatif!$B$2,$G$15:$G$203)+SUMIF($K$15:$K$203,Récapitulatif!$B$3,$G$15:$G$203)>0,(SUMIF($K$15:$K$203,Récapitulatif!$B$2,$F$15:$F$203)+SUMIF($K$15:$K$203,Récapitulatif!$B$3,$F$15:$F$203))/(SUMIF($K$15:$K$203,Récapitulatif!$B$2,$G$15:$G$203)+SUMIF($K$15:$K$203,Récapitulatif!$B$3,$G$15:$G$203)),\"\")","v":0.85234714704068593}]
[null,null,null,null,null,null,null,null,null,null,null,null,null,"Sets","Gagnés",{"$f":"SUMIF($K$15:$K$203,Récapitulatif!$B$2,$D$15:$D$203)","v":40},{"$f":"IF(P$6+P$7>0,P6/(P$6+P$7),\"\")","v":0.37383177570093457},{"$f":"SUMIF($K$15:$K$203,Récapitulatif!$B$3,$D$15:$D$203)","v":35},{"$f":"IF(R$6+R$7>0,R6/(R$6+R$7),\"\")","v":0.36842105263157893},{"$f":"SUM($D$15:$D$203)","v":199},{"$f":"IF(T$6+T$7>0,T6/(T$6+T$7),\"\")","v":0.3932806324110672}]
[null,null,null,null,null,null,null,null,null,null,null,null,null,null,"Perdus",{"$f":"SUMIF($K$15:$K$203,Récapitulatif!$B$2,$E$15:$E$203)","v":67},{"$f":"IF(P$6+P$7>0,P7/(P$6+P$7),\"\")","v":0.62616822429906538},{"$f":"SUMIF($K$15:$K$203,Récapitulatif!$B$3,$E$15:$E$203)","v":60},{"$f":"IF(R$6+R$7>0,R7/(R$6+R$7),\"\")","v":0.63157894736842102},{"$f":"SUM($E$15:$E$203)","v":307},{"$f":"IF(T$6+T$7>0,T7/(T$6+T$7),\"\")","v":0.60671936758893286}]
["Récapitulatif joueurs",null,null,null,null,null,null,null,null,null,null,null,null,null,"Total",{"$f":"SUM(P6:P7)","v":107},null,{"$f":"SUM(R6:R7)","v":95},null,{"$f":"SUM(T6:T7)","v":506}]
[]
[]
[]
[]
[]
[]
["Joueur","Adversaire","G/P","Sets gagnés","Sets perdus","pts marqués","pts subis","Date","Compétition","Phase","Saison"]
["POULEYN André","DEROLEZ Jean-Pierre","G",2,1,157,154,"2010-02-20","N1 Ligue T4 DOUAI","Poules",{"$f":"IF(H16<>\"\",IF(MONTH(H16)>MoisRef,YEAR(H16)&\"-\"&YEAR(H16)+1,YEAR(H16)-1&\"-\"&YEAR(H16)),\"\")","v":"2009-2010"},null,null,null,null,{"$f":"IF($K16=P$1,COUNTIF($C16,\"G\"),0)","v":0},null,{"$f":"IF($K16=R$1,COUNTIF($C16,\"G\"),0)","v":0}]
["POULEYN André","TURPIN Laurent","P",1,2,141,146,"2010-02-20","N1 Ligue T4 DOUAI","Poules","2009-2010",null,null,null,null,0,null,0]
["POULEYN André","MAUPIN Patrick","P",0,2,54,120,"2010-02-20","N1 Ligue T4 DOUAI","1/8 Finale","2009-2010",null,null,null,null,0,null,0]
["POULEYN André","TRIPLET Gilbert","G",2,1,169,130,"2010-10-16","N1 Ligue T1 DOUAI","Poules","2010-2011",null,null,null,null,0,null,0]
["POULEYN André","LHERMITTE Cédric","P",0,2,88,120,"2010-10-16","N1 Ligue T1 DOUAI","Poules","2010-2011",null,null,null,null,0,null,0]
["POULEYN André","CAQUELOT Maurice","G",2,0,120,105,"2010-10-16","N1 Ligue T1 DOUAI","Poules Consolante","2010-2011",null,null,null,null,0,null,0]
["POULEYN André","TRIPLET Gilbert","G",2,1,168,113,"2010-10-16","N1 Ligue T1 DOUAI","Poules Consolante","2010-2011",null,null,null,null,0,null,0]
["POULEYN André","SKORDILIS Christo","P",1,2,137,145,"2010-10-16","N1 Ligue T1 DOUAI","1/2 Finale Consolante","2010-2011",null,null,null,null,0,null,0]
["POULEYN André","FAUCOMPREZ Didier","G",2,0,120,106,"2010-11-13","N1 Ligue T2 FACHES THUMESNIL","Poules","2010-2011",null,null,null,null,0,null,0]
["POULEYN André","WESTEEL Bruno","P",1,2,128,160,"2010-11-13","N1 Ligue T2 FACHES THUMESNIL","Poules","2010-2011",null,null,null,null,0,null,0]
["POULEYN André","DELSOL Philippe","P",0,2,35,120,"2010-11-13","N1 Ligue T2 FACHES THUMESNIL","1/4 Finale","2010-2011",null,null,null,null,0,null,0]
["POULEYN André","ZACCAGNINI Antoine","P",0,2,65,120,"2010-11-05","National T2 LAXOU","Préqualifs","2010-2011",null,null,null,null,0,null,0]
["POULEYN André","KERCRET Geneviève","P",1,2,169,139,"2010-11-05","National T2 LAXOU","Préqualifs","2010-2011",null,null,null,null,0,null,0]
["POULEYN André","JACQ Laurent","P",0,2,72,120,"2010-11-05","National T2 LAXOU","Préqualifs","2010-2011",null,null,null,null,0,null,0]
["POULEYN André","LORTHIOIR Jean-Luc","P",0,3,141,180,"2010-11-06","National T2 LAXOU","Qualifs promotion","2010-2011",null,null,null,null,0,null,0]
["POULEYN André","PRUVOST Franck","G",3,0,180,62,"2010-11-06","National T2 LAXOU","Qualifs promotion","2010-2011",null,null,null,null,0,null,0]
["POULEYN André","GANGLOFF Jean-Luc","P",2,3,215,256,"2010-11-06","National T2 LAXOU","Qualifs promotion","2010-2011",null,null,null,null,0,null,0]
["POULEYN André","MONFLIER Francis","P",1,2,136,152,"2010-12-11","N1 Ligue T3 GRAVELINES","Poules","2010-2011",null,null,null,null,0,null,0]
["POULEYN André","WALLART Jean-Charles","G",2,1,132,142,"2010-12-11","N1 Ligue T3 GRAVELINES","Poules","2010-2011",null,null,null,null,0,null,0]
["POULEYN André","FAUCOMPREZ Didier","P",1,2,153,179,"2010-12-11","N1 Ligue T3 GRAVELINES","Poules Consolante","2010-2011",null,null,null,null,0,null,0]
["POULEYN André","LORTHIOIR Jean-Luc","G",2,0,120,42,"2010-12-11","N1 Ligue T3 GRAVELINES","Poules Consolante","2010-2011",null,null,null,null,0,null,0]
["POULEYN André","VANNUCCI Emilio","P",1,2,139,159,"2010-12-03","National T3 FACHES THUMESNIL - RONCHIN","Préqualifs","2010-2011",null,null,null,null,0,null,0]
["POULEYN André","GUILLEMANT Jean-Marc","G",2,1,145,115,"2010-12-03","National T3 FACHES THUMESNIL - RONCHIN","Préqualifs","2010-2011",null,null,null,null,0,null,0]
["POULEYN André","MAILLE Bernard","P",0,2,80,120,"2010-12-03","National T3 FACHES THUMESNIL - RONCHIN","Préqualifs","2010-2011",null,null,null,null,0,null,0]
["POULEYN André","VEREECQUE Ludovic","P",1,3,161,209,"2010-12-04","National T3 FACHES THUMESNIL - RONCHIN","Qualifs promotion","2010-2011",null,null,null,null,0,null,0]
["POULEYN André","DEROLEZ Jean-Pierre","P",1,3,206,208,"2010-12-04","National T3 FACHES THUMESNIL - RONCHIN","Qualifs promotion","2010-2011",null,null,null,null,0,null,0]
["POULEYN André","RAUX Jean-François","G",2,0,120,97,"2011-01-15","N1 Ligue T4 DIVION","Poules","2010-2011",null,null,null,null,0,null,0]
["POULEYN André","CARPENTIER Yohanne","G",2,1,164,167,"2011-01-15","N1 Ligue T4 DIVION","Poules","2010-2011",null,null,null,null,0,null,0]
["POULEYN André","GEETS Patrice","P",1,2,138,158,"2011-01-15","N1 Ligue T4 DIVION","1/4 Finale","2010-2011",null,null,null,null,0,null,0]
["POULEYN André","SACRE Jean-Yves","G",2,1,175,157,"2011-02-11","National T4 ROUEN","Préqualifs","2010-2011",null,null,null,null,0,null,0]
["POULEYN André","NAHIRNYJ Nicolas","P",0,2,68,120,"2011-02-11","National T4 ROUEN","Préqualifs","2010-2011",null,null,null,null,0,null,0]
["POULEYN André","ZACCAGNINI Antoine","P",0,2,22,120,"2011-02-11","National T4 ROUEN","Préqualifs","2010-2011",null,null,null,null,0,null,0]
["POULEYN André","CLYNCKE Jean-Jacques","G",2,1,153,164,"2011-04-15","National T6 CHAMPAGNE sur SEINE / NANDY","Préqualifs","2010-2011",null,null,null,null,0,null,0]
["POULEYN André","AUXIETRE Michel","P",1,2,126,164,"2011-04-15","National T6 CHAMPAGNE sur SEINE / NANDY","Préqualifs","2010-2011",null,null,null,null,0,null,0]
["POULEYN André","GUIBERT Philippe","P",1,2,147,144,"2011-04-15","National T6 CHAMPAGNE sur SEINE / NANDY","Préqualifs","2010-2011",null,null,null,null,0,null,0]
["POULEYN André","AUXIETRE Michel","P",0,3,103,180,"2011-04-16","National T6 CHAMPAGNE sur SEINE / NANDY","Qualifs promotion","2010-2011",null,null,null,null,0,null,0]
["POULEYN André","DE AMARAL Albert","P",2,3,240,242,"2011-04-16","National T6 CHAMPAGNE sur SEINE / NANDY","Qualifs promotion","2010-2011",null,null,null,null,0,null,0]
["POULEYN André","LEBLANC Jean-Noël","G",2,1,168,96,"2011-10-15","N1 Ligue T1 DIVION","Poules","2011-2012",null,null,null,null,0,null,0]
["POULEYN André","LHERMITTE Cédric","P",0,2,76,120,"2011-10-15","N1 Ligue T1 DIVION","Poules","2011-2012",null,null,null,null,0,null,0]
["POULEYN André","CAUX Frédéric","G",1,0,100,75,"2011-10-15","N1 Ligue T1 DIVION","Poules Consolante","2011-2012",null,null,null,null,0,null,0]
["POULEYN André","LUBREZ Pierre","P",0,1,92,100,"2011-10-15","N1 Ligue T1 DIVION","Poules Consolante","2011-2012",null,null,null,null,0,null,0]
["POULEYN André","PONTHIEUX Christian","P",1,2,135,179,"2011-11-04","National T2 SCHILTIGHEIM","Préqualifs","2011-2012",null,null,null,null,0,null,0]
["POULEYN André","CASPAR Rémy","P",1,2,142,175,"2011-11-04","National T2 SCHILTIGHEIM","Préqualifs","2011-2012",null,null,null,null,0,null,0]
["POULEYN André","GUILLEMANT David","P",0,2,43,120,"2011-11-04","National T2 SCHILTIGHEIM","Préqualifs","2011-2012",null,null,null,null,0,null,0]
["POULEYN André","WALLART Jean-Charles","P",0,3,152,180,"2011-11-05","National T2 SCHILTIGHEIM","Qualifs promotion","2011-2012",null,null,null,null,0,null,0]
["POULEYN André","BONNEAU Benoît","G",3,0,180,125,"2011-11-05","National T2 SCHILTIGHEIM","Qualifs promotion","2011-2012",null,null,null,null,0,null,0]
["POULEYN André","LHEUREUX François","G",3,1,206,165,"2011-11-05","National T2 SCHILTIGHEIM","Qualifs promotion","2011-2012",null,null,null,null,0,null,0]
["POULEYN André","PONTHIEUX Christian","P",2,3,242,269,"2011-11-06","National T2 SCHILTIGHEIM","1/8 finale promotion","2011-2012",null,null,null,null,0,null,0]
["POULEYN André","NAHIRNYJ Nicolas","P",1,2,160,144,"2011-12-02","National T3 ANNOEULLIN","Préqualifs","2011-2012",null,null,null,null,0,null,0]
["POULEYN André","GUILLEMANT David","P",0,2,67,120,"2011-12-02","National T3 ANNOEULLIN","Préqualifs","2011-2012",null,null,null,null,0,null,0]
["POULEYN André","GUILLEMANT Jean-Marc","G",2,0,120,43,"2011-12-02","National T3 ANNOEULLIN","Préqualifs","2011-2012",null,null,null,null,0,null,0]
["POULEYN André","BONNEAU Benoît","P",2,3,254,257,"2011-12-03","National T3 ANNOEULLIN","Qualifs promotion","2011-2012",null,null,null,null,0,null,0]
["POULEYN André","DUROYON Didier","P",0,3,108,180,"2011-12-03","National T3 ANNOEULLIN","Qualifs promotion","2011-2012",null,null,null,null,0,null,0]
["POULEYN André","ESTERMANS Bernard","G",2,0,120,71,"2012-01-07","N1 Ligue T3 FACHES THUMESNIL","Poules","2011-2012",null,null,null,null,0,null,0]
["POULEYN André","DELSOL Philippe","P",0,2,36,120,"2012-01-07","N1 Ligue T3 FACHES THUMESNIL","Poules","2011-2012",null,null,null,null,0,null,0]
["POULEYN André","DELSOL Philippe","P",0,2,78,120,"2012-01-07","N1 Ligue T3 FACHES THUMESNIL","1/8 Finale","2011-2012",null,null,null,null,0,null,0]
["POULEYN André","DECONINCK Franky","P",0,1,91,100,"2012-01-07","N1 Ligue T3 FACHES THUMESNIL","Poules Consolante","2011-2012",null,null,null,null,0,null,0]
["POULEYN André","GHEVART Jean","G",1,0,100,73,"2012-01-07","N1 Ligue T3 FACHES THUMESNIL","Poules Consolante","2011-2012",null,null,null,null,0,null,0]
["POULEYN André","LORTHIOIR Jean-Luc","P",1,2,161,174,"2012-01-28","N1 Ligue T4 GRAVELINES","Poules","2011-2012",null,null,null,null,0,null,0]
["POULEYN André","LHERMITTE Cédric","P",0,2,70,120,"2012-01-28","N1 Ligue T4 GRAVELINES","Poules","2011-2012",null,null,null,null,0,null,0]
["POULEYN André","CLYNCKE Jean-Jacques","G",2,1,173,118,"2012-02-17","National T4 ORLEANS","Préqualifs","2011-2012",null,null,null,null,0,null,0]
["POULEYN André","MILON Guillaume","G",2,0,120,87,"2012-02-17","National T4 ORLEANS","Préqualifs","2011-2012",null,null,null,null,0,null,0]
["POULEYN André","GUILLEMANT David","P",0,2,72,120,"2012-02-17","National T4 ORLEANS","Préqualifs","2011-2012",null,null,null,null,0,null,0]
["POULEYN André","BENJAMIN Eric","G",3,0,180,127,"2012-02-18","National T4 ORLEANS","Qualifs promotion","2011-2012",null,null,null,null,0,null,0]
["POULEYN André","DEMILLY Jean-Sébastien","P",0,3,100,180,"2012-02-18","National T4 ORLEANS","Qualifs promotion","2011-2012",null,null,null,null,0,null,0]
["POULEYN André","DARMENTE Jean-Claude","P",0,3,109,180,"2012-02-18","National T4 ORLEANS","Qualifs promotion","2011-2012",null,null,null,null,0,null,0]
["POULEYN André","CLYNCKE Jean-Jacques","P",1,2,164,152,"2012-03-16","National T5 L HAY LES ROSES","Préqualifs","2011-2012",null,null,null,null,0,null,0]
["POULEYN André","RENARD Jean-Pierre","G",2,0,120,84,"2012-03-16","National T5 L HAY LES ROSES","Préqualifs","2011-2012",null,null,null,null,0,null,0]
["POULEYN André","GUILLEMANT David","P",0,2,71,120,"2012-03-16","National T5 L HAY LES ROSES","Préqualifs","2011-2012",null,null,null,null,0,null,0]
["POULEYN André","MAILLE Bernard","G",3,0,180,126,"2012-03-17","National T5 L HAY LES ROSES","Qualifs promotion","2011-2012",null,null,null,null,0,null,0]
["POULEYN André","COTTEN Jean-Pierre","P",2,3,214,269,"2012-03-17","National T5 L HAY LES ROSES","Qualifs promotion","2011-2012",null,null,null,null,0,null,0]
["POULEYN André","BAYON Pascal","P",2,3,242,257,"2012-03-17","National T5 L HAY LES ROSES","Qualifs promotion","2011-2012",null,null,null,null,0,null,0]
["POULEYN André","HENNEUSE Patrick","P",1,2,151,144,"2012-10-13","N1 Ligue T1 ANNOEULLIN","Poules","2012-2013",null,null,null,null,0,null,0]
["POULEYN André","WALLART Jean-Charles","P",0,2,90,120,"2012-10-13","N1 Ligue T1 ANNOEULLIN","Poules","2012-2013",null,null,null,null,0,null,0]
["POULEYN André","DEROLEZ Jean-Pierre","G",2,1,162,139,"2012-10-13","N1 Ligue T1 ANNOEULLIN","1/8 Finale","2012-2013",null,null,null,null,0,null,0]
["POULEYN André","WALLART Jean-Charles","P",0,2,59,120,"2012-10-13","N1 Ligue T1 ANNOEULLIN","1/4 Finale","2012-2013",null,null,null,null,0,null,0]
["POULEYN André","SAINT-GEORGES Claude","P",1,2,117,164,"2012-10-27","N1 Ligue T2 BRUAY sur ESCAUT","Poules","2012-2013",null,null,null,null,0,null,0]
["POULEYN André","SAINT-GEORGES Claude","P",0,2,111,120,"2012-10-27","N1 Ligue T2 BRUAY sur ESCAUT","Poules","2012-2013",null,null,null,null,0,null,0]
["POULEYN André","RENAUX Damien","G",2,0,120,83,"2012-11-24","N1 Ligue T3 CALAIS","Poules","2012-2013",null,null,null,null,0,null,0]
["POULEYN André","CAUX Grégory","P",0,2,88,120,"2012-11-24","N1 Ligue T3 CALAIS","Poules","2012-2013",null,null,null,null,0,null,0]
["POULEYN André","LHERMITTE Cédric","P",0,2,55,120,"2012-11-24","N1 Ligue T3 CALAIS","1/8 Finale","2012-2013",null,null,null,null,0,null,0]
["POULEYN André","CAUX Frédéric","P",1,2,125,146,"2012-12-15","N1 Ligue T4 VILLENEUVE D'ASCQ","Poules","2012-2013",null,null,null,null,0,null,0]
["POULEYN André","DELSOL Philippe","P",0,2,67,120,"2012-12-15","N1 Ligue T4 VILLENEUVE D'ASCQ","Poules","2012-2013",null,null,null,null,0,null,0]
["POULEYN André","DEROLEZ Jean-Pierre","P",0,1,59,100,"2012-12-15","N1 Ligue T4 VILLENEUVE D'ASCQ","Poules Consolante","2012-2013",null,null,null,null,0,null,0]
["POULEYN André","LHERMITTE Cédric","P",0,1,65,100,"2012-12-15","N1 Ligue T4 VILLENEUVE D'ASCQ","Poules Consolante","2012-2013",null,null,null,null,0,null,0]
["POULEYN André","GUILLUY Jean-René","G",1,0,100,59,"2012-12-15","N1 Ligue T4 VILLENEUVE D'ASCQ","5ème 6ème Consolante","2012-2013",null,null,null,null,0,null,0]
["POULEYN André","LEGRAND Guy","P",0,2,53,100,"2012-10-05","National T1 BLOIS","Préqualifs","2012-2013",null,null,null,null,0,null,0]
["POULEYN André","TRIFAULT Amand","P",0,2,80,100,"2012-10-05","National T1 BLOIS","Préqualifs","2012-2013",null,null,null,null,0,null,0]
["POULEYN André","WEBER Thierry","P",0,2,44,100,"2012-10-05","National T1 BLOIS","Préqualifs","2012-2013",null,null,null,null,0,null,0]
["POULEYN André","HINGANT Matthieu","P",0,3,92,150,"2012-11-03","National T2 NANTES","Qualifs Masters","2012-2013",null,null,null,null,0,null,0]
["POULEYN André","PAILLART Jean-Paul","G",2,0,100,87,"2012-11-02","National T2 NANTES","Préqualifs","2012-2013",null,null,null,null,0,null,0]
["POULEYN André","PONTHIEUX Christian","G",2,0,100,74,"2012-11-02","National T2 NANTES","Préqualifs","2012-2013",null,null,null,null,0,null,0]
["POULEYN André","SORTAIS Claude","P",2,3,163,218,"2012-11-03","National T2 NANTES","Qualifs Masters","2012-2013",null,null,null,null,0,null,0]
["POULEYN André","WALLART Jean-Charles","G",2,1,135,82,"2012-11-02","National T2 NANTES","Préqualifs","2012-2013",null,null,null,null,0,null,0]
["POULEYN André","DELATTRE Hervé","G",3,0,150,99,"2013-02-02","National T4 ROUEN","Qualifs promotion","2012-2013",null,null,null,null,0,null,0]
["POULEYN André","DEMILLY Jean-Sébastien","P",0,2,35,100,"2013-02-01","National T4 ROUEN","Préqualifs","2012-2013",null,null,null,null,0,null,0]
["POULEYN André","LHEUREUX François","P",0,3,105,150,"2013-02-02","National T4 ROUEN","Qualifs promotion","2012-2013",null,null,null,null,0,null,0]
["POULEYN André","MAILLE Bernard","P",1,2,114,142,"2013-02-01","National T4 ROUEN","Préqualifs","2012-2013",null,null,null,null,0,null,0]
["POULEYN André","ROBERGE Bruno","P",0,3,53,150,"2013-02-03","National T4 ROUEN","1/8 finale promotion","2012-2013",null,null,null,null,0,null,0]
["POULEYN André","ROBIC Daniel","G",3,2,215,203,"2013-02-02","National T4 ROUEN","Qualifs promotion","2012-2013",null,null,null,null,0,null,0]
["POULEYN André","ROBIN Jacques","G",2,0,100,82,"2013-02-01","National T4 ROUEN","Préqualifs","2012-2013",null,null,null,null,0,null,0]
["POULEYN André","BAGNON David","G",2,0,100,42,"2013-03-08","National T5 LAXOU","Préqualifs","2012-2013",null,null,null,null,0,null,0]
["POULEYN André","BOUVIER Philippe","P",2,3,181,206,"2013-03-09","National T5 LAXOU","Qualifs Masters","2012-2013",null,null,null,null,0,null,0]
["POULEYN André","DAMONNEVILLE Blandine","G",2,0,100,39,"2013-03-08","National T5 LAXOU","Préqualifs","2012-2013",null,null,null,null,0,null,0]
["POULEYN André","GREMAIN Gino","P",1,3,162,178,"2013-03-09","National T5 LAXOU","Qualifs Masters","2012-2013",null,null,null,null,0,null,0]
["POULEYN André","LHEUREUX François","G",2,0,100,60,"2013-03-08","National T5 LAXOU","Préqualifs","2012-2013",null,null,null,null,0,null,0]
["POULEYN André","DUROYON Didier","P",0,3,112,150,"2013-06-15","CHAMPIONNAT DE FRANCE N1 CHAMPAGNE SUR SEINE","Qualifs","2012-2013",null,null,null,null,0,null,0]
["POULEYN André","GREMAIN Gino","P",0,3,69,150,"2013-06-15","CHAMPIONNAT DE FRANCE N1 CHAMPAGNE SUR SEINE","Qualifs","2012-2013",null,null,null,null,0,null,0]
["POULEYN André","LHEUREUX François","G",3,2,170.10000000149012,204,"2013-06-15","CHAMPIONNAT DE FRANCE N1 CHAMPAGNE SUR SEINE","Qualifs","2012-2013",null,null,null,null,0,null,0]
["POULEYN André","LOTHE Jean-Luc","G",2,1,149,147,"2014-01-04","N1 Ligue T1 ANNOEULLIN","Poules","2013-2014",null,null,null,null,0,null,0]
["POULEYN André","HOCHART James","G",2,0,158,88,"2014-01-04","N1 Ligue T1 ANNOEULLIN","Poules","2013-2014",null,null,null,null,0,null,0]
["POULEYN André","FLEURANT Richard","P",1,2,163,152,"2014-01-04","N1 Ligue T1 ANNOEULLIN","1/8 Finale","2013-2014",null,null,null,null,0,null,0]
["POULEYN ANDRÉ","BILLIARD ALAIN","P",1,3,186,216,"2014-10-18","National T1 GRAVELINES","Qualifs promotion","2014-2015",null,null,null,null,0,null,0]
["POULEYN ANDRÉ","JACQ LAURENT","G",3,2,254,212,"2014-10-18","National T1 GRAVELINES","Qualifs promotion","2014-2015",null,null,null,null,1,null,0]
["POULEYN ANDRÉ","PONTHIEUX CHRISTIAN","P",1,3,136,233,"2014-10-18","National T1 GRAVELINES","Qualifs promotion","2014-2015",null,null,null,null,0,null,0]
["POULEYN André","GREMAIN Gino","P",0,2,88,120,"2014-11-28","National T2 FACHES THUMESNIL - RONCHIN","Préqualifs","2014-2015",null,null,null,null,0,null,0]
["POULEYN André","LOTHE Jean-Luc","P",0,2,74,120,"2014-11-28","National T2 FACHES THUMESNIL - RONCHIN","Préqualifs","2014-2015",null,null,null,null,0,null,0]
["POULEYN André","NAHIRNYJ Nicolas","G",2,1,157,120,"2014-11-28","National T2 FACHES THUMESNIL - RONCHIN","Préqualifs","2014-2015",null,null,null,null,1,null,0]
["POULEYN André","MAILLE Bernard","P",0,3,84,180,"2014-11-29","National T2 FACHES THUMESNIL - RONCHIN","Qualifs promotion","2014-2015",null,null,null,null,0,null,0]
["POULEYN André","LOTHE Jean-Luc","P",1,3,189,235,"2014-11-29","National T2 FACHES THUMESNIL - RONCHIN","Qualifs promotion","2014-2015",null,null,null,null,0,null,0]
["POULEYN André","COTTEN Jean-Pierre","P",1,2,120,169,"2014-12-12","National T3 DOUARNENEZ","Préqualifs","2014-2015",null,null,null,null,0,null,0]
["POULEYN André","JOUEUR BLANC","G",2,0,120,112,"2014-12-12","National T3 DOUARNENEZ","Préqualifs","2014-2015",null,null,null,null,1,null,0]
["POULEYN André","GUERIN Xavier","P",1,2,102.10000000149012,174,"2014-12-12","National T3 DOUARNENEZ","Préqualifs","2014-2015",null,null,null,null,0,null,0]
["POULEYN André","BOUVIER Philippe","P",0,3,85,180,"2014-12-13","National T3 DOUARNENEZ","Qualifs promotion","2014-2015",null,null,null,null,0,null,0]
["POULEYN André","CAUX Frédéric","G",3,2,235,223,"2014-12-13","National T3 DOUARNENEZ","Qualifs promotion","2014-2015",null,null,null,null,1,null,0]
["POULEYN André","GEETS Patrice","P",0,3,115,180,"2014-12-13","National T3 DOUARNENEZ","Qualifs promotion","2014-2015",null,null,null,null,0,null,0]
["POULEYN André","LHERMITTE Sylvain","P",1,2,103,158,"2015-01-23","National T4 LAXOU","Préqualifs","2014-2015",null,null,null,null,0,null,0]
["POULEYN André","JOUEUR BLANC","G",2,0,120,94,"2015-01-23","National T4 LAXOU","Préqualifs","2014-2015",null,null,null,null,1,null,0]
["POULEYN André","GUERIN Xavier","P",1,2,135,135,"2015-01-23","National T4 LAXOU","Préqualifs","2014-2015",null,null,null,null,0,null,0]
["POULEYN André","WEBER Thierry","P",1,3,190,229,"2015-01-24","National T4 LAXOU","Qualifs promotion","2014-2015",null,null,null,null,0,null,0]
["POULEYN André","AIRAULT Jean-Michel","P",0,3,118,180,"2015-01-24","National T4 LAXOU","Qualifs promotion","2014-2015",null,null,null,null,0,null,0]
["POULEYN andré","ALDEGUER Lionel","G",1,0,100,96,"2015-01-17","N1 Ligue T1 DUNKERQUE","Poules Consolante","2014-2015",null,null,null,null,1,null,0]
["POULEYN andré","WALLART Jean-charles","P",0,1,93,100,"2015-01-17","N1 Ligue T1 DUNKERQUE","Poules Consolante","2014-2015",null,null,null,null,0,null,0]
["POULEYN andré","LEMÂTRE Alexis","P",0,1,98,100,"2015-01-17","N1 Ligue T1 DUNKERQUE","1/2 finale Consolante","2014-2015",null,null,null,null,0,null,0]
["POULEYN André","DECONINCK Franky","P",0,2,71,120,"2015-01-17","N1 Ligue T1 DUNKERQUE","Poules","2014-2015",null,null,null,null,0,null,0]
["POULEYN André","WALLART Jean-charles","P",1,2,114,177,"2015-01-17","N1 Ligue T1 DUNKERQUE","Poules","2014-2015",null,null,null,null,0,null,0]
["POULEYN andré","ALDEGUER Lionel","P",0,1,33,100,"2015-02-07","N1 Ligue T2 CALAIS","Poules Consolante","2014-2015",null,null,null,null,0,null,0]
["POULEYN andré","LUBREZ Pierre","G",1,0,100,83,"2015-02-07","N1 Ligue T2 CALAIS","Poules Consolante","2014-2015",null,null,null,null,1,null,0]
["POULEYN andré","ALDEGUER Lionel","G",1,0,100,85,"2015-02-07","N1 Ligue T2 CALAIS","1/2 finale Consolante","2014-2015",null,null,null,null,1,null,0]
["POULEYN andré","CAUX Frédéric","P",0,1,68,100,"2015-02-07","N1 Ligue T2 CALAIS","Finale Consolante","2014-2015",null,null,null,null,0,null,0]
["POULEYN André","LUBREZ Pierre","P",1,2,129,171,"2015-02-07","N1 Ligue T2 CALAIS","Poules","2014-2015",null,null,null,null,0,null,0]
["POULEYN André","LEMÂTRE Jérémy","P",0,2,72,120,"2015-02-07","N1 Ligue T2 CALAIS","Poules","2014-2015",null,null,null,null,0,null,0]
["POULEYN André","CAUX Grégory","G",2,0,120,93,"2015-03-14","N1 Ligue T3 ANNOEULLIN","Poules","2014-2015",null,null,null,null,1,null,0]
["POULEYN André","GEETS Patrice","P",1,2,126,168,"2015-03-14","N1 Ligue T3 ANNOEULLIN","Poules","2014-2015",null,null,null,null,0,null,0]
["POULEYN André","CAUX Frédéric","G",2,1,165,112,"2015-03-14","N1 Ligue T3 ANNOEULLIN","1/4 Finale","2014-2015",null,null,null,null,1,null,0]
["POULEYN André","LEMÂTRE Jérémy","G",2,1,174,157,"2015-03-14","N1 Ligue T3 ANNOEULLIN","1/2 Finale","2014-2015",null,null,null,null,1,null,0]
["POULEYN André","LEMÂTRE Alexis","G",2,0,120,81,"2015-03-14","N1 Ligue T3 ANNOEULLIN","Finale","2014-2015",null,null,null,null,1,null,0]
["POULEYN André","DEROLEZ Jean-pierre","G",3,1,223,143,"2015-04-19","FINALE LIGUE N1 GRAVELINES","Poules","2014-2015",null,null,null,null,1,null,0]
["POULEYN André","LEMÂTRE Jérémy","P",0,3,111,180,"2015-04-19","FINALE LIGUE N1 GRAVELINES","Poules","2014-2015",null,null,null,null,0,null,0]
["POULEYN André","DECONINCK Franky","P",1,3,180,234,"2015-04-19","FINALE LIGUE N1 GRAVELINES","1/2 Finale","2014-2015",null,null,null,null,0,null,0]
["POULEYN André","LEMÂTRE Alexis","P",2,3,237,274,"2015-04-19","FINALE LIGUE N1 GRAVELINES","3ème 4ème","2014-2015",null,null,null,null,0,null,0]
["POULEYN André","GHEVART Jean","G",2,0,120,86,"2015-10-09","National T1 ROUEN","Préqualifs","2015-2016",null,null,null,null,0,null,1]
["POULEYN André","LANUSSE Christophe","P",0,2,54,120,"2015-10-09","National T1 ROUEN","Préqualifs","2015-2016",null,null,null,null,0,null,0]
["POULEYN André","MOREL Pierre-Yves","P",1,2,150,179,"2015-10-09","National T1 ROUEN","Préqualifs","2015-2016",null,null,null,null,0,null,0]
["POULEYN André","ZACCAGNINI Antoine","P",1,3,159,236,"2015-10-10","National T1 ROUEN","Qualifs promotion","2015-2016",null,null,null,null,0,null,0]
["POULEYN André","VIERA MAIA Arlindo","P",2,3,237,286,"2015-10-10","National T1 ROUEN","Qualifs promotion","2015-2016",null,null,null,null,0,null,0]
["POULEYN André","DI LEO Francois","P",1,2,134,147,"2015-11-13","National T2 DOUARNENEZ","Préqualifs","2015-2016",null,null,null,null,0,null,0]
["POULEYN André","GUERIN Xavier","P",1,2,127,159,"2015-11-13","National T2 DOUARNENEZ","Préqualifs","2015-2016",null,null,null,null,0,null,0]
["POULEYN André","RETIF Jérôme","P",0,2,88,120,"2015-11-13","National T2 DOUARNENEZ","Préqualifs","2015-2016",null,null,null,null,0,null,0]
["POULEYN André","MORALES Luis","P",0,2,79,120,"2015-12-11","National T3 FACHES THUMESNIL - RONCHIN","Préqualifs","2015-2016",null,null,null,null,0,null,0]
["POULEYN André","PIERRU Didier","G",2,0,120,85,"2015-12-11","National T3 FACHES THUMESNIL - RONCHIN","Préqualifs","2015-2016",null,null,null,null,0,null,1]
["POULEYN André","SACRE Jean-Yves","P",0,2,80,120,"2015-12-11","National T3 FACHES THUMESNIL - RONCHIN","Préqualifs","2015-2016",null,null,null,null,0,null,0]
["POULEYN André","JACQ Laurent","P",0,3,99,180,"2015-12-12","National T3 FACHES THUMESNIL - RONCHIN","Qualifs promotion","2015-2016",null,null,null,null,0,null,0]
["POULEYN André","GANGLOFF Jean-Luc","G",3,2,268,260,"2015-12-12","National T3 FACHES THUMESNIL - RONCHIN","Qualifs promotion","2015-2016",null,null,null,null,0,null,1]
["POULEYN André","COSTE Philippe","G",3,2,239,286,"2015-12-12","National T3 FACHES THUMESNIL - RONCHIN","Qualifs promotion","2015-2016",null,null,null,null,0,null,1]
["POULEYN André","MAILLAT Emmanuel","P",0,3,99,180,"2015-12-13","National T3 FACHES THUMESNIL - RONCHIN","1/8 finale promotion","2015-2016",null,null,null,null,0,null,0]
["POULEYN André","BILLIARD Alain","G",2,1,162,162,"2016-02-05","National T4 SCHILTIGHEIM","Préqualifs","2015-2016",null,null,null,null,0,null,1]
["POULEYN André",0,"G",2,0,120,110,"2016-02-05","National T4 SCHILTIGHEIM","Préqualifs","2015-2016",null,null,null,null,0,null,1]
["POULEYN André","ROUBY Guillaume","P",0,2,91,120,"2016-02-05","National T4 SCHILTIGHEIM","Préqualifs","2015-2016",null,null,null,null,0,null,0]
["POULEYN André","JOANNES Thomas","G",3,2,276,222,"2016-02-06","National T4 SCHILTIGHEIM","Qualifs promotion","2015-2016",null,null,null,null,0,null,1]
["POULEYN André","VIERA MAIA Arlindo","P",0,3,96,180,"2016-02-06","National T4 SCHILTIGHEIM","Qualifs promotion","2015-2016",null,null,null,null,0,null,0]
["POULEYN André","KERCRET Geneviève","G",3,0,180,124,"2016-02-06","National T4 SCHILTIGHEIM","Qualifs promotion","2015-2016",null,null,null,null,0,null,1]
["POULEYN André","VIERA MAIA Arlindo","P",0,3,120,180,"2016-02-07","National T4 SCHILTIGHEIM","1/8 finale promotion","2015-2016",null,null,null,null,0,null,0]
["POULEYN André","CLYNCKE Jean-Jacques","P",0,2,92,120,"2016-03-04","National T5 GRAVELINES","Préqualifs","2015-2016",null,null,null,null,0,null,0]
["POULEYN André","GUERIN Xavier","P",0,2,94,120,"2016-03-04","National T5 GRAVELINES","Préqualifs","2015-2016",null,null,null,null,0,null,0]
["POULEYN André","LEMATRE Alexis","P",0,2,68,120,"2016-03-04","National T5 GRAVELINES","Préqualifs","2015-2016",null,null,null,null,0,null,0]
["POULEYN André","MANTEN Paul","G",1,0,100,78,"2015-12-05","CONSOLANTE T1 LIGUE 5 QUILLES N1 - FACHES-THUMESNIL","Poules","2015-2016",null,null,null,null,0,null,1]
["POULEYN André","HINGRAND Tony","P",0,1,88,100,"2015-12-05","CONSOLANTE T1 LIGUE 5 QUILLES N1 - FACHES-THUMESNIL","Poules","2015-2016",null,null,null,null,0,null,0]
["POULEYN André","CAUX Frédéric","G",1,0,100,67,"2015-12-05","CONSOLANTE T1 LIGUE 5 QUILLES N1 - FACHES-THUMESNIL","1/2 Finale","2015-2016",null,null,null,null,0,null,1]
["POULEYN André","HINGRAND Tony","P",0,2,98,120,"2015-12-04","T1 LIGUE 5 QUILLES N1 - FACHES-THUMESNIL","Poules","2015-2016",null,null,null,null,0,null,0]
["POULEYN André","DEROLEZ Jean-Pierre","P",0,2,104,120,"2015-12-04","T1 LIGUE 5 QUILLES N1 - FACHES-THUMESNIL","Poules","2015-2016",null,null,null,null,0,null,0]
["POULEYN André","TRIPLET Freddy","G",2,0,120,84,"2016-01-09","T2  LIGUE 5 QUILLES N1 - GRAVELINES","Qualifications","2015-2016",null,null,null,null,0,null,1]
["POULEYN André","WALLART Jean-Charles","G",2,1,174,157,"2016-01-09","T2  LIGUE 5 QUILLES N1 - GRAVELINES","Qualifications","2015-2016",null,null,null,null,0,null,1]
["POULEYN André","GHEVART Jean","G",2,1,137,146,"2016-01-09","T2  LIGUE 5 QUILLES N1 - GRAVELINES","1/8 Finale","2015-2016",null,null,null,null,0,null,1]
["POULEYN André","LEMÂTRE Jérémy","P",0,2,79,120,"2016-01-09","T2  LIGUE 5 QUILLES N1 - GRAVELINES","1/4 Finale","2015-2016",null,null,null,null,0,null,0]
["POULEYN André","LEMÂTRE Alexis","P",0,2,68,120,"2016-01-23","T3 Ligue 5 Quilles N1 - ANNOEULLIN","Qualifications","2015-2016",null,null,null,null,0,null,0]
["POULEYN André","LEMÂTRE Alexis","P",1,2,140,171,"2016-01-23","T3 Ligue 5 Quilles N1 - ANNOEULLIN","Qualifications","2015-2016",null,null,null,null,0,null,0]
["Fin des données",null,null,null,null,null,null,null,null,null,"",null,null,null,null,0,null,0]

{"sheet":"PRUVOST Franck","index":72,"n_rows":27,"n_cols":22,"rows_kept":27,"cut":false,"hidden":false,"merged":[]}
["PRUVOST Franck",null,null,null,null,null,null,null,null,null,null,null,null,null,null,{"$f":"Récapitulatif!$B$2","v":"2014-2015"},null,{"$f":"Récapitulatif!$B$3","v":"2015-2016"},null,"Toutes saisons"]
["FACHES-THUMESNIL",null,null,null,null,null,null,null,null,null,null,null,null,null,null,"Nombre","%age","Nombre","%age","Nombre","%age"]
[null,null,null,null,null,null,null,null,null,null,null,null,null,"Matchs","Gagnés",{"$f":"SUM(P$15:P$27)","v":0},{"$f":"IF(P$3+P$4>0,P3/(P$3+P$4),\"\")","v":""},{"$f":"SUM(R$15:R$27)","v":0},{"$f":"IF(R$3+R$4>0,R3/(R$3+R$4),\"\")","v":""},{"$f":"COUNTIF($C$15:$C$27,\"G\")","v":1},{"$f":"IF(T$3+T$4>0,T3/(T$3+T$4),\"\")","v":9.0909090909090912E-2}]
["06 14 61 48 47",null,null,null,null,null,null,null,null,null,null,null,null,null,"Perdus",{"$f":"COUNTIF($K$15:$K$27,Récapitulatif!$B$2)-P3","v":0},{"$f":"IF(P$3+P$4>0,P4/(P$3+P$4),\"\")","v":""},{"$f":"COUNTIF($K$15:$K$27,Récapitulatif!$B$3)-R3","v":0},{"$f":"IF(R$3+R$4>0,R4/(R$3+R$4),\"\")","v":""},{"$f":"COUNTIF($C$15:$C$27,\"P\")","v":10},{"$f":"IF(T$3+T$4>0,T4/(T$3+T$4),\"\")","v":0.90909090909090906}]
[null,null,null,null,null,null,null,null,null,null,null,null,null,null,"Total / Moy.",{"$f":"SUM(P3:P4)","v":0},{"$f":"IF(SUMIF($K$15:$K$27,Récapitulatif!$B$2,$G$15:$G$27)>0,SUMIF($K$15:$K$27,Récapitulatif!$B$2,$F$15:$F$27)/SUMIF($K$15:$K$27,Récapitulatif!$B$2,$G$15:$G$27),\"\")","v":""},{"$f":"SUM(R3:R4)","v":0},{"$f":"IF(SUMIF($K$15:$K$27,Récapitulatif!$B$3,$G$15:$G$27)>0,SUMIF($K$15:$K$27,Récapitulatif!$B$3,$F$15:$F$27)/SUMIF($K$15:$K$27,Récapitulatif!$B$3,$G$15:$G$27),\"\")","v":""},{"$f":"SUM(T3:T4)","v":11},{"$f":"IF(SUM($G$15:$G$27)>0,SUM($F$15:$F$27)/SUM($G$15:$G$27),\"\")","v":0.55424674519528827},{"$f":"IF(SUMIF($K$15:$K$27,Récapitulatif!$B$2,$G$15:$G$27)+SUMIF($K$15:$K$27,Récapitulatif!$B$3,$G$15:$G$27)>0,(SUMIF($K$15:$K$27,Récapitulatif!$B$2,$F$15:$F$27)+SUMIF($K$15:$K$27,Récapitulatif!$B$3,$F$15:$F$27))/(SUMIF($K$15:$K$27,Récapitulatif!$B$2,$G$15:$G$27)+SUMIF($K$15:$K$27,Récapitulatif!$B$3,$G$15:$G$27)),\"\")","v":""}]
[null,null,null,null,null,null,null,null,null,null,null,null,null,"Sets","Gagnés",{"$f":"SUMIF($K$15:$K$27,Récapitulatif!$B$2,$D$15:$D$27)","v":0},{"$f":"IF(P$6+P$7>0,P6/(P$6+P$7),\"\")","v":""},{"$f":"SUMIF($K$15:$K$27,Récapitulatif!$B$3,$D$15:$D$27)","v":0},{"$f":"IF(R$6+R$7>0,R6/(R$6+R$7),\"\")","v":""},{"$f":"SUM($D$15:$D$27)","v":5},{"$f":"IF(T$6+T$7>0,T6/(T$6+T$7),\"\")","v":0.17857142857142858}]
[null,null,null,null,null,null,null,null,null,null,null,null,null,null,"Perdus",{"$f":"SUMIF($K$15:$K$27,Récapitulatif!$B$2,$E$15:$E$27)","v":0},{"$f":"IF(P$6+P$7>0,P7/(P$6+P$7),\"\")","v":""},{"$f":"SUMIF($K$15:$K$27,Récapitulatif!$B$3,$E$15:$E$27)","v":0},{"$f":"IF(R$6+R$7>0,R7/(R$6+R$7),\"\")","v":""},{"$f":"SUM($E$15:$E$27)","v":23},{"$f":"IF(T$6+T$7>0,T7/(T$6+T$7),\"\")","v":0.8214285714285714}]
["Récapitulatif joueurs",null,null,null,null,null,null,null,null,null,null,null,null,null,"Total",{"$f":"SUM(P6:P7)","v":0},null,{"$f":"SUM(R6:R7)","v":0},null,{"$f":"SUM(T6:T7)","v":28}]
[]
[]
[]
[]
[]
[]
["Joueur","Adversaire","G/P","Sets gagnés","Sets perdus","pts marqués","pts subis","Date","Compétition","Phase","Saison"]
["PRUVOST Franck","LORTHIOIR Jean-Luc","P",1,2,131,175,"2009-12-04","National T2 ANNOEULLIN","Préqualifs",{"$f":"IF(H16<>\"\",IF(MONTH(H16)>MoisRef,YEAR(H16)&\"-\"&YEAR(H16)+1,YEAR(H16)-1&\"-\"&YEAR(H16)),\"\")","v":"2009-2010"},null,null,null,null,{"$f":"IF($K16=P$1,COUNTIF($C16,\"G\"),0)","v":0},null,{"$f":"IF($K16=R$1,COUNTIF($C16,\"G\"),0)","v":0}]
["PRUVOST Franck","GUIBERT Philippe","P",0,2,32,120,"2009-12-04","National T2 ANNOEULLIN","Préqualifs","2009-2010",null,null,null,null,0,null,0]
["PRUVOST Franck","GANGLOFF Jean-Luc","P",0,2,69,120,"2009-12-04","National T2 ANNOEULLIN","Préqualifs","2009-2010",null,null,null,null,0,null,0]
["PRUVOST Franck","PERRIN Eric","P",1,2,106,160,"2010-11-05","National T2 LAXOU","Préqualifs","2010-2011",null,null,null,null,0,null,0]
["PRUVOST Franck","LABROUSSE Sébastien","G",2,1,171,167,"2010-11-05","National T2 LAXOU","Préqualifs","2010-2011",null,null,null,null,0,null,0]
["PRUVOST Franck","SORTAIS Claude","P",0,2,28,120,"2010-11-05","National T2 LAXOU","Préqualifs","2010-2011",null,null,null,null,0,null,0]
["PRUVOST Franck","QUENEY Damien","P",0,3,49,180,"2010-11-06","National T2 LAXOU","Qualifs promotion","2010-2011",null,null,null,null,0,null,0]
["PRUVOST Franck","POULEYN André","P",0,3,62,180,"2010-11-06","National T2 LAXOU","Qualifs promotion","2010-2011",null,null,null,null,0,null,0]
["PRUVOST Franck","ZILLIG Pierre","P",0,2,74,120,"2010-12-03","National T3 FACHES THUMESNIL - RONCHIN","Préqualifs","2010-2011",null,null,null,null,0,null,0]
["PRUVOST Franck","LHERMITTE Cédric","P",1,2,119,151,"2010-12-03","National T3 FACHES THUMESNIL - RONCHIN","Préqualifs","2010-2011",null,null,null,null,0,null,0]
["PRUVOST Franck","PERRIN Eric","P",0,2,53,120,"2010-12-03","National T3 FACHES THUMESNIL - RONCHIN","Préqualifs","2010-2011",null,null,null,null,0,null,0]
["Fin des données",null,null,null,null,null,null,null,null,null,"",null,null,null,null,0,null,0]

{"sheet":"RACARY Thibault","index":73,"n_rows":188,"n_cols":22,"rows_kept":188,"cut":false,"hidden":false,"merged":[]}
["RACARY Thibault",null,null,null,null,null,null,null,null,null,null,null,null,null,null,{"$f":"Récapitulatif!$B$2","v":"2014-2015"},null,{"$f":"Récapitulatif!$B$3","v":"2015-2016"},null,"Toutes saisons"]
[{"$error":"#N/A"},null,null,null,null,null,null,null,null,null,null,null,null,null,null,"Nombre","%age","Nombre","%age","Nombre","%age"]
[{"$error":"#N/A"},null,null,null,null,null,null,null,null,null,null,null,null,"Matchs","Gagnés",{"$f":"SUM(P$15:P$188)","v":12},{"$f":"IF(P$3+P$4>0,P3/(P$3+P$4),\"\")","v":0.70588235294117652},{"$f":"SUM(R$15:R$188)","v":16},{"$f":"IF(R$3+R$4>0,R3/(R$3+R$4),\"\")","v":0.8},{"$f":"COUNTIF($C$15:$C$188,\"G\")","v":126},{"$f":"IF(T$3+T$4>0,T3/(T$3+T$4),\"\")","v":0.73255813953488369}]
[{"$error":"#N/A"},null,null,null,null,null,null,null,null,null,null,null,null,null,"Perdus",{"$f":"COUNTIF($K$15:$K$188,Récapitulatif!$B$2)-P3","v":5},{"$f":"IF(P$3+P$4>0,P4/(P$3+P$4),\"\")","v":0.29411764705882354},{"$f":"COUNTIF($K$15:$K$188,Récapitulatif!$B$3)-R3","v":4},{"$f":"IF(R$3+R$4>0,R4/(R$3+R$4),\"\")","v":0.2},{"$f":"COUNTIF($C$15:$C$188,\"P\")","v":46},{"$f":"IF(T$3+T$4>0,T4/(T$3+T$4),\"\")","v":0.26744186046511625}]
[{"$error":"#N/A"},null,null,null,null,null,null,null,null,null,null,null,null,null,"Total / Moy.",{"$f":"SUM(P3:P4)","v":17},{"$f":"IF(SUMIF($K$15:$K$188,Récapitulatif!$B$2,$G$15:$G$188)>0,SUMIF($K$15:$K$188,Récapitulatif!$B$2,$F$15:$F$188)/SUMIF($K$15:$K$188,Récapitulatif!$B$2,$G$15:$G$188),\"\")","v":1.2219554030874786},{"$f":"SUM(R3:R4)","v":20},{"$f":"IF(SUMIF($K$15:$K$188,Récapitulatif!$B$3,$G$15:$G$188)>0,SUMIF($K$15:$K$188,Récapitulatif!$B$3,$F$15:$F$188)/SUMIF($K$15:$K$188,Récapitulatif!$B$3,$G$15:$G$188),\"\")","v":1.2652120467117394},{"$f":"SUM(T3:T4)","v":172},{"$f":"IF(SUM($G$15:$G$188)>0,SUM($F$15:$F$188)/SUM($G$15:$G$188),\"\")","v":1.1862906683554164},{"$f":"IF(SUMIF($K$15:$K$188,Récapitulatif!$B$2,$G$15:$G$188)+SUMIF($K$15:$K$188,Récapitulatif!$B$3,$G$15:$G$188)>0,(SUMIF($K$15:$K$188,Récapitulatif!$B$2,$F$15:$F$188)+SUMIF($K$15:$K$188,Récapitulatif!$B$3,$F$15:$F$188))/(SUMIF($K$15:$K$188,Récapitulatif!$B$2,$G$15:$G$188)+SUMIF($K$15:$K$188,Récapitulatif!$B$3,$G$15:$G$188)),\"\")","v":1.2447722483384664}]
[null,null,null,null,null,null,null,null,null,null,null,null,null,"Sets","Gagnés",{"$f":"SUMIF($K$15:$K$188,Récapitulatif!$B$2,$D$15:$D$188)","v":44},{"$f":"IF(P$6+P$7>0,P6/(P$6+P$7),\"\")","v":0.67692307692307696},{"$f":"SUMIF($K$15:$K$188,Récapitulatif!$B$3,$D$15:$D$188)","v":50},{"$f":"IF(R$6+R$7>0,R6/(R$6+R$7),\"\")","v":0.68493150684931503},{"$f":"SUM($D$15:$D$188)","v":371},{"$f":"IF(T$6+T$7>0,T6/(T$6+T$7),\"\")","v":0.64409722222222221}]
[null,null,null,null,null,null,null,null,null,null,null,null,null,null,"Perdus",{"$f":"SUMIF($K$15:$K$188,Récapitulatif!$B$2,$E$15:$E$188)","v":21},{"$f":"IF(P$6+P$7>0,P7/(P$6+P$7),\"\")","v":0.32307692307692309},{"$f":"SUMIF($K$15:$K$188,Récapitulatif!$B$3,$E$15:$E$188)","v":23},{"$f":"IF(R$6+R$7>0,R7/(R$6+R$7),\"\")","v":0.31506849315068491},{"$f":"SUM($E$15:$E$188)","v":205},{"$f":"IF(T$6+T$7>0,T7/(T$6+T$7),\"\")","v":0.35590277777777779}]
["Récapitulatif joueurs",null,null,null,null,null,null,null,null,null,null,null,null,null,"Total",{"$f":"SUM(P6:P7)","v":65},null,{"$f":"SUM(R6:R7)","v":73},null,{"$f":"SUM(T6:T7)","v":576}]
[]
[]
[]
[]
[]
[]
["Joueur","Adversaire","G/P","Sets gagnés","Sets perdus","pts marqués","pts subis","Date","Compétition","Phase","Saison"]
["RACARY Thibault","WALLART Jean-Charles","P",0,2,47,120,"2009-12-04","National T2 ANNOEULLIN","Préqualifs",{"$f":"IF(H16<>\"\",IF(MONTH(H16)>MoisRef,YEAR(H16)&\"-\"&YEAR(H16)+1,YEAR(H16)-1&\"-\"&YEAR(H16)),\"\")","v":"2009-2010"},null,null,null,null,{"$f":"IF($K16=P$1,COUNTIF($C16,\"G\"),0)","v":0},null,{"$f":"IF($K16=R$1,COUNTIF($C16,\"G\"),0)","v":0}]
["RACARY Thibault","JUBLOT Denis","G",2,0,120,93,"2009-12-04","National T2 ANNOEULLIN","Préqualifs","2009-2010",null,null,null,null,0,null,0]
["RACARY Thibault","EVENOU Roger","G",2,0,120,59,"2009-12-04","National T2 ANNOEULLIN","Préqualifs","2009-2010",null,null,null,null,0,null,0]
["RACARY Thibault","WALLART Jean-Charles","P",2,3,277,254,"2009-12-05","National T2 ANNOEULLIN","Qualifs promotion","2009-2010",null,null,null,null,0,null,0]
["RACARY Thibault","JUBLOT Denis","P",0,3,91,180,"2009-12-05","National T2 ANNOEULLIN","Qualifs promotion","2009-2010",null,null,null,null,0,null,0]
["RACARY Thibault","TURPIN Laurent","G",2,1,158,154,"2009-12-19","N1 Ligue T2 ANNOEULLIN","Poules","2009-2010",null,null,null,null,0,null,0]
["RACARY Thibault","GEETS Patrice","P",1,2,113,152,"2009-12-19","N1 Ligue T2 ANNOEULLIN","Poules","2009-2010",null,null,null,null,0,null,0]
["RACARY Thibault","BASTENIER Jean","P",1,2,140,178,"2009-12-19","N1 Ligue T2 ANNOEULLIN","Poules Consolante","2009-2010",null,null,null,null,0,null,0]
["RACARY Thibault","MARTEL Jean-Pierre","G",2,0,120,69,"2010-01-16","N1 Ligue T3 ANNOEULLIN","Poules","2009-2010",null,null,null,null,0,null,0]
["RACARY Thibault","DELSOL Philippe","P",1,2,137,162,"2010-01-16","N1 Ligue T3 ANNOEULLIN","Poules","2009-2010",null,null,null,null,0,null,0]
["RACARY Thibault","CAUX Frédéric","G",2,0,120,102,"2010-01-16","N1 Ligue T3 ANNOEULLIN","Poules Consolante","2009-2010",null,null,null,null,0,null,0]
["RACARY Thibault","CARPENTIER Yohanne","P",1,2,175,162,"2010-01-16","N1 Ligue T3 ANNOEULLIN","Poules Consolante","2009-2010",null,null,null,null,0,null,0]
["RACARY Thibault","DELSOL Philippe","P",0,2,96,120,"2010-10-16","N1 Ligue T1 DOUAI","1/4 Finale","2010-2011",null,null,null,null,0,null,0]
["RACARY Thibault","HORNAIN Denis","G",2,1,174,150,"2010-10-16","N1 Ligue T1 DOUAI","1/8 Finale","2010-2011",null,null,null,null,0,null,0]
["RACARY Thibault","VANNUCCI Emilio","P",1,2,161,138,"2010-10-16","N1 Ligue T1 DOUAI","Poules","2010-2011",null,null,null,null,0,null,0]
["RACARY Thibault","MAILLE Bernard","G",2,0,120,33,"2010-10-16","N1 Ligue T1 DOUAI","Poules","2010-2011",null,null,null,null,0,null,0]
["RACARY Thibault","GEETS Patrice","P",0,2,74,120,"2010-11-13","N1 Ligue T2 FACHES THUMESNIL","1/4 Finale","2010-2011",null,null,null,null,0,null,0]
["RACARY Thibault","VEREECQUE Ludovic","G",2,1,144,112,"2010-11-13","N1 Ligue T2 FACHES THUMESNIL","Poules","2010-2011",null,null,null,null,0,null,0]
["RACARY Thibault","LEMÂTRE Jérémy","G",2,1,159,112,"2010-11-13","N1 Ligue T2 FACHES THUMESNIL","Poules","2010-2011",null,null,null,null,0,null,0]
["RACARY Thibault","SACRE Jean-Yves","G",2,1,174,140,"2010-12-03","National T3 FACHES THUMESNIL - RONCHIN","Préqualifs","2010-2011",null,null,null,null,0,null,0]
["RACARY Thibault","GUIBERT Philippe","G",2,1,148,123,"2010-12-03","National T3 FACHES THUMESNIL - RONCHIN","Préqualifs","2010-2011",null,null,null,null,0,null,0]
["RACARY Thibault","DAMONNEVILLE Blandine","G",2,0,120,17.100000001490116,"2010-12-03","National T3 FACHES THUMESNIL - RONCHIN","Préqualifs","2010-2011",null,null,null,null,0,null,0]
["RACARY Thibault","JACQ Laurent","G",3,0,180,122,"2010-12-04","National T3 FACHES THUMESNIL - RONCHIN","Qualifs promotion","2010-2011",null,null,null,null,0,null,0]
["RACARY Thibault","CAUX Frédéric","G",3,0,180,103,"2010-12-04","National T3 FACHES THUMESNIL - RONCHIN","Qualifs promotion","2010-2011",null,null,null,null,0,null,0]
["RACARY Thibault","GEETS Patrice","G",3,1,224,188,"2010-12-05","National T3 FACHES THUMESNIL - RONCHIN","1/2 finale promotion","2010-2011",null,null,null,null,0,null,0]
["RACARY Thibault","WESTEEL Bruno","G",3,2,272,254,"2010-12-05","National T3 FACHES THUMESNIL - RONCHIN","1/4 finale promotion","2010-2011",null,null,null,null,0,null,0]
["RACARY Thibault","SORTAIS Claude","G",3,1,227,210,"2010-12-05","National T3 FACHES THUMESNIL - RONCHIN","1/8 finale promotion","2010-2011",null,null,null,null,0,null,0]
["RACARY Thibault","ZILLIG Pierre","G",3,1,225,212,"2010-12-05","National T3 FACHES THUMESNIL - RONCHIN","Finale promotion","2010-2011",null,null,null,null,0,null,0]
["RACARY Thibault","SAINT-GEORGES Claude","G",2,0,120,66,"2010-12-11","N1 Ligue T3 GRAVELINES","1/2 Finale","2010-2011",null,null,null,null,0,null,0]
["RACARY Thibault","DELSOL Philippe","G",2,1,157,161,"2010-12-11","N1 Ligue T3 GRAVELINES","1/4 Finale","2010-2011",null,null,null,null,0,null,0]
["RACARY Thibault","GEETS Patrice","G",2,0,120,101,"2010-12-11","N1 Ligue T3 GRAVELINES","Finale","2010-2011",null,null,null,null,0,null,0]
["RACARY Thibault","DEVOS Jackie","G",2,0,120,84,"2010-12-11","N1 Ligue T3 GRAVELINES","Poules","2010-2011",null,null,null,null,0,null,0]
["RACARY Thibault","CAUX Frédéric","G",2,1,157,164,"2010-12-11","N1 Ligue T3 GRAVELINES","Poules",{"$f":"IF(H48<>\"\",IF(MONTH(H48)>MoisRef,YEAR(H48)&\"-\"&YEAR(H48)+1,YEAR(H48)-1&\"-\"&YEAR(H48)),\"\")","v":"2010-2011"},null,null,null,null,0,null,0]
["RACARY Thibault","FONTAINE Christian","G",2,0,120,61,"2011-01-15","N1 Ligue T4 DIVION","1/2 Finale","2010-2011",null,null,null,null,0,null,0]
["RACARY Thibault","KAYA Turgul","G",2,0,120,58,"2011-01-15","N1 Ligue T4 DIVION","1/4 Finale","2010-2011",null,null,null,null,0,null,0]
["RACARY Thibault","GEETS Patrice","G",2,1,168,123,"2011-01-15","N1 Ligue T4 DIVION","Finale","2010-2011",null,null,null,null,0,null,0]
["RACARY Thibault","FAUCOMPREZ Didier","G",2,0,120,91,"2011-01-15","N1 Ligue T4 DIVION","Poules","2010-2011",null,null,null,null,0,null,0]
["RACARY Thibault","CLYNCKE Jean-Jacques","G",2,0,120,87,"2011-01-15","N1 Ligue T4 DIVION","Poules","2010-2011",null,null,null,null,0,null,0]
["RACARY Thibault","WALLART Jean-Charles","G",3,1,226,188,"2011-03-19","Finale Ligue N1","1/2 finale","2010-2011",null,null,null,null,0,null,0]
["RACARY Thibault","DELSOL Philippe","G",3,0,180,139,"2011-03-19","Finale Ligue N1","Finale","2010-2011",null,null,null,null,0,null,0]
["RACARY Thibault","SAINT-GEORGES Claude","G",3,0,180,69,"2011-03-19","Finale Ligue N1","Poules","2010-2011",null,null,null,null,0,null,0]
["RACARY Thibault","LHERMITTE Cédric","G",3,1,229,140,"2011-03-19","Finale Ligue N1","Poules","2010-2011",null,null,null,null,0,null,0]
["RACARY Thibault","MICHELOTTI Francesco","G",2,0,120,87,"2011-03-25","National T5 BLOIS","Préqualifs","2010-2011",null,null,null,null,0,null,0]
["RACARY Thibault","TIRALONGO Sébastien","G",2,0,120,100,"2011-03-25","National T5 BLOIS","Préqualifs","2010-2011",null,null,null,null,0,null,0]
["RACARY Thibault","PAILLART Jean-Paul","G",2,0,120,58,"2011-03-25","National T5 BLOIS","Préqualifs","2010-2011",null,null,null,null,0,null,0]
["RACARY Thibault","GUILLEMANT Alexandre","P",1,3,139,231,"2011-03-26","National T5 BLOIS","Qualifs Masters","2010-2011",null,null,null,null,0,null,0]
["RACARY Thibault","PERRIN Eric","P",1,3,202,218,"2011-03-26","National T5 BLOIS","Qualifs Masters","2010-2011",null,null,null,null,0,null,0]
["RACARY Thibault","KERCRET Geneviève","G",2,0,120,115,"2011-04-15","National T6 CHAMPAGNE sur SEINE / NANDY","Préqualifs","2010-2011",null,null,null,null,0,null,0]
["RACARY Thibault","MORMICHE Michel","P",1,2,137,159,"2011-04-15","National T6 CHAMPAGNE sur SEINE / NANDY","Préqualifs","2010-2011",null,null,null,null,0,null,0]
["RACARY Thibault","MAIZOUE Alain","G",2,1,165,138,"2011-04-15","National T6 CHAMPAGNE sur SEINE / NANDY","Préqualifs","2010-2011",null,null,null,null,0,null,0]
["RACARY Thibault","SACRE Jean-Yves","G",3,2,286,218,"2011-04-16","National T6 CHAMPAGNE sur SEINE / NANDY","Qualifs promotion","2010-2011",null,null,null,null,0,null,0]
["RACARY Thibault","DERIU Georges","G",3,2,264,210,"2011-04-16","National T6 CHAMPAGNE sur SEINE / NANDY","Qualifs promotion","2010-2011",null,null,null,null,0,null,0]
["RACARY Thibault","ZILLIG Pierre","G",3,2,266,234,"2011-04-17","National T6 CHAMPAGNE sur SEINE / NANDY","1/2 finale promotion","2010-2011",null,null,null,null,0,null,0]
["RACARY Thibault","BASTENIER Jean","G",3,0,180,97,"2011-04-17","National T6 CHAMPAGNE sur SEINE / NANDY","1/4 finale promotion","2010-2011",null,null,null,null,0,null,0]
["RACARY Thibault","MARCHISSEAU Stéphane","G",3,1,236,180,"2011-04-17","National T6 CHAMPAGNE sur SEINE / NANDY","1/8 finale promotion","2010-2011",null,null,null,null,0,null,0]
["RACARY Thibault","DI PALMA Angelo","P",1,3,168,230,"2011-04-17","National T6 CHAMPAGNE sur SEINE / NANDY","Finale promotion","2010-2011",null,null,null,null,0,null,0]
["RACARY Thibault","FOURRE Cédric","P",1,3,176,226,"2011-05-14","National SCHILTIGHEIM","Qualifs","2010-2011",null,null,null,null,0,null,0]
["RACARY Thibault","HORNECKER Benoît","G",3,1,233,167,"2011-05-14","National SCHILTIGHEIM","Qualifs","2010-2011",null,null,null,null,0,null,0]
["RACARY Thibault","BOUVIER Philippe","G",3,0,180,86,"2011-05-14","National SCHILTIGHEIM","Qualifs","2010-2011",null,null,null,null,0,null,0]
["RACARY Thibault","DELSOL Philippe","G",3,1,216,201,"2011-05-15","National SCHILTIGHEIM","1/2 finale","2010-2011",null,null,null,null,0,null,0]
["RACARY Thibault","ZACCAGNINI Antoine","G",3,0,180,131,"2011-05-15","National SCHILTIGHEIM","1/4 finale","2010-2011",null,null,null,null,0,null,0]
["RACARY Thibault","MORMICHE Michel","G",3,1,233,166,"2011-05-15","National SCHILTIGHEIM","1/8 finale","2010-2011",null,null,null,null,0,null,0]
["RACARY Thibault","HERREBRECHT Thierry","P",1,3,194,235,"2011-05-15","National SCHILTIGHEIM","Finale","2010-2011",null,null,null,null,0,null,0]
["RACARY Thibault","MANTEN Paul","G",2,0,120,34,"2011-10-15","N1 Ligue T1 DIVION","Poules","2011-2012",null,null,null,null,0,null,0]
["RACARY Thibault","LEMÂTRE Jérémy","G",2,1,160,141,"2011-10-15","N1 Ligue T1 DIVION","Poules","2011-2012",null,null,null,null,0,null,0]
["RACARY Thibault","GEETS Patrice","P",0,2,92,120,"2011-10-15","N1 Ligue T1 DIVION","1/4 Finale","2011-2012",null,null,null,null,0,null,0]
["RACARY Thibault","GREMAIN Gino","G",3,0,180,131,"2011-10-01","National T1 CESTAS","Qualifs Masters","2011-2012",null,null,null,null,0,null,0]
["RACARY Thibault","DUVERNOY Christophe","P",1,3,154,216,"2011-10-01","National T1 CESTAS","Qualifs Masters","2011-2012",null,null,null,null,0,null,0]
["RACARY Thibault","JUBLOT Maxime","G",3,1,220,154,"2011-10-01","National T1 CESTAS","Qualifs Masters","2011-2012",null,null,null,null,0,null,0]
["RACARY Thibault","DUVERNOY Christophe","G",3,0,180,109,"2011-10-02","National T1 CESTAS","1/4 finale Masters","2011-2012",null,null,null,null,0,null,0]
["RACARY Thibault","HINGANT Matthieu","P",1,3,200,222,"2011-10-02","National T1 CESTAS","1/2 finale Masters","2011-2012",null,null,null,null,0,null,0]
["RACARY Thibault","MAILLE Bernard","G",2,0,120,83,"2011-11-19","N1 Ligue T2 DOUAI","Poules","2011-2012",null,null,null,null,0,null,0]
["RACARY Thibault","MAILLE Bernard","G",2,0,120,54,"2011-11-19","N1 Ligue T2 DOUAI","Poules","2011-2012",null,null,null,null,0,null,0]
["RACARY Thibault","LORTHIOIR Jean-Luc","G",2,0,120,58,"2011-11-19","N1 Ligue T2 DOUAI","1/8 Finale","2011-2012",null,null,null,null,0,null,0]
["RACARY Thibault","SAINT-GEORGES Claude","P",1,2,136,160,"2011-11-19","N1 Ligue T2 DOUAI","1/4 Finale","2011-2012",null,null,null,null,0,null,0]
["RACARY Thibault","MORALES Luis","G",3,0,180,100,"2011-11-05","National T2 SCHILTIGHEIM","Qualifs Masters","2011-2012",null,null,null,null,0,null,0]
["RACARY Thibault","DAVID Nicolas","P",1,3,185,227,"2011-11-05","National T2 SCHILTIGHEIM","Qualifs Masters","2011-2012",null,null,null,null,0,null,0]
["RACARY Thibault","GREMAIN Gino","G",3,1,235,195,"2011-11-05","National T2 SCHILTIGHEIM","Qualifs Masters","2011-2012",null,null,null,null,0,null,0]
["RACARY Thibault","GUILLEMANT Alexandre","P",0,3,81,180,"2011-11-06","National T2 SCHILTIGHEIM","1/4 finale Masters","2011-2012",null,null,null,null,0,null,0]
["RACARY Thibault","ZACCAGNINI Antoine","P",1,3,173,214,"2011-12-03","National T3 ANNOEULLIN","Qualifs Masters","2011-2012",null,null,null,null,0,null,0]
["RACARY Thibault","CARREAU Michaël","P",2,3,244,263,"2011-12-03","National T3 ANNOEULLIN","Qualifs Masters","2011-2012",null,null,null,null,0,null,0]
["RACARY Thibault","DECONINCK Franky","G",2,0,120,70,"2012-01-07","N1 Ligue T3 FACHES THUMESNIL","Poules","2011-2012",null,null,null,null,0,null,0]
["RACARY Thibault","WALLART Jean-Charles","G",2,0,120,70,"2012-01-07","N1 Ligue T3 FACHES THUMESNIL","Poules","2011-2012",null,null,null,null,0,null,0]
["RACARY Thibault","TURPIN Laurent","G",2,0,120,81,"2012-01-07","N1 Ligue T3 FACHES THUMESNIL","1/8 Finale","2011-2012",null,null,null,null,0,null,0]
["RACARY Thibault","DELSOL Philippe","G",2,0,120,61,"2012-01-07","N1 Ligue T3 FACHES THUMESNIL","1/4 Finale","2011-2012",null,null,null,null,0,null,0]
["RACARY Thibault","HERREBRECHT Thierry","G",2,1,163,134,"2012-01-07","N1 Ligue T3 FACHES THUMESNIL","1/2 Finale","2011-2012",null,null,null,null,0,null,0]
["RACARY Thibault","LHERMITTE Cédric","G",2,0,120,71,"2012-01-07","N1 Ligue T3 FACHES THUMESNIL","Finale","2011-2012",null,null,null,null,0,null,0]
["RACARY Thibault","ESTERMANS Bernard","G",2,0,120,84,"2012-01-28","N1 Ligue T4 GRAVELINES","Poules","2011-2012",null,null,null,null,0,null,0]
["RACARY Thibault","VEREECQUE Ludovic","G",2,0,120,44,"2012-01-28","N1 Ligue T4 GRAVELINES","Poules","2011-2012",null,null,null,null,0,null,0]
["RACARY Thibault","LECROART Serge","G",2,0,120,16,"2012-01-28","N1 Ligue T4 GRAVELINES","1/8 Finale","2011-2012",null,null,null,null,0,null,0]
["RACARY Thibault","VEREECQUE Ludovic","G",2,0,120,77,"2012-01-28","N1 Ligue T4 GRAVELINES","1/4 Finale","2011-2012",null,null,null,null,0,null,0]
["RACARY Thibault","HERREBRECHT Thierry","G",2,0,120,84,"2012-01-28","N1 Ligue T4 GRAVELINES","1/2 Finale","2011-2012",null,null,null,null,0,null,0]
["RACARY Thibault","GEETS Patrice","G",2,0,120,60,"2012-01-28","N1 Ligue T4 GRAVELINES","Finale","2011-2012",null,null,null,null,0,null,0]
["RACARY Thibault","GREMAIN Gino","G",3,1,231,167,"2012-02-18","National T4 ORLEANS","Qualifs Masters","2011-2012",null,null,null,null,0,null,0]
["RACARY Thibault","DUROYON Didier","P",1,3,213,234,"2012-02-18","National T4 ORLEANS","Qualifs Masters","2011-2012",null,null,null,null,0,null,0]
["RACARY Thibault","TRIFAULT Amand","G",3,2,279,228,"2012-02-18","National T4 ORLEANS","Qualifs Masters","2011-2012",null,null,null,null,0,null,0]
["RACARY Thibault","GUILLEMANT Alexandre","P",0,3,125,180,"2012-02-19","National T4 ORLEANS","1/4 finale Masters","2011-2012",null,null,null,null,0,null,0]
["RACARY Thibault","ZILLIG Pierre","G",3,0,180,155,"2012-03-17","National T5 L HAY LES ROSES","Qualifs Masters","2011-2012",null,null,null,null,0,null,0]
["RACARY Thibault","DAVID Nicolas","P",2,3,260,288,"2012-03-17","National T5 L HAY LES ROSES","Qualifs Masters","2011-2012",null,null,null,null,0,null,0]
["RACARY Thibault","PERRIN Eric","G",3,2,295,208,"2012-03-17","National T5 L HAY LES ROSES","Qualifs Masters","2011-2012",null,null,null,null,0,null,0]
["RACARY Thibault","DAVID Nicolas","G",3,2,256,204,"2012-03-18","National T5 L HAY LES ROSES","1/4 finale Masters","2011-2012",null,null,null,null,0,null,0]
["RACARY Thibault","JUBLOT Maxime","G",3,0,180,120,"2012-03-18","National T5 L HAY LES ROSES","1/2 finale Masters","2011-2012",null,null,null,null,0,null,0]
["RACARY Thibault","DI PALMA Angelo","G",3,1,232,226,"2012-03-18","National T5 L HAY LES ROSES","Finale Masters","2011-2012",null,null,null,null,0,null,0]
["RACARY Thibault","DUVERNOY Christophe","G",3,2,217,239,"2012-05-22","National TChampionnat de France 2011 2012","Qualifications","2011-2012",null,null,null,null,0,null,0]
["RACARY Thibault","HINGANT Matthieu","P",1,3,176,197,"2012-05-23","National TChampionnat de France 2011 2012","1/4 finale Masters","2011-2012",null,null,null,null,0,null,0]
["RACARY Thibault","PICOT Sylvain","G",3,2,288,207,"2012-05-22","National TChampionnat de France 2011 2012","Qualifications","2011-2012",null,null,null,null,0,null,0]
["RACARY Thibault","MAILLE Bernard","G",2,0,120,61,"2012-11-24","N1 Ligue T3 CALAIS","Poules","2012-2013",null,null,null,null,0,null,0]
["RACARY Thibault","LEMÂTRE Jérémy","G",2,0,120,47,"2012-11-24","N1 Ligue T3 CALAIS","Poules","2012-2013",null,null,null,null,0,null,0]
["RACARY Thibault","CAUX Frédéric","G",2,0,120,56,"2012-11-24","N1 Ligue T3 CALAIS","1/8 Finale","2012-2013",null,null,null,null,0,null,0]
["RACARY Thibault","ESTERMANS Bernard","G",2,0,120,57,"2012-11-24","N1 Ligue T3 CALAIS","1/4 Finale","2012-2013",null,null,null,null,0,null,0]
["RACARY Thibault","DELSOL Philippe","G",2,1,165,149,"2012-11-24","N1 Ligue T3 CALAIS","1/2 Finale","2012-2013",null,null,null,null,0,null,0]
["RACARY Thibault","LHERMITTE Cédric","G",2,0,120,74,"2012-11-24","N1 Ligue T3 CALAIS","Finale","2012-2013",null,null,null,null,0,null,0]
["RACARY Thibault","DI PALMA Angelo","G",3,1,168,159,"2012-10-07","National T1 BLOIS","1/4 finale Masters","2012-2013",null,null,null,null,0,null,0]
["RACARY Thibault","GUILLEMANT David","G",3,1,181,170,"2012-10-07","National T1 BLOIS","1/2 finale Masters","2012-2013",null,null,null,null,0,null,0]
["RACARY Thibault","HINGANT Matthieu","P",0,3,113,150,"2012-10-06","National T1 BLOIS","Qualifs Masters","2012-2013",null,null,null,null,0,null,0]
["RACARY Thibault","HINGANT Matthieu","G",3,2,211,201,"2012-10-07","National T1 BLOIS","Finale Masters","2012-2013",null,null,null,null,0,null,0]
["RACARY Thibault","PICOT Sylvain","G",3,1,174,144,"2012-10-06","National T1 BLOIS","Qualifs Masters","2012-2013",null,null,null,null,0,null,0]
["RACARY Thibault","ZACCAGNINI Antoine","G",3,1,192,135,"2012-10-06","National T1 BLOIS","Qualifs Masters","2012-2013",null,null,null,null,0,null,0]
["RACARY Thibault","CARREAU Michaël","G",3,2,231,210,"2012-11-03","National T2 NANTES","Qualifs Masters","2012-2013",null,null,null,null,0,null,0]
["RACARY Thibault","DAVID Nicolas","P",1,3,161,185,"2012-11-04","National T2 NANTES","Finale Masters","2012-2013",null,null,null,null,0,null,0]
["RACARY Thibault","DUVERNOY Christophe","G",3,1,189,169,"2012-11-04","National T2 NANTES","1/2 finale Masters","2012-2013",null,null,null,null,0,null,0]
["RACARY Thibault","HINGANT Matthieu","G",3,2,218,204,"2012-11-04","National T2 NANTES","1/4 finale Masters","2012-2013",null,null,null,null,0,null,0]
["RACARY Thibault","MANZOLI Angelo","P",0,3,128,150,"2012-11-03","National T2 NANTES","Qualifs Masters","2012-2013",null,null,null,null,0,null,0]
["RACARY Thibault","PERRIN Eric","G",3,1,184,130,"2012-11-03","National T2 NANTES","Qualifs Masters","2012-2013",null,null,null,null,0,null,0]
["RACARY Thibault","DAVID Nicolas","P",0,3,122,150,"2013-02-02","National T4 ROUEN","Qualifs Masters","2012-2013",null,null,null,null,0,null,0]
["RACARY Thibault","DUVERNOY Christophe","P",2,3,195,207,"2013-02-02","National T4 ROUEN","Qualifs Masters","2012-2013",null,null,null,null,0,null,0]
["RACARY Thibault","TRIFAULT Amand","G",3,1,169,133,"2013-02-02","National T4 ROUEN","Qualifs Masters","2012-2013",null,null,null,null,0,null,0]
["RACARY Thibault","DUVERNOY Christophe","P",0,3,99,150,"2013-03-09","National T5 LAXOU","Qualifs Masters","2012-2013",null,null,null,null,0,null,0]
["RACARY Thibault","DUVERNOY Christophe","P",2,3,189,197,"2013-03-10","National T5 LAXOU","1/4 finale Masters","2012-2013",null,null,null,null,0,null,0]
["RACARY Thibault","PERRIN Eric","G",3,1,191,111,"2013-03-09","National T5 LAXOU","Qualifs Masters","2012-2013",null,null,null,null,0,null,0]
["RACARY Thibault","SAINT-GEORGES Claude","G",3,1,189,127,"2013-03-09","National T5 LAXOU","Qualifs Masters","2012-2013",null,null,null,null,0,null,0]
["RACARY Thibault","MANZOLI Angelo","P",2,3,209,208,"2013-05-14","CHAMPIONNAT DE FRANCE MASTERS SAINT MAUR","1/4 Finale","2012-2013",null,null,null,null,0,null,0]
["RACARY Thibault","PICOT Sylvain","P",2,3,144,192,"2013-05-13","CHAMPIONNAT DE FRANCE MASTERS SAINT MAUR","Qualifications","2012-2013",null,null,null,null,0,null,0]
["RACARY Thibault","PERRIN Eric","G",3,1,193,166,"2013-05-13","CHAMPIONNAT DE FRANCE MASTERS SAINT MAUR","Qualifications","2012-2013",null,null,null,null,0,null,0]
["RACARY Thibault","DUVERNOY Christophe","G",3,1,181,137,"2013-05-13","CHAMPIONNAT DE FRANCE MASTERS SAINT MAUR","Qualifications","2012-2013",null,null,null,null,0,null,0]
["RACARY THIBAULT","MAILLE BERNARD","G",3,0,180,122,"2014-10-18","National T1 GRAVELINES","Qualifs Masters","2014-2015",null,null,null,null,1,null,0]
["RACARY THIBAULT","SORTAIS CLAUDE","G",3,0,180,122,"2014-10-18","National T1 GRAVELINES","Qualifs Masters","2014-2015",null,null,null,null,1,null,0]
["RACARY THIBAULT","DELSOL PHILIPPE","P",1,3,170,225,"2014-10-19","National T1 GRAVELINES","1/4 finale Masters","2014-2015",null,null,null,null,0,null,0]
["RACARY Thibault","GUERIN Xavier","G",3,1,216,128,"2014-11-29","National T2 FACHES THUMESNIL - RONCHIN","Qualifs Masters","2014-2015",null,null,null,null,1,null,0]
["RACARY Thibault","MANZOLI Angelo","G",3,0,180,148,"2014-11-29","National T2 FACHES THUMESNIL - RONCHIN","Qualifs Masters","2014-2015",null,null,null,null,1,null,0]
["RACARY Thibault","DAVOINE Bruno","G",3,0,180,94,"2014-11-30","National T2 FACHES THUMESNIL - RONCHIN","1/4 finale Masters","2014-2015",null,null,null,null,1,null,0]
["RACARY Thibault","HINGANT Matthieu","P",1,3,147,207,"2014-11-30","National T2 FACHES THUMESNIL - RONCHIN","1/2 finale Masters","2014-2015",null,null,null,null,0,null,0]
["RACARY Thibault","GREMAIN Gino","G",3,2,284,231,"2014-12-13","National T3 DOUARNENEZ","Qualifs Masters","2014-2015",null,null,null,null,1,null,0]
["RACARY Thibault","DELSOL Philippe","G",3,1,239,126,"2014-12-13","National T3 DOUARNENEZ","Qualifs Masters","2014-2015",null,null,null,null,1,null,0]
["RACARY Thibault","DUVERNOY Christophe","P",2,3,270,258,"2014-12-14","National T3 DOUARNENEZ","1/4 finale Masters","2014-2015",null,null,null,null,0,null,0]
["RACARY Thibault","DAVOINE Bruno","G",3,0,180,111,"2015-01-24","National T4 LAXOU","Qualifs Masters","2014-2015",null,null,null,null,1,null,0]
["RACARY Thibault","CARREAU Mickaël","G",3,0,180,145,"2015-01-24","National T4 LAXOU","Qualifs Masters","2014-2015",null,null,null,null,1,null,0]
["RACARY Thibault","DUVERNOY Christophe","P",2,3,252,248,"2015-01-25","National T4 LAXOU","1/4 finale Masters","2014-2015",null,null,null,null,0,null,0]
["RACARY Thibault","ZACCAGNINI Antoine","G",3,0,180,128,"2015-03-21","National T5 SAINT QUENTIN","Qualifs Masters","2014-2015",null,null,null,null,1,null,0]
["RACARY Thibault","CARREAU Mickaël","G",3,1,233,173,"2015-03-21","National T5 SAINT QUENTIN","Qualifs Masters","2014-2015",null,null,null,null,1,null,0]
["RACARY Thibault","DELSOL Philippe","G",3,1,233,190,"2015-03-22","National T5 SAINT QUENTIN","1/4 finale Masters","2014-2015",null,null,null,null,1,null,0]
["RACARY Thibault","PICOT Sylvain","P",2,3,258,259,"2015-03-22","National T5 SAINT QUENTIN","1/2 finale Masters","2014-2015",null,null,null,null,0,null,0]
["RACARY Thibault","BAYON Pascal","G",2,1,175,151,"2015-12-11","National T3 FACHES THUMESNIL - RONCHIN","Préqualifs","2015-2016",null,null,null,null,0,null,1]
["RACARY Thibault","KERCRET Geneviève","G",2,0,120,42,"2015-12-11","National T3 FACHES THUMESNIL - RONCHIN","Préqualifs","2015-2016",null,null,null,null,0,null,1]
["RACARY Thibault","LORGE Thierry","G",2,0,120,65,"2015-12-11","National T3 FACHES THUMESNIL - RONCHIN","Préqualifs","2015-2016",null,null,null,null,0,null,1]
["RACARY Thibault","CARREAU Mickaël","G",3,2,296,240,"2015-12-12","National T3 FACHES THUMESNIL - RONCHIN","Qualifs Masters","2015-2016",null,null,null,null,0,null,1]
["RACARY Thibault","GUILLEMANT David","G",3,0,180,145,"2015-12-12","National T3 FACHES THUMESNIL - RONCHIN","Qualifs Masters","2015-2016",null,null,null,null,0,null,1]
["RACARY Thibault","CARREAU Mickaël","G",3,0,180,109,"2015-12-13","National T3 FACHES THUMESNIL - RONCHIN","1/4 finale Masters","2015-2016",null,null,null,null,0,null,1]
["RACARY Thibault","HINGANT Matthieu","G",3,1,227,182,"2015-12-13","National T3 FACHES THUMESNIL - RONCHIN","1/2 finale Masters","2015-2016",null,null,null,null,0,null,1]
["RACARY Thibault","PICOT Sylvain","G",3,2,269,264,"2015-12-13","National T3 FACHES THUMESNIL - RONCHIN","Finale Masters","2015-2016",null,null,null,null,0,null,1]
["RACARY Thibault","ALDEGUER Lionel","G",2,0,120,52,"2016-03-04","National T5 GRAVELINES","Préqualifs","2015-2016",null,null,null,null,0,null,1]
["RACARY Thibault","LHERMITTE Sylvain","G",2,0,120,87,"2016-03-04","National T5 GRAVELINES","Préqualifs","2015-2016",null,null,null,null,0,null,1]
["RACARY Thibault","BILLIARD Alain","G",2,0,120,46,"2016-03-04","National T5 GRAVELINES","Préqualifs","2015-2016",null,null,null,null,0,null,1]
["RACARY Thibault","DUVERNOY Christophe","G",3,0,180,99,"2016-03-05","National T5 GRAVELINES","Qualifs Masters","2015-2016",null,null,null,null,0,null,1]
["RACARY Thibault","HINGANT Matthieu","P",2,3,214,290,"2016-03-05","National T5 GRAVELINES","Qualifs Masters","2015-2016",null,null,null,null,0,null,0]
["RACARY Thibault","MAILLAT Emmanuel","G",3,1,222,137,"2016-03-05","National T5 GRAVELINES","Qualifs Masters","2015-2016",null,null,null,null,0,null,1]
["RACARY Thibault","MANZOLI Angelo","G",3,1,233,191,"2016-03-06","National T5 GRAVELINES","1/4 finale Masters","2015-2016",null,null,null,null,0,null,1]
["RACARY Thibault","CARREAU Mickaël","P",2,3,287,295,"2016-03-06","National T5 GRAVELINES","1/2 finale Masters","2015-2016",null,null,null,null,0,null,0]
["RACARY Thibault","HINGANT Matthieu","P",2,3,255,249,"2016-06-25","Championnat de France Masters - SAINT MAUR DES FOSSES","1/4 Finale","2015-2016",null,null,null,null,0,null,0]
["RACARY Thibault","PICOT Sylvain","G",3,2,280,214,"2016-06-25","Championnat de France Masters - SAINT MAUR DES FOSSES","Qualifications","2015-2016",null,null,null,null,0,null,1]
["RACARY Thibault","VICARY Marc","P",2,3,285,262,"2016-06-25","Championnat de France Masters - SAINT MAUR DES FOSSES","Qualifications","2015-2016",null,null,null,null,0,null,0]
["RACARY Thibault","WALLART Jean-Charles","G",3,1,234,134,"2016-06-25","Championnat de France Masters - SAINT MAUR DES FOSSES","Qualifications","2015-2016",null,null,null,null,0,null,1]
["Fin des données",null,null,null,null,null,null,null,null,null,"",null,null,null,null,0,null,0]

{"sheet":"RAUX Jean-François","index":74,"n_rows":21,"n_cols":22,"rows_kept":21,"cut":false,"hidden":false,"merged":[]}
["RAUX Jean-François",null,null,null,null,null,null,null,null,null,null,null,null,null,null,{"$f":"Récapitulatif!$B$2","v":"2014-2015"},null,{"$f":"Récapitulatif!$B$3","v":"2015-2016"},null,"Toutes saisons"]
[{"$error":"#N/A"},null,null,null,null,null,null,null,null,null,null,null,null,null,null,"Nombre","%age","Nombre","%age","Nombre","%age"]
[{"$error":"#N/A"},null,null,null,null,null,null,null,null,null,null,null,null,"Matchs","Gagnés",{"$f":"SUM(P$15:P$21)","v":0},{"$f":"IF(P$3+P$4>0,P3/(P$3+P$4),\"\")","v":""},{"$f":"SUM(R$15:R$21)","v":0},{"$f":"IF(R$3+R$4>0,R3/(R$3+R$4),\"\")","v":""},{"$f":"COUNTIF($C$15:$C$21,\"G\")","v":2},{"$f":"IF(T$3+T$4>0,T3/(T$3+T$4),\"\")","v":0.4}]
[{"$error":"#N/A"},null,null,null,null,null,null,null,null,null,null,null,null,null,"Perdus",{"$f":"COUNTIF($K$15:$K$21,Récapitulatif!$B$2)-P3","v":0},{"$f":"IF(P$3+P$4>0,P4/(P$3+P$4),\"\")","v":""},{"$f":"COUNTIF($K$15:$K$21,Récapitulatif!$B$3)-R3","v":0},{"$f":"IF(R$3+R$4>0,R4/(R$3+R$4),\"\")","v":""},{"$f":"COUNTIF($C$15:$C$21,\"P\")","v":3},{"$f":"IF(T$3+T$4>0,T4/(T$3+T$4),\"\")","v":0.6}]
[{"$error":"#N/A"},null,null,null,null,null,null,null,null,null,null,null,null,null,"Total / Moy.",{"$f":"SUM(P3:P4)","v":0},{"$f":"IF(SUMIF($K$15:$K$21,Récapitulatif!$B$2,$G$15:$G$21)>0,SUMIF($K$15:$K$21,Récapitulatif!$B$2,$F$15:$F$21)/SUMIF($K$15:$K$21,Récapitulatif!$B$2,$G$15:$G$21),\"\")","v":""},{"$f":"SUM(R3:R4)","v":0},{"$f":"IF(SUMIF($K$15:$K$21,Récapitulatif!$B$3,$G$15:$G$21)>0,SUMIF($K$15:$K$21,Récapitulatif!$B$3,$F$15:$F$21)/SUMIF($K$15:$K$21,Récapitulatif!$B$3,$G$15:$G$21),\"\")","v":""},{"$f":"SUM(T3:T4)","v":5},{"$f":"IF(SUM($G$15:$G$21)>0,SUM($F$15:$F$21)/SUM($G$15:$G$21),\"\")","v":0.86900958466453671},{"$f":"IF(SUMIF($K$15:$K$21,Récapitulatif!$B$2,$G$15:$G$21)+SUMIF($K$15:$K$21,Récapitulatif!$B$3,$G$15:$G$21)>0,(SUMIF($K$15:$K$21,Récapitulatif!$B$2,$F$15:$F$21)+SUMIF($K$15:$K$21,Récapitulatif!$B$3,$F$15:$F$21))/(SUMIF($K$15:$K$21,Récapitulatif!$B$2,$G$15:$G$21)+SUMIF($K$15:$K$21,Récapitulatif!$B$3,$G$15:$G$21)),\"\")","v":""}]
[null,null,null,null,null,null,null,null,null,null,null,null,null,"Sets","Gagnés",{"$f":"SUMIF($K$15:$K$21,Récapitulatif!$B$2,$D$15:$D$21)","v":0},{"$f":"IF(P$6+P$7>0,P6/(P$6+P$7),\"\")","v":""},{"$f":"SUMIF($K$15:$K$21,Récapitulatif!$B$3,$D$15:$D$21)","v":0},{"$f":"IF(R$6+R$7>0,R6/(R$6+R$7),\"\")","v":""},{"$f":"SUM($D$15:$D$21)","v":5},{"$f":"IF(T$6+T$7>0,T6/(T$6+T$7),\"\")","v":0.41666666666666669}]
[null,null,null,null,null,null,null,null,null,null,null,null,null,null,"Perdus",{"$f":"SUMIF($K$15:$K$21,Récapitulatif!$B$2,$E$15:$E$21)","v":0},{"$f":"IF(P$6+P$7>0,P7/(P$6+P$7),\"\")","v":""},{"$f":"SUMIF($K$15:$K$21,Récapitulatif!$B$3,$E$15:$E$21)","v":0},{"$f":"IF(R$6+R$7>0,R7/(R$6+R$7),\"\")","v":""},{"$f":"SUM($E$15:$E$21)","v":7},{"$f":"IF(T$6+T$7>0,T7/(T$6+T$7),\"\")","v":0.58333333333333337}]
["Récapitulatif joueurs",null,null,null,null,null,null,null,null,null,null,null,null,null,"Total",{"$f":"SUM(P6:P7)","v":0},null,{"$f":"SUM(R6:R7)","v":0},null,{"$f":"SUM(T6:T7)","v":12}]
[]
[]
[]
[]
[]
[]
["Joueur","Adversaire","G/P","Sets gagnés","Sets perdus","pts marqués","pts subis","Date","Compétition","Phase","Saison"]
["RAUX Jean-François","CARPENTIER Yohanne","P",0,2,45,120,"2011-01-15","N1 Ligue T4 DIVION","Poules",{"$f":"IF(H16<>\"\",IF(MONTH(H16)>MoisRef,YEAR(H16)&\"-\"&YEAR(H16)+1,YEAR(H16)-1&\"-\"&YEAR(H16)),\"\")","v":"2010-2011"},null,null,null,null,{"$f":"IF($K16=P$1,COUNTIF($C16,\"G\"),0)","v":0},null,{"$f":"IF($K16=R$1,COUNTIF($C16,\"G\"),0)","v":0}]
["RAUX Jean-François","POULEYN André","P",0,2,97,120,"2011-01-15","N1 Ligue T4 DIVION","Poules","2010-2011",null,null,null,null,0,null,0]
["RAUX Jean-François","SKORDILIS Christo","G",2,0,120,84,"2011-01-15","N1 Ligue T4 DIVION","Poules Consolante","2010-2011",null,null,null,null,0,null,0]
["RAUX Jean-François","MARTEL Bruno","G",2,1,158,157,"2011-01-15","N1 Ligue T4 DIVION","Poules Consolante","2010-2011",null,null,null,null,0,null,0]
["RAUX Jean-François","VEREECQUE Ludovic","P",1,2,124,145,"2011-01-15","N1 Ligue T4 DIVION","1/2 Finale Consolante","2010-2011",null,null,null,null,0,null,0]
["Fin des données",null,null,null,null,null,null,null,null,null,"",null,null,null,null,0,null,0]

{"sheet":"RENAUX Damien","index":75,"n_rows":20,"n_cols":22,"rows_kept":20,"cut":false,"hidden":false,"merged":[]}
["RENAUX Damien",null,null,null,null,null,null,null,null,null,null,null,null,null,null,{"$f":"Récapitulatif!$B$2","v":"2014-2015"},null,{"$f":"Récapitulatif!$B$3","v":"2015-2016"},null,"Toutes saisons"]
[{"$error":"#N/A"},null,null,null,null,null,null,null,null,null,null,null,null,null,null,"Nombre","%age","Nombre","%age","Nombre","%age"]
[{"$error":"#N/A"},null,null,null,null,null,null,null,null,null,null,null,null,"Matchs","Gagnés",{"$f":"SUM(P$15:P$20)","v":0},{"$f":"IF(P$3+P$4>0,P3/(P$3+P$4),\"\")","v":""},{"$f":"SUM(R$15:R$20)","v":0},{"$f":"IF(R$3+R$4>0,R3/(R$3+R$4),\"\")","v":""},{"$f":"COUNTIF($C$15:$C$20,\"G\")","v":1},{"$f":"IF(T$3+T$4>0,T3/(T$3+T$4),\"\")","v":0.25}]
[{"$error":"#N/A"},null,null,null,null,null,null,null,null,null,null,null,null,null,"Perdus",{"$f":"COUNTIF($K$15:$K$20,Récapitulatif!$B$2)-P3","v":0},{"$f":"IF(P$3+P$4>0,P4/(P$3+P$4),\"\")","v":""},{"$f":"COUNTIF($K$15:$K$20,Récapitulatif!$B$3)-R3","v":0},{"$f":"IF(R$3+R$4>0,R4/(R$3+R$4),\"\")","v":""},{"$f":"COUNTIF($C$15:$C$20,\"P\")","v":3},{"$f":"IF(T$3+T$4>0,T4/(T$3+T$4),\"\")","v":0.75}]
[{"$error":"#N/A"},null,null,null,null,null,null,null,null,null,null,null,null,null,"Total / Moy.",{"$f":"SUM(P3:P4)","v":0},{"$f":"IF(SUMIF($K$15:$K$20,Récapitulatif!$B$2,$G$15:$G$20)>0,SUMIF($K$15:$K$20,Récapitulatif!$B$2,$F$15:$F$20)/SUMIF($K$15:$K$20,Récapitulatif!$B$2,$G$15:$G$20),\"\")","v":""},{"$f":"SUM(R3:R4)","v":0},{"$f":"IF(SUMIF($K$15:$K$20,Récapitulatif!$B$3,$G$15:$G$20)>0,SUMIF($K$15:$K$20,Récapitulatif!$B$3,$F$15:$F$20)/SUMIF($K$15:$K$20,Récapitulatif!$B$3,$G$15:$G$20),\"\")","v":""},{"$f":"SUM(T3:T4)","v":4},{"$f":"IF(SUM($G$15:$G$20)>0,SUM($F$15:$F$20)/SUM($G$15:$G$20),\"\")","v":0.86956521739130432},{"$f":"IF(SUMIF($K$15:$K$20,Récapitulatif!$B$2,$G$15:$G$20)+SUMIF($K$15:$K$20,Récapitulatif!$B$3,$G$15:$G$20)>0,(SUMIF($K$15:$K$20,Récapitulatif!$B$2,$F$15:$F$20)+SUMIF($K$15:$K$20,Récapitulatif!$B$3,$F$15:$F$20))/(SUMIF($K$15:$K$20,Récapitulatif!$B$2,$G$15:$G$20)+SUMIF($K$15:$K$20,Récapitulatif!$B$3,$G$15:$G$20)),\"\")","v":""}]
[null,null,null,null,null,null,null,null,null,null,null,null,null,"Sets","Gagnés",{"$f":"SUMIF($K$15:$K$20,Récapitulatif!$B$2,$D$15:$D$20)","v":0},{"$f":"IF(P$6+P$7>0,P6/(P$6+P$7),\"\")","v":""},{"$f":"SUMIF($K$15:$K$20,Récapitulatif!$B$3,$D$15:$D$20)","v":0},{"$f":"IF(R$6+R$7>0,R6/(R$6+R$7),\"\")","v":""},{"$f":"SUM($D$15:$D$20)","v":2},{"$f":"IF(T$6+T$7>0,T6/(T$6+T$7),\"\")","v":0.2857142857142857}]
[null,null,null,null,null,null,null,null,null,null,null,null,null,null,"Perdus",{"$f":"SUMIF($K$15:$K$20,Récapitulatif!$B$2,$E$15:$E$20)","v":0},{"$f":"IF(P$6+P$7>0,P7/(P$6+P$7),\"\")","v":""},{"$f":"SUMIF($K$15:$K$20,Récapitulatif!$B$3,$E$15:$E$20)","v":0},{"$f":"IF(R$6+R$7>0,R7/(R$6+R$7),\"\")","v":""},{"$f":"SUM($E$15:$E$20)","v":5},{"$f":"IF(T$6+T$7>0,T7/(T$6+T$7),\"\")","v":0.7142857142857143}]
["Récapitulatif joueurs",null,null,null,null,null,null,null,null,null,null,null,null,null,"Total",{"$f":"SUM(P6:P7)","v":0},null,{"$f":"SUM(R6:R7)","v":0},null,{"$f":"SUM(T6:T7)","v":7}]
[]
[]
[]
[]
[]
[]
["Joueur","Adversaire","G/P","Sets gagnés","Sets perdus","pts marqués","pts subis","Date","Compétition","Phase","Saison"]
["RENAUX Damien","POULEYN André","P",0,2,83,120,"2012-11-24","N1 Ligue T3 CALAIS","Poules",{"$f":"IF(H16<>\"\",IF(MONTH(H16)>MoisRef,YEAR(H16)&\"-\"&YEAR(H16)+1,YEAR(H16)-1&\"-\"&YEAR(H16)),\"\")","v":"2012-2013"},null,null,null,null,{"$f":"IF($K16=P$1,COUNTIF($C16,\"G\"),0)","v":0},null,{"$f":"IF($K16=R$1,COUNTIF($C16,\"G\"),0)","v":0}]
["RENAUX Damien","CAUX Grégory","G",2,1,173,140,"2012-11-24","N1 Ligue T3 CALAIS","Poules",{"$f":"IF(H17<>\"\",IF(MONTH(H17)>MoisRef,YEAR(H17)&\"-\"&YEAR(H17)+1,YEAR(H17)-1&\"-\"&YEAR(H17)),\"\")","v":"2012-2013"},null,null,null,null,{"$f":"IF($K17=P$1,COUNTIF($C17,\"G\"),0)","v":0},null,{"$f":"IF($K17=R$1,COUNTIF($C17,\"G\"),0)","v":0}]
["RENAUX Damien","GEETS Patrice","P",0,1,65,100,"2012-11-24","N1 Ligue T3 CALAIS","Poules Consolante",{"$f":"IF(H18<>\"\",IF(MONTH(H18)>MoisRef,YEAR(H18)&\"-\"&YEAR(H18)+1,YEAR(H18)-1&\"-\"&YEAR(H18)),\"\")","v":"2012-2013"},null,null,null,null,{"$f":"IF($K18=P$1,COUNTIF($C18,\"G\"),0)","v":0},null,{"$f":"IF($K18=R$1,COUNTIF($C18,\"G\"),0)","v":0}]
["RENAUX Damien","GEETS Patrice","P",0,1,79,100,"2012-11-24","N1 Ligue T3 CALAIS","Poules Consolante",{"$f":"IF(H19<>\"\",IF(MONTH(H19)>MoisRef,YEAR(H19)&\"-\"&YEAR(H19)+1,YEAR(H19)-1&\"-\"&YEAR(H19)),\"\")","v":"2012-2013"},null,null,null,null,{"$f":"IF($K19=P$1,COUNTIF($C19,\"G\"),0)","v":0},null,{"$f":"IF($K19=R$1,COUNTIF($C19,\"G\"),0)","v":0}]
["Fin des données",null,null,null,null,null,null,null,null,null,{"$f":"IF(H20<>\"\",IF(MONTH(H20)>MoisRef,YEAR(H20)&\"-\"&YEAR(H20)+1,YEAR(H20)-1&\"-\"&YEAR(H20)),\"\")","v":""},null,null,null,null,{"$f":"IF($K20=P$1,COUNTIF($C20,\"G\"),0)","v":0},null,{"$f":"IF($K20=R$1,COUNTIF($C20,\"G\"),0)","v":0}]

{"sheet":"SAINT-GEORGES Claude","index":76,"n_rows":288,"n_cols":22,"rows_kept":288,"cut":false,"hidden":false,"merged":[]}
["SAINT-GEORGES Claude",null,null,null,null,null,null,null,null,null,null,null,null,null,null,{"$f":"Récapitulatif!$B$2","v":"2014-2015"},null,{"$f":"Récapitulatif!$B$3","v":"2015-2016"},null,"Toutes saisons"]
["CALAIS",null,null,null,null,null,null,null,null,null,null,null,null,null,null,"Nombre","%age","Nombre","%age","Nombre","%age"]
["017052-W",null,null,null,null,null,null,null,null,null,null,null,null,"Matchs","Gagnés",{"$f":"SUM(P$15:P$288)","v":32},{"$f":"IF(P$3+P$4>0,P3/(P$3+P$4),\"\")","v":0.65306122448979587},{"$f":"SUM(R$15:R$288)","v":19},{"$f":"IF(R$3+R$4>0,R3/(R$3+R$4),\"\")","v":0.55882352941176472},{"$f":"COUNTIF($C$15:$C$288,\"G\")","v":157},{"$f":"IF(T$3+T$4>0,T3/(T$3+T$4),\"\")","v":0.57720588235294112}]
[null,null,null,null,null,null,null,null,null,null,null,null,null,null,"Perdus",{"$f":"COUNTIF($K$15:$K$288,Récapitulatif!$B$2)-P3","v":17},{"$f":"IF(P$3+P$4>0,P4/(P$3+P$4),\"\")","v":0.34693877551020408},{"$f":"COUNTIF($K$15:$K$288,Récapitulatif!$B$3)-R3","v":15},{"$f":"IF(R$3+R$4>0,R4/(R$3+R$4),\"\")","v":0.44117647058823528},{"$f":"COUNTIF($C$15:$C$288,\"P\")","v":115},{"$f":"IF(T$3+T$4>0,T4/(T$3+T$4),\"\")","v":0.42279411764705882}]
["claude.saint-georges@wanadoo.fr",null,null,null,null,null,null,null,null,null,null,null,null,null,"Total / Moy.",{"$f":"SUM(P3:P4)","v":49},{"$f":"IF(SUMIF($K$15:$K$288,Récapitulatif!$B$2,$G$15:$G$288)>0,SUMIF($K$15:$K$288,Récapitulatif!$B$2,$F$15:$F$288)/SUMIF($K$15:$K$288,Récapitulatif!$B$2,$G$15:$G$288),\"\")","v":1.1219512195121952},{"$f":"SUM(R3:R4)","v":34},{"$f":"IF(SUMIF($K$15:$K$288,Récapitulatif!$B$3,$G$15:$G$288)>0,SUMIF($K$15:$K$288,Récapitulatif!$B$3,$F$15:$F$288)/SUMIF($K$15:$K$288,Récapitulatif!$B$3,$G$15:$G$288),\"\")","v":1.0719092482214958},{"$f":"SUM(T3:T4)","v":272},{"$f":"IF(SUM($G$15:$G$288)>0,SUM($F$15:$F$288)/SUM($G$15:$G$288),\"\")","v":1.0308417814091895},{"$f":"IF(SUMIF($K$15:$K$288,Récapitulatif!$B$2,$G$15:$G$288)+SUMIF($K$15:$K$288,Récapitulatif!$B$3,$G$15:$G$288)>0,(SUMIF($K$15:$K$288,Récapitulatif!$B$2,$F$15:$F$288)+SUMIF($K$15:$K$288,Récapitulatif!$B$3,$F$15:$F$288))/(SUMIF($K$15:$K$288,Récapitulatif!$B$2,$G$15:$G$288)+SUMIF($K$15:$K$288,Récapitulatif!$B$3,$G$15:$G$288)),\"\")","v":1.1017894492214735}]
[null,null,null,null,null,null,null,null,null,null,null,null,null,"Sets","Gagnés",{"$f":"SUMIF($K$15:$K$288,Récapitulatif!$B$2,$D$15:$D$288)","v":100},{"$f":"IF(P$6+P$7>0,P6/(P$6+P$7),\"\")","v":0.59880239520958078},{"$f":"SUMIF($K$15:$K$288,Récapitulatif!$B$3,$D$15:$D$288)","v":56},{"$f":"IF(R$6+R$7>0,R6/(R$6+R$7),\"\")","v":0.52336448598130836},{"$f":"SUM($D$15:$D$288)","v":445},{"$f":"IF(T$6+T$7>0,T6/(T$6+T$7),\"\")","v":0.53808948004836754}]
[null,null,null,null,null,null,null,null,null,null,null,null,null,null,"Perdus",{"$f":"SUMIF($K$15:$K$288,Récapitulatif!$B$2,$E$15:$E$288)","v":67},{"$f":"IF(P$6+P$7>0,P7/(P$6+P$7),\"\")","v":0.40119760479041916},{"$f":"SUMIF($K$15:$K$288,Récapitulatif!$B$3,$E$15:$E$288)","v":51},{"$f":"IF(R$6+R$7>0,R7/(R$6+R$7),\"\")","v":0.47663551401869159},{"$f":"SUM($E$15:$E$288)","v":382},{"$f":"IF(T$6+T$7>0,T7/(T$6+T$7),\"\")","v":0.4619105199516324}]
["Récapitulatif joueurs",null,null,null,null,null,null,null,null,null,null,null,null,null,"Total",{"$f":"SUM(P6:P7)","v":167},null,{"$f":"SUM(R6:R7)","v":107},null,{"$f":"SUM(T6:T7)","v":827}]
[]
[]
[]
[]
[]
[]
["Joueur","Adversaire","G/P","Sets gagnés","Sets perdus","pts marqués","pts subis","Date","Compétition","Phase","Saison"]
["SAINT-GEORGES Claude","MICHEL Louis","P",0,2,105,120,"2008-10-10","National T1 MAISONS ALFORT","Préqualifs",{"$f":"IF(H16<>\"\",IF(MONTH(H16)>MoisRef,YEAR(H16)&\"-\"&YEAR(H16)+1,YEAR(H16)-1&\"-\"&YEAR(H16)),\"\")","v":"2008-2009"},null,null,null,null,{"$f":"IF($K16=P$1,COUNTIF($C16,\"G\"),0)","v":0},null,{"$f":"IF($K16=R$1,COUNTIF($C16,\"G\"),0)","v":0}]
["SAINT-GEORGES Claude","GONTHIER Arnaud","P",1,2,156,148,"2008-10-10","National T1 MAISONS ALFORT","Préqualifs","2008-2009",null,null,null,null,0,null,0]
["SAINT-GEORGES Claude","DELEPIERRE Patrick","G",2,0,120,43,"2008-10-10","National T1 MAISONS ALFORT","Préqualifs","2008-2009",null,null,null,null,0,null,0]
["SAINT-GEORGES Claude","MARCHISSEAU Stéphane","P",0,3,118,180,"2008-10-11","National T1 MAISONS ALFORT","Qualifs promotion","2008-2009",null,null,null,null,0,null,0]
["SAINT-GEORGES Claude","KUTSAR Tanju","P",2,3,252,239,"2008-10-11","National T1 MAISONS ALFORT","Qualifs promotion","2008-2009",null,null,null,null,0,null,0]
["SAINT-GEORGES Claude","WALLART Jean-Charles","G",2,0,120,91,"2008-11-14","National T2 SCHILTIGHEIM","Préqualifs","2008-2009",null,null,null,null,0,null,0]
["SAINT-GEORGES Claude","EVENOU Marie-Antoinette","G",2,0,120,42,"2008-11-14","National T2 SCHILTIGHEIM","Préqualifs","2008-2009",null,null,null,null,0,null,0]
["SAINT-GEORGES Claude","MARCHISSEAU Stéphane","G",2,1,132,178,"2008-11-14","National T2 SCHILTIGHEIM","Préqualifs","2008-2009",null,null,null,null,0,null,0]
["SAINT-GEORGES Claude","PERRIN Thierry","G",3,2,235,250,"2008-11-15","National T2 SCHILTIGHEIM","Qualifs promotion","2008-2009",null,null,null,null,0,null,0]
["SAINT-GEORGES Claude","ALIX Pascal","P",0,3,117,180,"2008-11-15","National T2 SCHILTIGHEIM","Qualifs promotion","2008-2009",null,null,null,null,0,null,0]
["SAINT-GEORGES Claude","GONTHIER Arnaud","P",0,3,152,180,"2008-11-15","National T2 SCHILTIGHEIM","Qualifs promotion","2008-2009",null,null,null,null,0,null,0]
["SAINT-GEORGES Claude","CARPENTIER Yohanne","G",2,0,120,85,"2009-03-07","N1 Ligue T2 ANNOEULLIN","Poules","2008-2009",null,null,null,null,0,null,0]
["SAINT-GEORGES Claude","MAILLE Bernard","G",2,1,149,156,"2009-03-07","N1 Ligue T2 ANNOEULLIN","Poules","2008-2009",null,null,null,null,0,null,0]
["SAINT-GEORGES Claude","DELSOL Philippe","P",0,2,66,120,"2009-03-07","N1 Ligue T2 ANNOEULLIN","1/4 Finale","2008-2009",null,null,null,null,0,null,0]
["SAINT-GEORGES Claude","MAILLE Bernard","G",2,0,120,95,"2009-03-20","National T5 ANDERNOS","Préqualifs","2008-2009",null,null,null,null,0,null,0]
["SAINT-GEORGES Claude","DAMONNEVILLE Blandine","G",2,0,120,61,"2009-03-20","National T5 ANDERNOS","Préqualifs","2008-2009",null,null,null,null,0,null,0]
["SAINT-GEORGES Claude","MARCHISSEAU Stéphane","P",1,2,143,155,"2009-03-20","National T5 ANDERNOS","Préqualifs","2008-2009",null,null,null,null,0,null,0]
["SAINT-GEORGES Claude","CAUX Frédéric","G",3,1,227,198,"2009-03-21","National T5 ANDERNOS","Qualifs promotion","2008-2009",null,null,null,null,0,null,0]
["SAINT-GEORGES Claude","DUPOUY Daniel","P",2,3,229,254,"2009-03-21","National T5 ANDERNOS","Qualifs promotion","2008-2009",null,null,null,null,0,null,0]
["SAINT-GEORGES Claude","GANGLOFF Jean-Luc","G",3,1,233,180,"2009-03-21","National T5 ANDERNOS","Qualifs promotion","2008-2009",null,null,null,null,0,null,0]
["SAINT-GEORGES Claude","MORALES Luis","G",3,2,289,262,"2009-03-22","National T5 ANDERNOS","1/8 finale promotion","2008-2009",null,null,null,null,0,null,0]
["SAINT-GEORGES Claude","FOURRE Cédric","P",2,3,230,261,"2009-03-22","National T5 ANDERNOS"," 1/4 finale promotion","2008-2009",null,null,null,null,0,null,0]
["SAINT-GEORGES Claude","HERREBRECHT Thierry","G",2,1,168,155,"2009-04-11","N1 Ligue T3 DUNKERQUE","Poules","2008-2009",null,null,null,null,0,null,0]
["SAINT-GEORGES Claude","GUILLEMANT Jean-Marc","P",1,2,159,168,"2009-04-11","N1 Ligue T3 DUNKERQUE","Poules","2008-2009",null,null,null,null,0,null,0]
["SAINT-GEORGES Claude","WALLART Jean-Charles","G",2,0,120,100,"2009-04-11","N1 Ligue T3 DUNKERQUE","1/4 Finale","2008-2009",null,null,null,null,0,null,0]
["SAINT-GEORGES Claude","TURPIN Laurent","G",2,0,120,63,"2009-04-11","N1 Ligue T3 DUNKERQUE","1/2 Finale","2008-2009",null,null,null,null,0,null,0]
["SAINT-GEORGES Claude","HERREBRECHT Thierry","G",2,1,146,149,"2009-04-11","N1 Ligue T3 DUNKERQUE","Finale","2008-2009",null,null,null,null,0,null,0]
["SAINT-GEORGES Claude","DELATTRE Hervé","G",2,1,144,143,"2009-04-17","National T6 CAUDAN","Préqualifs","2008-2009",null,null,null,null,0,null,0]
["SAINT-GEORGES Claude","J. BLANC","G",2,0,120,102,"2009-04-17","National T6 CAUDAN","Préqualifs","2008-2009",null,null,null,null,0,null,0]
["SAINT-GEORGES Claude","DEMILLY Jean-Sébastien","P",0,2,65,120,"2009-04-17","National T6 CAUDAN","Préqualifs","2008-2009",null,null,null,null,0,null,0]
["SAINT-GEORGES Claude","RETIF Jérôme","P",2,3,200,243,"2009-04-18","National T6 CAUDAN","Qualifs promotion","2008-2009",null,null,null,null,0,null,0]
["SAINT-GEORGES Claude","SCHUB Philippe","G",3,2,287,226,"2009-04-18","National T6 CAUDAN","Qualifs promotion","2008-2009",null,null,null,null,0,null,0]
["SAINT-GEORGES Claude","RETIF Jérôme","P",1,3,170,229,"2009-04-18","National T6 CAUDAN","Qualifs promotion",{"$f":"IF(H48<>\"\",IF(MONTH(H48)>MoisRef,YEAR(H48)&\"-\"&YEAR(H48)+1,YEAR(H48)-1&\"-\"&YEAR(H48)),\"\")","v":"2008-2009"},null,null,null,null,0,null,0]
["SAINT-GEORGES Claude","CLYNCKE Jean-Jacques","G",2,0,120,95,"2009-11-06","National T1 SCHILTIGHEIM","Préqualifs","2009-2010",null,null,null,null,0,null,0]
["SAINT-GEORGES Claude","MORALES Luis","P",0,2,66,120,"2009-11-06","National T1 SCHILTIGHEIM","Préqualifs","2009-2010",null,null,null,null,0,null,0]
["SAINT-GEORGES Claude","J. BLANC","G",2,0,120,104,"2009-11-06","National T1 SCHILTIGHEIM","Préqualifs","2009-2010",null,null,null,null,0,null,0]
["SAINT-GEORGES Claude","BOUVIER Philippe","P",0,3,123,180,"2009-11-07","National T1 SCHILTIGHEIM","Qualifs promotion","2009-2010",null,null,null,null,0,null,0]
["SAINT-GEORGES Claude","LORTHIOIR Jean-Luc","G",3,0,180,77,"2009-11-07","National T1 SCHILTIGHEIM","Qualifs promotion","2009-2010",null,null,null,null,0,null,0]
["SAINT-GEORGES Claude","MATHIS Jean","P",0,3,120,180,"2009-11-07","National T1 SCHILTIGHEIM","Qualifs promotion","2009-2010",null,null,null,null,0,null,0]
["SAINT-GEORGES Claude","PONCHANT Grégory","G",2,0,120,76,"2009-12-04","National T2 ANNOEULLIN","Préqualifs","2009-2010",null,null,null,null,0,null,0]
["SAINT-GEORGES Claude","HERREBRECHT Thierry","G",2,1,178,147,"2009-12-04","National T2 ANNOEULLIN","Préqualifs","2009-2010",null,null,null,null,0,null,0]
["SAINT-GEORGES Claude","DEMILLY Dominique","G",2,0,120,72,"2009-12-04","National T2 ANNOEULLIN","Préqualifs","2009-2010",null,null,null,null,0,null,0]
["SAINT-GEORGES Claude","GUILLEMANT Alexandre","P",0,3,43,180,"2009-12-05","National T2 ANNOEULLIN","Qualifs Masters","2009-2010",null,null,null,null,0,null,0]
["SAINT-GEORGES Claude","FERON Patrick","P",0,3,100,180,"2009-12-05","National T2 ANNOEULLIN","Qualifs Masters","2009-2010",null,null,null,null,0,null,0]
["SAINT-GEORGES Claude","HORNAIN Denis","G",2,0,120,91,"2010-01-16","N1 Ligue T3 ANNOEULLIN","Poules Consolante","2009-2010",null,null,null,null,0,null,0]
["SAINT-GEORGES Claude","DEROLEZ Jean-Pierre","G",2,0,120,102,"2010-01-16","N1 Ligue T3 ANNOEULLIN","Poules Consolante","2009-2010",null,null,null,null,0,null,0]
["SAINT-GEORGES Claude","CARPENTIER Yohanne","P",1,2,149,157,"2010-01-16","N1 Ligue T3 ANNOEULLIN","1/2 Finale Consolante","2009-2010",null,null,null,null,0,null,0]
["SAINT-GEORGES Claude","MAUPIN Patrick","G",2,0,120,90,"2010-01-16","N1 Ligue T3 ANNOEULLIN","Poules","2009-2010",null,null,null,null,0,null,0]
["SAINT-GEORGES Claude","WALLART Jean-Charles","P",0,2,70,120,"2010-01-16","N1 Ligue T3 ANNOEULLIN","Poules","2009-2010",null,null,null,null,0,null,0]
["SAINT-GEORGES Claude","KERCRET Geneviève","G",2,0,120,56,"2010-01-29","National T3 ORLEANS","Préqualifs","2009-2010",null,null,null,null,0,null,0]
["SAINT-GEORGES Claude","SORTAIS Claude","P",0,2,62,120,"2010-01-29","National T3 ORLEANS","Préqualifs","2009-2010",null,null,null,null,0,null,0]
["SAINT-GEORGES Claude","SACRE Jean-Yves","P",1,2,137,163,"2010-01-29","National T3 ORLEANS","Préqualifs","2009-2010",null,null,null,null,0,null,0]
["SAINT-GEORGES Claude","GUILLEMANT David","P",1,3,136,192,"2010-01-30","National T3 ORLEANS","Qualifs promotion","2009-2010",null,null,null,null,0,null,0]
["SAINT-GEORGES Claude","CHESNEAU Christophe","G",3,1,217,221,"2010-01-30","National T3 ORLEANS","Qualifs promotion","2009-2010",null,null,null,null,0,null,0]
["SAINT-GEORGES Claude","BERTHELOT Daniel","P",1,3,162,210,"2010-01-30","National T3 ORLEANS","Qualifs promotion","2009-2010",null,null,null,null,0,null,0]
["SAINT-GEORGES Claude","WALLART Jean-Charles","G",2,0,120,96,"2009-05-09","Finale Ligue N1 ANNOEULLIN","Poules","2008-2009",null,null,null,null,0,null,0]
["SAINT-GEORGES Claude","GUILLEMANT Jean-Marc","P",1,2,158,148,"2009-05-09","Finale Ligue N1 ANNOEULLIN","Poules","2008-2009",null,null,null,null,0,null,0]
["SAINT-GEORGES Claude","DELSOL Philippe","P",0,3,110,180,"2009-05-09","Finale Ligue N1 ANNOEULLIN","1/2 finale","2008-2009",null,null,null,null,0,null,0]
["SAINT-GEORGES Claude","GUILLEMANT Jean-Marc","G",3,2,272,234,"2009-05-09","Finale Ligue N1 ANNOEULLIN","3ème/4ème place","2008-2009",null,null,null,null,0,null,0]
["SAINT-GEORGES Claude","SKORDILIS Christo","G",2,1,163,143,"2010-02-20","N1 Ligue T4 DOUAI","Poules","2009-2010",null,null,null,null,0,null,0]
["SAINT-GEORGES Claude","MAILLE Bernard","P",1,2,148,170,"2010-02-20","N1 Ligue T4 DOUAI","Poules","2009-2010",null,null,null,null,0,null,0]
["SAINT-GEORGES Claude","CLYNCKE Jean-Jacques","G",2,0,120,60,"2010-02-20","N1 Ligue T4 DOUAI","1/8 Finale","2009-2010",null,null,null,null,0,null,0]
["SAINT-GEORGES Claude","GEETS Patrice","G",2,0,120,82,"2010-02-20","N1 Ligue T4 DOUAI","1/4 Finale","2009-2010",null,null,null,null,0,null,0]
["SAINT-GEORGES Claude","GUILLEMANT David","P",0,2,94,120,"2010-02-20","N1 Ligue T4 DOUAI","1/2 Finale","2009-2010",null,null,null,null,0,null,0]
["SAINT-GEORGES Claude","KERCRET Geneviève","G",2,0,120,56,"2010-01-29","National T3 ORLEANS","Préqualifs","2009-2010",null,null,null,null,{"$f":"IF($K80=P$1,COUNTIF($C80,\"G\"),0)","v":0},null,{"$f":"IF($K80=R$1,COUNTIF($C80,\"G\"),0)","v":0}]
["SAINT-GEORGES Claude","SORTAIS Claude","P",0,2,62,120,"2010-01-29","National T3 ORLEANS","Préqualifs","2009-2010",null,null,null,null,0,null,0]
["SAINT-GEORGES Claude","SACRE Jean-Yves","P",1,2,137,163,"2010-01-29","National T3 ORLEANS","Préqualifs","2009-2010",null,null,null,null,0,null,0]
["SAINT-GEORGES Claude","GUILLEMANT David","P",1,3,136,192,"2010-01-30","National T3 ORLEANS","Qualifs promotion","2009-2010",null,null,null,null,0,null,0]
["SAINT-GEORGES Claude","CHESNEAU Christophe","G",3,1,217,221,"2010-01-30","National T3 ORLEANS","Qualifs promotion","2009-2010",null,null,null,null,0,null,0]
["SAINT-GEORGES Claude","BERTHELOT Daniel","P",1,3,162,210,"2010-01-30","National T3 ORLEANS","Qualifs promotion","2009-2010",null,null,null,null,0,null,0]
["SAINT-GEORGES Claude","GUILLEMANT David","P",0,2,81,120,"2010-02-26","National T4 ROUEN","Préqualifs","2009-2010",null,null,null,null,0,null,0]
["SAINT-GEORGES Claude","TALBOT Michel","G",2,1,146,156,"2010-02-26","National T4 ROUEN","Préqualifs","2009-2010",null,null,null,null,0,null,0]
["SAINT-GEORGES Claude","DUTHIL Jean","G",2,1,150,146,"2010-02-26","National T4 ROUEN","Préqualifs","2009-2010",null,null,null,null,0,null,0]
["SAINT-GEORGES Claude","WALLART Jean-Charles","G",3,0,180,106,"2010-02-27","National T4 ROUEN","Qualifs promotion","2009-2010",null,null,null,null,0,null,0]
["SAINT-GEORGES Claude","HERREBRECHT Thierry","P",2,3,272,245,"2010-02-27","National T4 ROUEN","Qualifs promotion","2009-2010",null,null,null,null,0,null,0]
["SAINT-GEORGES Claude","SCHUB Philippe","G",3,0,180,119,"2010-02-27","National T4 ROUEN","Qualifs promotion","2009-2010",null,null,null,null,0,null,0]
["SAINT-GEORGES Claude","ROBERGE Bruno","G",3,1,226,196,"2010-02-28","National T4 ROUEN","1/8 finale promotion","2009-2010",null,null,null,null,0,null,0]
["SAINT-GEORGES Claude","DUTHIL Jean","P",1,3,164,221,"2010-02-28","National T4 ROUEN"," 1/4 finale promotion","2009-2010",null,null,null,null,0,null,0]
["SAINT-GEORGES Claude","DOUGNAC Nathalie","G",2,0,120,64,"2010-03-26","National T5 ST SEBASTIEN / LOIRE","Préqualifs","2009-2010",null,null,null,null,0,null,0]
["SAINT-GEORGES Claude","TIRALONGO Sébastien","P",0,2,79,120,"2010-03-26","National T5 ST SEBASTIEN / LOIRE","Préqualifs","2009-2010",null,null,null,null,0,null,0]
["SAINT-GEORGES Claude","JOLLIVET Loic","P",1,2,137,162,"2010-03-26","National T5 ST SEBASTIEN / LOIRE","Préqualifs","2009-2010",null,null,null,null,0,null,0]
["SAINT-GEORGES Claude","CAUX Frédéric","G",3,0,180,134,"2010-03-27","National T5 ST SEBASTIEN / LOIRE","Qualifs promotion","2009-2010",null,null,null,null,0,null,0]
["SAINT-GEORGES Claude","TRIFAULT Amand","P",1,3,160,216,"2010-03-27","National T5 ST SEBASTIEN / LOIRE","Qualifs promotion","2009-2010",null,null,null,null,0,null,0]
["SAINT-GEORGES Claude","CAUX Frédéric","G",3,0,180,80,"2010-03-27","National T5 ST SEBASTIEN / LOIRE","Qualifs promotion","2009-2010",null,null,null,null,0,null,0]
["SAINT-GEORGES Claude","MARCHISSEAU Stéphane","P",1,3,161,209,"2010-03-28","National T5 ST SEBASTIEN / LOIRE","1/8 finale promotion","2009-2010",null,null,null,null,0,null,0]
["SAINT-GEORGES Claude","EVENOU Roger","G",2,1,166,141,"2010-04-23","National T6 ANDERNOS","Préqualifs","2009-2010",null,null,null,null,0,null,0]
["SAINT-GEORGES Claude","GUIBERT Philippe","G",2,1,174,138,"2010-04-23","National T6 ANDERNOS","Préqualifs","2009-2010",null,null,null,null,0,null,0]
["SAINT-GEORGES Claude","ANE Bernard","G",2,0,120,62,"2010-04-23","National T6 ANDERNOS","Préqualifs","2009-2010",null,null,null,null,0,null,0]
["SAINT-GEORGES Claude","EVENOU Roger","G",3,1,228,202,"2010-04-24","National T6 ANDERNOS","Qualifs promotion","2009-2010",null,null,null,null,0,null,0]
["SAINT-GEORGES Claude","BOUVIER Philippe","G",3,2,267,221,"2010-04-24","National T6 ANDERNOS","Qualifs promotion","2009-2010",null,null,null,null,0,null,0]
["SAINT-GEORGES Claude","FUTERAL Max","P",2,3,223,249,"2010-04-25","National T6 ANDERNOS","1/8 finale promotion","2009-2010",null,null,null,null,0,null,0]
["SAINT-GEORGES Claude","DUROYON Didier","P",1,3,158,227,"2010-05-15","National BLOIS","Qualifications","2009-2010",null,null,null,null,0,null,0]
["SAINT-GEORGES Claude","GUIBERT Philippe","P",0,3,117,180,"2010-05-15","National BLOIS","Qualifications","2009-2010",null,null,null,null,0,null,0]
["SAINT-GEORGES Claude","JUBLOT Denis","P",0,3,117,180,"2010-05-15","National BLOIS","Qualifications","2009-2010",null,null,null,null,0,null,0]
["SAINT-GEORGES Claude","ZEUDE Alain","G",2,0,120,49,"2010-10-16","N1 Ligue T1 DOUAI","Poules","2010-2011",null,null,null,null,0,null,0]
["SAINT-GEORGES Claude","CARPENTIER Yohanne","G",2,0,120,64,"2010-10-16","N1 Ligue T1 DOUAI","Poules","2010-2011",null,null,null,null,0,null,0]
["SAINT-GEORGES Claude","VANNUCCI Emilio","P",0,2,66,120,"2010-10-16","N1 Ligue T1 DOUAI","1/8 Finale","2010-2011",null,null,null,null,0,null,0]
["SAINT-GEORGES Claude","DELRUE André","G",2,1,138,127,"2010-11-13","N1 Ligue T2 FACHES THUMESNIL","Poules","2010-2011",null,null,null,null,0,null,0]
["SAINT-GEORGES Claude","CARPENTIER Yohanne","G",2,1,175,166,"2010-11-13","N1 Ligue T2 FACHES THUMESNIL","Poules","2010-2011",null,null,null,null,0,null,0]
["SAINT-GEORGES Claude","LHERMITTE Cédric","G",2,1,144,146,"2010-11-13","N1 Ligue T2 FACHES THUMESNIL","1/4 Finale","2010-2011",null,null,null,null,0,null,0]
["SAINT-GEORGES Claude","MAILLE Bernard","G",2,0,120,86,"2010-11-13","N1 Ligue T2 FACHES THUMESNIL","1/2 Finale","2010-2011",null,null,null,null,0,null,0]
["SAINT-GEORGES Claude","DELSOL Philippe","P",0,2,40,120,"2010-11-13","N1 Ligue T2 FACHES THUMESNIL","Finale","2010-2011",null,null,null,null,0,null,0]
["SAINT-GEORGES Claude","DELRUE André","G",2,0,120,58,"2010-12-11","N1 Ligue T3 GRAVELINES","Poules","2010-2011",null,null,null,null,0,null,0]
["SAINT-GEORGES Claude","LORTHIOIR Jean-Luc","G",2,0,120,61,"2010-12-11","N1 Ligue T3 GRAVELINES","Poules","2010-2011",null,null,null,null,0,null,0]
["SAINT-GEORGES Claude","WALLART Jean-Charles","G",2,0,120,107,"2010-12-11","N1 Ligue T3 GRAVELINES","1/4 Finale","2010-2011",null,null,null,null,0,null,0]
["SAINT-GEORGES Claude","RACARY Thibault","P",0,2,66,120,"2010-12-11","N1 Ligue T3 GRAVELINES","1/2 Finale","2010-2011",null,null,null,null,0,null,0]
["SAINT-GEORGES Claude","ZEUDE Alain","G",2,0,120,71,"2011-01-15","N1 Ligue T4 DIVION","Poules","2010-2011",null,null,null,null,0,null,0]
["SAINT-GEORGES Claude","CAUX Frédéric","G",2,1,174,160,"2011-01-15","N1 Ligue T4 DIVION","Poules","2010-2011",null,null,null,null,0,null,0]
["SAINT-GEORGES Claude","FONTAINE Christian","P",1,2,101,166,"2011-01-15","N1 Ligue T4 DIVION","1/4 Finale","2010-2011",null,null,null,null,0,null,0]
["SAINT-GEORGES Claude","LHERMITTE Cédric","G",3,1,192,177,"2011-03-19","Finale Ligue N1","Poules","2010-2011",null,null,null,null,0,null,0]
["SAINT-GEORGES Claude","RACARY Thibault","P",0,3,69,180,"2011-03-19","Finale Ligue N1","Poules","2010-2011",null,null,null,null,0,null,0]
["SAINT-GEORGES Claude","DELSOL Philippe","P",0,3,91,180,"2011-03-19","Finale Ligue N1","1/2 finale","2010-2011",null,null,null,null,0,null,0]
["SAINT-GEORGES Claude","WALLART Jean-Charles","P",0,3,64,180,"2011-03-19","Finale Ligue N1","3ème 4ème","2010-2011",null,null,null,null,0,null,0]
["SAINT-GEORGES Claude","LUBREZ Pierre","G",2,1,150,132,"2011-10-15","N1 Ligue T1 DIVION","Poules","2011-2012",null,null,null,null,0,null,0]
["SAINT-GEORGES Claude","CARPENTIER Yohanne","G",2,0,120,65,"2011-10-15","N1 Ligue T1 DIVION","Poules","2011-2012",null,null,null,null,0,null,0]
["SAINT-GEORGES Claude","HERREBRECHT Thierry","P",0,2,98,120,"2011-10-15","N1 Ligue T1 DIVION","1/4 Finale","2011-2012",null,null,null,null,0,null,0]
["SAINT-GEORGES Claude","ZILLIG Pierre","P",0,2,76,120,"2011-09-30","National T1 CESTAS","Préqualifs","2011-2012",null,null,null,null,0,null,0]
["SAINT-GEORGES Claude","DOUGNAC Nathalie","G",2,1,171,149,"2011-09-30","National T1 CESTAS","Préqualifs","2011-2012",null,null,null,null,0,null,0]
["SAINT-GEORGES Claude","DUROYON Didier","P",0,2,112,120,"2011-09-30","National T1 CESTAS","Préqualifs","2011-2012",null,null,null,null,0,null,0]
["SAINT-GEORGES Claude","GUIBERT Philippe","G",3,0,180,162,"2011-10-01","National T1 CESTAS","Qualifs promotion","2011-2012",null,null,null,null,0,null,0]
["SAINT-GEORGES Claude","GEETS Patrice","G",3,2,290,264,"2011-10-01","National T1 CESTAS","Qualifs promotion","2011-2012",null,null,null,null,0,null,0]
["SAINT-GEORGES Claude","ZACCAGNINI Antoine","P",2,3,205,239,"2011-10-02","National T1 CESTAS","1/8 finale promotion","2011-2012",null,null,null,null,0,null,0]
["SAINT-GEORGES Claude","TURPIN Laurent","G",2,0,120,90,"2011-11-19","N1 Ligue T2 DOUAI","Poules","2011-2012",null,null,null,null,0,null,0]
["SAINT-GEORGES Claude","TURPIN Laurent","P",1,2,132,145,"2011-11-19","N1 Ligue T2 DOUAI","Poules","2011-2012",null,null,null,null,0,null,0]
["SAINT-GEORGES Claude","CARPENTIER Yohanne","G",2,1,124,150,"2011-11-19","N1 Ligue T2 DOUAI","1/8 Finale","2011-2012",null,null,null,null,0,null,0]
["SAINT-GEORGES Claude","RACARY Thibault","G",2,1,160,136,"2011-11-19","N1 Ligue T2 DOUAI","1/4 Finale","2011-2012",null,null,null,null,0,null,0]
["SAINT-GEORGES Claude","HERREBRECHT Thierry","P",1,2,151,152,"2011-11-19","N1 Ligue T2 DOUAI","1/2 Finale","2011-2012",null,null,null,null,0,null,0]
["SAINT-GEORGES Claude","MANTEN Paul","G",2,0,120,87,"2012-01-07","N1 Ligue T3 FACHES THUMESNIL","Poules","2011-2012",null,null,null,null,0,null,0]
["SAINT-GEORGES Claude","LEMÂTRE Jérémy","G",2,1,178,163,"2012-01-07","N1 Ligue T3 FACHES THUMESNIL","Poules","2011-2012",null,null,null,null,{"$f":"IF($K144=P$1,COUNTIF($C144,\"G\"),0)","v":0},null,{"$f":"IF($K144=R$1,COUNTIF($C144,\"G\"),0)","v":0}]
["SAINT-GEORGES Claude","WALLART Jean-Charles","P",0,2,47,120,"2012-01-07","N1 Ligue T3 FACHES THUMESNIL","1/8 Finale","2011-2012",null,null,null,null,0,null,0]
["SAINT-GEORGES Claude","HERREBRECHT Thierry","P",1,3,162,235,"2012-02-12","Finale Ligue N1","Poules","2011-2012",null,null,null,null,0,null,0]
["SAINT-GEORGES Claude","LHERMITTE Cédric","P",1,3,176,212,"2012-02-12","Finale Ligue N1","Poules","2011-2012",null,null,null,null,0,null,0]
["SAINT-GEORGES Claude","LEMÂTRE Jérémy","G",3,2,267,203,"2012-02-12","Finale Ligue N1","4ème 5ème","2011-2012",null,null,null,null,0,null,0]
["SAINT-GEORGES Claude","CAUX Grégory","G",2,1,135,126,"2012-10-13","N1 Ligue T1 ANNOEULLIN","Poules","2012-2013",null,null,null,null,0,null,0]
["SAINT-GEORGES Claude","CAUX Frédéric","G",2,0,120,82,"2012-10-13","N1 Ligue T1 ANNOEULLIN","Poules","2012-2013",null,null,null,null,0,null,0]
["SAINT-GEORGES Claude","CLYNCKE Jean-Jacques","G",2,1,179,126,"2012-10-13","N1 Ligue T1 ANNOEULLIN","1/8 Finale","2012-2013",null,null,null,null,0,null,0]
["SAINT-GEORGES Claude","GEETS Patrice","P",0,2,56,120,"2012-10-13","N1 Ligue T1 ANNOEULLIN","1/4 Finale","2012-2013",null,null,null,null,0,null,0]
["SAINT-GEORGES Claude","POULEYN André","G",2,1,164,117,"2012-10-27","N1 Ligue T2 BRUAY sur ESCAUT","Poules","2012-2013",null,null,null,null,0,null,0]
["SAINT-GEORGES Claude","POULEYN André","G",2,0,120,111,"2012-10-27","N1 Ligue T2 BRUAY sur ESCAUT","Poules","2012-2013",null,null,null,null,0,null,0]
["SAINT-GEORGES Claude","GEETS Patrice","P",0,2,98,120,"2012-10-27","N1 Ligue T2 BRUAY sur ESCAUT","1/4 Finale","2012-2013",null,null,null,null,0,null,0]
["SAINT-GEORGES Claude","MARRONNIER Jean-Luc","G",2,0,120,37,"2012-11-24","N1 Ligue T3 CALAIS","Poules","2012-2013",null,null,null,null,0,null,0]
["SAINT-GEORGES Claude","FLEURANT Richard","G",2,1,167,141,"2012-11-24","N1 Ligue T3 CALAIS","Poules","2012-2013",null,null,null,null,0,null,0]
["SAINT-GEORGES Claude","HORNAIN Denis","G",2,0,120,95,"2012-11-24","N1 Ligue T3 CALAIS","1/8 Finale","2012-2013",null,null,null,null,0,null,0]
["SAINT-GEORGES Claude","VEREECQUE Ludovic","G",2,0,120,73,"2012-11-24","N1 Ligue T3 CALAIS","1/4 Finale","2012-2013",null,null,null,null,0,null,0]
["SAINT-GEORGES Claude","LHERMITTE Cédric","P",0,2,75,120,"2012-11-24","N1 Ligue T3 CALAIS","1/2 Finale","2012-2013",null,null,null,null,0,null,0]
["SAINT-GEORGES Claude","LECROART Serge","G",2,1,144,108,"2012-12-15","N1 Ligue T4 VILLENEUVE D'ASCQ","Poules","2012-2013",null,null,null,null,0,null,0]
["SAINT-GEORGES Claude","VEREECQUE Ludovic","G",2,1,162,141,"2012-12-15","N1 Ligue T4 VILLENEUVE D'ASCQ","Poules","2012-2013",null,null,null,null,0,null,0]
["SAINT-GEORGES Claude","LEMÂTRE Jérémy","P",1,2,127,169,"2012-12-15","N1 Ligue T4 VILLENEUVE D'ASCQ","1/4 Finale","2012-2013",null,null,null,null,0,null,0]
["SAINT-GEORGES Claude","TURPIN Laurent","G",3,2,275,260,"2013-04-14","FINALE LIGUE N1 FACHES THUMESNIL","Poules","2012-2013",null,null,null,null,0,null,0]
["SAINT-GEORGES Claude","DELSOL Philippe","P",0,3,124,180,"2013-04-14","FINALE LIGUE N1 FACHES THUMESNIL","Poules","2012-2013",null,null,null,null,0,null,0]
["SAINT-GEORGES Claude","GEETS Patrice","G",3,0,180,129,"2013-04-14","FINALE LIGUE N1 FACHES THUMESNIL","1/2 Finale","2012-2013",null,null,null,null,0,null,0]
["SAINT-GEORGES Claude","DELSOL Philippe","P",0,3,93,180,"2013-04-14","FINALE LIGUE N1 FACHES THUMESNIL","Finale","2012-2013",null,null,null,null,0,null,0]
["SAINT-GEORGES Claude","LANUSSE Christophe","P",2,3,161,220,"2012-10-07","National T1 BLOIS","1/8 finale promotion","2012-2013",null,null,null,null,0,null,0]
["SAINT-GEORGES Claude","LHEUREUX François","P",1,2,122,128,"2012-10-05","National T1 BLOIS","Préqualifs","2012-2013",null,null,null,null,0,null,0]
["SAINT-GEORGES Claude","MERCHEZ André","G",2,0,100,46,"2012-10-05","National T1 BLOIS","Préqualifs","2012-2013",null,null,null,null,0,null,0]
["SAINT-GEORGES Claude","PERRIN Eric","P",2,3,182,202,"2012-10-06","National T1 BLOIS","Qualifs promotion","2012-2013",null,null,null,null,0,null,0]
["SAINT-GEORGES Claude","SACRE Jean-Yves","G",3,2,220,211,"2012-10-06","National T1 BLOIS","Qualifs promotion","2012-2013",null,null,null,null,0,null,0]
["SAINT-GEORGES Claude","ZACCAGNINI Antoine","P",0,2,47,100,"2012-10-05","National T1 BLOIS","Préqualifs","2012-2013",null,null,null,null,0,null,0]
["SAINT-GEORGES Claude","ZILLIG Pierre","G",3,1,185,129,"2012-10-06","National T1 BLOIS","Qualifs promotion","2012-2013",null,null,null,null,0,null,0]
["SAINT-GEORGES Claude","ACUNZO Raffaele","G",3,1,184,157,"2013-02-02","National T4 ROUEN","Qualifs promotion","2012-2013",null,null,null,null,0,null,0]
["SAINT-GEORGES Claude","DUROYON Didier","P",1,3,141,186,"2013-02-02","National T4 ROUEN","Qualifs promotion","2012-2013",null,null,null,null,0,null,0]
["SAINT-GEORGES Claude","GUILLEMANT Jean-Marc","G",2,0,100,40,"2013-02-01","National T4 ROUEN","Préqualifs","2012-2013",null,null,null,null,0,null,0]
["SAINT-GEORGES Claude","GUILLEMANT Jean-Marc","G",3,1,198,130,"2013-02-02","National T4 ROUEN","Qualifs promotion","2012-2013",null,null,null,null,0,null,0]
["SAINT-GEORGES Claude","TALBOT Michel","G",2,0,100,50,"2013-02-01","National T4 ROUEN","Préqualifs","2012-2013",null,null,null,null,0,null,0]
["SAINT-GEORGES Claude","TRIFAULT Amand","P",0,2,77,100,"2013-02-01","National T4 ROUEN","Préqualifs","2012-2013",null,null,null,null,0,null,0]
["SAINT-GEORGES Claude","WALLART Jean-Charles","P",2,3,174,207,"2013-02-03","National T4 ROUEN","1/8 finale promotion","2012-2013",null,null,null,null,0,null,0]
["SAINT-GEORGES Claude","IQUI Jean-Franck","G",2,0,100,78,"2013-03-08","National T5 LAXOU","Préqualifs","2012-2013",null,null,null,null,0,null,0]
["SAINT-GEORGES Claude","MUHLACH Claude","G",2,1,126,115,"2013-03-08","National T5 LAXOU","Préqualifs","2012-2013",null,null,null,null,0,null,0]
["SAINT-GEORGES Claude","RACARY Thibault","P",1,3,127,189,"2013-03-09","National T5 LAXOU","Qualifs Masters","2012-2013",null,null,null,null,0,null,0]
["SAINT-GEORGES Claude","SORTAIS Claude","G",2,0,100,75,"2013-03-08","National T5 LAXOU","Préqualifs","2012-2013",null,null,null,null,0,null,0]
["SAINT-GEORGES Claude","TRIFAULT Amand","P",0,3,65,150,"2013-03-09","National T5 LAXOU","Qualifs Masters","2012-2013",null,null,null,null,0,null,0]
["SAINT-GEORGES Claude","DELFORGE Benjamin","G",2,0,120,17,"2014-01-04","N1 Ligue T1 ANNOEULLIN","Poules","2013-2014",null,null,null,null,0,null,0]
["SAINT-GEORGES Claude","CLYNCKE Jean-Jacques","P",1,2,119,172,"2014-01-04","N1 Ligue T1 ANNOEULLIN","Poules","2013-2014",null,null,null,null,0,null,0]
["SAINT-GEORGES Claude","DEROLEZ Jean-Pierre","G",2,0,120,53,"2014-01-04","N1 Ligue T1 ANNOEULLIN","1/8 Finale","2013-2014",null,null,null,null,0,null,0]
["SAINT-GEORGES Claude","CLYNCKE Jean-Jacques","G",2,1,177,146,"2014-01-04","N1 Ligue T1 ANNOEULLIN","1/4 Finale","2013-2014",null,null,null,null,0,null,0]
["SAINT-GEORGES Claude","CAUX Grégory","G",2,0,120,73,"2014-01-04","N1 Ligue T1 ANNOEULLIN","1/2 Finale","2013-2014",null,null,null,null,0,null,0]
["SAINT-GEORGES Claude","LHERMITTE Cédric","P",0,2,82,120,"2014-01-04","N1 Ligue T1 ANNOEULLIN","Finale","2013-2014",null,null,null,null,0,null,0]
["SAINT-GEORGES Claude","VERHAGHE Dominique","P",1,2,129,162,"2014-03-15","N1 Ligue T2 FACHES THUMESNIL","Poules","2013-2014",null,null,null,null,0,null,0]
["SAINT-GEORGES Claude","DEROLEZ Jean-Pierre","P",0,2,48,120,"2014-03-15","N1 Ligue T2 FACHES THUMESNIL","Poules","2013-2014",null,null,null,null,0,null,0]
["SAINT-GEORGES Claude","CLYNCKE Jean-Jacques","G",1,0,100,88,"2014-03-15","N1 Ligue T2 FACHES THUMESNIL","Poules Consolante","2013-2014",null,null,null,null,0,null,0]
["SAINT-GEORGES Claude","DEPLECHIN ROBERT","G",1,0,100,59,"2014-03-15","N1 Ligue T2 FACHES THUMESNIL","Poules Consolante","2013-2014",null,null,null,null,0,null,0]
["SAINT-GEORGES Claude","HOCHART James","G",1,0,100,43,"2014-03-15","N1 Ligue T2 FACHES THUMESNIL","Finale Consolante","2013-2014",null,null,null,null,0,null,0]
["SAINT-GEORGES Claude","ALDEGUER Lionel","G",2,0,120,61,"2014-04-05","N1 Ligue T3 GRAVELINES","Poules","2013-2014",null,null,null,null,0,null,0]
["SAINT-GEORGES Claude","DEVOS Jackie","P",0,2,66,120,"2014-04-05","N1 Ligue T3 GRAVELINES","Poules","2013-2014",null,null,null,null,0,null,0]
["SAINT-GEORGES Claude","DEPLECHIN Robert","G",2,1,168,166,"2014-04-05","N1 Ligue T3 GRAVELINES","1/8 Finale","2013-2014",null,null,null,null,0,null,0]
["SAINT-GEORGES Claude","DEVOS Jackie","G",2,0,120,71,"2014-04-05","N1 Ligue T3 GRAVELINES","1/4 Finale","2013-2014",null,null,null,null,0,null,0]
["SAINT-GEORGES Claude","WALLART Jean-Charles","P",1,2,141,161,"2014-04-05","N1 Ligue T3 GRAVELINES","1/2 Finale","2013-2014",null,null,null,null,0,null,0]
["SAINT-GEORGES Claude","LHERMITTE Cédric","P",2,3,232,295,"2014-05-18","Finale Ligue N1 CALAIS","Poules","2013-2014",null,null,null,null,0,null,0]
["SAINT-GEORGES Claude","DELSOL Philippe","P",2,3,225,270,"2014-05-18","Finale Ligue N1 CALAIS","1/2 Finale","2013-2014",null,null,null,null,0,null,0]
["SAINT-GEORGES CLAUDE","LEGRAND GUY","P",1,3,194,236,"2014-10-18","National T1 GRAVELINES","Qualifs promotion","2014-2015",null,null,null,null,0,null,0]
["SAINT-GEORGES CLAUDE","WALLART JEAN-CHARLES","G",3,0,180,140,"2014-10-18","National T1 GRAVELINES","Qualifs promotion","2014-2015",null,null,null,null,1,null,0]
["SAINT-GEORGES CLAUDE","DUROYON DIDIER","G",3,1,239,146,"2014-10-18","National T1 GRAVELINES","Qualifs promotion","2014-2015",null,null,null,null,1,null,0]
["SAINT-GEORGES CLAUDE","DI LEO FRANÇOIS","G",3,1,203,125,"2014-10-19","National T1 GRAVELINES","1/8 finale promotion","2014-2015",null,null,null,null,1,null,0]
["SAINT-GEORGES CLAUDE","BOUVIER PHILIPPE","P",1,3,169,208,"2014-10-19","National T1 GRAVELINES","1/4 finale promotion","2014-2015",null,null,null,null,0,null,0]
["SAINT-GEORGES Claude","LEBOEUF Sylvain","G",2,1,127,142,"2014-11-28","National T2 FACHES THUMESNIL - RONCHIN","Préqualifs","2014-2015",null,null,null,null,1,null,0]
["SAINT-GEORGES Claude","MAILLE Bernard","P",0,2,65,120,"2014-11-28","National T2 FACHES THUMESNIL - RONCHIN","Préqualifs","2014-2015",null,null,null,null,0,null,0]
["SAINT-GEORGES Claude","DEROLEZ Jean-Pierre","G",2,0,120,82,"2014-11-28","National T2 FACHES THUMESNIL - RONCHIN","Préqualifs","2014-2015",null,null,null,null,1,null,0]
["SAINT-GEORGES Claude","CAUX Frédéric","P",2,3,235,258,"2014-11-29","National T2 FACHES THUMESNIL - RONCHIN","Qualifs promotion","2014-2015",null,null,null,null,0,null,0]
["SAINT-GEORGES Claude","GOUTHIER Alain","G",3,0,180,73,"2014-11-29","National T2 FACHES THUMESNIL - RONCHIN","Qualifs promotion","2014-2015",null,null,null,null,1,null,0]
["SAINT-GEORGES Claude","PONTHIEUX Christian","G",3,1,218,195,"2014-11-29","National T2 FACHES THUMESNIL - RONCHIN","Qualifs promotion","2014-2015",null,null,null,null,1,null,0]
["SAINT-GEORGES Claude","LEBOEUF Sylvain","G",3,2,286,184,"2014-11-30","National T2 FACHES THUMESNIL - RONCHIN","1/8 finale promotion","2014-2015",null,null,null,null,1,null,0]
["SAINT-GEORGES Claude","ALEXANDRE Michel","G",3,0,180,95,"2014-11-30","National T2 FACHES THUMESNIL - RONCHIN","1/4 finale promotion","2014-2015",null,null,null,null,1,null,0]
["SAINT-GEORGES Claude","MORMICHE Michel","G",3,0,180,98,"2014-11-30","National T2 FACHES THUMESNIL - RONCHIN","1/2 finale promotion","2014-2015",null,null,null,null,1,null,0]
["SAINT-GEORGES Claude","ZACCAGNINI Antoine","G",3,2,237,256,"2014-11-30","National T2 FACHES THUMESNIL - RONCHIN","Finale promotion","2014-2015",null,null,null,null,1,null,0]
["SAINT-GEORGES Claude","CARRE Siegfried","P",1,2,126,149,"2014-12-12","National T3 DOUARNENEZ","Préqualifs","2014-2015",null,null,null,null,0,null,0]
["SAINT-GEORGES Claude","ALEXANDRE Michel","G",2,0,120,73,"2014-12-12","National T3 DOUARNENEZ","Préqualifs","2014-2015",null,null,null,null,1,null,0]
["SAINT-GEORGES Claude","EVENOU Marie-Antoinette","G",2,0,120,63,"2014-12-12","National T3 DOUARNENEZ","Préqualifs","2014-2015",null,null,null,null,1,null,0]
["SAINT-GEORGES Claude","HINGANT Matthieu","P",0,3,116,180,"2014-12-13","National T3 DOUARNENEZ","Qualifs Masters","2014-2015",null,null,null,null,0,null,0]
["SAINT-GEORGES Claude","DAVOINE Bruno","P",2,3,232,289,"2014-12-13","National T3 DOUARNENEZ","Qualifs Masters","2014-2015",null,null,null,null,0,null,0]
["SAINT-GEORGES Claude","PIERRAT Didier","P",1,2,170,136,"2015-01-23","National T4 LAXOU","Préqualifs","2014-2015",null,null,null,null,0,null,0]
["SAINT-GEORGES Claude","CAUX Frédéric","G",2,0,120,80,"2015-01-23","National T4 LAXOU","Préqualifs","2014-2015",null,null,null,null,1,null,0]
["SAINT-GEORGES Claude","GANGLOFF Jean-Luc","G",2,1,158,137,"2015-01-23","National T4 LAXOU","Préqualifs","2014-2015",null,null,null,null,1,null,0]
["SAINT-GEORGES Claude","GOUTHIER Alain","G",3,0,180,90,"2015-01-24","National T4 LAXOU","Qualifs promotion","2014-2015",null,null,null,null,1,null,0]
["SAINT-GEORGES Claude","BILLIARD Alain","G",3,0,180,105,"2015-01-24","National T4 LAXOU","Qualifs promotion","2014-2015",null,null,null,null,1,null,0]
["SAINT-GEORGES Claude","CARREAU Sabrina","G",3,0,180,108,"2015-01-25","National T4 LAXOU","1/8 finale promotion","2014-2015",null,null,null,null,1,null,0]
["SAINT-GEORGES Claude","MICHELOTTI Francesco","P",1,3,160,219,"2015-01-25","National T4 LAXOU","1/4 finale promotion","2014-2015",null,null,null,null,0,null,0]
["SAINT-GEORGES Claude","LEPAGE Patrick","P",1,2,130,158,"2015-03-20","National T5 SAINT QUENTIN","Préqualifs","2014-2015",null,null,null,null,0,null,0]
["SAINT-GEORGES Claude","DI LEO Francois","G",2,1,153,144,"2015-03-20","National T5 SAINT QUENTIN","Préqualifs","2014-2015",null,null,null,null,1,null,0]
["SAINT-GEORGES Claude","CLINCKE Jean-Jacques","P",0,2,61,120,"2015-03-20","National T5 SAINT QUENTIN","Préqualifs","2014-2015",null,null,null,null,0,null,0]
["SAINT-GEORGES Claude","LORGE Thierry","P",0,3,160,180,"2015-03-21","National T5 SAINT QUENTIN","Qualifs promotion","2014-2015",null,null,null,null,0,null,0]
["SAINT-GEORGES Claude","DURIEZ Nathan","G",3,2,294,228,"2015-03-21","National T5 SAINT QUENTIN","Qualifs promotion","2014-2015",null,null,null,null,1,null,0]
["SAINT-GEORGES Claude","PAU Mariano","G",3,2,268,232,"2015-03-21","National T5 SAINT QUENTIN","Qualifs promotion","2014-2015",null,null,null,null,1,null,0]
["SAINT-GEORGES Claude","BONNEAU Benoît","G",3,0,180,130,"2015-03-22","National T5 SAINT QUENTIN","1/8 finale promotion","2014-2015",null,null,null,null,1,null,0]
["SAINT-GEORGES Claude","DEMILLY Jean-Sébastien","P",2,3,213,254,"2015-03-22","National T5 SAINT QUENTIN","1/4 finale promotion","2014-2015",null,null,null,null,0,null,0]
["SAINT-GEORGES Claude","ESTERMANS Bernard","G",2,1,139,116,"2015-01-17","N1 Ligue T1 DUNKERQUE","Poules","2014-2015",null,null,null,null,1,null,0]
["SAINT-GEORGES Claude","GAUQUIE Serge","G",2,0,120,76,"2015-01-17","N1 Ligue T1 DUNKERQUE","Poules","2014-2015",null,null,null,null,1,null,0]
["SAINT-GEORGES Claude","FRADET David","G",2,0,120,58,"2015-01-17","N1 Ligue T1 DUNKERQUE","1/8 Finale","2014-2015",null,null,null,null,1,null,0]
["SAINT-GEORGES Claude","GEETS Patrice","P",0,2,82,120,"2015-01-17","N1 Ligue T1 DUNKERQUE","1/4 Finale","2014-2015",null,null,null,null,0,null,0]
["SAINT-GEORGES Claude","VERHAGHE Dominique","G",2,0,120,49,"2015-02-07","N1 Ligue T2 CALAIS","Poules","2014-2015",null,null,null,null,1,null,0]
["SAINT-GEORGES Claude","DEPLECHIN Robert","P",1,2,163,172,"2015-02-07","N1 Ligue T2 CALAIS","Poules","2014-2015",null,null,null,null,0,null,0]
["SAINT-GEORGES Claude","LUBREZ Pierre","G",2,0,120,78,"2015-02-07","N1 Ligue T2 CALAIS","1/8 Finale","2014-2015",null,null,null,null,1,null,0]
["SAINT-GEORGES Claude","LEMÂTRE Jérémy","P",1,2,144,142,"2015-02-07","N1 Ligue T2 CALAIS","1/4 Finale","2014-2015",null,null,null,null,0,null,0]
["SAINT-GEORGES Claude","CLUSEL Guillaume","G",3,2,257,267,"2015-06-06","CHAMPIONNAT DE FRANCE N1 ORLEANS","Qualifs","2014-2015",null,null,null,null,1,null,0]
["SAINT-GEORGES Claude","IQUI Jean-Franck","G",3,2,285,211,"2015-06-06","CHAMPIONNAT DE FRANCE N1 ORLEANS","Qualifs","2014-2015",null,null,null,null,1,null,0]
["SAINT-GEORGES Claude","COSTA FREITAS Domingos Torcato","G",3,2,264,243,"2015-06-06","CHAMPIONNAT DE FRANCE N1 ORLEANS","Qualifs","2014-2015",null,null,null,null,1,null,0]
["SAINT-GEORGES Claude","SACRE Jean-Yves","G",3,2,266,252,"2015-06-07","CHAMPIONNAT DE FRANCE N1 ORLEANS","1/8 finale","2014-2015",null,null,null,null,1,null,0]
["SAINT-GEORGES Claude","FERON Patrick","G",3,1,224,220,"2015-06-07","CHAMPIONNAT DE FRANCE N1 ORLEANS","1/4 finale","2014-2015",null,null,null,null,1,null,0]
["SAINT-GEORGES Claude","VICARI Marc","P",2,3,210,271,"2015-06-07","CHAMPIONNAT DE FRANCE N1 ORLEANS","1/2 finale","2014-2015",null,null,null,null,0,null,0]
["SAINT-GEORGES Claude","GROSDEMANGE","G",2,0,120,83,"2015-10-09","National T1 ROUEN","Préqualifs","2015-2016",null,null,null,null,0,null,1]
["SAINT-GEORGES Claude","GANGLOFF Jean-Luc","P",1,2,117,174,"2015-10-09","National T1 ROUEN","Préqualifs","2015-2016",null,null,null,null,0,null,0]
["SAINT-GEORGES Claude","LACROIX Sabine","G",2,0,120,47,"2015-10-09","National T1 ROUEN","Préqualifs","2015-2016",null,null,null,null,0,null,1]
["SAINT-GEORGES Claude","BAYON Pascal","G",3,2,265,233,"2015-10-10","National T1 ROUEN","Qualifs promotion","2015-2016",null,null,null,null,0,null,1]
["SAINT-GEORGES Claude","ROUBY Guillaume","P",1,3,110,227,"2015-10-10","National T1 ROUEN","Qualifs promotion","2015-2016",null,null,null,null,0,null,0]
["SAINT-GEORGES Claude","LHEUREUX François","P",2,3,236,264,"2015-10-10","National T1 ROUEN","Qualifs promotion","2015-2016",null,null,null,null,0,null,0]
["SAINT-GEORGES Claude","CLYNCKE Jean-Jacques","G",2,0,120,81,"2015-11-13","National T2 DOUARNENEZ","Préqualifs","2015-2016",null,null,null,null,0,null,1]
["SAINT-GEORGES Claude","REBELO Joaquim","P",0,2,80,120,"2015-11-13","National T2 DOUARNENEZ","Préqualifs","2015-2016",null,null,null,null,0,null,0]
["SAINT-GEORGES Claude","HARMAND Dominique","G",2,0,120,52,"2015-11-13","National T2 DOUARNENEZ","Préqualifs","2015-2016",null,null,null,null,0,null,1]
["SAINT-GEORGES Claude","CARRE Siegfried","P",1,3,225,218,"2015-11-14","National T2 DOUARNENEZ","Qualifs promotion","2015-2016",null,null,null,null,0,null,0]
["SAINT-GEORGES Claude","DOMINGOS TORCATO Costa Freitas","G",3,2,293,224,"2015-11-14","National T2 DOUARNENEZ","Qualifs promotion","2015-2016",null,null,null,null,0,null,1]
["SAINT-GEORGES Claude","LANUSSE Christophe","P",1,3,201,215,"2015-11-14","National T2 DOUARNENEZ","Qualifs promotion","2015-2016",null,null,null,null,0,null,0]
["SAINT-GEORGES Claude","DOMINGOS TORCATO Costa Freitas","G",2,0,120,87,"2015-12-11","National T3 FACHES THUMESNIL - RONCHIN","Préqualifs","2015-2016",null,null,null,null,0,null,1]
["SAINT-GEORGES Claude","MAILLAT Emmanuel","G",2,1,162,151,"2015-12-11","National T3 FACHES THUMESNIL - RONCHIN","Préqualifs","2015-2016",null,null,null,null,0,null,1]
["SAINT-GEORGES Claude","LEPAGE Patrick","G",2,0,120,54,"2015-12-11","National T3 FACHES THUMESNIL - RONCHIN","Préqualifs","2015-2016",null,null,null,null,0,null,1]
["SAINT-GEORGES Claude","CLYNCKE Jean-Jacques","P",2,3,291,230,"2015-12-12","National T3 FACHES THUMESNIL - RONCHIN","Qualifs promotion","2015-2016",null,null,null,null,0,null,0]
["SAINT-GEORGES Claude","MORALES Luis","P",2,3,255,273,"2015-12-12","National T3 FACHES THUMESNIL - RONCHIN","Qualifs promotion","2015-2016",null,null,null,null,0,null,0]
["SAINT-GEORGES Claude","CARREAU Sabrina","G",2,0,120,98,"2016-02-05","National T4 SCHILTIGHEIM","Préqualifs","2015-2016",null,null,null,null,0,null,1]
["SAINT-GEORGES Claude","GUERIN Xavier","P",0,2,101,120,"2016-02-05","National T4 SCHILTIGHEIM","Préqualifs","2015-2016",null,null,null,null,0,null,0]
["SAINT-GEORGES Claude","CASTRO Pedro","G",2,1,174,135,"2016-02-05","National T4 SCHILTIGHEIM","Préqualifs","2015-2016",null,null,null,null,0,null,1]
["SAINT-GEORGES Claude","WALLART Jean-Charles","G",3,1,218,187,"2016-02-06","National T4 SCHILTIGHEIM","Qualifs promotion","2015-2016",null,null,null,null,0,null,1]
["SAINT-GEORGES Claude","LHEUREUX François","P",0,3,134,180,"2016-02-06","National T4 SCHILTIGHEIM","Qualifs promotion","2015-2016",null,null,null,null,0,null,0]
["SAINT-GEORGES Claude","LEBOEUF Sylvain","G",3,0,180,84,"2016-02-06","National T4 SCHILTIGHEIM","Qualifs promotion","2015-2016",null,null,null,null,0,null,1]
["SAINT-GEORGES Claude","MAILLE Bernard","G",3,1,202,224,"2016-02-07","National T4 SCHILTIGHEIM","1/8 finale promotion","2015-2016",null,null,null,null,0,null,1]
["SAINT-GEORGES Claude","VIERA MAIA Arlindo","P",1,3,200,230,"2016-02-07","National T4 SCHILTIGHEIM","1/4 finale promotion","2015-2016",null,null,null,null,0,null,0]
["SAINT-GEORGES Claude","BONNEAU Benoît","G",2,1,169,163,"2016-03-04","National T5 GRAVELINES","Préqualifs","2015-2016",null,null,null,null,0,null,1]
["SAINT-GEORGES Claude","BOUVIER Philippe","P",0,2,96,120,"2016-03-04","National T5 GRAVELINES","Préqualifs","2015-2016",null,null,null,null,0,null,0]
["SAINT-GEORGES Claude","BLONDEEL Firmin","G",2,0,120,64,"2016-03-04","National T5 GRAVELINES","Préqualifs","2015-2016",null,null,null,null,0,null,1]
["SAINT-GEORGES Claude","WALLART Jean-Charles","P",0,3,136,180,"2016-03-05","National T5 GRAVELINES","Qualifs promotion","2015-2016",null,null,null,null,0,null,0]
["SAINT-GEORGES Claude","CHARLES Dominique","G",3,0,180,95,"2016-03-05","National T5 GRAVELINES","Qualifs promotion","2015-2016",null,null,null,null,0,null,1]
["SAINT-GEORGES Claude","GUERIN Xavier","P",0,3,107,180,"2016-03-05","National T5 GRAVELINES","Qualifs promotion","2015-2016",null,null,null,null,0,null,0]
["SAINT-GEORGES Claude","TRIPLET Gilbert","G",2,1,177,139,"2016-01-09","T2  LIGUE 5 QUILLES N1 - GRAVELINES","Qualifications","2015-2016",null,null,null,null,0,null,1]
["SAINT-GEORGES Claude","ALDEGUER Lionel","G",2,1,156,117,"2016-01-09","T2  LIGUE 5 QUILLES N1 - GRAVELINES","Qualifications","2015-2016",null,null,null,null,0,null,1]
["SAINT-GEORGES Claude","CLYNCKE Jean-Jacques","P",1,2,150,152,"2016-01-09","T2  LIGUE 5 QUILLES N1 - GRAVELINES","1/8 Finale","2015-2016",null,null,null,null,0,null,0]
["Fin des données",null,null,null,null,null,null,null,null,null,"",null,null,null,null,0,null,0]

{"sheet":"SEINGIER Jean-Claude","index":77,"n_rows":41,"n_cols":22,"rows_kept":41,"cut":false,"hidden":false,"merged":[]}
["SEINGIER Jean-Claude",null,null,null,null,null,null,null,null,null,null,null,null,null,null,{"$f":"Récapitulatif!$B$2","v":"2014-2015"},null,{"$f":"Récapitulatif!$B$3","v":"2015-2016"},null,"Toutes saisons"]
["DUNKERQUE",null,null,null,null,null,null,null,null,null,null,null,null,null,null,"Nombre","%age","Nombre","%age","Nombre","%age"]
["016671-F",null,null,null,null,null,null,null,null,null,null,null,null,"Matchs","Gagnés",{"$f":"SUM(P$15:P$41)","v":1},{"$f":"IF(P$3+P$4>0,P3/(P$3+P$4),\"\")","v":0.33333333333333331},{"$f":"SUM(R$15:R$41)","v":0},{"$f":"IF(R$3+R$4>0,R3/(R$3+R$4),\"\")","v":""},{"$f":"COUNTIF($C$15:$C$41,\"G\")","v":7},{"$f":"IF(T$3+T$4>0,T3/(T$3+T$4),\"\")","v":0.28000000000000003}]
[null,null,null,null,null,null,null,null,null,null,null,null,null,null,"Perdus",{"$f":"COUNTIF($K$15:$K$41,Récapitulatif!$B$2)-P3","v":2},{"$f":"IF(P$3+P$4>0,P4/(P$3+P$4),\"\")","v":0.66666666666666663},{"$f":"COUNTIF($K$15:$K$41,Récapitulatif!$B$3)-R3","v":0},{"$f":"IF(R$3+R$4>0,R4/(R$3+R$4),\"\")","v":""},{"$f":"COUNTIF($C$15:$C$41,\"P\")","v":18},{"$f":"IF(T$3+T$4>0,T4/(T$3+T$4),\"\")","v":0.72}]
[null,null,null,null,null,null,null,null,null,null,null,null,null,null,"Total / Moy.",{"$f":"SUM(P3:P4)","v":3},{"$f":"IF(SUMIF($K$15:$K$41,Récapitulatif!$B$2,$G$15:$G$41)>0,SUMIF($K$15:$K$41,Récapitulatif!$B$2,$F$15:$F$41)/SUMIF($K$15:$K$41,Récapitulatif!$B$2,$G$15:$G$41),\"\")","v":0.82526881720430112},{"$f":"SUM(R3:R4)","v":0},{"$f":"IF(SUMIF($K$15:$K$41,Récapitulatif!$B$3,$G$15:$G$41)>0,SUMIF($K$15:$K$41,Récapitulatif!$B$3,$F$15:$F$41)/SUMIF($K$15:$K$41,Récapitulatif!$B$3,$G$15:$G$41),\"\")","v":""},{"$f":"SUM(T3:T4)","v":25},{"$f":"IF(SUM($G$15:$G$41)>0,SUM($F$15:$F$41)/SUM($G$15:$G$41),\"\")","v":0.88479721323712368},{"$f":"IF(SUMIF($K$15:$K$41,Récapitulatif!$B$2,$G$15:$G$41)+SUMIF($K$15:$K$41,Récapitulatif!$B$3,$G$15:$G$41)>0,(SUMIF($K$15:$K$41,Récapitulatif!$B$2,$F$15:$F$41)+SUMIF($K$15:$K$41,Récapitulatif!$B$3,$F$15:$F$41))/(SUMIF($K$15:$K$41,Récapitulatif!$B$2,$G$15:$G$41)+SUMIF($K$15:$K$41,Récapitulatif!$B$3,$G$15:$G$41)),\"\")","v":0.82526881720430112}]
[null,null,null,null,null,null,null,null,null,null,null,null,null,"Sets","Gagnés",{"$f":"SUMIF($K$15:$K$41,Récapitulatif!$B$2,$D$15:$D$41)","v":3},{"$f":"IF(P$6+P$7>0,P6/(P$6+P$7),\"\")","v":0.42857142857142855},{"$f":"SUMIF($K$15:$K$41,Récapitulatif!$B$3,$D$15:$D$41)","v":0},{"$f":"IF(R$6+R$7>0,R6/(R$6+R$7),\"\")","v":""},{"$f":"SUM($D$15:$D$41)","v":27},{"$f":"IF(T$6+T$7>0,T6/(T$6+T$7),\"\")","v":0.35064935064935066}]
[null,null,null,null,null,null,null,null,null,null,null,null,null,null,"Perdus",{"$f":"SUMIF($K$15:$K$41,Récapitulatif!$B$2,$E$15:$E$41)","v":4},{"$f":"IF(P$6+P$7>0,P7/(P$6+P$7),\"\")","v":0.5714285714285714},{"$f":"SUMIF($K$15:$K$41,Récapitulatif!$B$3,$E$15:$E$41)","v":0},{"$f":"IF(R$6+R$7>0,R7/(R$6+R$7),\"\")","v":""},{"$f":"SUM($E$15:$E$41)","v":50},{"$f":"IF(T$6+T$7>0,T7/(T$6+T$7),\"\")","v":0.64935064935064934}]
["Récapitulatif joueurs",null,null,null,null,null,null,null,null,null,null,null,null,null,"Total",{"$f":"SUM(P6:P7)","v":7},null,{"$f":"SUM(R6:R7)","v":0},null,{"$f":"SUM(T6:T7)","v":77}]
[]
[]
[]
[]
[]
[]
["Joueur","Adversaire","G/P","Sets gagnés","Sets perdus","pts marqués","pts subis","Date","Compétition","Phase","Saison"]
["SEINGIER Jean-Claude","DEMILLY Jean-Sébastien","P",0,2,57,120,"2008-11-14","National T2 SCHILTIGHEIM","Préqualifs",{"$f":"IF(H16<>\"\",IF(MONTH(H16)>MoisRef,YEAR(H16)&\"-\"&YEAR(H16)+1,YEAR(H16)-1&\"-\"&YEAR(H16)),\"\")","v":"2008-2009"},null,null,null,null,{"$f":"IF($K16=P$1,COUNTIF($C16,\"G\"),0)","v":0},null,{"$f":"IF($K16=R$1,COUNTIF($C16,\"G\"),0)","v":0}]
["SEINGIER Jean-Claude","FONTAINE Isabelle","G",2,1,173,157,"2008-11-14","National T2 SCHILTIGHEIM","Préqualifs","2008-2009",null,null,null,null,0,null,0]
["SEINGIER Jean-Claude","DEBRAY Alain","G",2,1,149,131,"2008-11-14","National T2 SCHILTIGHEIM","Préqualifs","2008-2009",null,null,null,null,0,null,0]
["SEINGIER Jean-Claude","BOUVIER Philippe","P",0,3,125,180,"2008-11-15","National T2 SCHILTIGHEIM","Qualifs promotion","2008-2009",null,null,null,null,0,null,0]
["SEINGIER Jean-Claude","JACQ Laurent","G",3,1,228,161,"2008-11-15","National T2 SCHILTIGHEIM","Qualifs promotion","2008-2009",null,null,null,null,0,null,0]
["SEINGIER Jean-Claude","PERRIN Eric","P",1,3,199,219,"2008-11-15","National T2 SCHILTIGHEIM","Qualifs promotion","2008-2009",null,null,null,null,0,null,0]
["SEINGIER Jean-Claude","ZILLIG Pierre","P",1,2,139,140,"2011-02-11","National T4 ROUEN","Préqualifs","2010-2011",null,null,null,null,0,null,0]
["SEINGIER Jean-Claude","KERCRET Geneviève","G",2,1,177,123,"2011-02-11","National T4 ROUEN","Préqualifs","2010-2011",null,null,null,null,0,null,0]
["SEINGIER Jean-Claude","FAUCOMPREZ Didier","P",0,2,55,120,"2011-02-11","National T4 ROUEN","Préqualifs","2010-2011",null,null,null,null,0,null,0]
["SEINGIER Jean-Claude","BASTENIER Jean","P",0,3,132,180,"2011-02-12","National T4 ROUEN","Qualifs promotion","2010-2011",null,null,null,null,0,null,0]
["SEINGIER Jean-Claude","SCHUB Philippe","P",2,3,225,262,"2011-02-12","National T4 ROUEN","Qualifs promotion","2010-2011",null,null,null,null,0,null,0]
["SEINGIER Jean-Claude","FOURRE Cédric","P",0,2,103,120,"2011-03-25","National T5 BLOIS","Préqualifs","2010-2011",null,null,null,null,0,null,0]
["SEINGIER Jean-Claude","KERCRET Geneviève","G",2,1,173,130,"2011-03-25","National T5 BLOIS","Préqualifs","2010-2011",null,null,null,null,0,null,0]
["SEINGIER Jean-Claude","GUIBERT Philippe","P",0,2,79,120,"2011-03-25","National T5 BLOIS","Préqualifs","2010-2011",null,null,null,null,0,null,0]
["SEINGIER Jean-Claude","GEETS Patrice","P",1,3,193,232,"2011-03-26","National T5 BLOIS","Qualifs promotion","2010-2011",null,null,null,null,0,null,0]
["SEINGIER Jean-Claude","GANGLOFF Jean-Luc","G",3,1,233,182,"2011-03-26","National T5 BLOIS","Qualifs promotion","2010-2011",null,null,null,null,0,null,0]
["SEINGIER Jean-Claude","WALLART Jean-Charles","P",1,3,177,226,"2011-03-26","National T5 BLOIS","Qualifs promotion","2010-2011",null,null,null,null,0,null,0]
["SEINGIER Jean-Claude","DEVRAINNE Daniel","P",1,2,138,142,"2011-04-15","National T6 CHAMPAGNE sur SEINE / NANDY","Préqualifs","2010-2011",null,null,null,null,0,null,0]
["SEINGIER Jean-Claude","JACQ Laurent","P",1,2,140,143,"2011-04-15","National T6 CHAMPAGNE sur SEINE / NANDY","Préqualifs","2010-2011",null,null,null,null,0,null,0]
["SEINGIER Jean-Claude","SORTAIS Claude","P",0,2,74,120,"2011-04-15","National T6 CHAMPAGNE sur SEINE / NANDY","Préqualifs","2010-2011",null,null,null,null,0,null,0]
["SEINGIER Jean-Claude","FAUCOMPREZ Didier","P",2,3,203,259,"2011-04-16","National T6 CHAMPAGNE sur SEINE / NANDY","Qualifs promotion","2010-2011",null,null,null,null,0,null,0]
["SEINGIER Jean-Claude","ZACCAGNINI Antoine","P",0,3,77,180,"2011-04-16","National T6 CHAMPAGNE sur SEINE / NANDY","Qualifs promotion","2010-2011",null,null,null,null,0,null,0]
["SEINGIER Jean-Claude","ALDEGUER Lionel","G",2,0,120,88,"2015-01-17","N1 Ligue T1 DUNKERQUE","Poules","2014-2015",null,null,null,null,1,null,0]
["SEINGIER Jean-Claude","DEVOS Jackie","P",1,2,137,164,"2015-01-17","N1 Ligue T1 DUNKERQUE","Poules","2014-2015",null,null,null,null,0,null,0]
["SEINGIER Jean-Claude","DECONINCK Franky","P",0,2,50,120,"2015-01-17","N1 Ligue T1 DUNKERQUE","1/8 Finale","2014-2015",null,null,null,null,0,null,0]
["Fin des données",null,null,null,null,null,null,null,null,null,"",null,null,null,null,{"$f":"IF($K41=P$1,COUNTIF($C41,\"G\"),0)","v":0},null,{"$f":"IF($K41=R$1,COUNTIF($C41,\"G\"),0)","v":0}]

{"sheet":"SKORDILIS Christo","index":78,"n_rows":47,"n_cols":22,"rows_kept":47,"cut":false,"hidden":false,"merged":[]}
["SKORDILIS Christo",null,null,null,null,null,null,null,null,null,null,null,null,null,null,{"$f":"Récapitulatif!$B$2","v":"2014-2015"},null,{"$f":"Récapitulatif!$B$3","v":"2015-2016"},null,"Toutes saisons"]
["DUNKERQUE",null,null,null,null,null,null,null,null,null,null,null,null,null,null,"Nombre","%age","Nombre","%age","Nombre","%age"]
["016782-M",null,null,null,null,null,null,null,null,null,null,null,null,"Matchs","Gagnés",{"$f":"SUM(P$15:P$47)","v":0},{"$f":"IF(P$3+P$4>0,P3/(P$3+P$4),\"\")","v":""},{"$f":"SUM(R$15:R$47)","v":0},{"$f":"IF(R$3+R$4>0,R3/(R$3+R$4),\"\")","v":""},{"$f":"COUNTIF($C$15:$C$47,\"G\")","v":12},{"$f":"IF(T$3+T$4>0,T3/(T$3+T$4),\"\")","v":0.38709677419354838}]
[null,null,null,null,null,null,null,null,null,null,null,null,null,null,"Perdus",{"$f":"COUNTIF($K$15:$K$47,Récapitulatif!$B$2)-P3","v":0},{"$f":"IF(P$3+P$4>0,P4/(P$3+P$4),\"\")","v":""},{"$f":"COUNTIF($K$15:$K$47,Récapitulatif!$B$3)-R3","v":0},{"$f":"IF(R$3+R$4>0,R4/(R$3+R$4),\"\")","v":""},{"$f":"COUNTIF($C$15:$C$47,\"P\")","v":19},{"$f":"IF(T$3+T$4>0,T4/(T$3+T$4),\"\")","v":0.61290322580645162}]
[null,null,null,null,null,null,null,null,null,null,null,null,null,null,"Total / Moy.",{"$f":"SUM(P3:P4)","v":0},{"$f":"IF(SUMIF($K$15:$K$47,Récapitulatif!$B$2,$G$15:$G$47)>0,SUMIF($K$15:$K$47,Récapitulatif!$B$2,$F$15:$F$47)/SUMIF($K$15:$K$47,Récapitulatif!$B$2,$G$15:$G$47),\"\")","v":""},{"$f":"SUM(R3:R4)","v":0},{"$f":"IF(SUMIF($K$15:$K$47,Récapitulatif!$B$3,$G$15:$G$47)>0,SUMIF($K$15:$K$47,Récapitulatif!$B$3,$F$15:$F$47)/SUMIF($K$15:$K$47,Récapitulatif!$B$3,$G$15:$G$47),\"\")","v":""},{"$f":"SUM(T3:T4)","v":31},{"$f":"IF(SUM($G$15:$G$47)>0,SUM($F$15:$F$47)/SUM($G$15:$G$47),\"\")","v":0.8635840809753853},{"$f":"IF(SUMIF($K$15:$K$47,Récapitulatif!$B$2,$G$15:$G$47)+SUMIF($K$15:$K$47,Récapitulatif!$B$3,$G$15:$G$47)>0,(SUMIF($K$15:$K$47,Récapitulatif!$B$2,$F$15:$F$47)+SUMIF($K$15:$K$47,Récapitulatif!$B$3,$F$15:$F$47))/(SUMIF($K$15:$K$47,Récapitulatif!$B$2,$G$15:$G$47)+SUMIF($K$15:$K$47,Récapitulatif!$B$3,$G$15:$G$47)),\"\")","v":""}]
[null,null,null,null,null,null,null,null,null,null,null,null,null,"Sets","Gagnés",{"$f":"SUMIF($K$15:$K$47,Récapitulatif!$B$2,$D$15:$D$47)","v":0},{"$f":"IF(P$6+P$7>0,P6/(P$6+P$7),\"\")","v":""},{"$f":"SUMIF($K$15:$K$47,Récapitulatif!$B$3,$D$15:$D$47)","v":0},{"$f":"IF(R$6+R$7>0,R6/(R$6+R$7),\"\")","v":""},{"$f":"SUM($D$15:$D$47)","v":33},{"$f":"IF(T$6+T$7>0,T6/(T$6+T$7),\"\")","v":0.41249999999999998}]
[null,null,null,null,null,null,null,null,null,null,null,null,null,null,"Perdus",{"$f":"SUMIF($K$15:$K$47,Récapitulatif!$B$2,$E$15:$E$47)","v":0},{"$f":"IF(P$6+P$7>0,P7/(P$6+P$7),\"\")","v":""},{"$f":"SUMIF($K$15:$K$47,Récapitulatif!$B$3,$E$15:$E$47)","v":0},{"$f":"IF(R$6+R$7>0,R7/(R$6+R$7),\"\")","v":""},{"$f":"SUM($E$15:$E$47)","v":47},{"$f":"IF(T$6+T$7>0,T7/(T$6+T$7),\"\")","v":0.58750000000000002}]
["Récapitulatif joueurs",null,null,null,null,null,null,null,null,null,null,null,null,null,"Total",{"$f":"SUM(P6:P7)","v":0},null,{"$f":"SUM(R6:R7)","v":0},null,{"$f":"SUM(T6:T7)","v":80}]
[]
[]
[]
[]
[]
[]
["Joueur","Adversaire","G/P","Sets gagnés","Sets perdus","pts marqués","pts subis","Date","Compétition","Phase","Saison"]
["SKORDILIS Christo","SAINT-GEORGES Claude","P",1,2,143,163,"2010-02-20","N1 Ligue T4 DOUAI","Poules",{"$f":"IF(H16<>\"\",IF(MONTH(H16)>MoisRef,YEAR(H16)&\"-\"&YEAR(H16)+1,YEAR(H16)-1&\"-\"&YEAR(H16)),\"\")","v":"2009-2010"},null,null,null,null,{"$f":"IF($K16=P$1,COUNTIF($C16,\"G\"),0)","v":0},null,{"$f":"IF($K16=R$1,COUNTIF($C16,\"G\"),0)","v":0}]
["SKORDILIS Christo","MAILLE Bernard","P",0,2,109,120,"2010-02-20","N1 Ligue T4 DOUAI","Poules","2009-2010",null,null,null,null,0,null,0]
["SKORDILIS Christo","DEROLEZ Jean-Pierre","G",2,1,160,176,"2010-10-16","N1 Ligue T1 DOUAI","Poules","2010-2011",null,null,null,null,0,null,0]
["SKORDILIS Christo","WALLART Jean-Charles","P",1,2,148,178,"2010-10-16","N1 Ligue T1 DOUAI","Poules","2010-2011",null,null,null,null,0,null,0]
["SKORDILIS Christo","LORTHIOIR Jean-Luc","G",2,0,120,88,"2010-10-16","N1 Ligue T1 DOUAI","Poules Consolante","2010-2011",null,null,null,null,0,null,0]
["SKORDILIS Christo","MASIERO Lorenzo","G",2,1,170,127,"2010-10-16","N1 Ligue T1 DOUAI","Poules Consolante","2010-2011",null,null,null,null,0,null,0]
["SKORDILIS Christo","POULEYN André","G",2,1,145,137,"2010-10-16","N1 Ligue T1 DOUAI","1/2 Finale Consolante","2010-2011",null,null,null,null,0,null,0]
["SKORDILIS Christo","LORTHIOIR Jean-Luc","P",0,2,69,120,"2010-11-13","N1 Ligue T2 FACHES THUMESNIL","Poules","2010-2011",null,null,null,null,0,null,0]
["SKORDILIS Christo","DELSOL Philippe","P",0,2,77,120,"2010-11-13","N1 Ligue T2 FACHES THUMESNIL","Poules","2010-2011",null,null,null,null,0,null,0]
["SKORDILIS Christo","LORTHIOIR Jean-Luc","G",2,0,120,89,"2010-11-13","N1 Ligue T2 FACHES THUMESNIL","Poules Consolante","2010-2011",null,null,null,null,0,null,0]
["SKORDILIS Christo","VANNUCCI Emilio","P",1,2,127,170,"2010-11-13","N1 Ligue T2 FACHES THUMESNIL","Poules Consolante","2010-2011",null,null,null,null,0,null,0]
["SKORDILIS Christo","HERREBRECHT Thierry","P",0,2,59,120,"2010-11-05","National T2 LAXOU","Préqualifs","2010-2011",null,null,null,null,0,null,0]
["SKORDILIS Christo","GOUTHIER Alain","P",0,2,87,120,"2010-11-05","National T2 LAXOU","Préqualifs","2010-2011",null,null,null,null,0,null,0]
["SKORDILIS Christo","SCHUB Philippe","P",1,2,140,162,"2010-11-05","National T2 LAXOU","Préqualifs","2010-2011",null,null,null,null,0,null,0]
["SKORDILIS Christo","KREMER-LECLAIRE Eric","P",1,3,170,239,"2010-11-06","National T2 LAXOU","Qualifs promotion","2010-2011",null,null,null,null,0,null,0]
["SKORDILIS Christo","FONTAINE Isabelle","G",3,2,287,227,"2010-11-06","National T2 LAXOU","Qualifs promotion","2010-2011",null,null,null,null,0,null,0]
["SKORDILIS Christo","EVENOU Roger","G",3,0,180,111,"2010-11-06","National T2 LAXOU","Qualifs promotion","2010-2011",null,null,null,null,0,null,0]
["SKORDILIS Christo","QUENEY Damien","P",0,3,99,180,"2010-11-07","National T2 LAXOU","1/8 finale promotion","2010-2011",null,null,null,null,0,null,0]
["SKORDILIS Christo","DEROLEZ Jean-Pierre","G",2,0,120,108,"2010-12-11","N1 Ligue T3 GRAVELINES","Poules","2010-2011",null,null,null,null,0,null,0]
["SKORDILIS Christo","GEETS Patrice","P",0,2,82,120,"2010-12-11","N1 Ligue T3 GRAVELINES","Poules","2010-2011",null,null,null,null,0,null,0]
["SKORDILIS Christo","LEMÂTRE Jérémy","G",2,0,120,90,"2010-12-11","N1 Ligue T3 GRAVELINES","Poules Consolante","2010-2011",null,null,null,null,0,null,0]
["SKORDILIS Christo","LEMÂTRE Jérémy","P",1,2,144,178,"2010-12-11","N1 Ligue T3 GRAVELINES","Poules Consolante","2010-2011",null,null,null,null,0,null,0]
["SKORDILIS Christo","KAYA Turgul","P",0,2,73,120,"2011-01-15","N1 Ligue T4 DIVION","Poules","2010-2011",null,null,null,null,0,null,0]
["SKORDILIS Christo","MAILLE Bernard","G",2,0,120,113,"2011-01-15","N1 Ligue T4 DIVION","Poules","2010-2011",null,null,null,null,0,null,0]
["SKORDILIS Christo","RAUX Jean-François","P",0,2,84,120,"2011-01-15","N1 Ligue T4 DIVION","Poules Consolante","2010-2011",null,null,null,null,0,null,0]
["SKORDILIS Christo","MARTEL Bruno","G",2,0,120,94,"2011-01-15","N1 Ligue T4 DIVION","Poules Consolante","2010-2011",null,null,null,null,0,null,0]
["SKORDILIS Christo","CAUX Frédéric","P",1,2,131,165,"2011-02-11","National T4 ROUEN","Préqualifs","2010-2011",null,null,null,null,0,null,0]
["SKORDILIS Christo","BLANC J.","G",2,0,120,112,"2011-02-11","National T4 ROUEN","Préqualifs","2010-2011",null,null,null,null,0,null,0]
["SKORDILIS Christo","MORALES Luis","P",0,2,49,120,"2011-02-11","National T4 ROUEN","Préqualifs","2010-2011",null,null,null,null,0,null,0]
["SKORDILIS Christo","GUIBERT Philippe","P",0,3,67,180,"2011-02-12","National T4 ROUEN","Qualifs promotion","2010-2011",null,null,null,null,0,null,0]
["SKORDILIS Christo","JACQ Laurent","P",0,3,114,180,"2011-02-12","National T4 ROUEN","Qualifs promotion","2010-2011",null,null,null,null,0,null,0]
["Fin des données",null,null,null,null,null,null,null,null,null,"",null,null,null,null,0,null,0]

{"sheet":"ST MAXENT Stéphane","index":79,"n_rows":21,"n_cols":22,"rows_kept":21,"cut":false,"hidden":false,"merged":[]}
["ST MAXENT Stéphane",null,null,null,null,null,null,null,null,null,null,null,null,null,null,{"$f":"Récapitulatif!$B$2","v":"2014-2015"},null,{"$f":"Récapitulatif!$B$3","v":"2015-2016"},null,"Toutes saisons"]
["<Club>",null,null,null,null,null,null,null,null,null,null,null,null,null,null,"Nombre","%age","Nombre","%age","Nombre","%age"]
["<Licence>",null,null,null,null,null,null,null,null,null,null,null,null,"Matchs","Gagnés",{"$f":"SUM(P$15:P$21)","v":0},{"$f":"IF(P$3+P$4>0,P3/(P$3+P$4),\"\")","v":""},{"$f":"SUM(R$15:R$21)","v":0},{"$f":"IF(R$3+R$4>0,R3/(R$3+R$4),\"\")","v":""},{"$f":"COUNTIF($C$15:$C$21,\"G\")","v":1},{"$f":"IF(T$3+T$4>0,T3/(T$3+T$4),\"\")","v":0.2}]
["<Tel>",null,null,null,null,null,null,null,null,null,null,null,null,null,"Perdus",{"$f":"COUNTIF($K$15:$K$21,Récapitulatif!$B$2)-P3","v":0},{"$f":"IF(P$3+P$4>0,P4/(P$3+P$4),\"\")","v":""},{"$f":"COUNTIF($K$15:$K$21,Récapitulatif!$B$3)-R3","v":0},{"$f":"IF(R$3+R$4>0,R4/(R$3+R$4),\"\")","v":""},{"$f":"COUNTIF($C$15:$C$21,\"P\")","v":4},{"$f":"IF(T$3+T$4>0,T4/(T$3+T$4),\"\")","v":0.8}]
["<email>",null,null,null,null,null,null,null,null,null,null,null,null,null,"Total / Moy.",{"$f":"SUM(P3:P4)","v":0},{"$f":"IF(SUMIF($K$15:$K$21,Récapitulatif!$B$2,$G$15:$G$21)>0,SUMIF($K$15:$K$21,Récapitulatif!$B$2,$F$15:$F$21)/SUMIF($K$15:$K$21,Récapitulatif!$B$2,$G$15:$G$21),\"\")","v":""},{"$f":"SUM(R3:R4)","v":0},{"$f":"IF(SUMIF($K$15:$K$21,Récapitulatif!$B$3,$G$15:$G$21)>0,SUMIF($K$15:$K$21,Récapitulatif!$B$3,$F$15:$F$21)/SUMIF($K$15:$K$21,Récapitulatif!$B$3,$G$15:$G$21),\"\")","v":""},{"$f":"SUM(T3:T4)","v":5},{"$f":"IF(SUM($G$15:$G$21)>0,SUM($F$15:$F$21)/SUM($G$15:$G$21),\"\")","v":0.75600739371534198},{"$f":"IF(SUMIF($K$15:$K$21,Récapitulatif!$B$2,$G$15:$G$21)+SUMIF($K$15:$K$21,Récapitulatif!$B$3,$G$15:$G$21)>0,(SUMIF($K$15:$K$21,Récapitulatif!$B$2,$F$15:$F$21)+SUMIF($K$15:$K$21,Récapitulatif!$B$3,$F$15:$F$21))/(SUMIF($K$15:$K$21,Récapitulatif!$B$2,$G$15:$G$21)+SUMIF($K$15:$K$21,Récapitulatif!$B$3,$G$15:$G$21)),\"\")","v":""}]
[null,null,null,null,null,null,null,null,null,null,null,null,null,"Sets","Gagnés",{"$f":"SUMIF($K$15:$K$21,Récapitulatif!$B$2,$D$15:$D$21)","v":0},{"$f":"IF(P$6+P$7>0,P6/(P$6+P$7),\"\")","v":""},{"$f":"SUMIF($K$15:$K$21,Récapitulatif!$B$3,$D$15:$D$21)","v":0},{"$f":"IF(R$6+R$7>0,R6/(R$6+R$7),\"\")","v":""},{"$f":"SUM($D$15:$D$21)","v":2},{"$f":"IF(T$6+T$7>0,T6/(T$6+T$7),\"\")","v":0.25}]
[null,null,null,null,null,null,null,null,null,null,null,null,null,null,"Perdus",{"$f":"SUMIF($K$15:$K$21,Récapitulatif!$B$2,$E$15:$E$21)","v":0},{"$f":"IF(P$6+P$7>0,P7/(P$6+P$7),\"\")","v":""},{"$f":"SUMIF($K$15:$K$21,Récapitulatif!$B$3,$E$15:$E$21)","v":0},{"$f":"IF(R$6+R$7>0,R7/(R$6+R$7),\"\")","v":""},{"$f":"SUM($E$15:$E$21)","v":6},{"$f":"IF(T$6+T$7>0,T7/(T$6+T$7),\"\")","v":0.75}]
["Récapitulatif joueurs",null,null,null,null,null,null,null,null,null,null,null,null,null,"Total",{"$f":"SUM(P6:P7)","v":0},null,{"$f":"SUM(R6:R7)","v":0},null,{"$f":"SUM(T6:T7)","v":8}]
[]
[]
[]
[]
[]
[]
["Joueur","Adversaire","G/P","Sets gagnés","Sets perdus","pts marqués","pts subis","Date","Compétition","Phase","Saison"]
["ST MAXENT Stéphane","MANTEN Paul","G",2,0,120,101,"2014-04-05","N1 Ligue T3 GRAVELINES","Poules",{"$f":"IF(H16<>\"\",IF(MONTH(H16)>MoisRef,YEAR(H16)&\"-\"&YEAR(H16)+1,YEAR(H16)-1&\"-\"&YEAR(H16)),\"\")","v":"2013-2014"},null,null,null,null,{"$f":"IF($K16=P$1,COUNTIF($C16,\"G\"),0)","v":0},null,{"$f":"IF($K16=R$1,COUNTIF($C16,\"G\"),0)","v":0}]
["ST MAXENT Stéphane","WALLART Jean-Charles","P",0,2,48,120,"2014-04-05","N1 Ligue T3 GRAVELINES","Poules","2013-2014",null,null,null,null,0,null,0]
["ST MAXENT Stéphane","WALLART Jean-Charles","P",0,2,77,120,"2014-04-05","N1 Ligue T3 GRAVELINES","1/8 Finale","2013-2014",null,null,null,null,0,null,0]
["ST MAXENT Stéphane","MANTEN Paul","P",0,1,80,100,"2014-04-05","N1 Ligue T3 GRAVELINES","Poules Consolante","2013-2014",null,null,null,null,0,null,0]
["ST MAXENT Stéphane","LORTHIOIR Jean-Luc","P",0,1,84,100,"2014-04-05","N1 Ligue T3 GRAVELINES","Poules Consolante","2013-2014",null,null,null,null,0,null,0]
["Fin des données",null,null,null,null,null,null,null,null,null,"",null,null,null,null,0,null,0]

{"sheet":"STOPIN Gilles","index":80,"n_rows":26,"n_cols":22,"rows_kept":26,"cut":false,"hidden":false,"merged":[]}
["STOPIN Gilles",null,null,null,null,null,null,null,null,null,null,null,null,null,null,{"$f":"Récapitulatif!$B$2","v":"2014-2015"},null,{"$f":"Récapitulatif!$B$3","v":"2015-2016"},null,"Toutes saisons"]
["GRAVELINES",null,null,null,null,null,null,null,null,null,null,null,null,null,null,"Nombre","%age","Nombre","%age","Nombre","%age"]
["016684-S",null,null,null,null,null,null,null,null,null,null,null,null,"Matchs","Gagnés",{"$f":"SUM(P$15:P$26)","v":2},{"$f":"IF(P$3+P$4>0,P3/(P$3+P$4),\"\")","v":0.5},{"$f":"SUM(R$15:R$26)","v":0},{"$f":"IF(R$3+R$4>0,R3/(R$3+R$4),\"\")","v":""},{"$f":"COUNTIF($C$15:$C$26,\"G\")","v":4},{"$f":"IF(T$3+T$4>0,T3/(T$3+T$4),\"\")","v":0.4}]
[null,null,null,null,null,null,null,null,null,null,null,null,null,null,"Perdus",{"$f":"COUNTIF($K$15:$K$26,Récapitulatif!$B$2)-P3","v":2},{"$f":"IF(P$3+P$4>0,P4/(P$3+P$4),\"\")","v":0.5},{"$f":"COUNTIF($K$15:$K$26,Récapitulatif!$B$3)-R3","v":0},{"$f":"IF(R$3+R$4>0,R4/(R$3+R$4),\"\")","v":""},{"$f":"COUNTIF($C$15:$C$26,\"P\")","v":6},{"$f":"IF(T$3+T$4>0,T4/(T$3+T$4),\"\")","v":0.6}]
["stop1gil@gmail.com",null,null,null,null,null,null,null,null,null,null,null,null,null,"Total / Moy.",{"$f":"SUM(P3:P4)","v":4},{"$f":"IF(SUMIF($K$15:$K$26,Récapitulatif!$B$2,$G$15:$G$26)>0,SUMIF($K$15:$K$26,Récapitulatif!$B$2,$F$15:$F$26)/SUMIF($K$15:$K$26,Récapitulatif!$B$2,$G$15:$G$26),\"\")","v":0.94211822660098521},{"$f":"SUM(R3:R4)","v":0},{"$f":"IF(SUMIF($K$15:$K$26,Récapitulatif!$B$3,$G$15:$G$26)>0,SUMIF($K$15:$K$26,Récapitulatif!$B$3,$F$15:$F$26)/SUMIF($K$15:$K$26,Récapitulatif!$B$3,$G$15:$G$26),\"\")","v":""},{"$f":"SUM(T3:T4)","v":10},{"$f":"IF(SUM($G$15:$G$26)>0,SUM($F$15:$F$26)/SUM($G$15:$G$26),\"\")","v":0.94961734693877553},{"$f":"IF(SUMIF($K$15:$K$26,Récapitulatif!$B$2,$G$15:$G$26)+SUMIF($K$15:$K$26,Récapitulatif!$B$3,$G$15:$G$26)>0,(SUMIF($K$15:$K$26,Récapitulatif!$B$2,$F$15:$F$26)+SUMIF($K$15:$K$26,Récapitulatif!$B$3,$F$15:$F$26))/(SUMIF($K$15:$K$26,Récapitulatif!$B$2,$G$15:$G$26)+SUMIF($K$15:$K$26,Récapitulatif!$B$3,$G$15:$G$26)),\"\")","v":0.94211822660098521}]
[null,null,null,null,null,null,null,null,null,null,null,null,null,"Sets","Gagnés",{"$f":"SUMIF($K$15:$K$26,Récapitulatif!$B$2,$D$15:$D$26)","v":7},{"$f":"IF(P$6+P$7>0,P6/(P$6+P$7),\"\")","v":0.4375},{"$f":"SUMIF($K$15:$K$26,Récapitulatif!$B$3,$D$15:$D$26)","v":0},{"$f":"IF(R$6+R$7>0,R6/(R$6+R$7),\"\")","v":""},{"$f":"SUM($D$15:$D$26)","v":13},{"$f":"IF(T$6+T$7>0,T6/(T$6+T$7),\"\")","v":0.41935483870967744}]
[null,null,null,null,null,null,null,null,null,null,null,null,null,null,"Perdus",{"$f":"SUMIF($K$15:$K$26,Récapitulatif!$B$2,$E$15:$E$26)","v":9},{"$f":"IF(P$6+P$7>0,P7/(P$6+P$7),\"\")","v":0.5625},{"$f":"SUMIF($K$15:$K$26,Récapitulatif!$B$3,$E$15:$E$26)","v":0},{"$f":"IF(R$6+R$7>0,R7/(R$6+R$7),\"\")","v":""},{"$f":"SUM($E$15:$E$26)","v":18},{"$f":"IF(T$6+T$7>0,T7/(T$6+T$7),\"\")","v":0.58064516129032262}]
["Récapitulatif joueurs",null,null,null,null,null,null,null,null,null,null,null,null,null,"Total",{"$f":"SUM(P6:P7)","v":16},null,{"$f":"SUM(R6:R7)","v":0},null,{"$f":"SUM(T6:T7)","v":31}]
[]
[]
[]
[]
[]
[]
["Joueur","Adversaire","G/P","Sets gagnés","Sets perdus","pts marqués","pts subis","Date","Compétition","Phase","Saison"]
["STOPIN Gilles","TRIPLET Gilbert","G",2,0,120,44,"2009-11-21","N1 Ligue T1 GRAVELINES","Poules",{"$f":"IF(H16<>\"\",IF(MONTH(H16)>MoisRef,YEAR(H16)&\"-\"&YEAR(H16)+1,YEAR(H16)-1&\"-\"&YEAR(H16)),\"\")","v":"2009-2010"},null,null,null,null,{"$f":"IF($K16=P$1,COUNTIF($C16,\"G\"),0)","v":0},null,{"$f":"IF($K16=R$1,COUNTIF($C16,\"G\"),0)","v":0}]
["STOPIN Gilles","GREMAIN Gino","P",0,2,77,120,"2009-11-21","N1 Ligue T1 GRAVELINES","Poules","2009-2010",null,null,null,null,0,null,0]
["STOPIN Gilles","HERREBRECHT Thierry","P",1,2,133,157,"2009-11-21","N1 Ligue T1 GRAVELINES","1/4 Finale","2009-2010",null,null,null,null,0,null,0]
["STOPIN Gilles","MONFLIER Francis","G",2,1,177,138,"2014-04-05","N1 Ligue T3 GRAVELINES","Poules","2013-2014",null,null,null,null,0,null,0]
["STOPIN Gilles","LHERMITTE Cédric","P",0,2,54,120,"2014-04-05","N1 Ligue T3 GRAVELINES","Poules","2013-2014",null,null,null,null,0,null,0]
["STOPIN Gilles","LHERMITTE Cédric","P",1,2,163,177,"2014-04-05","N1 Ligue T3 GRAVELINES","1/8 Finale","2013-2014",null,null,null,null,0,null,0]
["STOPIN GILLES","PONTHIEUX CHRISTIAN","P",1,3,162,221,"2014-10-18","National T1 GRAVELINES","Qualifs promotion","2014-2015",null,null,null,null,0,null,0]
["STOPIN GILLES","AIRAULT JEAN-MICHEL","G",3,2,282,253,"2014-10-18","National T1 GRAVELINES","Qualifs promotion","2014-2015",null,null,null,null,1,null,0]
["STOPIN GILLES","BILLIARD ALAIN","G",3,1,215,158,"2014-10-18","National T1 GRAVELINES","Qualifs promotion","2014-2015",null,null,null,null,1,null,0]
["STOPIN GILLES","DAVOINE BRUNO","P",0,3,106,180,"2014-10-19","National T1 GRAVELINES","1/8 finale promotion","2014-2015",null,null,null,null,0,null,0]
["Fin des données",null,null,null,null,null,null,null,null,null,"",null,null,null,null,0,null,0]

{"sheet":"THERY Jean-Pierre","index":81,"n_rows":19,"n_cols":22,"rows_kept":19,"cut":false,"hidden":false,"merged":[]}
["THERY Jean-Pierre",null,null,null,null,null,null,null,null,null,null,null,null,null,null,{"$f":"Récapitulatif!$B$2","v":"2014-2015"},null,{"$f":"Récapitulatif!$B$3","v":"2015-2016"},null,"Toutes saisons"]
["<Club>",null,null,null,null,null,null,null,null,null,null,null,null,null,null,"Nombre","%age","Nombre","%age","Nombre","%age"]
["<Licence>",null,null,null,null,null,null,null,null,null,null,null,null,"Matchs","Gagnés",{"$f":"SUM(P$15:P$19)","v":0},{"$f":"IF(P$3+P$4>0,P3/(P$3+P$4),\"\")","v":""},{"$f":"SUM(R$15:R$19)","v":0},{"$f":"IF(R$3+R$4>0,R3/(R$3+R$4),\"\")","v":0},{"$f":"COUNTIF($C$15:$C$19,\"G\")","v":0},{"$f":"IF(T$3+T$4>0,T3/(T$3+T$4),\"\")","v":0}]
["<Tel>",null,null,null,null,null,null,null,null,null,null,null,null,null,"Perdus",{"$f":"COUNTIF($K$15:$K$19,Récapitulatif!$B$2)-P3","v":0},{"$f":"IF(P$3+P$4>0,P4/(P$3+P$4),\"\")","v":""},{"$f":"COUNTIF($K$15:$K$19,Récapitulatif!$B$3)-R3","v":3},{"$f":"IF(R$3+R$4>0,R4/(R$3+R$4),\"\")","v":1},{"$f":"COUNTIF($C$15:$C$19,\"P\")","v":3},{"$f":"IF(T$3+T$4>0,T4/(T$3+T$4),\"\")","v":1}]
["<email>",null,null,null,null,null,null,null,null,null,null,null,null,null,"Total / Moy.",{"$f":"SUM(P3:P4)","v":0},{"$f":"IF(SUMIF($K$15:$K$19,Récapitulatif!$B$2,$G$15:$G$19)>0,SUMIF($K$15:$K$19,Récapitulatif!$B$2,$F$15:$F$19)/SUMIF($K$15:$K$19,Récapitulatif!$B$2,$G$15:$G$19),\"\")","v":""},{"$f":"SUM(R3:R4)","v":3},{"$f":"IF(SUMIF($K$15:$K$19,Récapitulatif!$B$3,$G$15:$G$19)>0,SUMIF($K$15:$K$19,Récapitulatif!$B$3,$F$15:$F$19)/SUMIF($K$15:$K$19,Récapitulatif!$B$3,$G$15:$G$19),\"\")","v":0.53888888888888886},{"$f":"SUM(T3:T4)","v":3},{"$f":"IF(SUM($G$15:$G$19)>0,SUM($F$15:$F$19)/SUM($G$15:$G$19),\"\")","v":0.53888888888888886},{"$f":"IF(SUMIF($K$15:$K$19,Récapitulatif!$B$2,$G$15:$G$19)+SUMIF($K$15:$K$19,Récapitulatif!$B$3,$G$15:$G$19)>0,(SUMIF($K$15:$K$19,Récapitulatif!$B$2,$F$15:$F$19)+SUMIF($K$15:$K$19,Récapitulatif!$B$3,$F$15:$F$19))/(SUMIF($K$15:$K$19,Récapitulatif!$B$2,$G$15:$G$19)+SUMIF($K$15:$K$19,Récapitulatif!$B$3,$G$15:$G$19)),\"\")","v":0.53888888888888886}]
[null,null,null,null,null,null,null,null,null,null,null,null,null,"Sets","Gagnés",{"$f":"SUMIF($K$15:$K$19,Récapitulatif!$B$2,$D$15:$D$19)","v":0},{"$f":"IF(P$6+P$7>0,P6/(P$6+P$7),\"\")","v":""},{"$f":"SUMIF($K$15:$K$19,Récapitulatif!$B$3,$D$15:$D$19)","v":0},{"$f":"IF(R$6+R$7>0,R6/(R$6+R$7),\"\")","v":0},{"$f":"SUM($D$15:$D$19)","v":0},{"$f":"IF(T$6+T$7>0,T6/(T$6+T$7),\"\")","v":0}]
[null,null,null,null,null,null,null,null,null,null,null,null,null,null,"Perdus",{"$f":"SUMIF($K$15:$K$19,Récapitulatif!$B$2,$E$15:$E$19)","v":0},{"$f":"IF(P$6+P$7>0,P7/(P$6+P$7),\"\")","v":""},{"$f":"SUMIF($K$15:$K$19,Récapitulatif!$B$3,$E$15:$E$19)","v":6},{"$f":"IF(R$6+R$7>0,R7/(R$6+R$7),\"\")","v":1},{"$f":"SUM($E$15:$E$19)","v":6},{"$f":"IF(T$6+T$7>0,T7/(T$6+T$7),\"\")","v":1}]
["Récapitulatif joueurs",null,null,null,null,null,null,null,null,null,null,null,null,null,"Total",{"$f":"SUM(P6:P7)","v":0},null,{"$f":"SUM(R6:R7)","v":6},null,{"$f":"SUM(T6:T7)","v":6}]
[]
[]
[]
[]
[]
[]
["Joueur","Adversaire","G/P","Sets gagnés","Sets perdus","pts marqués","pts subis","Date","Compétition","Phase","Saison"]
["THERY Jean-Pierre","RIMBOT Nicolas","P",0,2,54,120,"2015-12-11","National T3 FACHES THUMESNIL - RONCHIN","Préqualifs",{"$f":"IF(H16<>\"\",IF(MONTH(H16)>MoisRef,YEAR(H16)&\"-\"&YEAR(H16)+1,YEAR(H16)-1&\"-\"&YEAR(H16)),\"\")","v":"2015-2016"},null,null,null,null,{"$f":"IF($K16=P$1,COUNTIF($C16,\"G\"),0)","v":0},null,{"$f":"IF($K16=R$1,COUNTIF($C16,\"G\"),0)","v":0}]
["THERY Jean-Pierre","CLYNCKE Jean-Jacques","P",0,2,75,120,"2015-12-11","National T3 FACHES THUMESNIL - RONCHIN","Préqualifs",{"$f":"IF(H17<>\"\",IF(MONTH(H17)>MoisRef,YEAR(H17)&\"-\"&YEAR(H17)+1,YEAR(H17)-1&\"-\"&YEAR(H17)),\"\")","v":"2015-2016"},null,null,null,null,0,null,0]
["THERY Jean-Pierre","WALLART Jean-Charles","P",0,2,65,120,"2015-12-11","National T3 FACHES THUMESNIL - RONCHIN","Préqualifs",{"$f":"IF(H18<>\"\",IF(MONTH(H18)>MoisRef,YEAR(H18)&\"-\"&YEAR(H18)+1,YEAR(H18)-1&\"-\"&YEAR(H18)),\"\")","v":"2015-2016"},null,null,null,null,0,null,0]
["Fin des données",null,null,null,null,null,null,null,null,null,{"$f":"IF(H19<>\"\",IF(MONTH(H19)>MoisRef,YEAR(H19)&\"-\"&YEAR(H19)+1,YEAR(H19)-1&\"-\"&YEAR(H19)),\"\")","v":""},null,null,null,null,{"$f":"IF($K19=P$1,COUNTIF($C19,\"G\"),0)","v":0},null,{"$f":"IF($K19=R$1,COUNTIF($C19,\"G\"),0)","v":0}]

{"sheet":"TRIPLET Freddy","index":82,"n_rows":18,"n_cols":22,"rows_kept":18,"cut":false,"hidden":false,"merged":[]}
["TRIPLET Freddy",null,null,null,null,null,null,null,null,null,null,null,null,null,null,{"$f":"Récapitulatif!$B$2","v":"2014-2015"},null,{"$f":"Récapitulatif!$B$3","v":"2015-2016"},null,"Toutes saisons"]
["<Club>",null,null,null,null,null,null,null,null,null,null,null,null,null,null,"Nombre","%age","Nombre","%age","Nombre","%age"]
["<Licence>",null,null,null,null,null,null,null,null,null,null,null,null,"Matchs","Gagnés",{"$f":"SUM(P$15:P$18)","v":0},{"$f":"IF(P$3+P$4>0,P3/(P$3+P$4),\"\")","v":""},{"$f":"SUM(R$15:R$18)","v":0},{"$f":"IF(R$3+R$4>0,R3/(R$3+R$4),\"\")","v":0},{"$f":"COUNTIF($C$15:$C$18,\"G\")","v":0},{"$f":"IF(T$3+T$4>0,T3/(T$3+T$4),\"\")","v":0}]
["<Tel>",null,null,null,null,null,null,null,null,null,null,null,null,null,"Perdus",{"$f":"COUNTIF($K$15:$K$18,Récapitulatif!$B$2)-P3","v":0},{"$f":"IF(P$3+P$4>0,P4/(P$3+P$4),\"\")","v":""},{"$f":"COUNTIF($K$15:$K$18,Récapitulatif!$B$3)-R3","v":2},{"$f":"IF(R$3+R$4>0,R4/(R$3+R$4),\"\")","v":1},{"$f":"COUNTIF($C$15:$C$18,\"P\")","v":2},{"$f":"IF(T$3+T$4>0,T4/(T$3+T$4),\"\")","v":1}]
["<email>",null,null,null,null,null,null,null,null,null,null,null,null,null,"Total / Moy.",{"$f":"SUM(P3:P4)","v":0},{"$f":"IF(SUMIF($K$15:$K$18,Récapitulatif!$B$2,$G$15:$G$18)>0,SUMIF($K$15:$K$18,Récapitulatif!$B$2,$F$15:$F$18)/SUMIF($K$15:$K$18,Récapitulatif!$B$2,$G$15:$G$18),\"\")","v":""},{"$f":"SUM(R3:R4)","v":2},{"$f":"IF(SUMIF($K$15:$K$18,Récapitulatif!$B$3,$G$15:$G$18)>0,SUMIF($K$15:$K$18,Récapitulatif!$B$3,$F$15:$F$18)/SUMIF($K$15:$K$18,Récapitulatif!$B$3,$G$15:$G$18),\"\")","v":0.52500000000000002},{"$f":"SUM(T3:T4)","v":2},{"$f":"IF(SUM($G$15:$G$18)>0,SUM($F$15:$F$18)/SUM($G$15:$G$18),\"\")","v":0.52500000000000002},{"$f":"IF(SUMIF($K$15:$K$18,Récapitulatif!$B$2,$G$15:$G$18)+SUMIF($K$15:$K$18,Récapitulatif!$B$3,$G$15:$G$18)>0,(SUMIF($K$15:$K$18,Récapitulatif!$B$2,$F$15:$F$18)+SUMIF($K$15:$K$18,Récapitulatif!$B$3,$F$15:$F$18))/(SUMIF($K$15:$K$18,Récapitulatif!$B$2,$G$15:$G$18)+SUMIF($K$15:$K$18,Récapitulatif!$B$3,$G$15:$G$18)),\"\")","v":0.52500000000000002}]
[null,null,null,null,null,null,null,null,null,null,null,null,null,"Sets","Gagnés",{"$f":"SUMIF($K$15:$K$18,Récapitulatif!$B$2,$D$15:$D$18)","v":0},{"$f":"IF(P$6+P$7>0,P6/(P$6+P$7),\"\")","v":""},{"$f":"SUMIF($K$15:$K$18,Récapitulatif!$B$3,$D$15:$D$18)","v":0},{"$f":"IF(R$6+R$7>0,R6/(R$6+R$7),\"\")","v":0},{"$f":"SUM($D$15:$D$18)","v":0},{"$f":"IF(T$6+T$7>0,T6/(T$6+T$7),\"\")","v":0}]
[null,null,null,null,null,null,null,null,null,null,null,null,null,null,"Perdus",{"$f":"SUMIF($K$15:$K$18,Récapitulatif!$B$2,$E$15:$E$18)","v":0},{"$f":"IF(P$6+P$7>0,P7/(P$6+P$7),\"\")","v":""},{"$f":"SUMIF($K$15:$K$18,Récapitulatif!$B$3,$E$15:$E$18)","v":4},{"$f":"IF(R$6+R$7>0,R7/(R$6+R$7),\"\")","v":1},{"$f":"SUM($E$15:$E$18)","v":4},{"$f":"IF(T$6+T$7>0,T7/(T$6+T$7),\"\")","v":1}]
["Récapitulatif joueurs",null,null,null,null,null,null,null,null,null,null,null,null,null,"Total",{"$f":"SUM(P6:P7)","v":0},null,{"$f":"SUM(R6:R7)","v":4},null,{"$f":"SUM(T6:T7)","v":4}]
[]
[]
[]
[]
[]
[]
["Joueur","Adversaire","G/P","Sets gagnés","Sets perdus","pts marqués","pts subis","Date","Compétition","Phase","Saison"]
["TRIPLET Freddy","POULEYN André","P",0,2,84,120,"2016-01-09","T2  LIGUE 5 QUILLES N1 - GRAVELINES","Qualifications",{"$f":"IF(H16<>\"\",IF(MONTH(H16)>MoisRef,YEAR(H16)&\"-\"&YEAR(H16)+1,YEAR(H16)-1&\"-\"&YEAR(H16)),\"\")","v":"2015-2016"},null,null,null,null,{"$f":"IF($K16=P$1,COUNTIF($C16,\"G\"),0)","v":0},null,{"$f":"IF($K16=R$1,COUNTIF($C16,\"G\"),0)","v":0}]
["TRIPLET Freddy","WALLART Jean-Charles","P",0,2,42,120,"2016-01-09","T2  LIGUE 5 QUILLES N1 - GRAVELINES","Qualifications",{"$f":"IF(H17<>\"\",IF(MONTH(H17)>MoisRef,YEAR(H17)&\"-\"&YEAR(H17)+1,YEAR(H17)-1&\"-\"&YEAR(H17)),\"\")","v":"2015-2016"},null,null,null,null,0,null,0]
["Fin des données",null,null,null,null,null,null,null,null,null,{"$f":"IF(H18<>\"\",IF(MONTH(H18)>MoisRef,YEAR(H18)&\"-\"&YEAR(H18)+1,YEAR(H18)-1&\"-\"&YEAR(H18)),\"\")","v":""},null,null,null,null,{"$f":"IF($K18=P$1,COUNTIF($C18,\"G\"),0)","v":0},null,{"$f":"IF($K18=R$1,COUNTIF($C18,\"G\"),0)","v":0}]

{"sheet":"TRIPLET Gilbert","index":83,"n_rows":46,"n_cols":22,"rows_kept":46,"cut":false,"hidden":false,"merged":[]}
["TRIPLET Gilbert",null,null,null,null,null,null,null,null,null,null,null,null,null,null,{"$f":"Récapitulatif!$B$2","v":"2014-2015"},null,{"$f":"Récapitulatif!$B$3","v":"2015-2016"},null,"Toutes saisons"]
["CUCQ",null,null,null,null,null,null,null,null,null,null,null,null,null,null,"Nombre","%age","Nombre","%age","Nombre","%age"]
["136009-D",null,null,null,null,null,null,null,null,null,null,null,null,"Matchs","Gagnés",{"$f":"SUM(P$15:P$46)","v":1},{"$f":"IF(P$3+P$4>0,P3/(P$3+P$4),\"\")","v":9.0909090909090912E-2},{"$f":"SUM(R$15:R$46)","v":1},{"$f":"IF(R$3+R$4>0,R3/(R$3+R$4),\"\")","v":0.33333333333333331},{"$f":"COUNTIF($C$15:$C$46,\"G\")","v":5},{"$f":"IF(T$3+T$4>0,T3/(T$3+T$4),\"\")","v":0.16666666666666666}]
[null,null,null,null,null,null,null,null,null,null,null,null,null,null,"Perdus",{"$f":"COUNTIF($K$15:$K$46,Récapitulatif!$B$2)-P3","v":10},{"$f":"IF(P$3+P$4>0,P4/(P$3+P$4),\"\")","v":0.90909090909090906},{"$f":"COUNTIF($K$15:$K$46,Récapitulatif!$B$3)-R3","v":2},{"$f":"IF(R$3+R$4>0,R4/(R$3+R$4),\"\")","v":0.66666666666666663},{"$f":"COUNTIF($C$15:$C$46,\"P\")","v":25},{"$f":"IF(T$3+T$4>0,T4/(T$3+T$4),\"\")","v":0.83333333333333337}]
[null,null,null,null,null,null,null,null,null,null,null,null,null,null,"Total / Moy.",{"$f":"SUM(P3:P4)","v":11},{"$f":"IF(SUMIF($K$15:$K$46,Récapitulatif!$B$2,$G$15:$G$46)>0,SUMIF($K$15:$K$46,Récapitulatif!$B$2,$F$15:$F$46)/SUMIF($K$15:$K$46,Récapitulatif!$B$2,$G$15:$G$46),\"\")","v":0.74779116465863449},{"$f":"SUM(R3:R4)","v":3},{"$f":"IF(SUMIF($K$15:$K$46,Récapitulatif!$B$3,$G$15:$G$46)>0,SUMIF($K$15:$K$46,Récapitulatif!$B$3,$F$15:$F$46)/SUMIF($K$15:$K$46,Récapitulatif!$B$3,$G$15:$G$46),\"\")","v":0.84210526315789469},{"$f":"SUM(T3:T4)","v":30},{"$f":"IF(SUM($G$15:$G$46)>0,SUM($F$15:$F$46)/SUM($G$15:$G$46),\"\")","v":0.77572559366754612},{"$f":"IF(SUMIF($K$15:$K$46,Récapitulatif!$B$2,$G$15:$G$46)+SUMIF($K$15:$K$46,Récapitulatif!$B$3,$G$15:$G$46)>0,(SUMIF($K$15:$K$46,Récapitulatif!$B$2,$F$15:$F$46)+SUMIF($K$15:$K$46,Récapitulatif!$B$3,$F$15:$F$46))/(SUMIF($K$15:$K$46,Récapitulatif!$B$2,$G$15:$G$46)+SUMIF($K$15:$K$46,Récapitulatif!$B$3,$G$15:$G$46)),\"\")","v":0.77229488703923899}]
[null,null,null,null,null,null,null,null,null,null,null,null,null,"Sets","Gagnés",{"$f":"SUMIF($K$15:$K$46,Récapitulatif!$B$2,$D$15:$D$46)","v":3},{"$f":"IF(P$6+P$7>0,P6/(P$6+P$7),\"\")","v":0.15789473684210525},{"$f":"SUMIF($K$15:$K$46,Récapitulatif!$B$3,$D$15:$D$46)","v":3},{"$f":"IF(R$6+R$7>0,R6/(R$6+R$7),\"\")","v":0.375},{"$f":"SUM($D$15:$D$46)","v":17},{"$f":"IF(T$6+T$7>0,T6/(T$6+T$7),\"\")","v":0.26153846153846155}]
[null,null,null,null,null,null,null,null,null,null,null,null,null,null,"Perdus",{"$f":"SUMIF($K$15:$K$46,Récapitulatif!$B$2,$E$15:$E$46)","v":16},{"$f":"IF(P$6+P$7>0,P7/(P$6+P$7),\"\")","v":0.84210526315789469},{"$f":"SUMIF($K$15:$K$46,Récapitulatif!$B$3,$E$15:$E$46)","v":5},{"$f":"IF(R$6+R$7>0,R7/(R$6+R$7),\"\")","v":0.625},{"$f":"SUM($E$15:$E$46)","v":48},{"$f":"IF(T$6+T$7>0,T7/(T$6+T$7),\"\")","v":0.7384615384615385}]
["Récapitulatif joueurs",null,null,null,null,null,null,null,null,null,null,null,null,null,"Total",{"$f":"SUM(P6:P7)","v":19},null,{"$f":"SUM(R6:R7)","v":8},null,{"$f":"SUM(T6:T7)","v":65}]
[]
[]
[]
[]
[]
[]
["Joueur","Adversaire","G/P","Sets gagnés","Sets perdus","pts marqués","pts subis","Date","Compétition","Phase","Saison"]
["TRIPLET Gilbert","STOPIN Gilles","P",0,2,44,120,"2009-11-21","N1 Ligue T1 GRAVELINES","Poules",{"$f":"IF(H16<>\"\",IF(MONTH(H16)>MoisRef,YEAR(H16)&\"-\"&YEAR(H16)+1,YEAR(H16)-1&\"-\"&YEAR(H16)),\"\")","v":"2009-2010"},null,null,null,null,{"$f":"IF($K16=P$1,COUNTIF($C16,\"G\"),0)","v":0},null,{"$f":"IF($K16=R$1,COUNTIF($C16,\"G\"),0)","v":0}]
["TRIPLET Gilbert","GREMAIN Gino","P",0,2,92,120,"2009-11-21","N1 Ligue T1 GRAVELINES","Poules","2009-2010",null,null,null,null,0,null,0]
["TRIPLET Gilbert","ESTERMANS Bernard","G",2,0,120,114,"2009-11-21","N1 Ligue T1 GRAVELINES","Poules Consolante","2009-2010",null,null,null,null,0,null,0]
["TRIPLET Gilbert","MAUPIN Patrick","P",0,2,81,120,"2009-11-21","N1 Ligue T1 GRAVELINES","Poules Consolante","2009-2010",null,null,null,null,0,null,0]
["TRIPLET Gilbert","CLYNCKE Jean-Jacques","P",0,2,109,120,"2010-02-20","N1 Ligue T4 DOUAI","Poules","2009-2010",null,null,null,null,0,null,0]
["TRIPLET Gilbert","WALLART Jean-Charles","P",1,2,129,171,"2010-02-20","N1 Ligue T4 DOUAI","Poules","2009-2010",null,null,null,null,0,null,0]
["TRIPLET Gilbert","CAUX Frédéric","P",1,2,137,173,"2010-02-20","N1 Ligue T4 DOUAI","Poules Consolante","2009-2010",null,null,null,null,0,null,0]
["TRIPLET Gilbert","CLYNCKE Jean-Jacques","P",0,2,62,120,"2010-02-20","N1 Ligue T4 DOUAI","Poules Consolante","2009-2010",null,null,null,null,0,null,0]
["TRIPLET Gilbert","POULEYN André","P",1,2,130,169,"2010-10-16","N1 Ligue T1 DOUAI","Poules","2010-2011",null,null,null,null,0,null,0]
["TRIPLET Gilbert","LHERMITTE Cédric","P",0,2,76,120,"2010-10-16","N1 Ligue T1 DOUAI","Poules","2010-2011",null,null,null,null,0,null,0]
["TRIPLET Gilbert","CAQUELOT Maurice","G",2,1,165,114,"2010-10-16","N1 Ligue T1 DOUAI","Poules Consolante","2010-2011",null,null,null,null,0,null,0]
["TRIPLET Gilbert","POULEYN André","P",1,2,113,168,"2010-10-16","N1 Ligue T1 DOUAI","Poules Consolante","2010-2011",null,null,null,null,0,null,0]
["TRIPLET Gilbert","LORTHIOIR Jean-Luc","P",0,2,89,120,"2011-01-15","N1 Ligue T4 DIVION","Poules","2010-2011",null,null,null,null,0,null,0]
["TRIPLET Gilbert","LHERMITTE Cédric","P",0,2,70,120,"2011-01-15","N1 Ligue T4 DIVION","Poules","2010-2011",null,null,null,null,0,null,0]
["TRIPLET Gilbert","VEREECQUE Ludovic","P",1,2,104,157,"2011-01-15","N1 Ligue T4 DIVION","Poules Consolante","2010-2011",null,null,null,null,0,null,0]
["TRIPLET Gilbert","LORTHIOIR Jean-Luc","G",2,0,120,82,"2011-01-15","N1 Ligue T4 DIVION","Poules Consolante","2010-2011",null,null,null,null,0,null,0]
["TRIPLET Gilbert","CAUX Frédéric","G",2,0,120,69,"2015-01-17","N1 Ligue T1 DUNKERQUE","Poules","2014-2015",null,null,null,null,1,null,0]
["TRIPLET Gilbert","GEETS Patrice","P",0,2,49,120,"2015-01-17","N1 Ligue T1 DUNKERQUE","Poules","2014-2015",null,null,null,null,0,null,0]
["TRIPLET Gilbert","DEPLECHIN Robert","P",0,2,79,120,"2015-01-17","N1 Ligue T1 DUNKERQUE","1/8 Finale","2014-2015",null,null,null,null,0,null,0]
["TRIPLET Gilbert","LORTHIOIR Jean-Luc","P",0,1,76,100,"2015-02-07","N1 Ligue T2 CALAIS","Poules Consolante","2014-2015",null,null,null,null,0,null,0]
["TRIPLET Gilbert","CAUX Frédéric","P",0,1,56,100,"2015-02-07","N1 Ligue T2 CALAIS","Poules Consolante","2014-2015",null,null,null,null,0,null,0]
["TRIPLET Gilbert","CAUX Frédéric","P",0,2,62,120,"2015-02-07","N1 Ligue T2 CALAIS","Poules","2014-2015",null,null,null,null,0,null,0]
["TRIPLET Gilbert","DECONINCK Franky","P",1,2,147,176,"2015-02-07","N1 Ligue T2 CALAIS","Poules","2014-2015",null,null,null,null,0,null,0]
["TRIPLET Gilbert","DEROLEZ Jean-pierre","P",0,1,71,100,"2015-03-14","N1 Ligue T3 ANNOEULLIN","Poules Consolante","2014-2015",null,null,null,null,0,null,0]
["TRIPLET Gilbert","LORTHIOIR Jean-Luc","P",0,1,92,100,"2015-03-14","N1 Ligue T3 ANNOEULLIN","Poules Consolante","2014-2015",null,null,null,null,0,null,0]
["TRIPLET Gilbert","ALDEGUER Lionel","P",0,2,90,120,"2015-03-14","N1 Ligue T3 ANNOEULLIN","Poules","2014-2015",null,null,null,null,0,null,0]
["TRIPLET Gilbert","LEMÂTRE Jérémy","P",0,2,89,120,"2015-03-14","N1 Ligue T3 ANNOEULLIN","Poules","2014-2015",null,null,null,null,0,null,0]
["TRIPLET Gilbert","ALDEGUER Lionel","G",2,1,138,140,"2016-01-09","T2  LIGUE 5 QUILLES N1 - GRAVELINES","Qualifications","2015-2016",null,null,null,null,0,null,1]
["TRIPLET Gilbert","SAINT-GEORGES Claude","P",1,2,139,177,"2016-01-09","T2  LIGUE 5 QUILLES N1 - GRAVELINES","Qualifications","2015-2016",null,null,null,null,0,null,0]
["TRIPLET Gilbert","MAILLE Bernard","P",0,2,91,120,"2016-01-09","T2  LIGUE 5 QUILLES N1 - GRAVELINES","1/8 Finale","2015-2016",null,null,null,null,0,null,0]
["Fin des données",null,null,null,null,null,null,null,null,null,"",null,null,null,null,0,null,0]

{"sheet":"TRUQUET David","index":84,"n_rows":25,"n_cols":22,"rows_kept":25,"cut":false,"hidden":false,"merged":[]}
["TRUQUET David",null,null,null,null,null,null,null,null,null,null,null,null,null,null,{"$f":"Récapitulatif!$B$2","v":"2014-2015"},null,{"$f":"Récapitulatif!$B$3","v":"2015-2016"},null,"Toutes saisons"]
["VILLENEUVE D'ASCQ",null,null,null,null,null,null,null,null,null,null,null,null,null,null,"Nombre","%age","Nombre","%age","Nombre","%age"]
["102966-G",null,null,null,null,null,null,null,null,null,null,null,null,"Matchs","Gagnés",{"$f":"SUM(P$15:P$25)","v":0},{"$f":"IF(P$3+P$4>0,P3/(P$3+P$4),\"\")","v":""},{"$f":"SUM(R$15:R$25)","v":0},{"$f":"IF(R$3+R$4>0,R3/(R$3+R$4),\"\")","v":""},{"$f":"COUNTIF($C$15:$C$25,\"G\")","v":4},{"$f":"IF(T$3+T$4>0,T3/(T$3+T$4),\"\")","v":0.44444444444444442}]
[null,null,null,null,null,null,null,null,null,null,null,null,null,null,"Perdus",{"$f":"COUNTIF($K$15:$K$25,Récapitulatif!$B$2)-P3","v":0},{"$f":"IF(P$3+P$4>0,P4/(P$3+P$4),\"\")","v":""},{"$f":"COUNTIF($K$15:$K$25,Récapitulatif!$B$3)-R3","v":0},{"$f":"IF(R$3+R$4>0,R4/(R$3+R$4),\"\")","v":""},{"$f":"COUNTIF($C$15:$C$25,\"P\")","v":5},{"$f":"IF(T$3+T$4>0,T4/(T$3+T$4),\"\")","v":0.55555555555555558}]
[null,null,null,null,null,null,null,null,null,null,null,null,null,null,"Total / Moy.",{"$f":"SUM(P3:P4)","v":0},{"$f":"IF(SUMIF($K$15:$K$25,Récapitulatif!$B$2,$G$15:$G$25)>0,SUMIF($K$15:$K$25,Récapitulatif!$B$2,$F$15:$F$25)/SUMIF($K$15:$K$25,Récapitulatif!$B$2,$G$15:$G$25),\"\")","v":""},{"$f":"SUM(R3:R4)","v":0},{"$f":"IF(SUMIF($K$15:$K$25,Récapitulatif!$B$3,$G$15:$G$25)>0,SUMIF($K$15:$K$25,Récapitulatif!$B$3,$F$15:$F$25)/SUMIF($K$15:$K$25,Récapitulatif!$B$3,$G$15:$G$25),\"\")","v":""},{"$f":"SUM(T3:T4)","v":9},{"$f":"IF(SUM($G$15:$G$25)>0,SUM($F$15:$F$25)/SUM($G$15:$G$25),\"\")","v":1.0192837465564739},{"$f":"IF(SUMIF($K$15:$K$25,Récapitulatif!$B$2,$G$15:$G$25)+SUMIF($K$15:$K$25,Récapitulatif!$B$3,$G$15:$G$25)>0,(SUMIF($K$15:$K$25,Récapitulatif!$B$2,$F$15:$F$25)+SUMIF($K$15:$K$25,Récapitulatif!$B$3,$F$15:$F$25))/(SUMIF($K$15:$K$25,Récapitulatif!$B$2,$G$15:$G$25)+SUMIF($K$15:$K$25,Récapitulatif!$B$3,$G$15:$G$25)),\"\")","v":""}]
[null,null,null,null,null,null,null,null,null,null,null,null,null,"Sets","Gagnés",{"$f":"SUMIF($K$15:$K$25,Récapitulatif!$B$2,$D$15:$D$25)","v":0},{"$f":"IF(P$6+P$7>0,P6/(P$6+P$7),\"\")","v":""},{"$f":"SUMIF($K$15:$K$25,Récapitulatif!$B$3,$D$15:$D$25)","v":0},{"$f":"IF(R$6+R$7>0,R6/(R$6+R$7),\"\")","v":""},{"$f":"SUM($D$15:$D$25)","v":11},{"$f":"IF(T$6+T$7>0,T6/(T$6+T$7),\"\")","v":0.5}]
[null,null,null,null,null,null,null,null,null,null,null,null,null,null,"Perdus",{"$f":"SUMIF($K$15:$K$25,Récapitulatif!$B$2,$E$15:$E$25)","v":0},{"$f":"IF(P$6+P$7>0,P7/(P$6+P$7),\"\")","v":""},{"$f":"SUMIF($K$15:$K$25,Récapitulatif!$B$3,$E$15:$E$25)","v":0},{"$f":"IF(R$6+R$7>0,R7/(R$6+R$7),\"\")","v":""},{"$f":"SUM($E$15:$E$25)","v":11},{"$f":"IF(T$6+T$7>0,T7/(T$6+T$7),\"\")","v":0.5}]
["Récapitulatif joueurs",null,null,null,null,null,null,null,null,null,null,null,null,null,"Total",{"$f":"SUM(P6:P7)","v":0},null,{"$f":"SUM(R6:R7)","v":0},null,{"$f":"SUM(T6:T7)","v":22}]
[]
[]
[]
[]
[]
[]
["Joueur","Adversaire","G/P","Sets gagnés","Sets perdus","pts marqués","pts subis","Date","Compétition","Phase","Saison"]
["TRUQUET David","GEETS Patrice","P",1,2,120,138,"2009-02-14","N1 Ligue T1 ARRAS","Poules",{"$f":"IF(H16<>\"\",IF(MONTH(H16)>MoisRef,YEAR(H16)&\"-\"&YEAR(H16)+1,YEAR(H16)-1&\"-\"&YEAR(H16)),\"\")","v":"2008-2009"},null,null,null,null,{"$f":"IF($K16=P$1,COUNTIF($C16,\"G\"),0)","v":0},null,{"$f":"IF($K16=R$1,COUNTIF($C16,\"G\"),0)","v":0}]
["TRUQUET David","MAILLE Bernard","P",1,2,175,164,"2009-02-14","N1 Ligue T1 ARRAS","Poules","2008-2009",null,null,null,null,0,null,0]
["TRUQUET David","MARTEL Jean-Pierre","G",2,0,120,76,"2009-02-14","N1 Ligue T1 ARRAS","Poules Consolante","2008-2009",null,null,null,null,0,null,0]
["TRUQUET David","CAUX Frédéric","G",2,0,120,55,"2009-02-14","N1 Ligue T1 ARRAS","Poules Consolante","2008-2009",null,null,null,null,0,null,0]
["TRUQUET David","GEETS Patrice","G",2,1,175,157,"2009-02-14","N1 Ligue T1 ARRAS","Finale Consolante","2008-2009",null,null,null,null,0,null,0]
["TRUQUET David","HERREBRECHT Thierry","P",1,2,152,165,"2009-03-07","N1 Ligue T2 ANNOEULLIN","Poules","2008-2009",null,null,null,null,0,null,0]
["TRUQUET David","WALLART Jean-Charles","P",0,2,84,120,"2009-03-07","N1 Ligue T2 ANNOEULLIN","Poules","2008-2009",null,null,null,null,0,null,0]
["TRUQUET David","VANUCCI Emilio","P",0,2,44,120,"2009-03-07","N1 Ligue T2 ANNOEULLIN","Poules Consolante","2008-2009",null,null,null,null,0,null,0]
["TRUQUET David","CAUX Frédéric","G",2,0,120,94,"2009-03-07","N1 Ligue T2 ANNOEULLIN","Poules Consolante","2008-2009",null,null,null,null,0,null,0]
["Fin des données",null,null,null,null,null,null,null,null,null,"",null,null,null,null,{"$f":"IF($K25=P$1,COUNTIF($C25,\"G\"),0)","v":0},null,{"$f":"IF($K25=R$1,COUNTIF($C25,\"G\"),0)","v":0}]

{"sheet":"TURPIN Laurent","index":85,"n_rows":76,"n_cols":22,"rows_kept":76,"cut":false,"hidden":false,"merged":[]}
["TURPIN Laurent",null,null,null,null,null,null,null,null,null,null,null,null,null,null,{"$f":"Récapitulatif!$B$2","v":"2014-2015"},null,{"$f":"Récapitulatif!$B$3","v":"2015-2016"},null,"Toutes saisons"]
["BRUAY SUR ESCAUT",null,null,null,null,null,null,null,null,null,null,null,null,null,null,"Nombre","%age","Nombre","%age","Nombre","%age"]
["127680-U",null,null,null,null,null,null,null,null,null,null,null,null,"Matchs","Gagnés",{"$f":"SUM(P$15:P$76)","v":0},{"$f":"IF(P$3+P$4>0,P3/(P$3+P$4),\"\")","v":""},{"$f":"SUM(R$15:R$76)","v":0},{"$f":"IF(R$3+R$4>0,R3/(R$3+R$4),\"\")","v":""},{"$f":"COUNTIF($C$15:$C$76,\"G\")","v":34},{"$f":"IF(T$3+T$4>0,T3/(T$3+T$4),\"\")","v":0.56666666666666665}]
[null,null,null,null,null,null,null,null,null,null,null,null,null,null,"Perdus",{"$f":"COUNTIF($K$15:$K$76,Récapitulatif!$B$2)-P3","v":0},{"$f":"IF(P$3+P$4>0,P4/(P$3+P$4),\"\")","v":""},{"$f":"COUNTIF($K$15:$K$76,Récapitulatif!$B$3)-R3","v":0},{"$f":"IF(R$3+R$4>0,R4/(R$3+R$4),\"\")","v":""},{"$f":"COUNTIF($C$15:$C$76,\"P\")","v":26},{"$f":"IF(T$3+T$4>0,T4/(T$3+T$4),\"\")","v":0.43333333333333335}]
["laurent.turpin@equipement.gouv.fr",null,null,null,null,null,null,null,null,null,null,null,null,null,"Total / Moy.",{"$f":"SUM(P3:P4)","v":0},{"$f":"IF(SUMIF($K$15:$K$76,Récapitulatif!$B$2,$G$15:$G$76)>0,SUMIF($K$15:$K$76,Récapitulatif!$B$2,$F$15:$F$76)/SUMIF($K$15:$K$76,Récapitulatif!$B$2,$G$15:$G$76),\"\")","v":""},{"$f":"SUM(R3:R4)","v":0},{"$f":"IF(SUMIF($K$15:$K$76,Récapitulatif!$B$3,$G$15:$G$76)>0,SUMIF($K$15:$K$76,Récapitulatif!$B$3,$F$15:$F$76)/SUMIF($K$15:$K$76,Récapitulatif!$B$3,$G$15:$G$76),\"\")","v":""},{"$f":"SUM(T3:T4)","v":60},{"$f":"IF(SUM($G$15:$G$76)>0,SUM($F$15:$F$76)/SUM($G$15:$G$76),\"\")","v":1.0243638332430969},{"$f":"IF(SUMIF($K$15:$K$76,Récapitulatif!$B$2,$G$15:$G$76)+SUMIF($K$15:$K$76,Récapitulatif!$B$3,$G$15:$G$76)>0,(SUMIF($K$15:$K$76,Récapitulatif!$B$2,$F$15:$F$76)+SUMIF($K$15:$K$76,Récapitulatif!$B$3,$F$15:$F$76))/(SUMIF($K$15:$K$76,Récapitulatif!$B$2,$G$15:$G$76)+SUMIF($K$15:$K$76,Récapitulatif!$B$3,$G$15:$G$76)),\"\")","v":""}]
[null,null,null,null,null,null,null,null,null,null,null,null,null,"Sets","Gagnés",{"$f":"SUMIF($K$15:$K$76,Récapitulatif!$B$2,$D$15:$D$76)","v":0},{"$f":"IF(P$6+P$7>0,P6/(P$6+P$7),\"\")","v":""},{"$f":"SUMIF($K$15:$K$76,Récapitulatif!$B$3,$D$15:$D$76)","v":0},{"$f":"IF(R$6+R$7>0,R6/(R$6+R$7),\"\")","v":""},{"$f":"SUM($D$15:$D$76)","v":78},{"$f":"IF(T$6+T$7>0,T6/(T$6+T$7),\"\")","v":0.52702702702702697}]
[null,null,null,null,null,null,null,null,null,null,null,null,null,null,"Perdus",{"$f":"SUMIF($K$15:$K$76,Récapitulatif!$B$2,$E$15:$E$76)","v":0},{"$f":"IF(P$6+P$7>0,P7/(P$6+P$7),\"\")","v":""},{"$f":"SUMIF($K$15:$K$76,Récapitulatif!$B$3,$E$15:$E$76)","v":0},{"$f":"IF(R$6+R$7>0,R7/(R$6+R$7),\"\")","v":""},{"$f":"SUM($E$15:$E$76)","v":70},{"$f":"IF(T$6+T$7>0,T7/(T$6+T$7),\"\")","v":0.47297297297297297}]
["Récapitulatif joueurs",null,null,null,null,null,null,null,null,null,null,null,null,null,"Total",{"$f":"SUM(P6:P7)","v":0},null,{"$f":"SUM(R6:R7)","v":0},null,{"$f":"SUM(T6:T7)","v":148}]
[]
[]
[]
[]
[]
[]
["Joueur","Adversaire","G/P","Sets gagnés","Sets perdus","pts marqués","pts subis","Date","Compétition","Phase","Saison"]
["TURPIN Laurent","LORTHIOIR Jean-Luc","G",2,0,120,49,"2009-02-14","N1 Ligue T1 ARRAS","Poules",{"$f":"IF(H16<>\"\",IF(MONTH(H16)>MoisRef,YEAR(H16)&\"-\"&YEAR(H16)+1,YEAR(H16)-1&\"-\"&YEAR(H16)),\"\")","v":"2008-2009"},null,null,null,null,{"$f":"IF($K16=P$1,COUNTIF($C16,\"G\"),0)","v":0},null,{"$f":"IF($K16=R$1,COUNTIF($C16,\"G\"),0)","v":0}]
["TURPIN Laurent","DELSOL Philippe","P",0,2,61,120,"2009-02-14","N1 Ligue T1 ARRAS","Poules","2008-2009",null,null,null,null,0,null,0]
["TURPIN Laurent","GREMAIN Gino","P",1,2,147,179,"2009-02-14","N1 Ligue T1 ARRAS","1/4 Finale","2008-2009",null,null,null,null,0,null,0]
["TURPIN Laurent","CLYNCKE Jean-Jacques","G",2,1,177,150,"2009-03-07","N1 Ligue T2 ANNOEULLIN","Poules","2008-2009",null,null,null,null,0,null,0]
["TURPIN Laurent","GUILLEMANT Jean-Marc","P",0,2,98,120,"2009-03-07","N1 Ligue T2 ANNOEULLIN","Poules","2008-2009",null,null,null,null,0,null,0]
["TURPIN Laurent","CLYNCKE Jean-Jacques","G",2,0,120,92,"2009-03-07","N1 Ligue T2 ANNOEULLIN","Poules Consolante","2008-2009",null,null,null,null,0,null,0]
["TURPIN Laurent","CARPENTIER Yohanne","G",2,1,163,120,"2009-03-07","N1 Ligue T2 ANNOEULLIN","Poules Consolante","2008-2009",null,null,null,null,0,null,0]
["TURPIN Laurent","HULOT Sophie","G",2,0,120,56,"2009-04-11","N1 Ligue T3 DUNKERQUE","Poules","2008-2009",null,null,null,null,0,null,0]
["TURPIN Laurent","CARPENTIER Yohanne","G",2,0,120,72,"2009-04-11","N1 Ligue T3 DUNKERQUE","Poules","2008-2009",null,null,null,null,0,null,0]
["TURPIN Laurent","GUILLEMANT Jean-Marc","G",2,0,120,98,"2009-04-11","N1 Ligue T3 DUNKERQUE","1/4 Finale","2008-2009",null,null,null,null,0,null,0]
["TURPIN Laurent","SAINT-GEORGES Claude","P",0,2,63,120,"2009-04-11","N1 Ligue T3 DUNKERQUE","1/2 Finale","2008-2009",null,null,null,null,0,null,0]
["TURPIN Laurent","ESTERMANS Bernard","G",2,1,160,148,"2009-11-21","N1 Ligue T1 GRAVELINES","Poules","2009-2010",null,null,null,null,0,null,0]
["TURPIN Laurent","GEETS Patrice","P",0,2,89,120,"2009-11-21","N1 Ligue T1 GRAVELINES","Poules","2009-2010",null,null,null,null,0,null,0]
["TURPIN Laurent","DEROLEZ Jean-Pierre","G",2,1,144,152,"2009-11-21","N1 Ligue T1 GRAVELINES","Poules Consolante","2009-2010",null,null,null,null,0,null,0]
["TURPIN Laurent","MARTEL Jean-Pierre","G",2,0,120,83,"2009-11-21","N1 Ligue T1 GRAVELINES","Poules Consolante","2009-2010",null,null,null,null,0,null,0]
["TURPIN Laurent","CAUX Frédéric","P",0,2,87,120,"2009-11-21","N1 Ligue T1 GRAVELINES","1/2 Finale Consolante","2009-2010",null,null,null,null,0,null,0]
["TURPIN Laurent","RACARY Thibault","P",1,2,154,158,"2009-12-19","N1 Ligue T2 ANNOEULLIN","Poules","2009-2010",null,null,null,null,0,null,0]
["TURPIN Laurent","GEETS Patrice","P",1,2,138,177,"2009-12-19","N1 Ligue T2 ANNOEULLIN","Poules","2009-2010",null,null,null,null,0,null,0]
["TURPIN Laurent","MAUPIN Patrick","G",2,1,159,115,"2010-01-16","N1 Ligue T3 ANNOEULLIN","Poules Consolante","2009-2010",null,null,null,null,0,null,0]
["TURPIN Laurent","LHERMITTE Cédric","G",2,1,150,146,"2010-01-16","N1 Ligue T3 ANNOEULLIN","Poules Consolante","2009-2010",null,null,null,null,0,null,0]
["TURPIN Laurent","LORTHIOIR Jean-Luc","G",2,0,120,77,"2010-01-16","N1 Ligue T3 ANNOEULLIN","Poules","2009-2010",null,null,null,null,0,null,0]
["TURPIN Laurent","MAILLE Bernard","P",0,2,93,120,"2010-01-16","N1 Ligue T3 ANNOEULLIN","Poules","2009-2010",null,null,null,null,0,null,0]
["TURPIN Laurent","POULEYN André","G",2,1,146,141,"2010-02-20","N1 Ligue T4 DOUAI","Poules","2009-2010",null,null,null,null,0,null,0]
["TURPIN Laurent","DEROLEZ Jean-Pierre","G",2,1,174,128,"2010-02-20","N1 Ligue T4 DOUAI","Poules","2009-2010",null,null,null,null,0,null,0]
["TURPIN Laurent","BASTENIER Jean","P",0,2,101,120,"2010-02-20","N1 Ligue T4 DOUAI","1/8 Finale","2009-2010",null,null,null,null,0,null,0]
["TURPIN Laurent","MARTEL Bruno","G",2,0,120,84,"2010-02-20","N1 Ligue T4 DOUAI","Poules Consolante","2009-2010",null,null,null,null,0,null,0]
["TURPIN Laurent","DEROLEZ Jean-Pierre","G",2,1,141,162,"2010-02-20","N1 Ligue T4 DOUAI","Poules Consolante","2009-2010",null,null,null,null,0,null,0]
["TURPIN Laurent","FAUCOMPREZ Didier","G",2,0,120,114,"2010-10-16","N1 Ligue T1 DOUAI","Poules","2010-2011",null,null,null,null,0,null,0]
["TURPIN Laurent","CAUX Frédéric","P",1,2,148,146,"2010-10-16","N1 Ligue T1 DOUAI","Poules","2010-2011",null,null,null,null,0,null,0]
["TURPIN Laurent","HENNEUSE Patrick","P",1,2,132,160,"2010-10-16","N1 Ligue T1 DOUAI","1/8 Finale","2010-2011",null,null,null,null,0,null,0]
["TURPIN Laurent","LORTHIOIR Jean-Luc","G",2,1,169,158,"2011-10-15","N1 Ligue T1 DIVION","Poules","2011-2012",null,null,null,null,0,null,0]
["TURPIN Laurent","WALLART Jean-Charles","G",2,1,165,138,"2011-10-15","N1 Ligue T1 DIVION","Poules","2011-2012",null,null,null,null,0,null,0]
["TURPIN Laurent","LHERMITTE Cédric","P",0,2,74,120,"2011-10-15","N1 Ligue T1 DIVION","1/4 Finale","2011-2012",null,null,null,null,0,null,0]
["TURPIN Laurent","SAINT-GEORGES Claude","P",0,2,90,120,"2011-11-19","N1 Ligue T2 DOUAI","Poules","2011-2012",null,null,null,null,0,null,0]
["TURPIN Laurent","SAINT-GEORGES Claude","G",2,1,145,132,"2011-11-19","N1 Ligue T2 DOUAI","Poules","2011-2012",null,null,null,null,0,null,0]
["TURPIN Laurent","LHERMITTE Cédric","P",1,2,160,167,"2011-11-19","N1 Ligue T2 DOUAI","1/8 Finale","2011-2012",null,null,null,null,0,null,0]
["TURPIN Laurent","GHEVART Jean","G",2,1,168,145,"2012-01-07","N1 Ligue T3 FACHES THUMESNIL","Poules","2011-2012",null,null,null,null,0,null,0]
["TURPIN Laurent","CARPENTIER Yohanne","P",0,2,82,120,"2012-01-07","N1 Ligue T3 FACHES THUMESNIL","Poules","2011-2012",null,null,null,null,0,null,0]
["TURPIN Laurent","RACARY Thibault","P",0,2,81,120,"2012-01-07","N1 Ligue T3 FACHES THUMESNIL","1/8 Finale","2011-2012",null,null,null,null,0,null,0]
["TURPIN Laurent","HOCHART James","G",2,0,120,71,"2012-10-13","N1 Ligue T1 ANNOEULLIN","Poules","2012-2013",null,null,null,null,0,null,0]
["TURPIN Laurent","LORTHIOIR Jean-Luc","G",2,0,120,71,"2012-10-13","N1 Ligue T1 ANNOEULLIN","Poules","2012-2013",null,null,null,null,0,null,0]
["TURPIN Laurent","GROLLET Fabien","G",2,0,120,75,"2012-10-13","N1 Ligue T1 ANNOEULLIN","1/8 Finale","2012-2013",null,null,null,null,0,null,0]
["TURPIN Laurent","CAUX Grégory","G",2,1,166,144,"2012-10-13","N1 Ligue T1 ANNOEULLIN","1/4 Finale","2012-2013",null,null,null,null,0,null,0]
["TURPIN Laurent","GEETS Patrice","G",2,1,155,145,"2012-10-13","N1 Ligue T1 ANNOEULLIN","1/2 Finale","2012-2013",null,null,null,null,0,null,0]
["TURPIN Laurent","DELSOL Philippe","P",0,2,97,120,"2012-10-13","N1 Ligue T1 ANNOEULLIN","Finale","2012-2013",null,null,null,null,0,null,0]
["TURPIN Laurent","HORNAIN Denis","G",2,0,120,93,"2012-10-27","N1 Ligue T2 BRUAY sur ESCAUT","Poules","2012-2013",null,null,null,null,0,null,0]
["TURPIN Laurent","FLEURANT Richard","G",2,0,120,113,"2012-10-27","N1 Ligue T2 BRUAY sur ESCAUT","Poules","2012-2013",null,null,null,null,0,null,0]
["TURPIN Laurent","CAUX Grégory","G",2,0,120,86,"2012-10-27","N1 Ligue T2 BRUAY sur ESCAUT","1/4 Finale","2012-2013",null,null,null,null,0,null,0]
["TURPIN Laurent","LHERMITTE Cédric","P",0,2,92,120,"2012-10-27","N1 Ligue T2 BRUAY sur ESCAUT","1/2 Finale","2012-2013",null,null,null,null,0,null,0]
["TURPIN Laurent","DEVOS Jackie","P",0,2,85,120,"2012-11-24","N1 Ligue T3 CALAIS","Poules","2012-2013",null,null,null,null,0,null,0]
["TURPIN Laurent","CLYNCKE Jean-Jacques","G",2,0,120,81,"2012-11-24","N1 Ligue T3 CALAIS","Poules","2012-2013",null,null,null,null,0,null,0]
["TURPIN Laurent","VEREECQUE Ludovic","P",0,2,100,120,"2012-11-24","N1 Ligue T3 CALAIS","1/8 Finale","2012-2013",null,null,null,null,0,null,0]
["TURPIN Laurent","LEMÂTRE Jérémy","P",1,2,119,153,"2012-12-15","N1 Ligue T4 VILLENEUVE D'ASCQ","Poules","2012-2013",null,null,null,null,0,null,0]
["TURPIN Laurent","CAUX Grégory","P",0,2,59,120,"2012-12-15","N1 Ligue T4 VILLENEUVE D'ASCQ","Poules","2012-2013",null,null,null,null,0,null,0]
["TURPIN Laurent","SAINT-GEORGES Claude","P",2,3,260,275,"2013-04-14","FINALE LIGUE N1 FACHES THUMESNIL","Poules","2012-2013",null,null,null,null,0,null,0]
["TURPIN Laurent","DELSOL Philippe","P",0,3,100,180,"2013-04-14","FINALE LIGUE N1 FACHES THUMESNIL","Poules","2012-2013",null,null,null,null,0,null,0]
["TURPIN Laurent","HERREBRECHT Emerick","G",2,1,157,103,"2014-01-04","N1 Ligue T1 ANNOEULLIN","Poules","2013-2014",null,null,null,null,0,null,0]
["TURPIN Laurent","LORTHIOIR Jean-Luc","G",2,0,120,90,"2014-01-04","N1 Ligue T1 ANNOEULLIN","Poules","2013-2014",null,null,null,null,0,null,0]
["TURPIN Laurent","GROLLET Fabien","G",2,0,120,83,"2014-01-04","N1 Ligue T1 ANNOEULLIN","1/8 Finale","2013-2014",null,null,null,null,0,null,0]
["TURPIN Laurent","CAUX Grégory","P",1,2,159,158,"2014-01-04","N1 Ligue T1 ANNOEULLIN","1/4 Finale","2013-2014",null,null,null,null,0,null,0]
["Fin des données",null,null,null,null,null,null,null,null,null,"",null,null,null,null,{"$f":"IF($K76=P$1,COUNTIF($C76,\"G\"),0)","v":0},null,{"$f":"IF($K76=R$1,COUNTIF($C76,\"G\"),0)","v":0}]

{"sheet":"VANDIONANT Michel","index":86,"n_rows":22,"n_cols":22,"rows_kept":22,"cut":false,"hidden":false,"merged":[]}
["VANDIONANT Michel",null,null,null,null,null,null,null,null,null,null,null,null,null,null,{"$f":"Récapitulatif!$B$2","v":"2014-2015"},null,{"$f":"Récapitulatif!$B$3","v":"2015-2016"},null,"Toutes saisons"]
["ANNOEULLIN",null,null,null,null,null,null,null,null,null,null,null,null,null,null,"Nombre","%age","Nombre","%age","Nombre","%age"]
["133021-F",null,null,null,null,null,null,null,null,null,null,null,null,"Matchs","Gagnés",{"$f":"SUM(P$15:P$22)","v":0},{"$f":"IF(P$3+P$4>0,P3/(P$3+P$4),\"\")","v":""},{"$f":"SUM(R$15:R$22)","v":0},{"$f":"IF(R$3+R$4>0,R3/(R$3+R$4),\"\")","v":""},{"$f":"COUNTIF($C$15:$C$22,\"G\")","v":0},{"$f":"IF(T$3+T$4>0,T3/(T$3+T$4),\"\")","v":0}]
[null,null,null,null,null,null,null,null,null,null,null,null,null,null,"Perdus",{"$f":"COUNTIF($K$15:$K$22,Récapitulatif!$B$2)-P3","v":0},{"$f":"IF(P$3+P$4>0,P4/(P$3+P$4),\"\")","v":""},{"$f":"COUNTIF($K$15:$K$22,Récapitulatif!$B$3)-R3","v":0},{"$f":"IF(R$3+R$4>0,R4/(R$3+R$4),\"\")","v":""},{"$f":"COUNTIF($C$15:$C$22,\"P\")","v":6},{"$f":"IF(T$3+T$4>0,T4/(T$3+T$4),\"\")","v":1}]
[null,null,null,null,null,null,null,null,null,null,null,null,null,null,"Total / Moy.",{"$f":"SUM(P3:P4)","v":0},{"$f":"IF(SUMIF($K$15:$K$22,Récapitulatif!$B$2,$G$15:$G$22)>0,SUMIF($K$15:$K$22,Récapitulatif!$B$2,$F$15:$F$22)/SUMIF($K$15:$K$22,Récapitulatif!$B$2,$G$15:$G$22),\"\")","v":""},{"$f":"SUM(R3:R4)","v":0},{"$f":"IF(SUMIF($K$15:$K$22,Récapitulatif!$B$3,$G$15:$G$22)>0,SUMIF($K$15:$K$22,Récapitulatif!$B$3,$F$15:$F$22)/SUMIF($K$15:$K$22,Récapitulatif!$B$3,$G$15:$G$22),\"\")","v":""},{"$f":"SUM(T3:T4)","v":6},{"$f":"IF(SUM($G$15:$G$22)>0,SUM($F$15:$F$22)/SUM($G$15:$G$22),\"\")","v":0.44027777777777777},{"$f":"IF(SUMIF($K$15:$K$22,Récapitulatif!$B$2,$G$15:$G$22)+SUMIF($K$15:$K$22,Récapitulatif!$B$3,$G$15:$G$22)>0,(SUMIF($K$15:$K$22,Récapitulatif!$B$2,$F$15:$F$22)+SUMIF($K$15:$K$22,Récapitulatif!$B$3,$F$15:$F$22))/(SUMIF($K$15:$K$22,Récapitulatif!$B$2,$G$15:$G$22)+SUMIF($K$15:$K$22,Récapitulatif!$B$3,$G$15:$G$22)),\"\")","v":""}]
[null,null,null,null,null,null,null,null,null,null,null,null,null,"Sets","Gagnés",{"$f":"SUMIF($K$15:$K$22,Récapitulatif!$B$2,$D$15:$D$22)","v":0},{"$f":"IF(P$6+P$7>0,P6/(P$6+P$7),\"\")","v":""},{"$f":"SUMIF($K$15:$K$22,Récapitulatif!$B$3,$D$15:$D$22)","v":0},{"$f":"IF(R$6+R$7>0,R6/(R$6+R$7),\"\")","v":""},{"$f":"SUM($D$15:$D$22)","v":0},{"$f":"IF(T$6+T$7>0,T6/(T$6+T$7),\"\")","v":0}]
[null,null,null,null,null,null,null,null,null,null,null,null,null,null,"Perdus",{"$f":"SUMIF($K$15:$K$22,Récapitulatif!$B$2,$E$15:$E$22)","v":0},{"$f":"IF(P$6+P$7>0,P7/(P$6+P$7),\"\")","v":""},{"$f":"SUMIF($K$15:$K$22,Récapitulatif!$B$3,$E$15:$E$22)","v":0},{"$f":"IF(R$6+R$7>0,R7/(R$6+R$7),\"\")","v":""},{"$f":"SUM($E$15:$E$22)","v":12},{"$f":"IF(T$6+T$7>0,T7/(T$6+T$7),\"\")","v":1}]
["Récapitulatif joueurs",null,null,null,null,null,null,null,null,null,null,null,null,null,"Total",{"$f":"SUM(P6:P7)","v":0},null,{"$f":"SUM(R6:R7)","v":0},null,{"$f":"SUM(T6:T7)","v":12}]
[]
[]
[]
[]
[]
[]
["Joueur","Adversaire","G/P","Sets gagnés","Sets perdus","pts marqués","pts subis","Date","Compétition","Phase","Saison"]
["VANDIONANT Michel","MARCHISSEAU Stéphane","P",0,2,86,120,"2008-12-12","National T3 ANNOEULLIN","Préqualifs",{"$f":"IF(H16<>\"\",IF(MONTH(H16)>MoisRef,YEAR(H16)&\"-\"&YEAR(H16)+1,YEAR(H16)-1&\"-\"&YEAR(H16)),\"\")","v":"2008-2009"},null,null,null,null,{"$f":"IF($K16=P$1,COUNTIF($C16,\"G\"),0)","v":0},null,{"$f":"IF($K16=R$1,COUNTIF($C16,\"G\"),0)","v":0}]
["VANDIONANT Michel","DUROYON Didier","P",0,2,43,120,"2008-12-12","National T3 ANNOEULLIN","Préqualifs","2008-2009",null,null,null,null,0,null,0]
["VANDIONANT Michel","PERRIN Thierry","P",0,2,72,120,"2008-12-12","National T3 ANNOEULLIN","Préqualifs","2008-2009",null,null,null,null,0,null,0]
["VANDIONANT Michel","TIRALONGO Sébastien","P",0,2,25,120,"2009-12-04","National T2 ANNOEULLIN","Préqualifs","2009-2010",null,null,null,null,0,null,0]
["VANDIONANT Michel","FERON Patrick","P",0,2,48,120,"2009-12-04","National T2 ANNOEULLIN","Préqualifs","2009-2010",null,null,null,null,0,null,0]
["VANDIONANT Michel","SCHUB Philippe","P",0,2,43,120,"2009-12-04","National T2 ANNOEULLIN","Préqualifs","2009-2010",null,null,null,null,0,null,0]
["Fin des données",null,null,null,null,null,null,null,null,null,"",null,null,null,null,{"$f":"IF($K22=P$1,COUNTIF($C22,\"G\"),0)","v":0},null,{"$f":"IF($K22=R$1,COUNTIF($C22,\"G\"),0)","v":0}]

{"sheet":"VANLERBERGHE Nicolas","index":87,"n_rows":28,"n_cols":22,"rows_kept":28,"cut":false,"hidden":false,"merged":[]}
["VANLERBERGHE Nicolas",null,null,null,null,null,null,null,null,null,null,null,null,null,null,{"$f":"Récapitulatif!$B$2","v":"2014-2015"},null,{"$f":"Récapitulatif!$B$3","v":"2015-2016"},null,"Toutes saisons"]
["FACHES-THUMESNIL",null,null,null,null,null,null,null,null,null,null,null,null,null,null,"Nombre","%age","Nombre","%age","Nombre","%age"]
["109138-Q",null,null,null,null,null,null,null,null,null,null,null,null,"Matchs","Gagnés",{"$f":"SUM(P$15:P$28)","v":0},{"$f":"IF(P$3+P$4>0,P3/(P$3+P$4),\"\")","v":""},{"$f":"SUM(R$15:R$28)","v":0},{"$f":"IF(R$3+R$4>0,R3/(R$3+R$4),\"\")","v":""},{"$f":"COUNTIF($C$15:$C$28,\"G\")","v":5},{"$f":"IF(T$3+T$4>0,T3/(T$3+T$4),\"\")","v":0.41666666666666669}]
[null,null,null,null,null,null,null,null,null,null,null,null,null,null,"Perdus",{"$f":"COUNTIF($K$15:$K$28,Récapitulatif!$B$2)-P3","v":0},{"$f":"IF(P$3+P$4>0,P4/(P$3+P$4),\"\")","v":""},{"$f":"COUNTIF($K$15:$K$28,Récapitulatif!$B$3)-R3","v":0},{"$f":"IF(R$3+R$4>0,R4/(R$3+R$4),\"\")","v":""},{"$f":"COUNTIF($C$15:$C$28,\"P\")","v":7},{"$f":"IF(T$3+T$4>0,T4/(T$3+T$4),\"\")","v":0.58333333333333337}]
["nicovanler@hotmail.fr",null,null,null,null,null,null,null,null,null,null,null,null,null,"Total / Moy.",{"$f":"SUM(P3:P4)","v":0},{"$f":"IF(SUMIF($K$15:$K$28,Récapitulatif!$B$2,$G$15:$G$28)>0,SUMIF($K$15:$K$28,Récapitulatif!$B$2,$F$15:$F$28)/SUMIF($K$15:$K$28,Récapitulatif!$B$2,$G$15:$G$28),\"\")","v":""},{"$f":"SUM(R3:R4)","v":0},{"$f":"IF(SUMIF($K$15:$K$28,Récapitulatif!$B$3,$G$15:$G$28)>0,SUMIF($K$15:$K$28,Récapitulatif!$B$3,$F$15:$F$28)/SUMIF($K$15:$K$28,Récapitulatif!$B$3,$G$15:$G$28),\"\")","v":""},{"$f":"SUM(T3:T4)","v":12},{"$f":"IF(SUM($G$15:$G$28)>0,SUM($F$15:$F$28)/SUM($G$15:$G$28),\"\")","v":0.97058823529411764},{"$f":"IF(SUMIF($K$15:$K$28,Récapitulatif!$B$2,$G$15:$G$28)+SUMIF($K$15:$K$28,Récapitulatif!$B$3,$G$15:$G$28)>0,(SUMIF($K$15:$K$28,Récapitulatif!$B$2,$F$15:$F$28)+SUMIF($K$15:$K$28,Récapitulatif!$B$3,$F$15:$F$28))/(SUMIF($K$15:$K$28,Récapitulatif!$B$2,$G$15:$G$28)+SUMIF($K$15:$K$28,Récapitulatif!$B$3,$G$15:$G$28)),\"\")","v":""}]
[null,null,null,null,null,null,null,null,null,null,null,null,null,"Sets","Gagnés",{"$f":"SUMIF($K$15:$K$28,Récapitulatif!$B$2,$D$15:$D$28)","v":0},{"$f":"IF(P$6+P$7>0,P6/(P$6+P$7),\"\")","v":""},{"$f":"SUMIF($K$15:$K$28,Récapitulatif!$B$3,$D$15:$D$28)","v":0},{"$f":"IF(R$6+R$7>0,R6/(R$6+R$7),\"\")","v":""},{"$f":"SUM($D$15:$D$28)","v":14},{"$f":"IF(T$6+T$7>0,T6/(T$6+T$7),\"\")","v":0.4}]
[null,null,null,null,null,null,null,null,null,null,null,null,null,null,"Perdus",{"$f":"SUMIF($K$15:$K$28,Récapitulatif!$B$2,$E$15:$E$28)","v":0},{"$f":"IF(P$6+P$7>0,P7/(P$6+P$7),\"\")","v":""},{"$f":"SUMIF($K$15:$K$28,Récapitulatif!$B$3,$E$15:$E$28)","v":0},{"$f":"IF(R$6+R$7>0,R7/(R$6+R$7),\"\")","v":""},{"$f":"SUM($E$15:$E$28)","v":21},{"$f":"IF(T$6+T$7>0,T7/(T$6+T$7),\"\")","v":0.6}]
["Récapitulatif joueurs",null,null,null,null,null,null,null,null,null,null,null,null,null,"Total",{"$f":"SUM(P6:P7)","v":0},null,{"$f":"SUM(R6:R7)","v":0},null,{"$f":"SUM(T6:T7)","v":35}]
[]
[]
[]
[]
[]
[]
["Joueur","Adversaire","G/P","Sets gagnés","Sets perdus","pts marqués","pts subis","Date","Compétition","Phase","Saison"]
["VANLERBERGHE Nicolas","GREMAIN Gino","P",0,2,93,120,"2008-12-12","National T3 ANNOEULLIN","Préqualifs",{"$f":"IF(H16<>\"\",IF(MONTH(H16)>MoisRef,YEAR(H16)&\"-\"&YEAR(H16)+1,YEAR(H16)-1&\"-\"&YEAR(H16)),\"\")","v":"2008-2009"},null,null,null,null,{"$f":"IF($K16=P$1,COUNTIF($C16,\"G\"),0)","v":0},null,{"$f":"IF($K16=R$1,COUNTIF($C16,\"G\"),0)","v":0}]
["VANLERBERGHE Nicolas","MARTEL Jean-Pierre","G",2,1,164,129,"2008-12-12","National T3 ANNOEULLIN","Préqualifs","2008-2009",null,null,null,null,0,null,0]
["VANLERBERGHE Nicolas","GUIBERT Philippe","P",0,2,84,120,"2008-12-12","National T3 ANNOEULLIN","Préqualifs","2008-2009",null,null,null,null,0,null,0]
["VANLERBERGHE Nicolas","ZACCAGNINI Antoine","P",0,3,108,180,"2008-12-13","National T3 ANNOEULLIN","Qualifs promotion","2008-2009",null,null,null,null,0,null,0]
["VANLERBERGHE Nicolas","ROBIC Daniel","G",3,0,180,111,"2008-12-13","National T3 ANNOEULLIN","Qualifs promotion","2008-2009",null,null,null,null,0,null,0]
["VANLERBERGHE Nicolas","ZACCAGNINI Antoine","P",0,3,123,180,"2008-12-13","National T3 ANNOEULLIN","Qualifs promotion","2008-2009",null,null,null,null,0,null,0]
["VANLERBERGHE Nicolas","CLYNCKE Jean-Jacques","G",2,1,167,120,"2010-12-03","National T3 FACHES THUMESNIL - RONCHIN","Préqualifs","2010-2011",null,null,null,null,0,null,0]
["VANLERBERGHE Nicolas","FONTAINE Isabelle","G",2,0,120,67,"2010-12-03","National T3 FACHES THUMESNIL - RONCHIN","Préqualifs","2010-2011",null,null,null,null,0,null,0]
["VANLERBERGHE Nicolas","ZACCAGNINI Antoine","P",0,2,78,120,"2010-12-03","National T3 FACHES THUMESNIL - RONCHIN","Préqualifs","2010-2011",null,null,null,null,0,null,0]
["VANLERBERGHE Nicolas","SCHUB Philippe","G",3,1,211,187,"2010-12-04","National T3 FACHES THUMESNIL - RONCHIN","Qualifs promotion","2010-2011",null,null,null,null,0,null,0]
["VANLERBERGHE Nicolas","DELATTRE Hervé","P",2,3,262,254,"2010-12-04","National T3 FACHES THUMESNIL - RONCHIN","Qualifs promotion","2010-2011",null,null,null,null,0,null,0]
["VANLERBERGHE Nicolas","ZILLIG Pierre","P",0,3,126,180,"2010-12-04","National T3 FACHES THUMESNIL - RONCHIN","Qualifs promotion","2010-2011",null,null,null,null,0,null,0]
["Fin des données",null,null,null,null,null,null,null,null,null,"",null,null,null,null,{"$f":"IF($K28=P$1,COUNTIF($C28,\"G\"),0)","v":0},null,{"$f":"IF($K28=R$1,COUNTIF($C28,\"G\"),0)","v":0}]

{"sheet":"VANNUCCI Emilio","index":88,"n_rows":50,"n_cols":22,"rows_kept":50,"cut":false,"hidden":false,"merged":[]}
["VANNUCCI Emilio",null,null,null,null,null,null,null,null,null,null,null,null,null,null,{"$f":"Récapitulatif!$B$2","v":"2014-2015"},null,{"$f":"Récapitulatif!$B$3","v":"2015-2016"},null,"Toutes saisons"]
["ARRAS",null,null,null,null,null,null,null,null,null,null,null,null,null,null,"Nombre","%age","Nombre","%age","Nombre","%age"]
["016521-L",null,null,null,null,null,null,null,null,null,null,null,null,"Matchs","Gagnés",{"$f":"SUM(P$15:P$50)","v":0},{"$f":"IF(P$3+P$4>0,P3/(P$3+P$4),\"\")","v":""},{"$f":"SUM(R$15:R$50)","v":0},{"$f":"IF(R$3+R$4>0,R3/(R$3+R$4),\"\")","v":""},{"$f":"COUNTIF($C$15:$C$50,\"G\")","v":23},{"$f":"IF(T$3+T$4>0,T3/(T$3+T$4),\"\")","v":0.67647058823529416}]
[null,null,null,null,null,null,null,null,null,null,null,null,null,null,"Perdus",{"$f":"COUNTIF($K$15:$K$50,Récapitulatif!$B$2)-P3","v":0},{"$f":"IF(P$3+P$4>0,P4/(P$3+P$4),\"\")","v":""},{"$f":"COUNTIF($K$15:$K$50,Récapitulatif!$B$3)-R3","v":0},{"$f":"IF(R$3+R$4>0,R4/(R$3+R$4),\"\")","v":""},{"$f":"COUNTIF($C$15:$C$50,\"P\")","v":11},{"$f":"IF(T$3+T$4>0,T4/(T$3+T$4),\"\")","v":0.3235294117647059}]
["vannucciemilio@yahoo.fr",null,null,null,null,null,null,null,null,null,null,null,null,null,"Total / Moy.",{"$f":"SUM(P3:P4)","v":0},{"$f":"IF(SUMIF($K$15:$K$50,Récapitulatif!$B$2,$G$15:$G$50)>0,SUMIF($K$15:$K$50,Récapitulatif!$B$2,$F$15:$F$50)/SUMIF($K$15:$K$50,Récapitulatif!$B$2,$G$15:$G$50),\"\")","v":""},{"$f":"SUM(R3:R4)","v":0},{"$f":"IF(SUMIF($K$15:$K$50,Récapitulatif!$B$3,$G$15:$G$50)>0,SUMIF($K$15:$K$50,Récapitulatif!$B$3,$F$15:$F$50)/SUMIF($K$15:$K$50,Récapitulatif!$B$3,$G$15:$G$50),\"\")","v":""},{"$f":"SUM(T3:T4)","v":34},{"$f":"IF(SUM($G$15:$G$50)>0,SUM($F$15:$F$50)/SUM($G$15:$G$50),\"\")","v":1.1018912529550828},{"$f":"IF(SUMIF($K$15:$K$50,Récapitulatif!$B$2,$G$15:$G$50)+SUMIF($K$15:$K$50,Récapitulatif!$B$3,$G$15:$G$50)>0,(SUMIF($K$15:$K$50,Récapitulatif!$B$2,$F$15:$F$50)+SUMIF($K$15:$K$50,Récapitulatif!$B$3,$F$15:$F$50))/(SUMIF($K$15:$K$50,Récapitulatif!$B$2,$G$15:$G$50)+SUMIF($K$15:$K$50,Récapitulatif!$B$3,$G$15:$G$50)),\"\")","v":""}]
[null,null,null,null,null,null,null,null,null,null,null,null,null,"Sets","Gagnés",{"$f":"SUMIF($K$15:$K$50,Récapitulatif!$B$2,$D$15:$D$50)","v":0},{"$f":"IF(P$6+P$7>0,P6/(P$6+P$7),\"\")","v":""},{"$f":"SUMIF($K$15:$K$50,Récapitulatif!$B$3,$D$15:$D$50)","v":0},{"$f":"IF(R$6+R$7>0,R6/(R$6+R$7),\"\")","v":""},{"$f":"SUM($D$15:$D$50)","v":54},{"$f":"IF(T$6+T$7>0,T6/(T$6+T$7),\"\")","v":0.6}]
[null,null,null,null,null,null,null,null,null,null,null,null,null,null,"Perdus",{"$f":"SUMIF($K$15:$K$50,Récapitulatif!$B$2,$E$15:$E$50)","v":0},{"$f":"IF(P$6+P$7>0,P7/(P$6+P$7),\"\")","v":""},{"$f":"SUMIF($K$15:$K$50,Récapitulatif!$B$3,$E$15:$E$50)","v":0},{"$f":"IF(R$6+R$7>0,R7/(R$6+R$7),\"\")","v":""},{"$f":"SUM($E$15:$E$50)","v":36},{"$f":"IF(T$6+T$7>0,T7/(T$6+T$7),\"\")","v":0.4}]
["Récapitulatif joueurs",null,null,null,null,null,null,null,null,null,null,null,null,null,"Total",{"$f":"SUM(P6:P7)","v":0},null,{"$f":"SUM(R6:R7)","v":0},null,{"$f":"SUM(T6:T7)","v":90}]
[]
[]
[]
[]
[]
[]
["Joueur","Adversaire","G/P","Sets gagnés","Sets perdus","pts marqués","pts subis","Date","Compétition","Phase","Saison"]
["VANNUCCI Emilio","MAILLE Bernard","G",2,1,170,139,"2008-12-12","National T3 ANNOEULLIN","Préqualifs",{"$f":"IF(H16<>\"\",IF(MONTH(H16)>MoisRef,YEAR(H16)&\"-\"&YEAR(H16)+1,YEAR(H16)-1&\"-\"&YEAR(H16)),\"\")","v":"2008-2009"},null,null,null,null,{"$f":"IF($K16=P$1,COUNTIF($C16,\"G\"),0)","v":0},null,{"$f":"IF($K16=R$1,COUNTIF($C16,\"G\"),0)","v":0}]
["VANNUCCI Emilio","FERON Patrick","P",0,2,88,120,"2008-12-12","National T3 ANNOEULLIN","Préqualifs","2008-2009",null,null,null,null,0,null,0]
["VANNUCCI Emilio","DELATTRE Hervé","P",1,2,145,159,"2008-12-12","National T3 ANNOEULLIN","Préqualifs","2008-2009",null,null,null,null,0,null,0]
["VANNUCCI Emilio","LECROART Serge","G",2,0,120,51,"2009-02-14","N1 Ligue T1 ARRAS","Poules","2008-2009",null,null,null,null,0,null,0]
["VANNUCCI Emilio","GUILLEMANT Jean-Marc","P",0,2,73,120,"2009-02-14","N1 Ligue T1 ARRAS","Poules","2008-2009",null,null,null,null,0,null,0]
["VANNUCCI Emilio","GUILLEMANT Jean-Marc","G",2,0,120,93,"2009-02-14","N1 Ligue T1 ARRAS","1/4 Finale","2008-2009",null,null,null,null,0,null,0]
["VANNUCCI Emilio","DELSOL Philippe","P",0,2,57,120,"2009-02-14","N1 Ligue T1 ARRAS","1/2 Finale","2008-2009",null,null,null,null,0,null,0]
["VANNUCCI Emilio","BASTENIER Jean","P",0,2,70,120,"2009-03-07","N1 Ligue T2 ANNOEULLIN","Poules","2008-2009",null,null,null,null,0,null,0]
["VANNUCCI Emilio","GEETS Patrice","G",2,1,168,154,"2009-03-07","N1 Ligue T2 ANNOEULLIN","Poules","2008-2009",null,null,null,null,0,null,0]
["VANNUCCI Emilio","TRUQUET David","G",2,0,120,44,"2009-03-07","N1 Ligue T2 ANNOEULLIN","Poules Consolante","2008-2009",null,null,null,null,0,null,0]
["VANNUCCI Emilio","MARTEL Jean-Pierre","G",2,0,120,63,"2009-03-07","N1 Ligue T2 ANNOEULLIN","Poules Consolante","2008-2009",null,null,null,null,0,null,0]
["VANNUCCI Emilio","LECROART Serge","G",2,0,120,39,"2009-04-11","N1 Ligue T3 DUNKERQUE","Poules","2008-2009",null,null,null,null,0,null,0]
["VANNUCCI Emilio","MARTEL Jean-Pierre","G",2,1,170,110,"2009-04-11","N1 Ligue T3 DUNKERQUE","Poules","2008-2009",null,null,null,null,0,null,0]
["VANNUCCI Emilio","HERREBRECHT Thierry","P",1,2,126,149,"2009-04-11","N1 Ligue T3 DUNKERQUE","1/4 Finale","2008-2009",null,null,null,null,0,null,0]
["VANNUCCI Emilio","RACARY Thibault","G",2,1,138,161,"2010-10-16","N1 Ligue T1 DOUAI","Poules","2010-2011",null,null,null,null,0,null,0]
["VANNUCCI Emilio","MAILLE Bernard","P",1,2,151,163,"2010-10-16","N1 Ligue T1 DOUAI","Poules","2010-2011",null,null,null,null,0,null,0]
["VANNUCCI Emilio","SAINT-GEORGES Claude","G",2,0,120,66,"2010-10-16","N1 Ligue T1 DOUAI","1/8 Finale","2010-2011",null,null,null,null,0,null,0]
["VANNUCCI Emilio","HENNEUSE Patrick","G",2,0,120,60,"2010-10-16","N1 Ligue T1 DOUAI","1/4 Finale","2010-2011",null,null,null,null,0,null,0]
["VANNUCCI Emilio","GEETS Patrice","G",2,1,173,140,"2010-10-16","N1 Ligue T1 DOUAI","1/2 Finale","2010-2011",null,null,null,null,0,null,0]
["VANNUCCI Emilio","WESTEEL Bruno","P",1,2,150,174,"2010-10-16","N1 Ligue T1 DOUAI","Finale","2010-2011",null,null,null,null,0,null,0]
["VANNUCCI Emilio","DEROLEZ Jean-Pierre","G",2,0,120,100,"2010-11-13","N1 Ligue T2 FACHES THUMESNIL","Poules","2010-2011",null,null,null,null,0,null,0]
["VANNUCCI Emilio","MAILLE Bernard","P",0,2,85,120,"2010-11-13","N1 Ligue T2 FACHES THUMESNIL","Poules","2010-2011",null,null,null,null,0,null,0]
["VANNUCCI Emilio","SKORDILIS Christo","G",2,1,170,127,"2010-11-13","N1 Ligue T2 FACHES THUMESNIL","Poules Consolante","2010-2011",null,null,null,null,0,null,0]
["VANNUCCI Emilio","LORTHIOIR Jean-Luc","G",2,0,120,55,"2010-11-13","N1 Ligue T2 FACHES THUMESNIL","Poules Consolante","2010-2011",null,null,null,null,0,null,0]
["VANNUCCI Emilio","POULEYN André","G",2,1,159,139,"2010-12-03","National T3 FACHES THUMESNIL - RONCHIN","Préqualifs","2010-2011",null,null,null,null,0,null,0]
["VANNUCCI Emilio","MAILLE Bernard","G",2,1,148,167,"2010-12-03","National T3 FACHES THUMESNIL - RONCHIN","Préqualifs","2010-2011",null,null,null,null,0,null,0]
["VANNUCCI Emilio","GUILLEMANT Jean-Marc","G",2,0,120,87,"2010-12-03","National T3 FACHES THUMESNIL - RONCHIN","Préqualifs","2010-2011",null,null,null,null,0,null,0]
["VANNUCCI Emilio","FAUCOMPREZ Didier","G",3,1,211,197,"2010-12-04","National T3 FACHES THUMESNIL - RONCHIN","Qualifs promotion","2010-2011",null,null,null,null,0,null,0]
["VANNUCCI Emilio","GEETS Patrice","G",3,1,238,190,"2010-12-04","National T3 FACHES THUMESNIL - RONCHIN","Qualifs promotion","2010-2011",null,null,null,null,0,null,0]
["VANNUCCI Emilio","WESTEEL Bruno","P",1,3,141,214,"2010-12-05","National T3 FACHES THUMESNIL - RONCHIN","1/8 finale promotion","2010-2011",null,null,null,null,0,null,0]
["VANNUCCI Emilio","FONTAINE Christian","P",1,2,136,146,"2011-01-15","N1 Ligue T4 DIVION","Poules","2010-2011",null,null,null,null,0,null,0]
["VANNUCCI Emilio","VEREECQUE Ludovic","G",2,1,161,164,"2011-01-15","N1 Ligue T4 DIVION","Poules","2010-2011",null,null,null,null,0,null,0]
["VANNUCCI Emilio","CLYNCKE Jean-Jacques","G",2,1,164,154,"2011-01-15","N1 Ligue T4 DIVION","Poules Consolante","2010-2011",null,null,null,null,0,null,0]
["VANNUCCI Emilio","CLYNCKE Jean-Jacques","G",2,1,169,125,"2011-01-15","N1 Ligue T4 DIVION","Poules Consolante","2010-2011",null,null,null,null,0,null,0]
["Fin des données",null,null,null,null,null,null,null,null,null,"",null,null,null,null,{"$f":"IF($K50=P$1,COUNTIF($C50,\"G\"),0)","v":0},null,{"$f":"IF($K50=R$1,COUNTIF($C50,\"G\"),0)","v":0}]

{"sheet":"VEREECQUE Bernard","index":89,"n_rows":21,"n_cols":22,"rows_kept":21,"cut":false,"hidden":false,"merged":[]}
["VEREECQUE Bernard",null,null,null,null,null,null,null,null,null,null,null,null,null,null,{"$f":"Récapitulatif!$B$2","v":"2014-2015"},null,{"$f":"Récapitulatif!$B$3","v":"2015-2016"},null,"Toutes saisons"]
["<Club>",null,null,null,null,null,null,null,null,null,null,null,null,null,null,"Nombre","%age","Nombre","%age","Nombre","%age"]
["<Licence>",null,null,null,null,null,null,null,null,null,null,null,null,"Matchs","Gagnés",{"$f":"SUM(P$15:P$21)","v":0},{"$f":"IF(P$3+P$4>0,P3/(P$3+P$4),\"\")","v":""},{"$f":"SUM(R$15:R$21)","v":0},{"$f":"IF(R$3+R$4>0,R3/(R$3+R$4),\"\")","v":""},{"$f":"COUNTIF($C$15:$C$21,\"G\")","v":2},{"$f":"IF(T$3+T$4>0,T3/(T$3+T$4),\"\")","v":0.4}]
["<Tel>",null,null,null,null,null,null,null,null,null,null,null,null,null,"Perdus",{"$f":"COUNTIF($K$15:$K$21,Récapitulatif!$B$2)-P3","v":0},{"$f":"IF(P$3+P$4>0,P4/(P$3+P$4),\"\")","v":""},{"$f":"COUNTIF($K$15:$K$21,Récapitulatif!$B$3)-R3","v":0},{"$f":"IF(R$3+R$4>0,R4/(R$3+R$4),\"\")","v":""},{"$f":"COUNTIF($C$15:$C$21,\"P\")","v":3},{"$f":"IF(T$3+T$4>0,T4/(T$3+T$4),\"\")","v":0.6}]
["<email>",null,null,null,null,null,null,null,null,null,null,null,null,null,"Total / Moy.",{"$f":"SUM(P3:P4)","v":0},{"$f":"IF(SUMIF($K$15:$K$21,Récapitulatif!$B$2,$G$15:$G$21)>0,SUMIF($K$15:$K$21,Récapitulatif!$B$2,$F$15:$F$21)/SUMIF($K$15:$K$21,Récapitulatif!$B$2,$G$15:$G$21),\"\")","v":""},{"$f":"SUM(R3:R4)","v":0},{"$f":"IF(SUMIF($K$15:$K$21,Récapitulatif!$B$3,$G$15:$G$21)>0,SUMIF($K$15:$K$21,Récapitulatif!$B$3,$F$15:$F$21)/SUMIF($K$15:$K$21,Récapitulatif!$B$3,$G$15:$G$21),\"\")","v":""},{"$f":"SUM(T3:T4)","v":5},{"$f":"IF(SUM($G$15:$G$21)>0,SUM($F$15:$F$21)/SUM($G$15:$G$21),\"\")","v":0.73833333333333329},{"$f":"IF(SUMIF($K$15:$K$21,Récapitulatif!$B$2,$G$15:$G$21)+SUMIF($K$15:$K$21,Récapitulatif!$B$3,$G$15:$G$21)>0,(SUMIF($K$15:$K$21,Récapitulatif!$B$2,$F$15:$F$21)+SUMIF($K$15:$K$21,Récapitulatif!$B$3,$F$15:$F$21))/(SUMIF($K$15:$K$21,Récapitulatif!$B$2,$G$15:$G$21)+SUMIF($K$15:$K$21,Récapitulatif!$B$3,$G$15:$G$21)),\"\")","v":""}]
[null,null,null,null,null,null,null,null,null,null,null,null,null,"Sets","Gagnés",{"$f":"SUMIF($K$15:$K$21,Récapitulatif!$B$2,$D$15:$D$21)","v":0},{"$f":"IF(P$6+P$7>0,P6/(P$6+P$7),\"\")","v":""},{"$f":"SUMIF($K$15:$K$21,Récapitulatif!$B$3,$D$15:$D$21)","v":0},{"$f":"IF(R$6+R$7>0,R6/(R$6+R$7),\"\")","v":""},{"$f":"SUM($D$15:$D$21)","v":3},{"$f":"IF(T$6+T$7>0,T6/(T$6+T$7),\"\")","v":0.33333333333333331}]
[null,null,null,null,null,null,null,null,null,null,null,null,null,null,"Perdus",{"$f":"SUMIF($K$15:$K$21,Récapitulatif!$B$2,$E$15:$E$21)","v":0},{"$f":"IF(P$6+P$7>0,P7/(P$6+P$7),\"\")","v":""},{"$f":"SUMIF($K$15:$K$21,Récapitulatif!$B$3,$E$15:$E$21)","v":0},{"$f":"IF(R$6+R$7>0,R7/(R$6+R$7),\"\")","v":""},{"$f":"SUM($E$15:$E$21)","v":6},{"$f":"IF(T$6+T$7>0,T7/(T$6+T$7),\"\")","v":0.66666666666666663}]
["Récapitulatif joueurs",null,null,null,null,null,null,null,null,null,null,null,null,null,"Total",{"$f":"SUM(P6:P7)","v":0},null,{"$f":"SUM(R6:R7)","v":0},null,{"$f":"SUM(T6:T7)","v":9}]
[]
[]
[]
[]
[]
[]
["Joueur","Adversaire","G/P","Sets gagnés","Sets perdus","pts marqués","pts subis","Date","Compétition","Phase","Saison"]
["VEREECQUE Bernard","ESTERMANS Bernard","G",2,1,154,170,"2014-04-05","N1 Ligue T3 GRAVELINES","Poules",{"$f":"IF(H16<>\"\",IF(MONTH(H16)>MoisRef,YEAR(H16)&\"-\"&YEAR(H16)+1,YEAR(H16)-1&\"-\"&YEAR(H16)),\"\")","v":"2013-2014"},null,null,null,null,{"$f":"IF($K16=P$1,COUNTIF($C16,\"G\"),0)","v":0},null,{"$f":"IF($K16=R$1,COUNTIF($C16,\"G\"),0)","v":0}]
["VEREECQUE Bernard","DELSOL Philippe","P",0,2,54,120,"2014-04-05","N1 Ligue T3 GRAVELINES","Poules","2013-2014",null,null,null,null,0,null,0]
["VEREECQUE Bernard","DELSOL Philippe","P",0,2,70,120,"2014-04-05","N1 Ligue T3 GRAVELINES","1/8 Finale","2013-2014",null,null,null,null,0,null,0]
["VEREECQUE Bernard","ALDEGUER Lionel","P",0,1,65,100,"2014-04-05","N1 Ligue T3 GRAVELINES","Poules Consolante","2013-2014",null,null,null,null,0,null,0]
["VEREECQUE Bernard","PARISIS Francis","G",1,0,100,90,"2014-04-05","N1 Ligue T3 GRAVELINES","Poules Consolante","2013-2014",null,null,null,null,0,null,0]
["Fin des données",null,null,null,null,null,null,null,null,null,"",null,null,null,null,0,null,0]

{"sheet":"VEREECQUE Ludovic","index":90,"n_rows":91,"n_cols":22,"rows_kept":91,"cut":false,"hidden":false,"merged":[]}
["VEREECQUE Ludovic",null,null,null,null,null,null,null,null,null,null,null,null,null,null,{"$f":"Récapitulatif!$B$2","v":"2014-2015"},null,{"$f":"Récapitulatif!$B$3","v":"2015-2016"},null,"Toutes saisons"]
["ST POL SUR MER",null,null,null,null,null,null,null,null,null,null,null,null,null,null,"Nombre","%age","Nombre","%age","Nombre","%age"]
["017231-T",null,null,null,null,null,null,null,null,null,null,null,null,"Matchs","Gagnés",{"$f":"SUM(P$15:P$91)","v":1},{"$f":"IF(P$3+P$4>0,P3/(P$3+P$4),\"\")","v":0.33333333333333331},{"$f":"SUM(R$15:R$91)","v":3},{"$f":"IF(R$3+R$4>0,R3/(R$3+R$4),\"\")","v":0.42857142857142855},{"$f":"COUNTIF($C$15:$C$91,\"G\")","v":37},{"$f":"IF(T$3+T$4>0,T3/(T$3+T$4),\"\")","v":0.49333333333333335}]
[null,null,null,null,null,null,null,null,null,null,null,null,null,null,"Perdus",{"$f":"COUNTIF($K$15:$K$91,Récapitulatif!$B$2)-P3","v":2},{"$f":"IF(P$3+P$4>0,P4/(P$3+P$4),\"\")","v":0.66666666666666663},{"$f":"COUNTIF($K$15:$K$91,Récapitulatif!$B$3)-R3","v":4},{"$f":"IF(R$3+R$4>0,R4/(R$3+R$4),\"\")","v":0.5714285714285714},{"$f":"COUNTIF($C$15:$C$91,\"P\")","v":38},{"$f":"IF(T$3+T$4>0,T4/(T$3+T$4),\"\")","v":0.50666666666666671}]
["verludo59180@live.fr",null,null,null,null,null,null,null,null,null,null,null,null,null,"Total / Moy.",{"$f":"SUM(P3:P4)","v":3},{"$f":"IF(SUMIF($K$15:$K$91,Récapitulatif!$B$2,$G$15:$G$91)>0,SUMIF($K$15:$K$91,Récapitulatif!$B$2,$F$15:$F$91)/SUMIF($K$15:$K$91,Récapitulatif!$B$2,$G$15:$G$91),\"\")","v":0.85135135135135132},{"$f":"SUM(R3:R4)","v":7},{"$f":"IF(SUMIF($K$15:$K$91,Récapitulatif!$B$3,$G$15:$G$91)>0,SUMIF($K$15:$K$91,Récapitulatif!$B$3,$F$15:$F$91)/SUMIF($K$15:$K$91,Récapitulatif!$B$3,$G$15:$G$91),\"\")","v":0.94597701149425284},{"$f":"SUM(T3:T4)","v":75},{"$f":"IF(SUM($G$15:$G$91)>0,SUM($F$15:$F$91)/SUM($G$15:$G$91),\"\")","v":0.99406047516198703},{"$f":"IF(SUMIF($K$15:$K$91,Récapitulatif!$B$2,$G$15:$G$91)+SUMIF($K$15:$K$91,Récapitulatif!$B$3,$G$15:$G$91)>0,(SUMIF($K$15:$K$91,Récapitulatif!$B$2,$F$15:$F$91)+SUMIF($K$15:$K$91,Récapitulatif!$B$3,$F$15:$F$91))/(SUMIF($K$15:$K$91,Récapitulatif!$B$2,$G$15:$G$91)+SUMIF($K$15:$K$91,Récapitulatif!$B$3,$G$15:$G$91)),\"\")","v":0.91400304414003042}]
[null,null,null,null,null,null,null,null,null,null,null,null,null,"Sets","Gagnés",{"$f":"SUMIF($K$15:$K$91,Récapitulatif!$B$2,$D$15:$D$91)","v":3},{"$f":"IF(P$6+P$7>0,P6/(P$6+P$7),\"\")","v":0.375},{"$f":"SUMIF($K$15:$K$91,Récapitulatif!$B$3,$D$15:$D$91)","v":8},{"$f":"IF(R$6+R$7>0,R6/(R$6+R$7),\"\")","v":0.44444444444444442},{"$f":"SUM($D$15:$D$91)","v":91},{"$f":"IF(T$6+T$7>0,T6/(T$6+T$7),\"\")","v":0.49189189189189192}]
[null,null,null,null,null,null,null,null,null,null,null,null,null,null,"Perdus",{"$f":"SUMIF($K$15:$K$91,Récapitulatif!$B$2,$E$15:$E$91)","v":5},{"$f":"IF(P$6+P$7>0,P7/(P$6+P$7),\"\")","v":0.625},{"$f":"SUMIF($K$15:$K$91,Récapitulatif!$B$3,$E$15:$E$91)","v":10},{"$f":"IF(R$6+R$7>0,R7/(R$6+R$7),\"\")","v":0.55555555555555558},{"$f":"SUM($E$15:$E$91)","v":94},{"$f":"IF(T$6+T$7>0,T7/(T$6+T$7),\"\")","v":0.50810810810810814}]
["Récapitulatif joueurs",null,null,null,null,null,null,null,null,null,null,null,null,null,"Total",{"$f":"SUM(P6:P7)","v":8},null,{"$f":"SUM(R6:R7)","v":18},null,{"$f":"SUM(T6:T7)","v":185}]
[]
[]
[]
[]
[]
[]
["Joueur","Adversaire","G/P","Sets gagnés","Sets perdus","pts marqués","pts subis","Date","Compétition","Phase","Saison"]
["VEREECQUE Ludovic","DUVERNOY Christophe","P",0,2,64,120,"2009-12-04","National T2 ANNOEULLIN","Préqualifs",{"$f":"IF(H16<>\"\",IF(MONTH(H16)>MoisRef,YEAR(H16)&\"-\"&YEAR(H16)+1,YEAR(H16)-1&\"-\"&YEAR(H16)),\"\")","v":"2009-2010"},null,null,null,null,{"$f":"IF($K16=P$1,COUNTIF($C16,\"G\"),0)","v":0},null,{"$f":"IF($K16=R$1,COUNTIF($C16,\"G\"),0)","v":0}]
["VEREECQUE Ludovic","PERRIN Eric","P",0,2,72,120,"2009-12-04","National T2 ANNOEULLIN","Préqualifs","2009-2010",null,null,null,null,0,null,0]
["VEREECQUE Ludovic","EVENOU Marie-Antoinette","G",2,0,120,42,"2009-12-04","National T2 ANNOEULLIN","Préqualifs","2009-2010",null,null,null,null,0,null,0]
["VEREECQUE Ludovic","DAVOINE Bruno","P",1,3,156,238,"2009-12-05","National T2 ANNOEULLIN","Qualifs promotion","2009-2010",null,null,null,null,0,null,0]
["VEREECQUE Ludovic","ROBERGE Bruno","P",2,3,242,284,"2009-12-05","National T2 ANNOEULLIN","Qualifs promotion","2009-2010",null,null,null,null,0,null,0]
["VEREECQUE Ludovic","MARTEL Jean-Pierre","G",2,0,120,82,"2010-10-16","N1 Ligue T1 DOUAI","Poules","2010-2011",null,null,null,null,0,null,0]
["VEREECQUE Ludovic","HENNEUSE Patrick","P",0,2,96,120,"2010-10-16","N1 Ligue T1 DOUAI","Poules","2010-2011",null,null,null,null,0,null,0]
["VEREECQUE Ludovic","WESTEEL Bruno","P",0,2,58,120,"2010-10-16","N1 Ligue T1 DOUAI","1/8 Finale","2010-2011",null,null,null,null,0,null,0]
["VEREECQUE Ludovic","LEMÂTRE Jérémy","P",1,2,141,172,"2010-11-13","N1 Ligue T2 FACHES THUMESNIL","Poules","2010-2011",null,null,null,null,0,null,0]
["VEREECQUE Ludovic","RACARY Thibault","P",1,2,112,144,"2010-11-13","N1 Ligue T2 FACHES THUMESNIL","Poules","2010-2011",null,null,null,null,0,null,0]
["VEREECQUE Ludovic","CAUX Frédéric","G",2,0,120,63,"2010-11-13","N1 Ligue T2 FACHES THUMESNIL","Poules Consolante","2010-2011",null,null,null,null,0,null,0]
["VEREECQUE Ludovic","CARPENTIER Yohanne","G",2,0,120,69,"2010-11-13","N1 Ligue T2 FACHES THUMESNIL","Poules Consolante","2010-2011",null,null,null,null,0,null,0]
["VEREECQUE Ludovic","ESTERMANS Bernard","G",2,1,171,125,"2010-12-11","N1 Ligue T3 GRAVELINES","Poules","2010-2011",null,null,null,null,0,null,0]
["VEREECQUE Ludovic","MAILLE Bernard","P",0,2,68,120,"2010-12-11","N1 Ligue T3 GRAVELINES","Poules","2010-2011",null,null,null,null,0,null,0]
["VEREECQUE Ludovic","DEROLEZ Jean-Pierre","G",2,1,124,133,"2010-12-11","N1 Ligue T3 GRAVELINES","Poules Consolante","2010-2011",null,null,null,null,0,null,0]
["VEREECQUE Ludovic","LECROART Serge","G",2,1,149,98,"2010-12-11","N1 Ligue T3 GRAVELINES","Poules Consolante","2010-2011",null,null,null,null,0,null,0]
["VEREECQUE Ludovic","FAUCOMPREZ Didier","P",1,2,165,164,"2010-12-11","N1 Ligue T3 GRAVELINES","1/2 Finale Consolante","2010-2011",null,null,null,null,0,null,0]
["VEREECQUE Ludovic","GREMAIN Gino","P",0,2,59,120,"2010-12-03","National T3 FACHES THUMESNIL - RONCHIN","Préqualifs","2010-2011",null,null,null,null,0,null,0]
["VEREECQUE Ludovic","GOUTHIER Alain","G",2,0,120,75,"2010-12-03","National T3 FACHES THUMESNIL - RONCHIN","Préqualifs","2010-2011",null,null,null,null,0,null,0]
["VEREECQUE Ludovic","DELATTRE Hervé","G",2,0,120,79,"2010-12-03","National T3 FACHES THUMESNIL - RONCHIN","Préqualifs","2010-2011",null,null,null,null,0,null,0]
["VEREECQUE Ludovic","POULEYN André","G",3,1,209,161,"2010-12-04","National T3 FACHES THUMESNIL - RONCHIN","Qualifs promotion","2010-2011",null,null,null,null,0,null,0]
["VEREECQUE Ludovic","PONCHANT Grégory","G",3,2,257,246,"2010-12-04","National T3 FACHES THUMESNIL - RONCHIN","Qualifs promotion","2010-2011",null,null,null,null,0,null,0]
["VEREECQUE Ludovic","DEMILLY Jean-Sébastien","P",2,3,228,244,"2010-12-05","National T3 FACHES THUMESNIL - RONCHIN","1/8 finale promotion","2010-2011",null,null,null,null,0,null,0]
["VEREECQUE Ludovic","FONTAINE Christian","P",0,2,91,120,"2011-01-15","N1 Ligue T4 DIVION","Poules","2010-2011",null,null,null,null,0,null,0]
["VEREECQUE Ludovic","VANNUCCI Emilio","P",1,2,164,161,"2011-01-15","N1 Ligue T4 DIVION","Poules","2010-2011",null,null,null,null,0,null,0]
["VEREECQUE Ludovic","TRIPLET Gilbert","G",2,1,157,104,"2011-01-15","N1 Ligue T4 DIVION","Poules Consolante","2010-2011",null,null,null,null,0,null,0]
["VEREECQUE Ludovic","LORTHIOIR Jean-Luc","G",2,0,120,55,"2011-01-15","N1 Ligue T4 DIVION","Poules Consolante","2010-2011",null,null,null,null,0,null,0]
["VEREECQUE Ludovic","RAUX Jean-François","G",2,1,145,124,"2011-01-15","N1 Ligue T4 DIVION","1/2 Finale Consolante","2010-2011",null,null,null,null,0,null,0]
["VEREECQUE Ludovic","DEROLEZ Jean-Pierre","P",1,2,159,166,"2011-10-15","N1 Ligue T1 DIVION","Poules","2011-2012",null,null,null,null,0,null,0]
["VEREECQUE Ludovic","HERREBRECHT Thierry","P",1,2,110,167,"2011-10-15","N1 Ligue T1 DIVION","Poules","2011-2012",null,null,null,null,0,null,0]
["VEREECQUE Ludovic","DEVOS Jackie","P",0,1,52,100,"2011-10-15","N1 Ligue T1 DIVION","Poules Consolante","2011-2012",null,null,null,null,0,null,0]
["VEREECQUE Ludovic","DEVOS Jackie","G",1,0,100,89,"2011-10-15","N1 Ligue T1 DIVION","Poules Consolante","2011-2012",null,null,null,null,0,null,0]
["VEREECQUE Ludovic","CLYNCKE Jean-Jacques","G",1,0,100,97,"2011-11-19","N1 Ligue T2 DOUAI","Poules Consolante","2011-2012",null,null,null,null,0,null,0]
["VEREECQUE Ludovic","WALLART Jean-Charles","P",0,1,97,100,"2011-11-19","N1 Ligue T2 DOUAI","Poules Consolante","2011-2012",null,null,null,null,0,null,0]
["VEREECQUE Ludovic","LORTHIOIR Jean-Luc","G",1,0,100,48,"2011-11-19","N1 Ligue T2 DOUAI","1/2 Finale Consolante","2011-2012",null,null,null,null,0,null,0]
["VEREECQUE Ludovic","KAYA Turgul","G",1,0,100,78,"2011-11-19","N1 Ligue T2 DOUAI","Finale Consolante","2011-2012",null,null,null,null,0,null,0]
["VEREECQUE Ludovic","LORTHIOIR Jean-Luc","G",2,0,120,94,"2011-11-19","N1 Ligue T2 DOUAI","Poules","2011-2012",null,null,null,null,0,null,0]
["VEREECQUE Ludovic","DELSOL Philippe","P",0,2,101,120,"2011-11-19","N1 Ligue T2 DOUAI","Poules","2011-2012",null,null,null,null,0,null,0]
["VEREECQUE Ludovic","GEETS Patrice","P",0,2,77,120,"2011-11-19","N1 Ligue T2 DOUAI","1/8 Finale","2011-2012",null,null,null,null,0,null,0]
["VEREECQUE Ludovic","GAUQUIE Serge","P",1,2,172,164,"2012-01-07","N1 Ligue T3 FACHES THUMESNIL","Poules","2011-2012",null,null,null,null,0,null,0]
["VEREECQUE Ludovic","CAUX Frédéric","P",0,2,89,120,"2012-01-07","N1 Ligue T3 FACHES THUMESNIL","Poules","2011-2012",null,null,null,null,0,null,0]
["VEREECQUE Ludovic","ESTERMANS Bernard","G",2,0,120,84,"2012-01-28","N1 Ligue T4 GRAVELINES","Poules","2011-2012",null,null,null,null,0,null,0]
["VEREECQUE Ludovic","RACARY Thibault","P",0,2,44,120,"2012-01-28","N1 Ligue T4 GRAVELINES","Poules","2011-2012",null,null,null,null,0,null,0]
["VEREECQUE Ludovic","CAUX Frédéric","G",2,1,144,136,"2012-01-28","N1 Ligue T4 GRAVELINES","1/8 Finale","2011-2012",null,null,null,null,0,null,0]
["VEREECQUE Ludovic","RACARY Thibault","P",0,2,77,120,"2012-01-28","N1 Ligue T4 GRAVELINES","1/4 Finale","2011-2012",null,null,null,null,0,null,0]
["VEREECQUE Ludovic","ZEUDE Alain","G",2,0,120,65,"2012-10-13","N1 Ligue T1 ANNOEULLIN","Poules","2012-2013",null,null,null,null,0,null,0]
["VEREECQUE Ludovic","LHERMITTE Cédric","G",2,1,173,167,"2012-10-13","N1 Ligue T1 ANNOEULLIN","Poules","2012-2013",null,null,null,null,0,null,0]
["VEREECQUE Ludovic","FLEURANT Richard","G",2,1,144,155,"2012-10-13","N1 Ligue T1 ANNOEULLIN","1/8 Finale","2012-2013",null,null,null,null,0,null,0]
["VEREECQUE Ludovic","DELSOL Philippe","P",0,2,85,120,"2012-10-13","N1 Ligue T1 ANNOEULLIN","1/4 Finale","2012-2013",null,null,null,null,0,null,0]
["VEREECQUE Ludovic","CAUX Grégory","P",0,2,109,120,"2012-10-27","N1 Ligue T2 BRUAY sur ESCAUT","Poules","2012-2013",null,null,null,null,0,null,0]
["VEREECQUE Ludovic","CAUX Grégory","G",2,1,162,135,"2012-10-27","N1 Ligue T2 BRUAY sur ESCAUT","Poules","2012-2013",null,null,null,null,0,null,0]
["VEREECQUE Ludovic","PARISIS Francis","G",2,0,120,40,"2012-11-24","N1 Ligue T3 CALAIS","Poules","2012-2013",null,null,null,null,0,null,0]
["VEREECQUE Ludovic","DEROLEZ Jean-Pierre","G",2,0,120,86,"2012-11-24","N1 Ligue T3 CALAIS","Poules","2012-2013",null,null,null,null,0,null,0]
["VEREECQUE Ludovic","TURPIN Laurent","G",2,0,120,100,"2012-11-24","N1 Ligue T3 CALAIS","1/8 Finale","2012-2013",null,null,null,null,0,null,0]
["VEREECQUE Ludovic","SAINT-GEORGES Claude","P",0,2,73,120,"2012-11-24","N1 Ligue T3 CALAIS","1/4 Finale","2012-2013",null,null,null,null,0,null,0]
["VEREECQUE Ludovic","LECROART Serge","G",2,0,120,85,"2012-12-15","N1 Ligue T4 VILLENEUVE D'ASCQ","Poules","2012-2013",null,null,null,null,0,null,0]
["VEREECQUE Ludovic","SAINT-GEORGES Claude","P",1,2,141,162,"2012-12-15","N1 Ligue T4 VILLENEUVE D'ASCQ","Poules","2012-2013",null,null,null,null,0,null,0]
["VEREECQUE Ludovic","DELSOL Philippe","P",0,2,44,120,"2012-12-15","N1 Ligue T4 VILLENEUVE D'ASCQ","1/4 Finale","2012-2013",null,null,null,null,0,null,0]
["VEREECQUE Ludovic","DEPLECHIN Robert","G",2,0,120,93,"2014-03-15","N1 Ligue T2 FACHES THUMESNIL","Poules","2013-2014",null,null,null,null,0,null,0]
["VEREECQUE Ludovic","CLYNCKE Jean-Jacques","G",2,1,170,116,"2014-03-15","N1 Ligue T2 FACHES THUMESNIL","Poules","2013-2014",null,null,null,null,0,null,0]
["VEREECQUE Ludovic","DEROLEZ Jean-Pierre","P",1,2,126,134,"2014-03-15","N1 Ligue T2 FACHES THUMESNIL","1/4 Finale","2013-2014",null,null,null,null,0,null,0]
["VEREECQUE Ludovic","VERPOORT José","G",2,1,165,140,"2014-04-05","N1 Ligue T3 GRAVELINES","Poules","2013-2014",null,null,null,null,0,null,0]
["VEREECQUE Ludovic","CLYNCKE Jean-Jacques","P",1,2,145,158,"2014-04-05","N1 Ligue T3 GRAVELINES","Poules","2013-2014",null,null,null,null,0,null,0]
["VEREECQUE Ludovic","VERHAGHE Dominique","G",2,0,120,48,"2014-04-05","N1 Ligue T3 GRAVELINES","1/8 Finale","2013-2014",null,null,null,null,0,null,0]
["VEREECQUE Ludovic","CLYNCKE Jean-Jacques","P",1,2,97,156,"2014-04-05","N1 Ligue T3 GRAVELINES","1/4 Finale","2013-2014",null,null,null,null,0,null,0]
["VEREECQUE Ludovic","FRADET David","G",2,1,165,171,"2015-01-17","N1 Ligue T1 DUNKERQUE","Poules","2014-2015",null,null,null,null,1,null,0]
["VEREECQUE Ludovic","LEMÂTRE Jérémy","P",1,2,150,153,"2015-01-17","N1 Ligue T1 DUNKERQUE","Poules","2014-2015",null,null,null,null,0,null,0]
["VEREECQUE Ludovic","LEMÂTRE Jérémy","P",0,2,63,120,"2015-01-17","N1 Ligue T1 DUNKERQUE","1/8 Finale","2014-2015",null,null,null,null,0,null,0]
["VEREECQUE Ludovic","LORTHIOIR Jean-Luc","G",2,0,120,68,"2015-12-04","T1 LIGUE 5 QUILLES N1 - FACHES-THUMESNIL","Poules","2015-2016",null,null,null,null,0,null,1]
["VEREECQUE Ludovic","GEETS Patrice","P",1,2,136,156,"2015-12-04","T1 LIGUE 5 QUILLES N1 - FACHES-THUMESNIL","Poules","2015-2016",null,null,null,null,0,null,0]
["VEREECQUE Ludovic","DELSOL Philippe","P",0,2,45,120,"2015-12-04","T1 LIGUE 5 QUILLES N1 - FACHES-THUMESNIL","1/4 Finale","2015-2016",null,null,null,null,0,null,0]
["VEREECQUE Ludovic","LECLERCQ Alain","G",2,1,137,139,"2016-01-09","T2  LIGUE 5 QUILLES N1 - GRAVELINES","Qualifications","2015-2016",null,null,null,null,0,null,1]
["VEREECQUE Ludovic","DEROLEZ Jean-Pierre","P",1,2,158,171,"2016-01-09","T2  LIGUE 5 QUILLES N1 - GRAVELINES","Qualifications","2015-2016",null,null,null,null,0,null,0]
["VEREECQUE Ludovic","DEROLEZ Jean-Pierre","G",2,1,165,96,"2016-01-09","T2  LIGUE 5 QUILLES N1 - GRAVELINES","1/8 Finale","2015-2016",null,null,null,null,0,null,1]
["VEREECQUE Ludovic","MAILLE Bernard","P",0,2,62,120,"2016-01-09","T2  LIGUE 5 QUILLES N1 - GRAVELINES","1/4 Finale","2015-2016",null,null,null,null,0,null,0]
["Fin des données",null,null,null,null,null,null,null,null,null,"",null,null,null,null,0,null,0]

{"sheet":"VERHAGHE Dominique","index":91,"n_rows":37,"n_cols":22,"rows_kept":37,"cut":false,"hidden":false,"merged":[]}
["VERHAGHE Dominique",null,null,null,null,null,null,null,null,null,null,null,null,null,null,{"$f":"Récapitulatif!$B$2","v":"2014-2015"},null,{"$f":"Récapitulatif!$B$3","v":"2015-2016"},null,"Toutes saisons"]
["<Club>",null,null,null,null,null,null,null,null,null,null,null,null,null,null,"Nombre","%age","Nombre","%age","Nombre","%age"]
["<Licence>",null,null,null,null,null,null,null,null,null,null,null,null,"Matchs","Gagnés",{"$f":"SUM(P$15:P$37)","v":5},{"$f":"IF(P$3+P$4>0,P3/(P$3+P$4),\"\")","v":0.38461538461538464},{"$f":"SUM(R$15:R$37)","v":0},{"$f":"IF(R$3+R$4>0,R3/(R$3+R$4),\"\")","v":""},{"$f":"COUNTIF($C$15:$C$37,\"G\")","v":9},{"$f":"IF(T$3+T$4>0,T3/(T$3+T$4),\"\")","v":0.42857142857142855}]
["<Tel>",null,null,null,null,null,null,null,null,null,null,null,null,null,"Perdus",{"$f":"COUNTIF($K$15:$K$37,Récapitulatif!$B$2)-P3","v":8},{"$f":"IF(P$3+P$4>0,P4/(P$3+P$4),\"\")","v":0.61538461538461542},{"$f":"COUNTIF($K$15:$K$37,Récapitulatif!$B$3)-R3","v":0},{"$f":"IF(R$3+R$4>0,R4/(R$3+R$4),\"\")","v":""},{"$f":"COUNTIF($C$15:$C$37,\"P\")","v":12},{"$f":"IF(T$3+T$4>0,T4/(T$3+T$4),\"\")","v":0.5714285714285714}]
["<email>",null,null,null,null,null,null,null,null,null,null,null,null,null,"Total / Moy.",{"$f":"SUM(P3:P4)","v":13},{"$f":"IF(SUMIF($K$15:$K$37,Récapitulatif!$B$2,$G$15:$G$37)>0,SUMIF($K$15:$K$37,Récapitulatif!$B$2,$F$15:$F$37)/SUMIF($K$15:$K$37,Récapitulatif!$B$2,$G$15:$G$37),\"\")","v":0.90337934316991908},{"$f":"SUM(R3:R4)","v":0},{"$f":"IF(SUMIF($K$15:$K$37,Récapitulatif!$B$3,$G$15:$G$37)>0,SUMIF($K$15:$K$37,Récapitulatif!$B$3,$F$15:$F$37)/SUMIF($K$15:$K$37,Récapitulatif!$B$3,$G$15:$G$37),\"\")","v":""},{"$f":"SUM(T3:T4)","v":21},{"$f":"IF(SUM($G$15:$G$37)>0,SUM($F$15:$F$37)/SUM($G$15:$G$37),\"\")","v":0.94180754226267882},{"$f":"IF(SUMIF($K$15:$K$37,Récapitulatif!$B$2,$G$15:$G$37)+SUMIF($K$15:$K$37,Récapitulatif!$B$3,$G$15:$G$37)>0,(SUMIF($K$15:$K$37,Récapitulatif!$B$2,$F$15:$F$37)+SUMIF($K$15:$K$37,Récapitulatif!$B$3,$F$15:$F$37))/(SUMIF($K$15:$K$37,Récapitulatif!$B$2,$G$15:$G$37)+SUMIF($K$15:$K$37,Récapitulatif!$B$3,$G$15:$G$37)),\"\")","v":0.90337934316991908}]
[null,null,null,null,null,null,null,null,null,null,null,null,null,"Sets","Gagnés",{"$f":"SUMIF($K$15:$K$37,Récapitulatif!$B$2,$D$15:$D$37)","v":18},{"$f":"IF(P$6+P$7>0,P6/(P$6+P$7),\"\")","v":0.43902439024390244},{"$f":"SUMIF($K$15:$K$37,Récapitulatif!$B$3,$D$15:$D$37)","v":0},{"$f":"IF(R$6+R$7>0,R6/(R$6+R$7),\"\")","v":""},{"$f":"SUM($D$15:$D$37)","v":28},{"$f":"IF(T$6+T$7>0,T6/(T$6+T$7),\"\")","v":0.45901639344262296}]
[null,null,null,null,null,null,null,null,null,null,null,null,null,null,"Perdus",{"$f":"SUMIF($K$15:$K$37,Récapitulatif!$B$2,$E$15:$E$37)","v":23},{"$f":"IF(P$6+P$7>0,P7/(P$6+P$7),\"\")","v":0.56097560975609762},{"$f":"SUMIF($K$15:$K$37,Récapitulatif!$B$3,$E$15:$E$37)","v":0},{"$f":"IF(R$6+R$7>0,R7/(R$6+R$7),\"\")","v":""},{"$f":"SUM($E$15:$E$37)","v":33},{"$f":"IF(T$6+T$7>0,T7/(T$6+T$7),\"\")","v":0.54098360655737709}]
["Récapitulatif joueurs",null,null,null,null,null,null,null,null,null,null,null,null,null,"Total",{"$f":"SUM(P6:P7)","v":41},null,{"$f":"SUM(R6:R7)","v":0},null,{"$f":"SUM(T6:T7)","v":61}]
[]
[]
[]
[]
[]
[]
["Joueur","Adversaire","G/P","Sets gagnés","Sets perdus","pts marqués","pts subis","Date","Compétition","Phase","Saison"]
["VERHAGHE Dominique","GROLLET Fabien","P",1,2,168,175,"2014-01-04","N1 Ligue T1 ANNOEULLIN","Poules",{"$f":"IF(H16<>\"\",IF(MONTH(H16)>MoisRef,YEAR(H16)&\"-\"&YEAR(H16)+1,YEAR(H16)-1&\"-\"&YEAR(H16)),\"\")","v":"2013-2014"},null,null,null,null,{"$f":"IF($K16=P$1,COUNTIF($C16,\"G\"),0)","v":0},null,{"$f":"IF($K16=R$1,COUNTIF($C16,\"G\"),0)","v":0}]
["VERHAGHE Dominique","WALLART Jean-Charles","P",1,2,162,155,"2014-01-04","N1 Ligue T1 ANNOEULLIN","Poules","2013-2014",null,null,null,null,0,null,0]
["VERHAGHE Dominique","DEROLEZ Jean-Pierre","G",2,0,120,86,"2014-03-15","N1 Ligue T2 FACHES THUMESNIL","Poules","2013-2014",null,null,null,null,0,null,0]
["VERHAGHE Dominique","SAINT-GEORGES Claude","G",2,1,162,129,"2014-03-15","N1 Ligue T2 FACHES THUMESNIL","Poules","2013-2014",null,null,null,null,0,null,0]
["VERHAGHE Dominique","DELSOL Philippe","P",0,2,68,120,"2014-03-15","N1 Ligue T2 FACHES THUMESNIL","1/4 Finale","2013-2014",null,null,null,null,0,null,0]
["VERHAGHE Dominique","LORTHIOIR Jean-Luc","G",2,0,120,91,"2014-04-05","N1 Ligue T3 GRAVELINES","Poules","2013-2014",null,null,null,null,0,null,0]
["VERHAGHE Dominique","LORTHIOIR Jean-Luc","G",2,1,151,99,"2014-04-05","N1 Ligue T3 GRAVELINES","Poules","2013-2014",null,null,null,null,0,null,0]
["VERHAGHE Dominique","VEREECQUE Ludovic","P",0,2,48,120,"2014-04-05","N1 Ligue T3 GRAVELINES","1/8 Finale","2013-2014",null,null,null,null,0,null,0]
["VERHAGHE DOMINIQUE","SUSCA GIOVANNI","G",3,1,226,174,"2014-10-18","National T1 GRAVELINES","Qualifs promotion","2014-2015",null,null,null,null,1,null,0]
["VERHAGHE DOMINIQUE","ROUBY GUILLAUME","P",1,3,134,225,"2014-10-18","National T1 GRAVELINES","Qualifs promotion","2014-2015",null,null,null,null,0,null,0]
["VERHAGHE DOMINIQUE","COTTEN JEAN-PIERRE","P",1,3,187,216,"2014-10-18","National T1 GRAVELINES","Qualifs promotion","2014-2015",null,null,null,null,0,null,0]
["VERHAGHE Dominique","LORTHIOIR Jean-Luc","G",2,0,120,82,"2014-11-28","National T2 FACHES THUMESNIL - RONCHIN","Préqualifs","2014-2015",null,null,null,null,1,null,0]
["VERHAGHE Dominique","GUILLEMANT David","P",0,2,53,120,"2014-11-28","National T2 FACHES THUMESNIL - RONCHIN","Préqualifs","2014-2015",null,null,null,null,0,null,0]
["VERHAGHE Dominique","PALOMBA Sergio","P",1,2,135,172,"2014-11-28","National T2 FACHES THUMESNIL - RONCHIN","Préqualifs","2014-2015",null,null,null,null,0,null,0]
["VERHAGHE Dominique","GANGLOFF Jean-Luc","G",3,2,288,220,"2014-11-29","National T2 FACHES THUMESNIL - RONCHIN","Qualifs promotion","2014-2015",null,null,null,null,1,null,0]
["VERHAGHE Dominique","GEETS Patrice","P",1,3,170,239,"2014-11-29","National T2 FACHES THUMESNIL - RONCHIN","Qualifs promotion","2014-2015",null,null,null,null,0,null,0]
["VERHAGHE Dominique","PALOMBA Sergio","P",2,3,231,223,"2014-11-29","National T2 FACHES THUMESNIL - RONCHIN","Qualifs promotion","2014-2015",null,null,null,null,0,null,0]
["VERHAGHE Dominique","DEPLECHIN Robert","G",2,0,120,89,"2015-02-07","N1 Ligue T2 CALAIS","Poules","2014-2015",null,null,null,null,1,null,0]
["VERHAGHE Dominique","SAINT-GEORGES Claude","P",0,2,49,120,"2015-02-07","N1 Ligue T2 CALAIS","Poules","2014-2015",null,null,null,null,0,null,0]
["VERHAGHE Dominique","CAUX Frédéric","G",2,0,120,101,"2015-02-07","N1 Ligue T2 CALAIS","1/8 Finale","2014-2015",null,null,null,null,1,null,0]
["VERHAGHE Dominique","LEMÂTRE Alexis","P",0,2,65,120,"2015-02-07","N1 Ligue T2 CALAIS","1/4 Finale","2014-2015",null,null,null,null,0,null,0]
["Fin des données",null,null,null,null,null,null,null,null,null,"",null,null,null,null,{"$f":"IF($K37=P$1,COUNTIF($C37,\"G\"),0)","v":0},null,{"$f":"IF($K37=R$1,COUNTIF($C37,\"G\"),0)","v":0}]

{"sheet":"VERPOORT José","index":92,"n_rows":20,"n_cols":22,"rows_kept":20,"cut":false,"hidden":false,"merged":[]}
["VERPOORT José",null,null,null,null,null,null,null,null,null,null,null,null,null,null,{"$f":"Récapitulatif!$B$2","v":"2014-2015"},null,{"$f":"Récapitulatif!$B$3","v":"2015-2016"},null,"Toutes saisons"]
["<Club>",null,null,null,null,null,null,null,null,null,null,null,null,null,null,"Nombre","%age","Nombre","%age","Nombre","%age"]
["<Licence>",null,null,null,null,null,null,null,null,null,null,null,null,"Matchs","Gagnés",{"$f":"SUM(P$15:P$20)","v":0},{"$f":"IF(P$3+P$4>0,P3/(P$3+P$4),\"\")","v":""},{"$f":"SUM(R$15:R$20)","v":0},{"$f":"IF(R$3+R$4>0,R3/(R$3+R$4),\"\")","v":""},{"$f":"COUNTIF($C$15:$C$20,\"G\")","v":1},{"$f":"IF(T$3+T$4>0,T3/(T$3+T$4),\"\")","v":0.25}]
["<Tel>",null,null,null,null,null,null,null,null,null,null,null,null,null,"Perdus",{"$f":"COUNTIF($K$15:$K$20,Récapitulatif!$B$2)-P3","v":0},{"$f":"IF(P$3+P$4>0,P4/(P$3+P$4),\"\")","v":""},{"$f":"COUNTIF($K$15:$K$20,Récapitulatif!$B$3)-R3","v":0},{"$f":"IF(R$3+R$4>0,R4/(R$3+R$4),\"\")","v":""},{"$f":"COUNTIF($C$15:$C$20,\"P\")","v":3},{"$f":"IF(T$3+T$4>0,T4/(T$3+T$4),\"\")","v":0.75}]
["<email>",null,null,null,null,null,null,null,null,null,null,null,null,null,"Total / Moy.",{"$f":"SUM(P3:P4)","v":0},{"$f":"IF(SUMIF($K$15:$K$20,Récapitulatif!$B$2,$G$15:$G$20)>0,SUMIF($K$15:$K$20,Récapitulatif!$B$2,$F$15:$F$20)/SUMIF($K$15:$K$20,Récapitulatif!$B$2,$G$15:$G$20),\"\")","v":""},{"$f":"SUM(R3:R4)","v":0},{"$f":"IF(SUMIF($K$15:$K$20,Récapitulatif!$B$3,$G$15:$G$20)>0,SUMIF($K$15:$K$20,Récapitulatif!$B$3,$F$15:$F$20)/SUMIF($K$15:$K$20,Récapitulatif!$B$3,$G$15:$G$20),\"\")","v":""},{"$f":"SUM(T3:T4)","v":4},{"$f":"IF(SUM($G$15:$G$20)>0,SUM($F$15:$F$20)/SUM($G$15:$G$20),\"\")","v":0.85682326621923932},{"$f":"IF(SUMIF($K$15:$K$20,Récapitulatif!$B$2,$G$15:$G$20)+SUMIF($K$15:$K$20,Récapitulatif!$B$3,$G$15:$G$20)>0,(SUMIF($K$15:$K$20,Récapitulatif!$B$2,$F$15:$F$20)+SUMIF($K$15:$K$20,Récapitulatif!$B$3,$F$15:$F$20))/(SUMIF($K$15:$K$20,Récapitulatif!$B$2,$G$15:$G$20)+SUMIF($K$15:$K$20,Récapitulatif!$B$3,$G$15:$G$20)),\"\")","v":""}]
[null,null,null,null,null,null,null,null,null,null,null,null,null,"Sets","Gagnés",{"$f":"SUMIF($K$15:$K$20,Récapitulatif!$B$2,$D$15:$D$20)","v":0},{"$f":"IF(P$6+P$7>0,P6/(P$6+P$7),\"\")","v":""},{"$f":"SUMIF($K$15:$K$20,Récapitulatif!$B$3,$D$15:$D$20)","v":0},{"$f":"IF(R$6+R$7>0,R6/(R$6+R$7),\"\")","v":""},{"$f":"SUM($D$15:$D$20)","v":2},{"$f":"IF(T$6+T$7>0,T6/(T$6+T$7),\"\")","v":0.2857142857142857}]
[null,null,null,null,null,null,null,null,null,null,null,null,null,null,"Perdus",{"$f":"SUMIF($K$15:$K$20,Récapitulatif!$B$2,$E$15:$E$20)","v":0},{"$f":"IF(P$6+P$7>0,P7/(P$6+P$7),\"\")","v":""},{"$f":"SUMIF($K$15:$K$20,Récapitulatif!$B$3,$E$15:$E$20)","v":0},{"$f":"IF(R$6+R$7>0,R7/(R$6+R$7),\"\")","v":""},{"$f":"SUM($E$15:$E$20)","v":5},{"$f":"IF(T$6+T$7>0,T7/(T$6+T$7),\"\")","v":0.7142857142857143}]
["Récapitulatif joueurs",null,null,null,null,null,null,null,null,null,null,null,null,null,"Total",{"$f":"SUM(P6:P7)","v":0},null,{"$f":"SUM(R6:R7)","v":0},null,{"$f":"SUM(T6:T7)","v":7}]
[]
[]
[]
[]
[]
[]
["Joueur","Adversaire","G/P","Sets gagnés","Sets perdus","pts marqués","pts subis","Date","Compétition","Phase","Saison"]
["VERPOORT José","VEREECQUE Ludovic","P",1,2,140,165,"2014-04-05","N1 Ligue T3 GRAVELINES","Poules",{"$f":"IF(H16<>\"\",IF(MONTH(H16)>MoisRef,YEAR(H16)&\"-\"&YEAR(H16)+1,YEAR(H16)-1&\"-\"&YEAR(H16)),\"\")","v":"2013-2014"},null,null,null,null,{"$f":"IF($K16=P$1,COUNTIF($C16,\"G\"),0)","v":0},null,{"$f":"IF($K16=R$1,COUNTIF($C16,\"G\"),0)","v":0}]
["VERPOORT José","CLYNCKE Jean-Jacques","P",0,2,64,120,"2014-04-05","N1 Ligue T3 GRAVELINES","Poules",{"$f":"IF(H17<>\"\",IF(MONTH(H17)>MoisRef,YEAR(H17)&\"-\"&YEAR(H17)+1,YEAR(H17)-1&\"-\"&YEAR(H17)),\"\")","v":"2013-2014"},null,null,null,null,{"$f":"IF($K17=P$1,COUNTIF($C17,\"G\"),0)","v":0},null,{"$f":"IF($K17=R$1,COUNTIF($C17,\"G\"),0)","v":0}]
["VERPOORT José","PAILLARD Bertrand","G",1,0,100,62,"2014-04-05","N1 Ligue T3 GRAVELINES","Poules Consolante",{"$f":"IF(H18<>\"\",IF(MONTH(H18)>MoisRef,YEAR(H18)&\"-\"&YEAR(H18)+1,YEAR(H18)-1&\"-\"&YEAR(H18)),\"\")","v":"2013-2014"},null,null,null,null,{"$f":"IF($K18=P$1,COUNTIF($C18,\"G\"),0)","v":0},null,{"$f":"IF($K18=R$1,COUNTIF($C18,\"G\"),0)","v":0}]
["VERPOORT José","DEROLEZ Jean-Pierre","P",0,1,79,100,"2014-04-05","N1 Ligue T3 GRAVELINES","Poules Consolante",{"$f":"IF(H19<>\"\",IF(MONTH(H19)>MoisRef,YEAR(H19)&\"-\"&YEAR(H19)+1,YEAR(H19)-1&\"-\"&YEAR(H19)),\"\")","v":"2013-2014"},null,null,null,null,{"$f":"IF($K19=P$1,COUNTIF($C19,\"G\"),0)","v":0},null,{"$f":"IF($K19=R$1,COUNTIF($C19,\"G\"),0)","v":0}]
["Fin des données",null,null,null,null,null,null,null,null,null,{"$f":"IF(H20<>\"\",IF(MONTH(H20)>MoisRef,YEAR(H20)&\"-\"&YEAR(H20)+1,YEAR(H20)-1&\"-\"&YEAR(H20)),\"\")","v":""},null,null,null,null,{"$f":"IF($K20=P$1,COUNTIF($C20,\"G\"),0)","v":0},null,{"$f":"IF($K20=R$1,COUNTIF($C20,\"G\"),0)","v":0}]

{"sheet":"WALLART Jean-Charles","index":93,"n_rows":393,"n_cols":22,"rows_kept":393,"cut":false,"hidden":false,"merged":[]}
["WALLART Jean-Charles",null,null,null,null,null,null,null,null,null,null,null,null,null,null,{"$f":"Récapitulatif!$B$2","v":"2014-2015"},null,{"$f":"Récapitulatif!$B$3","v":"2015-2016"},null,"Toutes saisons"]
["FACHES-THUMESNIL",null,null,null,null,null,null,null,null,null,null,null,null,null,null,"Nombre","%age","Nombre","%age","Nombre","%age"]
["017219-H",null,null,null,null,null,null,null,null,null,null,null,null,"Matchs","Gagnés",{"$f":"SUM(P$15:P$393)","v":21},{"$f":"IF(P$3+P$4>0,P3/(P$3+P$4),\"\")","v":0.58333333333333337},{"$f":"SUM(R$15:R$393)","v":29},{"$f":"IF(R$3+R$4>0,R3/(R$3+R$4),\"\")","v":0.57999999999999996},{"$f":"COUNTIF($C$15:$C$393,\"G\")","v":207},{"$f":"IF(T$3+T$4>0,T3/(T$3+T$4),\"\")","v":0.54907161803713533}]
["06 86 43 84 56",null,null,null,null,null,null,null,null,null,null,null,null,null,"Perdus",{"$f":"COUNTIF($K$15:$K$393,Récapitulatif!$B$2)-P3","v":15},{"$f":"IF(P$3+P$4>0,P4/(P$3+P$4),\"\")","v":0.41666666666666669},{"$f":"COUNTIF($K$15:$K$393,Récapitulatif!$B$3)-R3","v":21},{"$f":"IF(R$3+R$4>0,R4/(R$3+R$4),\"\")","v":0.42},{"$f":"COUNTIF($C$15:$C$393,\"P\")","v":170},{"$f":"IF(T$3+T$4>0,T4/(T$3+T$4),\"\")","v":0.45092838196286472}]
["jcwallart@fr.ibm.com",null,null,null,null,null,null,null,null,null,null,null,null,null,"Total / Moy.",{"$f":"SUM(P3:P4)","v":36},{"$f":"IF(SUMIF($K$15:$K$393,Récapitulatif!$B$2,$G$15:$G$393)>0,SUMIF($K$15:$K$393,Récapitulatif!$B$2,$F$15:$F$393)/SUMIF($K$15:$K$393,Récapitulatif!$B$2,$G$15:$G$393),\"\")","v":1.0746},{"$f":"SUM(R3:R4)","v":50},{"$f":"IF(SUMIF($K$15:$K$393,Récapitulatif!$B$3,$G$15:$G$393)>0,SUMIF($K$15:$K$393,Récapitulatif!$B$3,$F$15:$F$393)/SUMIF($K$15:$K$393,Récapitulatif!$B$3,$G$15:$G$393),\"\")","v":1.0976971388695045},{"$f":"SUM(T3:T4)","v":377},{"$f":"IF(SUM($G$15:$G$393)>0,SUM($F$15:$F$393)/SUM($G$15:$G$393),\"\")","v":1.0470342304677294},{"$f":"IF(SUMIF($K$15:$K$393,Récapitulatif!$B$2,$G$15:$G$393)+SUMIF($K$15:$K$393,Récapitulatif!$B$3,$G$15:$G$393)>0,(SUMIF($K$15:$K$393,Récapitulatif!$B$2,$F$15:$F$393)+SUMIF($K$15:$K$393,Récapitulatif!$B$3,$F$15:$F$393))/(SUMIF($K$15:$K$393,Récapitulatif!$B$2,$G$15:$G$393)+SUMIF($K$15:$K$393,Récapitulatif!$B$3,$G$15:$G$393)),\"\")","v":1.0882038635429512}]
[null,null,null,null,null,null,null,null,null,null,null,null,null,"Sets","Gagnés",{"$f":"SUMIF($K$15:$K$393,Récapitulatif!$B$2,$D$15:$D$393)","v":53},{"$f":"IF(P$6+P$7>0,P6/(P$6+P$7),\"\")","v":0.51960784313725494},{"$f":"SUMIF($K$15:$K$393,Récapitulatif!$B$3,$D$15:$D$393)","v":85},{"$f":"IF(R$6+R$7>0,R6/(R$6+R$7),\"\")","v":0.57046979865771807},{"$f":"SUM($D$15:$D$393)","v":584},{"$f":"IF(T$6+T$7>0,T6/(T$6+T$7),\"\")","v":0.52376681614349774}]
[null,null,null,null,null,null,null,null,null,null,null,null,null,null,"Perdus",{"$f":"SUMIF($K$15:$K$393,Récapitulatif!$B$2,$E$15:$E$393)","v":49},{"$f":"IF(P$6+P$7>0,P7/(P$6+P$7),\"\")","v":0.48039215686274511},{"$f":"SUMIF($K$15:$K$393,Récapitulatif!$B$3,$E$15:$E$393)","v":64},{"$f":"IF(R$6+R$7>0,R7/(R$6+R$7),\"\")","v":0.42953020134228187},{"$f":"SUM($E$15:$E$393)","v":531},{"$f":"IF(T$6+T$7>0,T7/(T$6+T$7),\"\")","v":0.47623318385650226}]
["Récapitulatif joueurs",null,null,null,null,null,null,null,null,null,null,null,null,null,"Total",{"$f":"SUM(P6:P7)","v":102},null,{"$f":"SUM(R6:R7)","v":149},null,{"$f":"SUM(T6:T7)","v":1115}]
[]
[]
[]
[]
[]
[]
["Joueur","Adversaire","G/P","Sets gagnés","Sets perdus","pts marqués","pts subis","Date","Compétition","Phase","Saison"]
["WALLART Jean-Charles","SACRE Jean-Yves","P",0,2,77,120,"2008-10-10","National T1 MAISONS ALFORT","Préqualifs",{"$f":"IF(H16<>\"\",IF(MONTH(H16)>MoisRef,YEAR(H16)&\"-\"&YEAR(H16)+1,YEAR(H16)-1&\"-\"&YEAR(H16)),\"\")","v":"2008-2009"},null,null,null,null,{"$f":"IF($K16=P$1,COUNTIF($C16,\"G\"),0)","v":0},null,{"$f":"IF($K16=R$1,COUNTIF($C16,\"G\"),0)","v":0}]
["WALLART Jean-Charles","DAVOINE Bruno","P",1,2,139,174,"2008-10-10","National T1 MAISONS ALFORT","Préqualifs","2008-2009",null,null,null,null,0,null,0]
["WALLART Jean-Charles","BRETEL Gérard","G",2,0,120,80,"2008-10-10","National T1 MAISONS ALFORT","Préqualifs","2008-2009",null,null,null,null,0,null,0]
["WALLART Jean-Charles","DAVOINE Bruno","P",0,3,106,180,"2008-10-11","National T1 MAISONS ALFORT","Qualifs promotion","2008-2009",null,null,null,null,0,null,0]
["WALLART Jean-Charles","CLYNCKE Jean-Jacques","G",3,2,277,233,"2008-10-11","National T1 MAISONS ALFORT","Qualifs promotion","2008-2009",null,null,null,null,0,null,0]
["WALLART Jean-Charles","DAVOINE Bruno","P",0,3,140,180,"2008-10-11","National T1 MAISONS ALFORT","Qualifs promotion","2008-2009",null,null,null,null,0,null,0]
["WALLART Jean-Charles","SAINT-GEORGES Claude","P",0,2,91,120,"2008-11-14","National T2 SCHILTIGHEIM","Préqualifs","2008-2009",null,null,null,null,0,null,0]
["WALLART Jean-Charles","MARCHISSEAU Stéphane","P",0,2,95,120,"2008-11-14","National T2 SCHILTIGHEIM","Préqualifs","2008-2009",null,null,null,null,0,null,0]
["WALLART Jean-Charles","EVENOU Marie-Antoinette","G",2,0,120,55,"2008-11-14","National T2 SCHILTIGHEIM","Préqualifs","2008-2009",null,null,null,null,0,null,0]
["WALLART Jean-Charles","SORTAIS Claude","P",2,3,262,268,"2008-11-15","National T2 SCHILTIGHEIM","Qualifs promotion","2008-2009",null,null,null,null,0,null,0]
["WALLART Jean-Charles","CLYNCKE Jean-Jacques","G",3,2,248,244,"2008-11-15","National T2 SCHILTIGHEIM","Qualifs promotion","2008-2009",null,null,null,null,0,null,0]
["WALLART Jean-Charles","SORTAIS Claude","P",1,3,194,234,"2008-11-15","National T2 SCHILTIGHEIM","Qualifs promotion","2008-2009",null,null,null,null,0,null,0]
["WALLART Jean-Charles","JACQ Laurent","G",2,1,164,168,"2008-12-12","National T3 ANNOEULLIN","Préqualifs","2008-2009",null,null,null,null,0,null,0]
["WALLART Jean-Charles","BAYON Pascal","P",0,2,77,120,"2008-12-12","National T3 ANNOEULLIN","Préqualifs","2008-2009",null,null,null,null,0,null,0]
["WALLART Jean-Charles","DELSOL Philippe","P",0,2,57,120,"2008-12-12","National T3 ANNOEULLIN","Préqualifs","2008-2009",null,null,null,null,0,null,0]
["WALLART Jean-Charles","GUILLEMANT Jean-Marc","P",0,2,72,120,"2009-02-06","National T4 LAXOU","Préqualifs","2008-2009",null,null,null,null,0,null,0]
["WALLART Jean-Charles","BAGNON David","G",2,1,169,141,"2009-02-06","National T4 LAXOU","Préqualifs","2008-2009",null,null,null,null,0,null,0]
["WALLART Jean-Charles","BAYON Pascal","P",1,2,122,153,"2009-02-06","National T4 LAXOU","Préqualifs","2008-2009",null,null,null,null,0,null,0]
["WALLART Jean-Charles","DEMILLY Jean-Sébastien","P",1,3,164,234,"2009-02-07","National T4 LAXOU","Qualifs promotion","2008-2009",null,null,null,null,0,null,0]
["WALLART Jean-Charles","SCHUB Philippe","G",3,0,180,88,"2009-02-07","National T4 LAXOU","Qualifs promotion","2008-2009",null,null,null,null,0,null,0]
["WALLART Jean-Charles","DEMILLY Jean-Sébastien","P",0,3,91,180,"2009-02-07","National T4 LAXOU","Qualifs promotion","2008-2009",null,null,null,null,0,null,0]
["WALLART Jean-Charles","CARPENTIER Yohanne","P",1,2,115,168,"2009-02-14","N1 Ligue T1 ARRAS","Poules","2008-2009",null,null,null,null,0,null,0]
["WALLART Jean-Charles","CAUX Frédéric","G",2,0,120,52,"2009-02-14","N1 Ligue T1 ARRAS","Poules","2008-2009",null,null,null,null,0,null,0]
["WALLART Jean-Charles","MAILLE Bernard","G",2,1,157,144,"2009-02-14","N1 Ligue T1 ARRAS","1/4 Finale","2008-2009",null,null,null,null,0,null,0]
["WALLART Jean-Charles","GREMAIN Gino","P",0,2,105,120,"2009-02-14","N1 Ligue T1 ARRAS","1/2 Finale","2008-2009",null,null,null,null,0,null,0]
["WALLART Jean-Charles","HERREBRECHT Thierry","P",0,2,95,120,"2009-03-07","N1 Ligue T2 ANNOEULLIN","Poules","2008-2009",null,null,null,null,0,null,0]
["WALLART Jean-Charles","TRUQUET David","G",2,0,120,84,"2009-03-07","N1 Ligue T2 ANNOEULLIN","Poules","2008-2009",null,null,null,null,0,null,0]
["WALLART Jean-Charles","MAILLE Bernard","G",2,0,120,71,"2009-03-07","N1 Ligue T2 ANNOEULLIN","Poules Consolante","2008-2009",null,null,null,null,0,null,0]
["WALLART Jean-Charles","HULOT Sophie","G",2,0,120,75,"2009-03-07","N1 Ligue T2 ANNOEULLIN","Poules Consolante","2008-2009",null,null,null,null,0,null,0]
["WALLART Jean-Charles","BASTENIER Jean","G",2,1,178,163,"2009-03-20","National T5 ANDERNOS","Préqualifs","2008-2009",null,null,null,null,0,null,0]
["WALLART Jean-Charles","PALOMBA Sergio","P",1,2,147,161,"2009-03-20","National T5 ANDERNOS","Préqualifs","2008-2009",null,null,null,null,0,null,0]
["WALLART Jean-Charles","GREMAIN Gino","P",1,2,133,163,"2009-03-20","National T5 ANDERNOS","Préqualifs","2008-2009",null,null,null,null,0,null,0]
["WALLART Jean-Charles","BASTENIER Jean","P",2,3,224,237,"2009-03-21","National T5 ANDERNOS","Qualifs promotion",{"$f":"IF(H48<>\"\",IF(MONTH(H48)>MoisRef,YEAR(H48)&\"-\"&YEAR(H48)+1,YEAR(H48)-1&\"-\"&YEAR(H48)),\"\")","v":"2008-2009"},null,null,null,null,0,null,0]
["WALLART Jean-Charles","ANE Jean-Marie","G",3,2,290,226,"2009-03-21","National T5 ANDERNOS","Qualifs promotion","2008-2009",null,null,null,null,0,null,0]
["WALLART Jean-Charles","CLYNCKE Jean-Jacques","G",3,0,180,112,"2009-03-21","National T5 ANDERNOS","Qualifs promotion","2008-2009",null,null,null,null,0,null,0]
["WALLART Jean-Charles","DUPOUY Daniel","G",3,2,247,249,"2009-03-22","National T5 ANDERNOS","1/8 finale promotion","2008-2009",null,null,null,null,0,null,0]
["WALLART Jean-Charles","BOUTET Laurent","P",0,3,76,180,"2009-03-22","National T5 ANDERNOS"," 1/4 finale promotion","2008-2009",null,null,null,null,0,null,0]
["WALLART Jean-Charles","CAUX Frédéric","G",2,1,179,145,"2009-04-11","N1 Ligue T3 DUNKERQUE","Poules","2008-2009",null,null,null,null,0,null,0]
["WALLART Jean-Charles","BASTENIER Jean","G",2,0,120,63,"2009-04-11","N1 Ligue T3 DUNKERQUE","Poules","2008-2009",null,null,null,null,0,null,0]
["WALLART Jean-Charles","SAINT-GEORGES Claude","P",0,2,100,120,"2009-04-11","N1 Ligue T3 DUNKERQUE","1/4 Finale","2008-2009",null,null,null,null,0,null,0]
["WALLART Jean-Charles","J. BLANC","G",2,0,120,102,"2009-04-17","National T6 CAUDAN","Préqualifs","2008-2009",null,null,null,null,0,null,0]
["WALLART Jean-Charles","REBELO Joaquim","G",2,0,120,107,"2009-04-17","National T6 CAUDAN","Préqualifs","2008-2009",null,null,null,null,0,null,0]
["WALLART Jean-Charles","DEBRAY Alain","P",1,2,126,156,"2009-04-17","National T6 CAUDAN","Préqualifs","2008-2009",null,null,null,null,0,null,0]
["WALLART Jean-Charles","GANGLOFF Jean-Luc","G",3,1,229,174,"2009-04-18","National T6 CAUDAN","Qualifs promotion","2008-2009",null,null,null,null,0,null,0]
["WALLART Jean-Charles","TIRALONGO Sébastien","G",3,2,264,231,"2009-04-18","National T6 CAUDAN","Qualifs promotion","2008-2009",null,null,null,null,0,null,0]
["WALLART Jean-Charles","PERRIN Eric","P",2,3,219,273,"2009-04-19","National T6 CAUDAN","1/8 finale promotion","2008-2009",null,null,null,null,0,null,0]
["WALLART Jean-Charles","GOUSSETIS Georges","P",0,2,67,120,"2009-11-06","National T1 SCHILTIGHEIM","Préqualifs","2009-2010",null,null,null,null,0,null,0]
["WALLART Jean-Charles","PERRIN Eric","P",0,2,75,120,"2009-11-06","National T1 SCHILTIGHEIM","Préqualifs","2009-2010",null,null,null,null,0,null,0]
["WALLART Jean-Charles","DENIS Jacqueline","G",2,0,120,66,"2009-11-06","National T1 SCHILTIGHEIM","Préqualifs","2009-2010",null,null,null,null,0,null,0]
["WALLART Jean-Charles","ZILLIG Pierre","P",2,3,226,253,"2009-11-07","National T1 SCHILTIGHEIM","Qualifs promotion","2009-2010",null,null,null,null,0,null,0]
["WALLART Jean-Charles","JACQ Laurent","P",2,3,287,270,"2009-11-07","National T1 SCHILTIGHEIM","Qualifs promotion","2009-2010",null,null,null,null,0,null,0]
["WALLART Jean-Charles","HORNAIN Denis","G",2,1,167,144,"2009-11-21","N1 Ligue T1 GRAVELINES","Poules","2009-2010",null,null,null,null,0,null,0]
["WALLART Jean-Charles","LECROART Serge","G",2,1,160,111,"2009-11-21","N1 Ligue T1 GRAVELINES","Poules","2009-2010",null,null,null,null,0,null,0]
["WALLART Jean-Charles","MAILLE Bernard","P",1,2,144,171,"2009-11-21","N1 Ligue T1 GRAVELINES","1/4 Finale","2009-2010",null,null,null,null,0,null,0]
["WALLART Jean-Charles","EVENOU Roger","G",2,0,120,68,"2009-12-04","National T2 ANNOEULLIN","Préqualifs","2009-2010",null,null,null,null,0,null,0]
["WALLART Jean-Charles","JUBLOT Denis","P",0,2,79,120,"2009-12-04","National T2 ANNOEULLIN","Préqualifs","2009-2010",null,null,null,null,0,null,0]
["WALLART Jean-Charles","RACARY Thibault","G",2,0,120,47,"2009-12-04","National T2 ANNOEULLIN","Préqualifs","2009-2010",null,null,null,null,0,null,0]
["WALLART Jean-Charles","LHERMITTE Cédric","P",2,3,285,269,"2009-12-05","National T2 ANNOEULLIN","Qualifs promotion","2009-2010",null,null,null,null,0,null,0]
["WALLART Jean-Charles","RACARY Thibault","G",3,2,254,277,"2009-12-05","National T2 ANNOEULLIN","Qualifs promotion","2009-2010",null,null,null,null,0,null,0]
["WALLART Jean-Charles","LHERMITTE Cédric","G",3,0,180,77,"2009-12-05","National T2 ANNOEULLIN","Qualifs promotion","2009-2010",null,null,null,null,0,null,0]
["WALLART Jean-Charles","WESTEEL Bruno","P",1,3,173,225,"2009-12-06","National T2 ANNOEULLIN","1/8 finale promotion","2009-2010",null,null,null,null,0,null,0]
["WALLART Jean-Charles","HENNEUSE Patrick","P",1,2,140,159,"2009-12-19","N1 Ligue T2 ANNOEULLIN","Poules","2009-2010",null,null,null,null,0,null,0]
["WALLART Jean-Charles","MARTEL Jean-Pierre","G",2,0,120,108,"2009-12-19","N1 Ligue T2 ANNOEULLIN","Poules","2009-2010",null,null,null,null,0,null,0]
["WALLART Jean-Charles","DELSOL Philippe","P",0,2,59,120,"2009-12-19","N1 Ligue T2 ANNOEULLIN","1/4 Finale","2009-2010",null,null,null,null,0,null,0]
["WALLART Jean-Charles","SAINT-GEORGES Claude","G",2,0,120,70,"2010-01-16","N1 Ligue T3 ANNOEULLIN","Poules",{"$f":"IF(H80<>\"\",IF(MONTH(H80)>MoisRef,YEAR(H80)&\"-\"&YEAR(H80)+1,YEAR(H80)-1&\"-\"&YEAR(H80)),\"\")","v":"2009-2010"},null,null,null,null,{"$f":"IF($K80=P$1,COUNTIF($C80,\"G\"),0)","v":0},null,{"$f":"IF($K80=R$1,COUNTIF($C80,\"G\"),0)","v":0}]
["WALLART Jean-Charles","MAUPIN Patrick","G",2,0,120,71,"2010-01-16","N1 Ligue T3 ANNOEULLIN","Poules","2009-2010",null,null,null,null,0,null,0]
["WALLART Jean-Charles","GUILLEMANT Jean-Marc","G",2,1,175,95,"2010-01-16","N1 Ligue T3 ANNOEULLIN","1/4 Finale","2009-2010",null,null,null,null,0,null,0]
["WALLART Jean-Charles","LAMBIASE Guiseppe","P",0,2,94,120,"2010-01-16","N1 Ligue T3 ANNOEULLIN","1/2 Finale","2009-2010",null,null,null,null,0,null,0]
["WALLART Jean-Charles","BASTENIER Jean","P",1,2,129,156,"2010-01-29","National T3 ORLEANS","Préqualifs","2009-2010",null,null,null,null,0,null,0]
["WALLART Jean-Charles","DUVERNOY Christophe","P",0,2,46,120,"2010-01-29","National T3 ORLEANS","Préqualifs","2009-2010",null,null,null,null,0,null,0]
["WALLART Jean-Charles","BALLON Xavier","P",0,2,80,120,"2010-01-29","National T3 ORLEANS","Préqualifs","2009-2010",null,null,null,null,0,null,0]
["WALLART Jean-Charles","SAINT-GEORGES Claude","P",0,2,96,120,"2009-05-09","Finale Ligue N1 ANNOEULLIN","Poules","2008-2009",null,null,null,null,0,null,0]
["WALLART Jean-Charles","GUILLEMANT Jean-Marc","P",1,2,156,176,"2009-05-09","Finale Ligue N1 ANNOEULLIN","Poules","2008-2009",null,null,null,null,0,null,0]
["WALLART Jean-Charles","MAILLE Bernard","P",0,3,150,180,"2009-05-09","Finale Ligue N1 ANNOEULLIN","5ème/6ème place","2008-2009",null,null,null,null,0,null,0]
["WALLART Jean-Charles","TRIPLET Gilbert","G",2,1,171,129,"2010-02-20","N1 Ligue T4 DOUAI","Poules","2009-2010",null,null,null,null,0,null,0]
["WALLART Jean-Charles","CLYNCKE Jean-Jacques","P",1,2,138,167,"2010-02-20","N1 Ligue T4 DOUAI","Poules","2009-2010",null,null,null,null,0,null,0]
["WALLART Jean-Charles","MAILLE Bernard","P",0,2,62,120,"2010-02-20","N1 Ligue T4 DOUAI","1/8 Finale","2009-2010",null,null,null,null,0,null,0]
["WALLART Jean-Charles","GROLLET Fabien","P",0,2,88,120,"2010-02-20","N1 Ligue T4 DOUAI","Poules Consolante","2009-2010",null,null,null,null,0,null,0]
["WALLART Jean-Charles","MASIERO Lorenzo","G",2,0,120,79,"2010-02-20","N1 Ligue T4 DOUAI","Poules Consolante","2009-2010",null,null,null,null,0,null,0]
["WALLART Jean-Charles","BASTENIER Jean","P",1,2,129,156,"2010-01-29","National T3 ORLEANS","Préqualifs","2009-2010",null,null,null,null,0,null,0]
["WALLART Jean-Charles","DUVERNOY Christophe","P",0,2,46,120,"2010-01-29","National T3 ORLEANS","Préqualifs","2009-2010",null,null,null,null,0,null,0]
["WALLART Jean-Charles","BALLON Xavier","P",0,2,80,120,"2010-01-29","National T3 ORLEANS","Préqualifs","2009-2010",null,null,null,null,0,null,0]
["WALLART Jean-Charles","SACRE Jean-Yves","P",1,2,167,173,"2010-02-26","National T4 ROUEN","Préqualifs","2009-2010",null,null,null,null,0,null,0]
["WALLART Jean-Charles","DEMILLY Jean-Sébastien","G",2,1,173,156,"2010-02-26","National T4 ROUEN","Préqualifs","2009-2010",null,null,null,null,0,null,0]
["WALLART Jean-Charles","BONNANI Claude","G",2,0,120,89,"2010-02-26","National T4 ROUEN","Préqualifs","2009-2010",null,null,null,null,0,null,0]
["WALLART Jean-Charles","SAINT-GEORGES Claude","P",0,3,106,180,"2010-02-27","National T4 ROUEN","Qualifs promotion","2009-2010",null,null,null,null,0,null,0]
["WALLART Jean-Charles","SCHUB Philippe","P",2,3,237,248,"2010-02-27","National T4 ROUEN","Qualifs promotion","2009-2010",null,null,null,null,0,null,0]
["WALLART Jean-Charles","LHERMITTE Cédric","P",0,3,121,180,"2010-04-18","Finale Ligue N1 ANNOEULLIN","Poules","2009-2010",null,null,null,null,0,null,0]
["WALLART Jean-Charles","DELSOL Philippe","P",2,3,226,259,"2010-04-18","Finale Ligue N1 ANNOEULLIN","Poules","2009-2010",null,null,null,null,0,null,0]
["WALLART Jean-Charles","MAILLE Bernard","G",3,2,252,180,"2010-04-23","Finale Ligue N1 ANNOEULLIN","5ème/6ème place","2009-2010",null,null,null,null,0,null,0]
["WALLART Jean-Charles","ALEXANDRE Michel","G",2,0,120,62,"2010-04-23","National T6 ANDERNOS","Préqualifs","2009-2010",null,null,null,null,0,null,0]
["WALLART Jean-Charles","GUILLEMANT David","P",0,2,68,120,"2010-04-23","National T6 ANDERNOS","Préqualifs","2009-2010",null,null,null,null,0,null,0]
["WALLART Jean-Charles","J. BLANC","G",2,0,120,88,"2010-04-23","National T6 ANDERNOS","Préqualifs","2009-2010",null,null,null,null,0,null,0]
["WALLART Jean-Charles","GANGLOFF Jean-Luc","G",3,1,224,197,"2010-04-24","National T6 ANDERNOS","Qualifs promotion","2009-2010",null,null,null,null,0,null,0]
["WALLART Jean-Charles","SACRE Jean-Yves","P",1,3,207,228,"2010-04-24","National T6 ANDERNOS","Qualifs promotion","2009-2010",null,null,null,null,0,null,0]
["WALLART Jean-Charles","GANGLOFF Jean-Luc","G",3,1,232,185,"2010-04-24","National T6 ANDERNOS","Qualifs promotion","2009-2010",null,null,null,null,0,null,0]
["WALLART Jean-Charles","SACRE Jean-Yves","G",3,2,261,231,"2010-04-25","National T6 ANDERNOS","1/8 finale promotion","2009-2010",null,null,null,null,0,null,0]
["WALLART Jean-Charles","SORTAIS Claude","P",2,3,242,291,"2010-04-25","National T6 ANDERNOS","1/4 finale promotion","2009-2010",null,null,null,null,0,null,0]
["WALLART Jean-Charles","SCHUB Philippe","G",2,1,178,158,"2010-10-07","National T1 CESTAS","Préqualifs","2010-2011",null,null,null,null,0,null,0]
["WALLART Jean-Charles","MORALES Luis","P",1,2,135,154,"2010-10-07","National T1 CESTAS","Préqualifs","2010-2011",null,null,null,null,0,null,0]
["WALLART Jean-Charles","URSA Eric","G",2,0,120,108,"2010-10-07","National T1 CESTAS","Préqualifs","2010-2011",null,null,null,null,0,null,0]
["WALLART Jean-Charles","LORTHIOIR Jean-Luc","G",3,2,294,248,"2010-10-08","National T1 CESTAS","Qualifs promotion","2010-2011",null,null,null,null,0,null,0]
["WALLART Jean-Charles","SCHUB Philippe","G",3,2,253,233,"2010-10-08","National T1 CESTAS","Qualifs promotion","2010-2011",null,null,null,null,0,null,0]
["WALLART Jean-Charles","DUROYON Didier","G",3,1,239,170,"2010-10-09","National T1 CESTAS","1/8 finale promotion","2010-2011",null,null,null,null,0,null,0]
["WALLART Jean-Charles","DAVOINE Bruno","P",0,3,100,180,"2010-10-09","National T1 CESTAS","1/4 finale promotion","2010-2011",null,null,null,null,0,null,0]
["WALLART Jean-Charles","SKORDILIS Christo","G",2,1,178,148,"2010-10-16","N1 Ligue T1 DOUAI","Poules","2010-2011",null,null,null,null,0,null,0]
["WALLART Jean-Charles","DEROLEZ Jean-Pierre","G",2,0,120,71,"2010-10-16","N1 Ligue T1 DOUAI","Poules","2010-2011",null,null,null,null,0,null,0]
["WALLART Jean-Charles","MARTEL Bruno","P",0,2,88,120,"2010-10-16","N1 Ligue T1 DOUAI","1/8 Finale","2010-2011",null,null,null,null,0,null,0]
["WALLART Jean-Charles","HORNAIN Denis","G",2,1,176,134,"2010-11-13","N1 Ligue T2 FACHES THUMESNIL","Poules","2010-2011",null,null,null,null,0,null,0]
["WALLART Jean-Charles","HORNAIN Denis","P",0,2,91,120,"2010-11-13","N1 Ligue T2 FACHES THUMESNIL","Poules","2010-2011",null,null,null,null,0,null,0]
["WALLART Jean-Charles","DEROLEZ Jean-Pierre","P",0,2,55,120,"2010-11-13","N1 Ligue T2 FACHES THUMESNIL","Poules Consolante","2010-2011",null,null,null,null,0,null,0]
["WALLART Jean-Charles","LEMÂTRE Jérémy","G",2,1,148,138,"2010-11-13","N1 Ligue T2 FACHES THUMESNIL","Poules Consolante","2010-2011",null,null,null,null,0,null,0]
["WALLART Jean-Charles","ZILLIG Pierre","P",0,2,66,120,"2010-11-05","National T2 LAXOU","Préqualifs","2010-2011",null,null,null,null,0,null,0]
["WALLART Jean-Charles","KREMER-LECLAIRE Eric","P",0,2,100,120,"2010-11-05","National T2 LAXOU","Préqualifs","2010-2011",null,null,null,null,0,null,0]
["WALLART Jean-Charles","SIX Jean-Paul","P",1,2,143,158,"2010-11-05","National T2 LAXOU","Préqualifs","2010-2011",null,null,null,null,0,null,0]
["WALLART Jean-Charles","DUVERNOY Christophe","P",2,3,207,275,"2010-11-06","National T2 LAXOU","Qualifs promotion","2010-2011",null,null,null,null,0,null,0]
["WALLART Jean-Charles","DI LEO Francois","G",3,0,180,113,"2010-11-06","National T2 LAXOU","Qualifs promotion","2010-2011",null,null,null,null,0,null,0]
["WALLART Jean-Charles","LORTHIOIR Jean-Luc","G",3,0,180,108,"2010-11-06","National T2 LAXOU","Qualifs promotion","2010-2011",null,null,null,null,0,null,0]
["WALLART Jean-Charles","KREMER-LECLAIRE Eric","G",3,2,263,271,"2010-11-07","National T2 LAXOU","1/8 finale promotion","2010-2011",null,null,null,null,0,null,0]
["WALLART Jean-Charles","SIX Jean-Paul","G",3,1,224,152,"2010-11-07","National T2 LAXOU","1/4 finale promotion","2010-2011",null,null,null,null,0,null,0]
["WALLART Jean-Charles","SORTAIS Claude","P",1,3,229,219,"2010-11-07","National T2 LAXOU","1/2 finale promotion","2010-2011",null,null,null,null,0,null,0]
["WALLART Jean-Charles","MONFLIER Francis","G",2,0,120,30,"2010-12-11","N1 Ligue T3 GRAVELINES","Poules","2010-2011",null,null,null,null,0,null,0]
["WALLART Jean-Charles","POULEYN André","P",1,2,142,132,"2010-12-11","N1 Ligue T3 GRAVELINES","Poules","2010-2011",null,null,null,null,0,null,0]
["WALLART Jean-Charles","SAINT-GEORGES Claude","P",0,2,107,120,"2010-12-11","N1 Ligue T3 GRAVELINES","1/4 Finale","2010-2011",null,null,null,null,0,null,0]
["WALLART Jean-Charles","DELSOL Philippe","P",0,2,63,120,"2010-12-03","National T3 FACHES THUMESNIL - RONCHIN","Préqualifs","2010-2011",null,null,null,null,0,null,0]
["WALLART Jean-Charles","SCHUB Philippe","G",2,1,143,116,"2010-12-03","National T3 FACHES THUMESNIL - RONCHIN","Préqualifs","2010-2011",null,null,null,null,0,null,0]
["WALLART Jean-Charles","KERCRET Geneviève","G",2,0,120,82,"2010-12-03","National T3 FACHES THUMESNIL - RONCHIN","Préqualifs","2010-2011",null,null,null,null,0,null,0]
["WALLART Jean-Charles","ZILLIG Pierre","G",3,2,261,252,"2010-12-04","National T3 FACHES THUMESNIL - RONCHIN","Qualifs promotion","2010-2011",null,null,null,null,0,null,0]
["WALLART Jean-Charles","LEMÂTRE Jérémy","P",0,3,91,180,"2010-12-04","National T3 FACHES THUMESNIL - RONCHIN","Qualifs promotion","2010-2011",null,null,null,null,{"$f":"IF($K144=P$1,COUNTIF($C144,\"G\"),0)","v":0},null,{"$f":"IF($K144=R$1,COUNTIF($C144,\"G\"),0)","v":0}]
["WALLART Jean-Charles","MARCHISSEAU Stéphane","P",2,3,229,245,"2010-12-04","National T3 FACHES THUMESNIL - RONCHIN","Qualifs promotion","2010-2011",null,null,null,null,0,null,0]
["WALLART Jean-Charles","LERICQUE Pierre","G",2,1,168,152,"2011-01-15","N1 Ligue T4 DIVION","Poules","2010-2011",null,null,null,null,0,null,0]
["WALLART Jean-Charles","LECROART Serge","G",2,1,161,135,"2011-01-15","N1 Ligue T4 DIVION","Poules","2010-2011",null,null,null,null,0,null,0]
["WALLART Jean-Charles","LHERMITTE Cédric","G",2,1,134,171,"2011-01-15","N1 Ligue T4 DIVION","1/4 Finale","2010-2011",null,null,null,null,0,null,0]
["WALLART Jean-Charles","GEETS Patrice","P",0,2,73,120,"2011-01-15","N1 Ligue T4 DIVION","1/2 Finale","2010-2011",null,null,null,null,0,null,0]
["WALLART Jean-Charles","GRELLIER Florent","G",2,0,120,78,"2011-02-11","National T4 ROUEN","Préqualifs","2010-2011",null,null,null,null,0,null,0]
["WALLART Jean-Charles","BOUVIER Philippe","G",2,0,120,69,"2011-02-11","National T4 ROUEN","Préqualifs","2010-2011",null,null,null,null,0,null,0]
["WALLART Jean-Charles","JUBLOT Denis","P",0,2,69,120,"2011-02-11","National T4 ROUEN","Préqualifs","2010-2011",null,null,null,null,0,null,0]
["WALLART Jean-Charles","DUROYON Didier","G",3,1,205,221,"2011-02-12","National T4 ROUEN","Qualifs promotion","2010-2011",null,null,null,null,0,null,0]
["WALLART Jean-Charles","MAILLE Bernard","G",3,2,273,225,"2011-02-12","National T4 ROUEN","Qualifs promotion","2010-2011",null,null,null,null,0,null,0]
["WALLART Jean-Charles","DUROYON Didier","G",3,2,267,258,"2011-02-13","National T4 ROUEN","1/8 finale promotion","2010-2011",null,null,null,null,0,null,0]
["WALLART Jean-Charles","JUBLOT Denis","P",0,3,135,180,"2011-02-13","National T4 ROUEN","1/4 finale promotion","2010-2011",null,null,null,null,0,null,0]
["WALLART Jean-Charles","DOUGNAC Nathalie","G",2,0,120,49,"2011-03-25","National T5 BLOIS","Préqualifs","2010-2011",null,null,null,null,0,null,0]
["WALLART Jean-Charles","DUROYON Didier","P",0,2,39,120,"2011-03-25","National T5 BLOIS","Préqualifs","2010-2011",null,null,null,null,0,null,0]
["WALLART Jean-Charles","GOUTHIER Alain","G",2,0,120,48,"2011-03-25","National T5 BLOIS","Préqualifs","2010-2011",null,null,null,null,0,null,0]
["WALLART Jean-Charles","GUILLEMANT Jean-Marc","G",3,1,233,190,"2011-03-26","National T5 BLOIS","Qualifs promotion","2010-2011",null,null,null,null,0,null,0]
["WALLART Jean-Charles","ZILLIG Pierre","P",1,3,167,219,"2011-03-26","National T5 BLOIS","Qualifs promotion","2010-2011",null,null,null,null,0,null,0]
["WALLART Jean-Charles","SEINGIER Jean-Claude","G",3,1,226,177,"2011-03-26","National T5 BLOIS","Qualifs promotion","2010-2011",null,null,null,null,0,null,0]
["WALLART Jean-Charles","HERREBRECHT Thierry","P",1,3,166,233,"2011-03-27","National T5 BLOIS","1/8 finale promotion","2010-2011",null,null,null,null,0,null,0]
["WALLART Jean-Charles","DELSOL Philippe","P",0,3,116,180,"2011-03-19","Finale Ligue N1","Poules","2010-2011",null,null,null,null,0,null,0]
["WALLART Jean-Charles","GEETS Patrice","G",3,2,269,251,"2011-03-19","Finale Ligue N1","Poules","2010-2011",null,null,null,null,0,null,0]
["WALLART Jean-Charles","RACARY Thibault","P",1,3,188,226,"2011-03-19","Finale Ligue N1","1/2 finale","2010-2011",null,null,null,null,0,null,0]
["WALLART Jean-Charles","SAINT-GEORGES Claude","G",3,0,180,64,"2011-03-19","Finale Ligue N1","3ème 4ème","2010-2011",null,null,null,null,0,null,0]
["WALLART Jean-Charles","AUCLAIR Henri","P",1,2,147,179,"2011-04-15","National T6 CHAMPAGNE sur SEINE / NANDY","Préqualifs","2010-2011",null,null,null,null,0,null,0]
["WALLART Jean-Charles","FAUCOMPREZ Didier","G",2,1,154,107,"2011-04-15","National T6 CHAMPAGNE sur SEINE / NANDY","Préqualifs","2010-2011",null,null,null,null,0,null,0]
["WALLART Jean-Charles","FONTAINE Isabelle","G",2,1,164,141,"2011-04-15","National T6 CHAMPAGNE sur SEINE / NANDY","Préqualifs","2010-2011",null,null,null,null,0,null,0]
["WALLART Jean-Charles","JACQ Laurent","G",3,1,220,147,"2011-04-16","National T6 CHAMPAGNE sur SEINE / NANDY","Qualifs promotion","2010-2011",null,null,null,null,0,null,0]
["WALLART Jean-Charles","GOUTHIER Alain","G",3,0,180,59,"2011-04-16","National T6 CHAMPAGNE sur SEINE / NANDY","Qualifs promotion","2010-2011",null,null,null,null,0,null,0]
["WALLART Jean-Charles","CAUX Frédéric","P",0,3,140,180,"2011-04-17","National T6 CHAMPAGNE sur SEINE / NANDY","1/8 finale promotion","2010-2011",null,null,null,null,0,null,0]
["WALLART Jean-Charles","TRIFAULT Amand","P",2,3,193,265,"2011-05-14","National SCHILTIGHEIM","Qualifs","2010-2011",null,null,null,null,0,null,0]
["WALLART Jean-Charles","GEETS Patrice","P",2,3,237,286,"2011-05-14","National SCHILTIGHEIM","Qualifs","2010-2011",null,null,null,null,0,null,0]
["WALLART Jean-Charles","VADALA Gino\n","G",3,0,180,71,"2011-05-14","National SCHILTIGHEIM","Qualifs","2010-2011",null,null,null,null,0,null,0]
["WALLART Jean-Charles","DELSOL Philippe","P",0,3,104,180,"2011-05-15","National SCHILTIGHEIM","1/8 finale","2010-2011",null,null,null,null,0,null,0]
["WALLART Jean-Charles","TURPIN Laurent","P",1,2,138,165,"2011-10-15","N1 Ligue T1 DIVION","Poules","2011-2012",null,null,null,null,0,null,0]
["WALLART Jean-Charles","LORTHIOIR Jean-Luc","G",2,0,120,58,"2011-10-15","N1 Ligue T1 DIVION","Poules","2011-2012",null,null,null,null,0,null,0]
["WALLART Jean-Charles","LECROART Serge","G",1,0,100,86,"2011-10-15","N1 Ligue T1 DIVION","Poules Consolante","2011-2012",null,null,null,null,0,null,0]
["WALLART Jean-Charles","LECROART Serge","G",1,0,100,37,"2011-10-15","N1 Ligue T1 DIVION","Poules Consolante","2011-2012",null,null,null,null,0,null,0]
["WALLART Jean-Charles","LORTHIOIR Jean-Luc","G",1,0,100,56,"2011-10-15","N1 Ligue T1 DIVION","1/4 Finale Consolante","2011-2012",null,null,null,null,0,null,0]
["WALLART Jean-Charles","DEVOS Jackie","P",0,1,87,100,"2011-10-15","N1 Ligue T1 DIVION","1/2 Finale Consolante","2011-2012",null,null,null,null,0,null,0]
["WALLART Jean-Charles","BONNEAU Benoît","G",2,1,165,152,"2011-09-30","National T1 CESTAS","Préqualifs","2011-2012",null,null,null,null,0,null,0]
["WALLART Jean-Charles","BOUVIER Philippe","P",1,2,93,156,"2011-09-30","National T1 CESTAS","Préqualifs","2011-2012",null,null,null,null,0,null,0]
["WALLART Jean-Charles","DAMONNEVILLE Blandine","G",2,0,120,26,"2011-09-30","National T1 CESTAS","Préqualifs","2011-2012",null,null,null,null,0,null,0]
["WALLART Jean-Charles","CLYNCKE Jean-Jacques","G",3,0,180,105,"2011-10-01","National T1 CESTAS","Qualifs promotion","2011-2012",null,null,null,null,0,null,0]
["WALLART Jean-Charles","DUROYON Didier","P",0,3,149,180,"2011-10-01","National T1 CESTAS","Qualifs promotion","2011-2012",null,null,null,null,0,null,0]
["WALLART Jean-Charles","CAUX Frédéric","G",3,1,236,199,"2011-10-01","National T1 CESTAS","Qualifs promotion","2011-2012",null,null,null,null,0,null,0]
["WALLART Jean-Charles","DAVOINE Bruno","G",3,2,216,259,"2011-10-02","National T1 CESTAS","1/8 finale promotion","2011-2012",null,null,null,null,0,null,0]
["WALLART Jean-Charles","PERRIN Eric","P",2,3,232,271,"2011-10-02","National T1 CESTAS","1/4 finale promotion","2011-2012",null,null,null,null,0,null,0]
["WALLART Jean-Charles","VEREECQUE Ludovic","G",1,0,100,97,"2011-11-19","N1 Ligue T2 DOUAI","Poules Consolante","2011-2012",null,null,null,null,0,null,0]
["WALLART Jean-Charles","CLYNCKE Jean-Jacques","P",0,1,65,100,"2011-11-19","N1 Ligue T2 DOUAI","Poules Consolante","2011-2012",null,null,null,null,0,null,0]
["WALLART Jean-Charles","KAYA Turgul","P",1,2,127,156,"2011-11-19","N1 Ligue T2 DOUAI","Poules","2011-2012",null,null,null,null,0,null,0]
["WALLART Jean-Charles","GEETS Patrice","P",1,2,138,168,"2011-11-19","N1 Ligue T2 DOUAI","Poules","2011-2012",null,null,null,null,0,null,0]
["WALLART Jean-Charles","CAUX Frédéric","P",1,2,133,159,"2011-11-19","N1 Ligue T2 DOUAI","1/8 Finale","2011-2012",null,null,null,null,0,null,0]
["WALLART Jean-Charles","GOUSSETIS Georges","G",2,1,139,168,"2011-11-04","National T2 SCHILTIGHEIM","Préqualifs","2011-2012",null,null,null,null,0,null,0]
["WALLART Jean-Charles","GEETS Patrice","G",2,0,120,64,"2011-11-04","National T2 SCHILTIGHEIM","Préqualifs","2011-2012",null,null,null,null,0,null,0]
["WALLART Jean-Charles","DI LEO Francois","G",2,0,120,66,"2011-11-04","National T2 SCHILTIGHEIM","Préqualifs","2011-2012",null,null,null,null,0,null,0]
["WALLART Jean-Charles","POULEYN André","G",3,0,180,152,"2011-11-05","National T2 SCHILTIGHEIM","Qualifs promotion","2011-2012",null,null,null,null,0,null,0]
["WALLART Jean-Charles","DAVOINE Bruno","G",3,0,180,120,"2011-11-05","National T2 SCHILTIGHEIM","Qualifs promotion","2011-2012",null,null,null,null,0,null,0]
["WALLART Jean-Charles","CASPAR Rémy","G",3,1,238,180,"2011-11-06","National T2 SCHILTIGHEIM","1/8 finale promotion","2011-2012",null,null,null,null,0,null,0]
["WALLART Jean-Charles","PERRIN Eric","G",3,0,180,143,"2011-11-06","National T2 SCHILTIGHEIM","1/4 finale promotion","2011-2012",null,null,null,null,0,null,0]
["WALLART Jean-Charles","PONTHIEUX Christian","G",3,2,246,272,"2011-11-06","National T2 SCHILTIGHEIM","1/2 finale promotion","2011-2012",null,null,null,null,0,null,0]
["WALLART Jean-Charles","LEFRANC Emmanuel","P",1,3,183,210,"2011-11-06","National T2 SCHILTIGHEIM","Finale promotion","2011-2012",null,null,null,null,0,null,0]
["WALLART Jean-Charles","LHERMITTE Cédric","P",1,2,128,150,"2011-12-02","National T3 ANNOEULLIN","Préqualifs","2011-2012",null,null,null,null,0,null,0]
["WALLART Jean-Charles","GANGLOFF Jean-Luc","P",1,2,151,152,"2011-12-02","National T3 ANNOEULLIN","Préqualifs","2011-2012",null,null,null,null,0,null,0]
["WALLART Jean-Charles","GOUTHIER Alain","G",2,0,120,26,"2011-12-02","National T3 ANNOEULLIN","Préqualifs","2011-2012",null,null,null,null,0,null,0]
["WALLART Jean-Charles","SORTAIS Claude","P",0,3,80,180,"2011-12-03","National T3 ANNOEULLIN","Qualifs promotion","2011-2012",null,null,null,null,0,null,0]
["WALLART Jean-Charles","GUILLEMANT Jean-Marc","G",3,1,210,165,"2011-12-03","National T3 ANNOEULLIN","Qualifs promotion","2011-2012",null,null,null,null,0,null,0]
["WALLART Jean-Charles","DEROLEZ Jean-Pierre","G",3,1,234,202,"2011-12-03","National T3 ANNOEULLIN","Qualifs promotion","2011-2012",null,null,null,null,0,null,0]
["WALLART Jean-Charles","MORMICHE Michel","P",1,3,160,222,"2011-12-04","National T3 ANNOEULLIN","1/8 finale promotion","2011-2012",null,null,null,null,0,null,0]
["WALLART Jean-Charles","DECONINCK Franky","G",2,0,120,67,"2012-01-07","N1 Ligue T3 FACHES THUMESNIL","Poules","2011-2012",null,null,null,null,0,null,0]
["WALLART Jean-Charles","RACARY Thibault","P",0,2,70,120,"2012-01-07","N1 Ligue T3 FACHES THUMESNIL","Poules","2011-2012",null,null,null,null,0,null,0]
["WALLART Jean-Charles","SAINT-GEORGES Claude","G",2,0,120,47,"2012-01-07","N1 Ligue T3 FACHES THUMESNIL","1/8 Finale","2011-2012",null,null,null,null,0,null,0]
["WALLART Jean-Charles","CAUX Frédéric","G",2,1,165,99,"2012-01-07","N1 Ligue T3 FACHES THUMESNIL","1/4 Finale","2011-2012",null,null,null,null,0,null,0]
["WALLART Jean-Charles","LHERMITTE Cédric","P",1,2,153,160,"2012-01-07","N1 Ligue T3 FACHES THUMESNIL","1/2 Finale","2011-2012",null,null,null,null,0,null,0]
["WALLART Jean-Charles","MONFLIER Francis","G",2,0,120,68,"2012-01-28","N1 Ligue T4 GRAVELINES","Poules","2011-2012",null,null,null,null,0,null,0]
["WALLART Jean-Charles","LEMÂTRE Jérémy","P",0,2,66,120,"2012-01-28","N1 Ligue T4 GRAVELINES","Poules","2011-2012",null,null,null,null,0,null,0]
["WALLART Jean-Charles","DEROLEZ Jean-Pierre","G",2,0,120,62,"2012-01-28","N1 Ligue T4 GRAVELINES","1/8 Finale","2011-2012",null,null,null,null,0,null,0]
["WALLART Jean-Charles","GEETS Patrice","P",1,2,136,170,"2012-01-28","N1 Ligue T4 GRAVELINES","1/4 Finale","2011-2012",null,null,null,null,0,null,0]
["WALLART Jean-Charles","DAMONNEVILLE Blandine","G",2,0,120,72,"2012-02-17","National T4 ORLEANS","Préqualifs","2011-2012",null,null,null,null,0,null,0]
["WALLART Jean-Charles","GUIBERT Philippe","G",2,1,149,151,"2012-02-17","National T4 ORLEANS","Préqualifs","2011-2012",null,null,null,null,0,null,0]
["WALLART Jean-Charles","EVENOU Roger","G",2,0,120,34,"2012-02-17","National T4 ORLEANS","Préqualifs","2011-2012",null,null,null,null,0,null,0]
["WALLART Jean-Charles","DUVERNOY Christophe","P",0,3,110,180,"2012-02-18","National T4 ORLEANS","Qualifs Masters","2011-2012",null,null,null,null,0,null,0]
["WALLART Jean-Charles","COTTEN Jean-Pierre","P",1,3,204,236,"2012-02-18","National T4 ORLEANS","Qualifs Masters","2011-2012",null,null,null,null,0,null,0]
["WALLART Jean-Charles","BAYON Pascal","P",0,2,100,120,"2012-03-16","National T5 L HAY LES ROSES","Préqualifs","2011-2012",null,null,null,null,0,null,0]
["WALLART Jean-Charles","DAVOINE Bruno","P",0,2,71,120,"2012-03-16","National T5 L HAY LES ROSES","Préqualifs","2011-2012",null,null,null,null,0,null,0]
["WALLART Jean-Charles","JUBLOT Denis","P",0,2,79,120,"2012-03-16","National T5 L HAY LES ROSES","Préqualifs","2011-2012",null,null,null,null,0,null,0]
["WALLART Jean-Charles","PALOMBA Sergio","G",3,0,180,76,"2012-04-21","National ROUEN","Qualifs","2011-2012",null,null,null,null,0,null,0]
["WALLART Jean-Charles","DAVOINE Bruno","P",1,3,171,227,"2012-04-21","National ROUEN","Qualifs","2011-2012",null,null,null,null,0,null,0]
["WALLART Jean-Charles","DUROYON Didier","G",3,0,180,151,"2012-04-21","National ROUEN","Qualifs","2011-2012",null,null,null,null,0,null,0]
["WALLART Jean-Charles","ROBIC Daniel","P",1,3,206,239,"2012-04-22","National ROUEN","1/8 finale","2011-2012",null,null,null,null,0,null,0]
["WALLART Jean-Charles","HENNEUSE Patrick","P",1,2,93,150,"2012-10-13","N1 Ligue T1 ANNOEULLIN","Poules","2012-2013",null,null,null,null,0,null,0]
["WALLART Jean-Charles","POULEYN André","G",2,0,120,90,"2012-10-13","N1 Ligue T1 ANNOEULLIN","Poules","2012-2013",null,null,null,null,0,null,0]
["WALLART Jean-Charles","HENNEUSE Patrick","G",2,1,173,122,"2012-10-13","N1 Ligue T1 ANNOEULLIN","1/8 Finale","2012-2013",null,null,null,null,0,null,0]
["WALLART Jean-Charles","POULEYN André","G",2,0,120,59,"2012-10-13","N1 Ligue T1 ANNOEULLIN","1/4 Finale","2012-2013",null,null,null,null,0,null,0]
["WALLART Jean-Charles","DELSOL Philippe","P",1,2,148,143,"2012-10-13","N1 Ligue T1 ANNOEULLIN","1/2 Finale","2012-2013",null,null,null,null,0,null,0]
["WALLART Jean-Charles","LEMÂTRE Jérémy","G",2,1,147,131,"2012-10-27","N1 Ligue T2 BRUAY sur ESCAUT","Poules","2012-2013",null,null,null,null,0,null,0]
["WALLART Jean-Charles","DEROLEZ Jean-Pierre","P",0,2,116,120,"2012-10-27","N1 Ligue T2 BRUAY sur ESCAUT","Poules","2012-2013",null,null,null,null,0,null,0]
["WALLART Jean-Charles","DECONINCK Franky","G",1,0,100,96,"2012-10-27","N1 Ligue T2 BRUAY / ESCAUT","Poules Consolante","2012-2013",null,null,null,null,0,null,0]
["WALLART Jean-Charles","DECONINCK Franky","G",1,0,100,68,"2012-10-27","N1 Ligue T2 BRUAY / ESCAUT","Poules Consolante","2012-2013",null,null,null,null,0,null,0]
["WALLART Jean-Charles","FLEURANT Richard","G",1,0,100,60,"2012-10-27","N1 Ligue T2 BRUAY / ESCAUT","Finale Consolante","2012-2013",null,null,null,null,0,null,0]
["WALLART Jean-Charles","MONFLIER Francis","G",2,0,120,38,"2012-11-24","N1 Ligue T3 CALAIS","Poules","2012-2013",null,null,null,null,0,null,0]
["WALLART Jean-Charles","HORNAIN Denis","G",2,1,179,88,"2012-11-24","N1 Ligue T3 CALAIS","Poules","2012-2013",null,null,null,null,0,null,0]
["WALLART Jean-Charles","DEROLEZ Jean-Pierre","G",2,0,120,69,"2012-11-24","N1 Ligue T3 CALAIS","1/8 Finale","2012-2013",null,null,null,null,0,null,0]
["WALLART Jean-Charles","DELSOL Philippe","P",0,2,52,120,"2012-11-24","N1 Ligue T3 CALAIS","1/4 Finale","2012-2013",null,null,null,null,0,null,0]
["WALLART Jean-Charles","GEETS Patrice","P",1,2,132,173,"2012-12-15","N1 Ligue T4 VILLENEUVE D'ASCQ","Poules","2012-2013",null,null,null,null,0,null,0]
["WALLART Jean-Charles","GEETS Patrice","P",0,2,80,120,"2012-12-15","N1 Ligue T4 VILLENEUVE D'ASCQ","Poules","2012-2013",null,null,null,null,0,null,0]
["WALLART Jean-Charles","GUILLUY Jean-René","G",1,0,100,36,"2012-12-15","N1 Ligue T4 VILLENEUVE D'ASCQ","Poules Consolante","2012-2013",null,null,null,null,0,null,0]
["WALLART Jean-Charles","LECROART Serge","P",0,1,75,100,"2012-12-15","N1 Ligue T4 VILLENEUVE D'ASCQ","Poules Consolante","2012-2013",null,null,null,null,0,null,0]
["WALLART Jean-Charles","LHERMITTE Cédric","P",0,1,60,100,"2012-12-15","N1 Ligue T4 VILLENEUVE D'ASCQ","1/2 finale Consolante","2012-2013",null,null,null,null,0,null,0]
["WALLART Jean-Charles","GEETS Patrice","P",2,3,248,288,"2013-04-14","FINALE LIGUE N1 FACHES THUMESNIL","Poules","2012-2013",null,null,null,null,0,null,0]
["WALLART Jean-Charles","LHERMITTE Cédric","G",3,1,237,161,"2013-04-14","FINALE LIGUE N1 FACHES THUMESNIL","Poules","2012-2013",null,null,null,null,0,null,0]
["WALLART Jean-Charles","DELSOL Philippe","P",0,3,111,180,"2013-04-14","FINALE LIGUE N1 FACHES THUMESNIL","1/2 Finale","2012-2013",null,null,null,null,0,null,0]
["WALLART Jean-Charles","BILLIARD Alain","G",3,1,171,140,"2012-10-06","National T1 BLOIS","Qualifs promotion","2012-2013",null,null,null,null,0,null,0]
["WALLART Jean-Charles","DOUGNAC Nathalie","G",2,1,133,84,"2012-10-05","National T1 BLOIS","Préqualifs","2012-2013",null,null,null,null,0,null,0]
["WALLART Jean-Charles","GUILLEMANT Jean-Marc","G",3,1,179,142,"2012-10-07","National T1 BLOIS","1/8 finale promotion","2012-2013",null,null,null,null,0,null,0]
["WALLART Jean-Charles","JACQ Laurent","P",0,2,75,100,"2012-10-05","National T1 BLOIS","Préqualifs","2012-2013",null,null,null,null,0,null,0]
["WALLART Jean-Charles","LANUSSE Christophe","G",3,1,185,140,"2012-10-07","National T1 BLOIS","1/4 finale promotion","2012-2013",null,null,null,null,0,null,0]
["WALLART Jean-Charles","LEGRAND Guy","P",0,3,99,150,"2012-10-07","National T1 BLOIS","1/2 finale promotion","2012-2013",null,null,null,null,0,null,0]
["WALLART Jean-Charles","MICHELOTTI Francesco","G",3,1,187,112,"2012-10-06","National T1 BLOIS","Qualifs promotion","2012-2013",null,null,null,null,0,null,0]
["WALLART Jean-Charles","TIRALONGO Sébastien","G",2,0,100,72,"2012-10-05","National T1 BLOIS","Préqualifs","2012-2013",null,null,null,null,0,null,0]
["WALLART Jean-Charles","FOURRE Cédric","P",0,3,100,150,"2012-11-04","National T2 NANTES","1/8 finale promotion","2012-2013",null,null,null,null,0,null,0]
["WALLART Jean-Charles","GUIBERT Philippe","P",2,3,225,237,"2012-11-03","National T2 NANTES","Qualifs promotion","2012-2013",null,null,null,null,0,null,0]
["WALLART Jean-Charles","LHERMITTE SYLVAIN","G",3,0,150,99,"2012-11-03","National T2 NANTES","Qualifs promotion","2012-2013",null,null,null,null,0,null,0]
["WALLART Jean-Charles","PAILLART Jean-Paul","G",2,0,100,53,"2012-11-02","National T2 NANTES","Préqualifs","2012-2013",null,null,null,null,0,null,0]
["WALLART Jean-Charles","PONTHIEUX Christian","G",2,0,100,46,"2012-11-02","National T2 NANTES","Préqualifs","2012-2013",null,null,null,null,0,null,0]
["WALLART Jean-Charles","POULEYN André","P",1,2,82,135,"2012-11-02","National T2 NANTES","Préqualifs","2012-2013",null,null,null,null,0,null,0]
["WALLART Jean-Charles","RETIF Jérôme","G",3,2,220,185,"2012-11-03","National T2 NANTES","Qualifs promotion","2012-2013",null,null,null,null,0,null,0]
["WALLART Jean-Charles","DELATTRE Hervé","G",2,1,147,116,"2013-02-01","National T4 ROUEN","Préqualifs","2012-2013",null,null,null,null,0,null,0]
["WALLART Jean-Charles","DI PALMA Angelo","P",0,3,74,150,"2013-02-03","National T4 ROUEN","1/4 finale promotion","2012-2013",null,null,null,null,0,null,0]
["WALLART Jean-Charles","EVENOU Roger","G",2,0,100,69,"2013-02-01","National T4 ROUEN","Préqualifs","2012-2013",null,null,null,null,0,null,0]
["WALLART Jean-Charles","FAUCOMPREZ Didier","G",3,1,190,132,"2013-02-02","National T4 ROUEN","Qualifs promotion","2012-2013",null,null,null,null,0,null,0]
["WALLART Jean-Charles","LHEUREUX François","P",0,2,93,100,"2013-02-01","National T4 ROUEN","Préqualifs","2012-2013",null,null,null,null,0,null,0]
["WALLART Jean-Charles","SAINT-GEORGES Claude","G",3,2,207,174,"2013-02-03","National T4 ROUEN","1/8 finale promotion","2012-2013",null,null,null,null,0,null,0]
["WALLART Jean-Charles","WEBER Thierry","G",3,1,181,114,"2013-02-02","National T4 ROUEN","Qualifs promotion","2012-2013",null,null,null,null,0,null,0]
["WALLART Jean-Charles","CAUX Frédéric","G",3,0,150,60,"2013-03-09","National T5 LAXOU","Qualifs promotion","2012-2013",null,null,null,null,0,null,0]
["WALLART Jean-Charles","DUROYON Didier","P",2,3,195,227,"2013-03-10","National T5 LAXOU","1/8 finale promotion","2012-2013",null,null,null,null,0,null,0]
["WALLART Jean-Charles","GANGLOFF Jean-Luc","G",2,1,134,101,"2013-03-08","National T5 LAXOU","Préqualifs","2012-2013",null,null,null,null,0,null,0]
["WALLART Jean-Charles","GARONNAT Daniel","P",0,2,39,100,"2013-03-08","National T5 LAXOU","Préqualifs","2012-2013",null,null,null,null,0,null,0]
["WALLART Jean-Charles","GUILLEMANT Jean-Marc","G",3,2,214,208,"2013-03-09","National T5 LAXOU","Qualifs promotion","2012-2013",null,null,null,null,0,null,0]
["WALLART Jean-Charles","KERCRET Geneviève","G",2,0,100,64,"2013-03-08","National T5 LAXOU","Préqualifs","2012-2013",null,null,null,null,0,null,0]
["WALLART Jean-Charles","FERON Patrick","P",0,3,93,150,"2013-06-15","CHAMPIONNAT DE FRANCE N1 CHAMPAGNE SUR SEINE","Qualifs","2012-2013",null,null,null,null,0,null,0]
["WALLART Jean-Charles","LEGRAND Guy","P",2,3,193,220,"2013-06-16","CHAMPIONNAT DE FRANCE N1 CHAMPAGNE SUR SEINE","1/8 finale","2012-2013",null,null,null,null,0,null,0]
["WALLART Jean-Charles","PAU Mariano","G",3,2,239,226,"2013-06-15","CHAMPIONNAT DE FRANCE N1 CHAMPAGNE SUR SEINE","Qualifs","2012-2013",null,null,null,null,0,null,0]
["WALLART Jean-Charles","SIMONIN Patrice","G",3,0,150,72,"2013-06-15","CHAMPIONNAT DE FRANCE N1 CHAMPAGNE SUR SEINE","Qualifs","2012-2013",null,null,null,null,0,null,0]
["WALLART Jean-Charles","VERHAGHE Dominique","G",2,1,155,162,"2014-01-04","N1 Ligue T1 ANNOEULLIN","Poules","2013-2014",null,null,null,null,0,null,0]
["WALLART Jean-Charles","GROLLET Fabien","G",2,1,178,130,"2014-01-04","N1 Ligue T1 ANNOEULLIN","Poules","2013-2014",null,null,null,null,0,null,0]
["WALLART Jean-Charles","LORTHIOIR Jean-Luc","G",2,0,120,73,"2014-01-04","N1 Ligue T1 ANNOEULLIN","1/8 Finale","2013-2014",null,null,null,null,0,null,0]
["WALLART Jean-Charles","HERREBRECHT Thierry","G",2,1,142,141,"2014-01-04","N1 Ligue T1 ANNOEULLIN","1/4 Finale","2013-2014",null,null,null,null,0,null,0]
["WALLART Jean-Charles","LHERMITTE Cédric","P",1,2,162,175,"2014-01-04","N1 Ligue T1 ANNOEULLIN","1/2 Finale","2013-2014",null,null,null,null,0,null,0]
["WALLART Jean-Charles","LOTHE Jean-Luc","G",2,1,141,97,"2014-03-15","N1 Ligue T2 FACHES THUMESNIL","Poules","2013-2014",null,null,null,null,0,null,0]
["WALLART Jean-Charles","DELSOL Philippe","G",2,1,159,145,"2014-03-15","N1 Ligue T2 FACHES THUMESNIL","Poules","2013-2014",null,null,null,null,0,null,0]
["WALLART Jean-Charles","CAUX Grégory","G",2,0,120,36,"2014-03-15","N1 Ligue T2 FACHES THUMESNIL","1/4 Finale","2013-2014",null,null,null,null,0,null,0]
["WALLART Jean-Charles","CAUX Frédéric","G",2,1,172,137,"2014-03-15","N1 Ligue T2 FACHES THUMESNIL","1/2 Finale","2013-2014",null,null,null,null,0,null,0]
["WALLART Jean-Charles","DELSOL Philippe","P",0,2,83,120,"2014-03-15","N1 Ligue T2 FACHES THUMESNIL","Finale","2013-2014",null,null,null,null,0,null,0]
["WALLART Jean-Charles","ST MAXENT Stéphane","G",2,0,120,48,"2014-04-05","N1 Ligue T3 GRAVELINES","Poules","2013-2014",null,null,null,null,0,null,0]
["WALLART Jean-Charles","MANTEN Paul","G",2,0,120,86,"2014-04-05","N1 Ligue T3 GRAVELINES","Poules","2013-2014",null,null,null,null,0,null,0]
["WALLART Jean-Charles","ST MAXENT Stéphane","G",2,0,120,77,"2014-04-05","N1 Ligue T3 GRAVELINES","1/8 Finale","2013-2014",null,null,null,null,0,null,0]
["WALLART Jean-Charles","LUBREZ Pierre","G",2,1,179,79,"2014-04-05","N1 Ligue T3 GRAVELINES","1/4 Finale","2013-2014",null,null,null,null,0,null,0]
["WALLART Jean-Charles","SAINT-GEORGES Claude","G",2,1,161,141,"2014-04-05","N1 Ligue T3 GRAVELINES","1/2 Finale","2013-2014",null,null,null,null,0,null,0]
["WALLART Jean-Charles","LHERMITTE Cédric","P",0,2,64,120,"2014-04-05","N1 Ligue T3 GRAVELINES","Finale","2013-2014",null,null,null,null,0,null,0]
["WALLART Jean-Charles","CAUX Grégory","G",3,0,180,111,"2014-05-18","Finale Ligue N1 CALAIS","Poules","2013-2014",null,null,null,null,0,null,0]
["WALLART Jean-Charles","DELSOL Philippe","P",0,3,107,180,"2014-05-18","Finale Ligue N1 CALAIS","Poules","2013-2014",null,null,null,null,0,null,0]
["WALLART Jean-Charles","LHERMITTE Cédric","P",1,3,181,199,"2014-05-18","Finale Ligue N1 CALAIS","1/2 Finale","2013-2014",null,null,null,null,0,null,0]
["WALLART JEAN-CHARLES","GUERIN XAVIER","P",0,3,90,180,"2014-10-18","National T1 GRAVELINES","Qualifs promotion","2014-2015",null,null,null,null,0,null,0]
["WALLART JEAN-CHARLES","SAINT-GEORGES CLAUDE","P",0,3,140,180,"2014-10-18","National T1 GRAVELINES","Qualifs promotion","2014-2015",null,null,null,null,0,null,0]
["WALLART Jean-Charles","GEETS Patrice","P",0,2,112,120,"2014-11-28","National T2 FACHES THUMESNIL - RONCHIN","Préqualifs","2014-2015",null,null,null,null,0,null,0]
["WALLART Jean-Charles","MICHELOTTI Francesco","G",2,1,152,149,"2014-11-28","National T2 FACHES THUMESNIL - RONCHIN","Préqualifs","2014-2015",null,null,null,null,1,null,0]
["WALLART Jean-Charles","MORMICHE Michel","G",2,1,147,152,"2014-11-28","National T2 FACHES THUMESNIL - RONCHIN","Préqualifs","2014-2015",null,null,null,null,1,null,0]
["WALLART Jean-Charles","LOTHE Jean-Luc","G",3,1,233,173,"2014-11-29","National T2 FACHES THUMESNIL - RONCHIN","Qualifs promotion","2014-2015",null,null,null,null,1,null,0]
["WALLART Jean-Charles","MAILLE Bernard","P",2,3,223,240,"2014-11-29","National T2 FACHES THUMESNIL - RONCHIN","Qualifs promotion","2014-2015",null,null,null,null,0,null,0]
["WALLART Jean-Charles","NAHIRNYJ Nicolas","P",0,3,117,180,"2014-11-29","National T2 FACHES THUMESNIL - RONCHIN","Qualifs promotion","2014-2015",null,null,null,null,0,null,0]
["WALLART Jean-Charles","MICHELOTTI Francesco","G",2,0,120,44,"2014-12-12","National T3 DOUARNENEZ","Préqualifs","2014-2015",null,null,null,null,1,null,0]
["WALLART Jean-Charles","JOUEUR BLANC","G",2,0,120,80,"2014-12-12","National T3 DOUARNENEZ","Préqualifs","2014-2015",null,null,null,null,1,null,0]
["WALLART Jean-Charles","DAVOINE Bruno","P",0,2,94,120,"2014-12-12","National T3 DOUARNENEZ","Préqualifs","2014-2015",null,null,null,null,0,null,0]
["WALLART Jean-Charles","GOUTHIER Alain","G",3,0,180,107,"2014-12-13","National T3 DOUARNENEZ","Qualifs promotion","2014-2015",null,null,null,null,1,null,0]
["WALLART Jean-Charles","SACRE Jean-Yves","P",2,3,273,275,"2014-12-13","National T3 DOUARNENEZ","Qualifs promotion","2014-2015",null,null,null,null,0,null,0]
["WALLART Jean-Charles","VICARI Marc","P",1,3,187,190,"2014-12-13","National T3 DOUARNENEZ","Qualifs promotion","2014-2015",null,null,null,null,0,null,0]
["WALLART Jean-Charles","WEBER Thierry","G",2,1,173,113,"2015-01-23","National T4 LAXOU","Préqualifs","2014-2015",null,null,null,null,1,null,0]
["WALLART Jean-Charles","JOUEUR BLANC","G",2,0,120,90,"2015-01-23","National T4 LAXOU","Préqualifs","2014-2015",null,null,null,null,1,null,0]
["WALLART Jean-Charles","DAVOINE Bruno","P",0,2,63,120,"2015-01-23","National T4 LAXOU","Préqualifs","2014-2015",null,null,null,null,0,null,0]
["WALLART Jean-Charles","CAUX Frédéric","G",3,0,180,112,"2015-01-24","National T4 LAXOU","Qualifs promotion","2014-2015",null,null,null,null,1,null,0]
["WALLART Jean-Charles","MORMICHE Michel","P",0,3,108,180,"2015-01-24","National T4 LAXOU","Qualifs promotion","2014-2015",null,null,null,null,0,null,0]
["WALLART Jean-Charles","PAULY Martial","G",3,1,232,176,"2015-01-24","National T4 LAXOU","Qualifs promotion","2014-2015",null,null,null,null,1,null,0]
["WALLART Jean-Charles","BOUVIER Philippe","P",1,3,191,229,"2015-01-25","National T4 LAXOU","1/8 finale promotion","2014-2015",null,null,null,null,0,null,0]
["WALLART Jean-Charles","BILLIARD Alain","G",2,1,139,116,"2015-03-20","National T5 SAINT QUENTIN","Préqualifs","2014-2015",null,null,null,null,1,null,0]
["WALLART Jean-Charles","VICARI Marc","P",0,2,83,120,"2015-03-20","National T5 SAINT QUENTIN","Préqualifs","2014-2015",null,null,null,null,0,null,0]
["WALLART Jean-Charles","VASSEUR Gérald","G",2,0,120,92,"2015-03-20","National T5 SAINT QUENTIN","Préqualifs","2014-2015",null,null,null,null,1,null,0]
["WALLART Jean-Charles","GOUTHIER Alain","G",3,0,180,100,"2015-03-21","National T5 SAINT QUENTIN","Qualifs promotion","2014-2015",null,null,null,null,1,null,0]
["WALLART Jean-Charles","VICARI Marc","G",3,0,180,127,"2015-03-21","National T5 SAINT QUENTIN","Qualifs promotion","2014-2015",null,null,null,null,1,null,0]
["WALLART Jean-Charles","LANUSSE Christophe","P",1,3,179,239,"2015-03-22","National T5 SAINT QUENTIN","1/8 finale promotion","2014-2015",null,null,null,null,0,null,0]
["WALLART Jean-charles","ALDEGUER Lionel","G",1,0,100,59,"2015-01-17","N1 Ligue T1 DUNKERQUE","Poules Consolante",{"$f":"IF(H334<>\"\",IF(MONTH(H334)>MoisRef,YEAR(H334)&\"-\"&YEAR(H334)+1,YEAR(H334)-1&\"-\"&YEAR(H334)),\"\")","v":"2014-2015"},null,null,null,null,1,null,0]
["WALLART Jean-charles","POULEYN andré","G",1,0,100,93,"2015-01-17","N1 Ligue T1 DUNKERQUE","Poules Consolante","2014-2015",null,null,null,null,1,null,0]
["WALLART Jean-charles","CAUX Frédéric","G",1,0,100,37,"2015-01-17","N1 Ligue T1 DUNKERQUE","1/2 finale Consolante","2014-2015",null,null,null,null,1,null,0]
["WALLART Jean-charles","DECONINCK Franky","G",2,1,171,169,"2015-01-17","N1 Ligue T1 DUNKERQUE","Poules","2014-2015",null,null,null,null,1,null,0]
["WALLART Jean-charles","POULEYN André","G",2,1,177,114,"2015-01-17","N1 Ligue T1 DUNKERQUE","Poules","2014-2015",null,null,null,null,1,null,0]
["WALLART Jean-charles","DEROLEZ Jean-pierre","P",1,2,161,166,"2015-01-17","N1 Ligue T1 DUNKERQUE","1/8 Finale","2014-2015",null,null,null,null,0,null,0]
["WALLART Jean-Charles","LUBREZ Pierre","G",2,1,173,95,"2015-03-14","N1 Ligue T3 ANNOEULLIN","Poules","2014-2015",null,null,null,null,1,null,0]
["WALLART Jean-Charles","DECONINCK Franky","G",2,1,147,143,"2015-03-14","N1 Ligue T3 ANNOEULLIN","Poules","2014-2015",null,null,null,null,1,null,0]
["WALLART Jean-Charles","GEETS Patrice","P",0,2,108,120,"2015-03-14","N1 Ligue T3 ANNOEULLIN","1/4 Finale","2014-2015",null,null,null,null,0,null,0]
["WALLART Jean-Charles","IQUI Jean-Franck","G",2,1,161,145,"2015-10-09","National T1 ROUEN","Préqualifs","2015-2016",null,null,null,null,0,null,1]
["WALLART Jean-Charles","GEETS Patrice","P",0,2,94,120,"2015-10-09","National T1 ROUEN","Préqualifs","2015-2016",null,null,null,null,0,null,0]
["WALLART Jean-Charles","ROBERGE Bruno","G",2,1,144,149,"2015-10-09","National T1 ROUEN","Préqualifs","2015-2016",null,null,null,null,0,null,1]
["WALLART Jean-Charles","MOREL Pierre-Yves","P",1,3,198,227,"2015-10-10","National T1 ROUEN","Qualifs promotion","2015-2016",null,null,null,null,0,null,0]
["WALLART Jean-Charles","JACQ Laurent","P",1,3,176,214,"2015-10-10","National T1 ROUEN","Qualifs promotion","2015-2016",null,null,null,null,0,null,0]
["WALLART Jean-Charles","BILLIARD Alain","G",2,0,120,65,"2015-11-13","National T2 DOUARNENEZ","Préqualifs","2015-2016",null,null,null,null,0,null,1]
["WALLART Jean-Charles","PICOT Sylvain","P",1,2,129,147,"2015-11-13","National T2 DOUARNENEZ","Préqualifs","2015-2016",null,null,null,null,0,null,0]
["WALLART Jean-Charles","CHAPELIER Arnaud","G",2,0,120,88,"2015-11-13","National T2 DOUARNENEZ","Préqualifs","2015-2016",null,null,null,null,0,null,1]
["WALLART Jean-Charles","CAUX Frédéric","G",3,1,238,170,"2015-11-14","National T2 DOUARNENEZ","Qualifs promotion","2015-2016",null,null,null,null,0,null,1]
["WALLART Jean-Charles","RIMBOT Nicolas","P",2,3,233,236,"2015-11-14","National T2 DOUARNENEZ","Qualifs promotion","2015-2016",null,null,null,null,0,null,0]
["WALLART Jean-Charles","RETIF Jérôme","P",2,3,278,241,"2015-11-14","National T2 DOUARNENEZ","Qualifs promotion","2015-2016",null,null,null,null,0,null,0]
["WALLART Jean-Charles","CLYNCKE Jean-Jacques","G",2,0,120,60,"2015-12-11","National T3 FACHES THUMESNIL - RONCHIN","Préqualifs","2015-2016",null,null,null,null,0,null,1]
["WALLART Jean-Charles","RIMBOT Nicolas","P",1,2,147,164,"2015-12-11","National T3 FACHES THUMESNIL - RONCHIN","Préqualifs","2015-2016",null,null,null,null,0,null,0]
["WALLART Jean-Charles","THERY Jean-Pierre","G",2,0,120,65,"2015-12-11","National T3 FACHES THUMESNIL - RONCHIN","Préqualifs","2015-2016",null,null,null,null,0,null,1]
["WALLART Jean-Charles","BONGIOVANNI Giovanni","G",3,2,281,250,"2015-12-12","National T3 FACHES THUMESNIL - RONCHIN","Qualifs promotion","2015-2016",null,null,null,null,0,null,1]
["WALLART Jean-Charles","DEMILLY Jean-Sébastien","P",0,3,135,180,"2015-12-12","National T3 FACHES THUMESNIL - RONCHIN","Qualifs promotion","2015-2016",null,null,null,null,0,null,0]
["WALLART Jean-Charles","BONNEAU Benoît","G",3,1,231,146,"2015-12-12","National T3 FACHES THUMESNIL - RONCHIN","Qualifs promotion","2015-2016",null,null,null,null,0,null,1]
["WALLART Jean-Charles","TREAL David","P",2,3,225,260,"2015-12-13","National T3 FACHES THUMESNIL - RONCHIN","1/8 finale promotion","2015-2016",null,null,null,null,0,null,0]
["WALLART Jean-Charles","COSTE Philippe","P",0,2,93,120,"2016-02-05","National T4 SCHILTIGHEIM","Préqualifs","2015-2016",null,null,null,null,0,null,0]
["WALLART Jean-Charles","SACRE Jean-Yves","P",1,2,109,149,"2016-02-05","National T4 SCHILTIGHEIM","Préqualifs","2015-2016",null,null,null,null,0,null,0]
["WALLART Jean-Charles","VAROQUEAUX Julien","G",2,0,120,68,"2016-02-05","National T4 SCHILTIGHEIM","Préqualifs","2015-2016",null,null,null,null,0,null,1]
["WALLART Jean-Charles","SAINT-GEORGES Claude","P",1,3,187,218,"2016-02-06","National T4 SCHILTIGHEIM","Qualifs promotion","2015-2016",null,null,null,null,0,null,0]
["WALLART Jean-Charles","BONNEAU Benoît","G",3,1,230,194,"2016-02-06","National T4 SCHILTIGHEIM","Qualifs promotion","2015-2016",null,null,null,null,0,null,1]
["WALLART Jean-Charles","BILLIARD Alain","G",3,2,286,244,"2016-02-06","National T4 SCHILTIGHEIM","Qualifs promotion","2015-2016",null,null,null,null,0,null,1]
["WALLART Jean-Charles","MORMICHE Michel","G",3,0,180,133,"2016-02-07","National T4 SCHILTIGHEIM","1/8 finale promotion","2015-2016",null,null,null,null,0,null,1]
["WALLART Jean-Charles","COSTE Philippe","G",3,1,219,189,"2016-02-07","National T4 SCHILTIGHEIM","1/4 finale promotion","2015-2016",null,null,null,null,0,null,1]
["WALLART Jean-Charles","LHEUREUX François","G",3,1,222,180,"2016-02-07","National T4 SCHILTIGHEIM","1/2 finale promotion","2015-2016",null,null,null,null,0,null,1]
["WALLART Jean-Charles","VIERA MAIA Arlindo","G",3,0,180,120,"2016-02-07","National T4 SCHILTIGHEIM","Finale promotion","2015-2016",null,null,null,null,0,null,1]
["WALLART Jean-Charles","JUBLOT Denis","P",1,2,162,147,"2016-03-04","National T5 GRAVELINES","Préqualifs","2015-2016",null,null,null,null,0,null,0]
["WALLART Jean-Charles","TREAL David","P",1,2,146,173,"2016-03-04","National T5 GRAVELINES","Préqualifs","2015-2016",null,null,null,null,0,null,0]
["WALLART Jean-Charles","CHARLES Dominique","G",2,0,120,94,"2016-03-04","National T5 GRAVELINES","Préqualifs","2015-2016",null,null,null,null,0,null,1]
["WALLART Jean-Charles","SAINT-GEORGES Claude","G",3,0,180,136,"2016-03-05","National T5 GRAVELINES","Qualifs promotion","2015-2016",null,null,null,null,0,null,1]
["WALLART Jean-Charles","TREAL David","G",3,1,206,189,"2016-03-05","National T5 GRAVELINES","Qualifs promotion","2015-2016",null,null,null,null,0,null,1]
["WALLART Jean-Charles","LEMATRE Alexis","P",0,3,122,180,"2016-03-06","National T5 GRAVELINES","1/8 finale promotion","2015-2016",null,null,null,null,0,null,0]
["WALLART Jean-Charles","GHEVART Jean","G",2,0,120,46,"2015-12-04","T1 LIGUE 5 QUILLES N1 - FACHES-THUMESNIL","Poules","2015-2016",null,null,null,null,0,null,1]
["WALLART Jean-Charles","LEMÂTRE Jérémy","G",2,0,120,74,"2015-12-04","T1 LIGUE 5 QUILLES N1 - FACHES-THUMESNIL","Poules","2015-2016",null,null,null,null,0,null,1]
["WALLART Jean-Charles","LEMÂTRE Jérémy","P",0,2,105,120,"2015-12-04","T1 LIGUE 5 QUILLES N1 - FACHES-THUMESNIL","1/4 Finale","2015-2016",null,null,null,null,0,null,0]
["WALLART Jean-Charles","CAUX Frédéric","G",1,0,100,55,"2016-01-09","CONSOLANTE  T2 LIGUE 5 QUILLES N1 - GRAVELINES","Qualifications","2015-2016",null,null,null,null,0,null,1]
["WALLART Jean-Charles","CAUX Frédéric","G",1,0,100,80,"2016-01-09","CONSOLANTE  T2 LIGUE 5 QUILLES N1 - GRAVELINES","Qualifications","2015-2016",null,null,null,null,0,null,1]
["WALLART Jean-Charles","LEMÂTRE Alexis","P",0,1,55,100,"2016-01-09","CONSOLANTE  T2 LIGUE 5 QUILLES N1 - GRAVELINES","1/2 Finale","2015-2016",null,null,null,null,0,null,0]
["WALLART Jean-Charles","TRIPLET Freddy","G",2,0,120,42,"2016-01-09","T2  LIGUE 5 QUILLES N1 - GRAVELINES","Qualifications","2015-2016",null,null,null,null,0,null,1]
["WALLART Jean-Charles","POULEYN André","P",1,2,157,174,"2016-01-09","T2  LIGUE 5 QUILLES N1 - GRAVELINES","Qualifications","2015-2016",null,null,null,null,0,null,0]
["WALLART Jean-Charles","DELSOL Philippe","P",1,2,137,134,"2016-01-09","T2  LIGUE 5 QUILLES N1 - GRAVELINES","1/8 Finale","2015-2016",null,null,null,null,0,null,0]
["WALLART Jean-Charles","ALDEGUER Lionel","G",2,0,120,56,"2016-01-23","T3 Ligue 5 Quilles N1 - ANNOEULLIN","1/4 Finale","2015-2016",null,null,null,null,0,null,1]
["WALLART Jean-Charles","GEETS Patrice","G",2,0,120,61,"2016-01-23","T3 Ligue 5 Quilles N1 - ANNOEULLIN","Qualifications","2015-2016",null,null,null,null,0,null,1]
["WALLART Jean-Charles","GEETS Patrice","G",2,1,159,133,"2016-01-23","T3 Ligue 5 Quilles N1 - ANNOEULLIN","1/2 Finale","2015-2016",null,null,null,null,0,null,1]
["WALLART Jean-Charles","LORTHIOIR Jean-Luc","G",2,0,120,79,"2016-01-23","T3 Ligue 5 Quilles N1 - ANNOEULLIN","Qualifications","2015-2016",null,null,null,null,0,null,1]
["WALLART Jean-Charles","MAILLE Bernard","G",2,0,120,101,"2016-01-23","T3 Ligue 5 Quilles N1 - ANNOEULLIN","Finale","2015-2016",null,null,null,null,0,null,1]
["WALLART Jean-Charles","DAVID Nicolas","P",1,3,166,215,"2016-06-25","Championnat de France Masters - SAINT MAUR DES FOSSES","Qualifications","2015-2016",null,null,null,null,0,null,0]
["WALLART Jean-Charles","RACARY Thibault","P",1,3,134,234,"2016-06-25","Championnat de France Masters - SAINT MAUR DES FOSSES","Qualifications","2015-2016",null,null,null,null,0,null,0]
["Fin des données",null,null,null,null,null,null,null,null,null,"",null,null,null,null,0,null,0]

{"sheet":"WESTEEL Bruno","index":94,"n_rows":45,"n_cols":22,"rows_kept":45,"cut":false,"hidden":false,"merged":[]}
["WESTEEL Bruno",null,null,null,null,null,null,null,null,null,null,null,null,null,null,{"$f":"Récapitulatif!$B$2","v":"2014-2015"},null,{"$f":"Récapitulatif!$B$3","v":"2015-2016"},null,"Toutes saisons"]
["ANNOEULLIN",null,null,null,null,null,null,null,null,null,null,null,null,null,null,"Nombre","%age","Nombre","%age","Nombre","%age"]
["016610-W",null,null,null,null,null,null,null,null,null,null,null,null,"Matchs","Gagnés",{"$f":"SUM(P$15:P$45)","v":0},{"$f":"IF(P$3+P$4>0,P3/(P$3+P$4),\"\")","v":""},{"$f":"SUM(R$15:R$45)","v":0},{"$f":"IF(R$3+R$4>0,R3/(R$3+R$4),\"\")","v":""},{"$f":"COUNTIF($C$15:$C$45,\"G\")","v":19},{"$f":"IF(T$3+T$4>0,T3/(T$3+T$4),\"\")","v":0.65517241379310343}]
[null,null,null,null,null,null,null,null,null,null,null,null,null,null,"Perdus",{"$f":"COUNTIF($K$15:$K$45,Récapitulatif!$B$2)-P3","v":0},{"$f":"IF(P$3+P$4>0,P4/(P$3+P$4),\"\")","v":""},{"$f":"COUNTIF($K$15:$K$45,Récapitulatif!$B$3)-R3","v":0},{"$f":"IF(R$3+R$4>0,R4/(R$3+R$4),\"\")","v":""},{"$f":"COUNTIF($C$15:$C$45,\"P\")","v":10},{"$f":"IF(T$3+T$4>0,T4/(T$3+T$4),\"\")","v":0.34482758620689657}]
[null,null,null,null,null,null,null,null,null,null,null,null,null,null,"Total / Moy.",{"$f":"SUM(P3:P4)","v":0},{"$f":"IF(SUMIF($K$15:$K$45,Récapitulatif!$B$2,$G$15:$G$45)>0,SUMIF($K$15:$K$45,Récapitulatif!$B$2,$F$15:$F$45)/SUMIF($K$15:$K$45,Récapitulatif!$B$2,$G$15:$G$45),\"\")","v":""},{"$f":"SUM(R3:R4)","v":0},{"$f":"IF(SUMIF($K$15:$K$45,Récapitulatif!$B$3,$G$15:$G$45)>0,SUMIF($K$15:$K$45,Récapitulatif!$B$3,$F$15:$F$45)/SUMIF($K$15:$K$45,Récapitulatif!$B$3,$G$15:$G$45),\"\")","v":""},{"$f":"SUM(T3:T4)","v":29},{"$f":"IF(SUM($G$15:$G$45)>0,SUM($F$15:$F$45)/SUM($G$15:$G$45),\"\")","v":1.1058809963103067},{"$f":"IF(SUMIF($K$15:$K$45,Récapitulatif!$B$2,$G$15:$G$45)+SUMIF($K$15:$K$45,Récapitulatif!$B$3,$G$15:$G$45)>0,(SUMIF($K$15:$K$45,Récapitulatif!$B$2,$F$15:$F$45)+SUMIF($K$15:$K$45,Récapitulatif!$B$3,$F$15:$F$45))/(SUMIF($K$15:$K$45,Récapitulatif!$B$2,$G$15:$G$45)+SUMIF($K$15:$K$45,Récapitulatif!$B$3,$G$15:$G$45)),\"\")","v":""}]
[null,null,null,null,null,null,null,null,null,null,null,null,null,"Sets","Gagnés",{"$f":"SUMIF($K$15:$K$45,Récapitulatif!$B$2,$D$15:$D$45)","v":0},{"$f":"IF(P$6+P$7>0,P6/(P$6+P$7),\"\")","v":""},{"$f":"SUMIF($K$15:$K$45,Récapitulatif!$B$3,$D$15:$D$45)","v":0},{"$f":"IF(R$6+R$7>0,R6/(R$6+R$7),\"\")","v":""},{"$f":"SUM($D$15:$D$45)","v":55},{"$f":"IF(T$6+T$7>0,T6/(T$6+T$7),\"\")","v":0.59139784946236562}]
[null,null,null,null,null,null,null,null,null,null,null,null,null,null,"Perdus",{"$f":"SUMIF($K$15:$K$45,Récapitulatif!$B$2,$E$15:$E$45)","v":0},{"$f":"IF(P$6+P$7>0,P7/(P$6+P$7),\"\")","v":""},{"$f":"SUMIF($K$15:$K$45,Récapitulatif!$B$3,$E$15:$E$45)","v":0},{"$f":"IF(R$6+R$7>0,R7/(R$6+R$7),\"\")","v":""},{"$f":"SUM($E$15:$E$45)","v":38},{"$f":"IF(T$6+T$7>0,T7/(T$6+T$7),\"\")","v":0.40860215053763443}]
["Récapitulatif joueurs",null,null,null,null,null,null,null,null,null,null,null,null,null,"Total",{"$f":"SUM(P6:P7)","v":0},null,{"$f":"SUM(R6:R7)","v":0},null,{"$f":"SUM(T6:T7)","v":93}]
[]
[]
[]
[]
[]
[]
["Joueur","Adversaire","G/P","Sets gagnés","Sets perdus","pts marqués","pts subis","Date","Compétition","Phase","Saison"]
["WESTEEL Bruno","DEMILLY Jean-Sébastien","P",0,2,20.100000001490116,120,"2008-12-12","National T3 ANNOEULLIN","Préqualifs",{"$f":"IF(H16<>\"\",IF(MONTH(H16)>MoisRef,YEAR(H16)&\"-\"&YEAR(H16)+1,YEAR(H16)-1&\"-\"&YEAR(H16)),\"\")","v":"2008-2009"},null,null,null,null,{"$f":"IF($K16=P$1,COUNTIF($C16,\"G\"),0)","v":0},null,{"$f":"IF($K16=R$1,COUNTIF($C16,\"G\"),0)","v":0}]
["WESTEEL Bruno","PAILLART Jean-Paul","P",1,2,140,161,"2008-12-12","National T3 ANNOEULLIN","Préqualifs","2008-2009",null,null,null,null,0,null,0]
["WESTEEL Bruno","ZACCAGNINI Antoine","P",0,2,68,120,"2008-12-12","National T3 ANNOEULLIN","Préqualifs","2008-2009",null,null,null,null,0,null,0]
["WESTEEL Bruno","DELSOL Philippe","G",2,1,176,140,"2009-12-04","National T2 ANNOEULLIN","Préqualifs","2009-2010",null,null,null,null,0,null,0]
["WESTEEL Bruno","DERIU Georges","P",1,2,153,158,"2009-12-04","National T2 ANNOEULLIN","Préqualifs","2009-2010",null,null,null,null,0,null,0]
["WESTEEL Bruno","COTTEN Jean-Pierre","G",2,0,120,99,"2009-12-04","National T2 ANNOEULLIN","Préqualifs","2009-2010",null,null,null,null,0,null,0]
["WESTEEL Bruno","SCHUB Philippe","G",3,1,220,150,"2009-12-05","National T2 ANNOEULLIN","Qualifs promotion","2009-2010",null,null,null,null,0,null,0]
["WESTEEL Bruno","SORTAIS Claude","G",3,2,288,263,"2009-12-05","National T2 ANNOEULLIN","Qualifs promotion","2009-2010",null,null,null,null,0,null,0]
["WESTEEL Bruno","WALLART Jean-Charles","G",3,1,225,173,"2009-12-06","National T2 ANNOEULLIN","1/8 finale promotion","2009-2010",null,null,null,null,0,null,0]
["WESTEEL Bruno","DEVOGELAERE Mikael","G",3,1,213,199,"2009-12-06","National T2 ANNOEULLIN"," 1/4 finale promotion","2009-2010",null,null,null,null,0,null,0]
["WESTEEL Bruno","MORALES Luis","P",2,3,221,278,"2009-12-06","National T2 ANNOEULLIN","1/2 finale promotion","2009-2010",null,null,null,null,0,null,0]
["WESTEEL Bruno","LORTHIOIR Jean-Luc","G",2,1,169,114,"2010-10-16","N1 Ligue T1 DOUAI","Poules","2010-2011",null,null,null,null,0,null,0]
["WESTEEL Bruno","HORNAIN Denis","G",2,1,170,99,"2010-10-16","N1 Ligue T1 DOUAI","Poules","2010-2011",null,null,null,null,0,null,0]
["WESTEEL Bruno","VEREECQUE Ludovic","G",2,0,120,58,"2010-10-16","N1 Ligue T1 DOUAI","1/8 Finale","2010-2011",null,null,null,null,0,null,0]
["WESTEEL Bruno","LHERMITTE Cédric","G",2,1,136,117,"2010-10-16","N1 Ligue T1 DOUAI","1/4 Finale","2010-2011",null,null,null,null,0,null,0]
["WESTEEL Bruno","DELSOL Philippe","G",2,1,140,164,"2010-10-16","N1 Ligue T1 DOUAI","1/2 Finale","2010-2011",null,null,null,null,0,null,0]
["WESTEEL Bruno","VANNUCCI Emilio","G",2,1,174,150,"2010-10-16","N1 Ligue T1 DOUAI","Finale","2010-2011",null,null,null,null,0,null,0]
["WESTEEL Bruno","POULEYN André","G",2,1,160,128,"2010-11-13","N1 Ligue T2 FACHES THUMESNIL","Poules","2010-2011",null,null,null,null,0,null,0]
["WESTEEL Bruno","FAUCOMPREZ Didier","P",1,2,143,163,"2010-11-13","N1 Ligue T2 FACHES THUMESNIL","Poules","2010-2011",null,null,null,null,0,null,0]
["WESTEEL Bruno","LECROART Serge","G",2,0,120,77,"2010-11-13","N1 Ligue T2 FACHES THUMESNIL","Poules Consolante","2010-2011",null,null,null,null,0,null,0]
["WESTEEL Bruno","CLYNCKE Jean-Jacques","G",2,0,120,72,"2010-11-13","N1 Ligue T2 FACHES THUMESNIL","Poules Consolante","2010-2011",null,null,null,null,0,null,0]
["WESTEEL Bruno","GEETS Patrice","P",0,2,88,120,"2010-12-03","National T3 FACHES THUMESNIL - RONCHIN","Préqualifs","2010-2011",null,null,null,null,0,null,0]
["WESTEEL Bruno","DUROYON Didier","P",1,2,132,164,"2010-12-03","National T3 FACHES THUMESNIL - RONCHIN","Préqualifs","2010-2011",null,null,null,null,0,null,0]
["WESTEEL Bruno","JACQ Laurent","G",2,0,120,66,"2010-12-03","National T3 FACHES THUMESNIL - RONCHIN","Préqualifs","2010-2011",null,null,null,null,0,null,0]
["WESTEEL Bruno","SORTAIS Claude","P",2,3,256,266,"2010-12-04","National T3 FACHES THUMESNIL - RONCHIN","Qualifs promotion","2010-2011",null,null,null,null,0,null,0]
["WESTEEL Bruno","GOUTHIER Alain","G",3,0,180,84,"2010-12-04","National T3 FACHES THUMESNIL - RONCHIN","Qualifs promotion","2010-2011",null,null,null,null,0,null,0]
["WESTEEL Bruno","PONCHANT Grégory","G",3,2,255,220,"2010-12-04","National T3 FACHES THUMESNIL - RONCHIN","Qualifs promotion","2010-2011",null,null,null,null,0,null,0]
["WESTEEL Bruno","VANNUCCI Emilio","G",3,1,214,141,"2010-12-05","National T3 FACHES THUMESNIL - RONCHIN","1/8 finale promotion","2010-2011",null,null,null,null,0,null,0]
["WESTEEL Bruno","RACARY Thibault","P",2,3,254,272,"2010-12-05","National T3 FACHES THUMESNIL - RONCHIN","1/4 finale promotion","2010-2011",null,null,null,null,0,null,0]
["Fin des données",null,null,null,null,null,null,null,null,null,"",null,null,null,null,{"$f":"IF($K45=P$1,COUNTIF($C45,\"G\"),0)","v":0},null,{"$f":"IF($K45=R$1,COUNTIF($C45,\"G\"),0)","v":0}]

{"sheet":"ZEUDE Alain","index":95,"n_rows":38,"n_cols":22,"rows_kept":38,"cut":false,"hidden":false,"merged":[]}
["ZEUDE Alain",null,null,null,null,null,null,null,null,null,null,null,null,null,null,{"$f":"Récapitulatif!$B$2","v":"2014-2015"},null,{"$f":"Récapitulatif!$B$3","v":"2015-2016"},null,"Toutes saisons"]
[{"$error":"#N/A"},null,null,null,null,null,null,null,null,null,null,null,null,null,null,"Nombre","%age","Nombre","%age","Nombre","%age"]
[{"$error":"#N/A"},null,null,null,null,null,null,null,null,null,null,null,null,"Matchs","Gagnés",{"$f":"SUM(P$15:P$38)","v":0},{"$f":"IF(P$3+P$4>0,P3/(P$3+P$4),\"\")","v":""},{"$f":"SUM(R$15:R$38)","v":0},{"$f":"IF(R$3+R$4>0,R3/(R$3+R$4),\"\")","v":""},{"$f":"COUNTIF($C$15:$C$38,\"G\")","v":3},{"$f":"IF(T$3+T$4>0,T3/(T$3+T$4),\"\")","v":0.13636363636363635}]
[{"$error":"#N/A"},null,null,null,null,null,null,null,null,null,null,null,null,null,"Perdus",{"$f":"COUNTIF($K$15:$K$38,Récapitulatif!$B$2)-P3","v":0},{"$f":"IF(P$3+P$4>0,P4/(P$3+P$4),\"\")","v":""},{"$f":"COUNTIF($K$15:$K$38,Récapitulatif!$B$3)-R3","v":0},{"$f":"IF(R$3+R$4>0,R4/(R$3+R$4),\"\")","v":""},{"$f":"COUNTIF($C$15:$C$38,\"P\")","v":19},{"$f":"IF(T$3+T$4>0,T4/(T$3+T$4),\"\")","v":0.86363636363636365}]
[{"$error":"#N/A"},null,null,null,null,null,null,null,null,null,null,null,null,null,"Total / Moy.",{"$f":"SUM(P3:P4)","v":0},{"$f":"IF(SUMIF($K$15:$K$38,Récapitulatif!$B$2,$G$15:$G$38)>0,SUMIF($K$15:$K$38,Récapitulatif!$B$2,$F$15:$F$38)/SUMIF($K$15:$K$38,Récapitulatif!$B$2,$G$15:$G$38),\"\")","v":""},{"$f":"SUM(R3:R4)","v":0},{"$f":"IF(SUMIF($K$15:$K$38,Récapitulatif!$B$3,$G$15:$G$38)>0,SUMIF($K$15:$K$38,Récapitulatif!$B$3,$F$15:$F$38)/SUMIF($K$15:$K$38,Récapitulatif!$B$3,$G$15:$G$38),\"\")","v":""},{"$f":"SUM(T3:T4)","v":22},{"$f":"IF(SUM($G$15:$G$38)>0,SUM($F$15:$F$38)/SUM($G$15:$G$38),\"\")","v":0.57223340040241444},{"$f":"IF(SUMIF($K$15:$K$38,Récapitulatif!$B$2,$G$15:$G$38)+SUMIF($K$15:$K$38,Récapitulatif!$B$3,$G$15:$G$38)>0,(SUMIF($K$15:$K$38,Récapitulatif!$B$2,$F$15:$F$38)+SUMIF($K$15:$K$38,Récapitulatif!$B$3,$F$15:$F$38))/(SUMIF($K$15:$K$38,Récapitulatif!$B$2,$G$15:$G$38)+SUMIF($K$15:$K$38,Récapitulatif!$B$3,$G$15:$G$38)),\"\")","v":""}]
[null,null,null,null,null,null,null,null,null,null,null,null,null,"Sets","Gagnés",{"$f":"SUMIF($K$15:$K$38,Récapitulatif!$B$2,$D$15:$D$38)","v":0},{"$f":"IF(P$6+P$7>0,P6/(P$6+P$7),\"\")","v":""},{"$f":"SUMIF($K$15:$K$38,Récapitulatif!$B$3,$D$15:$D$38)","v":0},{"$f":"IF(R$6+R$7>0,R6/(R$6+R$7),\"\")","v":""},{"$f":"SUM($D$15:$D$38)","v":4},{"$f":"IF(T$6+T$7>0,T6/(T$6+T$7),\"\")","v":0.10256410256410256}]
[null,null,null,null,null,null,null,null,null,null,null,null,null,null,"Perdus",{"$f":"SUMIF($K$15:$K$38,Récapitulatif!$B$2,$E$15:$E$38)","v":0},{"$f":"IF(P$6+P$7>0,P7/(P$6+P$7),\"\")","v":""},{"$f":"SUMIF($K$15:$K$38,Récapitulatif!$B$3,$E$15:$E$38)","v":0},{"$f":"IF(R$6+R$7>0,R7/(R$6+R$7),\"\")","v":""},{"$f":"SUM($E$15:$E$38)","v":35},{"$f":"IF(T$6+T$7>0,T7/(T$6+T$7),\"\")","v":0.89743589743589747}]
["Récapitulatif joueurs",null,null,null,null,null,null,null,null,null,null,null,null,null,"Total",{"$f":"SUM(P6:P7)","v":0},null,{"$f":"SUM(R6:R7)","v":0},null,{"$f":"SUM(T6:T7)","v":39}]
[]
[]
[]
[]
[]
[]
["Joueur","Adversaire","G/P","Sets gagnés","Sets perdus","pts marqués","pts subis","Date","Compétition","Phase","Saison"]
["ZEUDE Alain","CARPENTIER Yohanne","P",0,2,60,120,"2010-10-16","N1 Ligue T1 DOUAI","Poules",{"$f":"IF(H16<>\"\",IF(MONTH(H16)>MoisRef,YEAR(H16)&\"-\"&YEAR(H16)+1,YEAR(H16)-1&\"-\"&YEAR(H16)),\"\")","v":"2010-2011"},null,null,null,null,{"$f":"IF($K16=P$1,COUNTIF($C16,\"G\"),0)","v":0},null,{"$f":"IF($K16=R$1,COUNTIF($C16,\"G\"),0)","v":0}]
["ZEUDE Alain","SAINT-GEORGES Claude","P",0,2,49,120,"2010-10-16","N1 Ligue T1 DOUAI","Poules","2010-2011",null,null,null,null,0,null,0]
["ZEUDE Alain","DEROLEZ Jean-Pierre","P",0,2,47,120,"2010-10-16","N1 Ligue T1 DOUAI","Poules Consolante","2010-2011",null,null,null,null,0,null,0]
["ZEUDE Alain","FAUCOMPREZ Didier","P",0,2,52,120,"2010-10-16","N1 Ligue T1 DOUAI","Poules Consolante","2010-2011",null,null,null,null,0,null,0]
["ZEUDE Alain","LECROART Serge","P",0,2,59,120,"2010-12-11","N1 Ligue T3 GRAVELINES","Poules","2010-2011",null,null,null,null,0,null,0]
["ZEUDE Alain","LHERMITTE Cédric","P",0,2,60,120,"2010-12-11","N1 Ligue T3 GRAVELINES","Poules","2010-2011",null,null,null,null,0,null,0]
["ZEUDE Alain","DEVOS Jackie","P",0,2,50,120,"2010-12-11","N1 Ligue T3 GRAVELINES","Poules Consolante","2010-2011",null,null,null,null,0,null,0]
["ZEUDE Alain","ESTERMANS Bernard","P",0,2,18,120,"2010-12-11","N1 Ligue T3 GRAVELINES","Poules Consolante","2010-2011",null,null,null,null,0,null,0]
["ZEUDE Alain","CAUX Frédéric","P",1,2,148,156,"2011-01-15","N1 Ligue T4 DIVION","Poules","2010-2011",null,null,null,null,0,null,0]
["ZEUDE Alain","SAINT-GEORGES Claude","P",0,2,71,120,"2011-01-15","N1 Ligue T4 DIVION","Poules","2010-2011",null,null,null,null,0,null,0]
["ZEUDE Alain","FAUCOMPREZ Didier","P",0,2,65,120,"2011-01-15","N1 Ligue T4 DIVION","Poules Consolante","2010-2011",null,null,null,null,0,null,0]
["ZEUDE Alain","LECROART Serge","P",0,2,101,120,"2011-01-15","N1 Ligue T4 DIVION","Poules Consolante","2010-2011",null,null,null,null,0,null,0]
["ZEUDE Alain","HORNAIN Denis","P",0,1,34,100,"2012-10-13","N1 Ligue T1 ANNOEULLIN","Poules Consolante","2012-2013",null,null,null,null,0,null,0]
["ZEUDE Alain","MAILLE Bernard","P",0,1,15,100,"2012-10-13","N1 Ligue T1 ANNOEULLIN","Poules Consolante","2012-2013",null,null,null,null,0,null,0]
["ZEUDE Alain","VEREECQUE Ludovic","P",0,2,65,120,"2012-10-13","N1 Ligue T1 ANNOEULLIN","Poules","2012-2013",null,null,null,null,0,null,0]
["ZEUDE Alain","LHERMITTE Cédric","P",0,2,52,120,"2012-10-13","N1 Ligue T1 ANNOEULLIN","Poules","2012-2013",null,null,null,null,0,null,0]
["ZEUDE Alain","GAUQUIE Serge","P",0,2,53,120,"2012-11-24","N1 Ligue T3 CALAIS","Poules","2012-2013",null,null,null,null,0,null,0]
["ZEUDE Alain","DELSOL Philippe","P",0,2,79,120,"2012-11-24","N1 Ligue T3 CALAIS","Poules","2012-2013",null,null,null,null,0,null,0]
["ZEUDE Alain","PARISIS Francis","G",1,0,100,42,"2012-11-24","N1 Ligue T3 CALAIS","Poules Consolante","2012-2013",null,null,null,null,0,null,0]
["ZEUDE Alain","LORTHIOIR Jean-Luc","G",1,0,100,96,"2012-11-24","N1 Ligue T3 CALAIS","Poules Consolante","2012-2013",null,null,null,null,0,null,0]
["ZEUDE Alain","CLYNCKE Jean-Jacques","G",1,0,100,91,"2012-11-24","N1 Ligue T3 CALAIS","1/2 finale Consolante","2012-2013",null,null,null,null,0,null,0]
["ZEUDE Alain","MAILLE Bernard","P",0,1,44,100,"2012-11-24","N1 Ligue T3 CALAIS","Finale Consolante","2012-2013",null,null,null,null,0,null,0]
["Fin des données",null,null,null,null,null,null,null,null,null,"",null,null,null,null,0,null,0]